Workbook

Sheet March26- Sales
A1: Date | B1: No Of Transactions | C1: Cash | D1: Nets | E1: Visa | F1: Master | G1: AMEX | H1: PayNow | I1: Total
A2: 46082 | B2: 0 | C2: 0 | D2: 0 | E2: 0 | F2: 0 | H2: 0 | I2: =SUM(C2:H2) -> 0
A3: 46083 | B3: 275 | C3: 119.3 | D3: 0 | E3: 308.05 | F3: 0 | H3: 616.8 | I3: =SUM(C3:H3) -> 1044.15
A4: 46084 | B4: 308 | C4: 183.5 | D4: 0 | E4: 252.1 | F4: 0 | H4: 701.6 | I4: =SUM(C4:H4) -> 1137.2
A5: 46085 | B5: 310 | C5: 171.6 | D5: 22.8 | E5: 410 | F5: 0 | H5: 620.9 | I5: =SUM(C5:H5) -> 1225.3
A6: 46086 | B6: 332 | C6: 143.4 | D6: 0 | E6: 335.9 | F6: 0 | H6: 762 | I6: =SUM(C6:H6) -> 1241.3
A7: 46087 | B7: 305 | C7: 158.5 | D7: 52.5 | E7: 671 | F7: 0 | H7: 894.4 | I7: =SUM(C7:H7) -> 1776.4
A8: 46088
A9: 46089
A10: 46090 | B10: 318 | C10: 161.6 | D10: 0 | E10: 62.5 | F10: 3.6 | H10: 743 | I10: =SUM(C10:H10) -> 970.7
A11: 46091 | B11: 327 | C11: 179.3 | E11: 95.1 | F11: 226.3 | H11: 731.4 | I11: =SUM(C11:H11) -> 1232.1
A12: 46092 | B12: 353 | C12: 178.2 | D12: 2 | E12: 335.5 | F12: 464.2 | H12: 794.4 | I12: =SUM(C12:H12) -> 1774.3
A13: 46093 | B13: 303 | C13: 108.9 | E13: 151.2 | F13: 234.3 | H13: 826.1 | I13: =SUM(C13:H13) -> 1320.5
A14: 46094 | B14: 269 | C14: 96.9 | E14: 716.5 | F14: 5.8 | H14: 719 | I14: =SUM(C14:H14) -> 1538.2
A15: 46095
A16: 46096
A17: 46097 | B17: 301 | C17: 164.35 | E17: 35.8 | H17: 571.9 | I17: =SUM(C17:H17) -> 772.05
A18: 46098 | B18: 320 | C18: 159.15 | E18: 59 | F18: 42.15 | H18: 743.45 | I18: =SUM(C18:H18) -> 1003.75
A19: 46099 | B19: 230 | C19: 142.05 | E19: 76.55 | F19: 110.9 | H19: 724.2 | I19: =SUM(C19:H19) -> 1053.7
A20: 46100 | B20: 284 | C20: 141.7 | D20: 7.2 | E20: 39.9 | F20: 11.3 | H20: 577.7 | I20: =SUM(C20:H20) -> 777.8
A21: 46101 | B21: 190 | C21: 181.75 | E21: 546.5 | F21: 261.55 | H21: 958.65 | I21: =SUM(C21:H21) -> 1948.45
A22: 46102
A23: 46103
A24: 46104 | B24: 240 | C24: 175.8 | E24: 35.6 | F24: 3.3 | G24: 3.3 | H24: 647.7 | I24: =SUM(C24:H24) -> 865.7
A25: 46105 | B25: 368 | C25: 309.6 | E25: 278.4 | H25: 869.25 | I25: =SUM(C25:H25) -> 1457.25
A26: 46106 | B26: 327 | C26: 205.9 | E26: 163.6 | F26: 2 | H26: 713.35 | I26: =SUM(C26:H26) -> 1084.85
A27: 46107 | B27: 314 | C27: 207.1 | E27: 46.3 | G27: 4.4 | H27: 767.5 | I27: =SUM(C27:H27) -> 1025.3
A28: 46108 | B28: 300 | C28: 154.15 | E28: 360.2 | F28: 187.35 | H28: 856 | I28: =SUM(C28:H28) -> 1557.7
A29: 46109
A30: 46110
A31: 46111 | I31: =SUM(C31:H31) -> 0
A32: 46112 | I32: =SUM(C32:H32) -> 0
A33: Total | C33: =SUM(C2:C32) -> 3342.75 | D33: =SUM(D2:D32) -> 84.5 | E33: =SUM(E2:E32) -> 4979.7 | F33: =SUM(F2:F32) -> 1552.75 | H33: =SUM(H2:H32) -> 14839.3 | I33: =SUM(I2:I32) -> 24806.7
A34: Average | C34: =AVERAGE(C2:C32) -> 159.17857 | D34: =AVERAGE(D2:D32) -> 9.3888889 | E34: =AVERAGE(E2:E32) -> 237.12857 | F34: =AVERAGE(F2:F32) -> 86.263889 | H34: =AVERAGE(H2:H32) -> 706.63333 | I34: =AVERAGE(I2:I32) -> 1078.5522

Sheet Expenes- Delivery Details
A1: Delivery Date | B1: Vendor | C1: Amount | D1: Status Paid | E1: Paid From | F1: Paid By | H1: Delivery Date | I1: Status Paid | J1: SUM of Amount | M1: 17th Mar26 | R1: Paid From | S1: Delivery Date | T1: Status Paid | U1: SUM of Amount | X1: Delivery Date | Y1: Status Paid | Z1: Paid From | AA1: SUM of Amount
A2: 46083 | B2: Hairo | C2: 78.92 | D2: Un-Paid | E2: Un-Paid | H2: 46083 | I2: Barrow | J2: 20 | M2: Status Paid | N2: SUM of Amount | R2: Counter Cash | S2: 46093 | T2: Paid | U2: 74 | X2: 46083 | Y2: Barrow | Z2: Petty Cash | AA2: 20
A3: 46083 | B3: DashMesh | C3: 493.12 | D3: Un-Paid | E3: Un-Paid | I3: Paid | J3: 3.4 | M3: Barrow | N3: 20 | S3: 46098 | T3: Paid | U3: 28.89 | Y3: Paid | Z3: Petty Cash | AA3: 3.4
A4: 46083 | B4: True Colors | C4: 35 | D4: Un-Paid | E4: Un-Paid | I4: Un-Paid | J4: 607.04 | M4: Paid | N4: 742.83 | S4: 46099 | T4: Paid | U4: 35.8 | Y4: Un-Paid | Z4: Un-Paid | AA4: 607.04
A5: 46083 | B5: Vipin (Cash) | C5: 20 | D5: Barrow | E5: Petty Cash | H5: 46084 | I5: Paid | J5: 142.5 | M5: Un-Paid | N5: 5923.92 | S5: 46100 | T5: Paid | U5: 18.55 | X5: 46084 | Y5: Paid | Z5: (blank) | AA5: 142.5
A6: 46083 | B6: Top Plus | C6: 3.4 | D6: Paid | E6: Petty Cash | H6: 46085 | I6: Paid | J6: 51.62 | M6: (blank) | R6: Counter Cash Total | U6: 157.24 | X6: 46085 | Y6: Paid | Z6: Sowji Cash | AA6: 51.62
A7: 46084 | B7: Neelimas Kachori | C7: 135 | D7: Paid | I7: Un-Paid | J7: 2036.67 | M7: Grand Total | N7: 6686.75 | R7: Petty Cash | S7: 46083 | T7: Barrow | U7: 20 | Y7: Un-Paid | Z7: Un-Paid | AA7: 2036.67
A8: 46084 | B8: Top Plus | C8: 3.9 | D8: paid | H8: 46086 | I8: Paid | J8: 77 | T8: Paid | U8: 3.4 | X8: 46086 | Y8: Paid | Z8: Sowji Cash | AA8: 77
A9: 46084 | B9: Top Plus | C9: 3.6 | D9: Paid | H9: 46087 | I9: Paid | J9: 42.14 | S9: 46087 | T9: Paid | U9: 42.14 | X9: 46087 | Y9: Paid | Z9: Petty Cash | AA9: 42.14
A10: 46085 | B10: Top Plus | C10: 3.95 | D10: paid | E10: Sowji Cash | H10: 46090 | I10: Paid | J10: 47.14 | S10: 46090 | T10: Paid | U10: 19.14 | X10: 46090 | Y10: Paid | Z10: Petty Cash | AA10: 19.14
A11: 46085 | B11: Fair Prise | C11: 20.07 | D11: paid | E11: Sowji Cash | I11: Un-Paid | J11: 545.27 | S11: 46094 | T11: Paid | U11: 8 | Z11: Sowji Cash | AA11: 28
A12: 46085 | B12: Top Plus | C12: 13.7 | D12: paid | E12: Sowji Cash | H12: 46091 | I12: Paid | J12: 172.55 | S12: 46097 | T12: Paid | U12: 1.9 | Y12: Un-Paid | Z12: Un-Paid | AA12: 545.27
A13: 46085 | B13: Bake with Yen | C13: 13.9 | D13: paid | E13: Sowji Cash | I13: Un-Paid | J13: 651.82 | S13: 46101 | T13: Paid | U13: 42.55 | X13: 46091 | Y13: Paid | Z13: Sowji Cash | AA13: 95.6
A14: 46085 | B14: Chuan Liquors | C14: 2036.67 | D14: Un-Paid | E14: Un-Paid | H14: 46092 | I14: Paid | J14: 11.01 | S14: 46104 | T14: Paid | U14: 165.24 | Z14: Vikram | AA14: 76.95
A15: 46086 | B15: Fair Prise | C15: 1.9 | D15: Paid | E15: Sowji Cash | I15: Un-Paid | J15: 373.12 | S15: 46105 | T15: Paid | U15: 196.59 | Y15: Un-Paid | Z15: Un-Paid | AA15: 651.82
A16: 46086 | B16: Nandha | C16: 37 | D16: Paid | E16: Sowji Cash | H16: 46093 | I16: Paid | J16: 99.2 | S16: 46106 | T16: Paid | U16: 188.54 | X16: 46092 | Y16: Paid | Z16: (blank) | AA16: 11.01
A17: 46086 | B17: Top Plus | C17: 9.2 | D17: Paid | E17: Sowji Cash | H17: 46094 | I17: Paid | J17: 14.7 | S17: 46107 | T17: Paid | U17: 35.25 | Y17: Un-Paid | Z17: Un-Paid | AA17: 373.12
A18: 46086 | B18: Top Plus | C18: 17.5 | D18: Paid | E18: Sowji Cash | I18: Un-Paid | J18: 1710 | S18: 46108 | T18: Paid | U18: 111.73 | X18: 46093 | Y18: Paid | Z18: Counter Cash | AA18: 74
A19: 46086 | B19: Top Plus | C19: 11.4 | D19: Paid | E19: Sowji Cash | H19: 46095 | I19: Paid | J19: 35 | R19: Petty Cash Total | U19: 834.48 | Z19: Sowji Cash | AA19: 25.2
A20: 46087 | B20: Fair Prise | C20: 8.4 | D20: Paid | E20: Petty Cash | H20: 46096 | I20: Paid | J20: 46.57 | R20: Sowji Cash | S20: 46085 | T20: Paid | U20: 51.62 | X20: 46094 | Y20: Paid | Z20: Petty Cash | AA20: 8
A21: 46087 | B21: Fair Prise | C21: 5.34 | D21: Paid | E21: Petty Cash | H21: 46097 | I21: Paid | J21: 1.9 | S21: 46086 | T21: Paid | U21: 77 | Z21: Vikram | AA21: 6.7
A22: 46087 | B22: Top Plus | C22: 12.9 | D22: Paid | E22: Petty Cash | H22: (blank) | I22: (blank) | S22: 46090 | T22: Paid | U22: 28 | Y22: Un-Paid | Z22: Un-Paid | AA22: 1710
A23: 46087 | B23: Top Plus | C23: 3.6 | D23: Paid | E23: Petty Cash | H23: 46098 | I23: Paid | J23: 102.48 | S23: 46091 | T23: Paid | U23: 95.6 | X23: 46095 | Y23: Paid | Z23: Sowji Cash | AA23: 35
A24: 46087 | B24: Top Plus | C24: 11.9 | D24: Paid | E24: Petty Cash | I24: Un-Paid | J24: 308.91 | S24: 46093 | T24: Paid | U24: 25.2 | X24: 46096 | Y24: Paid | Z24: Sowji Cash | AA24: 46.57
A25: 46090 | B25: Nandha | C25: 28 | D25: Paid | E25: Sowji Cash | H25: 46099 | I25: Paid | J25: 143.8 | S25: 46095 | T25: Paid | U25: 35 | X25: 46097 | Y25: Paid | Z25: Petty Cash | AA25: 1.9
A26: 46090 | B26: SP Muthaiah | C26: 545.27 | D26: Un-Paid | E26: Un-Paid | H26: 46100 | I26: Paid | J26: 18.55 | S26: 46096 | T26: Paid | U26: 46.57 | X26: (blank) | Y26: (blank) | Z26: (blank)
A27: 46090 | B27: Fair Prise | C27: 4.89 | D27: Paid | E27: Petty Cash | I27: Un-Paid | J27: 970.43 | S27: 46098 | T27: Paid | U27: 73.59 | X27: 46098 | Y27: Paid | Z27: Counter Cash | AA27: 28.89
A28: 46090 | B28: Fair Prise | C28: 5.95 | D28: paid | E28: Petty Cash | H28: 46101 | I28: Paid | J28: 42.55 | R28: Sowji Cash Total | U28: 432.58 | Z28: Sowji Cash | AA28: 73.59
A29: 46090 | B29: Top Plus | C29: 6.4 | D29: Paid | E29: Petty Cash | H29: 46104 | I29: Paid | J29: 165.24 | R29: Un-Paid | S29: 46083 | T29: Un-Paid | U29: 607.04 | Y29: Un-Paid | Z29: Un-Paid | AA29: 308.91
A30: 46090 | B30: Fair Prise | C30: 1.9 | D30: Paid | E30: Petty Cash | H30: 46105 | I30: Paid | J30: 196.59 | S30: 46085 | T30: Un-Paid | U30: 2036.67 | X30: 46099 | Y30: Paid | Z30: Counter Cash | AA30: 35.8
A31: 46091 | B31: Top Plus | C31: 47.8 | D31: Paid | E31: Sowji Cash | H31: 46106 | I31: Paid | J31: 188.54 | S31: 46090 | T31: Un-Paid | U31: 545.27 | Z31: Vikram | AA31: 108
A32: 46091 | B32: Top Plus | C32: 47.8 | D32: Paid | E32: Sowji Cash | I32: Un-Paid | J32: 135.81 | S32: 46091 | T32: Un-Paid | U32: 651.82 | X32: 46100 | Y32: Paid | Z32: Counter Cash | AA32: 18.55
A33: 46091 | B33: DashMesh | C33: 651.82 | D33: Un-Paid | E33: Un-Paid | H33: 46107 | I33: Paid | J33: 972.25 | S33: 46092 | T33: Un-Paid | U33: 373.12 | Y33: Un-Paid | Z33: Un-Paid | AA33: 970.43
A34: 46091 | B34: Coco Cola | C34: 76.95 | D34: Paid | E34: Vikram | H34: 46108 | I34: Paid | J34: 129.07 | S34: 46094 | T34: Un-Paid | U34: 1710 | X34: 46101 | Y34: Paid | Z34: Petty Cash | AA34: 42.55
A35: 46092 | B35: Top Plus | C35: 7.8 | D35: Paid | I35: Un-Paid | J35: 767.61 | S35: 46098 | T35: Un-Paid | U35: 308.91 | X35: 46104 | Y35: Paid | Z35: Petty Cash | AA35: 165.24
A36: 46092 | B36: Top Plus | C36: 1.31 | D36: Paid | H36: Grand Total | J36: 10830.48 | S36: 46100 | T36: Un-Paid | U36: 970.43 | X36: 46105 | Y36: Paid | Z36: Petty Cash | AA36: 196.59
A37: 46092 | B37: Fair Prise | C37: 1.9 | D37: Paid | S37: 46106 | T37: Un-Paid | U37: 135.81 | X37: 46106 | Y37: Paid | Z37: Petty Cash | AA37: 188.54
A38: 46092 | B38: Aadhi Small Samosa | C38: 81 | D38: Un-Paid | E38: Un-Paid | S38: 46108 | T38: Un-Paid | U38: 767.61 | Y38: Un-Paid | Z38: Un-Paid | AA38: 135.81
A39: 46092 | B39: Pacific Packing | C39: 292.12 | D39: Un-Paid | E39: Un-Paid | R39: Un-Paid Total | U39: 8106.68 | X39: 46107 | Y39: Paid | Z39: Petty Cash | AA39: 35.25
A40: 46093 | B40: Aanandas Fresh Veg | C40: 74 | D40: Paid | E40: Counter Cash | R40: Vikram | S40: 46091 | T40: Paid | U40: 76.95 | Z40: OCBC Account | AA40: 937
...

Sheet Petty Cash
A1: Delivery Date | B1: Vendor | C1: Amount | D1: Status Paid | E1: Paid From | F1: Paid By | H1: Petty Cash Topup
A2: 46083 | B2: Vipin (Cash) | C2: 20 | D2: Barrow | E2: Petty Cash
A3: 46083 | B3: Top Plus | C3: 3.4 | D3: Paid | E3: Petty Cash | H3: Date | I3: Top-Up from | J3: Amount
A4: 46087 | B4: Fair Prise | C4: 8.4 | D4: Paid | E4: Petty Cash | H4: 46083 | I4: Soujanya | J4: 250
A5: 46087 | B5: Fair Prise | C5: 5.34 | D5: Paid | E5: Petty Cash | H5: 46100 | I5: Cash Counter | J5: 500
A6: 46087 | B6: Top Plus | C6: 12.9 | D6: Paid | E6: Petty Cash | H6: 46105 | I6: Cash Counter | J6: 566
A7: 46087 | B7: Top Plus | C7: 3.6 | D7: Paid | E7: Petty Cash
A8: 46087 | B8: Top Plus | C8: 11.9 | D8: Paid | E8: Petty Cash
A9: 46090 | B9: Fair Prise | C9: 4.89 | D9: Paid | E9: Petty Cash
A10: 46090 | B10: Fair Prise | C10: 5.95 | D10: paid | E10: Petty Cash
A11: 46090 | B11: Top Plus | C11: 6.4 | D11: Paid | E11: Petty Cash
A12: 46090 | B12: Fair Prise | C12: 1.9 | D12: Paid | E12: Petty Cash
A13: 46094 | B13: Fair Prise | C13: 8 | D13: Paid | E13: Petty Cash
A14: 46097 | B14: Fair Prise | C14: 1.9 | D14: Paid | E14: Petty Cash
A15: 46101 | B15: Fair Prise | C15: 25.05 | D15: Paid | E15: Petty Cash
A16: 46101 | B16: Top Plus | C16: 17.5 | D16: Paid | E16: Petty Cash
A17: 46104 | B17: Fair Prise | C17: 5.34 | D17: Paid | E17: Petty Cash
A18: 46104 | B18: Fair Prise | C18: 14 | D18: Paid | E18: Petty Cash
... A27: 46106 | B27: Mini Groups - soft Drinks | C27: 97.84 | D27: Paid | E27: Petty Cash
C51: =SUM(C2:C50) -> 687.5

Sheet Sales - Itemwise Report
A1: Date | B1: Item Description | C1: Quantiry | D1: Unit Price | E1: Total Price | G1: Date | H1: Sum Of Total Price | J1: Date | K1: Sum of Total Price
A2: 46082 | G2: 46082 | H2: 0 | J2: 46082
A3: 46083 | B3: Beer- Carona | C3: 3 | D3: 15 | E3: =C3*D3 -> 45 | G3: 46083 | H3: 1017 | J3: 46083 | K3: 1017
A4: 46083 | B4: Chats- Samosa | C4: 1 | D4: 6 | E4: =C4*D4 -> 6 | G4: 46084 | H4: 1122.4 | J4: 46084 | K4: 1029.4
A5: 46083 | B5: Egg Curry | C5: 1 | D5: 15.9 | E5: =C5*D5 -> 15.9 | G5: 46085 | H5: 1192.9 | J5: (blank)
A6: 46083 | B6: Fast2 | C6: 30 | D6: =E6/C6 -> 5.4 | E6: 162 | J6: Grand Total | K6: 2046.4
A7: 46083 | B7: Hot Drinks | C7: 475 | D7: =E7/C7 -> 1.2166316 | E7: 577.9 | G7: Grand Total | H7: =SUM(H2:H6) -> 3332.3
A8: 46083 | B8: Tandori Roti | C8: 3 | D8: =E8/C8 -> 4.9 | E8: 14.7
A9: 46083 | B9: Gobi Manchurian | C9: 2 | D9: =E9/C9 -> 15.9 | E9: 31.8
A10: 46083 | B10: Kabab | C10: 2 | D10: =E10/C10 -> 19.9 | E10: 39.8
A11: 46083 | B11: Liqor Moiphes Black | C11: 1 | D11: 20 | E11: =C11*D11 -> 20
A12: 46083 | B12: Misc Food & Alcohol | C12: 2 | D12: =E12/2 -> 47.95 | E12: 95.9
A13: 46083 | B13: Masala Peanuts1 | C13: 1 | D13: 8 | E13: =C13*D13 -> 8
A15: 46084 | B15: Beer- Carona | C15: 0 | D15: 0 | E15: =C15*D15 -> 0
A16: 46084 | B16: Chats- Samosa | C16: 3 | D16: 6 | E16: =C16*D16 -> 18
A17: 46084 | B17: Egg Curry | C17: 0 | D17: 0 | E17: =C17*D17 -> 0
A18: 46084 | B18: Fast2 | C18: 38 | D18: 231.5 | E18: 231.5
A19: 46084 | B19: Hot Drinks | C19: 549 | D19: 661 | E19: 661
A20: 46084 | B20: Tandori Roti | C20: 0 | D20: 0 | E20: 0
A21: 46084 | B21: Gobi Manchurian | C21: 0 | D21: 0 | E21: 0
A22: 46084 | B22: Kabab From Tandori | C22: 2 | D22: 38.9 | E22: 38.9
A23: 46084 | B23: Liqor Moiphes Black | C23: 4 | D23: 20 | E23: 80
A24: 46084 | B24: Misc Food & Alcohol | C24: 2 | D24: 10 | E24: 10
A25: 46084 | B25: Small Plates | C25: 2 | D25: 16 | E25: 16
A26: 46084 | B26: Liqor Chivas Regal | C26: 2 | D26: 30 | E26: =C26*D26 -> 60
A27: 46084 | B27: Rosted Pappad | C27: 1 | D27: 2 | E27: =C27*D27 -> 2
A28: 46084 | B28: Drinks | C28: 2 | D28: 2.5 | E28: =C28*D28 -> 5
A30: 46085 | B30: Beer | C30: 5 | D30: 49 | E30: 49
A31: 46085 | B31: Chats- Samosa | C31: 6 | D31: 22 | E31: 22
A32: 46085 | B32: Drinks | C32: 3 | D32: 7.5 | E32: 7.5
A33: 46085 | B33: Egg Curry | C33: 2 | D33: 25.8 | E33: 25.8
A34: 46085 | B34: Fast2 | C34: 38 | D34: 192.5 | E34: 192.5
A35: 46085 | B35: Hot Drinks | C35: 545 | D35: 647.5 | E35: 647.5
A36: 46085 | B36: Kabab From Tandori | C36: 2 | D36: 41.8 | E36: 41.8
A37: 46085 | B37: Gobi Manchurian | C37: 0 | D37: 0 | E37: 0
A38: 46085 | B38: Liqor | C38: 1 | D38: 20 | E38: 20
A39: 46085 | B39: Misc Food & Alcohol | C39: 14 | D39: 114.8 | E39: 114.8
C40: 1 | D40: 30 | E40: 30
A41: 46085 | B41: Small Plates | C41: 3 | D41: 42 | E41: 42
A43: 46086 | B43: Beer | C43: 3 | D43: 30 | E43: 30
...

Sheet Detail4-02-Mar-26
A1: Date | B1: Item Description | C1: Quantiry | D1: Unit Price | E1: Total Price
A2: 46083 | B2: Beer- Carona | C2: 3 | D2: 15 | E2: 45
A3: 46083 | B3: Chats- Samosa | C3: 1 | D3: 6 | E3: 6
A4: 46083 | B4: Egg Curry | C4: 1 | D4: 15.9 | E4: 15.9
A5: 46083 | B5: Fast2 | C5: 30 | D5: 5.4 | E5: 162
A6: 46083 | B6: Hot Drinks | C6: 475 | D6: 1.2166316 | E6: 577.9
A7: 46083 | B7: Tandori Roti | C7: 3 | D7: 4.9 | E7: 14.7
A8: 46083 | B8: Gobi Manchurian | C8: 2 | D8: 15.9 | E8: 31.8
A9: 46083 | B9: Kabab | C9: 2 | D9: 19.9 | E9: 39.8
A10: 46083 | B10: Liqor Moiphes Black | C10: 1 | D10: 20 | E10: 20
A11: 46083 | B11: Misc Food & Alcohol | C11: 2 | D11: 47.95 | E11: 95.9
A12: 46083 | B12: Masala Peanuts1 | C12: 1 | D12: 8 | E12: 8

Sheet Detail3-03-Mar-26
A1: Date | B1: Item Description | C1: Quantiry | D1: Unit Price | E1: Total Price
A2: 46084 | B2: Beer- Carona | E2: 0
A3: 46084 | B3: Chats- Samosa | C3: 3 | D3: 6 | E3: 18
A4: 46084 | B4: Egg Curry | E4: 0
A5: 46084 | B5: Fast2 | C5: 38 | D5: 231.5 | E5: 231.5
A6: 46084 | B6: Hot Drinks | C6: 549 | D6: 661 | E6: 661
A7: 46084 | B7: Tandori Roti
A8: 46084 | B8: Gobi Manchurian
A9: 46084 | B9: Kabab From Tandori | C9: 2 | D9: 38.9 | E9: 38.9
A10: 46084 | B10: Liqor Moiphes Black | C10: 4 | D10: 20 | E10: 80

Sheet Detail2-03-Mar-26
A1: Date | B1: Item Description | C1: Quantiry | D1: Unit Price | E1: Total Price
A2: 46084 | B2: Beer- Carona | E2: 0
A3: 46084 | B3: Chats- Samosa | C3: 3 | D3: 6 | E3: 18
A4: 46084 | B4: Egg Curry | E4: 0
A5: 46084 | B5: Fast2 | C5: 38 | D5: 231.5 | E5: 231.5
A6: 46084 | B6: Hot Drinks | C6: 549 | D6: 661 | E6: 661
A7: 46084 | B7: Tandori Roti
A8: 46084 | B8: Gobi Manchurian
A9: 46084 | B9: Kabab From Tandori | C9: 2 | D9: 38.9 | E9: 38.9
A10: 46084 | B10: Liqor Moiphes Black | C10: 4 | D10: 20 | E10: 80

Sheet Detail1-03-Mar-26
A1: Date | B1: Item Description | C1: Quantiry | D1: Unit Price | E1: Total Price
A2: 46084 | B2: Beer- Carona | E2: 0
A3: 46084 | B3: Chats- Samosa | C3: 3 | D3: 6 | E3: 18
A4: 46084 | B4: Egg Curry | E4: 0
A5: 46084 | B5: Fast2 | C5: 38 | D5: 231.5 | E5: 231.5
A6: 46084 | B6: Hot Drinks | C6: 549 | D6: 661 | E6: 661
A7: 46084 | B7: Tandori Roti
A8: 46084 | B8: Gobi Manchurian
A9: 46084 | B9: Kabab From Tandori | C9: 2 | D9: 38.9 | E9: 38.9
A10: 46084 | B10: Liqor Moiphes Black | C10: 4 | D10: 20 | E10: 80

Sheet Cash Flow
A1: Date | B1: Soujanya | C1: Madhav | D1: Vipin | E1: Petty Cash Top-Up | F1: Items Purchased | G1: Cash on Hand | H1: Total Amount | K1: Date | L1: Cash | M1: Cash on Hand
A2: 46082 | H2: =SUM(B2:G2) -> 0 | K2: 46082 | L2: =VLOOKUP(K:K,'March26- Sales'!A:I,3,0) -> 0 | M2: =SUMIF(A:A,A:A,G:G) -> 0
A3: 46083 | D3: 20 | F3: 3.4 | G3: 95.6 | H3: =SUM(B3:G3) -> 119 | K3: 46083 | L3: =VLOOKUP(K:K,'March26- Sales'!A:I,3,0) -> 119.3 | M3: =SUMIF(A:A,A:A,G:G) -> 95.6
A4: 46084 | H4: =SUM(B4:G4) -> 0 | K4: 46084 | L4: =VLOOKUP(K:K,'March26- Sales'!A:I,3,0) -> 183.5 | M4: =SUMIF(A:A,A:A,G:G) -> 0
A5: 46085 | H5: =SUM(B5:G5) -> 0 | K5: 46085 | L5: =VLOOKUP(K:K,'March26- Sales'!A:I,3,0) -> 171.6 | M5: =SUMIF(A:A,A:A,G:G) -> 0
A6: 46086 | H6: =SUM(B6:G6) -> 0 | K6: 46086 | L6: =VLOOKUP(K:K,'March26- Sales'!A:I,3,0) -> 143.4 | M6: =SUMIF(A:A,A:A,G:G) -> 0
A7: 46087 | H7: =SUM(B7:G7) -> 0 | K7: 46087 | L7: =VLOOKUP(K:K,'March26- Sales'!A:I,3,0) -> 158.5 | M7: =SUMIF(A:A,A:A,G:G) -> 0
A8: 46088 | H8: =SUM(B8:G8) -> 0 | K8: 46088 | L8: =VLOOKUP(K:K,'March26- Sales'!A:I,3,0) -> 0 | M8: =SUMIF(A:A,A:A,G:G) -> 0
A9: 46089 | H9: =SUM(B9:G9) -> 0 | K9: 46089 | L9: =VLOOKUP(K:K,'March26- Sales'!A:I,3,0) -> 0 | M9: =SUMIF(A:A,A:A,G:G) -> 0
A10: 46090 | H10: =SUM(B10:G10) -> 0 | K10: 46090 | L10: =VLOOKUP(K:K,'March26- Sales'!A:I,3,0) -> 161.6 | M10: =SUMIF(A:A,A:A,G:G) -> 0
A11: 46091 | H11: =SUM(B11:G11) -> 0 | K11: 46091 | L11: =VLOOKUP(K:K,'March26- Sales'!A:I,3,0) -> 179.3 | M11: =SUMIF(A:A,A:A,G:G) -> 0
A12: 46092 | H12: =SUM(B12:G12) -> 0 | K12: 46092 | L12: =VLOOKUP(K:K,'March26- Sales'!A:I,3,0) -> 178.2 | M12: =SUMIF(A:A,A:A,G:G) -> 0
A13: 46093 | H13: =SUM(B13:G13) -> 0 | K13: 46093 | L13: =VLOOKUP(K:K,'March26- Sales'!A:I,3,0) -> 108.9 | M13: =SUMIF(A:A,A:A,G:G) -> 0
A14: 46094 | H14: =SUM(B14:G14) -> 0 | K14: 46094 | L14: =VLOOKUP(K:K,'March26- Sales'!A:I,3,0) -> 96.9 | M14: =SUMIF(A:A,A:A,G:G) -> 0
A15: 46095 | H15: =SUM(B15:G15) -> 0 | K15: 46095 | L15: =VLOOKUP(K:K,'March26- Sales'!A:I,3,0) -> 0 | M15: =SUMIF(A:A,A:A,G:G) -> 0
... A19: 46099 | H19: =SUM(B19:G19) -> 0 | K19: 46099 | L19: =VLOOKUP(K:K,'March26- Sales'!A:I,3,0) -> 142.05 | M19: =SUMIF(A:A,A:A,G:G) -> 0
A20: 46100 | B20: 475 | E20: 500 | H20: =SUM(B20:G20) -> 975 | K20: 46100 | L20: =VLOOKUP(K:K,'March26- Sales'!A:I,3,0) -> 141.7 | M20: =SUMIF(A:A,A:A,G:G) -> 0
A21: 46101 | H21: =SUM(B21:G21) -> 0 | K21: 46101 | L21: =VLOOKUP(K:K,'March26- Sales'!A:I,3,0) -> 181.75 | M21: =SUMIF(A:A,A:A,G:G) -> 0
A22: 46102 | H22: =SUM(B22:G22) -> 0 | K22: 46102 | L22: =VLOOKUP(K:K,'March26- Sales'!A:I,3,0) -> 0 | M22: =SUMIF(A:A,A:A,G:G) -> 0
A23: 46103 | H23: =SUM(B23:G23) -> 0 | K23: 46103 | L23: =VLOOKUP(K:K,'March26- Sales'!A:I,3,0) -> 0 | M23: =SUMIF(A:A,A:A,G:G) -> 0
A24: 46104 | H24: =SUM(B24:G24) -> 0 | K24: 46104 | L24: =VLOOKUP(K:K,'March26- Sales'!A:I,3,0) -> 175.8 | M24: =SUMIF(A:A,A:A,G:G) -> 0
A25: 46105 | H25: =SUM(B25:G25) -> 0 | K25: 46105 | L25: =VLOOKUP(K:K,'March26- Sales'!A:I,3,0) -> 309.6 | M25: =SUMIF(A:A,A:A,G:G) -> 0
A26: 46106 | H26: =SUM(B26:G26) -> 0 | K26: 46106 | L26: =VLOOKUP(K:K,'March26- Sales'!A:I,3,0) -> 205.9 | M26: =SUMIF(A:A,A:A,G:G) -> 0
A27: 46107 | H27: =SUM(B27:G27) -> 0 | K27: 46107 | L27: =VLOOKUP(K:K,'March26- Sales'!A:I,3,0) -> 207.1 | M27: =SUMIF(A:A,A:A,G:G) -> 0
A28: 46108 | H28: =SUM(B28:G28) -> 0 | K28: 46108 | L28: =VLOOKUP(K:K,'March26- Sales'!A:I,3,0) -> 154.15 | M28: =SUMIF(A:A,A:A,G:G) -> 0
A29: 46109 | H29: =SUM(B29:G29) -> 0 | K29: 46109 | L29: =VLOOKUP(K:K,'March26- Sales'!A:I,3,0) -> 0 | M29: =SUMIF(A:A,A:A,G:G) -> 0
A30: 46110 | H30: =SUM(B30:G30) -> 0 | K30: 46110 | L30: =VLOOKUP(K:K,'March26- Sales'!A:I,3,0) -> 0 | M30: =SUMIF(A:A,A:A,G:G) -> 0
A31: 46111 | H31: =SUM(B31:G31) -> 0 | K31: 46111 | L31: =VLOOKUP(K:K,'March26- Sales'!A:I,3,0) -> 0 | M31: =SUMIF(A:A,A:A,G:G) -> 0
A32: 46112 | H32: =SUM(B32:G32) -> 0 | K32: 46112 | L32: =VLOOKUP(K:K,'March26- Sales'!A:I,3,0) -> 0 | M32: =SUMIF(A:A,A:A,G:G) -> 0

Sheet Expenses
A1: Vendor | B1: Order By | C1: Invoice No | D1: Ordered Date | E1: Delivered Date | F1: Description | G1: Quantiry | H1: Unit Price | I1: Total Price | J1: GST 9% | K1: Grand Total
A2: DashMesh | B2: Madhav | C2: 10852759 | D2: 46083 | E2: 46083 | F2: Amul Tazza UHT Milk ( 12x 1 LTR) | G2: 20 | H2: 21 | I2: =G2*H2 -> 420 | J2: =I2*0.09 -> 37.8 | K2: =I2+J2 -> 457.8
A3: DashMesh | B3: Madhav | C3: 10852759 | D3: 46083 | E3: 46083 | F3: Nescafe 9 12 x 200GMs) | G3: 3 | H3: 6.8 | I3: =G3*H3 -> 20.4 | J3: =I3*0.09 -> 1.836 | K3: =I3+J3 -> 22.236
A4: DashMesh | B4: Madhav | C4: 10852759 | D4: 46083 | E4: 46083 | F4: MaxWill Fine Sugar( 4x 5KG) | G4: 2 | H4: 6 | I4: =G4*H4 -> 12 | J4: =I4*0.09 -> 1.08 | K4: =I4+J4 -> 13.08
A5: Hairo | B5: Madhav | C5: HF601525 | D5: 46083 | E5: 46083 | F5: POTATOES BAG | G5: 1 | H5: 6 | I5: =G5*H5 -> 6 | J5: =I5*0.09 -> 0.54 | K5: =I5+J5 -> 6.54
A6: Hairo | B6: Madhav | C6: HF601525 | D6: 46083 | E6: 46083 | F6: BOMBAY ONION BAG 3KG | G6: 3 | H6: 2.3 | I6: =G6*H6 -> 6.9 | J6: =I6*0.09 -> 0.621 | K6: =I6+J6 -> 7.521
A7: Hairo | B7: Madhav | C7: HF601525 | D7: 46083 | E7: 46083 | F7: OLD GINGER | G7: 3 | H7: 3.5 | I7: =G7*H7 -> 10.5 | J7: =I7*0.09 -> 0.945 | K7: =I7+J7 -> 11.445
A8: Hairo | B8: Madhav | C8: HF601525 | D8: 46083 | E8: 46083 | F8: GREEN CHILLIES PADI | G8: 0.5 | H8: 4.8 | I8: =G8*H8 -> 2.4 | J8: =I8*0.09 -> 0.216 | K8: =I8+J8 -> 2.616
A9: Hairo | B9: Madhav | C9: HF601525 | D9: 46083 | E9: 46083 | F9: CORIANDER LEAVES | G9: 1 | H9: 10 | I9: =G9*H9 -> 10 | J9: =I9*0.09 -> 0.9 | K9: =I9+J9 -> 10.9
A10: Hairo | B10: Madhav | C10: HF601525 | D10: 46083 | E10: 46083 | F10: YELLOW LEMON | G10: 10 | H10: 0.6 | I10: =G10*H10 -> 6 | J10: =I10*0.09 -> 0.54 | K10: =I10+J10 -> 6.54
A11: Hairo | B11: Madhav | C11: HF601525 | D11: 46083 | E11: 46083 | F11: TOMATOES LOOSE | G11: 1 | H11: 1.8 | I11: =G11*H11 -> 1.8 | J11: =I11*0.09 -> 0.162 | K11: =I11+J11 -> 1.962
A12: Hairo | B12: Madhav | C12: HF601525 | D12: 46083 | E12: 46083 | F12: FRESH EGGS CUCUMBER | G12: 90 | H12: 0.3 | I12: =G12*H12 -> 27 | J12: =I12*0.09 -> 2.43 | K12: =I12+J12 -> 29.43
A13: Hairo | B13: Madhav | C13: HF601525 | D13: 46083 | E13: 46083 | F13: CUCUMBER | G13: 1 | H13: 1.8 | I13: =G13*H13 -> 1.8 | J13: =I13*0.09 -> 0.162 | K13: =I13+J13 -> 1.962

Sheet Pivot Expenses
A4: Ordered Date | B4: Vendor | C4: Sum of Total Price | D4: Sum of GST 9% | E4: Sum of Grand Total
A5: 46083 | B5: DashMesh | C5: 452.4 | D5: 40.716 | E5: 493.116
B6: Hairo | C6: 72.4 | D6: 6.516 | E6: 78.916
A7: (blank) | B7: (blank)
A8: Grand Total | C8: 524.8 | D8: 47.232 | E8: 572.032
