Workbook

Sheet July26
A1: DATE | B1: CASH | C1: Credit Cards | D1: PayNow-Qashier | E1: OCBC-PayNow | F1: Qashier | G1: Adyen | H1: AMEX | I1: FOOD PANDA | J1: GRAB FOOD | K1: Nets | L1: Unipro cash | M1: Unipro Online | N1: Unipro OCBC Paynow | O1: YeahPay card | P1: YeahPay Paynow | Q1: MICS | R1: SALES - Received | S1: POS SALES | T1: Difference | U1: SUPPLIERS | V1: OCBC Account | W1: Petty Cash | X1: Sowji Cash | Y1: Madhav DBS | Z1: Un-Paid | AA1: Counter Cash | AB1: Banjara Samosa | AC1: Total Supplies Expenses | AD1: SALARIES | AE1: Rent | AF1: Loan | AG1: Assets | AH1: CPF / LOAN | AI1: SINGTEL / STAR HUB | AJ1: MICS | AK1: MICS | AL1: EXPENSES | AM1: PROFIT
A2: 46204 | B2: =VLOOKUP($A:$A,'[1]July26- Sales'!$A:$AA,3,0) -> 137.9 | C2: =VLOOKUP($A:$A,'[1]July26- Sales'!$A:$AQ,30,0) -> 393.1 | D2: =VLOOKUP($A:$A,'[1]July26- Sales'!$A:$AA,15,0) -> 1278.9 | E2: =VLOOKUP($A:$A,'[1]July26- Sales'!$A:$AA,12,0) -> 144.6 | F2: =VLOOKUP($A:$A,'[1]July26- Sales'!$A:$AA,11,0) -> 0 | G2: =VLOOKUP($A:$A,'[1]July26- Sales'!$A:$AQ,30,0) -> 393.1 | H2: =VLOOKUP($A:$A,'[1]June26- Sales'!$A:$Z,18,0) -> #N/A | I2: =VLOOKUP($A:$A,'[1]July26- Sales'!$A:$AA,10,0) -> 0 | J2: =VLOOKUP($A:$A,'[1]July26- Sales'!$A:$AA,9,0) -> 0 | K2: =VLOOKUP($A:$A,'[1]July26- Sales'!$A:$AA,11,0) -> 0 | L2: =VLOOKUP($A:$A,'[1]July26- Sales'!$A:$AA,4,0) -> 0 | M2: =VLOOKUP($A:$A,'[1]July26- Sales'!$A:$AA,5,0) -> 0 | N2: =VLOOKUP($A:$A,'[1]July26- Sales'!$A:$AA,6,0) -> 0 | O2: =VLOOKUP($A:$A,'[1]July26- Sales'!$A:$AA,7,0) -> 0 | P2: =VLOOKUP($A:$A,'[1]July26- Sales'!$A:$AA,8,0) -> 0 | R2: =B2+F2+G2-P2 -> 531 | S2: =SUM(B2:D2) -> 1809.9 | T2: =R2-S2 -> -1278.9 | U2: =(SUMIF('[1]Expenes- Delivery Details'!$C:$C,A:A,'[1]Expenes- Delivery Details'!$E:$E))-AD2-AE2-AF2 -> 112.62 | V2: =SUMIF('[1]Expenes- Delivery Details'!$A:$A,$A2&V$1,'[1]Expenes- Delivery Details'!$E:$E) -> 9010.38 | W2: =SUMIF('[1]Expenes- Delivery Details'!$A:$A,$A2&W$1,'[1]Expenes- Delivery Details'!$E:$E) -> 47.62 | X2: =SUMIF('[1]Expenes- Delivery Details'!$A:$A,$A2&X$1,'[1]Expenes- Delivery Details'!$E:$E) -> 0 | Y2: =SUMIF('[1]Expenes- Delivery Details'!$A:$A,$A2&Y$1,'[1]Expenes- Delivery Details'!$E:$E) -> 0 | Z2: =SUMIF('[1]Expenes- Delivery Details'!$A:$A,$A2&Z$1,'[1]Expenes- Delivery Details'!$E:$E) -> 0 | AA2: =SUMIF('[1]Expenes- Delivery Details'!$A:$A,$A2&AA$1,'[1]Expenes- Delivery Details'!$E:$E) -> 0 | AC2: =SUM(V2:AB2)-AF2 -> 5158 | AD2: =SUMIF('[1]Expenes- Delivery Details'!$B:$B,$A2&AD$1,'[1]Expenes- Delivery Details'!$E:$E) -> 15 | AE2: =SUMIF('[1]Expenes- Delivery Details'!$B:$B,$A2&AE$1,'[1]Expenes- Delivery Details'!$E:$E) -> 5110.38 | AF2: =SUMIF('[1]Expenes- Delivery Details'!$B:$B,$A2&AF$1,'[1]Expenes- Delivery Details'!$E:$E) -> 3900 | AG2: =SUMIF('[1]Expenes- Delivery Details'!$B:$B,$A2&AG$1,'[1]Expenes- Delivery Details'!$E:$E) -> 80 | AL2: =U2+AD2+AK2+AE2+AB2 -> 5238 | AM2: =R2-AL2 -> -4707
A3: 46205 | B3: =VLOOKUP($A:$A,'[1]July26- Sales'!$A:$AA,3,0) -> 123.2 | C3: =VLOOKUP($A:$A,'[1]July26- Sales'!$A:$AQ,30,0) -> 537.3 | D3: =VLOOKUP($A:$A,'[1]July26- Sales'!$A:$AA,15,0) -> 946.08 | E3: =VLOOKUP($A:$A,'[1]July26- Sales'!$A:$AA,12,0) -> 197.7 | F3: =VLOOKUP($A:$A,'[1]July26- Sales'!$A:$AA,11,0) -> 0 | G3: =VLOOKUP($A:$A,'[1]July26- Sales'!$A:$AQ,30,0) -> 537.3 | I3: =VLOOKUP($A:$A,'[1]July26- Sales'!$A:$AA,10,0) -> 0 | J3: =VLOOKUP($A:$A,'[1]July26- Sales'!$A:$AA,9,0) -> 0 | K3: =VLOOKUP($A:$A,'[1]July26- Sales'!$A:$AA,11,0) -> 0 | L3: =VLOOKUP($A:$A,'[1]July26- Sales'!$A:$AA,4,0) -> 0 | M3: =VLOOKUP($A:$A,'[1]July26- Sales'!$A:$AA,5,0) -> 0 | N3: =VLOOKUP($A:$A,'[1]July26- Sales'!$A:$AA,6,0) -> 0 | O3: =VLOOKUP($A:$A,'[1]July26- Sales'!$A:$AA,7,0) -> 0 | P3: =VLOOKUP($A:$A,'[1]July26- Sales'!$A:$AA,8,0) -> 0 | R3: =B3+F3+G3-P3 -> 660.5 | S3: =SUM(B3:D3) -> 1606.58 | T3: =R3-S3 -> -946.08 | U3: =(SUMIF('[1]Expenes- Delivery Details'!$C:$C,A:A,'[1]Expenes- Delivery Details'!$E:$E))-AD3-AE3-AF3 -> 38.44 | V3: =SUMIF('[1]Expenes- Delivery Details'!$A:$A,$A3&V$1,'[1]Expenes- Delivery Details'!$E:$E) -> 0 | W3: =SUMIF('[1]Expenes- Delivery Details'!$A:$A,$A3&W$1,'[1]Expenes- Delivery Details'!$E:$E) -> 38.44 | X3: =SUMIF('[1]Expenes- Delivery Details'!$A:$A,$A3&X$1,'[1]Expenes- Delivery Details'!$E:$E) -> 0 | Y3: =SUMIF('[1]Expenes- Delivery Details'!$A:$A,$A3&Y$1,'[1]Expenes- Delivery Details'!$E:$E) -> 0 | Z3: =SUMIF('[1]Expenes- Delivery Details'!$A:$A,$A3&Z$1,'[1]Expenes- Delivery Details'!$E:$E) -> 0 | AA3: =SUMIF('[1]Expenes- Delivery Details'!$A:$A,$A3&AA$1,'[1]Expenes- Delivery Details'!$E:$E) -> 0 | AC3: =SUM(V3:AB3)-AF3 -> 38.44 | AD3: =SUMIF('[1]Expenes- Delivery Details'!$B:$B,$A3&AD$1,'[1]Expenes- Delivery Details'!$E:$E) -> 0 | AE3: =SUMIF('[1]Expenes- Delivery Details'!$B:$B,$A3&AE$1,'[1]Expenes- Delivery Details'!$E:$E) -> 0 | AF3: =SUMIF('[1]Expenes- Delivery Details'!$B:$B,$A3&AF$1,'[1]Expenes- Delivery Details'!$E:$E) -> 0 | AG3: =SUMIF('[1]Expenes- Delivery Details'!$B:$B,$A3&AG$1,'[1]Expenes- Delivery Details'!$E:$E) -> 0 | AL3: =U3+AD3+AK3+AE3+AB3 -> 38.44 | AM3: =R3-AL3 -> 622.06 | AS3: OCBC Account
A4: 46206 | B4: =VLOOKUP($A:$A,'[1]July26- Sales'!$A:$AA,3,0) -> 103.8 | C4: =VLOOKUP($A:$A,'[1]July26- Sales'!$A:$AQ,30,0) -> 568.9 | D4: =VLOOKUP($A:$A,'[1]July26- Sales'!$A:$AA,15,0) -> 1288.7 | E4: =VLOOKUP($A:$A,'[1]July26- Sales'!$A:$AA,12,0) -> 238.3 | F4: =VLOOKUP($A:$A,'[1]July26- Sales'!$A:$AA,11,0) -> 0 | G4: =VLOOKUP($A:$A,'[1]July26- Sales'!$A:$AQ,30,0) -> 568.9 | I4: =VLOOKUP($A:$A,'[1]July26- Sales'!$A:$AA,10,0) -> 0 | J4: =VLOOKUP($A:$A,'[1]July26- Sales'!$A:$AA,9,0) -> 0 | K4: =VLOOKUP($A:$A,'[1]July26- Sales'!$A:$AA,11,0) -> 0 | L4: =VLOOKUP($A:$A,'[1]July26- Sales'!$A:$AA,4,0) -> 0 | M4: =VLOOKUP($A:$A,'[1]July26- Sales'!$A:$AA,5,0) -> 0 | N4: =VLOOKUP($A:$A,'[1]July26- Sales'!$A:$AA,6,0) -> 0 | O4: =VLOOKUP($A:$A,'[1]July26- Sales'!$A:$AA,7,0) -> 0 | P4: =VLOOKUP($A:$A,'[1]July26- Sales'!$A:$AA,8,0) -> 0 | R4: =B4+F4+G4-P4 -> 672.7 | S4: =SUM(B4:D4) -> 1961.4 | T4: =R4-S4 -> -1288.7 | U4: =(SUMIF('[1]Expenes- Delivery Details'!$C:$C,A:A,'[1]Expenes- Delivery Details'!$E:$E))-AD4-AE4-AF4 -> 469.9 | V4: =SUMIF('[1]Expenes- Delivery Details'!$A:$A,$A4&V$1,'[1]Expenes- Delivery Details'!$E:$E) -> 300 | W4: =SUMIF('[1]Expenes- Delivery Details'!$A:$A,$A4&W$1,'[1]Expenes- Delivery Details'!$E:$E) -> 124.9 | X4: =SUMIF('[1]Expenes- Delivery Details'!$A:$A,$A4&X$1,'[1]Expenes- Delivery Details'!$E:$E) -> 0 | Y4: =SUMIF('[1]Expenes- Delivery Details'!$A:$A,$A4&Y$1,'[1]Expenes- Delivery Details'!$E:$E) -> 0 | Z4: =SUMIF('[1]Expenes- Delivery Details'!$A:$A,$A4&Z$1,'[1]Expenes- Delivery Details'!$E:$E) -> 0 | AA4: =SUMIF('[1]Expenes- Delivery Details'!$A:$A,$A4&AA$1,'[1]Expenes- Delivery Details'!$E:$E) -> 0 | AC4: =SUM(V4:AB4)-AF4 -> 424.9 | AD4: =SUMIF('[1]Expenes- Delivery Details'!$B:$B,$A4&AD$1,'[1]Expenes- Delivery Details'!$E:$E) -> 19 | AE4: =SUMIF('[1]Expenes- Delivery Details'!$B:$B,$A4&AE$1,'[1]Expenes- Delivery Details'!$E:$E) -> 0 | AF4: =SUMIF('[1]Expenes- Delivery Details'!$B:$B,$A4&AF$1,'[1]Expenes- Delivery Details'!$E:$E) -> 0 | AG4: =SUMIF('[1]Expenes- Delivery Details'!$B:$B,$A4&AG$1,'[1]Expenes- Delivery Details'!$E:$E) -> 0 | AL4: =U4+AD4+AK4+AE4+AB4 -> 488.9 | AM4: =R4-AL4 -> 183.8 | AS4: Petty Cash
A5: 46207 | B5: =VLOOKUP($A:$A,'[1]July26- Sales'!$A:$AA,3,0) -> 0 | C5: =VLOOKUP($A:$A,'[1]July26- Sales'!$A:$AQ,30,0) -> 0 | D5: =VLOOKUP($A:$A,'[1]July26- Sales'!$A:$AA,15,0) -> 0 | E5: =VLOOKUP($A:$A,'[1]July26- Sales'!$A:$AA,12,0) -> 0 | F5: =VLOOKUP($A:$A,'[1]July26- Sales'!$A:$AA,11,0) -> 0 | G5: =VLOOKUP($A:$A,'[1]July26- Sales'!$A:$AQ,30,0) -> 0 | I5: =VLOOKUP($A:$A,'[1]July26- Sales'!$A:$AA,10,0) -> 0 | J5: =VLOOKUP($A:$A,'[1]July26- Sales'!$A:$AA,9,0) -> 0 | K5: =VLOOKUP($A:$A,'[1]July26- Sales'!$A:$AA,11,0) -> 0 | L5: =VLOOKUP($A:$A,'[1]July26- Sales'!$A:$AA,4,0) -> 0 | M5: =VLOOKUP($A:$A,'[1]July26- Sales'!$A:$AA,5,0) -> 0 | N5: =VLOOKUP($A:$A,'[1]July26- Sales'!$A:$AA,6,0) -> 0 | O5: =VLOOKUP($A:$A,'[1]July26- Sales'!$A:$AA,7,0) -> 0 | P5: =VLOOKUP($A:$A,'[1]July26- Sales'!$A:$AA,8,0) -> 0 | R5: =B5+F5+G5-P5 -> 0 | S5: =SUM(B5:D5) -> 0 | T5: =R5-S5 -> 0 | U5: =(SUMIF('[1]Expenes- Delivery Details'!$C:$C,A:A,'[1]Expenes- Delivery Details'!$E:$E))-AD5-AE5-AF5 -> 438.75 | V5: =SUMIF('[1]Expenes- Delivery Details'!$A:$A,$A5&V$1,'[1]Expenes- Delivery Details'!$E:$E) -> 0 | W5: =SUMIF('[1]Expenes- Delivery Details'!$A:$A,$A5&W$1,'[1]Expenes- Delivery Details'!$E:$E) -> 138.55 | X5: =SUMIF('[1]Expenes- Delivery Details'!$A:$A,$A5&X$1,'[1]Expenes- Delivery Details'!$E:$E) -> 0 | Y5: =SUMIF('[1]Expenes- Delivery Details'!$A:$A,$A5&Y$1,'[1]Expenes- Delivery Details'!$E:$E) -> 0 | Z5: =SUMIF('[1]Expenes- Delivery Details'!$A:$A,$A5&Z$1,'[1]Expenes- Delivery Details'!$E:$E) -> 0 | AA5: =SUMIF('[1]Expenes- Delivery Details'!$A:$A,$A5&AA$1,'[1]Expenes- Delivery Details'!$E:$E) -> 0 | AC5: =SUM(V5:AB5)-AF5 -> 138.55 | AD5: =SUMIF('[1]Expenes- Delivery Details'!$B:$B,$A5&AD$1,'[1]Expenes- Delivery Details'!$E:$E) -> 0 | AE5: =SUMIF('[1]Expenes- Delivery Details'!$B:$B,$A5&AE$1,'[1]Expenes- Delivery Details'!$E:$E) -> 0 | AF5: =SUMIF('[1]Expenes- Delivery Details'!$B:$B,$A5&AF$1,'[1]Expenes- Delivery Details'!$E:$E) -> 0 | AG5: =SUMIF('[1]Expenes- Delivery Details'!$B:$B,$A5&AG$1,'[1]Expenes- Delivery Details'!$E:$E) -> 0 | AL5: =U5+AD5+AK5+AE5+AB5 -> 438.75 | AM5: =R5-AL5 -> -438.75 | AS5: Sowji Cash
A6: 46208 | B6: =VLOOKUP($A:$A,'[1]July26- Sales'!$A:$AA,3,0) -> 10 | C6: =VLOOKUP($A:$A,'[1]July26- Sales'!$A:$AQ,30,0) -> 73.8 | D6: =VLOOKUP($A:$A,'[1]July26- Sales'!$A:$AA,15,0) -> 223.3 | E6: =VLOOKUP($A:$A,'[1]July26- Sales'!$A:$AA,12,0) -> 73.8 | F6: =VLOOKUP($A:$A,'[1]July26- Sales'!$A:$AA,11,0) -> 0 | G6: =VLOOKUP($A:$A,'[1]July26- Sales'!$A:$AQ,30,0) -> 73.8 | I6: =VLOOKUP($A:$A,'[1]July26- Sales'!$A:$AA,10,0) -> 0 | J6: =VLOOKUP($A:$A,'[1]July26- Sales'!$A:$AA,9,0) -> 0 | K6: =VLOOKUP($A:$A,'[1]July26- Sales'!$A:$AA,11,0) -> 0 | L6: =VLOOKUP($A:$A,'[1]July26- Sales'!$A:$AA,4,0) -> 0 | M6: =VLOOKUP($A:$A,'[1]July26- Sales'!$A:$AA,5,0) -> 0 | N6: =VLOOKUP($A:$A,'[1]July26- Sales'!$A:$AA,6,0) -> 0 | O6: =VLOOKUP($A:$A,'[1]July26- Sales'!$A:$AA,7,0) -> 0 | P6: =VLOOKUP($A:$A,'[1]July26- Sales'!$A:$AA,8,0) -> 0 | R6: =B6+F6+G6-P6 -> 83.8 | S6: =SUM(B6:D6) -> 307.1 | T6: =R6-S6 -> -223.3 | U6: =(SUMIF('[1]Expenes- Delivery Details'!$C:$C,A:A,'[1]Expenes- Delivery Details'!$E:$E))-AD6-AE6-AF6 -> 107.75 | V6: =SUMIF('[1]Expenes- Delivery Details'!$A:$A,$A6&V$1,'[1]Expenes- Delivery Details'!$E:$E) -> 0 | W6: =SUMIF('[1]Expenes- Delivery Details'!$A:$A,$A6&W$1,'[1]Expenes- Delivery Details'!$E:$E) -> 227.75 | X6: =SUMIF('[1]Expenes- Delivery Details'!$A:$A,$A6&X$1,'[1]Expenes- Delivery Details'!$E:$E) -> 0 | Y6: =SUMIF('[1]Expenes- Delivery Details'!$A:$A,$A6&Y$1,'[1]Expenes- Delivery Details'!$E:$E) -> 0 | Z6: =SUMIF('[1]Expenes- Delivery Details'!$A:$A,$A6&Z$1,'[1]Expenes- Delivery Details'!$E:$E) -> 0 | AA6: =SUMIF('[1]Expenes- Delivery Details'!$A:$A,$A6&AA$1,'[1]Expenes- Delivery Details'!$E:$E) -> 0 | AC6: =SUM(V6:AB6)-AF6 -> 227.75 | AD6: =SUMIF('[1]Expenes- Delivery Details'!$B:$B,$A6&AD$1,'[1]Expenes- Delivery Details'!$E:$E) -> 190 | AE6: =SUMIF('[1]Expenes- Delivery Details'!$B:$B,$A6&AE$1,'[1]Expenes- Delivery Details'!$E:$E) -> 0 | AF6: =SUMIF('[1]Expenes- Delivery Details'!$B:$B,$A6&AF$1,'[1]Expenes- Delivery Details'!$E:$E) -> 0 | AG6: =SUMIF('[1]Expenes- Delivery Details'!$B:$B,$A6&AG$1,'[1]Expenes- Delivery Details'!$E:$E) -> 0 | AL6: =U6+AD6+AK6+AE6+AB6 -> 297.75 | AM6: =R6-AL6 -> -213.95 | AS6: Un-Paid
A7: 46209 | B7: =VLOOKUP($A:$A,'[1]July26- Sales'!$A:$AA,3,0) -> 122.6 | C7: =VLOOKUP($A:$A,'[1]July26- Sales'!$A:$AQ,30,0) -> 41 | D7: =VLOOKUP($A:$A,'[1]July26- Sales'!$A:$AA,15,0) -> 931.4 | E7: =VLOOKUP($A:$A,'[1]July26- Sales'!$A:$AA,12,0) -> 41 | F7: =VLOOKUP($A:$A,'[1]July26- Sales'!$A:$AA,11,0) -> 0 | G7: =VLOOKUP($A:$A,'[1]July26- Sales'!$A:$AQ,30,0) -> 41 | I7: =VLOOKUP($A:$A,'[1]July26- Sales'!$A:$AA,10,0) -> 0 | J7: =VLOOKUP($A:$A,'[1]July26- Sales'!$A:$AA,9,0) -> 0 | K7: =VLOOKUP($A:$A,'[1]July26- Sales'!$A:$AA,11,0) -> 0 | L7: =VLOOKUP($A:$A,'[1]July26- Sales'!$A:$AA,4,0) -> 0 | M7: =VLOOKUP($A:$A,'[1]July26- Sales'!$A:$AA,5,0) -> 0 | N7: =VLOOKUP($A:$A,'[1]July26- Sales'!$A:$AA,6,0) -> 0 | O7: =VLOOKUP($A:$A,'[1]July26- Sales'!$A:$AA,7,0) -> 0 | P7: =VLOOKUP($A:$A,'[1]July26- Sales'!$A:$AA,8,0) -> 0 | R7: =B7+F7+G7-P7 -> 163.6 | S7: =SUM(B7:D7) -> 1095 | T7: =R7-S7 -> -931.4 | U7: =(SUMIF('[1]Expenes- Delivery Details'!$C:$C,A:A,'[1]Expenes- Delivery Details'!$E:$E))-AD7-AE7-AF7 -> 1056.02 | V7: =SUMIF('[1]Expenes- Delivery Details'!$A:$A,$A7&V$1,'[1]Expenes- Delivery Details'!$E:$E) -> 4555.04 | W7: =SUMIF('[1]Expenes- Delivery Details'!$A:$A,$A7&W$1,'[1]Expenes- Delivery Details'!$E:$E) -> 129.38 | X7: =SUMIF('[1]Expenes- Delivery Details'!$A:$A,$A7&X$1,'[1]Expenes- Delivery Details'!$E:$E) -> 0 | Y7: =SUMIF('[1]Expenes- Delivery Details'!$A:$A,$A7&Y$1,'[1]Expenes- Delivery Details'!$E:$E) -> 0 | Z7: =SUMIF('[1]Expenes- Delivery Details'!$A:$A,$A7&Z$1,'[1]Expenes- Delivery Details'!$E:$E) -> 111.6 | AA7: =SUMIF('[1]Expenes- Delivery Details'!$A:$A,$A7&AA$1,'[1]Expenes- Delivery Details'!$E:$E) -> 0 | AC7: =SUM(V7:AB7)-AF7 -> 4796.02 | AD7: =SUMIF('[1]Expenes- Delivery Details'!$B:$B,$A7&AD$1,'[1]Expenes- Delivery Details'!$E:$E) -> 3740 | AE7: =SUMIF('[1]Expenes- Delivery Details'!$B:$B,$A7&AE$1,'[1]Expenes- Delivery Details'!$E:$E) -> 0 | AF7: =SUMIF('[1]Expenes- Delivery Details'!$B:$B,$A7&AF$1,'[1]Expenes- Delivery Details'!$E:$E) -> 0 | AG7: =SUMIF('[1]Expenes- Delivery Details'!$B:$B,$A7&AG$1,'[1]Expenes- Delivery Details'!$E:$E) -> 0 | AL7: =U7+AD7+AK7+AE7+AB7 -> 4796.02 | AM7: =R7-AL7 -> -4632.42 | AS7: Counter Cash
A8: 46210 | B8: =VLOOKUP($A:$A,'[1]July26- Sales'!$A:$AA,3,0) -> 147.8 | C8: =VLOOKUP($A:$A,'[1]July26- Sales'!$A:$AQ,30,0) -> 214.3 | D8: =VLOOKUP($A:$A,'[1]July26- Sales'!$A:$AA,15,0) -> 1100.95 | E8: =VLOOKUP($A:$A,'[1]July26- Sales'!$A:$AA,12,0) -> 156.5 | F8: =VLOOKUP($A:$A,'[1]July26- Sales'!$A:$AA,11,0) -> 0 | G8: =VLOOKUP($A:$A,'[1]July26- Sales'!$A:$AQ,30,0) -> 214.3 | I8: =VLOOKUP($A:$A,'[1]July26- Sales'!$A:$AA,10,0) -> 0 | J8: =VLOOKUP($A:$A,'[1]July26- Sales'!$A:$AA,9,0) -> 0 | K8: =VLOOKUP($A:$A,'[1]July26- Sales'!$A:$AA,11,0) -> 0 | L8: =VLOOKUP($A:$A,'[1]July26- Sales'!$A:$AA,4,0) -> 0 | M8: =VLOOKUP($A:$A,'[1]July26- Sales'!$A:$AA,5,0) -> 0 | N8: =VLOOKUP($A:$A,'[1]July26- Sales'!$A:$AA,6,0) -> 0 | O8: =VLOOKUP($A:$A,'[1]July26- Sales'!$A:$AA,7,0) -> 0 | P8: =VLOOKUP($A:$A,'[1]July26- Sales'!$A:$AA,8,0) -> 0 | R8: =B8+F8+G8-P8 -> 362.1 | S8: =SUM(B8:D8) -> 1463.05 | T8: =R8-S8 -> -1100.95 | U8: =(SUMIF('[1]Expenes- Delivery Details'!$C:$C,A:A,'[1]Expenes- Delivery Details'!$E:$E))-AD8-AE8-AF8 -> 54.28 | V8: =SUMIF('[1]Expenes- Delivery Details'!$A:$A,$A8&V$1,'[1]Expenes- Delivery Details'!$E:$E) -> 0 | W8: =SUMIF('[1]Expenes- Delivery Details'!$A:$A,$A8&W$1,'[1]Expenes- Delivery Details'!$E:$E) -> 54.28 | X8: =SUMIF('[1]Expenes- Delivery Details'!$A:$A,$A8&X$1,'[1]Expenes- Delivery Details'!$E:$E) -> 0 | Y8: =SUMIF('[1]Expenes- Delivery Details'!$A:$A,$A8&Y$1,'[1]Expenes- Delivery Details'!$E:$E) -> 0 | Z8: =SUMIF('[1]Expenes- Delivery Details'!$A:$A,$A8&Z$1,'[1]Expenes- Delivery Details'!$E:$E) -> 0 | AA8: =SUMIF('[1]Expenes- Delivery Details'!$A:$A,$A8&AA$1,'[1]Expenes- Delivery Details'!$E:$E) -> 0 | AC8: =SUM(V8:AB8)-AF8 -> 54.28 | AD8: =SUMIF('[1]Expenes- Delivery Details'!$B:$B,$A8&AD$1,'[1]Expenes- Delivery Details'!$E:$E) -> 0 | AE8: =SUMIF('[1]Expenes- Delivery Details'!$B:$B,$A8&AE$1,'[1]Expenes- Delivery Details'!$E:$E) -> 0 | AF8: =SUMIF('[1]Expenes- Delivery Details'!$B:$B,$A8&AF$1,'[1]Expenes- Delivery Details'!$E:$E) -> 0 | AG8: =SUMIF('[1]Expenes- Delivery Details'!$B:$B,$A8&AG$1,'[1]Expenes- Delivery Details'!$E:$E) -> 0 | AL8: =U8+AD8+AK8+AE8+AB8 -> 54.28 | AM8: =R8-AL8 -> 307.82
A9: 46211 | B9: =VLOOKUP($A:$A,'[1]July26- Sales'!$A:$AA,3,0) -> 138.8 | C9: =VLOOKUP($A:$A,'[1]July26- Sales'!$A:$AQ,30,0) -> 406.2 | D9: =VLOOKUP($A:$A,'[1]July26- Sales'!$A:$AA,15,0) -> 1028.65 | E9: =VLOOKUP($A:$A,'[1]July26- Sales'!$A:$AA,12,0) -> 148.8 | F9: =VLOOKUP($A:$A,'[1]July26- Sales'!$A:$AA,11,0) -> 0 | G9: =VLOOKUP($A:$A,'[1]July26- Sales'!$A:$AQ,30,0) -> 406.2 | I9: =VLOOKUP($A:$A,'[1]July26- Sales'!$A:$AA,10,0) -> 0 | J9: =VLOOKUP($A:$A,'[1]July26- Sales'!$A:$AA,9,0) -> 0 | K9: =VLOOKUP($A:$A,'[1]July26- Sales'!$A:$AA,11,0) -> 0 | L9: =VLOOKUP($A:$A,'[1]July26- Sales'!$A:$AA,4,0) -> 0 | M9: =VLOOKUP($A:$A,'[1]July26- Sales'!$A:$AA,5,0) -> 0 | N9: =VLOOKUP($A:$A,'[1]July26- Sales'!$A:$AA,6,0) -> 0 | O9: =VLOOKUP($A:$A,'[1]July26- Sales'!$A:$AA,7,0) -> 0 | P9: =VLOOKUP($A:$A,'[1]July26- Sales'!$A:$AA,8,0) -> 0 | R9: =B9+F9+G9-P9 -> 545 | S9: =SUM(B9:D9) -> 1573.65 | T9: =R9-S9 -> -1028.65 | U9: =(SUMIF('[1]Expenes- Delivery Details'!$C:$C,A:A,'[1]Expenes- Delivery Details'!$E:$E))-AD9-AE9-AF9 -> 360.44 | V9: =SUMIF('[1]Expenes- Delivery Details'!$A:$A,$A9&V$1,'[1]Expenes- Delivery Details'!$E:$E) -> 0 | W9: =SUMIF('[1]Expenes- Delivery Details'!$A:$A,$A9&W$1,'[1]Expenes- Delivery Details'!$E:$E) -> 251.44 | X9: =SUMIF('[1]Expenes- Delivery Details'!$A:$A,$A9&X$1,'[1]Expenes- Delivery Details'!$E:$E) -> 0 | Y9: =SUMIF('[1]Expenes- Delivery Details'!$A:$A,$A9&Y$1,'[1]Expenes- Delivery Details'!$E:$E) -> 0 | Z9: =SUMIF('[1]Expenes- Delivery Details'!$A:$A,$A9&Z$1,'[1]Expenes- Delivery Details'!$E:$E) -> 109 | AA9: =SUMIF('[1]Expenes- Delivery Details'!$A:$A,$A9&AA$1,'[1]Expenes- Delivery Details'!$E:$E) -> 0 | AC9: =SUM(V9:AB9)-AF9 -> 360.44 | AD9: =SUMIF('[1]Expenes- Delivery Details'!$B:$B,$A9&AD$1,'[1]Expenes- Delivery Details'!$E:$E) -> 0 | AE9: =SUMIF('[1]Expenes- Delivery Details'!$B:$B,$A9&AE$1,'[1]Expenes- Delivery Details'!$E:$E) -> 0 | AF9: =SUMIF('[1]Expenes- Delivery Details'!$B:$B,$A9&AF$1,'[1]Expenes- Delivery Details'!$E:$E) -> 0 | AG9: =SUMIF('[1]Expenes- Delivery Details'!$B:$B,$A9&AG$1,'[1]Expenes- Delivery Details'!$E:$E) -> 0 | AL9: =U9+AD9+AK9+AE9+AB9 -> 360.44 | AM9: =R9-AL9 -> 184.56
A10: 46212 | B10: =VLOOKUP($A:$A,'[1]July26- Sales'!$A:$AA,3,0) -> 133.1 | C10: =VLOOKUP($A:$A,'[1]July26- Sales'!$A:$AQ,30,0) -> 155.5 | D10: =VLOOKUP($A:$A,'[1]July26- Sales'!$A:$AA,15,0) -> 1495.6 | E10: =VLOOKUP($A:$A,'[1]July26- Sales'!$A:$AA,12,0) -> 0 | F10: =VLOOKUP($A:$A,'[1]July26- Sales'!$A:$AA,11,0) -> 5.6 | G10: =VLOOKUP($A:$A,'[1]July26- Sales'!$A:$AQ,30,0) -> 155.5 | I10: =VLOOKUP($A:$A,'[1]July26- Sales'!$A:$AA,10,0) -> 0 | J10: =VLOOKUP($A:$A,'[1]July26- Sales'!$A:$AA,9,0) -> 0 | K10: =VLOOKUP($A:$A,'[1]July26- Sales'!$A:$AA,11,0) -> 5.6 | L10: =VLOOKUP($A:$A,'[1]July26- Sales'!$A:$AA,4,0) -> 0 | M10: =VLOOKUP($A:$A,'[1]July26- Sales'!$A:$AA,5,0) -> 0 | N10: =VLOOKUP($A:$A,'[1]July26- Sales'!$A:$AA,6,0) -> 0 | O10: =VLOOKUP($A:$A,'[1]July26- Sales'!$A:$AA,7,0) -> 0 | P10: =VLOOKUP($A:$A,'[1]July26- Sales'!$A:$AA,8,0) -> 0 | R10: =B10+F10+G10-P10 -> 294.2 | S10: =SUM(B10:D10) -> 1784.2 | T10: =R10-S10 -> -1490 | U10: =(SUMIF('[1]Expenes- Delivery Details'!$C:$C,A:A,'[1]Expenes- Delivery Details'!$E:$E))-AD10-AE10-AF10 -> 2111.63 | V10: =SUMIF('[1]Expenes- Delivery Details'!$A:$A,$A10&V$1,'[1]Expenes- Delivery Details'!$E:$E) -> 163.5 | W10: =SUMIF('[1]Expenes- Delivery Details'!$A:$A,$A10&W$1,'[1]Expenes- Delivery Details'!$E:$E) -> 231.46 | X10: =SUMIF('[1]Expenes- Delivery Details'!$A:$A,$A10&X$1,'[1]Expenes- Delivery Details'!$E:$E) -> 0 | Y10: =SUMIF('[1]Expenes- Delivery Details'!$A:$A,$A10&Y$1,'[1]Expenes- Delivery Details'!$E:$E) -> 0 | Z10: =SUMIF('[1]Expenes- Delivery Details'!$A:$A,$A10&Z$1,'[1]Expenes- Delivery Details'!$E:$E) -> 1716.67 | AA10: =SUMIF('[1]Expenes- Delivery Details'!$A:$A,$A10&AA$1,'[1]Expenes- Delivery Details'!$E:$E) -> 0 | AC10: =SUM(V10:AB10)-AF10 -> 2111.63 | AD10: =SUMIF('[1]Expenes- Delivery Details'!$B:$B,$A10&AD$1,'[1]Expenes- Delivery Details'!$E:$E) -> 0 | AE10: =SUMIF('[1]Expenes- Delivery Details'!$B:$B,$A10&AE$1,'[1]Expenes- Delivery Details'!$E:$E) -> 0 | AF10: =SUMIF('[1]Expenes- Delivery Details'!$B:$B,$A10&AF$1,'[1]Expenes- Delivery Details'!$E:$E) -> 0 | AG10: =SUMIF('[1]Expenes- Delivery Details'!$B:$B,$A10&AG$1,'[1]Expenes- Delivery Details'!$E:$E) -> 0 | AL10: =U10+AD10+AK10+AE10+AB10 -> 2111.63 | AM10: =R10-AL10 -> -1817.43
A11: 46213 | B11: =VLOOKUP($A:$A,'[1]July26- Sales'!$A:$AA,3,0) -> 88.1 | C11: =VLOOKUP($A:$A,'[1]July26- Sales'!$A:$AQ,30,0) -> 1113.8 | D11: =VLOOKUP($A:$A,'[1]July26- Sales'!$A:$AA,15,0) -> 959.7 | E11: =VLOOKUP($A:$A,'[1]July26- Sales'!$A:$AA,12,0) -> 756.4 | F11: =VLOOKUP($A:$A,'[1]July26- Sales'!$A:$AA,11,0) -> 0 | G11: =VLOOKUP($A:$A,'[1]July26- Sales'!$A:$AQ,30,0) -> 1113.8 | I11: =VLOOKUP($A:$A,'[1]July26- Sales'!$A:$AA,10,0) -> 0 | J11: =VLOOKUP($A:$A,'[1]July26- Sales'!$A:$AA,9,0) -> 0 | K11: =VLOOKUP($A:$A,'[1]July26- Sales'!$A:$AA,11,0) -> 0 | L11: =VLOOKUP($A:$A,'[1]July26- Sales'!$A:$AA,4,0) -> 0 | M11: =VLOOKUP($A:$A,'[1]July26- Sales'!$A:$AA,5,0) -> 0 | N11: =VLOOKUP($A:$A,'[1]July26- Sales'!$A:$AA,6,0) -> 0 | O11: =VLOOKUP($A:$A,'[1]July26- Sales'!$A:$AA,7,0) -> 0 | P11: =VLOOKUP($A:$A,'[1]July26- Sales'!$A:$AA,8,0) -> 0 | R11: =B11+F11+G11-P11 -> 1201.9 | S11: =SUM(B11:D11) -> 2161.6 | T11: =R11-S11 -> -959.7 | U11: =(SUMIF('[1]Expenes- Delivery Details'!$C:$C,A:A,'[1]Expenes- Delivery Details'!$E:$E))-AD11-AE11-AF11 -> 439.82 | V11: =SUMIF('[1]Expenes- Delivery Details'!$A:$A,$A11&V$1,'[1]Expenes- Delivery Details'!$E:$E) -> 310.11 | W11: =SUMIF('[1]Expenes- Delivery Details'!$A:$A,$A11&W$1,'[1]Expenes- Delivery Details'!$E:$E) -> 59.71 | X11: =SUMIF('[1]Expenes- Delivery Details'!$A:$A,$A11&X$1,'[1]Expenes- Delivery Details'!$E:$E) -> 0 | Y11: =SUMIF('[1]Expenes- Delivery Details'!$A:$A,$A11&Y$1,'[1]Expenes- Delivery Details'!$E:$E) -> 0 | Z11: =SUMIF('[1]Expenes- Delivery Details'!$A:$A,$A11&Z$1,'[1]Expenes- Delivery Details'!$E:$E) -> 0 | AA11: =SUMIF('[1]Expenes- Delivery Details'!$A:$A,$A11&AA$1,'[1]Expenes- Delivery Details'!$E:$E) -> 0 | AC11: =SUM(V11:AB11)-AF11 -> 369.82 | AD11: =SUMIF('[1]Expenes- Delivery Details'!$B:$B,$A11&AD$1,'[1]Expenes- Delivery Details'!$E:$E) -> 0 | AE11: =SUMIF('[1]Expenes- Delivery Details'!$B:$B,$A11&AE$1,'[1]Expenes- Delivery Details'!$E:$E) -> 0 | AF11: =SUMIF('[1]Expenes- Delivery Details'!$B:$B,$A11&AF$1,'[1]Expenes- Delivery Details'!$E:$E) -> 0 | AG11: =SUMIF('[1]Expenes- Delivery Details'!$B:$B,$A11&AG$1,'[1]Expenes- Delivery Details'!$E:$E) -> 0 | AL11: =U11+AD11+AK11+AE11+AB11 -> 439.82 | AM11: =R11-AL11 -> 762.08
A12: 46214 | B12: =VLOOKUP($A:$A,'[1]July26- Sales'!$A:$AA,3,0) -> 0 | C12: =VLOOKUP($A:$A,'[1]July26- Sales'!$A:$AQ,30,0) -> 5.3 | D12: =VLOOKUP($A:$A,'[1]July26- Sales'!$A:$AA,15,0) -> 208.2 | E12: =VLOOKUP($A:$A,'[1]July26- Sales'!$A:$AA,12,0) -> 0 | F12: =VLOOKUP($A:$A,'[1]July26- Sales'!$A:$AA,11,0) -> 5.3 | G12: =VLOOKUP($A:$A,'[1]July26- Sales'!$A:$AQ,30,0) -> 5.3 | I12: =VLOOKUP($A:$A,'[1]July26- Sales'!$A:$AA,10,0) -> 0 | J12: =VLOOKUP($A:$A,'[1]July26- Sales'!$A:$AA,9,0) -> 0 | K12: =VLOOKUP($A:$A,'[1]July26- Sales'!$A:$AA,11,0) -> 5.3 | L12: =VLOOKUP($A:$A,'[1]July26- Sales'!$A:$AA,4,0) -> 0 | M12: =VLOOKUP($A:$A,'[1]July26- Sales'!$A:$AA,5,0) -> 0 | N12: =VLOOKUP($A:$A,'[1]July26- Sales'!$A:$AA,6,0) -> 0 | O12: =VLOOKUP($A:$A,'[1]July26- Sales'!$A:$AA,7,0) -> 0 | P12: =VLOOKUP($A:$A,'[1]July26- Sales'!$A:$AA,8,0) -> 0 | R12: =B12+F12+G12-P12 -> 10.6 | S12: =SUM(B12:D12) -> 213.5 | T12: =R12-S12 -> -202.9 | U12: =(SUMIF('[1]Expenes- Delivery Details'!$C:$C,A:A,'[1]Expenes- Delivery Details'!$E:$E))-AD12-AE12-AF12 -> 319.5 | V12: =SUMIF('[1]Expenes- Delivery Details'!$A:$A,$A12&V$1,'[1]Expenes- Delivery Details'!$E:$E) -> 168.5 | W12: =SUMIF('[1]Expenes- Delivery Details'!$A:$A,$A12&W$1,'[1]Expenes- Delivery Details'!$E:$E) -> 66 | X12: =SUMIF('[1]Expenes- Delivery Details'!$A:$A,$A12&X$1,'[1]Expenes- Delivery Details'!$E:$E) -> 0 | Y12: =SUMIF('[1]Expenes- Delivery Details'!$A:$A,$A12&Y$1,'[1]Expenes- Delivery Details'!$E:$E) -> 0 | Z12: =SUMIF('[1]Expenes- Delivery Details'!$A:$A,$A12&Z$1,'[1]Expenes- Delivery Details'!$E:$E) -> 0 | AA12: =SUMIF('[1]Expenes- Delivery Details'!$A:$A,$A12&AA$1,'[1]Expenes- Delivery Details'!$E:$E) -> 0 | AC12: =SUM(V12:AB12)-AF12 -> 234.5 | AD12: =SUMIF('[1]Expenes- Delivery Details'!$B:$B,$A12&AD$1,'[1]Expenes- Delivery Details'!$E:$E) -> 0 | AE12: =SUMIF('[1]Expenes- Delivery Details'!$B:$B,$A12&AE$1,'[1]Expenes- Delivery Details'!$E:$E) -> 0 | AF12: =SUMIF('[1]Expenes- Delivery Details'!$B:$B,$A12&AF$1,'[1]Expenes- Delivery Details'!$E:$E) -> 0 | AG12: =SUMIF('[1]Expenes- Delivery Details'!$B:$B,$A12&AG$1,'[1]Expenes- Delivery Details'!$E:$E) -> 85 | AL12: =U12+AD12+AK12+AE12+AB12 -> 319.5 | AM12: =R12-AL12 -> -308.9
A13: 46215 | B13: =VLOOKUP($A:$A,'[1]July26- Sales'!$A:$AA,3,0) -> 25.2 | C13: =VLOOKUP($A:$A,'[1]July26- Sales'!$A:$AQ,30,0) -> 94.4 | D13: =VLOOKUP($A:$A,'[1]July26- Sales'!$A:$AA,15,0) -> 163.5 | E13: =VLOOKUP($A:$A,'[1]July26- Sales'!$A:$AA,12,0) -> 94.4 | F13: =VLOOKUP($A:$A,'[1]July26- Sales'!$A:$AA,11,0) -> 0 | G13: =VLOOKUP($A:$A,'[1]July26- Sales'!$A:$AQ,30,0) -> 94.4 | I13: =VLOOKUP($A:$A,'[1]July26- Sales'!$A:$AA,10,0) -> 0 | J13: =VLOOKUP($A:$A,'[1]July26- Sales'!$A:$AA,9,0) -> 0 | K13: =VLOOKUP($A:$A,'[1]July26- Sales'!$A:$AA,11,0) -> 0 | L13: =VLOOKUP($A:$A,'[1]July26- Sales'!$A:$AA,4,0) -> 0 | M13: =VLOOKUP($A:$A,'[1]July26- Sales'!$A:$AA,5,0) -> 0 | N13: =VLOOKUP($A:$A,'[1]July26- Sales'!$A:$AA,6,0) -> 0 | O13: =VLOOKUP($A:$A,'[1]July26- Sales'!$A:$AA,7,0) -> 0 | P13: =VLOOKUP($A:$A,'[1]July26- Sales'!$A:$AA,8,0) -> 0 | R13: =B13+F13+G13-P13 -> 119.6 | S13: =SUM(B13:D13) -> 283.1 | T13: =R13-S13 -> -163.5 | U13: =(SUMIF('[1]Expenes- Delivery Details'!$C:$C,A:A,'[1]Expenes- Delivery Details'!$E:$E))-AD13-AE13-AF13 -> 800.8 | V13: =SUMIF('[1]Expenes- Delivery Details'!$A:$A,$A13&V$1,'[1]Expenes- Delivery Details'!$E:$E) -> 768.7 | W13: =SUMIF('[1]Expenes- Delivery Details'!$A:$A,$A13&W$1,'[1]Expenes- Delivery Details'!$E:$E) -> 91.1 | X13: =SUMIF('[1]Expenes- Delivery Details'!$A:$A,$A13&X$1,'[1]Expenes- Delivery Details'!$E:$E) -> 0 | Y13: =SUMIF('[1]Expenes- Delivery Details'!$A:$A,$A13&Y$1,'[1]Expenes- Delivery Details'!$E:$E) -> 0 | Z13: =SUMIF('[1]Expenes- Delivery Details'!$A:$A,$A13&Z$1,'[1]Expenes- Delivery Details'!$E:$E) -> 0 | AA13: =SUMIF('[1]Expenes- Delivery Details'!$A:$A,$A13&AA$1,'[1]Expenes- Delivery Details'!$E:$E) -> 0 | AC13: =SUM(V13:AB13)-AF13 -> 859.8 | AD13: =SUMIF('[1]Expenes- Delivery Details'!$B:$B,$A13&AD$1,'[1]Expenes- Delivery Details'!$E:$E) -> 100 | AE13: =SUMIF('[1]Expenes- Delivery Details'!$B:$B,$A13&AE$1,'[1]Expenes- Delivery Details'!$E:$E) -> 0 | AF13: =SUMIF('[1]Expenes- Delivery Details'!$B:$B,$A13&AF$1,'[1]Expenes- Delivery Details'!$E:$E) -> 0 | AG13: =SUMIF('[1]Expenes- Delivery Details'!$B:$B,$A13&AG$1,'[1]Expenes- Delivery Details'!$E:$E) -> 168.7 | AL13: =U13+AD13+AK13+AE13+AB13 -> 900.8 | AM13: =R13-AL13 -> -781.2
A14: 46216 | B14: =VLOOKUP($A:$A,'[1]July26- Sales'!$A:$AA,3,0) -> 117.2 | C14: =VLOOKUP($A:$A,'[1]July26- Sales'!$A:$AQ,30,0) -> 191.8 | D14: =VLOOKUP($A:$A,'[1]July26- Sales'!$A:$AA,15,0) -> 1101.7 | E14: =VLOOKUP($A:$A,'[1]July26- Sales'!$A:$AA,12,0) -> 138.3 | F14: =VLOOKUP($A:$A,'[1]July26- Sales'!$A:$AA,11,0) -> 0 | G14: =VLOOKUP($A:$A,'[1]July26- Sales'!$A:$AQ,30,0) -> 191.8 | I14: =VLOOKUP($A:$A,'[1]July26- Sales'!$A:$AA,10,0) -> 0 | J14: =VLOOKUP($A:$A,'[1]July26- Sales'!$A:$AA,9,0) -> 0 | K14: =VLOOKUP($A:$A,'[1]July26- Sales'!$A:$AA,11,0) -> 0 | L14: =VLOOKUP($A:$A,'[1]July26- Sales'!$A:$AA,4,0) -> 0 | M14: =VLOOKUP($A:$A,'[1]July26- Sales'!$A:$AA,5,0) -> 0 | N14: =VLOOKUP($A:$A,'[1]July26- Sales'!$A:$AA,6,0) -> 0 | O14: =VLOOKUP($A:$A,'[1]July26- Sales'!$A:$AA,7,0) -> 0 | P14: =VLOOKUP($A:$A,'[1]July26- Sales'!$A:$AA,8,0) -> 0 | R14: =B14+F14+G14-P14 -> 309 | S14: =SUM(B14:D14) -> 1410.7 | T14: =R14-S14 -> -1101.7 | U14: =(SUMIF('[1]Expenes- Delivery Details'!$C:$C,A:A,'[1]Expenes- Delivery Details'!$E:$E))-AD14-AE14-AF14 -> 345.59 | V14: =SUMIF('[1]Expenes- Delivery Details'!$A:$A,$A14&V$1,'[1]Expenes- Delivery Details'!$E:$E) -> 0 | W14: =SUMIF('[1]Expenes- Delivery Details'!$A:$A,$A14&W$1,'[1]Expenes- Delivery Details'!$E:$E) -> 345.59 | X14: =SUMIF('[1]Expenes- Delivery Details'!$A:$A,$A14&X$1,'[1]Expenes- Delivery Details'!$E:$E) -> 0 | Y14: =SUMIF('[1]Expenes- Delivery Details'!$A:$A,$A14&Y$1,'[1]Expenes- Delivery Details'!$E:$E) -> 0 | Z14: =SUMIF('[1]Expenes- Delivery Details'!$A:$A,$A14&Z$1,'[1]Expenes- Delivery Details'!$E:$E) -> 0 | AA14: =SUMIF('[1]Expenes- Delivery Details'!$A:$A,$A14&AA$1,'[1]Expenes- Delivery Details'!$E:$E) -> 0 | AC14: =SUM(V14:AB14)-AF14 -> 345.59 | AD14: =SUMIF('[1]Expenes- Delivery Details'!$B:$B,$A14&AD$1,'[1]Expenes- Delivery Details'!$E:$E) -> 0 | AE14: =SUMIF('[1]Expenes- Delivery Details'!$B:$B,$A14&AE$1,'[1]Expenes- Delivery Details'!$E:$E) -> 0 | AF14: =SUMIF('[1]Expenes- Delivery Details'!$B:$B,$A14&AF$1,'[1]Expenes- Delivery Details'!$E:$E) -> 0 | AG14: =SUMIF('[1]Expenes- Delivery Details'!$B:$B,$A14&AG$1,'[1]Expenes- Delivery Details'!$E:$E) -> 0 | AL14: =U14+AD14+AK14+AE14+AB14 -> 345.59 | AM14: =R14-AL14 -> -36.59
A15: 46217 | B15: =VLOOKUP($A:$A,'[1]July26- Sales'!$A:$AA,3,0) -> 153.2 | C15: =VLOOKUP($A:$A,'[1]July26- Sales'!$A:$AQ,30,0) -> 199 | D15: =VLOOKUP($A:$A,'[1]July26- Sales'!$A:$AA,15,0) -> 1160 | E15: =VLOOKUP($A:$A,'[1]July26- Sales'!$A:$AA,12,0) -> 122 | F15: =VLOOKUP($A:$A,'[1]July26- Sales'!$A:$AA,11,0) -> 0 | G15: =VLOOKUP($A:$A,'[1]July26- Sales'!$A:$AQ,30,0) -> 199 | I15: =VLOOKUP($A:$A,'[1]July26- Sales'!$A:$AA,10,0) -> 0 | J15: =VLOOKUP($A:$A,'[1]July26- Sales'!$A:$AA,9,0) -> 0 | K15: =VLOOKUP($A:$A,'[1]July26- Sales'!$A:$AA,11,0) -> 0 | L15: =VLOOKUP($A:$A,'[1]July26- Sales'!$A:$AA,4,0) -> 0 | M15: =VLOOKUP($A:$A,'[1]July26- Sales'!$A:$AA,5,0) -> 0 | N15: =VLOOKUP($A:$A,'[1]July26- Sales'!$A:$AA,6,0) -> 0 | O15: =VLOOKUP($A:$A,'[1]July26- Sales'!$A:$AA,7,0) -> 0 | P15: =VLOOKUP($A:$A,'[1]July26- Sales'!$A:$AA,8,0) -> 0 | R15: =B15+F15+G15-P15 -> 352.2 | S15: =SUM(B15:D15) -> 1512.2 | T15: =R15-S15 -> -1160 | U15: =(SUMIF('[1]Expenes- Delivery Details'!$C:$C,A:A,'[1]Expenes- Delivery Details'!$E:$E))-AD15-AE15-AF15 -> 149.29 | V15: =SUMIF('[1]Expenes- Delivery Details'!$A:$A,$A15&V$1,'[1]Expenes- Delivery Details'!$E:$E) -> 0 | W15: =SUMIF('[1]Expenes- Delivery Details'!$A:$A,$A15&W$1,'[1]Expenes- Delivery Details'!$E:$E) -> 118.49 | X15: =SUMIF('[1]Expenes- Delivery Details'!$A:$A,$A15&X$1,'[1]Expenes- Delivery Details'!$E:$E) -> 0 | Y15: =SUMIF('[1]Expenes- Delivery Details'!$A:$A,$A15&Y$1,'[1]Expenes- Delivery Details'!$E:$E) -> 0 | Z15: =SUMIF('[1]Expenes- Delivery Details'!$A:$A,$A15&Z$1,'[1]Expenes- Delivery Details'!$E:$E) -> 16 | AA15: =SUMIF('[1]Expenes- Delivery Details'!$A:$A,$A15&AA$1,'[1]Expenes- Delivery Details'!$E:$E) -> 0 | AC15: =SUM(V15:AB15)-AF15 -> 134.49 | AD15: =SUMIF('[1]Expenes- Delivery Details'!$B:$B,$A15&AD$1,'[1]Expenes- Delivery Details'!$E:$E) -> 0 | AE15: =SUMIF('[1]Expenes- Delivery Details'!$B:$B,$A15&AE$1,'[1]Expenes- Delivery Details'!$E:$E) -> 0 | AF15: =SUMIF('[1]Expenes- Delivery Details'!$B:$B,$A15&AF$1,'[1]Expenes- Delivery Details'!$E:$E) -> 0 | AG15: =SUMIF('[1]Expenes- Delivery Details'!$B:$B,$A15&AG$1,'[1]Expenes- Delivery Details'!$E:$E) -> 0 | AL15: =U15+AD15+AK15+AE15+AB15 -> 149.29 | AM15: =R15-AL15 -> 202.91
A16: 46218 | B16: =VLOOKUP($A:$A,'[1]July26- Sales'!$A:$AA,3,0) -> 154.9 | C16: =VLOOKUP($A:$A,'[1]July26- Sales'!$A:$AQ,30,0) -> 174.3 | D16: =VLOOKUP($A:$A,'[1]July26- Sales'!$A:$AA,15,0) -> 968.8 | E16: =VLOOKUP($A:$A,'[1]July26- Sales'!$A:$AA,12,0) -> 60 | F16: =VLOOKUP($A:$A,'[1]July26- Sales'!$A:$AA,11,0) -> 0 | G16: =VLOOKUP($A:$A,'[1]July26- Sales'!$A:$AQ,30,0) -> 174.3 | I16: =VLOOKUP($A:$A,'[1]July26- Sales'!$A:$AA,10,0) -> 0 | J16: =VLOOKUP($A:$A,'[1]July26- Sales'!$A:$AA,9,0) -> 0 | K16: =VLOOKUP($A:$A,'[1]July26- Sales'!$A:$AA,11,0) -> 0 | L16: =VLOOKUP($A:$A,'[1]July26- Sales'!$A:$AA,4,0) -> 0 | M16: =VLOOKUP($A:$A,'[1]July26- Sales'!$A:$AA,5,0) -> 0 | N16: =VLOOKUP($A:$A,'[1]July26- Sales'!$A:$AA,6,0) -> 0 | O16: =VLOOKUP($A:$A,'[1]July26- Sales'!$A:$AA,7,0) -> 0 | P16: =VLOOKUP($A:$A,'[1]July26- Sales'!$A:$AA,8,0) -> 0 | R16: =B16+F16+G16-P16 -> 329.2 | S16: =SUM(B16:D16) -> 1298 | T16: =R16-S16 -> -968.8 | U16: =(SUMIF('[1]Expenes- Delivery Details'!$C:$C,A:A,'[1]Expenes- Delivery Details'!$E:$E))-AD16-AE16-AF16 -> 879.7 | V16: =SUMIF('[1]Expenes- Delivery Details'!$A:$A,$A16&V$1,'[1]Expenes- Delivery Details'!$E:$E) -> 272.5 | W16: =SUMIF('[1]Expenes- Delivery Details'!$A:$A,$A16&W$1,'[1]Expenes- Delivery Details'!$E:$E) -> 47.5 | X16: =SUMIF('[1]Expenes- Delivery Details'!$A:$A,$A16&X$1,'[1]Expenes- Delivery Details'!$E:$E) -> 0 | Y16: =SUMIF('[1]Expenes- Delivery Details'!$A:$A,$A16&Y$1,'[1]Expenes- Delivery Details'!$E:$E) -> 0 | Z16: =SUMIF('[1]Expenes- Delivery Details'!$A:$A,$A16&Z$1,'[1]Expenes- Delivery Details'!$E:$E) -> 559.7 | AA16: =SUMIF('[1]Expenes- Delivery Details'!$A:$A,$A16&AA$1,'[1]Expenes- Delivery Details'!$E:$E) -> 0 | AC16: =SUM(V16:AB16)-AF16 -> 879.7 | AD16: =SUMIF('[1]Expenes- Delivery Details'!$B:$B,$A16&AD$1,'[1]Expenes- Delivery Details'!$E:$E) -> 0 | AE16: =SUMIF('[1]Expenes- Delivery Details'!$B:$B,$A16&AE$1,'[1]Expenes- Delivery Details'!$E:$E) -> 0 | AF16: =SUMIF('[1]Expenes- Delivery Details'!$B:$B,$A16&AF$1,'[1]Expenes- Delivery Details'!$E:$E) -> 0 | AG16: =SUMIF('[1]Expenes- Delivery Details'!$B:$B,$A16&AG$1,'[1]Expenes- Delivery Details'!$E:$E) -> 272.5 | AL16: =U16+AD16+AK16+AE16+AB16 -> 879.7 | AM16: =R16-AL16 -> -550.5
A17: 46219 | B17: =VLOOKUP($A:$A,'[1]July26- Sales'!$A:$AA,3,0) -> 119 | C17: =VLOOKUP($A:$A,'[1]July26- Sales'!$A:$AQ,30,0) -> 244.7 | D17: =VLOOKUP($A:$A,'[1]July26- Sales'!$A:$AA,15,0) -> 1009.9 | E17: =VLOOKUP($A:$A,'[1]July26- Sales'!$A:$AA,12,0) -> 74 | F17: =VLOOKUP($A:$A,'[1]July26- Sales'!$A:$AA,11,0) -> 0 | G17: =VLOOKUP($A:$A,'[1]July26- Sales'!$A:$AQ,30,0) -> 244.7 | I17: =VLOOKUP($A:$A,'[1]July26- Sales'!$A:$AA,10,0) -> 0 | J17: =VLOOKUP($A:$A,'[1]July26- Sales'!$A:$AA,9,0) -> 0 | K17: =VLOOKUP($A:$A,'[1]July26- Sales'!$A:$AA,11,0) -> 0 | L17: =VLOOKUP($A:$A,'[1]July26- Sales'!$A:$AA,4,0) -> 0 | M17: =VLOOKUP($A:$A,'[1]July26- Sales'!$A:$AA,5,0) -> 0 | N17: =VLOOKUP($A:$A,'[1]July26- Sales'!$A:$AA,6,0) -> 0 | O17: =VLOOKUP($A:$A,'[1]July26- Sales'!$A:$AA,7,0) -> 0 | P17: =VLOOKUP($A:$A,'[1]July26- Sales'!$A:$AA,8,0) -> 0 | R17: =B17+F17+G17-P17 -> 363.7 | S17: =SUM(B17:D17) -> 1373.6 | T17: =R17-S17 -> -1009.9 | U17: =(SUMIF('[1]Expenes- Delivery Details'!$C:$C,A:A,'[1]Expenes- Delivery Details'!$E:$E))-AD17-AE17-AF17 -> 674.13 | V17: =SUMIF('[1]Expenes- Delivery Details'!$A:$A,$A17&V$1,'[1]Expenes- Delivery Details'!$E:$E) -> 3780 | W17: =SUMIF('[1]Expenes- Delivery Details'!$A:$A,$A17&W$1,'[1]Expenes- Delivery Details'!$E:$E) -> 104.79 | X17: =SUMIF('[1]Expenes- Delivery Details'!$A:$A,$A17&X$1,'[1]Expenes- Delivery Details'!$E:$E) -> 0 | Y17: =SUMIF('[1]Expenes- Delivery Details'!$A:$A,$A17&Y$1,'[1]Expenes- Delivery Details'!$E:$E) -> 0 | Z17: =SUMIF('[1]Expenes- Delivery Details'!$A:$A,$A17&Z$1,'[1]Expenes- Delivery Details'!$E:$E) -> 389.34 | AA17: =SUMIF('[1]Expenes- Delivery Details'!$A:$A,$A17&AA$1,'[1]Expenes- Delivery Details'!$E:$E) -> 0 | AC17: =SUM(V17:AB17)-AF17 -> 674.13 | AD17: =SUMIF('[1]Expenes- Delivery Details'!$B:$B,$A17&AD$1,'[1]Expenes- Delivery Details'!$E:$E) -> 0 | AE17: =SUMIF('[1]Expenes- Delivery Details'!$B:$B,$A17&AE$1,'[1]Expenes- Delivery Details'!$E:$E) -> 0 | AF17: =SUMIF('[1]Expenes- Delivery Details'!$B:$B,$A17&AF$1,'[1]Expenes- Delivery Details'!$E:$E) -> 3600 | AG17: =SUMIF('[1]Expenes- Delivery Details'!$B:$B,$A17&AG$1,'[1]Expenes- Delivery Details'!$E:$E) -> 180 | AL17: =U17+AD17+AK17+AE17+AB17 -> 674.13 | AM17: =R17-AL17 -> -310.43
A18: 46220 | B18: =VLOOKUP($A:$A,'[1]July26- Sales'!$A:$AA,3,0) -> 98.8 | C18: =VLOOKUP($A:$A,'[1]July26- Sales'!$A:$AQ,30,0) -> 810.1 | D18: =VLOOKUP($A:$A,'[1]July26- Sales'!$A:$AA,15,0) -> 1130.2 | E18: =VLOOKUP($A:$A,'[1]July26- Sales'!$A:$AA,12,0) -> 810.1 | F18: =VLOOKUP($A:$A,'[1]July26- Sales'!$A:$AA,11,0) -> 0 | G18: =VLOOKUP($A:$A,'[1]July26- Sales'!$A:$AQ,30,0) -> 810.1 | I18: =VLOOKUP($A:$A,'[1]July26- Sales'!$A:$AA,10,0) -> 0 | J18: =VLOOKUP($A:$A,'[1]July26- Sales'!$A:$AA,9,0) -> 0 | K18: =VLOOKUP($A:$A,'[1]July26- Sales'!$A:$AA,11,0) -> 0 | L18: =VLOOKUP($A:$A,'[1]July26- Sales'!$A:$AA,4,0) -> 0 | M18: =VLOOKUP($A:$A,'[1]July26- Sales'!$A:$AA,5,0) -> 0 | N18: =VLOOKUP($A:$A,'[1]July26- Sales'!$A:$AA,6,0) -> 0 | O18: =VLOOKUP($A:$A,'[1]July26- Sales'!$A:$AA,7,0) -> 0 | P18: =VLOOKUP($A:$A,'[1]July26- Sales'!$A:$AA,8,0) -> 0 | R18: =B18+F18+G18-P18 -> 908.9 | S18: =SUM(B18:D18) -> 2039.1 | T18: =R18-S18 -> -1130.2 | U18: =(SUMIF('[1]Expenes- Delivery Details'!$C:$C,A:A,'[1]Expenes- Delivery Details'!$E:$E))-AD18-AE18-AF18 -> 444.88 | V18: =SUMIF('[1]Expenes- Delivery Details'!$A:$A,$A18&V$1,'[1]Expenes- Delivery Details'!$E:$E) -> 0 | W18: =SUMIF('[1]Expenes- Delivery Details'!$A:$A,$A18&W$1,'[1]Expenes- Delivery Details'!$E:$E) -> 444.88 | X18: =SUMIF('[1]Expenes- Delivery Details'!$A:$A,$A18&X$1,'[1]Expenes- Delivery Details'!$E:$E) -> 0 | Y18: =SUMIF('[1]Expenes- Delivery Details'!$A:$A,$A18&Y$1,'[1]Expenes- Delivery Details'!$E:$E) -> 0 | Z18: =SUMIF('[1]Expenes- Delivery Details'!$A:$A,$A18&Z$1,'[1]Expenes- Delivery Details'!$E:$E) -> 0 | AA18: =SUMIF('[1]Expenes- Delivery Details'!$A:$A,$A18&AA$1,'[1]Expenes- Delivery Details'!$E:$E) -> 0 | AC18: =SUM(V18:AB18)-AF18 -> 444.88 | AD18: =SUMIF('[1]Expenes- Delivery Details'!$B:$B,$A18&AD$1,'[1]Expenes- Delivery Details'!$E:$E) -> 0 | AE18: =SUMIF('[1]Expenes- Delivery Details'!$B:$B,$A18&AE$1,'[1]Expenes- Delivery Details'!$E:$E) -> 0 | AF18: =SUMIF('[1]Expenes- Delivery Details'!$B:$B,$A18&AF$1,'[1]Expenes- Delivery Details'!$E:$E) -> 0 | AG18: =SUMIF('[1]Expenes- Delivery Details'!$B:$B,$A18&AG$1,'[1]Expenes- Delivery Details'!$E:$E) -> 0 | AL18: =U18+AD18+AK18+AE18+AB18 -> 444.88 | AM18: =R18-AL18 -> 464.02
A19: 46221 | B19: =VLOOKUP($A:$A,'[1]July26- Sales'!$A:$AA,3,0) -> 20 | C19: =VLOOKUP($A:$A,'[1]July26- Sales'!$A:$AQ,30,0) -> 44.1 | D19: =VLOOKUP($A:$A,'[1]July26- Sales'!$A:$AA,15,0) -> 104.4 | E19: =VLOOKUP($A:$A,'[1]July26- Sales'!$A:$AA,12,0) -> 44.1 | F19: =VLOOKUP($A:$A,'[1]July26- Sales'!$A:$AA,11,0) -> 0 | G19: =VLOOKUP($A:$A,'[1]July26- Sales'!$A:$AQ,30,0) -> 44.1 | I19: =VLOOKUP($A:$A,'[1]July26- Sales'!$A:$AA,10,0) -> 0 | J19: =VLOOKUP($A:$A,'[1]July26- Sales'!$A:$AA,9,0) -> 0 | K19: =VLOOKUP($A:$A,'[1]July26- Sales'!$A:$AA,11,0) -> 0 | L19: =VLOOKUP($A:$A,'[1]July26- Sales'!$A:$AA,4,0) -> 0 | M19: =VLOOKUP($A:$A,'[1]July26- Sales'!$A:$AA,5,0) -> 0 | N19: =VLOOKUP($A:$A,'[1]July26- Sales'!$A:$AA,6,0) -> 0 | O19: =VLOOKUP($A:$A,'[1]July26- Sales'!$A:$AA,7,0) -> 0 | P19: =VLOOKUP($A:$A,'[1]July26- Sales'!$A:$AA,8,0) -> 0 | R19: =B19+F19+G19-P19 -> 64.1 | S19: =SUM(B19:D19) -> 168.5 | T19: =R19-S19 -> -104.4 | U19: =(SUMIF('[1]Expenes- Delivery Details'!$C:$C,A:A,'[1]Expenes- Delivery Details'!$E:$E))-AD19-AE19-AF19 -> 218 | V19: =SUMIF('[1]Expenes- Delivery Details'!$A:$A,$A19&V$1,'[1]Expenes- Delivery Details'!$E:$E) -> 0 | W19: =SUMIF('[1]Expenes- Delivery Details'!$A:$A,$A19&W$1,'[1]Expenes- Delivery Details'!$E:$E) -> 0 | X19: =SUMIF('[1]Expenes- Delivery Details'!$A:$A,$A19&X$1,'[1]Expenes- Delivery Details'!$E:$E) -> 0 | Y19: =SUMIF('[1]Expenes- Delivery Details'!$A:$A,$A19&Y$1,'[1]Expenes- Delivery Details'!$E:$E) -> 0 | Z19: =SUMIF('[1]Expenes- Delivery Details'!$A:$A,$A19&Z$1,'[1]Expenes- Delivery Details'!$E:$E) -> 218 | AA19: =SUMIF('[1]Expenes- Delivery Details'!$A:$A,$A19&AA$1,'[1]Expenes- Delivery Details'!$E:$E) -> 0 | AC19: =SUM(V19:AB19)-AF19 -> 218 | AD19: =SUMIF('[1]Expenes- Delivery Details'!$B:$B,$A19&AD$1,'[1]Expenes- Delivery Details'!$E:$E) -> 0 | AE19: =SUMIF('[1]Expenes- Delivery Details'!$B:$B,$A19&AE$1,'[1]Expenes- Delivery Details'!$E:$E) -> 0 | AF19: =SUMIF('[1]Expenes- Delivery Details'!$B:$B,$A19&AF$1,'[1]Expenes- Delivery Details'!$E:$E) -> 0 | AG19: =SUMIF('[1]Expenes- Delivery Details'!$B:$B,$A19&AG$1,'[1]Expenes- Delivery Details'!$E:$E) -> 0 | AL19: =U19+AD19+AK19+AE19+AB19 -> 218 | AM19: =R19-AL19 -> -153.9
... A32: 46234 | B32: =VLOOKUP($A:$A,'[1]July26- Sales'!$A:$AA,3,0) -> 176.8 | C32: =VLOOKUP($A:$A,'[1]July26- Sales'!$A:$AQ,30,0) -> 0 | D32: =VLOOKUP($A:$A,'[1]July26- Sales'!$A:$AA,15,0) -> 453.9 | E32: =VLOOKUP($A:$A,'[1]July26- Sales'!$A:$AA,12,0) -> 0 | F32: =VLOOKUP($A:$A,'[1]July26- Sales'!$A:$AA,11,0) -> 0 | G32: =VLOOKUP($A:$A,'[1]July26- Sales'!$A:$AQ,30,0) -> 0 | I32: =VLOOKUP($A:$A,'[1]July26- Sales'!$A:$AA,10,0) -> 51.2 | J32: =VLOOKUP($A:$A,'[1]July26- Sales'!$A:$AA,9,0) -> 0 | K32: =VLOOKUP($A:$A,'[1]July26- Sales'!$A:$AA,11,0) -> 0 | L32: =VLOOKUP($A:$A,'[1]July26- Sales'!$A:$AA,4,0) -> 65.7 | M32: =VLOOKUP($A:$A,'[1]July26- Sales'!$A:$AA,5,0) -> 0 | N32: =VLOOKUP($A:$A,'[1]July26- Sales'!$A:$AA,6,0) -> 0 | O32: =VLOOKUP($A:$A,'[1]July26- Sales'!$A:$AA,7,0) -> 1816.6 | P32: =VLOOKUP($A:$A,'[1]July26- Sales'!$A:$AA,8,0) -> 529.4 | R32: =B32+F32+G32-P32 -> -352.6 | S32: =SUM(B32:D32) -> 630.7 | T32: =R32-S32 -> -983.3 | U32: =(SUMIF('[1]Expenes- Delivery Details'!$C:$C,A:A,'[1]Expenes- Delivery Details'!$E:$E))-AD32-AE32-AF32 -> 2835.88 | V32: =SUMIF('[1]Expenes- Delivery Details'!$A:$A,$A32&V$1,'[1]Expenes- Delivery Details'!$E:$E) -> 0 | W32: =SUMIF('[1]Expenes- Delivery Details'!$A:$A,$A32&W$1,'[1]Expenes- Delivery Details'!$E:$E) -> 74.12 | X32: =SUMIF('[1]Expenes- Delivery Details'!$A:$A,$A32&X$1,'[1]Expenes- Delivery Details'!$E:$E) -> 0 | Y32: =SUMIF('[1]Expenes- Delivery Details'!$A:$A,$A32&Y$1,'[1]Expenes- Delivery Details'!$E:$E) -> 0 | Z32: =SUMIF('[1]Expenes- Delivery Details'!$A:$A,$A32&Z$1,'[1]Expenes- Delivery Details'!$E:$E) -> 1156.36 | AA32: =SUMIF('[1]Expenes- Delivery Details'!$A:$A,$A32&AA$1,'[1]Expenes- Delivery Details'!$E:$E) -> 0 | AC32: =SUM(V32:AB32)-AF32 -> 1230.48 | AD32: =SUMIF('[1]Expenes- Delivery Details'!$B:$B,$A32&AD$1,'[1]Expenes- Delivery Details'!$E:$E) -> 0 | AE32: =SUMIF('[1]Expenes- Delivery Details'!$B:$B,$A32&AE$1,'[1]Expenes- Delivery Details'!$E:$E) -> 0 | AF32: =SUMIF('[1]Expenes- Delivery Details'!$B:$B,$A32&AF$1,'[1]Expenes- Delivery Details'!$E:$E) -> 0 | AG32: =SUMIF('[1]Expenes- Delivery Details'!$B:$B,$A32&AG$1,'[1]Expenes- Delivery Details'!$E:$E) -> 0 | AL32: =U32+AD32+AK32+AE32+AB32 -> 2835.88 | AM32: =R32-AL32 -> -3188.48
A33: Total | B33: =SUM(B2:B32) -> 2808.2 | C33: =SUM(C2:C32) -> 5428.1 | D33: =SUM(D2:D32) -> 21763.78 | E33: =SUM(E2:E32) -> 3100 | F33: =SUM(F2:F32) -> 10.9 | G33: =SUM(G2:G32) -> 5428.1 | H33: =SUM(H2:H32) -> #N/A | I33: =SUM(I2:I32) -> 83.2 | ... AL33: =SUM(AL2:AL32) -> 30005.96 | AM33: =R33-AL33 -> -23149.86
A34: Service Fee | B34: =B33/100*0 -> 0 | C34: =C33/100*0 -> 0 | D34: =D33/100*0 -> 0 | E34: =E33/100*0 -> 0 | F34: =F33/100*0.7 -> 0.0763 | G34: =G33/100*0.2 -> 10.8562 | H34: =H33/100*37 -> #N/A | I34: =I33/100*37 -> 30.784 | J34: =J33/100*37 -> 5.92 | K34: =K33/100*37 -> 4.033 | L34: =L33/100*2.5 -> 9.7655 | M34: =M33/100*2.5 -> 3.9725 | N34: =N33/100*0 -> 0 | O34: =O33/100*0 -> 0 | P34: =P33/100*0 -> 0 | Q34: =Q33/100*0 -> 0 | R34: =B34+E34+F34+G34-P34 -> 10.9325
A35: Grand Total | B35: =SUM(B33-B34) -> 2808.2 | C35: =SUM(C33-C34) -> 5428.1 | D35: =SUM(D33-D34) -> 21763.78 | E35: =SUM(E33-E34) -> 3100 | F35: =SUM(F33-F34) -> 10.8237 | G35: =SUM(G33-G34) -> 5417.2438 | H35: =SUM(H33-H34) -> #N/A | I35: =SUM(I33-I34) -> 52.416 | ... Q35: =SUM(Q33-Q34) -> 0 | R35: =R33-R34 -> 6845.1675 | S35: =SUM(S33-S34) -> 30000.08 | T35: =SUM(T33-T34) -> -23143.98 | U35: =SUM(U33-U34) -> 19031.58 | V35: =SUM(V33-V34) -> 28830.45 | W35: =SUM(W33-W34) -> 3585.3 | X35: =SUM(X33-X34) -> 0 | Y35: =SUM(Y33-Y34) -> 0 | Z35: =SUM(Z33-Z34) -> 8621.34 | AA35: =SUM(AA33-AA34) -> 0 | AC35: =SUM(AC33-AC34) -> 27037.09 | AD35: =SUM(AD33-AD34) -> 5864 | AE35: =SUM(AE33-AE34) -> 5110.38 | AF35: =SUM(AF33-AF34) -> 14000 | AG35: =SUM(AG33-AG34) -> 786.2 | AH35: =SUM(AH33-AH34) -> 0 | AI35: =SUM(AI33-AI34) -> 0 | AJ35: =SUM(AJ33-AJ34) -> 0 | ... AL35: =SUM(AL33-AL34) -> 30005.96 | AM35: =R35-AL35 -> -23160.793
U36: =U33/R33 -> 2.7758609 | AD36: =AD33/R33 -> 0.85529674 | AE36: =AE33/R33 -> 0.74537711 | AM36: =AM35/R35 -> -3.3835246
U37: 15124 | V37: WITHOUT LOAN AND STAFF EXP | AL37: =GETPIVOTDATA("Amount",'[1]Expenes- Delivery Details'!$J$1) -> #REF! | AM37: =R35-AL37 -> #REF!
U38: =U37/R33 -> 2.2059188
U39: 13736 | V39: WITHOUT BANJARA
U40: =U39/R33 -> 2.0034714

Sheet June26
A1: DATE | B1: CASH | C1: Credit Cards | D1: PayNow-Qashier | E1: OCBC-PayNow | F1: Qashier | G1: Adyen | H1: AMEX | I1: FOOD PANDA | J1: GRAB FOOD | K1: PAYPAL | L1: NETS | M1: CHEQUE | N1: BANJARA SALES | O1: MICS | P1: SALES - Received | Q1: POS SALES | R1: Difference | S1: SUPPLIERS | T1: OCBC Account | U1: Petty Cash | V1: Sowji Cash | W1: Madhav DBS | X1: Un-Paid | Y1: Counter Cash | Z1: Banjara Samosa | AA1: Total Supplies Expenses | AB1: SALARIES | AC1: Rent | AD1: Loan | AE1: Assets | AF1: CPF / LOAN | AG1: SINGTEL / STAR HUB | AH1: MICS | AI1: MICS | AJ1: EXPENSES | AK1: PROFIT
A2: 46174 | B2: =VLOOKUP($A:$A,'[1]June26- Sales'!$A:$Z,3,0) -> 0 | C2: =VLOOKUP($A:$A,'[1]June26- Sales'!$A:$Z,18,0) -> 0 | D2: =VLOOKUP($A:$A,'[1]June26- Sales'!$A:$Z,8,0) -> 0 | E2: =VLOOKUP($A:$A,'[1]June26- Sales'!$A:$Z,12,0) -> 0 | F2: =VLOOKUP($A:$A,'[1]June26- Sales'!$A:$Z,11,0) -> 0 | G2: =VLOOKUP($A:$A,'[1]June26- Sales'!$A:$Z,18,0) -> 0 | H2: =VLOOKUP($A:$A,'[1]June26- Sales'!$A:$Z,18,0) -> 0 | P2: =B2+F2+G2-N2 -> 0 | Q2: =SUM(B2:D2) -> 0 | R2: =P2-Q2 -> 0 | S2: =(SUMIF('[1]Expenes- Delivery Details'!$C:$C,A:A,'[1]Expenes- Delivery Details'!$E:$E))-AB2-AC2-AD2 -> 0 | T2: =SUMIF('[1]Expenes- Delivery Details'!$A:$A,$A2&T$1,'[1]Expenes- Delivery Details'!$E:$E) -> 0 | U2: =SUMIF('[1]Expenes- Delivery Details'!$A:$A,$A2&U$1,'[1]Expenes- Delivery Details'!$E:$E) -> 0 | V2: =SUMIF('[1]Expenes- Delivery Details'!$A:$A,$A2&V$1,'[1]Expenes- Delivery Details'!$E:$E) -> 0 | W2: =SUMIF('[1]Expenes- Delivery Details'!$A:$A,$A2&W$1,'[1]Expenes- Delivery Details'!$E:$E) -> 0 | X2: =SUMIF('[1]Expenes- Delivery Details'!$A:$A,$A2&X$1,'[1]Expenes- Delivery Details'!$E:$E) -> 0 | Y2: =SUMIF('[1]Expenes- Delivery Details'!$A:$A,$A2&Y$1,'[1]Expenes- Delivery Details'!$E:$E) -> 0 | AA2: =SUM(T2:Z2)-AD2 -> 0 | AB2: =SUMIF('[1]Expenes- Delivery Details'!$B:$B,$A2&AB$1,'[1]Expenes- Delivery Details'!$E:$E) -> 0 | AC2: =SUMIF('[1]Expenes- Delivery Details'!$B:$B,$A2&AC$1,'[1]Expenes- Delivery Details'!$E:$E) -> 0 | AD2: =SUMIF('[1]Expenes- Delivery Details'!$B:$B,$A2&AD$1,'[1]Expenes- Delivery Details'!$E:$E) -> 0 | AE2: =SUMIF('[1]Expenes- Delivery Details'!$B:$B,$A2&AE$1,'[1]Expenes- Delivery Details'!$E:$E) -> 0 | AJ2: =S2+AB2+AI2+AC2+Z2 -> 0 | AK2: =P2-AJ2 -> 0
A3: 46175 | B3: =VLOOKUP($A:$A,'[1]June26- Sales'!$A:$Z,3,0) -> 154.5 | C3: =VLOOKUP($A:$A,'[1]June26- Sales'!$A:$Z,18,0) -> 53.1 | D3: =VLOOKUP($A:$A,'[1]June26- Sales'!$A:$Z,8,0) -> 977.1 | E3: =VLOOKUP($A:$A,'[1]June26- Sales'!$A:$Z,12,0) -> 0 | F3: =VLOOKUP($A:$A,'[1]June26- Sales'!$A:$Z,11,0) -> 1036.7 | G3: =VLOOKUP($A:$A,'[1]June26- Sales'!$A:$Z,18,0) -> 53.1 | P3: =B3+F3+G3-N3 -> 1244.3 | Q3: =SUM(B3:D3) -> 1184.7 | R3: =P3-Q3 -> 59.6 | S3: =(SUMIF('[1]Expenes- Delivery Details'!$C:$C,A:A,'[1]Expenes- Delivery Details'!$E:$E))-AB3-AC3-AD3 -> 424.16 | T3: =SUMIF('[1]Expenes- Delivery Details'!$A:$A,$A3&T$1,'[1]Expenes- Delivery Details'!$E:$E) -> 10726.98 | U3: =SUMIF('[1]Expenes- Delivery Details'!$A:$A,$A3&U$1,'[1]Expenes- Delivery Details'!$E:$E) -> 148.34 | V3: =SUMIF('[1]Expenes- Delivery Details'!$A:$A,$A3&V$1,'[1]Expenes- Delivery Details'!$E:$E) -> 0 | W3: =SUMIF('[1]Expenes- Delivery Details'!$A:$A,$A3&W$1,'[1]Expenes- Delivery Details'!$E:$E) -> 0 | X3: =SUMIF('[1]Expenes- Delivery Details'!$A:$A,$A3&X$1,'[1]Expenes- Delivery Details'!$E:$E) -> 0 | Y3: =SUMIF('[1]Expenes- Delivery Details'!$A:$A,$A3&Y$1,'[1]Expenes- Delivery Details'!$E:$E) -> 0 | AA3: =SUM(T3:Z3)-AD3 -> 10875.32 | AB3: =SUMIF('[1]Expenes- Delivery Details'!$B:$B,$A3&AB$1,'[1]Expenes- Delivery Details'!$E:$E) -> 5400 | AC3: =SUMIF('[1]Expenes- Delivery Details'!$B:$B,$A3&AC$1,'[1]Expenes- Delivery Details'!$E:$E) -> 5051.16 | AD3: =SUMIF('[1]Expenes- Delivery Details'!$B:$B,$A3&AD$1,'[1]Expenes- Delivery Details'!$E:$E) -> 0 | AE3: =SUMIF('[1]Expenes- Delivery Details'!$B:$B,$A3&AE$1,'[1]Expenes- Delivery Details'!$E:$E) -> 0 | AJ3: =S3+AB3+AI3+AC3+Z3 -> 10875.32 | AK3: =P3-AJ3 -> -9631.02 | AQ3: OCBC Account
A4: 46176 | B4: =VLOOKUP($A:$A,'[1]June26- Sales'!$A:$Z,3,0) -> 238.1 | C4: =VLOOKUP($A:$A,'[1]June26- Sales'!$A:$Z,18,0) -> 225.3 | D4: =VLOOKUP($A:$A,'[1]June26- Sales'!$A:$Z,8,0) -> 983.7 | E4: =VLOOKUP($A:$A,'[1]June26- Sales'!$A:$Z,12,0) -> 0 | F4: =VLOOKUP($A:$A,'[1]June26- Sales'!$A:$Z,11,0) -> 1065.75 | G4: =VLOOKUP($A:$A,'[1]June26- Sales'!$A:$Z,18,0) -> 225.3 | P4: =B4+F4+G4-N4 -> 1529.15 | Q4: =SUM(B4:D4) -> 1447.1 | R4: =P4-Q4 -> 82.05 | S4: =(SUMIF('[1]Expenes- Delivery Details'!$C:$C,A:A,'[1]Expenes- Delivery Details'!$E:$E))-AB4-AC4-AD4 -> 541.95 | T4: =SUMIF('[1]Expenes- Delivery Details'!$A:$A,$A4&T$1,'[1]Expenes- Delivery Details'!$E:$E) -> 3111.62 | U4: =SUMIF('[1]Expenes- Delivery Details'!$A:$A,$A4&U$1,'[1]Expenes- Delivery Details'!$E:$E) -> 330.33 | V4: =SUMIF('[1]Expenes- Delivery Details'!$A:$A,$A4&V$1,'[1]Expenes- Delivery Details'!$E:$E) -> 0 | W4: =SUMIF('[1]Expenes- Delivery Details'!$A:$A,$A4&W$1,'[1]Expenes- Delivery Details'!$E:$E) -> 0 | X4: =SUMIF('[1]Expenes- Delivery Details'!$A:$A,$A4&X$1,'[1]Expenes- Delivery Details'!$E:$E) -> 0 | Y4: =SUMIF('[1]Expenes- Delivery Details'!$A:$A,$A4&Y$1,'[1]Expenes- Delivery Details'!$E:$E) -> 0 | AA4: =SUM(T4:Z4)-AD4 -> 1441.95 | AB4: =SUMIF('[1]Expenes- Delivery Details'!$B:$B,$A4&AB$1,'[1]Expenes- Delivery Details'!$E:$E) -> 900 | AC4: =SUMIF('[1]Expenes- Delivery Details'!$B:$B,$A4&AC$1,'[1]Expenes- Delivery Details'!$E:$E) -> 0 | AD4: =SUMIF('[1]Expenes- Delivery Details'!$B:$B,$A4&AD$1,'[1]Expenes- Delivery Details'!$E:$E) -> 2000 | AE4: =SUMIF('[1]Expenes- Delivery Details'!$B:$B,$A4&AE$1,'[1]Expenes- Delivery Details'!$E:$E) -> 100 | AJ4: =S4+AB4+AI4+AC4+Z4 -> 1441.95 | AK4: =P4-AJ4 -> 87.2 | AQ4: Petty Cash
A5: 46177 | B5: =VLOOKUP($A:$A,'[1]June26- Sales'!$A:$Z,3,0) -> 174.8 | C5: =VLOOKUP($A:$A,'[1]June26- Sales'!$A:$Z,18,0) -> 208 | D5: =VLOOKUP($A:$A,'[1]June26- Sales'!$A:$Z,8,0) -> 844.6 | E5: =VLOOKUP($A:$A,'[1]June26- Sales'!$A:$Z,12,0) -> 0 | F5: =VLOOKUP($A:$A,'[1]June26- Sales'!$A:$Z,11,0) -> 899.49 | G5: =VLOOKUP($A:$A,'[1]June26- Sales'!$A:$Z,18,0) -> 208 | P5: =B5+F5+G5-N5 -> 1282.29 | Q5: =SUM(B5:D5) -> 1227.4 | R5: =P5-Q5 -> 54.89 | S5: =(SUMIF('[1]Expenes- Delivery Details'!$C:$C,A:A,'[1]Expenes- Delivery Details'!$E:$E))-AB5-AC5-AD5 -> 177.19 | T5: =SUMIF('[1]Expenes- Delivery Details'!$A:$A,$A5&T$1,'[1]Expenes- Delivery Details'!$E:$E) -> 10 | U5: =SUMIF('[1]Expenes- Delivery Details'!$A:$A,$A5&U$1,'[1]Expenes- Delivery Details'!$E:$E) -> 167.19 | V5: =SUMIF('[1]Expenes- Delivery Details'!$A:$A,$A5&V$1,'[1]Expenes- Delivery Details'!$E:$E) -> 0 | W5: =SUMIF('[1]Expenes- Delivery Details'!$A:$A,$A5&W$1,'[1]Expenes- Delivery Details'!$E:$E) -> 0 | X5: =SUMIF('[1]Expenes- Delivery Details'!$A:$A,$A5&X$1,'[1]Expenes- Delivery Details'!$E:$E) -> 0 | Y5: =SUMIF('[1]Expenes- Delivery Details'!$A:$A,$A5&Y$1,'[1]Expenes- Delivery Details'!$E:$E) -> 0 | AA5: =SUM(T5:Z5)-AD5 -> 177.19 | AB5: =SUMIF('[1]Expenes- Delivery Details'!$B:$B,$A5&AB$1,'[1]Expenes- Delivery Details'!$E:$E) -> 0 | AC5: =SUMIF('[1]Expenes- Delivery Details'!$B:$B,$A5&AC$1,'[1]Expenes- Delivery Details'!$E:$E) -> 0 | AD5: =SUMIF('[1]Expenes- Delivery Details'!$B:$B,$A5&AD$1,'[1]Expenes- Delivery Details'!$E:$E) -> 0 | AE5: =SUMIF('[1]Expenes- Delivery Details'!$B:$B,$A5&AE$1,'[1]Expenes- Delivery Details'!$E:$E) -> 0 | AJ5: =S5+AB5+AI5+AC5+Z5 -> 177.19 | AK5: =P5-AJ5 -> 1105.1 | AQ5: Sowji Cash
A6: 46178 | B6: =VLOOKUP($A:$A,'[1]June26- Sales'!$A:$Z,3,0) -> 176.2 | C6: =VLOOKUP($A:$A,'[1]June26- Sales'!$A:$Z,18,0) -> 623.9 | D6: =VLOOKUP($A:$A,'[1]June26- Sales'!$A:$Z,8,0) -> 1256.8 | E6: =VLOOKUP($A:$A,'[1]June26- Sales'!$A:$Z,12,0) -> 0 | F6: =VLOOKUP($A:$A,'[1]June26- Sales'!$A:$Z,11,0) -> 1407.25 | G6: =VLOOKUP($A:$A,'[1]June26- Sales'!$A:$Z,18,0) -> 623.9 | P6: =B6+F6+G6-N6 -> 2207.35 | Q6: =SUM(B6:D6) -> 2056.9 | R6: =P6-Q6 -> 150.45 | S6: =(SUMIF('[1]Expenes- Delivery Details'!$C:$C,A:A,'[1]Expenes- Delivery Details'!$E:$E))-AB6-AC6-AD6 -> 57.57 | T6: =SUMIF('[1]Expenes- Delivery Details'!$A:$A,$A6&T$1,'[1]Expenes- Delivery Details'!$E:$E) -> 24.35 | U6: =SUMIF('[1]Expenes- Delivery Details'!$A:$A,$A6&U$1,'[1]Expenes- Delivery Details'!$E:$E) -> 33.22 | V6: =SUMIF('[1]Expenes- Delivery Details'!$A:$A,$A6&V$1,'[1]Expenes- Delivery Details'!$E:$E) -> 0 | W6: =SUMIF('[1]Expenes- Delivery Details'!$A:$A,$A6&W$1,'[1]Expenes- Delivery Details'!$E:$E) -> 0 | X6: =SUMIF('[1]Expenes- Delivery Details'!$A:$A,$A6&X$1,'[1]Expenes- Delivery Details'!$E:$E) -> 0 | Y6: =SUMIF('[1]Expenes- Delivery Details'!$A:$A,$A6&Y$1,'[1]Expenes- Delivery Details'!$E:$E) -> 0 | AA6: =SUM(T6:Z6)-AD6 -> 57.57 | AB6: =SUMIF('[1]Expenes- Delivery Details'!$B:$B,$A6&AB$1,'[1]Expenes- Delivery Details'!$E:$E) -> 0 | AC6: =SUMIF('[1]Expenes- Delivery Details'!$B:$B,$A6&AC$1,'[1]Expenes- Delivery Details'!$E:$E) -> 0 | AD6: =SUMIF('[1]Expenes- Delivery Details'!$B:$B,$A6&AD$1,'[1]Expenes- Delivery Details'!$E:$E) -> 0 | AE6: =SUMIF('[1]Expenes- Delivery Details'!$B:$B,$A6&AE$1,'[1]Expenes- Delivery Details'!$E:$E) -> 24.35 | AJ6: =S6+AB6+AI6+AC6+Z6 -> 57.57 | AK6: =P6-AJ6 -> 2149.78 | AQ6: Un-Paid
A7: 46179 | B7: =VLOOKUP($A:$A,'[1]June26- Sales'!$A:$Z,3,0) -> 11.9 | C7: =VLOOKUP($A:$A,'[1]June26- Sales'!$A:$Z,18,0) -> 0 | D7: =VLOOKUP($A:$A,'[1]June26- Sales'!$A:$Z,8,0) -> 111.2 | E7: =VLOOKUP($A:$A,'[1]June26- Sales'!$A:$Z,12,0) -> 0 | F7: =VLOOKUP($A:$A,'[1]June26- Sales'!$A:$Z,11,0) -> 113.8 | G7: =VLOOKUP($A:$A,'[1]June26- Sales'!$A:$Z,18,0) -> 0 | P7: =B7+F7+G7-N7 -> 125.7 | Q7: =SUM(B7:D7) -> 123.1 | R7: =P7-Q7 -> 2.6 | S7: =(SUMIF('[1]Expenes- Delivery Details'!$C:$C,A:A,'[1]Expenes- Delivery Details'!$E:$E))-AB7-AC7-AD7 -> 125.6 | T7: =SUMIF('[1]Expenes- Delivery Details'!$A:$A,$A7&T$1,'[1]Expenes- Delivery Details'!$E:$E) -> 116 | U7: =SUMIF('[1]Expenes- Delivery Details'!$A:$A,$A7&U$1,'[1]Expenes- Delivery Details'!$E:$E) -> 9.6 | V7: =SUMIF('[1]Expenes- Delivery Details'!$A:$A,$A7&V$1,'[1]Expenes- Delivery Details'!$E:$E) -> 0 | W7: =SUMIF('[1]Expenes- Delivery Details'!$A:$A,$A7&W$1,'[1]Expenes- Delivery Details'!$E:$E) -> 0 | X7: =SUMIF('[1]Expenes- Delivery Details'!$A:$A,$A7&X$1,'[1]Expenes- Delivery Details'!$E:$E) -> 0 | Y7: =SUMIF('[1]Expenes- Delivery Details'!$A:$A,$A7&Y$1,'[1]Expenes- Delivery Details'!$E:$E) -> 0 | AA7: =SUM(T7:Z7)-AD7 -> 125.6 | AB7: =SUMIF('[1]Expenes- Delivery Details'!$B:$B,$A7&AB$1,'[1]Expenes- Delivery Details'!$E:$E) -> 0 | AC7: =SUMIF('[1]Expenes- Delivery Details'!$B:$B,$A7&AC$1,'[1]Expenes- Delivery Details'!$E:$E) -> 0 | AD7: =SUMIF('[1]Expenes- Delivery Details'!$B:$B,$A7&AD$1,'[1]Expenes- Delivery Details'!$E:$E) -> 0 | AE7: =SUMIF('[1]Expenes- Delivery Details'!$B:$B,$A7&AE$1,'[1]Expenes- Delivery Details'!$E:$E) -> 116 | AJ7: =S7+AB7+AI7+AC7+Z7 -> 125.6 | AK7: =P7-AJ7 -> 0.1 | AQ7: Counter Cash
A8: 46180 | B8: =VLOOKUP($A:$A,'[1]June26- Sales'!$A:$Z,3,0) -> 34.05 | C8: =VLOOKUP($A:$A,'[1]June26- Sales'!$A:$Z,18,0) -> 180.3 | D8: =VLOOKUP($A:$A,'[1]June26- Sales'!$A:$Z,8,0) -> 261.1 | E8: =VLOOKUP($A:$A,'[1]June26- Sales'!$A:$Z,12,0) -> 0 | F8: =VLOOKUP($A:$A,'[1]June26- Sales'!$A:$Z,11,0) -> 298 | G8: =VLOOKUP($A:$A,'[1]June26- Sales'!$A:$Z,18,0) -> 180.3 | P8: =B8+F8+G8-N8 -> 512.35 | Q8: =SUM(B8:D8) -> 475.45 | R8: =P8-Q8 -> 36.9 | S8: =(SUMIF('[1]Expenes- Delivery Details'!$C:$C,A:A,'[1]Expenes- Delivery Details'!$E:$E))-AB8-AC8-AD8 -> 43.27 | T8: =SUMIF('[1]Expenes- Delivery Details'!$A:$A,$A8&T$1,'[1]Expenes- Delivery Details'!$E:$E) -> 0 | U8: =SUMIF('[1]Expenes- Delivery Details'!$A:$A,$A8&U$1,'[1]Expenes- Delivery Details'!$E:$E) -> 43.27 | V8: =SUMIF('[1]Expenes- Delivery Details'!$A:$A,$A8&V$1,'[1]Expenes- Delivery Details'!$E:$E) -> 0 | W8: =SUMIF('[1]Expenes- Delivery Details'!$A:$A,$A8&W$1,'[1]Expenes- Delivery Details'!$E:$E) -> 0 | X8: =SUMIF('[1]Expenes- Delivery Details'!$A:$A,$A8&X$1,'[1]Expenes- Delivery Details'!$E:$E) -> 0 | Y8: =SUMIF('[1]Expenes- Delivery Details'!$A:$A,$A8&Y$1,'[1]Expenes- Delivery Details'!$E:$E) -> 0 | AA8: =SUM(T8:Z8)-AD8 -> 43.27 | AB8: =SUMIF('[1]Expenes- Delivery Details'!$B:$B,$A8&AB$1,'[1]Expenes- Delivery Details'!$E:$E) -> 0 | AC8: =SUMIF('[1]Expenes- Delivery Details'!$B:$B,$A8&AC$1,'[1]Expenes- Delivery Details'!$E:$E) -> 0 | AD8: =SUMIF('[1]Expenes- Delivery Details'!$B:$B,$A8&AD$1,'[1]Expenes- Delivery Details'!$E:$E) -> 0 | AE8: =SUMIF('[1]Expenes- Delivery Details'!$B:$B,$A8&AE$1,'[1]Expenes- Delivery Details'!$E:$E) -> 0 | AJ8: =S8+AB8+AI8+AC8+Z8 -> 43.27 | AK8: =P8-AJ8 -> 469.08
A9: 46181 | B9: =VLOOKUP($A:$A,'[1]June26- Sales'!$A:$Z,3,0) -> 154.6 | C9: =VLOOKUP($A:$A,'[1]June26- Sales'!$A:$Z,18,0) -> 268.35 | D9: =VLOOKUP($A:$A,'[1]June26- Sales'!$A:$Z,8,0) -> 930.55 | E9: =VLOOKUP($A:$A,'[1]June26- Sales'!$A:$Z,12,0) -> 0 | F9: =VLOOKUP($A:$A,'[1]June26- Sales'!$A:$Z,11,0) -> 941.95 | G9: =VLOOKUP($A:$A,'[1]June26- Sales'!$A:$Z,18,0) -> 268.35 | P9: =B9+F9+G9-N9 -> 1364.9 | Q9: =SUM(B9:D9) -> 1353.5 | R9: =P9-Q9 -> 11.4 | S9: =(SUMIF('[1]Expenes- Delivery Details'!$C:$C,A:A,'[1]Expenes- Delivery Details'!$E:$E))-AB9-AC9-AD9 -> 194.04 | T9: =SUMIF('[1]Expenes- Delivery Details'!$A:$A,$A9&T$1,'[1]Expenes- Delivery Details'!$E:$E) -> 0 | U9: =SUMIF('[1]Expenes- Delivery Details'!$A:$A,$A9&U$1,'[1]Expenes- Delivery Details'!$E:$E) -> 194.04 | V9: =SUMIF('[1]Expenes- Delivery Details'!$A:$A,$A9&V$1,'[1]Expenes- Delivery Details'!$E:$E) -> 0 | W9: =SUMIF('[1]Expenes- Delivery Details'!$A:$A,$A9&W$1,'[1]Expenes- Delivery Details'!$E:$E) -> 0 | X9: =SUMIF('[1]Expenes- Delivery Details'!$A:$A,$A9&X$1,'[1]Expenes- Delivery Details'!$E:$E) -> 0 | Y9: =SUMIF('[1]Expenes- Delivery Details'!$A:$A,$A9&Y$1,'[1]Expenes- Delivery Details'!$E:$E) -> 0 | AA9: =SUM(T9:Z9)-AD9 -> 194.04 | AB9: =SUMIF('[1]Expenes- Delivery Details'!$B:$B,$A9&AB$1,'[1]Expenes- Delivery Details'!$E:$E) -> 0 | AC9: =SUMIF('[1]Expenes- Delivery Details'!$B:$B,$A9&AC$1,'[1]Expenes- Delivery Details'!$E:$E) -> 0 | AD9: =SUMIF('[1]Expenes- Delivery Details'!$B:$B,$A9&AD$1,'[1]Expenes- Delivery Details'!$E:$E) -> 0 | AE9: =SUMIF('[1]Expenes- Delivery Details'!$B:$B,$A9&AE$1,'[1]Expenes- Delivery Details'!$E:$E) -> 0 | AJ9: =S9+AB9+AI9+AC9+Z9 -> 194.04 | AK9: =P9-AJ9 -> 1170.86
