Workbook

Sheet March26- Sales
A1: Date | B1: No Of Pax | C1: Cash | D1: Nets | E1: Visa | F1: Master | G1: PayNow | H1: Total
A2: 46082 | B2: 0 | C2: 0 | D2: 0 | E2: 0 | F2: 0 | G2: 0 | H2: =SUM(C2:G2) -> 0
A3: 46083 | B3: 473 | C3: 119.3 | D3: 0 | E3: 308.05 | F3: 0 | G3: 616.8 | H3: =SUM(C3:G3) -> 1044.15
A4: 46084 | C4: 183.5 | D4: 0 | E4: 252.1 | F4: 0 | G4: 701.6 | H4: =SUM(C4:G4) -> 1137.2
A5: 46085 | C5: 171.6 | D5: 22.8 | E5: 410 | F5: 0 | G5: 620.9 | H5: =SUM(C5:G5) -> 1225.3
A6: 46086 | C6: 143.4 | D6: 0 | E6: 335.9 | F6: 0 | G6: 762 | H6: =SUM(C6:G6) -> 1241.3
A7: 46087 | C7: 158.5 | D7: 52.5 | E7: 671 | F7: 0 | G7: 894.4 | H7: =SUM(C7:G7) -> 1776.4
A8: 46088 | H8: =SUM(C8:G8) -> 0
A9: 46089 | H9: =SUM(C9:G9) -> 0
A10: 46090 | C10: 161.6 | D10: 0 | E10: 62.5 | F10: 3.6 | G10: 743 | H10: =SUM(C10:G10) -> 970.7
A11: 46091 | C11: 179.3 | E11: 95.1 | F11: 226.3 | G11: 731.4 | H11: =SUM(C11:G11) -> 1232.1
A12: 46092 | C12: 178.2 | D12: 2 | E12: 335.5 | F12: 464.2 | G12: 794.4 | H12: =SUM(C12:G12) -> 1774.3
A13: 46093 | C13: 108.9 | E13: 151.2 | F13: 234.3 | G13: 826.1 | H13: =SUM(C13:G13) -> 1320.5
A14: 46094 | C14: 96.9 | E14: 716.5 | F14: 5.8 | G14: 719 | H14: =SUM(C14:G14) -> 1538.2
A15: 46095 | H15: =SUM(C15:G15) -> 0
A16: 46096 | H16: =SUM(C16:G16) -> 0
A17: 46097 | H17: =SUM(C17:G17) -> 0
A18: 46098 | H18: =SUM(C18:G18) -> 0
A19: 46099 | H19: =SUM(C19:G19) -> 0
A20: 46100 | H20: =SUM(C20:G20) -> 0
A21: 46101 | H21: =SUM(C21:G21) -> 0
A22: 46102 | H22: =SUM(C22:G22) -> 0
A23: 46103 | H23: =SUM(C23:G23) -> 0
A24: 46104 | H24: =SUM(C24:G24) -> 0
A25: 46105 | H25: =SUM(C25:G25) -> 0
A26: 46106 | H26: =SUM(C26:G26) -> 0
... A32: 46112 | H32: =SUM(C32:G32) -> 0
A33: Total | C33: =SUM(C2:C32) -> 1501.2 | D33: =SUM(D2:D32) -> 77.3 | E33: =SUM(E2:E32) -> 3337.85 | F33: =SUM(F2:F32) -> 934.2 | G33: =SUM(G2:G32) -> 7409.6 | H33: =SUM(H2:H32) -> 13260.15
A34: Average | C34: =AVERAGE(C2:C32) -> 136.47273 | D34: =AVERAGE(D2:D32) -> 9.6625 | E34: =AVERAGE(E2:E32) -> 303.44091 | F34: =AVERAGE(F2:F32) -> 84.927273 | G34: =AVERAGE(G2:G32) -> 673.6 | H34: =AVERAGE(H2:H32) -> 427.74677

Sheet Sales - Itemwise Report
A1: Date | B1: Item Description | C1: Quantiry | D1: Unit Price | E1: Total Price | G1: Date | H1: Sum Of Total Price
A2: 46082 | G2: 46082 | H2: 0
A3: 46083 | B3: Beer- Carona | C3: 3 | D3: 15 | E3: =C3*D3 -> 45 | G3: 46083 | H3: 1017
A4: 46083 | B4: Chats- Samosa | C4: 1 | D4: 6 | E4: =C4*D4 -> 6 | G4: 46084 | H4: 1122.4
A5: 46083 | B5: Egg Curry | C5: 1 | D5: 15.9 | E5: =C5*D5 -> 15.9 | G5: 46085 | H5: 1192.9
A6: 46083 | B6: Fast2 | C6: 30 | D6: =E6/C6 -> 5.4 | E6: 162
A7: 46083 | B7: Hot Drinks | C7: 475 | D7: =E7/C7 -> 1.2166316 | E7: 577.9 | G7: Grand Total | H7: =sum(H2:H6) -> 3332.3
A8: 46083 | B8: Tandori Roti | C8: 3 | D8: =E8/C8 -> 4.9 | E8: 14.7
A9: 46083 | B9: Gobi Manchurian | C9: 2 | D9: =E9/C9 -> 15.9 | E9: 31.8
A10: 46083 | B10: Kabab | C10: 2 | D10: =E10/C10 -> 19.9 | E10: 39.8
A11: 46083 | B11: Liqor Moiphes Black | C11: 1 | D11: 20 | E11: =C11*D11 -> 20
A12: 46083 | B12: Misc Food & Alcohol | C12: 2 | D12: =E12/2 -> 47.95 | E12: 95.9
A13: 46083 | B13: Masala Peanuts1 | C13: 1 | D13: 8 | E13: =C13*D13 -> 8
A15: 46084 | B15: Beer- Carona | C15: 0 | D15: 0 | E15: =C15*D15 -> 0
A16: 46084 | B16: Chats- Samosa | C16: 3 | D16: 6 | E16: =C16*D16 -> 18
A17: 46084 | B17: Egg Curry | C17: 0 | D17: 0 | E17: =C17*D17 -> 0
A18: 46084 | B18: Fast2 | C18: 38 | D18: 231.5 | E18: 231.5
A19: 46084 | B19: Hot Drinks | C19: 549 | D19: 661 | E19: 661
A20: 46084 | B20: Tandori Roti | C20: 0 | D20: 0 | E20: 0
A21: 46084 | B21: Gobi Manchurian | C21: 0 | D21: 0 | E21: 0
A22: 46084 | B22: Kabab From Tandori | C22: 2 | D22: 38.9 | E22: 38.9
A23: 46084 | B23: Liqor Moiphes Black | C23: 4 | D23: 20 | E23: 80
A24: 46084 | B24: Misc Food & Alcohol | C24: 2 | D24: 10 | E24: 10
A25: 46084 | B25: Small Plates | C25: 2 | D25: 16 | E25: 16
A26: 46084 | B26: Liqor Chivas Regal | C26: 2 | D26: 30 | E26: =C26*D26 -> 60
A27: 46084 | B27: Rosted Pappad | C27: 1 | D27: 2 | E27: =C27*D27 -> 2
A28: 46084 | B28: Drinks | C28: 2 | D28: 2.5 | E28: =C28*D28 -> 5
A30: 46085 | B30: Beer | C30: 5 | D30: 49 | E30: 49
A31: 46085 | B31: Chats- Samosa | C31: 6 | D31: 22 | E31: 22
A32: 46085 | B32: Drinks | C32: 3 | D32: 7.5 | E32: 7.5
A33: 46085 | B33: Egg Curry | C33: 2 | D33: 25.8 | E33: 25.8
A34: 46085 | B34: Fast2 | C34: 38 | D34: 192.5 | E34: 192.5
A35: 46085 | B35: Hot Drinks | C35: 545 | D35: 647.5 | E35: 647.5
A36: 46085 | B36: Kabab From Tandori | C36: 2 | D36: 41.8 | E36: 41.8
A37: 46085 | B37: Gobi Manchurian | C37: 0 | D37: 0 | E37: 0
A38: 46085 | B38: Liqor | C38: 1 | D38: 20 | E38: 20
A39: 46085 | B39: Misc Food & Alcohol | C39: 14 | D39: 114.8 | E39: 114.8
C40: 1 | D40: 30 | E40: 30
A41: 46085 | B41: Small Plates | C41: 3 | D41: 42 | E41: 42
A43: 46086 | B43: Beer | C43: 3 | D43: 30 | E43: 30
...

Sheet Delivery Details
A1: Delivery Date | B1: Vendor | C1: Amount | D1: Status Paid | E1: Paid Through | F1: Paid By
A2: 46083 | B2: Hairo | C2: 78.92 | D2: Un-Paid
A3: 46083 | B3: DashMesh | C3: 493.12 | D3: Un-Paid
A4: 46083 | B4: Vipin (Cash) | C4: 20 | D4: Barrow | E4: Petty Cash
A5: 46083 | B5: Top Plus | C5: 3.4 | D5: Paid | E5: Petty Cash
A6: 46083 | B6: True Colors | C6: 35 | D6: Un-Paid
A7: 46084 | B7: Kachori | C7: 135 | D7: Paid
A8: 46084 | B8: Top Plus | C8: 3.9 | D8: paid
A9: 46084 | B9: Top Plus | C9: 3.6 | D9: Paid
A10: 46085 | B10: Top Plus | C10: 3.95 | D10: paid | E10: Sowji Cash
A11: 46085 | B11: Fair Prise | C11: 20.07 | D11: paid | E11: Sowji Cash
A12: 46085 | B12: Top Plus | C12: 13.7 | D12: paid | E12: Sowji Cash
A13: 46085 | B13: Bake with Yen | C13: 13.9 | D13: paid | E13: Sowji Cash
A14: 46085 | B14: Chuan Liquors | C14: 2036.67 | D14: Un-Paid
A15: 46086 | B15: Fair Prise | C15: 1.9 | D15: Paid | E15: Sowji Cash
A16: 46086 | B16: Nandha | C16: 37 | D16: Paid | E16: Sowji Cash
A17: 46086 | B17: Top Plus | C17: 9.2 | D17: Paid | E17: Sowji Cash
A18: 46086 | B18: Top Plus | C18: 17.5 | D18: Paid | E18: Sowji Cash
A19: 46086 | B19: Top Plus | C19: 11.4 | D19: Paid | E19: Sowji Cash
A20: 46087 | B20: Fair Prise | C20: 8.4 | D20: Paid | E20: Pretty Cash
A21: 46087 | B21: Fair Prise | C21: 5.34 | D21: Paid | E21: Pretty Cash
A22: 46087 | B22: Top Plus | C22: 12.9 | D22: Paid | E22: Pretty Cash
A23: 46087 | B23: Top Plus | C23: 3.6 | D23: Paid | E23: Pretty Cash
A24: 46087 | B24: Top Plus | C24: 11.9 | D24: Paid | E24: Pretty Cash
A25: 46090 | B25: Fair Prise | C25: 4.89 | D25: Paid | E25: Pretty Cash
A26: 46090 | B26: Fair Prise | C26: 5.95 | D26: paid | E26: Pretty Cash
... A29: 46090 | B29: Nandha | C29: 28 | D29: Paid | E29: Sowji Cash
A30: 46090 | B30: SP Muthaiah | C30: 545.27 | D30: Un-Paid
A31: 46091 | B31: Top Plus | C31: 47.8 | D31: Paid | E31: Sowji Cash
A32: 46091 | B32: Top Plus | C32: 47.8 | D32: Paid | E32: Sowji Cash
A33: 46091 | B33: DashMesh | C33: 651.82 | D33: Un-Paid
A34: 46091 | B34: Coco Cola | C34: 76.95 | D34: Paid | E34: Vikram
A35: 46092 | B35: Top Plus | C35: 7.8 | D35: Paid
A36: 46092 | B36: Top Plus | C36: 1.31 | D36: Paid
A37: 46092 | B37: Fair Prise | C37: 1.9 | D37: Paid
A38: 46092 | B38: Aadhi Small Samosa | C38: 81 | D38: Un-Paid
A39: 46092 | B39: Pacific Packing | C39: 292.12 | D39: Un-Paid
A40: 46093 | B40: Aanandas Fresh Veg | C40: 74 | D40: Paid | E40: Counter Cash
A41: 46093 | B41: Top Plus | C41: 15.6 | D41: Paid | E41: Sowi Cash
A42: 46093 | B42: Top Plus | C42: 9.6 | D42: Paid | E42: Sowi Cash
...

Sheet Detail4-02-Mar-26
A1: Date | B1: Item Description | C1: Quantiry | D1: Unit Price | E1: Total Price
A2: 46083 | B2: Beer- Carona | C2: 3 | D2: 15 | E2: 45
A3: 46083 | B3: Chats- Samosa | C3: 1 | D3: 6 | E3: 6
A4: 46083 | B4: Egg Curry | C4: 1 | D4: 15.9 | E4: 15.9
A5: 46083 | B5: Fast2 | C5: 30 | D5: 5.4 | E5: 162
A6: 46083 | B6: Hot Drinks | C6: 475 | D6: 1.2166316 | E6: 577.9
A7: 46083 | B7: Tandori Roti | C7: 3 | D7: 4.9 | E7: 14.7
A8: 46083 | B8: Gobi Manchurian | C8: 2 | D8: 15.9 | E8: 31.8
A9: 46083 | B9: Kabab | C9: 2 | D9: 19.9 | E9: 39.8
A10: 46083 | B10: Liqor Moiphes Black | C10: 1 | D10: 20 | E10: 20
A11: 46083 | B11: Misc Food & Alcohol | C11: 2 | D11: 47.95 | E11: 95.9
A12: 46083 | B12: Masala Peanuts1 | C12: 1 | D12: 8 | E12: 8

Sheet Detail3-03-Mar-26
A1: Date | B1: Item Description | C1: Quantiry | D1: Unit Price | E1: Total Price
A2: 46084 | B2: Beer- Carona | E2: 0
A3: 46084 | B3: Chats- Samosa | C3: 3 | D3: 6 | E3: 18
A4: 46084 | B4: Egg Curry | E4: 0
A5: 46084 | B5: Fast2 | C5: 38 | D5: 231.5 | E5: 231.5
A6: 46084 | B6: Hot Drinks | C6: 549 | D6: 661 | E6: 661
A7: 46084 | B7: Tandori Roti
A8: 46084 | B8: Gobi Manchurian
A9: 46084 | B9: Kabab From Tandori | C9: 2 | D9: 38.9 | E9: 38.9
A10: 46084 | B10: Liqor Moiphes Black | C10: 4 | D10: 20 | E10: 80

Sheet Detail2-03-Mar-26
A1: Date | B1: Item Description | C1: Quantiry | D1: Unit Price | E1: Total Price
A2: 46084 | B2: Beer- Carona | E2: 0
A3: 46084 | B3: Chats- Samosa | C3: 3 | D3: 6 | E3: 18
A4: 46084 | B4: Egg Curry | E4: 0
A5: 46084 | B5: Fast2 | C5: 38 | D5: 231.5 | E5: 231.5
A6: 46084 | B6: Hot Drinks | C6: 549 | D6: 661 | E6: 661
A7: 46084 | B7: Tandori Roti
A8: 46084 | B8: Gobi Manchurian
A9: 46084 | B9: Kabab From Tandori | C9: 2 | D9: 38.9 | E9: 38.9
A10: 46084 | B10: Liqor Moiphes Black | C10: 4 | D10: 20 | E10: 80

Sheet Detail1-03-Mar-26
A1: Date | B1: Item Description | C1: Quantiry | D1: Unit Price | E1: Total Price
A2: 46084 | B2: Beer- Carona | E2: 0
A3: 46084 | B3: Chats- Samosa | C3: 3 | D3: 6 | E3: 18
A4: 46084 | B4: Egg Curry | E4: 0
A5: 46084 | B5: Fast2 | C5: 38 | D5: 231.5 | E5: 231.5
A6: 46084 | B6: Hot Drinks | C6: 549 | D6: 661 | E6: 661
A7: 46084 | B7: Tandori Roti
A8: 46084 | B8: Gobi Manchurian
A9: 46084 | B9: Kabab From Tandori | C9: 2 | D9: 38.9 | E9: 38.9
A10: 46084 | B10: Liqor Moiphes Black | C10: 4 | D10: 20 | E10: 80

Sheet Cash Flow
A1: Date | B1: Soujanya | C1: Madhav | D1: Vipin | E1: Items Purchased | F1: Cash on Hand | G1: Total Amount | J1: Date | K1: Cash | L1: Cash on Hand
A2: 46082 | G2: =SUM(B2:F2) -> 0 | J2: 46082 | K2: =VLOOKUP(J:J,'March26- Sales'!A:H,3,0) -> 0 | L2: =SUMIF(A:A,A:A,F:F) -> 0
A3: 46083 | D3: 20 | E3: 3.4 | F3: 95.6 | G3: =SUM(B3:F3) -> 119 | J3: 46083 | K3: =VLOOKUP(J:J,'March26- Sales'!A:H,3,0) -> 119.3 | L3: =SUMIF(A:A,A:A,F:F) -> 95.6
A4: 46084 | G4: =SUM(B4:F4) -> 0 | J4: 46084 | K4: =VLOOKUP(J:J,'March26- Sales'!A:H,3,0) -> 183.5 | L4: =SUMIF(A:A,A:A,F:F) -> 0
A5: 46085 | G5: =SUM(B5:F5) -> 0 | J5: 46085 | K5: =VLOOKUP(J:J,'March26- Sales'!A:H,3,0) -> 171.6 | L5: =SUMIF(A:A,A:A,F:F) -> 0
A6: 46086 | G6: =SUM(B6:F6) -> 0 | J6: 46086 | K6: =VLOOKUP(J:J,'March26- Sales'!A:H,3,0) -> 143.4 | L6: =SUMIF(A:A,A:A,F:F) -> 0
A7: 46087 | G7: =SUM(B7:F7) -> 0 | J7: 46087 | K7: =VLOOKUP(J:J,'March26- Sales'!A:H,3,0) -> 158.5 | L7: =SUMIF(A:A,A:A,F:F) -> 0
A8: 46088 | G8: =SUM(B8:F8) -> 0 | J8: 46088 | K8: =VLOOKUP(J:J,'March26- Sales'!A:H,3,0) | L8: =SUMIF(A:A,A:A,F:F) -> 0
A9: 46089 | G9: =SUM(B9:F9) -> 0 | J9: 46089 | K9: =VLOOKUP(J:J,'March26- Sales'!A:H,3,0) | L9: =SUMIF(A:A,A:A,F:F) -> 0
A10: 46090 | G10: =SUM(B10:F10) -> 0 | J10: 46090 | K10: =VLOOKUP(J:J,'March26- Sales'!A:H,3,0) -> 161.6 | L10: =SUMIF(A:A,A:A,F:F) -> 0
A11: 46091 | G11: =SUM(B11:F11) -> 0 | J11: 46091 | K11: =VLOOKUP(J:J,'March26- Sales'!A:H,3,0) -> 179.3 | L11: =SUMIF(A:A,A:A,F:F) -> 0
A12: 46092 | G12: =SUM(B12:F12) -> 0 | J12: 46092 | K12: =VLOOKUP(J:J,'March26- Sales'!A:H,3,0) -> 178.2 | L12: =SUMIF(A:A,A:A,F:F) -> 0
A13: 46093 | G13: =SUM(B13:F13) -> 0 | J13: 46093 | K13: =VLOOKUP(J:J,'March26- Sales'!A:H,3,0) -> 108.9 | L13: =SUMIF(A:A,A:A,F:F) -> 0
A14: 46094 | G14: =SUM(B14:F14) -> 0 | J14: 46094 | K14: =VLOOKUP(J:J,'March26- Sales'!A:H,3,0) -> 96.9 | L14: =SUMIF(A:A,A:A,F:F) -> 0
A15: 46095 | G15: =SUM(B15:F15) -> 0 | J15: 46095 | K15: =VLOOKUP(J:J,'March26- Sales'!A:H,3,0) | L15: =SUMIF(A:A,A:A,F:F) -> 0
... A32: 46112 | G32: =SUM(B32:F32) -> 0 | J32: 46112 | K32: =VLOOKUP(J:J,'March26- Sales'!A:H,3,0) | L32: =SUMIF(A:A,A:A,F:F) -> 0

Sheet Expenses
A1: Vendor | B1: Order By | C1: Invoice No | D1: Ordered Date | E1: Delivered Date | F1: Description | G1: Quantiry | H1: Unit Price | I1: Total Price | J1: GST 9% | K1: Grand Total
A2: DashMesh | B2: Madhav | C2: 10852759 | D2: 46083 | E2: 46083 | F2: Amul Tazza UHT Milk ( 12x 1 LTR) | G2: 20 | H2: 21 | I2: =G2*H2 -> 420 | J2: =I2*0.09 -> 37.8 | K2: =I2+J2 -> 457.8
A3: DashMesh | B3: Madhav | C3: 10852759 | D3: 46083 | E3: 46083 | F3: Nescafe 9 12 x 200GMs) | G3: 3 | H3: 6.8 | I3: =G3*H3 -> 20.4 | J3: =I3*0.09 -> 1.836 | K3: =I3+J3 -> 22.236
A4: DashMesh | B4: Madhav | C4: 10852759 | D4: 46083 | E4: 46083 | F4: MaxWill Fine Sugar( 4x 5KG) | G4: 2 | H4: 6 | I4: =G4*H4 -> 12 | J4: =I4*0.09 -> 1.08 | K4: =I4+J4 -> 13.08
A5: Hairo | B5: Madhav | C5: HF601525 | D5: 46083 | E5: 46083 | F5: POTATOES BAG | G5: 1 | H5: 6 | I5: =G5*H5 -> 6 | J5: =I5*0.09 -> 0.54 | K5: =I5+J5 -> 6.54
A6: Hairo | B6: Madhav | C6: HF601525 | D6: 46083 | E6: 46083 | F6: BOMBAY ONION BAG 3KG | G6: 3 | H6: 2.3 | I6: =G6*H6 -> 6.9 | J6: =I6*0.09 -> 0.621 | K6: =I6+J6 -> 7.521
A7: Hairo | B7: Madhav | C7: HF601525 | D7: 46083 | E7: 46083 | F7: OLD GINGER | G7: 3 | H7: 3.5 | I7: =G7*H7 -> 10.5 | J7: =I7*0.09 -> 0.945 | K7: =I7+J7 -> 11.445
A8: Hairo | B8: Madhav | C8: HF601525 | D8: 46083 | E8: 46083 | F8: GREEN CHILLIES PADI | G8: 0.5 | H8: 4.8 | I8: =G8*H8 -> 2.4 | J8: =I8*0.09 -> 0.216 | K8: =I8+J8 -> 2.616
A9: Hairo | B9: Madhav | C9: HF601525 | D9: 46083 | E9: 46083 | F9: CORIANDER LEAVES | G9: 1 | H9: 10 | I9: =G9*H9 -> 10 | J9: =I9*0.09 -> 0.9 | K9: =I9+J9 -> 10.9
A10: Hairo | B10: Madhav | C10: HF601525 | D10: 46083 | E10: 46083 | F10: YELLOW LEMON | G10: 10 | H10: 0.6 | I10: =G10*H10 -> 6 | J10: =I10*0.09 -> 0.54 | K10: =I10+J10 -> 6.54
A11: Hairo | B11: Madhav | C11: HF601525 | D11: 46083 | E11: 46083 | F11: TOMATOES LOOSE | G11: 1 | H11: 1.8 | I11: =G11*H11 -> 1.8 | J11: =I11*0.09 -> 0.162 | K11: =I11+J11 -> 1.962
A12: Hairo | B12: Madhav | C12: HF601525 | D12: 46083 | E12: 46083 | F12: FRESH EGGS CUCUMBER | G12: 90 | H12: 0.3 | I12: =G12*H12 -> 27 | J12: =I12*0.09 -> 2.43 | K12: =I12+J12 -> 29.43
A13: Hairo | B13: Madhav | C13: HF601525 | D13: 46083 | E13: 46083 | F13: CUCUMBER | G13: 1 | H13: 1.8 | I13: =G13*H13 -> 1.8 | J13: =I13*0.09 -> 0.162 | K13: =I13+J13 -> 1.962

Sheet Pivot Expenses
