Workbook

Sheet Cover Sheet
A5: Citi / HDS Operations Review Meeting Notes
A7: Date | B7: 40163
A8: Meeting Number | B8: 79
A10: Attendees | B10: David Coles (Citi) | C10: DPC
B11: Paul Haynes (Citi) | C11: PH
B12: Tim Robinson (Citi) | C12: TR
B13: Alex Eaton (HDS) | C13: AE
B14: David Boorman (HDS) | C14: DB
B15: David Smith (HDS) | C15: DS
B16: Mike Collins (HDS) | C16: MC
B17: Steve Twene (HDS) | C17: ST
A18: Distribution
B19: Citi SAN Support dlist
B20: Citi EMEA SPIT dlist
B21: Gary Battersby (Citi) | C21: GB
B22: Ade Okusanya (Citi) | C22: AO
B23: Carl Williams (Citi) | C23: CPW
B24: Charles Bougon (HDS) | C24: CB
B25: Jeff King (HDS) | C25: JK
B26: Jennifer Antenucci (HDS) | C26: JA
B27: Joseph Higgins (HDS) | C27: JH
B28: Mike Thompson (HDS) | C28: MT

Sheet File Notes
A1: File Notes | D1: Open | E1: =COUNTIF(H$6:H$452,D1) -> 26 | G1: Title | H1: ='Cover Sheet'!A5 -> Citi / HDS Operations Review Meeting Notes
D2: Closed | E2: =COUNTIF(H$6:H$452,D2) -> 230 | G2: Date | H2: ='Cover Sheet'!B7 -> 40163
C3: Attendee list - see cover sheet | D3: Pending | E3: =COUNTIF(H$6:H$452,D3) -> 7 | G3: Number | H3: ='Cover Sheet'!B8 -> 79
A4: Ref No | B4: Date Identified | C4: Item Description | D4: Case Number | E4: Owner | F4: Action Taken | G4: Impact | H4: Current Status | I4: Last Updated | J4: Date Closed | K4: Cross ref to | L4: Test | M4: Open | N4: Closed | O4: Pending Closed
A5: Production USP-V
A6: 1 | B6: 39570 | C6: Remote access | E6: SM | F6: CPW is arranging firewall change to resolve IP address remote access issue. Going through 3 approval process. Change is happening week commencing 16/06/08. 16-June-08 Change has been requested of external firewall providers. Further 2 week period before change is made. 14-07-2008: Change request has been delayed again. No estimated completion date available. 08-08-08: Firewall change was deployed this week but was unsuccessful. CPW/JB are following up on getting change redeployed. 18-08-2008 Firewall change made again, HDS to test changes SecureWords access to be arranged by JB 29-08-2008: JB & RS will arrange testing of the firewall change today. 08-09-08: Firewall change has been made. JB has partially tested changes. More test required once secondary SVP has been replaced 24-11-08: SM to arrange access to RDC to resolve secondary SVP issue on 29/30-11-08 01-12-08: Change freeze applied by Citi which meant the change request was cancelled. Work rescheduled to 6-7 Dec 05-01-09: SecureWords issue has been resolved and remote access has been tested successfully. | G6: HDS TRC have made a work around until change is completed | H6: Closed | J6: 39818
A7: =SUM(A6+1) -> 2 | B7: 39629 | C7: Remote access - HiTrack RACC via HTTPS | E7: CPW | F7: earlier data removed for brevity 21-05-09: JD has asked HDS to communicate with CATE and copy him. JD will then escalate the issue 26-08-09: TR to follow-up with CATE 02-09-09: Item ownership transferred to CPW 16-09-09: No update from Citi. AE understands Citi have asked for 2 pass authentication 23-09-09: Windows Firewall investigation by HDS developers. TR asked for a date for investigation from JH 30-09-09: No progress 07-10-09: No progress 14-10-09: At request of Citi, no progress documented 21-10-09: Meeting between Citi & HDS held on 16-10. Update due on 23-10-09 25-11-09: Revised specifications are with Citi to approve | H7: Open | I7: 40142
A8: =SUM(A7+1) -> 3 | B8: 39555 | C8: HiTrack fault reporting | E8: SM | F8: HDS HiTrack fault reporting using single US Citigroup web proxy to report faults. 14-07-2008: Dependant on firewall change mentioned in item #1 08-09-08 Post firewall changes made in item 1, SM needs to update HiTrack configuration accordingly. 15-09-08: Scheduled for 17-09-08 but is pending Citi emergency change freeze 29-09-08: Not done during SVP replacement due to lack of time. SM will update this remotely and obtain SecureWords details from BAU team 09-10-08: SM has scheduled this work for 10/10/08 03-11-08: Work has been completed | H8: Closed | J8: 39724 | K8: 1
A9: =SUM(A8+1) -> 4 | B9: 39555 | C9: EMEA / US Remote Access | E9: JB / JD | F9: EMEA HDS Remote access servers configured to only be able to access EMEA arrays. Likewise, US HDS remote access servers can only access US Citigroup HDS arrays. Request to make any to any access available for redundancy.14-07-2008: JB to liaise with JD to resolve. 29-08-2008: JB to liaise with JD to confirm this is no longer required due to this access method being retired at end of 2008 08-09-08: JB has confirmed with JD this action no longer needs to be acted upon | H9: Closed | J9: 39706
A10: =SUM(A9+1) -> 5 | B10: 39570 | C10: Two (2) weeks onsite support post go live | E10: MC | F10: HDS to supply onsite resource post go-live week commencing 9th June | H10: Closed | J10: 39601
A11: =SUM(A10+1) -> 6 | B11: 39549 | C11: ETrust to accept syslog data from HDS environment | E11: JB | F11: Citi to configure ETrust to accept syslog data from HDS environment. JB to speak to Fiaz. Configuration successful in test environment. Update to Production ETrust environment scheduled for 30/05/08. ETrust successfully configured week commencing 02 June 2008 | G11: Cannot go in to Production without ETrust accepting data | H11: Closed | J11: 39601
A12: =SUM(A11+1) -> 7 | B12: 39556 | C12: HUR Training for Citi personnel | E12: MC / JD | F12: 24-11-08: GB is raising paperwork with Alistair Grant for agreement 01-12-08: GB did not get an opportunity to speak to Alistair Grant. 18-12-08: GB has assured HDS UK Sales Director of PO will be supplied week commencing 22-12-08 23-12-08: No PO received 05-01-09: No PO received 12-01-09: GB has asked MC to provide quote with revised ate to present to Approvals committee on 15-01-09 19-01-09: MC has not been able to obtain update from GB as yet following the meeting on 15-01-09 26-01-09: GB missed approval slot on 15-01-09. MC to chase GB 16-02-09: MC advises PO is due w/c 23-02-09 24-02-09: MC advises PO is due this week 25-03-09: JD advises P2P has been raised. Now with Fincon for approval 03-04-09: JD advises PO approval is with Alistair Grant 26-04-09: JD advises PO is approved and is with Procurement 21-05-09: PO received. Item closed | H12: Closed | J12: 39954
A13: =SUM(A12+1) -> 8 | B13: 39615 | C13: Two (2) weeks onsite support post go live | E13: MC | F13: In light of delays to allocate systems for HDS storage, Post go-live onsite support has been suspended from COB 16 June 2008 as there is not sufficient work to do. No further requirement for post go live support | H13: Closed | J13: 39636 | K13: =A10 -> 5
A14: =SUM(A13+1) -> 9 | B14: 39577 | C14: Installation guide | E14: JB / JD / CPW | F14: Installation guide for replicated environment completed. Requires approval from JD / CPW. Awaiting feedback from CPW. Additionally requires input on ETrust. 14-7-2008: JB to chase with CPW | H14: Closed | J14: 39668
A15: =SUM(A14+1) -> 10 | B15: 39601 | C15: Process Control Manual | E15: ST / TR | F15: earlier data removed for brevity 07-10-09: PCM draft sent to TR. ST continuing familiarisation 14-10-09: Familiarisation ongoing 21-10-09: AO, CPW & SA familiarisation outstanding. TR advised to send final reminder and then close by 30-10-09. 2nd draft of PCM issued by ST. Review of PCM by BAU team required. 04-11-09: ST to send PCM to Juliet McMillan for review. 11-11-09: Document reviewed and accepted. Close item | H15: Closed | J15: 40128
A16: =SUM(A15+1) -> 11 | B16: 39643 | C16: Process Control Manual - Activity logging (ETrust) | E16: RS / MT | F16: 24-11-08: No progress. AE to raise with GB 01-12-08: AE raised with JD. No progress so far. 09-12-08: Ade Okusanya has taken ownership of this item from Fiaz Mir. AO has escalated to GB to arrange meeting with ETrust team. No date for meeting with ETrust team yet scheduled 26-01-09: No progress. SA to raise with GB due to the compliance implications 16-02-09: SA has received no feedback from GB as yet 25-03-09: Storage team is being audited in July and this could be an issue. JD now owns action. 03-04-09: JD has been liaising with David Ellis of Compliance team to progress this 26-04-09: Sarah Gunn has taken David Ellis' role. No further progress 21-05-09: Citi are actively working on the issue. Will call on HDS when required 04-06-09: AO requested dial-in to FDC/RDC with exact date and time 11-06-09: Completed 09-06-09 | H16: Closed | J16: 39975
A17: =SUM(A16+1) -> 12 | B17: 39570 | C17: Citi HDS weekly storage review meeting with BAU team | E17: SA | F17: Citi to confirm attendance of HDS at weekly storage review meeting on Monday at 12pm. Meeting will have to be separate from EMC. SA / JD to confirm timing. 02/06 Meeting will be at 12:45pm on Monday. SA to issue meeting invite. 16-June-08 Meeting invite sent by SA | H17: Closed | J17: 39615
A18: =SUM(A17+1) -> 13 | B18: 39570 | C18: Citi HDS weekly storage review meeting with Integration team | E18: JD | F18: JD to issue meeting invite for integration team. Understood to be at 10:30am on Monday mornings. 07-July-2008: Meetings arranged with JD | H18: Closed | J18: 39643
A19: =SUM(A18+1) -> 14 | B19: 39556 | C19: SVP activity logging | E19: JB | F19: Can all activity on the SVP be tracked in a tamper proof log. JB to detail what data is sent to syslog server. JB to liaise with Fiaz to investigate what information is reconciled with ETrust. JB to confirm syslog data is mapped to ETrust data. 02 June 2008: JB awaiting information from Fiaz Mir. 07-July-2008: FM is to speak to Piotra today to obtain information. 14-7-2008: Every detail is logged and hence no detail is required from Piotra. | H19: Closed | J19: 39657
A20: =SUM(A19+1) -> 15 | B20: 39584 | C20: HDS Service Catalogue | E20: JD / SA | F20: Service Catalogue for HDS storage requires definitions and impacts of selecting HDS storage. Examples include UAT being non-replicated but PRD being replicated. 16-June-08: Service catalogue has been sent to ST & JD for review. 07-July-2008: SA advised not required now. | H20: Closed | J20: 39643
A21: =SUM(A20+1) -> 16 | B21: 39615 | C21: HDS Service Catalogue - replicated storage | E21: MC / JA | F21: MC to arrange conference call with JA and Gary Johnson regarding service catalogue for replicated environments. | H21: Closed | J21: 39657 | K21: =A19 -> 14
A22: =SUM(A21+1) -> 17 | B22: 39805 | C22: SecureWords Token Access | E22: SM / RS | F22: Citi supplied SecureWords Tokens are only intermittently providing access. HDS & Citi working to resolve access 05-01-09: SecureWords access resolved and tested | H22: Closed | J22: 39818
A23: =SUM(A22+1) -> 18 | B23: 39906 | C23: Dial-in Audit | E23: RS / SA | F23: Citi have requested HDS to dial-in to EMEA USP-Vs to permit Citi to check the dial-in access is recorded. HDS completed the dial-in access. Citi to confirm the dial-in has been recorded 26-04-09: Awaiting feedback from SA. RS to chase 21-05-09: Merged with item 11 | H23: Closed | J23: 39954
A24: =SUM(A23+1) -> 19 | B24: 39906 | C24: Dial-in Access by Customer Engineers | E24: ST / SA | F24: earlier data removed for brevity 04-11-09: New safe word cards are not providing full access to USP-V network. ST to follow up with Simon McDermaid 18-11-09: SM is not aware of the previous issue. ST to raise with Sal Ahmed 25-11-09: ST raised with SA. SA has requested additional ACLs required for USP-V access 02-12-09: SA has provided additional ACLs. One card works correctly, 1 card does not. SA to follow up 09-12-09: Changes required by SA still open 16-12-09: ST to chase SA | H24: Open | I24: 40163
A25: =SUM(A24+1) -> 20 | B25: 39968 | C25: HTnM installation | E25: RS | F25: Installation of Tuning Manager at RDC 6.0 failed. RS & TR working with support to resolve issue 11-06-09: Case escalated to factory in Japan 08-07-0: Installation completed | H25: Closed | J25: 40009
A26: =SUM(A25+1) -> 21 | B26: 40023 | C26: Antivirus installation on USP-V 18850 SVPs | E26: DB / ST | F26: earlier data removed for brevity 14-10-09: EPO being rolled out to SVPs this week 21-10-09:EPO rolled out was incompatible version. A new version was applied to 75189 successfully Further installations ongoing. 04-11-09: TR advises to run without EPO structure until issue can be resolved 11-11-09: Various work undertaken. See case # EUC1080221 for further details 18-11-09: AV is applied to SVPs in RDC. FDC SVPs ongoing 25-11-09: SVP fail-over required to take dump for analysis. Will be combined with ucode upgrade work 02-11-09: ST has raised with HDS support to investigate why SVPs are rebooting. 16-12-09: AV installation complete. Close item | H26: Pending | I26: 40163
A27: =SUM(A26+1) -> 22 | B27: 40023 | C27: Certification of v6.2 software suite | E27: AE | F27: CATE certification of HDvM, HTnM, HTsM & HRpM at version 6.2 23-09-09: ongoing. Priority is HDvM & HTnM 30-09-09: RFC documentation for HTsM & HRpM with HDP have been released by CATE 04-11-09: TR wishes to run a parallel environment to test v6.2 software once certified. No update on certification progress 18-11-09: CATE are awaiting packaging of 6.2 applications to allow certification 02-12-09: TR to raise with CATE | H27: Open | I27: 40149
A28: =SUM(A27+1) -> 23 | B28: 40079 | C28: Site access | E28: Information Only | F28: Delays in responding to the san.support@citi.com email address is causing delays to HDS customer engineers access to Citi data centres. 30-09-09: DPC has raised this with BAU team 07-10-09: ST had to chase access for CE access to RDC 21-10-09: Recent requests have been dealt with promptly. Close item | H28: Closed | J28: 40107
A29: =SUM(A28+1) -> 24 | B29: 40086 | C29: Statistics for thin volumes | E29: ST / TR | F29: TR advises usage statistics for volumes provided from the CLI are not thin aware. ST to confirm this is addressed in HDvM 6.2 07-10-09: HDvM 6.2 provides more data but not all which is required. ST & TR to document required data for PER 11-11-09: Citi advised to park until return of TR from vacation 02-12-09: TR will look in to this during change freeze | H29: Open | I29: 40149
A30: =SUM(A29+1) -> 25 | B30: 40093 | C30: HSCR demo | E30: AE / TR | F30: TR has requested demonstration of Hitachi Storage Capacity Reporter 21-10-09: Demo agreed to, TR to obtain list of attendees. Demo will be in December during change free 04-11-09: AE to resend email requesting a date to TR 11-11-09: Provisional date of 09-12-09 18-11-09: Demo invitations sent to GB & TR | H30: Open | I30: 40135
A31: =SUM(A30+1) -> 26 | B31: 40100 | C31: Capacity in RDC | E31: TR | F31: Additional capacity in RDC is urgently required. TR putting a number of options together. An amount of capacity may move from FDC to RDC 11-11-09: Storage RFP issued. Close item | H31: Closed | J31: 40128
A32: =SUM(A31+1) -> 27 | B32: 40100 | C32: CLI workshop | E32: AE | F32: TR has requested a CLI workshop like the one that was run in Texas. Preference would be the same instructor 21-10-09: TR advised to schedule training for December during change freeze. DPC to provide list of BAU attendees 04-11-09: AE to send reminder to DPC 18-11-09: DPC advises whole BAU team should attend. 25-11-09: Advised should add Projects to invitation 02-12-09: Course will now be run by UK instructor. Janice Wright (HDS UK training co-ord) is arranging | H32: Open | I32: 40149
A33: =SUM(A32+1) -> 28 | B33: 40128 | C33: Remote Access for Charles Bougon | E33: DB / ST | F33: Remote access for RDC secondary CE (Charles Bougon) to be arranged 18-11-09: DB/ST to arrange training for CB 09-12-09: Pencilled in for 16-12-09. DS / CB to confirm 16-12-09: Date changed to 21-12-09 due to CB on leave | H33: Open | I33: 40163
A34: =SUM(A33+1) -> 29 | B34: 40128 | C34: Environment overview | E34: ST / AE | F34: Citi have requested an overview of the current HDS environment for the BAU team to improve their understanding of it. 18-11-09: ST & AE have made draft agenda. To be agreed with Citi 02-12-09: Schedule for during change freeze, AE to resend agenda to BAU team. 09-12-09: morning of 16-02-09 pencilled in. 16-12-09: Overview run. Close item | H34: Pending | I34: 40163
A35: Cisco SAN deployment
A36: =SUM(A34+1) -> 30 | B36: 40135 | C36: Cisco Deployment in CGC | E36: Information Only | F36: Citi have verbally committed to purchase Cisco MDS9509/9513 SAN fabric from HDS - thank you 09-12-09: PO received. Close item | H36: Closed | J36: 40156
A37: =SUM(A36+1) -> 31 | B37: 40135 | C37: Project personnel | E37: Information Only | F37: Citi have advised Paul Haynes and Ade Okusanya will be leading the project from Citi 02-12-09: TR will assist on project whilst AO is on vacation | H37: Open | I37: 40149
A38: =SUM(A37+1) -> 32 | B38: 40135 | C38: Deliveries to CGC1 & CGC2 | E38: DB | F38: CPW advises a site survey to be undertaken w/c 23-11-09 of CGC1 and CGC2 25-11-09: Confirmed for 27-11-09 02-12-09: Site survey completed | H38: Closed | J38: 40156
A39: =SUM(A38+1) -> 33 | B39: 40135 | C39: HiTrack | E39: AO / TR | F39: AO advises Citi will use RDC instance of HiTrack Monitor for hardware fault reporting of the equipment in CGC 25-11-09: AO advises a HiTrack server will be deployed in CGC in contrast to previous information 16-12-09: No progress. AE to chase AO | H39: Open | I39: 40163
A40: =SUM(A39+1) -> 34 | B40: 40135 | C40: Delivery of Cisco line cards from DE | E40: CPW / DB | F40: CPW & DB to agree on delivery details of the unused line cards from DE 25-11-09: DB to provide serial numbers of line cards to CPW/AO | H40: Open | I40: 40156
...

Sheet Closed sections
A1: File Notes | D1: Open | E1: =COUNTIF(H$7:H$178,D1) -> 0 | G1: Title | H1: ='Cover Sheet'!A5 -> Citi / HDS Operations Review Meeting Notes
D2: Closed | E2: =COUNTIF(H$7:H$178,D2) -> 24 | G2: Date | H2: ='Cover Sheet'!B7 -> 40163
C3: Attendee list - see cover sheet | D3: Pending | E3: =COUNTIF(H$7:H$178,D3) -> 0 | G3: Number | H3: ='Cover Sheet'!B8 -> 79
A4: Ref No | B4: Date Identified | C4: Item Description | D4: Case Number | E4: Owner | F4: Action Taken | G4: Impact | H4: Current Status | I4: Last Updated | J4: Date Closed | K4: Cross ref to | L4: Test | M4: Open | N4: Closed | O4: Pending Closed
A5: Replication Certification
A6: 1 | B6: 39608 | C6: No open items for replication certification. HUR is certified with Citi | H6: Closed | J6: 39615
A7: Loan Replication USP-Vs
A8: =SUM(A6+1) -> 2 | B8: 39615 | C8: Loan replication USP-V installation date | E8: SM / RS | F8: 20-10-08: Citi have advised delivery is likely to be during week commencing 10-11-08 29-10-08: Delivery date has been changed to week commencing 17-11-08 03-11-08: HDS to confirm exact delivery day in week of 17-11-08 delivery will be 10-11-08: FDC 19-11 and RDC 18-11 confirmed. HDS to provided exact delivery details to Citi. SM to attend RDC site on delivery date and power up. 17-11-08: FDC power-up will be 23-11-08, RDC power-up will be 23-11-08 or 30-11-08 24-11-08: Delivery of loan equipment to RDC & FDC was made last week. Both frames were powered up on 22/23-11-08. No SAN or LAN connectivity at present 01-12-08: Awaiting RDC microcode downgrade to 60-03-06 by SM 09-12-08: SM has scheduled to undertake this on 13-12-08 18-12-08: Microcode on RDC USP-V downgraded successfully. Secondary SVP will be deployed 20/21-12-08 23-12-08: Secondary SVP installed at RDC on 20-12-08. RDC USP-V SAN ports are connected but are not logging in to fabric. SM / DS to confirm BCD has been applied to USP-V 05-01-09: RDC USP-V can be seen on fabric and BCD applied | H8: Closed | J8: 39818 | K8: =A14 -> 8
A9: =SUM(A8+1) -> 3 | B9: 39706 | C9: Management Servers - SOE access | E9: JB | F9: RS and JB require Citi network access for management server build / config - Access is required to progress the project post installation and power on of USPVs - CPW has submitted the requests and a response is pending Citi security / networking 22-09-08: RS has received his login. RS will test this week 29-09-08: RS has successfully tested his login. JB has received his login but not tested it yet 09-10-08: JB to liaise with Paul Haynes to arrange a time to obtain login details. 13-10-08: JB has received and tested his login | H9: Closed | J9: 39734
A10: =SUM(A9+1) -> 4 | B10: 39706 | C10: Management Servers - SAN connectivity | E10: RS/AO | F10: 09-12-08: RDC; awaiting confirmation from Citi fibre patching has been completed. FDC; awaiting Citi resource. CPW has escalated 09-12-08: IP connectivity broken out to new item 05-01-09: RDC awaiting testing by CPW or AO. FDC awaiting fabric being made ready. 12-01-09: RDC firewall issues are preventing testing of testing by CPW/AO 19-01-09: Firewall changes due on 21-01-09 26-01-09: FDC array not physically cabled to fabric. Firewall changes due 21-01-09 were applied and successful 02-02-09: FDC fabric connected. Pending AO to test 09-02-09: FDC fabric test completed | H10: Closed | J10: 39853 | K10: =A11 -> 5
A11: =SUM(A10+1) -> 5 | B11: 39706 | C11: Management Servers - IP connectivity | E11: RS/SM | F11: 09-12-08: RDC; SM to connect on 13/14-12-08. FDC; physically connected. CPW to confirm connectivity test completed 18-12-08: FDC; USP-V visible in HDvM. RDC; awaiting network configuration on 20/21-12-08 05-01-09: RDC configured but awaiting testing. 12-01-09: RDC firewall issues are preventing testing 19-01-09: Pending firewall changes due on 21-01-09 26-01-09: Firewall changes applied and were successful. | H11: Closed | J11: 39839 | K11: =A10 -> 4
A12: =SUM(A11+1) -> 6 | B12: 39706 | C12: Management servers (Windows and Solaris required in FDC | E12: RS / TR | F12: 20-10-08: FM chasing JD daily for Solaris servers. FM to liaise with SA regarding using COB host for familiarisation phase 29-10-08: Citi advise there will be no management servers at FDC until go-live 17-11-08: JD received push-back on these servers. MC to raise with GB. 24-11-08: RS to liaise with JD on behalf of MC 01-12-08: RS is liaising with CPW to use EMC Solaris Management server 09-12-08: Windows; VMware VM scheduled for Jan/Feb 09. Solaris; Ready 16-02-09: Scheduled for end of March 25-03-09: VMware date - end of March 03-04-09: System being built 04-04-09. Should be available 2 weeks after this. 26-04-09: Systems built. Pending HDS toolset being installed. 21-05-09: Potential deployment of Production data in FDC on HDS storage. Management servers will need to be ready prior to going in to Production 04-06-09: HDvM installation complete | H12: Closed | J12: 39968 | K12: =A9 -> 3
A13: =SUM(A12+1) -> 7 | B13: 39706 | C13: Management servers (Windows & Solaris) required in RDC | E13: RS/CPW | F13: 29-09-08: Solaris resource is now unavailable due to paternity leave. FM is working with David Westcott to secure another resource. 20-10-08: RS has escalated to JD 29-10-08: Existing Windows COB management server will be used for Windows. Solaris server is pending update from Citi Solaris team 03-11-08: Solaris system has been allocated. Windows system; SA has approved change of role of existing Windows mgmt COB server 10-11-08: Pending build date from Solaris team 17-11-08: RS chased FM, no status update 24-11-08: FM will advise RS on status on 25-11-08 01-12-08: Awaiting confirmation from CPW on go live date for Windows and Solaris familiarisation servers. At least 1 week delay, which will delay BAU familiarisation to week commencing 22-12-08 09-12-08: Windows; SA resource is required to migrate production to UAT. CPW has escalated. Solaris; Ready 02-02-09: Windows server is now ready | H13: Closed | J13: 39846 | K13: =A8 -> 2
A14: =SUM(A13+1) -> 8 | B14: 39706 | C14: Microcode level on replicated USP-Vs | E14: RS/JH | F14: Microcode 60-30-06 has been proposed for the loan USP-V frames. Confirmation has been given by CPW that this is acceptable. RS to confirm with JH that CATE have certified this level. 29-09-08: JH has confirmed Gary Johnson has given go ahead to deploy 60-03-06 on the HUR loaner frames. | H14: Closed | J14: 39750
A15: =SUM(A14+1) -> 9 | B15: 39542 | C15: Global loan agreement | E15: MC | F15: Global loan agreement supplied to Citi with UK Law amendment. JD to confirm progress with Erica Jeffers. Amendments to agreement requested by Sascha Bender on 14/05 Updates supplied to Erica Jeffers and Sascha Bender. Citi will not be in a position to accept the HUR loan equipment until mid-July at the earliest. 16-June-08 MC to email details to SA to allow SA to follow this up. 30/06/08 Germany agreement completed. UK agreement has been reviewed & amended by Citi legal team and returned to HDS legal team for review. 07-July-2008:Amendments agreed to by HDS legal. MC to supply signed copies to Citi Procurement. 28-07-2008: AE has provided additional information requested by Citi Procurement. Pending signature by Citi now. 08-08-08: Citi requested modifications to the loan agreement which are with HDS legal. It is hoped this will be completed by COB 08-08 29-08-2008: Loan agreement was completed 18-08-2008. | H15: Closed | J15: 39699
A16: =SUM(A15+1) -> 10 | B16: 39730 | C16: Access to Aperture and Virtual Change | E16: RS / JD | F16: RS to ask for permission to access Aperture and Virtual Change systems 13-10-08: RS awaiting on JD 10-11-08: SA provided details of Mystic system to RS 17-11-08: RS to work with SA on access to Mystic 24-11-08: Infoman system is the system required. RS to liaise with JD to gain access. 01-12-08: HDS personnel unable to be added to groups for change / VT viewing since non-HDS information would be visible. Alternate solution is that HDS can request updates from Citi on status of changes / VT's. | H16: Closed | J16: 39783
A17: =SUM(A16+1) -> 11 | B17: 39800 | C17: Replication Familiarisation Commencement Critical Path Items | E17: All | F17: Critical Path Items preventing commencement of Replication Familiarisation: None | H17: Closed | J17: 39898
A18: =SUM(A17+1) -> 12 | B18: 39954 | C18: HiTrack USP-V (FDC) | E18: CPW / RS | F18: Firewall changes required to permit dial-home of FDC USP-V serial 18779 11-06-09: German CE dialled in on 09-06-09 and verified configuration to be correct. Configuration retest scheduled for w/c15-06-09 with Citi networks team 08-07-09: 2nd dial-in test with CPW & RS to be scheduled 15-07-09: Issue is identified as routing. CPW advised the issue is with Network Infrastructure team 26-08-09: Routing issue identified. Fixed, item can be closed off | H18: Closed | J18: 40051 | K18: =A25 -> 18
A19: Egg Deployment
A20: =SUM(A18+1) -> 13 | B20: 39818 | C20: Egg capacity | E20: Information Only | F20: Citi have purchased 100TB of capacity for USP-V serial 18850 (RDC HUR loaner) for Egg. | H20: Closed | J20: 39898
A21: =SUM(A20+1) -> 14 | B21: 39825 | C21: Installation Planning Meeting | E21: AE | F21: SA has asked to attend the IP meeting for the Egg upgrade 19-01-09: IP meeting took place 16-01-09 | H21: Closed | J21: 39839
A22: =SUM(A21+1) -> 15 | B22: 39832 | C22: Egg installation phase 1 | E22: DS | F22: Rotation of USP-V #18850 through 180 degrees, installation of R1 DKU & additional DKAs due on 24/25-01-09 26-01-09: Phase 1 work completed | H22: Closed | J22: 39839
A23: =SUM(A22+1) -> 16 | B23: 39839 | C23: Egg installation phase 2 | E23: MT | F23: Installation of DKU L1 and remaining disks pending removal of Symmetrix 11R by Citi 16-02-09: All hosts are now removed from Sym 11R. Decommissioning scheduled for end of March 25-03-09: Symm 11R in the process of being erased prior to de-installation 03-04-09: Symm 11R now powered down. RS to liaise with Simon Gibbs on progress of removal 26-04-09: Installation of L1 DKU scheduled for 02-05-09 21-05-09: Installation completed. 2 parity groups require formatting to complete installation 04-06-09: Parity group format complete | H23: Closed | J23: 39968
A24: =SUM(A23+1) -> 17 | B24: 39839 | C24: Egg installation - Cisco | E24: CPW | F24: Installation of 2 x Cisco MDS9513 in to Citi racking scheduled for 28-01-09 09-02-09: Installation completed | H24: Closed | J24: 39853
A25: =SUM(A24+1) -> 18 | B25: 39839 | C25: Egg installation - HiTrack USP-V (FDC) | E25: RS / CPW | F25: Configuration HiTrack for RDC USP-V (18850) is complete. Configuration of FDC USP-V (18779) is pending firewall change 02-0209: Pending firewall change. ETA 4 weeks 26-02-09: Firewall change scheduled for end of March 25-03-09: Firewall changes still pending 03-04-09: Firewall changes scheduled for 04-04-09 26-04-09: Firewall change made but dial-home access still not working 21-05-09: Moved to Production USP-V notes section | H25: Closed | J25: 39954
A26: =SUM(A25+1) -> 19 | B26: 39839 | C26: Egg installation - HiTrack Cisco | E26: AO | F26: Deployment & configuration of HiTrack Monitor server for Cisco HiTrack fault reporting 24-02-09: AO to install HiTrack Monitor 3.9 to monitor Cisco directors 25-03-09: HiTrack has been installed and configured. Confirm next meeting Cisco's are dialling home consistently 03-04-09: Cisco units are successfully dialling home daily. | H26: Closed | J26: 39906
A27: =SUM(A26+1) -> 20 | B27: 39853 | C27: Egg go live | E27: AE / JD | F27: Citi have advised go-live for Egg is 23-02-09 25-03-09: JD to advise of new go-live date 03-04-09: Still to be confirmed 21-05-09: 25-05-09 current go-live date but is unlikely to be achieved 11-06-09: Potential go-live already occurred. To follow-up with JD 08-07-09: Egg is now live | H27: Closed | J27: 40002
A28: =SUM(A27+1) -> 21 | B28: 39853 | C28: Egg Critical Path items | E28: All | F28: Critical Path Items preventing Egg deployment going in to Production: 1) None - system is Production ready | H28: Closed | J28: 39906
A29: London Phase 2 / Poland Migrations Project
A30: =SUM(A28+1) -> 22 | B30: 40002 | C30: Critical path items for London Phase 2 / Poland migrations project | E30: All | F30: 1) Process control manual | H30: Closed | J30: 40072 | K30: =A6 -> 1
A31: =SUM(A30+1) -> 23 | B31: 40002 | C31: Critical path items for London Phase 2 / Poland migrations project | E31: All | F31: 2) HiTrack in Frankfurt | H31: Closed | J31: 40051 | K31: =#REF! -> #REF!
A32: =SUM(A31+1) -> 24 | B32: 40002 | C32: v05 microcode certification | E32: AE | F32: v05 Microcode due to be GA'ed in June. Offers some HDP enhancements. AE to provide details of enhancements to JD 15-07-09: AE provided information to JD | H32: Closed | J32: 40009 | K32: =A140 -> 0
A33: =SUM(A32+1) -> 25 | B33: 40002 | C33: Dependency of HiCommand v6.2 products | E33: AE | F33: AE to confirm the inter-dependency of HDvM, HTsM and HRpM versions 6.0 and 6.2 15-07-09: AE confirmed inter-dependency rules | H33: Closed | J33: 40009
