Workbook

Sheet Revision and Inventories
A1: For Inventories | C1: https://technology.home.citi.net/sites/GBLL3STG/Main%20Project%20Folders/Forms/AllItems.aspx?RootFolder=%2Fsites%2FGBLL3STG%2FMain%20Project%20Folders%2FFTSM&FolderCTID=0x012000E0291FB48FD95941B1DC13B962ECB2D7&View={5047819B-8269-4EE5-92F2-6CBBE4A57A97}
A3: Version | B3: Date | C3: Description
A4: 1 | B4: 20150903 | C4: Initial List
A5: 2 | B5: 20150907 | C5: Added additional tabs
A6: 3 | B6: 20150915 | C6: Added additional engineers
A7: 3.1 | B7: 20150921 | C7: Deleted Doug Novellano and edited Donald Deinhart details
A8: 3.2 | B8: 20150924 | C8: Edited groupings for easy editing
A9: 3.3 | B9: 20151104 | C9: Added Consolidated lists, dump area of regional inventories
A10: 3.4 | B10: 20160105 | C10: Added additional test results from APAC c/o Sunil

Sheet List of Engineers - Original
A1: Name | B1: SOEID | C1: Region | D1: Location | E1: Working Hour (Local Time) | F1: Working Hour (Central Time) | G1: NAS or SAN
A2: Plurad, Michael Karlo Mallari | B2: mp35609 | C2: APAC | D2: Philippines | E2: 08:30 - 05:30 PHT | F2: 19:30 - 4:30 CT | G2: NAS
A3: Bates, Clive | B3: cb81537 | C3: EMEA | D3: London | E3: 9:00-17:00 | F3: 3:00 - 11:00 CT | G3: NAS
A4: Pietruk, Witold | B4: wp92684 | C4: EMEA | D4: Warsaw, Poland | E4: 9:00-17:00 | F4: 2:00 - 10:00 CT | G4: NAS
A5: Nogala, Jacek | B5: jn76047 | C5: EMEA | D5: Warsaw, Poland | E5: 9:00-17:00 | F5: 2:00 - 10:00 CT | G5: NAS
A6: Neelakantan, Lokesh | B6: ln81010 | C6: NAM | D6: Irving | E6: 9:00 -6:00 CT | F6: 9:00 -18:00 CT | G6: NAS
A7: Katragadda, Balavinodh | B7: bk81013 | C7: NAM | D7: Irving | E7: 9:00 -6:00 CT | F7: 9:00 -18:00 CT | G7: NAS
A8: Gandham, Maruti Ram | B8: mg66280 | C8: NAM | D8: Irving | E8: 9:00 -6:00 CT | F8: 9:00 -18:00 CT | G8: NAS
A9: Hameed, Abdul1 | B9: ah24522 | C9: NAM | D9: Irving | E9: 9:00 -6:00 CT | F9: 9:00 -18:00 CT | G9: NAS
A10: Kommaraju, Raghukumar | B10: rk12759 | C10: NAM | D10: Irving | E10: 9:00 -6:00 CT | F10: 9:00 -18:00 CT | G10: NAS
A11: Naeem, Awais | B11: an84979 | C11: NAM | D11: Irving | E11: 9:00 -6:00 CT | F11: 9:00 -18:00 CT | G11: NAS
A12: Sekhar, Ati | B12: as54505 | C12: NAM | D12: Irving | E12: 9:00 -6:00 CT | F12: 9:00 -18:00 CT | G12: NAS
... A26: Karickal, James | B26: jk48146 | C26: NAM | D26: Irving | E26: 9:00 -6:00 CT | F26: 9:00 -18:00 CT | G26: SAN / LAVA/ STI
A38: NAS (11 engineers) | D38: SAN (14 engineers)
A39: 2:00 - 3:00 CT | B39: 3 | D39: 2:00 - 3:00 CT | E39: 6
A40: 3:00 - 4:30 CT | B40: 4 | D40: 3:00 - 4:30 CT | E40: 8
A41: 4:30 - 9:00 CT | B41: 3 | D41: 4:30 - 5:00 CT | E41: 5
A42: 9:00 - 10:00 CT | B42: 10 | D42: 5:00 - 7:00 CT | E42: 4
A43: 10:00 - 11:00 CT | B43: 8 | D43: 7:00 - 8:00 CT | E43: 3
A44: 11:00 - 18:00 CT | B44: 7 | D44: 8:00 - 9:00 CT | E44: 7
A45: 18:00 - 19:30 CT | B45: 0 | D45: 9:00 - 10:00 CT | E45: 9
A46: 19:30 - 2:00 CT | B46: 1 | D46: 10:00 - 11:00 CT | E46: 8
D47: 11:00 - 17:00 CT | E47: 6
A48: NAS (11 engineers) - move 2 NAM to 12:00 - 21:00CT and add 1 APAC 8:30 - 5:30CT | D48: 17:00 - 18:00 CT | E48: 2
A49: 2:00 - 3:00 CT | B49: 5 | D49: 18:00 - 19:30 CT | E49: 0
A50: 3:00 - 4:30 CT | B50: 6 | D50: 19:30 - 20:00 CT | E50: 3
A51: 4:30 - 9:00 CT | B51: 3 | D51: 20:00 - 23:00 CT | E51: 4
A52: 9:00 - 10:00 CT | B52: 8 | D52: 23:00 - 2:00 CT | E52: 5
A53: 10:00 - 11:00 CT | B53: 6
A54: 11:00 - 12:00 CT | B54: 5 | D54: SAN (14 engineers) - move 2 Irving NAM to 12:00 - 21:00 CT
A55: 12:00 - 18:00 CT | B55: 7 | D55: 2:00 - 3:00 CT | E55: 6
A56: 18:00 - 19:30 CT | B56: 2 | D56: 3:00 - 4:30 CT | E56: 8
A57: 19:30 - 21:00 CT | B57: 4 | D57: 4:30 - 5:00 CT | E57: 5
A58: 21:00 - 2:00 CT | B58: 2 | D58: 5:00 - 7:00 CT | E58: 4
D59: 7:00 - 8:00 CT | E59: 3
D60: 8:00 - 9:00 CT | E60: 7
D61: 9:00 - 10:00 CT | E61: 7
D62: 10:00 - 11:00 CT | E62: 6
D63: 11:00 - 12:00 CT | E63: 6
D64: 12:00 - 17:00 CT | E64: 6
...

Sheet Comparative sheet - LOE
A1: Hameed, Abdul1 [CCC-OT_IT] | B1: ah24522 | C1: NAS | D1: =VLOOKUP(B1,H:H,1,0) -> ah24522 | E1: =VLOOKUP(B1,Q:Q,1,0) -> ah24522 | G1: Hameed, Abdul1 | H1: ah24522 | I1: =VLOOKUP(H1,B:B,1,0) -> ah24522 | J1: NAM | K1: Irving | L1: 9:00 -6:00 CT | M1: 9:00 -18:00 CT | N1: NAS | P1: NAM | Q1: ah24522 | R1: =VLOOKUP(Q1,B:B,1,0) -> ah24522 | T1: Hameed, Abdul1
A2: Reddy, Ashok | B2: ar91297 | C2: SAN | D2: =VLOOKUP(B2,H:H,1,0) -> #N/A | E2: =VLOOKUP(B2,Q:Q,1,0) -> ar91297 | P2: EMEA | Q2: ar91297 | R2: =VLOOKUP(Q2,B:B,1,0) -> ar91297 | S2: SAN | T2: Reddy, Ashok
P3: NAM | Q3: as23277 | R3: =VLOOKUP(Q3,B:B,1,0) -> #N/A | S3: NAS | T3: Shrestha, Amit
A4: So, Alan [CCC-OT_IT] | B4: as43276 | C4: NAS | D4: =VLOOKUP(B4,H:H,1,0) -> as43276 | E4: =VLOOKUP(B4,Q:Q,1,0) -> as43276 | G4: So, Alan | H4: as43276 | I4: =VLOOKUP(H4,B:B,1,0) -> as43276 | J4: NAM | K4: NY | L4: 9:00 -6:00 ET | M4: 8:00 - 17:00 CT | N4: SAN | P4: NAM | Q4: as43276 | R4: =VLOOKUP(Q4,B:B,1,0) -> as43276 | T4: So, Alan
A5: Sekhar, Ati [CCC-OT_IT NE] | B5: as54505 | C5: NAS | D5: =VLOOKUP(B5,H:H,1,0) -> as54505 | E5: =VLOOKUP(B5,Q:Q,1,0) -> as54505 | G5: Sekhar, Ati | H5: as54505 | I5: =VLOOKUP(H5,B:B,1,0) -> as54505 | J5: NAM | K5: Irving | L5: 9:00 -6:00 CT | M5: 9:00 -18:00 CT | N5: NAS | P5: NAM | Q5: as54505 | R5: =VLOOKUP(Q5,B:B,1,0) -> as54505 | T5: Sekhar, Ati
A6: Deluca, Bryan | B6: bd70270 | C6: SAN | D6: =VLOOKUP(B6,H:H,1,0) -> #N/A | E6: =VLOOKUP(B6,Q:Q,1,0) -> #N/A
A7: Johns, Brandi L. | B7: bj03264 | C7: SAN | D7: =VLOOKUP(B7,H:H,1,0) -> #N/A | E7: =VLOOKUP(B7,Q:Q,1,0) -> bj03264 | P7: NAM | Q7: bj03264 | R7: =VLOOKUP(Q7,B:B,1,0) -> bj03264 | S7: SAN | T7: Johns, Brandi L.
A8: Katragadda, Balavinodh [CCC-OT_IT NE] | B8: bk81013 | C8: NAS | D8: =VLOOKUP(B8,H:H,1,0) -> bk81013 | E8: =VLOOKUP(B8,Q:Q,1,0) -> bk81013 | G8: Katragadda, Balavinodh | H8: bk81013 | I8: =VLOOKUP(H8,B:B,1,0) -> bk81013 | J8: NAM | K8: Irving | L8: 9:00 -6:00 CT | M8: 9:00 -18:00 CT | N8: NAS | P8: NAM | Q8: bk81013 | R8: =VLOOKUP(Q8,B:B,1,0) -> bk81013 | S8: NAS | T8: Katragadda, Balavinodh
A9: Clive Bates | B9: cb81537 | C9: NAS | D9: =VLOOKUP(B9,H:H,1,0) -> cb81537 | E9: =VLOOKUP(B9,Q:Q,1,0) -> cb81537 | G9: Bates, Clive | H9: cb81537 | I9: =VLOOKUP(H9,B:B,1,0) -> cb81537 | J9: EMEA | K9: London | L9: 9:00-17:00 | M9: 3:00 - 11:00 CT | N9: NAS | P9: EMEA | Q9: cb81537 | R9: =VLOOKUP(Q9,B:B,1,0) -> cb81537 | S9: NAS | T9: Bates, Clive
A10: Novellano, Douglas [CCC-OT_IT] | B10: dn65671 | C10: NAS | D10: =VLOOKUP(B10,H:H,1,0) -> dn65671 | E10: =VLOOKUP(B10,Q:Q,1,0) -> dn65671 | G10: Novellano, Douglas | H10: dn65671 | I10: =VLOOKUP(H10,B:B,1,0) -> dn65671 | J10: NAM | K10: NJ | L10: 9:00 -6:00 ET | M10: 8:00 - 17:00 CT | N10: SAN | P10: NAM | Q10: dn65671 | R10: =VLOOKUP(Q10,B:B,1,0) -> dn65671 | T10: Novellano, Douglas
A11: Nagulapalli, Eswara Prasad [CCC-OT NE] | B11: en53115 | C11: NAS | D11: =VLOOKUP(B11,H:H,1,0) -> en53115 | E11: =VLOOKUP(B11,Q:Q,1,0) -> #N/A | G11: Nagulapalli, Eswara Prasad | H11: en53115 | I11: =VLOOKUP(H11,B:B,1,0) -> en53115 | J11: NAM | K11: Irving | L11: 9:00 -6:00 CT | M11: 9:00 -18:00 CT | N11: SAN
A12: Fernandes, Godfrey A [CCC-OT_IT NE] | B12: gf89952 | C12: NAS | D12: =VLOOKUP(B12,H:H,1,0) -> gf89952 | E12: =VLOOKUP(B12,Q:Q,1,0) -> gf89952 | G12: Fernandes, Godfrey A | H12: gf89952 | I12: =VLOOKUP(H12,B:B,1,0) -> gf89952 | J12: NAM | K12: NJ | L12: 9:00 -6:00 ET | M12: 8:00 - 17:00 CT | N12: SAN | P12: NAM | Q12: gf89952 | R12: =VLOOKUP(Q12,B:B,1,0) -> gf89952 | S12: NAS | T12: Fernandes, Godfrey A
A13: Dhinsa, Harbinder | B13: hd57144 | C13: SAN | D13: =VLOOKUP(B13,H:H,1,0) -> hd57144 | E13: =VLOOKUP(B13,Q:Q,1,0) -> hd57144 | G13: Dhinsa, Harbinder | H13: hd57144 | I13: =VLOOKUP(H13,B:B,1,0) -> hd57144 | J13: EMEA | K13: London | L13: 9:00-17:00 | M13: 3:00 - 11:00 CT | N13: SAN | P13: EMEA | Q13: hd57144 | R13: =VLOOKUP(Q13,B:B,1,0) -> hd57144 | S13: SAN | T13: Dhinsa, Harbinder
A14: Gonzales, James | B14: jg26166 | C14: SAN | D14: =VLOOKUP(B14,H:H,1,0) -> jg26166 | E14: =VLOOKUP(B14,Q:Q,1,0) -> jg26166 | G14: Gonzales, James | H14: jg26166 | I14: =VLOOKUP(H14,B:B,1,0) -> jg26166 | J14: EMEA | K14: Philippines | L14: 9:00-18:00 | M14: 20:00 - 5:00 CT | N14: SAN | P14: EMEA | Q14: jg26166 | R14: =VLOOKUP(Q14,B:B,1,0) -> jg26166 | S14: SAN | T14: Gonzales, James
A15: Higgins, John | B15: jh85336 | C15: SAN | D15: =VLOOKUP(B15,H:H,1,0) -> #N/A | E15: =VLOOKUP(B15,Q:Q,1,0) -> #N/A
A16: Matt, Jeffry E | B16: jm67831 | C16: SAN | D16: =VLOOKUP(B16,H:H,1,0) -> #N/A | E16: =VLOOKUP(B16,Q:Q,1,0) -> #N/A
G17: Karickal, James | H17: jk48146 | I17: =VLOOKUP(H17,B:B,1,0) -> #N/A | J17: NAM | K17: Irving | L17: 9:00 -6:00 CT | M17: 9:00 -18:00 CT | N17: SAN / LAVA/ STI
P18: APAC | Q18: jn62051 | R18: =VLOOKUP(Q18,B:B,1,0) -> #N/A | S18: NAS | T18: Christine, Nuqui Jillian
A19: Jacek Nogala | B19: jn76047 | C19: NAS | D19: =VLOOKUP(B19,H:H,1,0) -> jn76047 | E19: =VLOOKUP(B19,Q:Q,1,0) -> jn76047 | G19: Nogala, Jacek | H19: jn76047 | I19: =VLOOKUP(H19,B:B,1,0) -> jn76047 | J19: EMEA | K19: Warsaw, Poland | L19: 9:00-17:00 | M19: 2:00 - 10:00 CT | N19: NAS | P19: EMEA | Q19: jn76047 | R19: =VLOOKUP(Q19,B:B,1,0) -> jn76047 | S19: NAS | T19: Nogala, Jacek
A20: Hines, Kery | B20: kh64535 | C20: SAN | D20: =VLOOKUP(B20,H:H,1,0) -> #N/A | E20: =VLOOKUP(B20,Q:Q,1,0) -> #N/A
P21: APAC | Q21: ks14775 | R21: =VLOOKUP(Q21,B:B,1,0) -> #N/A | S21: NAS | T21: Babu, Surendra
A22: Vathsavai, Krishnam | B22: kv13183 | C22: SAN | D22: =VLOOKUP(B22,H:H,1,0) -> kv13183 | E22: =VLOOKUP(B22,Q:Q,1,0) -> kv13183 | G22: Vathsavai, Krishnam | H22: kv13183 | I22: =VLOOKUP(H22,B:B,1,0) -> kv13183 | J22: EMEA | K22: Singapore | L22: 12:00 - 20:00 | M22: 23:00 - 7:00 CT | N22: SAN | P22: EMEA | Q22: kv13183 | R22: =VLOOKUP(Q22,B:B,1,0) -> kv13183 | S22: SAN | T22: Vathsavai, Krishnam
A23: Yelisetty, Krishna | B23: ky04806 | C23: SAN | D23: =VLOOKUP(B23,H:H,1,0) -> #N/A | E23: =VLOOKUP(B23,Q:Q,1,0) -> ky04806 | P23: NAM | Q23: ky04806 | R23: =VLOOKUP(Q23,B:B,1,0) -> ky04806 | S23: SAN | T23: Yelisetty, Krishna
A24: Flores Garnica, Luis Felipe | B24: lf42212 | C24: SAN | D24: =VLOOKUP(B24,H:H,1,0) -> #N/A | E24: =VLOOKUP(B24,Q:Q,1,0) -> lf42212 | P24: NAM | Q24: lf42212 | R24: =VLOOKUP(Q24,B:B,1,0) -> lf42212 | S24: SAN | T24: Flores Garnica, Luis Felipe
A25: Neelakantan, Lokesh [CCC-OT_IT NE] | B25: ln81010 | C25: NAS | D25: =VLOOKUP(B25,H:H,1,0) -> ln81010 | E25: =VLOOKUP(B25,Q:Q,1,0) -> ln81010 | G25: Neelakantan, Lokesh | H25: ln81010 | I25: =VLOOKUP(H25,B:B,1,0) -> ln81010 | J25: NAM | K25: Irving | L25: 9:00 -6:00 CT | M25: 9:00 -18:00 CT | N25: NAS | P25: NAM | Q25: ln81010 | R25: =VLOOKUP(Q25,B:B,1,0) -> ln81010 | S25: NAS | T25: Neelakantan, Lokesh
A26: Gandham, Maruti Ram [CCC-OT_IT NE] | B26: mg66280 | C26: NAS | D26: =VLOOKUP(B26,H:H,1,0) -> mg66280 | E26: =VLOOKUP(B26,Q:Q,1,0) -> mg66280 | G26: Gandham, Maruti Ram | H26: mg66280 | I26: =VLOOKUP(H26,B:B,1,0) -> mg66280 | J26: NAM | K26: Irving | L26: 9:00 -6:00 CT | M26: 9:00 -18:00 CT | N26: NAS | P26: NAM | Q26: mg66280 | R26: =VLOOKUP(Q26,B:B,1,0) -> mg66280 | T26: Gandham, Maruti Ram
A27: Marszalowicz, Michael | B27: mm18246 | C27: SAN | D27: =VLOOKUP(B27,H:H,1,0) -> #N/A | E27: =VLOOKUP(B27,Q:Q,1,0) -> #N/A
G28: Plurad, Michael Karlo Mallari | H28: mp35609 | I28: =VLOOKUP(H28,B:B,1,0) -> #N/A | J28: APAC | K28: Philippines | L28: 08:30 - 05:30 PHT | M28: 19:30 - 4:30 CT | N28: NAS
A29: Wilson, Mike | B29: mw69878 | C29: SAN | D29: =VLOOKUP(B29,H:H,1,0) -> #N/A | E29: =VLOOKUP(B29,Q:Q,1,0) -> #N/A
A30: Lui, Peter | B30: pl75643 | C30: SAN | D30: =VLOOKUP(B30,H:H,1,0) -> #N/A | E30: =VLOOKUP(B30,Q:Q,1,0) -> #N/A
P31: APAC | Q31: pr72496 | R31: =VLOOKUP(Q31,B:B,1,0) -> #N/A | S31: SAN | T31: Pappula, Rao
A32: Balasubramanian, Raja | B32: rb02032 | C32: SAN | D32: =VLOOKUP(B32,H:H,1,0) -> #N/A | E32: =VLOOKUP(B32,Q:Q,1,0) -> rb02032 | P32: NAM | Q32: rb02032 | R32: =VLOOKUP(Q32,B:B,1,0) -> rb02032 | S32: SAN | T32: Balasubramanian, Raja
A33: Kommaraju, Raghukumar [CCC-OT_IT NE] | B33: rk12759 | C33: NAS | D33: =VLOOKUP(B33,H:H,1,0) -> rk12759 | E33: =VLOOKUP(B33,Q:Q,1,0) -> rk12759 | G33: Kommaraju, Raghukumar | H33: rk12759 | I33: =VLOOKUP(H33,B:B,1,0) -> rk12759 | J33: NAM | K33: Irving | L33: 9:00 -6:00 CT | M33: 9:00 -18:00 CT | N33: NAS | P33: NAM | Q33: rk12759 | R33: =VLOOKUP(Q33,B:B,1,0) -> rk12759 | T33: Kommaraju, Raghukumar
A34: Ahmed, Salauddin | B34: sa47183 | C34: SAN | D34: =VLOOKUP(B34,H:H,1,0) -> #N/A | E34: =VLOOKUP(B34,Q:Q,1,0) -> sa47183 | P34: EMEA | Q34: sa47183 | R34: =VLOOKUP(Q34,B:B,1,0) -> sa47183 | S34: SAN | T34: Ahmed, Salauddin
G35: Gosangi, Shankara Murthy | H35: sg37224 | I35: =VLOOKUP(H35,B:B,1,0) -> #N/A | J35: APAC | K35: Singapore | L35: 08:30 - 05:30 SST | M35: 19:30 - 4:30 CT | N35: SAN | P35: APAC | Q35: sg37224 | R35: =VLOOKUP(Q35,B:B,1,0) -> #N/A | S35: SAN | T35: Gosangi, Shankara Murthy
A36: Gibbs, Simon | B36: sg76758 | C36: SAN | D36: =VLOOKUP(B36,H:H,1,0) -> sg76758 | E36: =VLOOKUP(B36,Q:Q,1,0) -> sg76758 | G36: Gibbs, Simon | H36: sg76758 | I36: =VLOOKUP(H36,B:B,1,0) -> sg76758 | J36: EMEA | K36: London | L36: 9:00-17:00 | M36: 3:00 - 11:00 CT | N36: SAN | P36: EMEA | Q36: sg76758 | R36: =VLOOKUP(Q36,B:B,1,0) -> sg76758 | S36: SAN | T36: Gibbs, Simon
A37: Hasan, Samir | B37: sh10049 | C37: SAN | D37: =VLOOKUP(B37,H:H,1,0) -> #N/A | E37: =VLOOKUP(B37,Q:Q,1,0) -> #N/A
A38: Kaplow, Susan [CCC-OT_IT] | B38: sk34158 | C38: NAS | D38: =VLOOKUP(B38,H:H,1,0) -> sk34158 | E38: =VLOOKUP(B38,Q:Q,1,0) -> sk34158 | G38: Kaplow, Susan | H38: sk34158 | I38: =VLOOKUP(H38,B:B,1,0) -> sk34158 | J38: NAM | K38: Nevada | L38: 9:00 -6:00 ET | M38: 8:00 - 17:00 CT | N38: SAN | P38: NAM | Q38: sk34158 | R38: =VLOOKUP(Q38,B:B,1,0) -> sk34158 | T38: Kaplow, Susan
G39: Kannan, Shathish | H39: sk36088 | I39: =VLOOKUP(H39,B:B,1,0) -> #N/A | J39: APAC | K39: Singapore | L39: 08:30 - 05:30 SST | M39: 19:30 - 4:30 CT | N39: SAN
P40: NAM | Q40: sm20316 | R40: =VLOOKUP(Q40,B:B,1,0) -> #N/A | S40: NAS | T40: Metta, Syam
...

Sheet List of Engineers - Revised
C1: Details | I1: Details | J1: APAC | AR1: APAC | AS1: EMEA | BI1: EMEA | BJ1: NAM | BQ1: NAM
J2: NAS | S2: SAN | AS2: NAS | AT2: SAN | BJ2: NAS | BK2: SAN
A3: Name | B3: SOEID | C3: Region | D3: Location | E3: Working Hour (Local Time) | F3: Working Hour (Central Time) | G3: Working Hour (GMT) | H3: NAS or SAN | J3: APACHKOPSMGRSA01 | K3: APACSGOPSMGRSA01 | L3: APAUNASSSA | M3: APCNNASSSA | N3: APHKNASSSA | O3: APINNASSSA | P3: APJPNASSSA | Q3: APSGNASSSA | R3: APTHNASSSA | S3: APACSGWINPV7863 (wintel / rdp / dcnm) | T3: APACHKWINUV7857 (wintel / rdp / dcnm) | U3: APACSGWINPV7860 (wintel / rdp / dcnm) | V3: APACHKWINUV7645 (wintel / rdp / dcnm) | W3: SSUNSMM01 (unix / ssh / soln enab) | X3: SSUNSMM02 (unix / ssh / soln enab) | Y3: HSSUNSMM02 (unix / ssh / soln enab) | Z3: HLIXIU170 (unix / ssh / soln enab) | AA3: HKASTCTILXSAN1C (unix / ssh / soln enab) | AB3: SGCTCTILXSAN1P (unix / ssh / soln enab) | AC3: SLIXIP167 (unix / ssh / soln enab) | AD3: HLIXIU634 (unix / ssh / soln enab) | AE3: APACSGU4V03 (wintel / rdp / unisphere) | AF3: APACHKASTU4V03 (wintel / rdp / unisphere) | AG3: APACHKIADU4V03 (wintel / rdp / unisphere) | AH3: SINCTISVXMS8001 (unix / ssh / xms-cli) | AI3: HKGCTISVXMS8001 (unix / ssh / xms-cli) | AJ3: SINCTISANXIO009 (wintel / rdp / xms-gui) | AK3: HKGCTISANXIO009 (wintel / rdp / xms-gui) | AL3: APACSGVPMC001 (wintel / rdp / xiv-gui) | AM3: SLIXIP167 (unix / ssh / xrsc-xcli) | AN3: SLIXGP828 (unix / ssh / xrsc-xcli) | AO3: SGCTILXSANA01P (unix / ssh / xrsc-xcli) | AP3: APACSGEXHMGTV01 (wintel / rdp / cx-vnx uni) | AQ3: APACHKEXHMGTV01 (wintel / rdp / cx-vnx uni) | AS3: Domains | AT3: FFTCTISAHDS001 (rdp) | AU3: UKCTIPRSD42 (rdp) | AV3: UKCTIPRSD36 (rdp) | AW3: FFCTISANAV002 (rdp) | AX3: FFCTISANAV001 (rdp) | AY3: LDNCTISANAV002 (rdp) | AZ3: LDNCTISANAV001 (rdp) | BA3: UKCTIPRSA48 (rdp) | BB3: Fftctisfss01 (rdp) | BC3: UKCTIPRSA50 (rdp) | BD3: FFTCTISVEC002 (rdp) | BE3: UKCTIPRSD42 (rdp) | BF3: rgcctisanla01p (ssh/telnet/tectia) | BG3: fgcctisanla01p (ssh/telnet/tectia) | BH3: cgcctisanla01p (ssh/telnet/tectia) | BJ3: Domain groups | BK3: RDP XiV Server (namuibm01) | BL3: RDP DCNM Server (namuciscoa02) | BM3: Cisco Swith SSH (usucd08ae01) | BN3: RDP U4V Access (namuemc01) | BO3: RDP HCS Server (namuhds03) | BP3: Linux San Control Worksations (namucws01)
A4: Hameed, Abdul1 | B4: ah24522 | C4: NAM | D4: Irving | E4: 08:00-17:00 | F4: 08:00-17:00 | G4: 14:00-23:00 | H4: NAS
A5: Reddy, Ashok | B5: ar91297 | C5: NAM | D5: Singapore | E5: 20:00-04:00 SST | F5: 09:00-18:00 | G5: 14:00-23:00 | H5: SAN
A6: Shrestha, Amit | B6: as23277 | C6: NAM | D6: Irving | E6: 09:00-18:00 | F6: 09:00-18:00 | G6: 14:00-23:00 | H6: NAS
A7: So, Alan | B7: as43276 | C7: NAM | D7: NY | E7: 09:00-16:00 ET | F7: 08:00-17:00 | G7: 13:00-22:00 | H7: SAN
A8: Sekhar, Ati | B8: as54505 | C8: NAM | D8: Irving | E8: 09:00-18:00 | F8: 09:00-18:00 | G8: 14:00-23:00 | H8: NAS
A9: Deluca, Bryan | B9: bd70270 | C9: NAM | D9: Irving | E9: 09:00-18:00 | F9: 09:00-18:00 | G9: 14:00-23:00 | H9: SAN
A10: Johns, Brandi L. | B10: bj03264 | C10: NAM | D10: Irving | E10: 09:00-18:00 | F10: 09:00-18:00 | G10: 14:00-23:00 | H10: SAN
A11: Katragadda, Balavinodh | B11: bk81013 | C11: NAM | D11: Irving | E11: 09:00-18:00 | F11: 09:00-18:00 | G11: 14:00-23:00 | H11: NAS
A12: Bates, Clive | B12: cb81537 | C12: EMEA | D12: London | E12: 09:00-17:00 GMT | F12: 03:00-11:00 | G12: 08:00-16:00 | H12: NAS
A13: Deinhart, Donald M | B13: dd60065 | C13: NAM | D13: Irving | E13: 08:00-17:00 | F13: 08:00-17:00 | G13: 14:00-23:00 | H13: SAN
A14: Nagulapalli, Eswara Prasad | B14: en53115 | C14: NAM | D14: Irving | E14: 09:00-18:00 | F14: 09:00-18:00 | G14: 14:00-23:00 | H14: SAN
A15: Fernandes, Godfrey A | B15: gf89952 | C15: NAM | D15: NJ | E15: 09:00-18:00 ET | F15: 08:00-17:00 | G15: 13:00-22:00 | H15: SAN
... A52: Klos, Zbigniew | B52: zk04269 | C52: EMEA | D52: Lodz, Poland | E52: 09:00-17:00 CET | F52: 02:00-10:00 | G52: 10:00-18:00 | H52: SAN

Sheet List of Engineers - Support
C1: Details | I1: Details | J1: APAC | AR1: APAC | AS1: EMEA | BI1: EMEA | BJ1: NAM | BQ1: NAM
J2: NAS | S2: SAN | AS2: NAS | AT2: SAN | BJ2: NAS | BK2: SAN
A3: Name | B3: SOEID | C3: Region | D3: Location | E3: Working Hour (Local Time) | F3: Working Hour (Central Time) | G3: Working Hour (GMT) | H3: NAS or SAN | J3: APACHKOPSMGRSA01 | K3: APACSGOPSMGRSA01 | L3: APAUNASSSA | M3: APCNNASSSA | N3: APHKNASSSA | O3: APINNASSSA | P3: APJPNASSSA | Q3: APSGNASSSA | R3: APTHNASSSA | S3: APACSGWINPV7863 (wintel / rdp / dcnm) | T3: APACHKWINUV7857 (wintel / rdp / dcnm) | U3: APACSGWINPV7860 (wintel / rdp / dcnm) | V3: APACHKWINUV7645 (wintel / rdp / dcnm) | W3: SSUNSMM01 (unix / ssh / soln enab) | X3: SSUNSMM02 (unix / ssh / soln enab) | Y3: HSSUNSMM02 (unix / ssh / soln enab) | Z3: HLIXIU170 (unix / ssh / soln enab) | AA3: HKASTCTILXSAN1C (unix / ssh / soln enab) | AB3: SGCTCTILXSAN1P (unix / ssh / soln enab) | AC3: SLIXIP167 (unix / ssh / soln enab) | AD3: HLIXIU634 (unix / ssh / soln enab) | AE3: APACSGU4V03 (wintel / rdp / unisphere) | AF3: APACHKASTU4V03 (wintel / rdp / unisphere) | AG3: APACHKIADU4V03 (wintel / rdp / unisphere) | AH3: SINCTISVXMS8001 (unix / ssh / xms-cli) | AI3: HKGCTISVXMS8001 (unix / ssh / xms-cli) | AJ3: SINCTISANXIO009 (wintel / rdp / xms-gui) | AK3: HKGCTISANXIO009 (wintel / rdp / xms-gui) | AL3: APACSGVPMC001 (wintel / rdp / xiv-gui) | AM3: SLIXIP167 (unix / ssh / xrsc-xcli) | AN3: SLIXGP828 (unix / ssh / xrsc-xcli) | AO3: SGCTILXSANA01P (unix / ssh / xrsc-xcli) | AP3: APACSGEXHMGTV01 (wintel / rdp / cx-vnx uni) | AQ3: APACHKEXHMGTV01 (wintel / rdp / cx-vnx uni) | AS3: Domains | AT3: FFTCTISAHDS001 (rdp) | AU3: UKCTIPRSD42 (rdp) | AV3: UKCTIPRSD36 (rdp) | AW3: FFCTISANAV002 (rdp) | AX3: FFCTISANAV001 (rdp) | AY3: LDNCTISANAV002 (rdp) | AZ3: LDNCTISANAV001 (rdp) | BA3: UKCTIPRSA48 (rdp) | BB3: Fftctisfss01 (rdp) | BC3: UKCTIPRSA50 (rdp) | BD3: FFTCTISVEC002 (rdp) | BE3: UKCTIPRSD42 (rdp) | BF3: rgcctisanla01p (ssh/telnet/tectia) | BG3: fgcctisanla01p (ssh/telnet/tectia) | BH3: cgcctisanla01p (ssh/telnet/tectia) | BJ3: Domain groups | BK3: RDP XiV Server (namuibm01) | BL3: RDP DCNM Server (namuciscoa02) | BM3: Cisco Swith SSH (usucd08ae01) | BN3: RDP U4V Access (namuemc01) | BO3: RDP HCS Server (namuhds03) | BP3: Linux San Control Worksations (namucws01)
A4: Hameed, Abdul1 | B4: ah24522 | C4: NAM | D4: Irving | E4: 08:00-17:00 | F4: 08:00-17:00 | G4: 14:00-23:00 | H4: NAS
A5: Shrestha, Amit | B5: as23277 | C5: NAM | D5: Irving | E5: 09:00-18:00 | F5: 09:00-18:00 | G5: 14:00-23:00 | H5: NAS
A6: So, Alan | B6: as43276 | C6: NAM | D6: NY | E6: 09:00-16:00 ET | F6: 08:00-17:00 | G6: 13:00-22:00 | H6: SAN
A7: Sekhar, Ati | B7: as54505 | C7: NAM | D7: Irving | E7: 09:00-18:00 | F7: 09:00-18:00 | G7: 14:00-23:00 | H7: NAS
A8: Johns, Brandi L. | B8: bj03264 | C8: NAM | D8: Irving | E8: 09:00-18:00 | F8: 09:00-18:00 | G8: 14:00-23:00 | H8: SAN
A9: Katragadda, Balavinodh | B9: bk81013 | C9: NAM | D9: Irving | E9: 09:00-18:00 | F9: 09:00-18:00 | G9: 14:00-23:00 | H9: NAS
A10: Bates, Clive | B10: cb81537 | C10: EMEA | D10: London | E10: 09:00-17:00 GMT | F10: 03:00-11:00 | G10: 08:00-16:00 | H10: NAS
A11: Deinhart, Donald M | B11: dd60065 | C11: NAM | D11: Irving | E11: 08:00-17:00 | F11: 08:00-17:00 | G11: 14:00-23:00 | H11: SAN
A12: Nagulapalli, Eswara Prasad | B12: en53115 | C12: NAM | D12: Irving | E12: 09:00-18:00 | F12: 09:00-18:00 | G12: 14:00-23:00 | H12: SAN
A13: Fernandes, Godfrey A | B13: gf89952 | C13: NAM | D13: NJ | E13: 09:00-18:00 ET | F13: 08:00-17:00 | G13: 13:00-22:00 | H13: SAN
A14: Dhinsa, Harbinder | B14: hd57144 | C14: EMEA | D14: London | E14: 09:00-17:00 GMT | F14: 03:00-11:00 | G14: 08:00-16:00 | H14: SAN
A15: Gonzales, James | B15: jg26166 | C15: EMEA | D15: Philippines | E15: 09:00-18:00 PHT | F15: 20:00-05:00 | G15: 01:00-10:00 | H15: SAN
... A39: Klos, Zbigniew | B39: zk04269 | C39: EMEA | D39: Lodz, Poland | E39: 09:00-17:00 CET | F39: 02:00-10:00 | G39: 10:00-18:00 | H39: SAN

Sheet LOER - Access request details
C1: Details | I1: Details | J1: APAC | AT1: APAC | AU1: EMEA | BK1: EMEA | BL1: NAM | BS1: NAM
J2: NAS | U2: SAN | AU2: NAS | AV2: SAN | BL2: NAS | BM2: SAN
A3: Name | B3: SOEID | C3: Region | D3: Location | E3: Working Hour (Local Time) | F3: Working Hour (Central Time) | G3: Working Hour (GMT) | H3: NAS or SAN | J3: SA ID | K3: APACHKOPSMGRSA01 | L3: APACSGOPSMGRSA01 | M3: APGBLNASSSA | N3: APAUNASSSA | O3: APCNNASSSA | P3: APHKNASSSA | Q3: APINNASSSA | R3: APJPNASSSA | S3: APSGNASSSA | T3: APTHNASSSA | U3: APACSGWINPV7863 (wintel / rdp / dcnm) | V3: APACHKWINUV7857 (wintel / rdp / dcnm) | W3: APACSGWINPV7860 (wintel / rdp / dcnm) | X3: APACHKWINUV7645 (wintel / rdp / dcnm) | Y3: SSUNSMM01 (unix / ssh / soln enab) | Z3: SSUNSMM02 (unix / ssh / soln enab) | AA3: HSSUNSMM02 (unix / ssh / soln enab) | AB3: HLIXIU170 (unix / ssh / soln enab) | AC3: HKASTCTILXSAN1C (unix / ssh / soln enab) | AD3: SGCTCTILXSAN1P (unix / ssh / soln enab) | AE3: SLIXIP167 (unix / ssh / soln enab) | AF3: HLIXIU634 (unix / ssh / soln enab) | AG3: APACSGU4V03 (wintel / rdp / unisphere) | AH3: APACHKASTU4V03 (wintel / rdp / unisphere) | AI3: APACHKIADU4V03 (wintel / rdp / unisphere) | AJ3: SINCTISVXMS8001 (unix / ssh / xms-cli) | AK3: HKGCTISVXMS8001 (unix / ssh / xms-cli) | AL3: SINCTISANXIO009 (wintel / rdp / xms-gui) | AM3: HKGCTISANXIO009 (wintel / rdp / xms-gui) | AN3: APACSGVPMC001 (wintel / rdp / xiv-gui) | AO3: SLIXIP167 (unix / ssh / xrsc-xcli) | AP3: SLIXGP828 (unix / ssh / xrsc-xcli) | AQ3: SGCTILXSANA01P (unix / ssh / xrsc-xcli) | AR3: APACSGEXHMGTV01 (wintel / rdp / cx-vnx uni) | AS3: APACHKEXHMGTV01 (wintel / rdp / cx-vnx uni) | AU3: Domains | AV3: FFTCTISAHDS001 (rdp) | AW3: UKCTIPRSD42 (rdp) | AX3: UKCTIPRSD36 (rdp) | AY3: FFCTISANAV002 (rdp) | AZ3: FFCTISANAV001 (rdp) | BA3: LDNCTISANAV002 (rdp) | BB3: LDNCTISANAV001 (rdp) | BC3: UKCTIPRSA48 (rdp) | BD3: Fftctisfss01 (rdp) | BE3: UKCTIPRSA50 (rdp) | BF3: FFTCTISVEC002 (rdp) | BG3: UKCTIPRSD42 (rdp) | BH3: rgcctisanla01p (ssh/telnet/tectia) | BI3: fgcctisanla01p (ssh/telnet/tectia) | BJ3: cgcctisanla01p (ssh/telnet/tectia) | BL3: Domain groups | BM3: RDP XiV Server (namuibm01) | BN3: RDP DCNM Server (namuciscoa02) | BO3: Cisco Swith SSH (usucd08ae01) | BP3: RDP U4V Access (namuemc01) | BQ3: RDP HCS Server (namuhds03) | BR3: Linux San Control Worksations (namucws01)
A4: Hameed, Abdul1 | B4: ah24522 | C4: NAM | D4: Irving | E4: 08:00-17:00 | F4: 08:00-17:00 | G4: 14:00-23:00 | H4: NAS | J4: AH24522sa | K4: WS33950825 | L4: WS33951787 | M4: WS34114552
A5: Reddy, Ashok | B5: ar91297 | C5: NAM | D5: Singapore | E5: 20:00-04:00 SST | F5: 09:00-18:00 | G5: 14:00-23:00 | H5: SAN
A6: Shrestha, Amit | B6: as23277 | C6: NAM | D6: Irving | E6: 09:00-18:00 | F6: 09:00-18:00 | G6: 14:00-23:00 | H6: NAS | J6: WS34118571
A7: So, Alan | B7: as43276 | C7: NAM | D7: NY | E7: 09:00-16:00 ET | F7: 08:00-17:00 | G7: 13:00-22:00 | H7: SAN | J7: AS43276sa | K7: WS33950898 | L7: WS33951623 | M7: WS34114626
A8: Sekhar, Ati | B8: as54505 | C8: NAM | D8: Irving | E8: 09:00-18:00 | F8: 09:00-18:00 | G8: 14:00-23:00 | H8: NAS | J8: saas54505 | K8: OK | L8: WS33951632 | M8: WS34114619
A9: Deluca, Bryan | B9: bd70270 | C9: NAM | D9: Irving | E9: 09:00-18:00 | F9: 09:00-18:00 | G9: 14:00-23:00 | H9: SAN
A10: Johns, Brandi L. | B10: bj03264 | C10: NAM | D10: Irving | E10: 09:00-18:00 | F10: 09:00-18:00 | G10: 14:00-23:00 | H10: SAN | J10: bj03264sa | K10: WS34115532 | L10: WS34115523 | M10: WS34114949
A11: Katragadda, Balavinodh | B11: bk81013 | C11: NAM | D11: Irving | E11: 09:00-18:00 | F11: 09:00-18:00 | G11: 14:00-23:00 | H11: NAS | J11: BK81013sa | K11: WS33950635 | L11: WS33951808 | M11: WS34114505
A12: Bates, Clive | B12: cb81537 | C12: EMEA | D12: London | E12: 09:00-17:00 GMT | F12: 03:00-11:00 | G12: 08:00-16:00 | H12: NAS | J12: sacb81537 | K12: OK | L12: WS33951589 | M12: WS34114648
A13: Deinhart, Donald M | B13: dd60065 | C13: NAM | D13: Irving | E13: 08:00-17:00 | F13: 08:00-17:00 | G13: 14:00-23:00 | H13: SAN
A14: Nagulapalli, Eswara Prasad | B14: en53115 | C14: NAM | D14: Irving | E14: 09:00-18:00 | F14: 09:00-18:00 | G14: 14:00-23:00 | H14: SAN | J14: EN53115sa | K14: WS33950910 | L14: WS33951598 | M14: WS34114645
A15: Fernandes, Godfrey A | B15: gf89952 | C15: NAM | D15: NJ | E15: 09:00-18:00 ET | F15: 08:00-17:00 | G15: 13:00-22:00 | H15: SAN | J15: GF89952sa | K15: WS33950774 | L15: WS33951805 | M15: WS34114516
A16: Dhinsa, Harbinder | B16: hd57144 | C16: EMEA | D16: London | E16: 09:00-17:00 GMT | F16: 03:00-11:00 | G16: 08:00-16:00 | H16: SAN | J16: HD57144sa | K16: WS34115544 | L16: WS34115506 | M16: WS34114961
A17: Gonzales, James | B17: jg26166 | C17: EMEA | D17: Philippines | E17: 09:00-18:00 PHT | F17: 20:00-05:00 | G17: 01:00-10:00 | H17: SAN | J17: JG26166sa | K17: WS34115561 | L17: WS34115483 | M17: WS34114976
A18: Higgins, John | B18: jh85336 | C18: NAM | D18: Irving | E18: 09:00-18:00 | F18: 09:00-18:00 | G18: 14:00-23:00 | H18: SAN
A19: Karickal, James | B19: jk48146 | C19: NAM | D19: Irving | E19: 09:00-18:00 | F19: 09:00-18:00 | G19: 14:00-23:00 | H19: SAN / LAVA/ STI | J19: WS34118584
A20: Matt, Jeffry E | B20: jm67831 | C20: NAM | D20: Jacksonville | E20: 09:00-18:00 ET | F20: 09:00-18:00 | G20: 14:00-23:00 | H20: SAN
A21: Nuqui, Jillian Christine | B21: jn62051 | C21: APAC | D21: Philippines | E21: 09:00-18:00 | F21: 20:00-05:00 | G21: 01:00-10:00 | H21: NAS | J21: sajn62051
A22: Nogala, Jacek | B22: jn76047 | C22: EMEA | D22: Warsaw, Poland | E22: 09:00-17:00 CET | F22: 02:00-10:00 | G22: 07:00-15:00 | H22: NAS | J22: JN76047sa | K22: WS33950918 | L22: WS33950943 | M22: WS34114870
A23: Hines, Kery | B23: kh64535 | C23: NAM | D23: Las Vegas, Nevada | E23: 07:00-16:00 PDT | F23: 09:00-18:00 | G23: 14:00-23:00 | H23: SAN
A24: Babu, Surendra | B24: ks14775 | C24: APAC | D24: Singapore | E24: 09:00-18:00 | F24: 20:00-05:00 | G24: 01:00-10:00 | H24: NAS | J24: saks14775
A25: Vathsavai, Krishnam | B25: kv13183 | C25: EMEA | D25: Singapore | E25: 12:00-20:00 SST | F25: 23:00-07:00 | G25: 04:00-12:00 | H25: SAN | J25: KV13183SA | K25: WS34115595 | L25: WS34115367 | M25: WS34115022
A26: Yelisetty, Krishna | B26: ky04806 | C26: NAM | D26: Irving | E26: 09:00-18:00 | F26: 09:00-18:00 | G26: 14:00-23:00 | H26: SAN | J26: WS34118596
A27: Flores Garnica, Luis Felipe | B27: lf42212 | C27: NAM | D27: Mexico | E27: 09:00-18:00 | F27: 09:00-18:00 | G27: 14:00-23:00 | H27: SAN | J27: WS34118609
A28: Neelakantan, Lokesh | B28: ln81010 | C28: NAM | D28: Irving | E28: 09:00-18:00 | F28: 09:00-18:00 | G28: 14:00-23:00 | H28: NAS | J28: LN81010SA | K28: WS33950624 | L28: WS33951814 | M28: WS34114499
A29: Gandham, Maruti Ram | B29: mg66280 | C29: NAM | D29: Irving | E29: 09:00-18:00 | F29: 09:00-18:00 | G29: 14:00-23:00 | H29: NAS | J29: MG66280sa | K29: WS33950781 | L29: WS33951797 | M29: WS34114525
A30: Marszalowicz, Michael | B30: mm18246 | C30: NAM | D30: NJ | E30: 09:00-18:00 ET | F30: 08:00-17:00 | G30: 13:00-22:00 | H30: SAN
A31: Plurad, Michael Karlo Mallari | B31: mp35609 | C31: APAC | D31: Philippines | E31: 08:30-17:30 PHT | F31: 19:30-04:30 | G31: 00:30-09:30 | H31: NAS | J31: mp35609sa
A32: Wilson, Mike | B32: mw69878 | C32: NAM | D32: London | E32: 09:00-17:00 GMT | F32: 03:00-11:00 | G32: 08:00-16:00 | H32: SAN
A33: Lui, Peter | B33: pl75643 | C33: NAM | D33: NY | E33: 09:00-18:00 ET | F33: 08:00-17:00 | G33: 13:00-22:00 | H33: SAN
A34: Pappula, Rao | B34: pr72496 | C34: APAC | D34: Singapore | E34: 09:00-18:00 SST | F34: 20:00-05:00 | G34: 01:00-10:00 | H34: SAN
A35: Balasubramanian, Raja | B35: rb02032 | C35: NAM | D35: NJ | E35: 09:00-18:00 ET | F35: 08:00-17:00 | G35: 13:00-22:00 | H35: SAN
A36: Kommaraju, Raghukumar | B36: rk12759 | C36: NAM | D36: Irving | E36: 09:00-18:00 | F36: 09:00-18:00 | G36: 14:00-23:00 | H36: NAS | J36: sark12759 | K36: WS33950862 | L36: WS33951667 | M36: WS34114583
A37: Pillai, Raju | B37: rp04578 | C37: APAC | D37: Singapore | E37: 08:30-17:30 SST | F37: 19:30-04:30 | G37: 00:30-09:30 | H37: SAN
A38: Ahmed, Salauddin | B38: sa47183 | C38: EMEA | D38: London | E38: 14:00-23:00 GMT | F38: 09:00-18:00 | G38: 14:00-23:00 | H38: SAN
A39: Gosangi, Shankara Murthy | B39: sg37224 | C39: APAC | D39: Singapore | E39: 08:30-17:30 SST | F39: 19:30-04:30 | G39: 00:30-09:30 | H39: SAN
A40: Gibbs, Simon | B40: sg76758 | C40: EMEA | D40: London | E40: 09:00-17:00 GMT | F40: 03:00-11:00 | G40: 08:00-17:00 | H40: SAN | J40: SG76758sa | K40: WS34115533 | L40: WS34115518 | M40: WS34114957
...

Sheet LOER - Test details
C1: Details | I1: Details | J1: APAC | AT1: APAC | AU1: EMEA | BM1: EMEA | BN1: NAM | BW1: NAM
J2: NAS | S2: APAC NAS | T2: SAN | AS2: APAC SAN | AU2: NAS | AV2: EMEA NAS | AW2: SAN | BL2: EMEA SAN | BN2: NAS | BO2: NAM NAS | BP2: SAN | BV2: NAM SAN
A3: Name | B3: SOEID | C3: Region | D3: Location | E3: Working Hour (Local Time) | F3: Working Hour (Central Time) | G3: Working Hour (GMT) | H3: NAS or SAN | J3: APACHKOPSMGRSA01 | K3: APACSGOPSMGRSA01 | L3: APAUNASSSA | M3: APCNNASSSA | N3: APHKNASSSA | O3: APINNASSSA | P3: APJPNASSSA | Q3: APSGNASSSA | R3: APTHNASSSA | T3: APACSGWINPV7863 (wintel / rdp / dcnm) | U3: APACHKWINUV7857 (wintel / rdp / dcnm) | V3: APACSGWINPV7860 (wintel / rdp / dcnm) | W3: APACHKWINUV7645 (wintel / rdp / dcnm) | X3: SSUNSMM01 (unix / ssh / soln enab) | Y3: SSUNSMM02 (unix / ssh / soln enab) | Z3: HSSUNSMM02 (unix / ssh / soln enab) | AA3: HLIXIU170 (unix / ssh / soln enab) | AB3: HKASTCTILXSAN1C (unix / ssh / soln enab) | AC3: SGCTCTILXSAN1P (unix / ssh / soln enab) | AD3: SLIXIP167 (unix / ssh / soln enab) | AE3: HLIXIU634 (unix / ssh / soln enab) | AF3: APACSGU4V03 (wintel / rdp / unisphere) | AG3: APACHKASTU4V03 (wintel / rdp / unisphere) | AH3: APACHKIADU4V03 (wintel / rdp / unisphere) | AI3: SINCTISVXMS8001 (unix / ssh / xms-cli) | AJ3: HKGCTISVXMS8001 (unix / ssh / xms-cli) | AK3: SINCTISANXIO009 (wintel / rdp / xms-gui) | AL3: HKGCTISANXIO009 (wintel / rdp / xms-gui) | AM3: APACSGVPMC001 (wintel / rdp / xiv-gui) | AN3: SLIXIP167 (unix / ssh / xrsc-xcli) | AO3: SLIXGP828 (unix / ssh / xrsc-xcli) | AP3: SGCTILXSANA01P (unix / ssh / xrsc-xcli) | AQ3: APACSGEXHMGTV01 (wintel / rdp / cx-vnx uni) | AR3: APACHKEXHMGTV01 (wintel / rdp / cx-vnx uni) | AU3: Domains | AW3: FFTCTISAHDS001 (rdp) | AX3: UKCTIPRSD42 (rdp) | AY3: UKCTIPRSD36 (rdp) | AZ3: FFCTISANAV002 (rdp) | BA3: FFCTISANAV001 (rdp) | BB3: LDNCTISANAV002 (rdp) | BC3: LDNCTISANAV001 (rdp) | BD3: UKCTIPRSA48 (rdp) | BE3: Fftctisfss01 (rdp) | BF3: UKCTIPRSA50 (rdp) | BG3: FFTCTISVEC002 (rdp) | BH3: UKCTIPRSD42 (rdp) | BI3: rgcctisanla01p (ssh/telnet/tectia) | BJ3: fgcctisanla01p (ssh/telnet/tectia) | BK3: cgcctisanla01p (ssh/telnet/tectia) | BN3: Domain groups | BP3: RDP XiV Server (namuibm01) | BQ3: RDP DCNM Server (namuciscoa02) | BR3: Cisco Swith SSH (usucd08ae01) | BS3: RDP U4V Access (namuemc01) | BT3: RDP HCS Server (namuhds03) | BU3: Linux San Control Worksations (namucws01) | BX3: Name | BY3: SOEID | BZ3: Region | CA3: NAS or SAN
A4: Hameed, Abdul1 | B4: ah24522 | C4: NAM | D4: Irving | E4: 08:00-17:00 | F4: 08:00-17:00 | G4: 14:00-23:00 | H4: NAS | BX4: Hameed, Abdul1 | BY4: ah24522 | BZ4: NAM | CA4: NAS
A5: Reddy, Ashok | B5: ar91297 | C5: NAM | D5: Singapore | E5: 20:00-04:00 SST | F5: 09:00-18:00 | G5: 14:00-23:00 | H5: SAN | AW5: y | AX5: y | AY5: y | AZ5: y | BA5: y | BB5: y | BC5: y | BD5: y | BE5: y | BF5: y | BG5: y | BH5: y | BI5: y | BJ5: y | BK5: y | BP5: y | BQ5: y | BR5: y | BS5: y | BT5: y | BU5: y | BX5: Reddy, Ashok | BY5: ar91297 | BZ5: NAM | CA5: SAN
A6: Shrestha, Amit | B6: as23277 | C6: NAM | D6: Irving | E6: 09:00-18:00 | F6: 09:00-18:00 | G6: 14:00-23:00 | H6: NAS | BX6: Shrestha, Amit | BY6: as23277 | BZ6: NAM | CA6: NAS
A7: So, Alan | B7: as43276 | C7: NAM | D7: NY | E7: 09:00-16:00 ET | F7: 08:00-17:00 | G7: 13:00-22:00 | H7: SAN | BP7: y | BQ7: y | BR7: y | BS7: y | BT7: y | BU7: y | BX7: So, Alan | BY7: as43276 | BZ7: NAM | CA7: SAN
A8: Sekhar, Ati | B8: as54505 | C8: NAM | D8: Irving | E8: 09:00-18:00 | F8: 09:00-18:00 | G8: 14:00-23:00 | H8: NAS | BX8: Sekhar, Ati | BY8: as54505 | BZ8: NAM | CA8: NAS
A9: Deluca, Bryan | B9: bd70270 | C9: NAM | D9: Irving | E9: 09:00-18:00 | F9: 09:00-18:00 | G9: 14:00-23:00 | H9: SAN | BP9: y | BQ9: y | BR9: y | BS9: y | BT9: y | BU9: y | BX9: Deluca, Bryan | BY9: bd70270 | BZ9: NAM | CA9: SAN
A10: Johns, Brandi L. | B10: bj03264 | C10: NAM | D10: Irving | E10: 09:00-18:00 | F10: 09:00-18:00 | G10: 14:00-23:00 | H10: SAN | BP10: y | BQ10: y | BR10: y | BS10: y | BT10: y | BU10: y | BX10: Johns, Brandi L. | BY10: bj03264 | BZ10: NAM | CA10: SAN
A11: Katragadda, Balavinodh | B11: bk81013 | C11: NAM | D11: Irving | E11: 09:00-18:00 | F11: 09:00-18:00 | G11: 14:00-23:00 | H11: NAS | BX11: Katragadda, Balavinodh | BY11: bk81013 | BZ11: NAM | CA11: NAS
A12: Bates, Clive | B12: cb81537 | C12: EMEA | D12: London | E12: 09:00-17:00 GMT | F12: 03:00-11:00 | G12: 08:00-16:00 | H12: NAS | BX12: Bates, Clive | BY12: cb81537 | BZ12: EMEA | CA12: NAS
A13: Deinhart, Donald M | B13: dd60065 | C13: NAM | D13: Irving | E13: 08:00-17:00 | F13: 08:00-17:00 | G13: 14:00-23:00 | H13: SAN | BP13: y | BQ13: y | BR13: y | BS13: y | BT13: y | BU13: y | BX13: Deinhart, Donald M | BY13: dd60065 | BZ13: NAM | CA13: SAN
A14: Nagulapalli, Eswara Prasad | B14: en53115 | C14: NAM | D14: Irving | E14: 09:00-18:00 | F14: 09:00-18:00 | G14: 14:00-23:00 | H14: SAN | BP14: y | BQ14: y | BR14: y | BS14: y | BT14: y | BU14: y | BX14: Nagulapalli, Eswara Prasad | BY14: en53115 | BZ14: NAM | CA14: SAN
A15: Fernandes, Godfrey A | B15: gf89952 | C15: NAM | D15: NJ | E15: 09:00-18:00 ET | F15: 08:00-17:00 | G15: 13:00-22:00 | H15: SAN | BP15: y | BQ15: y | BR15: y | BS15: y | BT15: y | BU15: y | BX15: Fernandes, Godfrey A | BY15: gf89952 | BZ15: NAM | CA15: SAN
A16: Dhinsa, Harbinder | B16: hd57144 | C16: EMEA | D16: London | E16: 09:00-17:00 GMT | F16: 03:00-11:00 | G16: 08:00-16:00 | H16: SAN | AW16: y | AX16: y | AY16: y | AZ16: y | BA16: y | BB16: y | BC16: y | BD16: y | BE16: y | BF16: y | BG16: y | BH16: y | BI16: y | BJ16: y | BK16: y | BX16: Dhinsa, Harbinder | BY16: hd57144 | BZ16: EMEA | CA16: SAN
A17: Gonzales, James | B17: jg26166 | C17: EMEA | D17: Philippines | E17: 09:00-18:00 PHT | F17: 20:00-05:00 | G17: 01:00-10:00 | H17: SAN | AW17: y | AX17: y | AY17: y | AZ17: y | BA17: y | BB17: y | BC17: y | BD17: y | BE17: y | BF17: y | BG17: y | BH17: y | BI17: y | BJ17: y | BK17: y | BX17: Gonzales, James | BY17: jg26166 | BZ17: EMEA | CA17: SAN
A18: Higgins, John | B18: jh85336 | C18: NAM | D18: Irving | E18: 09:00-18:00 | F18: 09:00-18:00 | G18: 14:00-23:00 | H18: SAN | BP18: y | BQ18: y | BR18: y | BS18: y | BT18: y | BU18: y | BX18: Higgins, John | BY18: jh85336 | BZ18: NAM | CA18: SAN
A19: Karickal, James | B19: jk48146 | C19: NAM | D19: Irving | E19: 09:00-18:00 | F19: 09:00-18:00 | G19: 14:00-23:00 | H19: SAN / LAVA/ STI | BP19: y | BQ19: y | BR19: y | BS19: y | BT19: y | BU19: y | BX19: Karickal, James | BY19: jk48146 | BZ19: NAM | CA19: SAN / LAVA/ STI
A20: Matt, Jeffry E | B20: jm67831 | C20: NAM | D20: Jacksonville | E20: 09:00-18:00 ET | F20: 09:00-18:00 | G20: 14:00-23:00 | H20: SAN | BP20: y | BQ20: y | BR20: y | BS20: y | BT20: y | BU20: y | BX20: Matt, Jeffry E | BY20: jm67831 | BZ20: NAM | CA20: SAN
A21: Nuqui, Jillian Christine | B21: jn62051 | C21: APAC | D21: Philippines | E21: 09:00-18:00 | F21: 20:00-05:00 | G21: 01:00-10:00 | H21: NAS | J21: y | K21: y | L21: y | M21: y | N21: y | O21: y | P21: y | Q21: y | R21: y | BX21: Nuqui, Jillian Christine | BY21: jn62051 | BZ21: APAC | CA21: NAS
A22: Nogala, Jacek | B22: jn76047 | C22: EMEA | D22: Warsaw, Poland | E22: 09:00-17:00 CET | F22: 02:00-10:00 | G22: 07:00-15:00 | H22: NAS | BX22: Nogala, Jacek | BY22: jn76047 | BZ22: EMEA | CA22: NAS
A23: Hines, Kery | B23: kh64535 | C23: NAM | D23: Las Vegas, Nevada | E23: 07:00-16:00 PDT | F23: 09:00-18:00 | G23: 14:00-23:00 | H23: SAN | BP23: y | BQ23: y | BR23: y | BS23: y | BT23: y | BU23: y | BX23: Hines, Kery | BY23: kh64535 | BZ23: NAM | CA23: SAN
A24: Babu, Surendra | B24: ks14775 | C24: APAC | D24: Singapore | E24: 09:00-18:00 | F24: 20:00-05:00 | G24: 01:00-10:00 | H24: NAS | J24: y | K24: y | L24: y | M24: y | N24: y | O24: y | P24: y | Q24: y | R24: y | BX24: Babu, Surendra | BY24: ks14775 | BZ24: APAC | CA24: NAS
A25: Vathsavai, Krishnam | B25: kv13183 | C25: EMEA | D25: Singapore | E25: 12:00-20:00 SST | F25: 23:00-07:00 | G25: 04:00-12:00 | H25: SAN | AW25: y | AX25: y | AY25: y | AZ25: y | BA25: y | BB25: y | BC25: y | BD25: y | BE25: y | BF25: y | BG25: y | BH25: y | BI25: y | BJ25: y | BK25: y | BX25: Vathsavai, Krishnam | BY25: kv13183 | BZ25: EMEA | CA25: SAN
A26: Yelisetty, Krishna | B26: ky04806 | C26: NAM | D26: Irving | E26: 09:00-18:00 | F26: 09:00-18:00 | G26: 14:00-23:00 | H26: SAN | BP26: y | BQ26: y | BR26: y | BS26: y | BT26: y | BU26: y | BX26: Yelisetty, Krishna | BY26: ky04806 | BZ26: NAM | CA26: SAN
A27: Flores Garnica, Luis Felipe | B27: lf42212 | C27: NAM | D27: Mexico | E27: 09:00-18:00 | F27: 09:00-18:00 | G27: 14:00-23:00 | H27: SAN | BP27: y | BQ27: y | BR27: y | BS27: y | BT27: y | BU27: y | BX27: Flores Garnica, Luis Felipe | BY27: lf42212 | BZ27: NAM | CA27: SAN
A28: Neelakantan, Lokesh | B28: ln81010 | C28: NAM | D28: Irving | E28: 09:00-18:00 | F28: 09:00-18:00 | G28: 14:00-23:00 | H28: NAS | BX28: Neelakantan, Lokesh | BY28: ln81010 | BZ28: NAM | CA28: NAS
A29: Gandham, Maruti Ram | B29: mg66280 | C29: NAM | D29: Irving | E29: 09:00-18:00 | F29: 09:00-18:00 | G29: 14:00-23:00 | H29: NAS | BX29: Gandham, Maruti Ram | BY29: mg66280 | BZ29: NAM | CA29: NAS
A30: Marszalowicz, Michael | B30: mm18246 | C30: NAM | D30: NJ | E30: 09:00-18:00 ET | F30: 08:00-17:00 | G30: 13:00-22:00 | H30: SAN | BP30: y | BQ30: y | BR30: y | BS30: y | BT30: y | BU30: y | BX30: Marszalowicz, Michael | BY30: mm18246 | BZ30: NAM | CA30: SAN
A31: Plurad, Michael Karlo Mallari | B31: mp35609 | C31: APAC | D31: Philippines | E31: 08:30-17:30 PHT | F31: 19:30-04:30 | G31: 00:30-09:30 | H31: NAS | J31: y | K31: y | L31: y | M31: y | N31: y | O31: y | P31: y | Q31: y | R31: y | BX31: Plurad, Michael Karlo Mallari | BY31: mp35609 | BZ31: APAC | CA31: NAS
A32: Wilson, Mike | B32: mw69878 | C32: NAM | D32: London | E32: 09:00-17:00 GMT | F32: 03:00-11:00 | G32: 08:00-16:00 | H32: SAN | BP32: y | BQ32: y | BR32: y | BS32: y | BT32: y | BU32: y | BX32: Wilson, Mike | BY32: mw69878 | BZ32: NAM | CA32: SAN
A33: Lui, Peter | B33: pl75643 | C33: NAM | D33: NY | E33: 09:00-18:00 ET | F33: 08:00-17:00 | G33: 13:00-22:00 | H33: SAN | BP33: y | BQ33: y | BR33: y | BS33: y | BT33: y | BU33: y | BX33: Lui, Peter | BY33: pl75643 | BZ33: NAM | CA33: SAN
A34: Pappula, Rao | B34: pr72496 | C34: APAC | D34: Singapore | E34: 09:00-18:00 SST | F34: 20:00-05:00 | G34: 01:00-10:00 | H34: SAN | T34: y | U34: y | V34: y | W34: y | X34: y | Y34: y | Z34: y | AA34: y | AB34: y | AC34: y | AD34: y | AE34: y | AF34: y | AG34: y | AH34: y | AI34: y | AJ34: y | AK34: y | AL34: y | AM34: y | AN34: y | AO34: y | AP34: y | AQ34: y | AR34: y | AX34: y | AY34: y | BD34: y | BE34: y | BF34: y | BG34: y | BH34: y | BP34: y | BR34: y | BX34: Pappula, Rao | BY34: pr72496 | BZ34: APAC | CA34: SAN
A35: Balasubramanian, Raja | B35: rb02032 | C35: NAM | D35: NJ | E35: 09:00-18:00 ET | F35: 08:00-17:00 | G35: 13:00-22:00 | H35: SAN | BP35: y | BQ35: y | BR35: y | BS35: y | BT35: y | BU35: y | BX35: Balasubramanian, Raja | BY35: rb02032 | BZ35: NAM | CA35: SAN
A36: Kommaraju, Raghukumar | B36: rk12759 | C36: NAM | D36: Irving | E36: 09:00-18:00 | F36: 09:00-18:00 | G36: 14:00-23:00 | H36: NAS | BX36: Kommaraju, Raghukumar | BY36: rk12759 | BZ36: NAM | CA36: NAS
A37: Pillai, Raju | B37: rp04578 | C37: APAC | D37: Singapore | E37: 08:30-17:30 SST | F37: 19:30-04:30 | G37: 00:30-09:30 | H37: SAN | T37: y | U37: y | V37: y | W37: y | X37: y | Y37: y | Z37: y | AA37: y | AB37: y | AC37: y | AD37: y | AE37: y | AF37: y | AG37: y | AH37: y | AI37: y | AJ37: y | AK37: y | AL37: y | AM37: y | AN37: y | AO37: y | AP37: y | AQ37: y | AR37: y | BX37: Pillai, Raju | BY37: rp04578 | BZ37: APAC | CA37: SAN
A38: Ahmed, Salauddin | B38: sa47183 | C38: EMEA | D38: London | E38: 14:00-23:00 GMT | F38: 09:00-18:00 | G38: 14:00-23:00 | H38: SAN | AW38: y | AX38: y | AY38: y | AZ38: y | BA38: y | BB38: y | BC38: y | BD38: y | BE38: y | BF38: y | BG38: y | BH38: y | BI38: y | BJ38: y | BK38: y | BX38: Ahmed, Salauddin | BY38: sa47183 | BZ38: EMEA | CA38: SAN
A39: Gosangi, Shankara Murthy | B39: sg37224 | C39: APAC | D39: Singapore | E39: 08:30-17:30 SST | F39: 19:30-04:30 | G39: 00:30-09:30 | H39: SAN | T39: y | U39: y | V39: y | W39: y | X39: y | Y39: y | Z39: y | AA39: y | AB39: y | AC39: y | AD39: y | AE39: y | AF39: y | AG39: y | AH39: y | AI39: y | AJ39: y | AK39: y | AL39: y | AM39: y | AN39: y | AO39: y | AP39: y | AQ39: y | AR39: y | BX39: Gosangi, Shankara Murthy | BY39: sg37224 | BZ39: APAC | CA39: SAN
A40: Gibbs, Simon | B40: sg76758 | C40: EMEA | D40: London | E40: 09:00-17:00 GMT | F40: 03:00-11:00 | G40: 08:00-17:00 | H40: SAN | AW40: y | AX40: y | AY40: y | AZ40: y | BA40: y | BB40: y | BC40: y | BD40: y | BE40: y | BF40: y | BG40: y | BH40: y | BI40: y | BJ40: y | BK40: y | BX40: Gibbs, Simon | BY40: sg76758 | BZ40: EMEA | CA40: SAN
...

Sheet Consolidated
T1: APAC | AE1: APAC | AF1: EMEA | AQ1: EMEA | AR1: NAM | BX1: NAM | BZ1: Region | CA1: Percentage Completed | CE1: Percetage Computation
B2: Comparative with dumps | E2: Comparison | F2: Details 1 | L2: Details 1 | N2: Details 2 | S2: Details 2 | T2: NAS | W2: NAS | X2: SAN | AD2: SAN | AF2: NAS | AI2: NAS | AJ2: SAN | AP2: SAN | AR2: NAS | BB2: NAS | BC2: SAN | BW2: SAN | BZ2: APAC | CA2: =CB2/CD2 -> 0.37389381 | CB2: =COUNTIF(X4:AC229,"Y") -> 507 | CC2: =COUNTIF(X4:AC229,"N") -> 849 | CD2: =SUM(CB2:CC2) -> 1356
A3: Name | B3: APAC | C3: EMEA | D3: NAM | F3: Region | G3: Country | H3: State | I3: City | J3: DC / DC Floor | K3: Location | M3: Name | N3: IP address | O3: OS | P3: Use | Q3: Environment | R3: Mode of Access | T3: jn62051 | U3: ks14775 | V3: mp35609 | X3: pr72496 | Y3: rp04578 | Z3: sg37224 | AA3: sk36088 | AB3: sm30890 | AC3: ss84555 | AF3: cb81537 | AG3: jn76047 | AH3: wp92684 | AJ3: hd57144 | AK3: jg26166 | AL3: kv13183 | AM3: sa47183 | AN3: sg76758 | AO3: zk04269 | AR3: ah24522 | AS3: as23277 | AT3: as54505 | AU3: bk81013 | AV3: ln81010 | AW3: mg66280 | AX3: rk12759 | AY3: sm20316 | AZ3: st56532 | BA3: st60913 | BC3: ar91297 | BD3: as43276 | BE3: bd70270 | BF3: bj03264 | BG3: dd60065 | BH3: en53115 | BI3: gf89952 | BJ3: jh85336 | BK3: jk48146 | BL3: jm67831 | BM3: kh64535 | BN3: ky04806 | BO3: lf42212 | BP3: mm18246 | BQ3: pl75643 | BR3: rb02032 | BS3: sh10049 | BT3: sk34158 | BU3: sp65064 | BV3: up44123 | BZ3: EMEA | CA3: =CB3/CD3 -> 0.25624082 | CB3: =COUNTIF(AJ4:AO230,"Y") -> 349 | CC3: =COUNTIF(AJ4:AO230,"n") -> 1013 | CD3: =SUM(CB3:CC3) -> 1362
A4: APACSGWINPV7863 | B4: =VLOOKUP(M4,'APAC Dump'!D:D,1,0) -> APACSGWINPV7863 | C4: =VLOOKUP(M4,'EMEA Dump'!D:D,1,0) -> #N/A | D4: =VLOOKUP(M4,'NAM Dump'!E:E,1,0) -> #N/A | F4: APAC | G4: SG | K4: CT2 | M4: APACSGWINPV7863 | N4: 163.37.116.85 | O4: Wintel | P4: DCNM | Q4: PROD | R4: RDP | T4: N | U4: N | V4: N | X4: Y | Y4: Y | Z4: Y | AA4: Y | AB4: Y | AC4: Y | AF4: N | AG4: N | AH4: N | AJ4: N | AK4: N | AL4: N | AM4: N | AN4: N | AO4: N | AR4: N | AS4: N | AT4: N | AU4: N | AV4: N | AW4: N | AX4: N | AY4: N | AZ4: N | BA4: N | BC4: N | BD4: N | BE4: N | BF4: N | BG4: N | BH4: N | BI4: N | BJ4: N | BK4: N | BL4: N | BM4: N | BN4: N | BO4: N | BP4: N | BQ4: N | BR4: N | BS4: N | BT4: Y | BU4: N | BV4: N | BZ4: NAM | CA4: =CB4/CD4 -> 0.5 | CB4: =COUNTIF(BC4:BV230,"Y") -> 2771 | CC4: =COUNTIF(BC4:BV230,"Y") -> 2771 | CD4: =SUM(CB4:CC4) -> 5542
A5: APACSGWINPV7864 | B5: =VLOOKUP(M5,'APAC Dump'!D:D,1,0) -> APACSGWINPV7864 | C5: =VLOOKUP(M5,'EMEA Dump'!D:D,1,0) -> #N/A | D5: =VLOOKUP(M5,'NAM Dump'!E:E,1,0) -> #N/A | F5: APAC | G5: SG | K5: CT2 | M5: APACSGWINPV7864 | N5: 163.37.116.86 | O5: Wintel | P5: DCNM | Q5: PROD | R5: RDP | T5: N | U5: N | V5: N | X5: Y | Y5: Y | Z5: Y | AA5: Y | AB5: Y | AC5: Y | AF5: N | AG5: N | AH5: N | AJ5: N | AK5: N | AL5: N | AM5: N | AN5: N | AO5: N | AR5: N | AS5: N | AT5: N | AU5: N | AV5: N | AW5: N | AX5: N | AY5: N | AZ5: N | BA5: N | BC5: N | BD5: N | BE5: N | BF5: N | BG5: N | BH5: N | BI5: N | BJ5: N | BK5: N | BL5: N | BM5: N | BN5: N | BO5: N | BP5: N | BQ5: N | BR5: N | BS5: N | BT5: Y | BU5: N | BV5: N | BZ5: Total | CA5: =CB5/CD5 -> 0.43910412 | CB5: =SUM(CB2:CB4) -> 3627 | CC5: =SUM(CC2:CC4) -> 4633 | CD5: =SUM(CD2:CD4) -> 8260
A6: APACHKWINUV7857 | B6: =VLOOKUP(M6,'APAC Dump'!D:D,1,0) -> APACHKWINUV7857 | C6: =VLOOKUP(M6,'EMEA Dump'!D:D,1,0) -> #N/A | D6: =VLOOKUP(M6,'NAM Dump'!E:E,1,0) -> #N/A | F6: APAC | G6: HK | K6: AST | M6: APACHKWINUV7857 | N6: 163.36.200.107 | O6: Wintel | P6: DCNM | Q6: UAT | R6: RDP | T6: N | U6: N | V6: N | X6: Y | Y6: Y | Z6: Y | AA6: Y | AB6: Y | AC6: Y | AF6: N | AG6: N | AH6: N | AJ6: N | AK6: N | AL6: N | AM6: N | AN6: N | AO6: N | AR6: N | AS6: N | AT6: N | AU6: N | AV6: N | AW6: N | AX6: N | AY6: N | AZ6: N | BA6: N | BC6: N | BD6: N | BE6: N | BF6: N | BG6: N | BH6: N | BI6: N | BJ6: N | BK6: N | BL6: N | BM6: N | BN6: N | BO6: N | BP6: N | BQ6: N | BR6: N | BS6: N | BT6: Y | BU6: N | BV6: N
A7: APACHKWINUV7858 | B7: =VLOOKUP(M7,'APAC Dump'!D:D,1,0) -> APACHKWINUV7858 | C7: =VLOOKUP(M7,'EMEA Dump'!D:D,1,0) -> #N/A | D7: =VLOOKUP(M7,'NAM Dump'!E:E,1,0) -> #N/A | F7: APAC | G7: HK | K7: AST | M7: APACHKWINUV7858 | N7: 163.36.200.100 | O7: Wintel | P7: DCNM | Q7: UAT | R7: RDP | T7: N | U7: N | V7: N | X7: Y | Y7: Y | Z7: Y | AA7: Y | AB7: Y | AC7: Y | AF7: N | AG7: N | AH7: N | AJ7: N | AK7: N | AL7: N | AM7: N | AN7: N | AO7: N | AR7: N | AS7: N | AT7: N | AU7: N | AV7: N | AW7: N | AX7: N | AY7: N | AZ7: N | BA7: N | BC7: N | BD7: N | BE7: N | BF7: N | BG7: N | BH7: N | BI7: N | BJ7: N | BK7: N | BL7: N | BM7: N | BN7: N | BO7: N | BP7: N | BQ7: N | BR7: N | BS7: N | BT7: N | BU7: N | BV7: N | BZ7: Per Region
A8: APACSGWINPV7860 | B8: =VLOOKUP(M8,'APAC Dump'!D:D,1,0) -> APACSGWINPV7860 | C8: =VLOOKUP(M8,'EMEA Dump'!D:D,1,0) -> #N/A | D8: =VLOOKUP(M8,'NAM Dump'!E:E,1,0) -> #N/A | F8: APAC | G8: SG | K8: CT2 | M8: APACSGWINPV7860 | N8: 163.37.116.82 | O8: Wintel | P8: DCNM | Q8: PROD | R8: RDP | T8: N | U8: N | V8: N | X8: Y | Y8: Y | Z8: Y | AA8: Y | AB8: Y | AC8: Y | AF8: N | AG8: N | AH8: N | AJ8: N | AK8: N | AL8: N | AM8: N | AN8: N | AO8: N | AR8: N | AS8: N | AT8: N | AU8: N | AV8: N | AW8: N | AX8: N | AY8: N | AZ8: N | BA8: N | BC8: N | BD8: N | BE8: N | BF8: N | BG8: N | BH8: N | BI8: N | BJ8: N | BK8: N | BL8: N | BM8: N | BN8: N | BO8: N | BP8: N | BQ8: N | BR8: N | BS8: N | BT8: N | BU8: N | BV8: N | BZ8: APAC | CA8: =CB8/CD8 -> 0.19491525 | CB8: =COUNTIF(X54:AC230,"Y") -> 207 | CC8: =COUNTIF(X54:AC230,"N") -> 855 | CD8: =SUM(CB8:CC8) -> 1062
A9: APACSGWINPV7861 | B9: =VLOOKUP(M9,'APAC Dump'!D:D,1,0) -> APACSGWINPV7861 | C9: =VLOOKUP(M9,'EMEA Dump'!D:D,1,0) -> #N/A | D9: =VLOOKUP(M9,'NAM Dump'!E:E,1,0) -> #N/A | F9: APAC | G9: SG | K9: CT2 | M9: APACSGWINPV7861 | N9: 163.37.116.83 | O9: Wintel | P9: DCNM | Q9: PROD | R9: RDP | T9: N | U9: N | V9: N | X9: Y | Y9: Y | Z9: Y | AA9: Y | AB9: Y | AC9: Y | AF9: N | AG9: N | AH9: N | AJ9: N | AK9: N | AL9: N | AM9: N | AN9: N | AO9: N | AR9: N | AS9: N | AT9: N | AU9: N | AV9: N | AW9: N | AX9: N | AY9: N | AZ9: N | BA9: N | BC9: N | BD9: N | BE9: N | BF9: N | BG9: N | BH9: N | BI9: N | BJ9: N | BK9: N | BL9: N | BM9: N | BN9: N | BO9: N | BP9: N | BQ9: N | BR9: N | BS9: N | BT9: Y | BU9: N | BV9: N | BZ9: EMEA | CA9: =CB9/CD9 -> 0.09714795 | CB9: =COUNTIF(AJ4:AO53,"Y")+COUNTIF(AJ94:AO230,"Y") -> 109 | CC9: =COUNTIF(AJ4:AO53,"N")+COUNTIF(AJ94:AO230,"N") -> 1013 | CD9: =SUM(CB9:CC9) -> 1122
A10: APACHKWINUV7645 | B10: =VLOOKUP(M10,'APAC Dump'!D:D,1,0) -> APACHKWINUV7645 | C10: =VLOOKUP(M10,'EMEA Dump'!D:D,1,0) -> #N/A | D10: =VLOOKUP(M10,'NAM Dump'!E:E,1,0) -> #N/A | F10: APAC | G10: HK | K10: AST | M10: APACHKWINUV7645 | N10: 169.181.182.175 | O10: Wintel | P10: DCNM | Q10: UAT | R10: RDP | T10: N | U10: N | V10: N | X10: Y | Y10: Y | Z10: Y | AA10: Y | AB10: Y | AC10: Y | AF10: N | AG10: N | AH10: N | AJ10: N | AK10: N | AL10: N | AM10: N | AN10: N | AO10: N | AR10: N | AS10: N | AT10: N | AU10: N | AV10: N | AW10: N | AX10: N | AY10: N | AZ10: N | BA10: N | BC10: N | BD10: N | BE10: N | BF10: N | BG10: N | BH10: N | BI10: N | BJ10: N | BK10: N | BL10: N | BM10: N | BN10: N | BO10: N | BP10: N | BQ10: N | BR10: N | BS10: N | BT10: Y | BU10: N | BV10: N | BZ10: NAM | CA10: =CB10/CD10 -> 0.017222222 | CB10: =COUNTIF(BC4:BV93,"Y") -> 31 | CC10: =COUNTIF(BC4:BV93,"N") -> 1769 | CD10: =SUM(CB10:CC10) -> 1800
A11: APACHKWINUV7646 | B11: =VLOOKUP(M11,'APAC Dump'!D:D,1,0) -> APACHKWINUV7646 | C11: =VLOOKUP(M11,'EMEA Dump'!D:D,1,0) -> #N/A | D11: =VLOOKUP(M11,'NAM Dump'!E:E,1,0) -> #N/A | F11: APAC | G11: HK | K11: AST | M11: APACHKWINUV7646 | N11: 169.181.182.176 | O11: Wintel | P11: DCNM | Q11: UAT | R11: RDP | T11: N | U11: N | V11: N | X11: Y | Y11: Y | Z11: Y | AA11: Y | AB11: Y | AC11: Y | AF11: N | AG11: N | AH11: N | AJ11: N | AK11: N | AL11: N | AM11: N | AN11: N | AO11: N | AR11: N | AS11: N | AT11: N | AU11: N | AV11: N | AW11: N | AX11: N | AY11: N | AZ11: N | BA11: N | BC11: N | BD11: N | BE11: N | BF11: N | BG11: N | BH11: N | BI11: N | BJ11: N | BK11: N | BL11: N | BM11: N | BN11: N | BO11: N | BP11: N | BQ11: N | BR11: N | BS11: N | BT11: Y | BU11: N | BV11: N | BZ11: Total | CA11: =CB11/CD11 -> 0.087098394 | CB11: =SUM(CB8:CB10) -> 347 | CC11: =SUM(CC8:CC10) -> 3637 | CD11: =SUM(CD8:CD10) -> 3984
A12: SSUNSMM01 | B12: =VLOOKUP(M12,'APAC Dump'!D:D,1,0) -> SSUNSMM01 | C12: =VLOOKUP(M12,'EMEA Dump'!D:D,1,0) -> #N/A | D12: =VLOOKUP(M12,'NAM Dump'!E:E,1,0) -> #N/A | F12: APAC | G12: CT2 | K12: CT2 | M12: SSUNSMM01 | N12: 163.37.241.20 | O12: Unix | P12: Storage solution enabler server | Q12: UAT | R12: ssh | T12: N | U12: N | V12: N | X12: Y | Y12: Y | Z12: Y | AA12: Y | AB12: Y | AC12: Y | AF12: N | AG12: N | AH12: N | AJ12: N | AK12: N | AL12: N | AM12: N | AN12: N | AO12: N | AR12: N | AS12: N | AT12: N | AU12: N | AV12: N | AW12: N | AX12: N | AY12: N | AZ12: N | BA12: N | BC12: N | BD12: N | BE12: N | BF12: N | BG12: N | BH12: N | BI12: N | BJ12: N | BK12: N | BL12: N | BM12: N | BN12: N | BO12: N | BP12: N | BQ12: N | BR12: N | BS12: N | BT12: N | BU12: N | BV12: N
A13: SSUNSMM02 | B13: =VLOOKUP(M13,'APAC Dump'!D:D,1,0) -> SSUNSMM02 | C13: =VLOOKUP(M13,'EMEA Dump'!D:D,1,0) -> #N/A | D13: =VLOOKUP(M13,'NAM Dump'!E:E,1,0) -> #N/A | F13: APAC | G13: CT2 | K13: CT2 | M13: SSUNSMM02 | N13: 163.37.238.14 | O13: Unix | P13: Storage solution enabler server | Q13: PRD | R13: ssh | T13: N | U13: N | V13: N | X13: Y | Y13: Y | Z13: Y | AA13: Y | AB13: Y | AC13: Y | AF13: N | AG13: N | AH13: N | AJ13: N | AK13: N | AL13: N | AM13: N | AN13: N | AO13: N | AR13: N | AS13: N | AT13: N | AU13: N | AV13: N | AW13: N | AX13: N | AY13: N | AZ13: N | BA13: N | BC13: N | BD13: N | BE13: N | BF13: N | BG13: N | BH13: N | BI13: N | BJ13: N | BK13: N | BL13: N | BM13: N | BN13: N | BO13: N | BP13: N | BQ13: N | BR13: N | BS13: N | BT13: Y | BU13: N | BV13: N
A14: HSSUNSMM02 | B14: =VLOOKUP(M14,'APAC Dump'!D:D,1,0) -> HSSUNSMM02 | C14: =VLOOKUP(M14,'EMEA Dump'!D:D,1,0) -> #N/A | D14: =VLOOKUP(M14,'NAM Dump'!E:E,1,0) -> #N/A | F14: APAC | G14: HK | K14: iAD | M14: HSSUNSMM02 | N14: 129.14.10.5 | O14: Unix | P14: Storage solution enabler server | Q14: PRD/COB | R14: ssh | T14: N | U14: N | V14: N | X14: Y | Y14: Y | Z14: Y | AA14: Y | AB14: Y | AC14: Y | AF14: N | AG14: N | AH14: N | AJ14: N | AK14: N | AL14: N | AM14: N | AN14: N | AO14: N | AR14: N | AS14: N | AT14: N | AU14: N | AV14: N | AW14: N | AX14: N | AY14: N | AZ14: N | BA14: N | BC14: N | BD14: N | BE14: N | BF14: N | BG14: N | BH14: N | BI14: N | BJ14: N | BK14: N | BL14: N | BM14: N | BN14: N | BO14: N | BP14: N | BQ14: N | BR14: N | BS14: N | BT14: N | BU14: N | BV14: N
A15: HLIXIU170 | B15: =VLOOKUP(M15,'APAC Dump'!D:D,1,0) -> HLIXIU170 | C15: =VLOOKUP(M15,'EMEA Dump'!D:D,1,0) -> #N/A | D15: =VLOOKUP(M15,'NAM Dump'!E:E,1,0) -> #N/A | F15: APAC | G15: HK | K15: iAD | M15: HLIXIU170 | N15: 169.165.5.11 | O15: Unix | P15: Storage solution enabler server | Q15: UAT | R15: ssh | T15: N | U15: N | V15: N | X15: Y | Y15: Y | Z15: Y | AA15: Y | AB15: Y | AC15: Y | AF15: N | AG15: N | AH15: N | AJ15: N | AK15: N | AL15: N | AM15: N | AN15: N | AO15: N | AR15: N | AS15: N | AT15: N | AU15: N | AV15: N | AW15: N | AX15: N | AY15: N | AZ15: N | BA15: N | BC15: N | BD15: N | BE15: N | BF15: N | BG15: N | BH15: N | BI15: N | BJ15: N | BK15: N | BL15: N | BM15: N | BN15: N | BO15: N | BP15: N | BQ15: N | BR15: N | BS15: N | BT15: N | BU15: N | BV15: N
A16: HKASTCTILXSAN1C | B16: =VLOOKUP(M16,'APAC Dump'!D:D,1,0) -> HKASTCTILXSAN1C | C16: =VLOOKUP(M16,'EMEA Dump'!D:D,1,0) -> #N/A | D16: =VLOOKUP(M16,'NAM Dump'!E:E,1,0) -> #N/A | F16: APAC | G16: HK | K16: AST | M16: HKASTCTILXSAN1C | N16: 169.165.100.223 | O16: Unix | P16: Storage solution enabler server | Q16: COB | R16: ssh | T16: N | U16: N | V16: N | X16: Y | Y16: Y | Z16: Y | AA16: Y | AB16: Y | AC16: Y | AF16: N | AG16: N | AH16: N | AJ16: N | AK16: N | AL16: N | AM16: N | AN16: N | AO16: N | AR16: N | AS16: N | AT16: N | AU16: N | AV16: N | AW16: N | AX16: N | AY16: N | AZ16: N | BA16: N | BC16: N | BD16: N | BE16: N | BF16: N | BG16: N | BH16: N | BI16: N | BJ16: N | BK16: N | BL16: N | BM16: N | BN16: N | BO16: N | BP16: N | BQ16: N | BR16: N | BS16: N | BT16: Y | BU16: N | BV16: N
A17: HKASTCTILXSAN2C | B17: =VLOOKUP(M17,'APAC Dump'!D:D,1,0) -> HKASTCTILXSAN2C | C17: =VLOOKUP(M17,'EMEA Dump'!D:D,1,0) -> #N/A | D17: =VLOOKUP(M17,'NAM Dump'!E:E,1,0) -> #N/A | F17: APAC | G17: HK | K17: AST | M17: HKASTCTILXSAN2C | N17: 169.165.100.224 | O17: Unix | P17: Storage solution enabler server | Q17: COB | R17: ssh | T17: N | U17: N | V17: N | X17: Y | Y17: Y | Z17: Y | AA17: Y | AB17: Y | AC17: Y | AF17: N | AG17: N | AH17: N | AJ17: N | AK17: N | AL17: N | AM17: N | AN17: N | AO17: N | AR17: N | AS17: N | AT17: N | AU17: N | AV17: N | AW17: N | AX17: N | AY17: N | AZ17: N | BA17: N | BC17: N | BD17: N | BE17: N | BF17: N | BG17: N | BH17: N | BI17: N | BJ17: N | BK17: N | BL17: N | BM17: N | BN17: N | BO17: N | BP17: N | BQ17: N | BR17: N | BS17: N | BT17: Y | BU17: N | BV17: N
A18: SGCTCTILXSAN1P | B18: =VLOOKUP(M18,'APAC Dump'!D:D,1,0) -> SGCTCTILXSAN1P | C18: =VLOOKUP(M18,'EMEA Dump'!D:D,1,0) -> #N/A | D18: =VLOOKUP(M18,'NAM Dump'!E:E,1,0) -> #N/A | F18: APAC | G18: SG | K18: SG | M18: SGCTCTILXSAN1P | N18: 10.85.70.80 | O18: Unix | P18: Storage solution enabler server | Q18: PROD | R18: ssh | T18: N | U18: N | V18: N | X18: Y | Y18: Y | Z18: Y | AA18: Y | AB18: Y | AC18: Y | AF18: N | AG18: N | AH18: N | AJ18: N | AK18: N | AL18: N | AM18: N | AN18: N | AO18: N | AR18: N | AS18: N | AT18: N | AU18: N | AV18: N | AW18: N | AX18: N | AY18: N | AZ18: N | BA18: N | BC18: N | BD18: N | BE18: N | BF18: N | BG18: N | BH18: N | BI18: N | BJ18: N | BK18: N | BL18: N | BM18: N | BN18: N | BO18: N | BP18: N | BQ18: N | BR18: N | BS18: N | BT18: Y | BU18: N | BV18: N
A19: SGCTCTILXSAN2P | B19: =VLOOKUP(M19,'APAC Dump'!D:D,1,0) -> SGCTCTILXSAN2P | C19: =VLOOKUP(M19,'EMEA Dump'!D:D,1,0) -> #N/A | D19: =VLOOKUP(M19,'NAM Dump'!E:E,1,0) -> #N/A | F19: APAC | G19: SG | K19: SG | M19: SGCTCTILXSAN2P | N19: 10.85.70.81 | O19: Unix | P19: Storage solution enabler server | Q19: PROD | R19: ssh | T19: N | U19: N | V19: N | X19: Y | Y19: Y | Z19: Y | AA19: Y | AB19: Y | AC19: Y | AF19: N | AG19: N | AH19: N | AJ19: N | AK19: N | AL19: N | AM19: N | AN19: N | AO19: N | AR19: N | AS19: N | AT19: N | AU19: N | AV19: N | AW19: N | AX19: N | AY19: N | AZ19: N | BA19: N | BC19: N | BD19: N | BE19: N | BF19: N | BG19: N | BH19: N | BI19: N | BJ19: N | BK19: N | BL19: N | BM19: N | BN19: N | BO19: N | BP19: N | BQ19: N | BR19: N | BS19: N | BT19: Y | BU19: N | BV19: N
A20: SLIXIP167 | B20: =VLOOKUP(M20,'APAC Dump'!D:D,1,0) -> SLIXIP167 | C20: =VLOOKUP(M20,'EMEA Dump'!D:D,1,0) -> #N/A | D20: =VLOOKUP(M20,'NAM Dump'!E:E,1,0) -> #N/A | F20: APAC | G20: SG | K20: SG | M20: SLIXIP167 | N20: 169.179.108.69 | O20: Unix | P20: Storage solution enabler server | Q20: PROD | R20: ssh | T20: N | U20: N | V20: N | X20: Y | Y20: Y | Z20: Y | AA20: Y | AB20: Y | AC20: Y | AF20: N | AG20: N | AH20: N | AJ20: N | AK20: N | AL20: N | AM20: N | AN20: N | AO20: N | AR20: N | AS20: N | AT20: N | AU20: N | AV20: N | AW20: N | AX20: N | AY20: N | AZ20: N | BA20: N | BC20: N | BD20: N | BE20: N | BF20: N | BG20: N | BH20: N | BI20: N | BJ20: N | BK20: N | BL20: N | BM20: N | BN20: N | BO20: N | BP20: N | BQ20: N | BR20: N | BS20: N | BT20: Y | BU20: N | BV20: N
A21: SLIXIP168 | B21: =VLOOKUP(M21,'APAC Dump'!D:D,1,0) -> SLIXIP168 | C21: =VLOOKUP(M21,'EMEA Dump'!D:D,1,0) -> #N/A | D21: =VLOOKUP(M21,'NAM Dump'!E:E,1,0) -> #N/A | F21: APAC | G21: SG | K21: SG | M21: SLIXIP168 | N21: 169.178.149.5 | O21: Unix | P21: Storage solution enabler server | Q21: PROD | R21: ssh | T21: N | U21: N | V21: N | X21: Y | Y21: Y | Z21: Y | AA21: Y | AB21: Y | AC21: Y | AF21: N | AG21: N | AH21: N | AJ21: N | AK21: N | AL21: N | AM21: N | AN21: N | AO21: N | AR21: N | AS21: N | AT21: N | AU21: N | AV21: N | AW21: N | AX21: N | AY21: N | AZ21: N | BA21: N | BC21: N | BD21: N | BE21: N | BF21: N | BG21: N | BH21: N | BI21: N | BJ21: N | BK21: N | BL21: N | BM21: N | BN21: N | BO21: N | BP21: N | BQ21: N | BR21: N | BS21: N | BT21: Y | BU21: N | BV21: N
