Workbook

Sheet Revision and Inventories
A1: For Inventories | C1: https://technology.home.citi.net/sites/GBLL3STG/Main%20Project%20Folders/Forms/AllItems.aspx?RootFolder=%2Fsites%2FGBLL3STG%2FMain%20Project%20Folders%2FFTSM&FolderCTID=0x012000E0291FB48FD95941B1DC13B962ECB2D7&View={5047819B-8269-4EE5-92F2-6CBBE4A57A97}
A3: Version | B3: Date | C3: Description
A4: 1 | B4: 20150903 | C4: Initial List
A5: 2 | B5: 20150907 | C5: Added additional tabs
A6: 3 | B6: 20150915 | C6: Added additional engineers
A7: 3.1 | B7: 20150921 | C7: Deleted Doug Novellano and edited Donald Deinhart details
A8: 3.2 | B8: 20150924 | C8: Edited groupings for easy editing
A9: 3.3 | B9: 20151104 | C9: Added Consolidated lists, dump area of regional inventories
A10: 3.4 | B10: 20160105 | C10: Added additional test results from APAC c/o Sunil

Sheet List of Engineers - Original
A1: Name | B1: SOEID | C1: Region | D1: Location | E1: Working Hour (Local Time) | F1: Working Hour (Central Time) | G1: NAS or SAN
A2: Plurad, Michael Karlo Mallari | B2: mp35609 | C2: APAC | D2: Philippines | E2: 08:30 - 05:30 PHT | F2: 19:30 - 4:30 CT | G2: NAS
A3: Bates, Clive | B3: cb81537 | C3: EMEA | D3: London | E3: 9:00-17:00 | F3: 3:00 - 11:00 CT | G3: NAS
A4: Pietruk, Witold | B4: wp92684 | C4: EMEA | D4: Warsaw, Poland | E4: 9:00-17:00 | F4: 2:00 - 10:00 CT | G4: NAS
A5: Nogala, Jacek | B5: jn76047 | C5: EMEA | D5: Warsaw, Poland | E5: 9:00-17:00 | F5: 2:00 - 10:00 CT | G5: NAS
A6: Neelakantan, Lokesh | B6: ln81010 | C6: NAM | D6: Irving | E6: 9:00 -6:00 CT | F6: 9:00 -18:00 CT | G6: NAS
A7: Katragadda, Balavinodh | B7: bk81013 | C7: NAM | D7: Irving | E7: 9:00 -6:00 CT | F7: 9:00 -18:00 CT | G7: NAS
A8: Gandham, Maruti Ram | B8: mg66280 | C8: NAM | D8: Irving | E8: 9:00 -6:00 CT | F8: 9:00 -18:00 CT | G8: NAS
A9: Hameed, Abdul1 | B9: ah24522 | C9: NAM | D9: Irving | E9: 9:00 -6:00 CT | F9: 9:00 -18:00 CT | G9: NAS
A10: Kommaraju, Raghukumar | B10: rk12759 | C10: NAM | D10: Irving | E10: 9:00 -6:00 CT | F10: 9:00 -18:00 CT | G10: NAS
A11: Naeem, Awais | B11: an84979 | C11: NAM | D11: Irving | E11: 9:00 -6:00 CT | F11: 9:00 -18:00 CT | G11: NAS
A12: Sekhar, Ati | B12: as54505 | C12: NAM | D12: Irving | E12: 9:00 -6:00 CT | F12: 9:00 -18:00 CT | G12: NAS
... A26: Karickal, James | B26: jk48146 | C26: NAM | D26: Irving | E26: 9:00 -6:00 CT | F26: 9:00 -18:00 CT | G26: SAN / LAVA/ STI
A38: NAS (11 engineers) | D38: SAN (14 engineers)
A39: 2:00 - 3:00 CT | B39: 3 | D39: 2:00 - 3:00 CT | E39: 6
A40: 3:00 - 4:30 CT | B40: 4 | D40: 3:00 - 4:30 CT | E40: 8
A41: 4:30 - 9:00 CT | B41: 3 | D41: 4:30 - 5:00 CT | E41: 5
A42: 9:00 - 10:00 CT | B42: 10 | D42: 5:00 - 7:00 CT | E42: 4
A43: 10:00 - 11:00 CT | B43: 8 | D43: 7:00 - 8:00 CT | E43: 3
A44: 11:00 - 18:00 CT | B44: 7 | D44: 8:00 - 9:00 CT | E44: 7
A45: 18:00 - 19:30 CT | B45: 0 | D45: 9:00 - 10:00 CT | E45: 9
A46: 19:30 - 2:00 CT | B46: 1 | D46: 10:00 - 11:00 CT | E46: 8
D47: 11:00 - 17:00 CT | E47: 6
A48: NAS (11 engineers) - move 2 NAM to 12:00 - 21:00CT and add 1 APAC 8:30 - 5:30CT | D48: 17:00 - 18:00 CT | E48: 2
A49: 2:00 - 3:00 CT | B49: 5 | D49: 18:00 - 19:30 CT | E49: 0
A50: 3:00 - 4:30 CT | B50: 6 | D50: 19:30 - 20:00 CT | E50: 3
A51: 4:30 - 9:00 CT | B51: 3 | D51: 20:00 - 23:00 CT | E51: 4
A52: 9:00 - 10:00 CT | B52: 8 | D52: 23:00 - 2:00 CT | E52: 5
A53: 10:00 - 11:00 CT | B53: 6
A54: 11:00 - 12:00 CT | B54: 5 | D54: SAN (14 engineers) - move 2 Irving NAM to 12:00 - 21:00 CT
A55: 12:00 - 18:00 CT | B55: 7 | D55: 2:00 - 3:00 CT | E55: 6
A56: 18:00 - 19:30 CT | B56: 2 | D56: 3:00 - 4:30 CT | E56: 8
A57: 19:30 - 21:00 CT | B57: 4 | D57: 4:30 - 5:00 CT | E57: 5
A58: 21:00 - 2:00 CT | B58: 2 | D58: 5:00 - 7:00 CT | E58: 4
D59: 7:00 - 8:00 CT | E59: 3
D60: 8:00 - 9:00 CT | E60: 7
D61: 9:00 - 10:00 CT | E61: 7
D62: 10:00 - 11:00 CT | E62: 6
D63: 11:00 - 12:00 CT | E63: 6
D64: 12:00 - 17:00 CT | E64: 6
D65: 17:00 - 18:00 CT | E65: 2
D66: 18:00 - 19:30 CT | E66: 2
D67: 19:30 - 20:00 CT | E67: 5
D68: 20:00 - 21:00 CT | E68: 6
D69: 21:00 - 23:00 CT | E69: 4
D70: 23:00 - 2:00 CT | E70: 5

Sheet Comparative sheet - LOE
A1: Hameed, Abdul1 [CCC-OT_IT] | B1: ah24522 | C1: NAS | D1: =VLOOKUP(B1,H:H,1,0) -> ah24522 | E1: =VLOOKUP(B1,Q:Q,1,0) -> ah24522 | G1: Hameed, Abdul1 | H1: ah24522 | I1: =VLOOKUP(H1,B:B,1,0) -> ah24522 | J1: NAM | K1: Irving | L1: 9:00 -6:00 CT | M1: 9:00 -18:00 CT | N1: NAS | P1: NAM | Q1: ah24522 | R1: =VLOOKUP(Q1,B:B,1,0) -> ah24522 | T1: Hameed, Abdul1
A2: Reddy, Ashok | B2: ar91297 | C2: SAN | D2: =VLOOKUP(B2,H:H,1,0) -> #N/A | E2: =VLOOKUP(B2,Q:Q,1,0) -> ar91297 | P2: EMEA | Q2: ar91297 | R2: =VLOOKUP(Q2,B:B,1,0) -> ar91297 | S2: SAN | T2: Reddy, Ashok
P3: NAM | Q3: as23277 | R3: =VLOOKUP(Q3,B:B,1,0) -> #N/A | S3: NAS | T3: Shrestha, Amit
A4: So, Alan [CCC-OT_IT] | B4: as43276 | C4: NAS | D4: =VLOOKUP(B4,H:H,1,0) -> as43276 | E4: =VLOOKUP(B4,Q:Q,1,0) -> as43276 | G4: So, Alan | H4: as43276 | I4: =VLOOKUP(H4,B:B,1,0) -> as43276 | J4: NAM | K4: NY | L4: 9:00 -6:00 ET | M4: 8:00 - 17:00 CT | N4: SAN | P4: NAM | Q4: as43276 | R4: =VLOOKUP(Q4,B:B,1,0) -> as43276 | T4: So, Alan
A5: Sekhar, Ati [CCC-OT_IT NE] | B5: as54505 | C5: NAS | D5: =VLOOKUP(B5,H:H,1,0) -> as54505 | E5: =VLOOKUP(B5,Q:Q,1,0) -> as54505 | G5: Sekhar, Ati | H5: as54505 | I5: =VLOOKUP(H5,B:B,1,0) -> as54505 | J5: NAM | K5: Irving | L5: 9:00 -6:00 CT | M5: 9:00 -18:00 CT | N5: NAS | P5: NAM | Q5: as54505 | R5: =VLOOKUP(Q5,B:B,1,0) -> as54505 | T5: Sekhar, Ati
A6: Deluca, Bryan | B6: bd70270 | C6: SAN | D6: =VLOOKUP(B6,H:H,1,0) -> #N/A | E6: =VLOOKUP(B6,Q:Q,1,0) -> #N/A
A7: Johns, Brandi L. | B7: bj03264 | C7: SAN | D7: =VLOOKUP(B7,H:H,1,0) -> #N/A | E7: =VLOOKUP(B7,Q:Q,1,0) -> bj03264 | P7: NAM | Q7: bj03264 | R7: =VLOOKUP(Q7,B:B,1,0) -> bj03264 | S7: SAN | T7: Johns, Brandi L.
A8: Katragadda, Balavinodh [CCC-OT_IT NE] | B8: bk81013 | C8: NAS | D8: =VLOOKUP(B8,H:H,1,0) -> bk81013 | E8: =VLOOKUP(B8,Q:Q,1,0) -> bk81013 | G8: Katragadda, Balavinodh | H8: bk81013 | I8: =VLOOKUP(H8,B:B,1,0) -> bk81013 | J8: NAM | K8: Irving | L8: 9:00 -6:00 CT | M8: 9:00 -18:00 CT | N8: NAS | P8: NAM | Q8: bk81013 | R8: =VLOOKUP(Q8,B:B,1,0) -> bk81013 | S8: NAS | T8: Katragadda, Balavinodh
A9: Clive Bates | B9: cb81537 | C9: NAS | D9: =VLOOKUP(B9,H:H,1,0) -> cb81537 | E9: =VLOOKUP(B9,Q:Q,1,0) -> cb81537 | G9: Bates, Clive | H9: cb81537 | I9: =VLOOKUP(H9,B:B,1,0) -> cb81537 | J9: EMEA | K9: London | L9: 9:00-17:00 | M9: 3:00 - 11:00 CT | N9: NAS | P9: EMEA | Q9: cb81537 | R9: =VLOOKUP(Q9,B:B,1,0) -> cb81537 | S9: NAS | T9: Bates, Clive
A10: Novellano, Douglas [CCC-OT_IT] | B10: dn65671 | C10: NAS | D10: =VLOOKUP(B10,H:H,1,0) -> dn65671 | E10: =VLOOKUP(B10,Q:Q,1,0) -> dn65671 | G10: Novellano, Douglas | H10: dn65671 | I10: =VLOOKUP(H10,B:B,1,0) -> dn65671 | J10: NAM | K10: NJ | L10: 9:00 -6:00 ET | M10: 8:00 - 17:00 CT | N10: SAN | P10: NAM | Q10: dn65671 | R10: =VLOOKUP(Q10,B:B,1,0) -> dn65671 | T10: Novellano, Douglas
A11: Nagulapalli, Eswara Prasad [CCC-OT NE] | B11: en53115 | C11: NAS | D11: =VLOOKUP(B11,H:H,1,0) -> en53115 | E11: =VLOOKUP(B11,Q:Q,1,0) -> #N/A | G11: Nagulapalli, Eswara Prasad | H11: en53115 | I11: =VLOOKUP(H11,B:B,1,0) -> en53115 | J11: NAM | K11: Irving | L11: 9:00 -6:00 CT | M11: 9:00 -18:00 CT | N11: SAN
A12: Fernandes, Godfrey A [CCC-OT_IT NE] | B12: gf89952 | C12: NAS | D12: =VLOOKUP(B12,H:H,1,0) -> gf89952 | E12: =VLOOKUP(B12,Q:Q,1,0) -> gf89952 | G12: Fernandes, Godfrey A | H12: gf89952 | I12: =VLOOKUP(H12,B:B,1,0) -> gf89952 | J12: NAM | K12: NJ | L12: 9:00 -6:00 ET | M12: 8:00 - 17:00 CT | N12: SAN | P12: NAM | Q12: gf89952 | R12: =VLOOKUP(Q12,B:B,1,0) -> gf89952 | S12: NAS | T12: Fernandes, Godfrey A
A13: Dhinsa, Harbinder | B13: hd57144 | C13: SAN | D13: =VLOOKUP(B13,H:H,1,0) -> hd57144 | E13: =VLOOKUP(B13,Q:Q,1,0) -> hd57144 | G13: Dhinsa, Harbinder | H13: hd57144 | I13: =VLOOKUP(H13,B:B,1,0) -> hd57144 | J13: EMEA | K13: London | L13: 9:00-17:00 | M13: 3:00 - 11:00 CT | N13: SAN | P13: EMEA | Q13: hd57144 | R13: =VLOOKUP(Q13,B:B,1,0) -> hd57144 | S13: SAN | T13: Dhinsa, Harbinder
A14: Gonzales, James | B14: jg26166 | C14: SAN | D14: =VLOOKUP(B14,H:H,1,0) -> jg26166 | E14: =VLOOKUP(B14,Q:Q,1,0) -> jg26166 | G14: Gonzales, James | H14: jg26166 | I14: =VLOOKUP(H14,B:B,1,0) -> jg26166 | J14: EMEA | K14: Philippines | L14: 9:00-18:00 | M14: 20:00 - 5:00 CT | N14: SAN | P14: EMEA | Q14: jg26166 | R14: =VLOOKUP(Q14,B:B,1,0) -> jg26166 | S14: SAN | T14: Gonzales, James
A15: Higgins, John | B15: jh85336 | C15: SAN | D15: =VLOOKUP(B15,H:H,1,0) -> #N/A | E15: =VLOOKUP(B15,Q:Q,1,0) -> #N/A
A16: Matt, Jeffry E | B16: jm67831 | C16: SAN | D16: =VLOOKUP(B16,H:H,1,0) -> #N/A | E16: =VLOOKUP(B16,Q:Q,1,0) -> #N/A
G17: Karickal, James | H17: jk48146 | I17: =VLOOKUP(H17,B:B,1,0) -> #N/A | J17: NAM | K17: Irving | L17: 9:00 -6:00 CT | M17: 9:00 -18:00 CT | N17: SAN / LAVA/ STI
P18: APAC | Q18: jn62051 | R18: =VLOOKUP(Q18,B:B,1,0) -> #N/A | S18: NAS | T18: Christine, Nuqui Jillian
A19: Jacek Nogala | B19: jn76047 | C19: NAS | D19: =VLOOKUP(B19,H:H,1,0) -> jn76047 | E19: =VLOOKUP(B19,Q:Q,1,0) -> jn76047 | G19: Nogala, Jacek | H19: jn76047 | I19: =VLOOKUP(H19,B:B,1,0) -> jn76047 | J19: EMEA | K19: Warsaw, Poland | L19: 9:00-17:00 | M19: 2:00 - 10:00 CT | N19: NAS | P19: EMEA | Q19: jn76047 | R19: =VLOOKUP(Q19,B:B,1,0) -> jn76047 | S19: NAS | T19: Nogala, Jacek
A20: Hines, Kery | B20: kh64535 | C20: SAN | D20: =VLOOKUP(B20,H:H,1,0) -> #N/A | E20: =VLOOKUP(B20,Q:Q,1,0) -> #N/A
P21: APAC | Q21: ks14775 | R21: =VLOOKUP(Q21,B:B,1,0) -> #N/A | S21: NAS | T21: Babu, Surendra
A22: Vathsavai, Krishnam | B22: kv13183 | C22: SAN | D22: =VLOOKUP(B22,H:H,1,0) -> kv13183 | E22: =VLOOKUP(B22,Q:Q,1,0) -> kv13183 | G22: Vathsavai, Krishnam | H22: kv13183 | I22: =VLOOKUP(H22,B:B,1,0) -> kv13183 | J22: EMEA | K22: Singapore | L22: 12:00 - 20:00 | M22: 23:00 - 7:00 CT | N22: SAN | P22: EMEA | Q22: kv13183 | R22: =VLOOKUP(Q22,B:B,1,0) -> kv13183 | S22: SAN | T22: Vathsavai, Krishnam
A23: Yelisetty, Krishna | B23: ky04806 | C23: SAN | D23: =VLOOKUP(B23,H:H,1,0) -> #N/A | E23: =VLOOKUP(B23,Q:Q,1,0) -> ky04806 | P23: NAM | Q23: ky04806 | R23: =VLOOKUP(Q23,B:B,1,0) -> ky04806 | S23: SAN | T23: Yelisetty, Krishna
A24: Flores Garnica, Luis Felipe | B24: lf42212 | C24: SAN | D24: =VLOOKUP(B24,H:H,1,0) -> #N/A | E24: =VLOOKUP(B24,Q:Q,1,0) -> lf42212 | P24: NAM | Q24: lf42212 | R24: =VLOOKUP(Q24,B:B,1,0) -> lf42212 | S24: SAN | T24: Flores Garnica, Luis Felipe
A25: Neelakantan, Lokesh [CCC-OT_IT NE] | B25: ln81010 | C25: NAS | D25: =VLOOKUP(B25,H:H,1,0) -> ln81010 | E25: =VLOOKUP(B25,Q:Q,1,0) -> ln81010 | G25: Neelakantan, Lokesh | H25: ln81010 | I25: =VLOOKUP(H25,B:B,1,0) -> ln81010 | J25: NAM | K25: Irving | L25: 9:00 -6:00 CT | M25: 9:00 -18:00 CT | N25: NAS | P25: NAM | Q25: ln81010 | R25: =VLOOKUP(Q25,B:B,1,0) -> ln81010 | S25: NAS | T25: Neelakantan, Lokesh
A26: Gandham, Maruti Ram [CCC-OT_IT NE] | B26: mg66280 | C26: NAS | D26: =VLOOKUP(B26,H:H,1,0) -> mg66280 | E26: =VLOOKUP(B26,Q:Q,1,0) -> mg66280 | G26: Gandham, Maruti Ram | H26: mg66280 | I26: =VLOOKUP(H26,B:B,1,0) -> mg66280 | J26: NAM | K26: Irving | L26: 9:00 -6:00 CT | M26: 9:00 -18:00 CT | N26: NAS | P26: NAM | Q26: mg66280 | R26: =VLOOKUP(Q26,B:B,1,0) -> mg66280 | T26: Gandham, Maruti Ram
A27: Marszalowicz, Michael | B27: mm18246 | C27: SAN | D27: =VLOOKUP(B27,H:H,1,0) -> #N/A | E27: =VLOOKUP(B27,Q:Q,1,0) -> #N/A
G28: Plurad, Michael Karlo Mallari | H28: mp35609 | I28: =VLOOKUP(H28,B:B,1,0) -> #N/A | J28: APAC | K28: Philippines | L28: 08:30 - 05:30 PHT | M28: 19:30 - 4:30 CT | N28: NAS
A29: Wilson, Mike | B29: mw69878 | C29: SAN | D29: =VLOOKUP(B29,H:H,1,0) -> #N/A | E29: =VLOOKUP(B29,Q:Q,1,0) -> #N/A
A30: Lui, Peter | B30: pl75643 | C30: SAN | D30: =VLOOKUP(B30,H:H,1,0) -> #N/A | E30: =VLOOKUP(B30,Q:Q,1,0) -> #N/A
P31: APAC | Q31: pr72496 | R31: =VLOOKUP(Q31,B:B,1,0) -> #N/A | S31: SAN | T31: Pappula, Rao
A32: Balasubramanian, Raja | B32: rb02032 | C32: SAN | D32: =VLOOKUP(B32,H:H,1,0) -> #N/A | E32: =VLOOKUP(B32,Q:Q,1,0) -> rb02032 | P32: NAM | Q32: rb02032 | R32: =VLOOKUP(Q32,B:B,1,0) -> rb02032 | S32: SAN | T32: Balasubramanian, Raja
A33: Kommaraju, Raghukumar [CCC-OT_IT NE] | B33: rk12759 | C33: NAS | D33: =VLOOKUP(B33,H:H,1,0) -> rk12759 | E33: =VLOOKUP(B33,Q:Q,1,0) -> rk12759 | G33: Kommaraju, Raghukumar | H33: rk12759 | I33: =VLOOKUP(H33,B:B,1,0) -> rk12759 | J33: NAM | K33: Irving | L33: 9:00 -6:00 CT | M33: 9:00 -18:00 CT | N33: NAS | P33: NAM | Q33: rk12759 | R33: =VLOOKUP(Q33,B:B,1,0) -> rk12759 | T33: Kommaraju, Raghukumar
A34: Ahmed, Salauddin | B34: sa47183 | C34: SAN | D34: =VLOOKUP(B34,H:H,1,0) -> #N/A | E34: =VLOOKUP(B34,Q:Q,1,0) -> sa47183 | P34: EMEA | Q34: sa47183 | R34: =VLOOKUP(Q34,B:B,1,0) -> sa47183 | S34: SAN | T34: Ahmed, Salauddin
G35: Gosangi, Shankara Murthy | H35: sg37224 | I35: =VLOOKUP(H35,B:B,1,0) -> #N/A | J35: APAC | K35: Singapore | L35: 08:30 - 05:30 SST | M35: 19:30 - 4:30 CT | N35: SAN | P35: APAC | Q35: sg37224 | R35: =VLOOKUP(Q35,B:B,1,0) -> #N/A | S35: SAN | T35: Gosangi, Shankara Murthy
A36: Gibbs, Simon | B36: sg76758 | C36: SAN | D36: =VLOOKUP(B36,H:H,1,0) -> sg76758 | E36: =VLOOKUP(B36,Q:Q,1,0) -> sg76758 | G36: Gibbs, Simon | H36: sg76758 | I36: =VLOOKUP(H36,B:B,1,0) -> sg76758 | J36: EMEA | K36: London | L36: 9:00-17:00 | M36: 3:00 - 11:00 CT | N36: SAN | P36: EMEA | Q36: sg76758 | R36: =VLOOKUP(Q36,B:B,1,0) -> sg76758 | S36: SAN | T36: Gibbs, Simon
A37: Hasan, Samir | B37: sh10049 | C37: SAN | D37: =VLOOKUP(B37,H:H,1,0) -> #N/A | E37: =VLOOKUP(B37,Q:Q,1,0) -> #N/A
A38: Kaplow, Susan [CCC-OT_IT] | B38: sk34158 | C38: NAS | D38: =VLOOKUP(B38,H:H,1,0) -> sk34158 | E38: =VLOOKUP(B38,Q:Q,1,0) -> sk34158 | G38: Kaplow, Susan | H38: sk34158 | I38: =VLOOKUP(H38,B:B,1,0) -> sk34158 | J38: NAM | K38: Nevada | L38: 9:00 -6:00 ET | M38: 8:00 - 17:00 CT | N38: SAN | P38: NAM | Q38: sk34158 | R38: =VLOOKUP(Q38,B:B,1,0) -> sk34158 | T38: Kaplow, Susan
G39: Kannan, Shathish | H39: sk36088 | I39: =VLOOKUP(H39,B:B,1,0) -> #N/A | J39: APAC | K39: Singapore | L39: 08:30 - 05:30 SST | M39: 19:30 - 4:30 CT | N39: SAN
P40: NAM | Q40: sm20316 | R40: =VLOOKUP(Q40,B:B,1,0) -> #N/A | S40: NAS | T40: Metta, Syam
G41: Mohammed, Shanavaz | H41: sm30890 | I41: =VLOOKUP(H41,B:B,1,0) -> #N/A | J41: APAC | K41: Singapore | L41: 08:30 - 05:30 SST | M41: 19:30 - 4:30 CT | N41: SAN
A42: Patel, Shailesh R. | B42: sp65064 | C42: SAN | D42: =VLOOKUP(B42,H:H,1,0) -> #N/A | E42: =VLOOKUP(B42,Q:Q,1,0) -> sp65064 | P42: NAM | Q42: sp65064 | R42: =VLOOKUP(Q42,B:B,1,0) -> sp65064 | S42: SAN | T42: Patel, Shailesh R.
P43: APAC | Q43: ss84555 | R43: =VLOOKUP(Q43,B:B,1,0) -> #N/A | S43: SAN | T43: Sadasivan, Sunil
A44: Scott Taylor | B44: st56532 | C44: NAS | D44: =VLOOKUP(B44,H:H,1,0) -> #N/A | E44: =VLOOKUP(B44,Q:Q,1,0) -> #N/A
A45: Thayil, Shibu G | B45: st60913 | C45: SAN | D45: =VLOOKUP(B45,H:H,1,0) -> #N/A | E45: =VLOOKUP(B45,Q:Q,1,0) -> #N/A
A46: Pulavarpu, Utham | B46: up44123 | C46: SAN | D46: =VLOOKUP(B46,H:H,1,0) -> #N/A | E46: =VLOOKUP(B46,Q:Q,1,0) -> #N/A
A47: Witold Pietruk | B47: wp92684 | C47: NAS | D47: =VLOOKUP(B47,H:H,1,0) -> wp92684 | E47: =VLOOKUP(B47,Q:Q,1,0) -> wp92684 | G47: Pietruk, Witold | H47: wp92684 | I47: =VLOOKUP(H47,B:B,1,0) -> wp92684 | J47: EMEA | K47: Warsaw, Poland | L47: 9:00-17:00 | M47: 2:00 - 10:00 CT | N47: NAS | P47: EMEA | Q47: wp92684 | R47: =VLOOKUP(Q47,B:B,1,0) -> wp92684 | S47: NAS | T47: Pietruk, Witold
A48: Klos, Zbigniew | B48: zk04269 | C48: SAN | D48: =VLOOKUP(B48,H:H,1,0) -> zk04269 | E48: =VLOOKUP(B48,Q:Q,1,0) -> zk04269 | G48: Klos, Zbigniew | H48: zk04269 | I48: =VLOOKUP(H48,B:B,1,0) -> zk04269 | J48: EMEA | K48: Lodz, Poland | L48: 9:00-17:00 | M48: 2:00 - 10:00 CT | N48: SAN | P48: EMEA | Q48: zk04269 | R48: =VLOOKUP(Q48,B:B,1,0) -> zk04269 | S48: SAN | T48: Klos, Zbigniew

Sheet List of Engineers - Revised
C1: Details | I1: Details | J1: APAC | AR1: APAC | AS1: EMEA | BI1: EMEA | BJ1: NAM | BQ1: NAM
J2: NAS | S2: SAN | AS2: NAS | AT2: SAN | BJ2: NAS | BK2: SAN
A3: Name | B3: SOEID | C3: Region | D3: Location | E3: Working Hour (Local Time) | F3: Working Hour (Central Time) | G3: Working Hour (GMT) | H3: NAS or SAN | J3: APACHKOPSMGRSA01 | K3: APACSGOPSMGRSA01 | L3: APAUNASSSA | M3: APCNNASSSA | N3: APHKNASSSA | O3: APINNASSSA | P3: APJPNASSSA | Q3: APSGNASSSA | R3: APTHNASSSA | S3: APACSGWINPV7863 (wintel / rdp / dcnm) | T3: APACHKWINUV7857 (wintel / rdp / dcnm) | U3: APACSGWINPV7860 (wintel / rdp / dcnm) | V3: APACHKWINUV7645 (wintel / rdp / dcnm) | W3: SSUNSMM01 (unix / ssh / soln enab) | X3: SSUNSMM02 (unix / ssh / soln enab) | Y3: HSSUNSMM02 (unix / ssh / soln enab) | Z3: HLIXIU170 (unix / ssh / soln enab) | AA3: HKASTCTILXSAN1C (unix / ssh / soln enab) | AB3: SGCTCTILXSAN1P (unix / ssh / soln enab) | AC3: SLIXIP167 (unix / ssh / soln enab) | AD3: HLIXIU634 (unix / ssh / soln enab) | AE3: APACSGU4V03 (wintel / rdp / unisphere) | AF3: APACHKASTU4V03 (wintel / rdp / unisphere) | AG3: APACHKIADU4V03 (wintel / rdp / unisphere) | AH3: SINCTISVXMS8001 (unix / ssh / xms-cli) | AI3: HKGCTISVXMS8001 (unix / ssh / xms-cli) | AJ3: SINCTISANXIO009 (wintel / rdp / xms-gui) | AK3: HKGCTISANXIO009 (wintel / rdp / xms-gui) | AL3: APACSGVPMC001 (wintel / rdp / xiv-gui) | AM3: SLIXIP167 (unix / ssh / xrsc-xcli) | AN3: SLIXGP828 (unix / ssh / xrsc-xcli) | AO3: SGCTILXSANA01P (unix / ssh / xrsc-xcli) | AP3: APACSGEXHMGTV01 (wintel / rdp / cx-vnx uni) | AQ3: APACHKEXHMGTV01 (wintel / rdp / cx-vnx uni) | AS3: Domains | AT3: FFTCTISAHDS001 (rdp) | AU3: UKCTIPRSD42 (rdp) | AV3: UKCTIPRSD36 (rdp) | AW3: FFCTISANAV002 (rdp) | AX3: FFCTISANAV001 (rdp) | AY3: LDNCTISANAV002 (rdp) | AZ3: LDNCTISANAV001 (rdp) | BA3: UKCTIPRSA48 (rdp) | BB3: Fftctisfss01 (rdp) | BC3: UKCTIPRSA50 (rdp) | BD3: FFTCTISVEC002 (rdp) | BE3: UKCTIPRSD42 (rdp) | BF3: rgcctisanla01p (ssh/telnet/tectia) | BG3: fgcctisanla01p (ssh/telnet/tectia) | BH3: cgcctisanla01p (ssh/telnet/tectia) | BJ3: Domain groups | BK3: RDP XiV Server (namuibm01) | BL3: RDP DCNM Server (namuciscoa02) | BM3: Cisco Swith SSH (usucd08ae01) | BN3: RDP U4V Access (namuemc01) | BO3: RDP HCS Server (namuhds03) | BP3: Linux San Control Worksations (namucws01)
A4: Hameed, Abdul1 | B4: ah24522 | C4: NAM | D4: Irving | E4: 08:00-17:00 | F4: 08:00-17:00 | G4: 14:00-23:00 | H4: NAS
A5: Reddy, Ashok | B5: ar91297 | C5: NAM | D5: Singapore | E5: 20:00-04:00 SST | F5: 09:00-18:00 | G5: 14:00-23:00 | H5: SAN
A6: Shrestha, Amit | B6: as23277 | C6: NAM | D6: Irving | E6: 09:00-18:00 | F6: 09:00-18:00 | G6: 14:00-23:00 | H6: NAS
A7: So, Alan | B7: as43276 | C7: NAM | D7: NY | E7: 09:00-16:00 ET | F7: 08:00-17:00 | G7: 13:00-22:00 | H7: SAN
A8: Sekhar, Ati | B8: as54505 | C8: NAM | D8: Irving | E8: 09:00-18:00 | F8: 09:00-18:00 | G8: 14:00-23:00 | H8: NAS
A9: Deluca, Bryan | B9: bd70270 | C9: NAM | D9: Irving | E9: 09:00-18:00 | F9: 09:00-18:00 | G9: 14:00-23:00 | H9: SAN
A10: Johns, Brandi L. | B10: bj03264 | C10: NAM | D10: Irving | E10: 09:00-18:00 | F10: 09:00-18:00 | G10: 14:00-23:00 | H10: SAN
A11: Katragadda, Balavinodh | B11: bk81013 | C11: NAM | D11: Irving | E11: 09:00-18:00 | F11: 09:00-18:00 | G11: 14:00-23:00 | H11: NAS
A12: Bates, Clive | B12: cb81537 | C12: EMEA | D12: London | E12: 09:00-17:00 GMT | F12: 03:00-11:00 | G12: 08:00-16:00 | H12: NAS
A13: Deinhart, Donald M | B13: dd60065 | C13: NAM | D13: Irving | E13: 08:00-17:00 | F13: 08:00-17:00 | G13: 14:00-23:00 | H13: SAN
A14: Nagulapalli, Eswara Prasad | B14: en53115 | C14: NAM | D14: Irving | E14: 09:00-18:00 | F14: 09:00-18:00 | G14: 14:00-23:00 | H14: SAN
A15: Fernandes, Godfrey A | B15: gf89952 | C15: NAM | D15: NJ | E15: 09:00-18:00 ET | F15: 08:00-17:00 | G15: 13:00-22:00 | H15: SAN
... A52: Klos, Zbigniew | B52: zk04269 | C52: EMEA | D52: Lodz, Poland | E52: 09:00-17:00 CET | F52: 02:00-10:00 | G52: 10:00-18:00 | H52: SAN

Sheet List of Engineers - Support
C1: Details | I1: Details | J1: APAC | AR1: APAC | AS1: EMEA | BI1: EMEA | BJ1: NAM | BQ1: NAM
J2: NAS | S2: SAN | AS2: NAS | AT2: SAN | BJ2: NAS | BK2: SAN
A3: Name | B3: SOEID | C3: Region | D3: Location | E3: Working Hour (Local Time) | F3: Working Hour (Central Time) | G3: Working Hour (GMT) | H3: NAS or SAN | J3: APACHKOPSMGRSA01 | K3: APACSGOPSMGRSA01 | L3: APAUNASSSA | M3: APCNNASSSA | N3: APHKNASSSA | O3: APINNASSSA | P3: APJPNASSSA | Q3: APSGNASSSA | R3: APTHNASSSA | S3: APACSGWINPV7863 (wintel / rdp / dcnm) | T3: APACHKWINUV7857 (wintel / rdp / dcnm) | U3: APACSGWINPV7860 (wintel / rdp / dcnm) | V3: APACHKWINUV7645 (wintel / rdp / dcnm) | W3: SSUNSMM01 (unix / ssh / soln enab) | X3: SSUNSMM02 (unix / ssh / soln enab) | Y3: HSSUNSMM02 (unix / ssh / soln enab) | Z3: HLIXIU170 (unix / ssh / soln enab) | AA3: HKASTCTILXSAN1C (unix / ssh / soln enab) | AB3: SGCTCTILXSAN1P (unix / ssh / soln enab) | AC3: SLIXIP167 (unix / ssh / soln enab) | AD3: HLIXIU634 (unix / ssh / soln enab) | AE3: APACSGU4V03 (wintel / rdp / unisphere) | AF3: APACHKASTU4V03 (wintel / rdp / unisphere) | AG3: APACHKIADU4V03 (wintel / rdp / unisphere) | AH3: SINCTISVXMS8001 (unix / ssh / xms-cli) | AI3: HKGCTISVXMS8001 (unix / ssh / xms-cli) | AJ3: SINCTISANXIO009 (wintel / rdp / xms-gui) | AK3: HKGCTISANXIO009 (wintel / rdp / xms-gui) | AL3: APACSGVPMC001 (wintel / rdp / xiv-gui) | AM3: SLIXIP167 (unix / ssh / xrsc-xcli) | AN3: SLIXGP828 (unix / ssh / xrsc-xcli) | AO3: SGCTILXSANA01P (unix / ssh / xrsc-xcli) | AP3: APACSGEXHMGTV01 (wintel / rdp / cx-vnx uni) | AQ3: APACHKEXHMGTV01 (wintel / rdp / cx-vnx uni) | AS3: Domains | AT3: FFTCTISAHDS001 (rdp) | AU3: UKCTIPRSD42 (rdp) | AV3: UKCTIPRSD36 (rdp) | AW3: FFCTISANAV002 (rdp) | AX3: FFCTISANAV001 (rdp) | AY3: LDNCTISANAV002 (rdp) | AZ3: LDNCTISANAV001 (rdp) | BA3: UKCTIPRSA48 (rdp) | BB3: Fftctisfss01 (rdp) | BC3: UKCTIPRSA50 (rdp) | BD3: FFTCTISVEC002 (rdp) | BE3: UKCTIPRSD42 (rdp) | BF3: rgcctisanla01p (ssh/telnet/tectia) | BG3: fgcctisanla01p (ssh/telnet/tectia) | BH3: cgcctisanla01p (ssh/telnet/tectia) | BJ3: Domain groups | BK3: RDP XiV Server (namuibm01) | BL3: RDP DCNM Server (namuciscoa02) | BM3: Cisco Swith SSH (usucd08ae01) | BN3: RDP U4V Access (namuemc01) | BO3: RDP HCS Server (namuhds03) | BP3: Linux San Control Worksations (namucws01)
A4: Hameed, Abdul1 | B4: ah24522 | C4: NAM | D4: Irving | E4: 08:00-17:00 | F4: 08:00-17:00 | G4: 14:00-23:00 | H4: NAS
A5: Shrestha, Amit | B5: as23277 | C5: NAM | D5: Irving | E5: 09:00-18:00 | F5: 09:00-18:00 | G5: 14:00-23:00 | H5: NAS
A6: So, Alan | B6: as43276 | C6: NAM | D6: NY | E6: 09:00-16:00 ET | F6: 08:00-17:00 | G6: 13:00-22:00 | H6: SAN
A7: Sekhar, Ati | B7: as54505 | C7: NAM | D7: Irving | E7: 09:00-18:00 | F7: 09:00-18:00 | G7: 14:00-23:00 | H7: NAS
A8: Johns, Brandi L. | B8: bj03264 | C8: NAM | D8: Irving | E8: 09:00-18:00 | F8: 09:00-18:00 | G8: 14:00-23:00 | H8: SAN
A9: Katragadda, Balavinodh | B9: bk81013 | C9: NAM | D9: Irving | E9: 09:00-18:00 | F9: 09:00-18:00 | G9: 14:00-23:00 | H9: NAS
A10: Bates, Clive | B10: cb81537 | C10: EMEA | D10: London | E10: 09:00-17:00 GMT | F10: 03:00-11:00 | G10: 08:00-16:00 | H10: NAS
A11: Deinhart, Donald M | B11: dd60065 | C11: NAM | D11: Irving | E11: 08:00-17:00 | F11: 08:00-17:00 | G11: 14:00-23:00 | H11: SAN
A12: Nagulapalli, Eswara Prasad | B12: en53115 | C12: NAM | D12: Irving | E12: 09:00-18:00 | F12: 09:00-18:00 | G12: 14:00-23:00 | H12: SAN
A13: Fernandes, Godfrey A | B13: gf89952 | C13: NAM | D13: NJ | E13: 09:00-18:00 ET | F13: 08:00-17:00 | G13: 13:00-22:00 | H13: SAN
A14: Dhinsa, Harbinder | B14: hd57144 | C14: EMEA | D14: London | E14: 09:00-17:00 GMT | F14: 03:00-11:00 | G14: 08:00-16:00 | H14: SAN
A15: Gonzales, James | B15: jg26166 | C15: EMEA | D15: Philippines | E15: 09:00-18:00 PHT | F15: 20:00-05:00 | G15: 01:00-10:00 | H15: SAN
... A39: Klos, Zbigniew | B39: zk04269 | C39: EMEA | D39: Lodz, Poland | E39: 09:00-17:00 CET | F39: 02:00-10:00 | G39: 10:00-18:00 | H39: SAN

Sheet LOER - Access request details
C1: Details | I1: Details | J1: APAC | AT1: APAC | AU1: EMEA | BK1: EMEA | BL1: NAM | BS1: NAM
J2: NAS | U2: SAN | AU2: NAS | AV2: SAN | BL2: NAS | BM2: SAN
A3: Name | B3: SOEID | C3: Region | D3: Location | E3: Working Hour (Local Time) | F3: Working Hour (Central Time) | G3: Working Hour (GMT) | H3: NAS or SAN | J3: SA ID | K3: APACHKOPSMGRSA01 | L3: APACSGOPSMGRSA01 | M3: APGBLNASSSA | N3: APAUNASSSA | O3: APCNNASSSA | P3: APHKNASSSA | Q3: APINNASSSA | R3: APJPNASSSA | S3: APSGNASSSA | T3: APTHNASSSA | U3: APACSGWINPV7863 (wintel / rdp / dcnm) | V3: APACHKWINUV7857 (wintel / rdp / dcnm) | W3: APACSGWINPV7860 (wintel / rdp / dcnm) | X3: APACHKWINUV7645 (wintel / rdp / dcnm) | Y3: SSUNSMM01 (unix / ssh / soln enab) | Z3: SSUNSMM02 (unix / ssh / soln enab) | AA3: HSSUNSMM02 (unix / ssh / soln enab) | AB3: HLIXIU170 (unix / ssh / soln enab) | AC3: HKASTCTILXSAN1C (unix / ssh / soln enab) | AD3: SGCTCTILXSAN1P (unix / ssh / soln enab) | AE3: SLIXIP167 (unix / ssh / soln enab) | AF3: HLIXIU634 (unix / ssh / soln enab) | AG3: APACSGU4V03 (wintel / rdp / unisphere) | AH3: APACHKASTU4V03 (wintel / rdp / unisphere) | AI3: APACHKIADU4V03 (wintel / rdp / unisphere) | AJ3: SINCTISVXMS8001 (unix / ssh / xms-cli) | AK3: HKGCTISVXMS8001 (unix / ssh / xms-cli) | AL3: SINCTISANXIO009 (wintel / rdp / xms-gui) | AM3: HKGCTISANXIO009 (wintel / rdp / xms-gui) | AN3: APACSGVPMC001 (wintel / rdp / xiv-gui) | AO3: SLIXIP167 (unix / ssh / xrsc-xcli) | AP3: SLIXGP828 (unix / ssh / xrsc-xcli) | AQ3: SGCTILXSANA01P (unix / ssh / xrsc-xcli) | AR3: APACSGEXHMGTV01 (wintel / rdp / cx-vnx uni) | AS3: APACHKEXHMGTV01 (wintel / rdp / cx-vnx uni) | AU3: Domains | AV3: FFTCTISAHDS001 (rdp) | AW3: UKCTIPRSD42 (rdp) | AX3: UKCTIPRSD36 (rdp) | AY3: FFCTISANAV002 (rdp) | AZ3: FFCTISANAV001 (rdp) | BA3: LDNCTISANAV002 (rdp) | BB3: LDNCTISANAV001 (rdp) | BC3: UKCTIPRSA48 (rdp) | BD3: Fftctisfss01 (rdp) | BE3: UKCTIPRSA50 (rdp) | BF3: FFTCTISVEC002 (rdp) | BG3: UKCTIPRSD42 (rdp) | BH3: rgcctisanla01p (ssh/telnet/tectia) | BI3: fgcctisanla01p (ssh/telnet/tectia) | BJ3: cgcctisanla01p (ssh/telnet/tectia) | BL3: Domain groups | BM3: RDP XiV Server (namuibm01) | BN3: RDP DCNM Server (namuciscoa02) | BO3: Cisco Swith SSH (usucd08ae01) | BP3: RDP U4V Access (namuemc01) | BQ3: RDP HCS Server (namuhds03) | BR3: Linux San Control Worksations (namucws01)
A4: Hameed, Abdul1 | B4: ah24522 | C4: NAM | D4: Irving | E4: 08:00-17:00 | F4: 08:00-17:00 | G4: 14:00-23:00 | H4: NAS | J4: AH24522sa | K4: WS33950825 | L4: WS33951787 | M4: WS34114552
A5: Reddy, Ashok | B5: ar91297 | C5: NAM | D5: Singapore | E5: 20:00-04:00 SST | F5: 09:00-18:00 | G5: 14:00-23:00 | H5: SAN
A6: Shrestha, Amit | B6: as23277 | C6: NAM | D6: Irving | E6: 09:00-18:00 | F6: 09:00-18:00 | G6: 14:00-23:00 | H6: NAS | J6: WS34118571
A7: So, Alan | B7: as43276 | C7: NAM | D7: NY | E7: 09:00-16:00 ET | F7: 08:00-17:00 | G7: 13:00-22:00 | H7: SAN | J7: AS43276sa | K7: WS33950898 | L7: WS33951623 | M7: WS34114626
A8: Sekhar, Ati | B8: as54505 | C8: NAM | D8: Irving | E8: 09:00-18:00 | F8: 09:00-18:00 | G8: 14:00-23:00 | H8: NAS | J8: saas54505 | K8: OK | L8: WS33951632 | M8: WS34114619
A9: Deluca, Bryan | B9: bd70270 | C9: NAM | D9: Irving | E9: 09:00-18:00 | F9: 09:00-18:00 | G9: 14:00-23:00 | H9: SAN
A10: Johns, Brandi L. | B10: bj03264 | C10: NAM | D10: Irving | E10: 09:00-18:00 | F10: 09:00-18:00 | G10: 14:00-23:00 | H10: SAN | J10: bj03264sa | K10: WS34115532 | L10: WS34115523 | M10: WS34114949
A11: Katragadda, Balavinodh | B11: bk81013 | C11: NAM | D11: Irving | E11: 09:00-18:00 | F11: 09:00-18:00 | G11: 14:00-23:00 | H11: NAS | J11: BK81013sa | K11: WS33950635 | L11: WS33951808 | M11: WS34114505
A12: Bates, Clive | B12: cb81537 | C12: EMEA | D12: London | E12: 09:00-17:00 GMT | F12: 03:00-11:00 | G12: 08:00-16:00 | H12: NAS | J12: sacb81537 | K12: OK | L12: WS33951589 | M12: WS34114648
A13: Deinhart, Donald M | B13: dd60065 | C13: NAM | D13: Irving | E13: 08:00-17:00 | F13: 08:00-17:00 | G13: 14:00-23:00 | H13: SAN
A14: Nagulapalli, Eswara Prasad | B14: en53115 | C14: NAM | D14: Irving | E14: 09:00-18:00 | F14: 09:00-18:00 | G14: 14:00-23:00 | H14: SAN | J14: EN53115sa | K14: WS33950910 | L14: WS33951598 | M14: WS34114645
A15: Fernandes, Godfrey A | B15: gf89952 | C15: NAM | D15: NJ | E15: 09:00-18:00 ET | F15: 08:00-17:00 | G15: 13:00-22:00 | H15: SAN | J15: GF89952sa | K15: WS33950774 | L15: WS33951805 | M15: WS34114516
A16: Dhinsa, Harbinder | B16: hd57144 | C16: EMEA | D16: London | E16: 09:00-17:00 GMT | F16: 03:00-11:00 | G16: 08:00-16:00 | H16: SAN | J16: HD57144sa | K16: WS34115544 | L16: WS34115506 | M16: WS34114961
A17: Gonzales, James | B17: jg26166 | C17: EMEA | D17: Philippines | E17: 09:00-18:00 PHT | F17: 20:00-05:00 | G17: 01:00-10:00 | H17: SAN | J17: JG26166sa | K17: WS34115561 | L17: WS34115483 | M17: WS34114976
A18: Higgins, John | B18: jh85336 | C18: NAM | D18: Irving | E18: 09:00-18:00 | F18: 09:00-18:00 | G18: 14:00-23:00 | H18: SAN
A19: Karickal, James | B19: jk48146 | C19: NAM | D19: Irving | E19: 09:00-18:00 | F19: 09:00-18:00 | G19: 14:00-23:00 | H19: SAN / LAVA/ STI | J19: WS34118584
A20: Matt, Jeffry E | B20: jm67831 | C20: NAM | D20: Jacksonville | E20: 09:00-18:00 ET | F20: 09:00-18:00 | G20: 14:00-23:00 | H20: SAN
A21: Nuqui, Jillian Christine | B21: jn62051 | C21: APAC | D21: Philippines | E21: 09:00-18:00 | F21: 20:00-05:00 | G21: 01:00-10:00 | H21: NAS | J21: sajn62051
A22: Nogala, Jacek | B22: jn76047 | C22: EMEA | D22: Warsaw, Poland | E22: 09:00-17:00 CET | F22: 02:00-10:00 | G22: 07:00-15:00 | H22: NAS | J22: JN76047sa | K22: WS33950918 | L22: WS33950943 | M22: WS34114870
A23: Hines, Kery | B23: kh64535 | C23: NAM | D23: Las Vegas, Nevada | E23: 07:00-16:00 PDT | F23: 09:00-18:00 | G23: 14:00-23:00 | H23: SAN
A24: Babu, Surendra | B24: ks14775 | C24: APAC | D24: Singapore | E24: 09:00-18:00 | F24: 20:00-05:00 | G24: 01:00-10:00 | H24: NAS | J24: saks14775
A25: Vathsavai, Krishnam | B25: kv13183 | C25: EMEA | D25: Singapore | E25: 12:00-20:00 SST | F25: 23:00-07:00 | G25: 04:00-12:00 | H25: SAN | J25: KV13183SA | K25: WS34115595 | L25: WS34115367 | M25: WS34115022
A26: Yelisetty, Krishna | B26: ky04806 | C26: NAM | D26: Irving | E26: 09:00-18:00 | F26: 09:00-18:00 | G26: 14:00-23:00 | H26: SAN | J26: WS34118596
A27: Flores Garnica, Luis Felipe | B27: lf42212 | C27: NAM | D27: Mexico | E27: 09:00-18:00 | F27: 09:00-18:00 | G27: 14:00-23:00 | H27: SAN | J27: WS34118609
A28: Neelakantan, Lokesh | B28: ln81010 | C28: NAM | D28: Irving | E28: 09:00-18:00 | F28: 09:00-18:00 | G28: 14:00-23:00 | H28: NAS | J28: LN81010SA | K28: WS33950624 | L28: WS33951814 | M28: WS34114499
A29: Gandham, Maruti Ram | B29: mg66280 | C29: NAM | D29: Irving | E29: 09:00-18:00 | F29: 09:00-18:00 | G29: 14:00-23:00 | H29: NAS | J29: MG66280sa | K29: WS33950781 | L29: WS33951797 | M29: WS34114525
A30: Marszalowicz, Michael | B30: mm18246 | C30: NAM | D30: NJ | E30: 09:00-18:00 ET | F30: 08:00-17:00 | G30: 13:00-22:00 | H30: SAN
A31: Plurad, Michael Karlo Mallari | B31: mp35609 | C31: APAC | D31: Philippines | E31: 08:30-17:30 PHT | F31: 19:30-04:30 | G31: 00:30-09:30 | H31: NAS | J31: mp35609sa
A32: Wilson, Mike | B32: mw69878 | C32: NAM | D32: London | E32: 09:00-17:00 GMT | F32: 03:00-11:00 | G32: 08:00-16:00 | H32: SAN
A33: Lui, Peter | B33: pl75643 | C33: NAM | D33: NY | E33: 09:00-18:00 ET | F33: 08:00-17:00 | G33: 13:00-22:00 | H33: SAN
A34: Pappula, Rao | B34: pr72496 | C34: APAC | D34: Singapore | E34: 09:00-18:00 SST | F34: 20:00-05:00 | G34: 01:00-10:00 | H34: SAN
A35: Balasubramanian, Raja | B35: rb02032 | C35: NAM | D35: NJ | E35: 09:00-18:00 ET | F35: 08:00-17:00 | G35: 13:00-22:00 | H35: SAN
A36: Kommaraju, Raghukumar | B36: rk12759 | C36: NAM | D36: Irving | E36: 09:00-18:00 | F36: 09:00-18:00 | G36: 14:00-23:00 | H36: NAS | J36: sark12759 | K36: WS33950862 | L36: WS33951667 | M36: WS34114583
A37: Pillai, Raju | B37: rp04578 | C37: APAC | D37: Singapore | E37: 08:30-17:30 SST | F37: 19:30-04:30 | G37: 00:30-09:30 | H37: SAN
A38: Ahmed, Salauddin | B38: sa47183 | C38: EMEA | D38: London | E38: 14:00-23:00 GMT | F38: 09:00-18:00 | G38: 14:00-23:00 | H38: SAN
A39: Gosangi, Shankara Murthy | B39: sg37224 | C39: APAC | D39: Singapore | E39: 08:30-17:30 SST | F39: 19:30-04:30 | G39: 00:30-09:30 | H39: SAN
A40: Gibbs, Simon | B40: sg76758 | C40: EMEA | D40: London | E40: 09:00-17:00 GMT | F40: 03:00-11:00 | G40: 08:00-17:00 | H40: SAN | J40: SG76758sa | K40: WS34115533 | L40: WS34115518 | M40: WS34114957
A41: Hasan, Samir | B41: sh10049 | C41: NAM | D41: NJ | E41: 09:00-18:00 ET | F41: 08:00-17:00 | G41: 13:00-22:00 | H41: SAN
A42: Kaplow, Susan | B42: sk34158 | C42: NAM | D42: Nevada | E42: 08:00-17:00 PDT | F42: 10:00-19:00 | G42: 15:00-00:00 | H42: SAN | J42: SK34158sa | K42: WS33950845 | L42: WS33951778 | M42: WS34114561
A43: Kannan, Shathish | B43: sk36088 | C43: APAC | D43: Singapore | E43: 08:30-17:30 SST | F43: 19:30-04:30 | G43: 00:30-09:30 | H43: SAN
A44: Metta, Syam | B44: sm20316 | C44: NAM | D44: Irving | E44: 09:00-18:00 | F44: 09:00-18:00 | G44: 14:00-23:00 | H44: NAS | J44: WS34118710
A45: Mohammed, Shanavaz | B45: sm30890 | C45: APAC | D45: Singapore | E45: 08:30-17:30 SST | F45: 19:30-04:30 | G45: 00:30-09:30 | H45: SAN
A46: Patel, Shailesh R. | B46: sp65064 | C46: NAM | D46: Irving | E46: 09:00-18:00 | F46: 09:00-18:00 | G46: 14:00-23:00 | H46: SAN | J46: WS34118744
A47: Sadasivan, Sunil | B47: ss84555 | C47: APAC | D47: Singapore | E47: 08:30-17:30 SST | F47: 19:30-04:30 | G47: 00:30-09:30 | H47: SAN
A48: Scott Taylor | B48: st56532 | C48: NAM | D48: Irving | E48: 09:00-18:00 | F48: 09:00-18:00 | G48: 14:00-23:00 | H48: NAS | J48: sast56532 | K48: OK | L48: WS33951610 | M48: WS34114631
A49: Thayil, Shibu G | B49: st60913 | C49: NAM | D49: Irving | E49: 09:00-18:00 | F49: 09:00-18:00 | G49: 14:00-23:00 | H49: NAS
A50: Pulavarpu, Utham | B50: up44123 | C50: NAM | D50: Irving | E50: 09:00-18:00 | F50: 09:00-18:00 | G50: 14:00-23:00 | H50: SAN
A51: Pietruk, Witold | B51: wp92684 | C51: EMEA | D51: Warsaw, Poland | E51: 09:00-17:00 CET | F51: 02:00-10:00 | G51: 10:00-18:00 | H51: NAS | J51: sawp92684 | K51: OK | L51: WS33951577 | M51: WS34114656
A52: Klos, Zbigniew | B52: zk04269 | C52: EMEA | D52: Lodz, Poland | E52: 09:00-17:00 CET | F52: 02:00-10:00 | G52: 10:00-18:00 | H52: SAN | J52: ZK04269sa | K52: WS34115554 | L52: WS34115492 | M52: WS34114971

Sheet LOER - Test details
C1: Details | I1: Details | J1: APAC | AT1: APAC | AU1: EMEA | BM1: EMEA | BN1: NAM | BW1: NAM
J2: NAS | S2: APAC NAS | T2: SAN | AS2: APAC SAN | AU2: NAS | AV2: EMEA NAS | AW2: SAN | BL2: EMEA SAN | BN2: NAS | BO2: NAM NAS | BP2: SAN | BV2: NAM SAN
A3: Name | B3: SOEID | C3: Region | D3: Location | E3: Working Hour (Local Time) | F3: Working Hour (Central Time) | G3: Working Hour (GMT) | H3: NAS or SAN | J3: APACHKOPSMGRSA01 | K3: APACSGOPSMGRSA01 | L3: APAUNASSSA | M3: APCNNASSSA | N3: APHKNASSSA | O3: APINNASSSA | P3: APJPNASSSA | Q3: APSGNASSSA | R3: APTHNASSSA | T3: APACSGWINPV7863 (wintel / rdp / dcnm) | U3: APACHKWINUV7857 (wintel / rdp / dcnm) | V3: APACSGWINPV7860 (wintel / rdp / dcnm) | W3: APACHKWINUV7645 (wintel / rdp / dcnm) | X3: SSUNSMM01 (unix / ssh / soln enab) | Y3: SSUNSMM02 (unix / ssh / soln enab) | Z3: HSSUNSMM02 (unix / ssh / soln enab) | AA3: HLIXIU170 (unix / ssh / soln enab) | AB3: HKASTCTILXSAN1C (unix / ssh / soln enab) | AC3: SGCTCTILXSAN1P (unix / ssh / soln enab) | AD3: SLIXIP167 (unix / ssh / soln enab) | AE3: HLIXIU634 (unix / ssh / soln enab) | AF3: APACSGU4V03 (wintel / rdp / unisphere) | AG3: APACHKASTU4V03 (wintel / rdp / unisphere) | AH3: APACHKIADU4V03 (wintel / rdp / unisphere) | AI3: SINCTISVXMS8001 (unix / ssh / xms-cli) | AJ3: HKGCTISVXMS8001 (unix / ssh / xms-cli) | AK3: SINCTISANXIO009 (wintel / rdp / xms-gui) | AL3: HKGCTISANXIO009 (wintel / rdp / xms-gui) | AM3: APACSGVPMC001 (wintel / rdp / xiv-gui) | AN3: SLIXIP167 (unix / ssh / xrsc-xcli) | AO3: SLIXGP828 (unix / ssh / xrsc-xcli) | AP3: SGCTILXSANA01P (unix / ssh / xrsc-xcli) | AQ3: APACSGEXHMGTV01 (wintel / rdp / cx-vnx uni) | AR3: APACHKEXHMGTV01 (wintel / rdp / cx-vnx uni) | AU3: Domains | AW3: FFTCTISAHDS001 (rdp) | AX3: UKCTIPRSD42 (rdp) | AY3: UKCTIPRSD36 (rdp) | AZ3: FFCTISANAV002 (rdp) | BA3: FFCTISANAV001 (rdp) | BB3: LDNCTISANAV002 (rdp) | BC3: LDNCTISANAV001 (rdp) | BD3: UKCTIPRSA48 (rdp) | BE3: Fftctisfss01 (rdp) | BF3: UKCTIPRSA50 (rdp) | BG3: FFTCTISVEC002 (rdp) | BH3: UKCTIPRSD42 (rdp) | BI3: rgcctisanla01p (ssh/telnet/tectia) | BJ3: fgcctisanla01p (ssh/telnet/tectia) | BK3: cgcctisanla01p (ssh/telnet/tectia) | BN3: Domain groups | BP3: RDP XiV Server (namuibm01) | BQ3: RDP DCNM Server (namuciscoa02) | BR3: Cisco Swith SSH (usucd08ae01) | BS3: RDP U4V Access (namuemc01) | BT3: RDP HCS Server (namuhds03) | BU3: Linux San Control Worksations (namucws01) | BX3: Name | BY3: SOEID | BZ3: Region | CA3: NAS or SAN
A4: Hameed, Abdul1 | B4: ah24522 | C4: NAM | D4: Irving | E4: 08:00-17:00 | F4: 08:00-17:00 | G4: 14:00-23:00 | H4: NAS | BX4: Hameed, Abdul1 | BY4: ah24522 | BZ4: NAM | CA4: NAS
A5: Reddy, Ashok | B5: ar91297 | C5: NAM | D5: Singapore | E5: 20:00-04:00 SST | F5: 09:00-18:00 | G5: 14:00-23:00 | H5: SAN | AW5: y | AX5: y | AY5: y | AZ5: y | BA5: y | BB5: y | BC5: y | BD5: y | BE5: y | BF5: y | BG5: y | BH5: y | BI5: y | BJ5: y | BK5: y | BP5: y | BQ5: y | BR5: y | BS5: y | BT5: y | BU5: y | BX5: Reddy, Ashok | BY5: ar91297 | BZ5: NAM | CA5: SAN
A6: Shrestha, Amit | B6: as23277 | C6: NAM | D6: Irving | E6: 09:00-18:00 | F6: 09:00-18:00 | G6: 14:00-23:00 | H6: NAS | BX6: Shrestha, Amit | BY6: as23277 | BZ6: NAM | CA6: NAS
A7: So, Alan | B7: as43276 | C7: NAM | D7: NY | E7: 09:00-16:00 ET | F7: 08:00-17:00 | G7: 13:00-22:00 | H7: SAN | BP7: y | BQ7: y | BR7: y | BS7: y | BT7: y | BU7: y | BX7: So, Alan | BY7: as43276 | BZ7: NAM | CA7: SAN
A8: Sekhar, Ati | B8: as54505 | C8: NAM | D8: Irving | E8: 09:00-18:00 | F8: 09:00-18:00 | G8: 14:00-23:00 | H8: NAS | BX8: Sekhar, Ati | BY8: as54505 | BZ8: NAM | CA8: NAS
A9: Deluca, Bryan | B9: bd70270 | C9: NAM | D9: Irving | E9: 09:00-18:00 | F9: 09:00-18:00 | G9: 14:00-23:00 | H9: SAN | BP9: y | BQ9: y | BR9: y | BS9: y | BT9: y | BU9: y | BX9: Deluca, Bryan | BY9: bd70270 | BZ9: NAM | CA9: SAN
A10: Johns, Brandi L. | B10: bj03264 | C10: NAM | D10: Irving | E10: 09:00-18:00 | F10: 09:00-18:00 | G10: 14:00-23:00 | H10: SAN | BP10: y | BQ10: y | BR10: y | BS10: y | BT10: y | BU10: y | BX10: Johns, Brandi L. | BY10: bj03264 | BZ10: NAM | CA10: SAN
A11: Katragadda, Balavinodh | B11: bk81013 | C11: NAM | D11: Irving | E11: 09:00-18:00 | F11: 09:00-18:00 | G11: 14:00-23:00 | H11: NAS | BX11: Katragadda, Balavinodh | BY11: bk81013 | BZ11: NAM | CA11: NAS
A12: Bates, Clive | B12: cb81537 | C12: EMEA | D12: London | E12: 09:00-17:00 GMT | F12: 03:00-11:00 | G12: 08:00-16:00 | H12: NAS | BX12: Bates, Clive | BY12: cb81537 | BZ12: EMEA | CA12: NAS
A13: Deinhart, Donald M | B13: dd60065 | C13: NAM | D13: Irving | E13: 08:00-17:00 | F13: 08:00-17:00 | G13: 14:00-23:00 | H13: SAN | BP13: y | BQ13: y | BR13: y | BS13: y | BT13: y | BU13: y | BX13: Deinhart, Donald M | BY13: dd60065 | BZ13: NAM | CA13: SAN
A14: Nagulapalli, Eswara Prasad | B14: en53115 | C14: NAM | D14: Irving | E14: 09:00-18:00 | F14: 09:00-18:00 | G14: 14:00-23:00 | H14: SAN | BP14: y | BQ14: y | BR14: y | BS14: y | BT14: y | BU14: y | BX14: Nagulapalli, Eswara Prasad | BY14: en53115 | BZ14: NAM | CA14: SAN
A15: Fernandes, Godfrey A | B15: gf89952 | C15: NAM | D15: NJ | E15: 09:00-18:00 ET | F15: 08:00-17:00 | G15: 13:00-22:00 | H15: SAN | BP15: y | BQ15: y | BR15: y | BS15: y | BT15: y | BU15: y | BX15: Fernandes, Godfrey A | BY15: gf89952 | BZ15: NAM | CA15: SAN
A16: Dhinsa, Harbinder | B16: hd57144 | C16: EMEA | D16: London | E16: 09:00-17:00 GMT | F16: 03:00-11:00 | G16: 08:00-16:00 | H16: SAN | AW16: y | AX16: y | AY16: y | AZ16: y | BA16: y | BB16: y | BC16: y | BD16: y | BE16: y | BF16: y | BG16: y | BH16: y | BI16: y | BJ16: y | BK16: y | BX16: Dhinsa, Harbinder | BY16: hd57144 | BZ16: EMEA | CA16: SAN
A17: Gonzales, James | B17: jg26166 | C17: EMEA | D17: Philippines | E17: 09:00-18:00 PHT | F17: 20:00-05:00 | G17: 01:00-10:00 | H17: SAN | AW17: y | AX17: y | AY17: y | AZ17: y | BA17: y | BB17: y | BC17: y | BD17: y | BE17: y | BF17: y | BG17: y | BH17: y | BI17: y | BJ17: y | BK17: y | BX17: Gonzales, James | BY17: jg26166 | BZ17: EMEA | CA17: SAN
A18: Higgins, John | B18: jh85336 | C18: NAM | D18: Irving | E18: 09:00-18:00 | F18: 09:00-18:00 | G18: 14:00-23:00 | H18: SAN | BP18: y | BQ18: y | BR18: y | BS18: y | BT18: y | BU18: y | BX18: Higgins, John | BY18: jh85336 | BZ18: NAM | CA18: SAN
A19: Karickal, James | B19: jk48146 | C19: NAM | D19: Irving | E19: 09:00-18:00 | F19: 09:00-18:00 | G19: 14:00-23:00 | H19: SAN / LAVA/ STI | BP19: y | BQ19: y | BR19: y | BS19: y | BT19: y | BU19: y | BX19: Karickal, James | BY19: jk48146 | BZ19: NAM | CA19: SAN / LAVA/ STI
A20: Matt, Jeffry E | B20: jm67831 | C20: NAM | D20: Jacksonville | E20: 09:00-18:00 ET | F20: 09:00-18:00 | G20: 14:00-23:00 | H20: SAN | BP20: y | BQ20: y | BR20: y | BS20: y | BT20: y | BU20: y | BX20: Matt, Jeffry E | BY20: jm67831 | BZ20: NAM | CA20: SAN
A21: Nuqui, Jillian Christine | B21: jn62051 | C21: APAC | D21: Philippines | E21: 09:00-18:00 | F21: 20:00-05:00 | G21: 01:00-10:00 | H21: NAS | J21: y | K21: y | L21: y | M21: y | N21: y | O21: y | P21: y | Q21: y | R21: y | BX21: Nuqui, Jillian Christine | BY21: jn62051 | BZ21: APAC | CA21: NAS
A22: Nogala, Jacek | B22: jn76047 | C22: EMEA | D22: Warsaw, Poland | E22: 09:00-17:00 CET | F22: 02:00-10:00 | G22: 07:00-15:00 | H22: NAS | BX22: Nogala, Jacek | BY22: jn76047 | BZ22: EMEA | CA22: NAS
A23: Hines, Kery | B23: kh64535 | C23: NAM | D23: Las Vegas, Nevada | E23: 07:00-16:00 PDT | F23: 09:00-18:00 | G23: 14:00-23:00 | H23: SAN | BP23: y | BQ23: y | BR23: y | BS23: y | BT23: y | BU23: y | BX23: Hines, Kery | BY23: kh64535 | BZ23: NAM | CA23: SAN
A24: Babu, Surendra | B24: ks14775 | C24: APAC | D24: Singapore | E24: 09:00-18:00 | F24: 20:00-05:00 | G24: 01:00-10:00 | H24: NAS | J24: y | K24: y | L24: y | M24: y | N24: y | O24: y | P24: y | Q24: y | R24: y | BX24: Babu, Surendra | BY24: ks14775 | BZ24: APAC | CA24: NAS
A25: Vathsavai, Krishnam | B25: kv13183 | C25: EMEA | D25: Singapore | E25: 12:00-20:00 SST | F25: 23:00-07:00 | G25: 04:00-12:00 | H25: SAN | AW25: y | AX25: y | AY25: y | AZ25: y | BA25: y | BB25: y | BC25: y | BD25: y | BE25: y | BF25: y | BG25: y | BH25: y | BI25: y | BJ25: y | BK25: y | BX25: Vathsavai, Krishnam | BY25: kv13183 | BZ25: EMEA | CA25: SAN
A26: Yelisetty, Krishna | B26: ky04806 | C26: NAM | D26: Irving | E26: 09:00-18:00 | F26: 09:00-18:00 | G26: 14:00-23:00 | H26: SAN | BP26: y | BQ26: y | BR26: y | BS26: y | BT26: y | BU26: y | BX26: Yelisetty, Krishna | BY26: ky04806 | BZ26: NAM | CA26: SAN
A27: Flores Garnica, Luis Felipe | B27: lf42212 | C27: NAM | D27: Mexico | E27: 09:00-18:00 | F27: 09:00-18:00 | G27: 14:00-23:00 | H27: SAN | BP27: y | BQ27: y | BR27: y | BS27: y | BT27: y | BU27: y | BX27: Flores Garnica, Luis Felipe | BY27: lf42212 | BZ27: NAM | CA27: SAN
A28: Neelakantan, Lokesh | B28: ln81010 | C28: NAM | D28: Irving | E28: 09:00-18:00 | F28: 09:00-18:00 | G28: 14:00-23:00 | H28: NAS | BX28: Neelakantan, Lokesh | BY28: ln81010 | BZ28: NAM | CA28: NAS
A29: Gandham, Maruti Ram | B29: mg66280 | C29: NAM | D29: Irving | E29: 09:00-18:00 | F29: 09:00-18:00 | G29: 14:00-23:00 | H29: NAS | BX29: Gandham, Maruti Ram | BY29: mg66280 | BZ29: NAM | CA29: NAS
A30: Marszalowicz, Michael | B30: mm18246 | C30: NAM | D30: NJ | E30: 09:00-18:00 ET | F30: 08:00-17:00 | G30: 13:00-22:00 | H30: SAN | BP30: y | BQ30: y | BR30: y | BS30: y | BT30: y | BU30: y | BX30: Marszalowicz, Michael | BY30: mm18246 | BZ30: NAM | CA30: SAN
A31: Plurad, Michael Karlo Mallari | B31: mp35609 | C31: APAC | D31: Philippines | E31: 08:30-17:30 PHT | F31: 19:30-04:30 | G31: 00:30-09:30 | H31: NAS | J31: y | K31: y | L31: y | M31: y | N31: y | O31: y | P31: y | Q31: y | R31: y | BX31: Plurad, Michael Karlo Mallari | BY31: mp35609 | BZ31: APAC | CA31: NAS
A32: Wilson, Mike | B32: mw69878 | C32: NAM | D32: London | E32: 09:00-17:00 GMT | F32: 03:00-11:00 | G32: 08:00-16:00 | H32: SAN | BP32: y | BQ32: y | BR32: y | BS32: y | BT32: y | BU32: y | BX32: Wilson, Mike | BY32: mw69878 | BZ32: NAM | CA32: SAN
A33: Lui, Peter | B33: pl75643 | C33: NAM | D33: NY | E33: 09:00-18:00 ET | F33: 08:00-17:00 | G33: 13:00-22:00 | H33: SAN | BP33: y | BQ33: y | BR33: y | BS33: y | BT33: y | BU33: y | BX33: Lui, Peter | BY33: pl75643 | BZ33: NAM | CA33: SAN
A34: Pappula, Rao | B34: pr72496 | C34: APAC | D34: Singapore | E34: 09:00-18:00 SST | F34: 20:00-05:00 | G34: 01:00-10:00 | H34: SAN | T34: y | U34: y | V34: y | W34: y | X34: y | Y34: y | Z34: y | AA34: y | AB34: y | AC34: y | AD34: y | AE34: y | AF34: y | AG34: y | AH34: y | AI34: y | AJ34: y | AK34: y | AL34: y | AM34: y | AN34: y | AO34: y | AP34: y | AQ34: y | AR34: y | AX34: y | AY34: y | BD34: y | BE34: y | BF34: y | BG34: y | BH34: y | BP34: y | BR34: y | BX34: Pappula, Rao | BY34: pr72496 | BZ34: APAC | CA34: SAN
A35: Balasubramanian, Raja | B35: rb02032 | C35: NAM | D35: NJ | E35: 09:00-18:00 ET | F35: 08:00-17:00 | G35: 13:00-22:00 | H35: SAN | BP35: y | BQ35: y | BR35: y | BS35: y | BT35: y | BU35: y | BX35: Balasubramanian, Raja | BY35: rb02032 | BZ35: NAM | CA35: SAN
A36: Kommaraju, Raghukumar | B36: rk12759 | C36: NAM | D36: Irving | E36: 09:00-18:00 | F36: 09:00-18:00 | G36: 14:00-23:00 | H36: NAS | BX36: Kommaraju, Raghukumar | BY36: rk12759 | BZ36: NAM | CA36: NAS
A37: Pillai, Raju | B37: rp04578 | C37: APAC | D37: Singapore | E37: 08:30-17:30 SST | F37: 19:30-04:30 | G37: 00:30-09:30 | H37: SAN | T37: y | U37: y | V37: y | W37: y | X37: y | Y37: y | Z37: y | AA37: y | AB37: y | AC37: y | AD37: y | AE37: y | AF37: y | AG37: y | AH37: y | AI37: y | AJ37: y | AK37: y | AL37: y | AM37: y | AN37: y | AO37: y | AP37: y | AQ37: y | AR37: y | BX37: Pillai, Raju | BY37: rp04578 | BZ37: APAC | CA37: SAN
A38: Ahmed, Salauddin | B38: sa47183 | C38: EMEA | D38: London | E38: 14:00-23:00 GMT | F38: 09:00-18:00 | G38: 14:00-23:00 | H38: SAN | AW38: y | AX38: y | AY38: y | AZ38: y | BA38: y | BB38: y | BC38: y | BD38: y | BE38: y | BF38: y | BG38: y | BH38: y | BI38: y | BJ38: y | BK38: y | BX38: Ahmed, Salauddin | BY38: sa47183 | BZ38: EMEA | CA38: SAN
A39: Gosangi, Shankara Murthy | B39: sg37224 | C39: APAC | D39: Singapore | E39: 08:30-17:30 SST | F39: 19:30-04:30 | G39: 00:30-09:30 | H39: SAN | T39: y | U39: y | V39: y | W39: y | X39: y | Y39: y | Z39: y | AA39: y | AB39: y | AC39: y | AD39: y | AE39: y | AF39: y | AG39: y | AH39: y | AI39: y | AJ39: y | AK39: y | AL39: y | AM39: y | AN39: y | AO39: y | AP39: y | AQ39: y | AR39: y | BX39: Gosangi, Shankara Murthy | BY39: sg37224 | BZ39: APAC | CA39: SAN
A40: Gibbs, Simon | B40: sg76758 | C40: EMEA | D40: London | E40: 09:00-17:00 GMT | F40: 03:00-11:00 | G40: 08:00-17:00 | H40: SAN | AW40: y | AX40: y | AY40: y | AZ40: y | BA40: y | BB40: y | BC40: y | BD40: y | BE40: y | BF40: y | BG40: y | BH40: y | BI40: y | BJ40: y | BK40: y | BX40: Gibbs, Simon | BY40: sg76758 | BZ40: EMEA | CA40: SAN
A41: Hasan, Samir | B41: sh10049 | C41: NAM | D41: NJ | E41: 09:00-18:00 ET | F41: 08:00-17:00 | G41: 13:00-22:00 | H41: SAN | BP41: y | BQ41: y | BR41: y | BS41: y | BT41: y | BU41: y | BX41: Hasan, Samir | BY41: sh10049 | BZ41: NAM | CA41: SAN
A42: Kaplow, Susan | B42: sk34158 | C42: NAM | D42: Nevada | E42: 08:00-17:00 PDT | F42: 10:00-19:00 | G42: 15:00-00:00 | H42: SAN | BP42: y | BQ42: y | BR42: y | BS42: y | BT42: y | BU42: y | BX42: Kaplow, Susan | BY42: sk34158 | BZ42: NAM | CA42: SAN
A43: Kannan, Shathish | B43: sk36088 | C43: APAC | D43: Singapore | E43: 08:30-17:30 SST | F43: 19:30-04:30 | G43: 00:30-09:30 | H43: SAN | T43: y | U43: y | V43: y | W43: y | X43: y | Y43: y | Z43: y | AA43: y | AB43: y | AC43: y | AD43: y | AE43: y | AF43: y | AG43: y | AH43: y | AI43: y | AJ43: y | AK43: y | AL43: y | AM43: y | AN43: y | AO43: y | AP43: y | AQ43: y | AR43: y | AX43: y | AY43: y | BD43: y | BE43: y | BF43: y | BG43: y | BH43: y | BP43: y | BR43: y | BX43: Kannan, Shathish | BY43: sk36088 | BZ43: APAC | CA43: SAN
A44: Metta, Syam | B44: sm20316 | C44: NAM | D44: Irving | E44: 09:00-18:00 | F44: 09:00-18:00 | G44: 14:00-23:00 | H44: NAS | BX44: Metta, Syam | BY44: sm20316 | BZ44: NAM | CA44: NAS
A45: Mohammed, Shanavaz | B45: sm30890 | C45: APAC | D45: Singapore | E45: 08:30-17:30 SST | F45: 19:30-04:30 | G45: 00:30-09:30 | H45: SAN | T45: y | U45: y | V45: y | W45: y | X45: y | Y45: y | Z45: y | AA45: y | AB45: y | AC45: y | AD45: y | AE45: y | AF45: y | AG45: y | AH45: y | AI45: y | AJ45: y | AK45: y | AL45: y | AM45: y | AN45: y | AO45: y | AP45: y | AQ45: y | AR45: y | BX45: Mohammed, Shanavaz | BY45: sm30890 | BZ45: APAC | CA45: SAN
A46: Patel, Shailesh R. | B46: sp65064 | C46: NAM | D46: Irving | E46: 09:00-18:00 | F46: 09:00-18:00 | G46: 14:00-23:00 | H46: SAN | BP46: y | BQ46: y | BR46: y | BS46: y | BT46: y | BU46: y | BX46: Patel, Shailesh R. | BY46: sp65064 | BZ46: NAM | CA46: SAN
A47: Sadasivan, Sunil | B47: ss84555 | C47: APAC | D47: Singapore | E47: 08:30-17:30 SST | F47: 19:30-04:30 | G47: 00:30-09:30 | H47: SAN | T47: y | U47: y | V47: y | W47: y | X47: y | Y47: y | Z47: y | AA47: y | AB47: y | AC47: y | AD47: y | AE47: y | AF47: y | AG47: y | AH47: y | AI47: y | AJ47: y | AK47: y | AL47: y | AM47: y | AN47: y | AO47: y | AP47: y | AQ47: y | AR47: y | AX47: y | AY47: y | BD47: y | BE47: y | BF47: y | BG47: y | BH47: y | BP47: y | BR47: y | BX47: Sadasivan, Sunil | BY47: ss84555 | BZ47: APAC | CA47: SAN
A48: Scott Taylor | B48: st56532 | C48: NAM | D48: Irving | E48: 09:00-18:00 | F48: 09:00-18:00 | G48: 14:00-23:00 | H48: NAS | BX48: Scott Taylor | BY48: st56532 | BZ48: NAM | CA48: NAS
A49: Thayil, Shibu G | B49: st60913 | C49: NAM | D49: Irving | E49: 09:00-18:00 | F49: 09:00-18:00 | G49: 14:00-23:00 | H49: NAS | BX49: Thayil, Shibu G | BY49: st60913 | BZ49: NAM | CA49: NAS
A50: Pulavarpu, Utham | B50: up44123 | C50: NAM | D50: Irving | E50: 09:00-18:00 | F50: 09:00-18:00 | G50: 14:00-23:00 | H50: SAN | BP50: y | BQ50: y | BR50: y | BS50: y | BT50: y | BU50: y | BX50: Pulavarpu, Utham | BY50: up44123 | BZ50: NAM | CA50: SAN
A51: Pietruk, Witold | B51: wp92684 | C51: EMEA | D51: Warsaw, Poland | E51: 09:00-17:00 CET | F51: 02:00-10:00 | G51: 10:00-18:00 | H51: NAS | BX51: Pietruk, Witold | BY51: wp92684 | BZ51: EMEA | CA51: NAS
A52: Klos, Zbigniew | B52: zk04269 | C52: EMEA | D52: Lodz, Poland | E52: 09:00-17:00 CET | F52: 02:00-10:00 | G52: 10:00-18:00 | H52: SAN | AW52: y | AX52: y | AY52: y | AZ52: y | BA52: y | BB52: y | BC52: y | BD52: y | BE52: y | BF52: y | BG52: y | BH52: y | BI52: y | BJ52: y | BK52: y | BP52: Y | BQ52: Y | BR52: Y | BS52: N | BT52: Y | BU52: Y | BX52: Klos, Zbigniew | BY52: zk04269 | BZ52: EMEA | CA52: SAN

Sheet Consolidated
T1: APAC | AE1: APAC | AF1: EMEA | AQ1: EMEA | AR1: NAM | BX1: NAM | BZ1: Region | CA1: Percentage Completed | CE1: Percetage Computation
B2: Comparative with dumps | E2: Comparison | F2: Details 1 | L2: Details 1 | N2: Details 2 | S2: Details 2 | T2: NAS | W2: NAS | X2: SAN | AD2: SAN | AF2: NAS | AI2: NAS | AJ2: SAN | AP2: SAN | AR2: NAS | BB2: NAS | BC2: SAN | BW2: SAN | BZ2: APAC | CA2: =CB2/CD2 -> 0.37389381 | CB2: =COUNTIF(X4:AC229,"Y") -> 507 | CC2: =COUNTIF(X4:AC229,"N") -> 849 | CD2: =SUM(CB2:CC2) -> 1356
A3: Name | B3: APAC | C3: EMEA | D3: NAM | F3: Region | G3: Country | H3: State | I3: City | J3: DC / DC Floor | K3: Location | M3: Name | N3: IP address | O3: OS | P3: Use | Q3: Environment | R3: Mode of Access | T3: jn62051 | U3: ks14775 | V3: mp35609 | X3: pr72496 | Y3: rp04578 | Z3: sg37224 | AA3: sk36088 | AB3: sm30890 | AC3: ss84555 | AF3: cb81537 | AG3: jn76047 | AH3: wp92684 | AJ3: hd57144 | AK3: jg26166 | AL3: kv13183 | AM3: sa47183 | AN3: sg76758 | AO3: zk04269 | AR3: ah24522 | AS3: as23277 | AT3: as54505 | AU3: bk81013 | AV3: ln81010 | AW3: mg66280 | AX3: rk12759 | AY3: sm20316 | AZ3: st56532 | BA3: st60913 | BC3: ar91297 | BD3: as43276 | BE3: bd70270 | BF3: bj03264 | BG3: dd60065 | BH3: en53115 | BI3: gf89952 | BJ3: jh85336 | BK3: jk48146 | BL3: jm67831 | BM3: kh64535 | BN3: ky04806 | BO3: lf42212 | BP3: mm18246 | BQ3: pl75643 | BR3: rb02032 | BS3: sh10049 | BT3: sk34158 | BU3: sp65064 | BV3: up44123 | BZ3: EMEA | CA3: =CB3/CD3 -> 0.25624082 | CB3: =COUNTIF(AJ4:AO230,"Y") -> 349 | CC3: =COUNTIF(AJ4:AO230,"n") -> 1013 | CD3: =SUM(CB3:CC3) -> 1362
A4: APACSGWINPV7863 | B4: =VLOOKUP(M4,'APAC Dump'!D:D,1,0) -> APACSGWINPV7863 | C4: =VLOOKUP(M4,'EMEA Dump'!D:D,1,0) -> #N/A | D4: =VLOOKUP(M4,'NAM Dump'!E:E,1,0) -> #N/A | F4: APAC | G4: SG | K4: CT2 | M4: APACSGWINPV7863 | N4: 163.37.116.85 | O4: Wintel | P4: DCNM | Q4: PROD | R4: RDP | T4: N | U4: N | V4: N | X4: Y | Y4: Y | Z4: Y | AA4: Y | AB4: Y | AC4: Y | AF4: N | AG4: N | AH4: N | AJ4: N | AK4: N | AL4: N | AM4: N | AN4: N | AO4: N | AR4: N | AS4: N | AT4: N | AU4: N | AV4: N | AW4: N | AX4: N | AY4: N | AZ4: N | BA4: N | BC4: N | BD4: N | BE4: N | BF4: N | BG4: N | BH4: N | BI4: N | BJ4: N | BK4: N | BL4: N | BM4: N | BN4: N | BO4: N | BP4: N | BQ4: N | BR4: N | BS4: N | BT4: Y | BU4: N | BV4: N | BZ4: NAM | CA4: =CB4/CD4 -> 0.5 | CB4: =COUNTIF(BC4:BV230,"Y") -> 2771 | CC4: =COUNTIF(BC4:BV230,"Y") -> 2771 | CD4: =SUM(CB4:CC4) -> 5542
A5: APACSGWINPV7864 | B5: =VLOOKUP(M5,'APAC Dump'!D:D,1,0) -> APACSGWINPV7864 | C5: =VLOOKUP(M5,'EMEA Dump'!D:D,1,0) -> #N/A | D5: =VLOOKUP(M5,'NAM Dump'!E:E,1,0) -> #N/A | F5: APAC | G5: SG | K5: CT2 | M5: APACSGWINPV7864 | N5: 163.37.116.86 | O5: Wintel | P5: DCNM | Q5: PROD | R5: RDP | T5: N | U5: N | V5: N | X5: Y | Y5: Y | Z5: Y | AA5: Y | AB5: Y | AC5: Y | AF5: N | AG5: N | AH5: N | AJ5: N | AK5: N | AL5: N | AM5: N | AN5: N | AO5: N | AR5: N | AS5: N | AT5: N | AU5: N | AV5: N | AW5: N | AX5: N | AY5: N | AZ5: N | BA5: N | BC5: N | BD5: N | BE5: N | BF5: N | BG5: N | BH5: N | BI5: N | BJ5: N | BK5: N | BL5: N | BM5: N | BN5: N | BO5: N | BP5: N | BQ5: N | BR5: N | BS5: N | BT5: Y | BU5: N | BV5: N | BZ5: Total | CA5: =CB5/CD5 -> 0.43910412 | CB5: =SUM(CB2:CB4) -> 3627 | CC5: =SUM(CC2:CC4) -> 4633 | CD5: =SUM(CD2:CD4) -> 8260
A6: APACHKWINUV7857 | B6: =VLOOKUP(M6,'APAC Dump'!D:D,1,0) -> APACHKWINUV7857 | C6: =VLOOKUP(M6,'EMEA Dump'!D:D,1,0) -> #N/A | D6: =VLOOKUP(M6,'NAM Dump'!E:E,1,0) -> #N/A | F6: APAC | G6: HK | K6: AST | M6: APACHKWINUV7857 | N6: 163.36.200.107 | O6: Wintel | P6: DCNM | Q6: UAT | R6: RDP | T6: N | U6: N | V6: N | X6: Y | Y6: Y | Z6: Y | AA6: Y | AB6: Y | AC6: Y | AF6: N | AG6: N | AH6: N | AJ6: N | AK6: N | AL6: N | AM6: N | AN6: N | AO6: N | AR6: N | AS6: N | AT6: N | AU6: N | AV6: N | AW6: N | AX6: N | AY6: N | AZ6: N | BA6: N | BC6: N | BD6: N | BE6: N | BF6: N | BG6: N | BH6: N | BI6: N | BJ6: N | BK6: N | BL6: N | BM6: N | BN6: N | BO6: N | BP6: N | BQ6: N | BR6: N | BS6: N | BT6: Y | BU6: N | BV6: N
A7: APACHKWINUV7858 | B7: =VLOOKUP(M7,'APAC Dump'!D:D,1,0) -> APACHKWINUV7858 | C7: =VLOOKUP(M7,'EMEA Dump'!D:D,1,0) -> #N/A | D7: =VLOOKUP(M7,'NAM Dump'!E:E,1,0) -> #N/A | F7: APAC | G7: HK | K7: AST | M7: APACHKWINUV7858 | N7: 163.36.200.100 | O7: Wintel | P7: DCNM | Q7: UAT | R7: RDP | T7: N | U7: N | V7: N | X7: Y | Y7: Y | Z7: Y | AA7: Y | AB7: Y | AC7: Y | AF7: N | AG7: N | AH7: N | AJ7: N | AK7: N | AL7: N | AM7: N | AN7: N | AO7: N | AR7: N | AS7: N | AT7: N | AU7: N | AV7: N | AW7: N | AX7: N | AY7: N | AZ7: N | BA7: N | BC7: N | BD7: N | BE7: N | BF7: N | BG7: N | BH7: N | BI7: N | BJ7: N | BK7: N | BL7: N | BM7: N | BN7: N | BO7: N | BP7: N | BQ7: N | BR7: N | BS7: N | BT7: N | BU7: N | BV7: N | BZ7: Per Region
A8: APACSGWINPV7860 | B8: =VLOOKUP(M8,'APAC Dump'!D:D,1,0) -> APACSGWINPV7860 | C8: =VLOOKUP(M8,'EMEA Dump'!D:D,1,0) -> #N/A | D8: =VLOOKUP(M8,'NAM Dump'!E:E,1,0) -> #N/A | F8: APAC | G8: SG | K8: CT2 | M8: APACSGWINPV7860 | N8: 163.37.116.82 | O8: Wintel | P8: DCNM | Q8: PROD | R8: RDP | T8: N | U8: N | V8: N | X8: Y | Y8: Y | Z8: Y | AA8: Y | AB8: Y | AC8: Y | AF8: N | AG8: N | AH8: N | AJ8: N | AK8: N | AL8: N | AM8: N | AN8: N | AO8: N | AR8: N | AS8: N | AT8: N | AU8: N | AV8: N | AW8: N | AX8: N | AY8: N | AZ8: N | BA8: N | BC8: N | BD8: N | BE8: N | BF8: N | BG8: N | BH8: N | BI8: N | BJ8: N | BK8: N | BL8: N | BM8: N | BN8: N | BO8: N | BP8: N | BQ8: N | BR8: N | BS8: N | BT8: N | BU8: N | BV8: N | BZ8: APAC | CA8: =CB8/CD8 -> 0.19491525 | CB8: =COUNTIF(X54:AC230,"Y") -> 207 | CC8: =COUNTIF(X54:AC230,"N") -> 855 | CD8: =SUM(CB8:CC8) -> 1062
A9: APACSGWINPV7861 | B9: =VLOOKUP(M9,'APAC Dump'!D:D,1,0) -> APACSGWINPV7861 | C9: =VLOOKUP(M9,'EMEA Dump'!D:D,1,0) -> #N/A | D9: =VLOOKUP(M9,'NAM Dump'!E:E,1,0) -> #N/A | F9: APAC | G9: SG | K9: CT2 | M9: APACSGWINPV7861 | N9: 163.37.116.83 | O9: Wintel | P9: DCNM | Q9: PROD | R9: RDP | T9: N | U9: N | V9: N | X9: Y | Y9: Y | Z9: Y | AA9: Y | AB9: Y | AC9: Y | AF9: N | AG9: N | AH9: N | AJ9: N | AK9: N | AL9: N | AM9: N | AN9: N | AO9: N | AR9: N | AS9: N | AT9: N | AU9: N | AV9: N | AW9: N | AX9: N | AY9: N | AZ9: N | BA9: N | BC9: N | BD9: N | BE9: N | BF9: N | BG9: N | BH9: N | BI9: N | BJ9: N | BK9: N | BL9: N | BM9: N | BN9: N | BO9: N | BP9: N | BQ9: N | BR9: N | BS9: N | BT9: Y | BU9: N | BV9: N | BZ9: EMEA | CA9: =CB9/CD9 -> 0.09714795 | CB9: =COUNTIF(AJ4:AO53,"Y")+COUNTIF(AJ94:AO230,"Y") -> 109 | CC9: =COUNTIF(AJ4:AO53,"N")+COUNTIF(AJ94:AO230,"N") -> 1013 | CD9: =SUM(CB9:CC9) -> 1122
A10: APACHKWINUV7645 | B10: =VLOOKUP(M10,'APAC Dump'!D:D,1,0) -> APACHKWINUV7645 | C10: =VLOOKUP(M10,'EMEA Dump'!D:D,1,0) -> #N/A | D10: =VLOOKUP(M10,'NAM Dump'!E:E,1,0) -> #N/A | F10: APAC | G10: HK | K10: AST | M10: APACHKWINUV7645 | N10: 169.181.182.175 | O10: Wintel | P10: DCNM | Q10: UAT | R10: RDP | T10: N | U10: N | V10: N | X10: Y | Y10: Y | Z10: Y | AA10: Y | AB10: Y | AC10: Y | AF10: N | AG10: N | AH10: N | AJ10: N | AK10: N | AL10: N | AM10: N | AN10: N | AO10: N | AR10: N | AS10: N | AT10: N | AU10: N | AV10: N | AW10: N | AX10: N | AY10: N | AZ10: N | BA10: N | BC10: N | BD10: N | BE10: N | BF10: N | BG10: N | BH10: N | BI10: N | BJ10: N | BK10: N | BL10: N | BM10: N | BN10: N | BO10: N | BP10: N | BQ10: N | BR10: N | BS10: N | BT10: Y | BU10: N | BV10: N | BZ10: NAM | CA10: =CB10/CD10 -> 0.017222222 | CB10: =COUNTIF(BC4:BV93,"Y") -> 31 | CC10: =COUNTIF(BC4:BV93,"N") -> 1769 | CD10: =SUM(CB10:CC10) -> 1800
A11: APACHKWINUV7646 | B11: =VLOOKUP(M11,'APAC Dump'!D:D,1,0) -> APACHKWINUV7646 | C11: =VLOOKUP(M11,'EMEA Dump'!D:D,1,0) -> #N/A | D11: =VLOOKUP(M11,'NAM Dump'!E:E,1,0) -> #N/A | F11: APAC | G11: HK | K11: AST | M11: APACHKWINUV7646 | N11: 169.181.182.176 | O11: Wintel | P11: DCNM | Q11: UAT | R11: RDP | T11: N | U11: N | V11: N | X11: Y | Y11: Y | Z11: Y | AA11: Y | AB11: Y | AC11: Y | AF11: N | AG11: N | AH11: N | AJ11: N | AK11: N | AL11: N | AM11: N | AN11: N | AO11: N | AR11: N | AS11: N | AT11: N | AU11: N | AV11: N | AW11: N | AX11: N | AY11: N | AZ11: N | BA11: N | BC11: N | BD11: N | BE11: N | BF11: N | BG11: N | BH11: N | BI11: N | BJ11: N | BK11: N | BL11: N | BM11: N | BN11: N | BO11: N | BP11: N | BQ11: N | BR11: N | BS11: N | BT11: Y | BU11: N | BV11: N | BZ11: Total | CA11: =CB11/CD11 -> 0.087098394 | CB11: =SUM(CB8:CB10) -> 347 | CC11: =SUM(CC8:CC10) -> 3637 | CD11: =SUM(CD8:CD10) -> 3984
A12: SSUNSMM01 | B12: =VLOOKUP(M12,'APAC Dump'!D:D,1,0) -> SSUNSMM01 | C12: =VLOOKUP(M12,'EMEA Dump'!D:D,1,0) -> #N/A | D12: =VLOOKUP(M12,'NAM Dump'!E:E,1,0) -> #N/A | F12: APAC | G12: CT2 | K12: CT2 | M12: SSUNSMM01 | N12: 163.37.241.20 | O12: Unix | P12: Storage solution enabler server | Q12: UAT | R12: ssh | T12: N | U12: N | V12: N | X12: Y | Y12: Y | Z12: Y | AA12: Y | AB12: Y | AC12: Y | AF12: N | AG12: N | AH12: N | AJ12: N | AK12: N | AL12: N | AM12: N | AN12: N | AO12: N | AR12: N | AS12: N | AT12: N | AU12: N | AV12: N | AW12: N | AX12: N | AY12: N | AZ12: N | BA12: N | BC12: N | BD12: N | BE12: N | BF12: N | BG12: N | BH12: N | BI12: N | BJ12: N | BK12: N | BL12: N | BM12: N | BN12: N | BO12: N | BP12: N | BQ12: N | BR12: N | BS12: N | BT12: N | BU12: N | BV12: N
A13: SSUNSMM02 | B13: =VLOOKUP(M13,'APAC Dump'!D:D,1,0) -> SSUNSMM02 | C13: =VLOOKUP(M13,'EMEA Dump'!D:D,1,0) -> #N/A | D13: =VLOOKUP(M13,'NAM Dump'!E:E,1,0) -> #N/A | F13: APAC | G13: CT2 | K13: CT2 | M13: SSUNSMM02 | N13: 163.37.238.14 | O13: Unix | P13: Storage solution enabler server | Q13: PRD | R13: ssh | T13: N | U13: N | V13: N | X13: Y | Y13: Y | Z13: Y | AA13: Y | AB13: Y | AC13: Y | AF13: N | AG13: N | AH13: N | AJ13: N | AK13: N | AL13: N | AM13: N | AN13: N | AO13: N | AR13: N | AS13: N | AT13: N | AU13: N | AV13: N | AW13: N | AX13: N | AY13: N | AZ13: N | BA13: N | BC13: N | BD13: N | BE13: N | BF13: N | BG13: N | BH13: N | BI13: N | BJ13: N | BK13: N | BL13: N | BM13: N | BN13: N | BO13: N | BP13: N | BQ13: N | BR13: N | BS13: N | BT13: Y | BU13: N | BV13: N
A14: HSSUNSMM02 | B14: =VLOOKUP(M14,'APAC Dump'!D:D,1,0) -> HSSUNSMM02 | C14: =VLOOKUP(M14,'EMEA Dump'!D:D,1,0) -> #N/A | D14: =VLOOKUP(M14,'NAM Dump'!E:E,1,0) -> #N/A | F14: APAC | G14: HK | K14: iAD | M14: HSSUNSMM02 | N14: 129.14.10.5 | O14: Unix | P14: Storage solution enabler server | Q14: PRD/COB | R14: ssh | T14: N | U14: N | V14: N | X14: Y | Y14: Y | Z14: Y | AA14: Y | AB14: Y | AC14: Y | AF14: N | AG14: N | AH14: N | AJ14: N | AK14: N | AL14: N | AM14: N | AN14: N | AO14: N | AR14: N | AS14: N | AT14: N | AU14: N | AV14: N | AW14: N | AX14: N | AY14: N | AZ14: N | BA14: N | BC14: N | BD14: N | BE14: N | BF14: N | BG14: N | BH14: N | BI14: N | BJ14: N | BK14: N | BL14: N | BM14: N | BN14: N | BO14: N | BP14: N | BQ14: N | BR14: N | BS14: N | BT14: N | BU14: N | BV14: N
A15: HLIXIU170 | B15: =VLOOKUP(M15,'APAC Dump'!D:D,1,0) -> HLIXIU170 | C15: =VLOOKUP(M15,'EMEA Dump'!D:D,1,0) -> #N/A | D15: =VLOOKUP(M15,'NAM Dump'!E:E,1,0) -> #N/A | F15: APAC | G15: HK | K15: iAD | M15: HLIXIU170 | N15: 169.165.5.11 | O15: Unix | P15: Storage solution enabler server | Q15: UAT | R15: ssh | T15: N | U15: N | V15: N | X15: Y | Y15: Y | Z15: Y | AA15: Y | AB15: Y | AC15: Y | AF15: N | AG15: N | AH15: N | AJ15: N | AK15: N | AL15: N | AM15: N | AN15: N | AO15: N | AR15: N | AS15: N | AT15: N | AU15: N | AV15: N | AW15: N | AX15: N | AY15: N | AZ15: N | BA15: N | BC15: N | BD15: N | BE15: N | BF15: N | BG15: N | BH15: N | BI15: N | BJ15: N | BK15: N | BL15: N | BM15: N | BN15: N | BO15: N | BP15: N | BQ15: N | BR15: N | BS15: N | BT15: N | BU15: N | BV15: N
A16: HKASTCTILXSAN1C | B16: =VLOOKUP(M16,'APAC Dump'!D:D,1,0) -> HKASTCTILXSAN1C | C16: =VLOOKUP(M16,'EMEA Dump'!D:D,1,0) -> #N/A | D16: =VLOOKUP(M16,'NAM Dump'!E:E,1,0) -> #N/A | F16: APAC | G16: HK | K16: AST | M16: HKASTCTILXSAN1C | N16: 169.165.100.223 | O16: Unix | P16: Storage solution enabler server | Q16: COB | R16: ssh | T16: N | U16: N | V16: N | X16: Y | Y16: Y | Z16: Y | AA16: Y | AB16: Y | AC16: Y | AF16: N | AG16: N | AH16: N | AJ16: N | AK16: N | AL16: N | AM16: N | AN16: N | AO16: N | AR16: N | AS16: N | AT16: N | AU16: N | AV16: N | AW16: N | AX16: N | AY16: N | AZ16: N | BA16: N | BC16: N | BD16: N | BE16: N | BF16: N | BG16: N | BH16: N | BI16: N | BJ16: N | BK16: N | BL16: N | BM16: N | BN16: N | BO16: N | BP16: N | BQ16: N | BR16: N | BS16: N | BT16: Y | BU16: N | BV16: N
A17: HKASTCTILXSAN2C | B17: =VLOOKUP(M17,'APAC Dump'!D:D,1,0) -> HKASTCTILXSAN2C | C17: =VLOOKUP(M17,'EMEA Dump'!D:D,1,0) -> #N/A | D17: =VLOOKUP(M17,'NAM Dump'!E:E,1,0) -> #N/A | F17: APAC | G17: HK | K17: AST | M17: HKASTCTILXSAN2C | N17: 169.165.100.224 | O17: Unix | P17: Storage solution enabler server | Q17: COB | R17: ssh | T17: N | U17: N | V17: N | X17: Y | Y17: Y | Z17: Y | AA17: Y | AB17: Y | AC17: Y | AF17: N | AG17: N | AH17: N | AJ17: N | AK17: N | AL17: N | AM17: N | AN17: N | AO17: N | AR17: N | AS17: N | AT17: N | AU17: N | AV17: N | AW17: N | AX17: N | AY17: N | AZ17: N | BA17: N | BC17: N | BD17: N | BE17: N | BF17: N | BG17: N | BH17: N | BI17: N | BJ17: N | BK17: N | BL17: N | BM17: N | BN17: N | BO17: N | BP17: N | BQ17: N | BR17: N | BS17: N | BT17: Y | BU17: N | BV17: N
A18: SGCTCTILXSAN1P | B18: =VLOOKUP(M18,'APAC Dump'!D:D,1,0) -> SGCTCTILXSAN1P | C18: =VLOOKUP(M18,'EMEA Dump'!D:D,1,0) -> #N/A | D18: =VLOOKUP(M18,'NAM Dump'!E:E,1,0) -> #N/A | F18: APAC | G18: SG | K18: SG | M18: SGCTCTILXSAN1P | N18: 10.85.70.80 | O18: Unix | P18: Storage solution enabler server | Q18: PROD | R18: ssh | T18: N | U18: N | V18: N | X18: Y | Y18: Y | Z18: Y | AA18: Y | AB18: Y | AC18: Y | AF18: N | AG18: N | AH18: N | AJ18: N | AK18: N | AL18: N | AM18: N | AN18: N | AO18: N | AR18: N | AS18: N | AT18: N | AU18: N | AV18: N | AW18: N | AX18: N | AY18: N | AZ18: N | BA18: N | BC18: N | BD18: N | BE18: N | BF18: N | BG18: N | BH18: N | BI18: N | BJ18: N | BK18: N | BL18: N | BM18: N | BN18: N | BO18: N | BP18: N | BQ18: N | BR18: N | BS18: N | BT18: Y | BU18: N | BV18: N
A19: SGCTCTILXSAN2P | B19: =VLOOKUP(M19,'APAC Dump'!D:D,1,0) -> SGCTCTILXSAN2P | C19: =VLOOKUP(M19,'EMEA Dump'!D:D,1,0) -> #N/A | D19: =VLOOKUP(M19,'NAM Dump'!E:E,1,0) -> #N/A | F19: APAC | G19: SG | K19: SG | M19: SGCTCTILXSAN2P | N19: 10.85.70.81 | O19: Unix | P19: Storage solution enabler server | Q19: PROD | R19: ssh | T19: N | U19: N | V19: N | X19: Y | Y19: Y | Z19: Y | AA19: Y | AB19: Y | AC19: Y | AF19: N | AG19: N | AH19: N | AJ19: N | AK19: N | AL19: N | AM19: N | AN19: N | AO19: N | AR19: N | AS19: N | AT19: N | AU19: N | AV19: N | AW19: N | AX19: N | AY19: N | AZ19: N | BA19: N | BC19: N | BD19: N | BE19: N | BF19: N | BG19: N | BH19: N | BI19: N | BJ19: N | BK19: N | BL19: N | BM19: N | BN19: N | BO19: N | BP19: N | BQ19: N | BR19: N | BS19: N | BT19: Y | BU19: N | BV19: N
A20: SLIXIP167 | B20: =VLOOKUP(M20,'APAC Dump'!D:D,1,0) -> SLIXIP167 | C20: =VLOOKUP(M20,'EMEA Dump'!D:D,1,0) -> #N/A | D20: =VLOOKUP(M20,'NAM Dump'!E:E,1,0) -> #N/A | F20: APAC | G20: SG | K20: SG | M20: SLIXIP167 | N20: 169.179.108.69 | O20: Unix | P20: Storage solution enabler server | Q20: PROD | R20: ssh | T20: N | U20: N | V20: N | X20: Y | Y20: Y | Z20: Y | AA20: Y | AB20: Y | AC20: Y | AF20: N | AG20: N | AH20: N | AJ20: N | AK20: N | AL20: N | AM20: N | AN20: N | AO20: N | AR20: N | AS20: N | AT20: N | AU20: N | AV20: N | AW20: N | AX20: N | AY20: N | AZ20: N | BA20: N | BC20: N | BD20: N | BE20: N | BF20: N | BG20: N | BH20: N | BI20: N | BJ20: N | BK20: N | BL20: N | BM20: N | BN20: N | BO20: N | BP20: N | BQ20: N | BR20: N | BS20: N | BT20: Y | BU20: N | BV20: N
A21: SLIXIP168 | B21: =VLOOKUP(M21,'APAC Dump'!D:D,1,0) -> SLIXIP168 | C21: =VLOOKUP(M21,'EMEA Dump'!D:D,1,0) -> #N/A | D21: =VLOOKUP(M21,'NAM Dump'!E:E,1,0) -> #N/A | F21: APAC | G21: SG | K21: SG | M21: SLIXIP168 | N21: 169.178.149.5 | O21: Unix | P21: Storage solution enabler server | Q21: PROD | R21: ssh | T21: N | U21: N | V21: N | X21: Y | Y21: Y | Z21: Y | AA21: Y | AB21: Y | AC21: Y | AF21: N | AG21: N | AH21: N | AJ21: N | AK21: N | AL21: N | AM21: N | AN21: N | AO21: N | AR21: N | AS21: N | AT21: N | AU21: N | AV21: N | AW21: N | AX21: N | AY21: N | AZ21: N | BA21: N | BC21: N | BD21: N | BE21: N | BF21: N | BG21: N | BH21: N | BI21: N | BJ21: N | BK21: N | BL21: N | BM21: N | BN21: N | BO21: N | BP21: N | BQ21: N | BR21: N | BS21: N | BT21: Y | BU21: N | BV21: N
A22: HLIXIU634 | B22: =VLOOKUP(M22,'APAC Dump'!D:D,1,0) -> HLIXIU634 | C22: =VLOOKUP(M22,'EMEA Dump'!D:D,1,0) -> #N/A | D22: =VLOOKUP(M22,'NAM Dump'!E:E,1,0) -> #N/A | F22: APAC | G22: HK | K22: AST | M22: HLIXIU634 | N22: 169.179.82.11 | O22: Unix | P22: Storage solution enabler server | Q22: COB | R22: ssh | T22: N | U22: N | V22: N | X22: Y | Y22: Y | Z22: Y | AA22: Y | AB22: Y | AC22: Y | AF22: N | AG22: N | AH22: N | AJ22: N | AK22: N | AL22: N | AM22: N | AN22: N | AO22: N | AR22: N | AS22: N | AT22: N | AU22: N | AV22: N | AW22: N | AX22: N | AY22: N | AZ22: N | BA22: N | BC22: N | BD22: N | BE22: N | BF22: N | BG22: N | BH22: N | BI22: N | BJ22: N | BK22: N | BL22: N | BM22: N | BN22: N | BO22: N | BP22: N | BQ22: N | BR22: N | BS22: N | BT22: N | BU22: N | BV22: N
A23: HLIXIU633 | B23: =VLOOKUP(M23,'APAC Dump'!D:D,1,0) -> HLIXIU633 | C23: =VLOOKUP(M23,'EMEA Dump'!D:D,1,0) -> #N/A | D23: =VLOOKUP(M23,'NAM Dump'!E:E,1,0) -> #N/A | F23: APAC | G23: HK | K23: iAD | M23: HLIXIU633 | N23: 169.181.17.24 | O23: Unix | P23: Storage solution enabler server | Q23: COB | R23: ssh | T23: N | U23: N | V23: N | X23: Y | Y23: Y | Z23: Y | AA23: Y | AB23: Y | AC23: Y | AF23: N | AG23: N | AH23: N | AJ23: N | AK23: N | AL23: N | AM23: N | AN23: N | AO23: N | AR23: N | AS23: N | AT23: N | AU23: N | AV23: N | AW23: N | AX23: N | AY23: N | AZ23: N | BA23: N | BC23: N | BD23: N | BE23: N | BF23: N | BG23: N | BH23: N | BI23: N | BJ23: N | BK23: N | BL23: N | BM23: N | BN23: N | BO23: N | BP23: N | BQ23: N | BR23: N | BS23: N | BT23: N | BU23: N | BV23: N
... A53: APACHKEXHMGTV01 | B53: =VLOOKUP(M53,'APAC Dump'!D:D,1,0) -> APACHKEXHMGTV01 | C53: =VLOOKUP(M53,'EMEA Dump'!D:D,1,0) -> #N/A | D53: =VLOOKUP(M53,'NAM Dump'!E:E,1,0) -> #N/A | F53: APAC | G53: HK | K53: AST | M53: APACHKEXHMGTV01 | N53: 10.171.81.94 | O53: Wintel | P53: CX/VNX Unisphere | Q53: COB | R53: RDP | T53: N | U53: N | V53: N | X53: Y | Y53: Y | Z53: Y | AA53: Y | AB53: Y | AC53: Y | AF53: N | AG53: N | AH53: N | AJ53: N | AK53: N | AL53: N | AM53: N | AN53: N | AO53: N | AR53: N | AS53: N | AT53: N | AU53: N | AV53: N | AW53: N | AX53: N | AY53: N | AZ53: N | BA53: N | BC53: N | BD53: N | BE53: N | BF53: N | BG53: N | BH53: N | BI53: N | BJ53: N | BK53: N | BL53: N | BM53: N | BN53: N | BO53: N | BP53: N | BQ53: N | BR53: N | BS53: N | BT53: N | BU53: N | BV53: N
A54: cgcctisanla01p | B54: =VLOOKUP(M54,'APAC Dump'!D:D,1,0) -> #N/A | C54: =VLOOKUP(M54,'EMEA Dump'!D:D,1,0) -> cgcctisanla01p | D54: =VLOOKUP(M54,'NAM Dump'!E:E,1,0) -> #N/A | F54: EMEA | G54: UK | I54: London | J54: CGC | M54: cgcctisanla01p | N54: 169.194.35.240 | O54: Linux | P54: Linux SAN management server | R54: ssh | T54: N | U54: N | V54: N | X54: N | Y54: N | Z54: N | AA54: N | AB54: N | AC54: N | AF54: N | AG54: N | AH54: N | AJ54: Y | AK54: Y | AL54: Y | AM54: Y | AN54: Y | AO54: Y | AR54: N | AS54: N | AT54: N | AU54: N | AV54: N | AW54: N | AX54: N | AY54: N | AZ54: N | BA54: N | BC54: N | BD54: N | BE54: N | BF54: N | BG54: N | BH54: N | BI54: N | BJ54: N | BK54: N | BL54: N | BM54: N | BN54: N | BO54: N | BP54: N | BQ54: N | BR54: N | BS54: N | BT54: N | BU54: N | BV54: N
A55: cgcctisanla02p | B55: =VLOOKUP(M55,'APAC Dump'!D:D,1,0) -> #N/A | C55: =VLOOKUP(M55,'EMEA Dump'!D:D,1,0) -> cgcctisanla02p | D55: =VLOOKUP(M55,'NAM Dump'!E:E,1,0) -> #N/A | F55: EMEA | G55: UK | I55: London | J55: CGC | M55: cgcctisanla02p | N55: 169.194.35.239 | O55: Linux | P55: Linux SAN management server | R55: ssh | T55: N | U55: N | V55: N | X55: N | Y55: N | Z55: N | AA55: N | AB55: N | AC55: N | AF55: N | AG55: N | AH55: N | AJ55: Y | AK55: Y | AL55: Y | AM55: Y | AN55: Y | AO55: Y | AR55: N | AS55: N | AT55: N | AU55: N | AV55: N | AW55: N | AX55: N | AY55: N | AZ55: N | BA55: N | BC55: N | BD55: N | BE55: N | BF55: N | BG55: N | BH55: N | BI55: N | BJ55: N | BK55: N | BL55: N | BM55: N | BN55: N | BO55: N | BP55: N | BQ55: N | BR55: N | BS55: N | BT55: N | BU55: N | BV55: N
A56: rgcctisanla01p | B56: =VLOOKUP(M56,'APAC Dump'!D:D,1,0) -> #N/A | C56: =VLOOKUP(M56,'EMEA Dump'!D:D,1,0) -> rgcctisanla01p | D56: =VLOOKUP(M56,'NAM Dump'!E:E,1,0) -> #N/A | F56: EMEA | G56: UK | I56: London | J56: RDC | M56: rgcctisanla01p | N56: 169.182.137.64 | O56: Linux | P56: Linux SAN management server | R56: ssh | T56: N | U56: N | V56: N | X56: N | Y56: N | Z56: N | AA56: N | AB56: N | AC56: N | AF56: N | AG56: N | AH56: N | AJ56: Y | AK56: Y | AL56: Y | AM56: Y | AN56: Y | AO56: Y | AR56: N | AS56: N | AT56: N | AU56: N | AV56: N | AW56: N | AX56: N | AY56: N | AZ56: N | BA56: N | BC56: N | BD56: N | BE56: N | BF56: N | BG56: N | BH56: N | BI56: N | BJ56: N | BK56: N | BL56: N | BM56: N | BN56: N | BO56: N | BP56: N | BQ56: N | BR56: N | BS56: N | BT56: N | BU56: N | BV56: N
A57: rgcctisanla02p | B57: =VLOOKUP(M57,'APAC Dump'!D:D,1,0) -> #N/A | C57: =VLOOKUP(M57,'EMEA Dump'!D:D,1,0) -> rgcctisanla02p | D57: =VLOOKUP(M57,'NAM Dump'!E:E,1,0) -> #N/A | F57: EMEA | G57: UK | I57: London | J57: RDC | M57: rgcctisanla02p | N57: 169.182.137.72 | O57: Linux | P57: Linux SAN management server | R57: ssh | T57: N | U57: N | V57: N | X57: N | Y57: N | Z57: N | AA57: N | AB57: N | AC57: N | AF57: N | AG57: N | AH57: N | AJ57: Y | AK57: Y | AL57: Y | AM57: Y | AN57: Y | AO57: Y | AR57: N | AS57: N | AT57: N | AU57: N | AV57: N | AW57: N | AX57: N | AY57: N | AZ57: N | BA57: N | BC57: N | BD57: N | BE57: N | BF57: N | BG57: N | BH57: N | BI57: N | BJ57: N | BK57: N | BL57: N | BM57: N | BN57: N | BO57: N | BP57: N | BQ57: N | BR57: N | BS57: N | BT57: N | BU57: N | BV57: N
A58: rgcctisanla03p | B58: =VLOOKUP(M58,'APAC Dump'!D:D,1,0) -> #N/A | C58: =VLOOKUP(M58,'EMEA Dump'!D:D,1,0) -> rgcctisanla03p | D58: =VLOOKUP(M58,'NAM Dump'!E:E,1,0) -> #N/A | F58: EMEA | G58: UK | I58: London | J58: RDC | M58: rgcctisanla03p | N58: 169.182.80.191 | O58: Linux | P58: IBM XIV ISIS/XRSC (in deployment) | R58: ssh | T58: N | U58: N | V58: N | X58: N | Y58: N | Z58: N | AA58: N | AB58: N | AC58: N | AF58: N | AG58: N | AH58: N | AJ58: Y | AK58: Y | AL58: Y | AM58: Y | AN58: Y | AO58: Y | AR58: N | AS58: N | AT58: N | AU58: N | AV58: N | AW58: N | AX58: N | AY58: N | AZ58: N | BA58: N | BC58: N | BD58: N | BE58: N | BF58: N | BG58: N | BH58: N | BI58: N | BJ58: N | BK58: N | BL58: N | BM58: N | BN58: N | BO58: N | BP58: N | BQ58: N | BR58: N | BS58: N | BT58: N | BU58: N | BV58: N
A59: rgcctisanla04p | B59: =VLOOKUP(M59,'APAC Dump'!D:D,1,0) -> #N/A | C59: =VLOOKUP(M59,'EMEA Dump'!D:D,1,0) -> rgcctisanla04p | D59: =VLOOKUP(M59,'NAM Dump'!E:E,1,0) -> #N/A | F59: EMEA | G59: UK | I59: London | J59: RDC | M59: rgcctisanla04p | N59: 10.134.170.53 | O59: Linux | P59: Linux SAN management server (MSC) | R59: ssh | T59: N | U59: N | V59: N | X59: N | Y59: N | Z59: N | AA59: N | AB59: N | AC59: N | AF59: N | AG59: N | AH59: N | AJ59: Y | AK59: Y | AL59: Y | AM59: Y | AN59: Y | AO59: Y | AR59: N | AS59: N | AT59: N | AU59: N | AV59: N | AW59: N | AX59: N | AY59: N | AZ59: N | BA59: N | BC59: N | BD59: N | BE59: N | BF59: N | BG59: N | BH59: N | BI59: N | BJ59: N | BK59: N | BL59: N | BM59: N | BN59: N | BO59: N | BP59: N | BQ59: N | BR59: N | BS59: N | BT59: N | BU59: N | BV59: N
A60: rgcctisanla05p | B60: =VLOOKUP(M60,'APAC Dump'!D:D,1,0) -> #N/A | C60: =VLOOKUP(M60,'EMEA Dump'!D:D,1,0) -> rgcctisanla05p | D60: =VLOOKUP(M60,'NAM Dump'!E:E,1,0) -> #N/A | F60: EMEA | G60: UK | I60: London | J60: RDC | M60: rgcctisanla05p | N60: 10.134.170.54 | O60: Linux | P60: Linux SAN management server (MSC) | R60: ssh | T60: N | U60: N | V60: N | X60: N | Y60: N | Z60: N | AA60: N | AB60: N | AC60: N | AF60: N | AG60: N | AH60: N | AJ60: Y | AK60: Y | AL60: Y | AM60: Y | AN60: Y | AO60: Y | AR60: N | AS60: N | AT60: N | AU60: N | AV60: N | AW60: N | AX60: N | AY60: N | AZ60: N | BA60: N | BC60: N | BD60: N | BE60: N | BF60: N | BG60: N | BH60: N | BI60: N | BJ60: N | BK60: N | BL60: N | BM60: N | BN60: N | BO60: N | BP60: N | BQ60: N | BR60: N | BS60: N | BT60: N | BU60: N | BV60: N
A61: ldnctisvhm002 | B61: =VLOOKUP(M61,'APAC Dump'!D:D,1,0) -> #N/A | C61: =VLOOKUP(M61,'EMEA Dump'!D:D,1,0) -> ldnctisvhm002 | D61: =VLOOKUP(M61,'NAM Dump'!E:E,1,0) -> #N/A | F61: EMEA | G61: UK | I61: London | J61: RDC 4 | K61: A10 | M61: ldnctisvhm002 | O61: AIX | P61: Hitachi Command Suite | T61: N | U61: N | V61: N | X61: N | Y61: N | Z61: N | AA61: N | AB61: N | AC61: N | AF61: N | AG61: N | AH61: N | AJ61: Y | AK61: Y | AL61: Y | AM61: Y | AN61: Y | AO61: Y | AR61: N | AS61: N | AT61: N | AU61: N | AV61: N | AW61: N | AX61: N | AY61: N | AZ61: N | BA61: N | BC61: N | BD61: N | BE61: N | BF61: N | BG61: N | BH61: N | BI61: N | BJ61: N | BK61: N | BL61: N | BM61: N | BN61: N | BO61: N | BP61: N | BQ61: N | BR61: N | BS61: N | BT61: N | BU61: N | BV61: N
A62: LDNCTISAHDS001 | B62: =VLOOKUP(M62,'APAC Dump'!D:D,1,0) -> #N/A | C62: =VLOOKUP(M62,'EMEA Dump'!D:D,1,0) -> LDNCTISAHDS001 | D62: =VLOOKUP(M62,'NAM Dump'!E:E,1,0) -> #N/A | F62: EMEA | G62: UK | I62: London | M62: LDNCTISAHDS001 | N62: 10.154.174.55 | P62: Hitachi RACC | T62: N | U62: N | V62: N | X62: N | Y62: N | Z62: N | AA62: N | AB62: N | AC62: N | AF62: N | AG62: N | AH62: N | AJ62: Y | AK62: Y | AL62: Y | AM62: Y | AN62: Y | AO62: Y | AR62: N | AS62: N | AT62: N | AU62: N | AV62: N | AW62: N | AX62: N | AY62: N | AZ62: N | BA62: N | BC62: N | BD62: N | BE62: N | BF62: N | BG62: N | BH62: N | BI62: N | BJ62: N | BK62: N | BL62: N | BM62: N | BN62: N | BO62: N | BP62: N | BQ62: N | BR62: N | BS62: N | BT62: Y | BU62: N | BV62: N
A63: LDNCTISVEA004 | B63: =VLOOKUP(M63,'APAC Dump'!D:D,1,0) -> #N/A | C63: =VLOOKUP(M63,'EMEA Dump'!D:D,1,0) -> LDNCTISVEA004 | D63: =VLOOKUP(M63,'NAM Dump'!E:E,1,0) -> #N/A | F63: EMEA | G63: UK | I63: London | M63: LDNCTISVEA004 | P63: EMC ESRS Gateway | T63: N | U63: N | V63: N | X63: N | Y63: N | Z63: N | AA63: N | AB63: N | AC63: N | AF63: N | AG63: N | AH63: N | AJ63: Y | AK63: Y | AL63: Y | AM63: Y | AN63: Y | AO63: Y | AR63: N | AS63: N | AT63: N | AU63: N | AV63: N | AW63: N | AX63: N | AY63: N | AZ63: N | BA63: N | BC63: N | BD63: N | BE63: N | BF63: N | BG63: N | BH63: N | BI63: N | BJ63: N | BK63: N | BL63: N | BM63: N | BN63: N | BO63: N | BP63: N | BQ63: N | BR63: N | BS63: N | BT63: N | BU63: N | BV63: N
A64: LDNCTISVEA005 | B64: =VLOOKUP(M64,'APAC Dump'!D:D,1,0) -> #N/A | C64: =VLOOKUP(M64,'EMEA Dump'!D:D,1,0) -> LDNCTISVEA005 | D64: =VLOOKUP(M64,'NAM Dump'!E:E,1,0) -> #N/A | F64: EMEA | G64: UK | I64: London | M64: LDNCTISVEA005 | P64: EMC ESRS Gateway | T64: N | U64: N | V64: N | X64: N | Y64: N | Z64: N | AA64: N | AB64: N | AC64: N | AF64: N | AG64: N | AH64: N | AJ64: Y | AK64: Y | AL64: Y | AM64: Y | AN64: Y | AO64: Y | AR64: N | AS64: N | AT64: N | AU64: N | AV64: N | AW64: N | AX64: N | AY64: N | AZ64: N | BA64: N | BC64: N | BD64: N | BE64: N | BF64: N | BG64: N | BH64: N | BI64: N | BJ64: N | BK64: N | BL64: N | BM64: N | BN64: N | BO64: N | BP64: N | BQ64: N | BR64: N | BS64: N | BT64: N | BU64: N | BV64: N
A65: LDNCTISVEA006 | B65: =VLOOKUP(M65,'APAC Dump'!D:D,1,0) -> #N/A | C65: =VLOOKUP(M65,'EMEA Dump'!D:D,1,0) -> LDNCTISVEA006 | D65: =VLOOKUP(M65,'NAM Dump'!E:E,1,0) -> #N/A | F65: EMEA | G65: UK | I65: London | M65: LDNCTISVEA006 | P65: EMC ESRS Gateway | T65: N | U65: N | V65: N | X65: N | Y65: N | Z65: N | AA65: N | AB65: N | AC65: N | AF65: N | AG65: N | AH65: N | AJ65: Y | AK65: Y | AL65: Y | AM65: Y | AN65: Y | AO65: Y | AR65: N | AS65: N | AT65: N | AU65: N | AV65: N | AW65: N | AX65: N | AY65: N | AZ65: N | BA65: N | BC65: N | BD65: N | BE65: N | BF65: N | BG65: N | BH65: N | BI65: N | BJ65: N | BK65: N | BL65: N | BM65: N | BN65: N | BO65: N | BP65: N | BQ65: N | BR65: N | BS65: N | BT65: N | BU65: N | BV65: N
A66: ldnctisanav001 | B66: =VLOOKUP(M66,'APAC Dump'!D:D,1,0) -> #N/A | C66: =VLOOKUP(M66,'EMEA Dump'!D:D,1,0) -> ldnctisanav001 | D66: =VLOOKUP(M66,'NAM Dump'!E:E,1,0) -> #N/A | F66: EMEA | G66: UK | I66: London | J66: RDC | M66: ldnctisanav001 | N66: 169.182.100.160 | P66: AX4/CX4/VNX block/XIV management station | T66: N | U66: N | V66: N | X66: N | Y66: N | Z66: N | AA66: N | AB66: N | AC66: N | AF66: N | AG66: N | AH66: N | AJ66: Y | AK66: Y | AL66: Y | AM66: Y | AN66: Y | AO66: Y | AR66: N | AS66: N | AT66: N | AU66: N | AV66: N | AW66: N | AX66: N | AY66: N | AZ66: N | BA66: N | BC66: N | BD66: N | BE66: N | BF66: N | BG66: N | BH66: N | BI66: N | BJ66: N | BK66: N | BL66: N | BM66: N | BN66: N | BO66: N | BP66: N | BQ66: N | BR66: N | BS66: N | BT66: N | BU66: N | BV66: N
A67: ldnctisanav002 | B67: =VLOOKUP(M67,'APAC Dump'!D:D,1,0) -> #N/A | C67: =VLOOKUP(M67,'EMEA Dump'!D:D,1,0) -> ldnctisanav002 | D67: =VLOOKUP(M67,'NAM Dump'!E:E,1,0) -> #N/A | F67: EMEA | G67: UK | I67: London | J67: RDC | M67: ldnctisanav002 | N67: 169.182.100.166 | P67: AX4/CX4/VNX block/XIV management station | T67: N | U67: N | V67: N | X67: N | Y67: N | Z67: N | AA67: N | AB67: N | AC67: N | AF67: N | AG67: N | AH67: N | AJ67: Y | AK67: Y | AL67: Y | AM67: Y | AN67: Y | AO67: Y | AR67: N | AS67: N | AT67: N | AU67: N | AV67: N | AW67: N | AX67: N | AY67: N | AZ67: N | BA67: N | BC67: N | BD67: N | BE67: N | BF67: N | BG67: N | BH67: N | BI67: N | BJ67: N | BK67: N | BL67: N | BM67: N | BN67: N | BO67: N | BP67: N | BQ67: N | BR67: N | BS67: N | BT67: N | BU67: N | BV67: N
A68: RDCCTIDCNVA01P | B68: =VLOOKUP(M68,'APAC Dump'!D:D,1,0) -> #N/A | C68: =VLOOKUP(M68,'EMEA Dump'!D:D,1,0) -> RDCCTIDCNVA01P | D68: =VLOOKUP(M68,'NAM Dump'!E:E,1,0) -> #N/A | F68: EMEA | G68: UK | I68: London | J68: RDC | M68: RDCCTIDCNVA01P | N68: 169.182.80.110 | P68: DCNM/RADIUS/HiTrack - CISCO management station | T68: N | U68: N | V68: N | X68: N | Y68: N | Z68: N | AA68: Y | AB68: Y | AC68: Y | AF68: N | AG68: N | AH68: N | AJ68: Y | AK68: Y | AL68: Y | AM68: Y | AN68: Y | AO68: Y | AR68: N | AS68: N | AT68: N | AU68: N | AV68: N | AW68: N | AX68: N | AY68: N | AZ68: N | BA68: N | BC68: N | BD68: N | BE68: N | BF68: N | BG68: N | BH68: N | BI68: N | BJ68: N | BK68: N | BL68: N | BM68: N | BN68: N | BO68: N | BP68: N | BQ68: N | BR68: N | BS68: N | BT68: Y | BU68: N | BV68: N
A69: RDCCTIDCNVA02P | B69: =VLOOKUP(M69,'APAC Dump'!D:D,1,0) -> #N/A | C69: =VLOOKUP(M69,'EMEA Dump'!D:D,1,0) -> RDCCTIDCNVA02P | D69: =VLOOKUP(M69,'NAM Dump'!E:E,1,0) -> #N/A | F69: EMEA | G69: UK | I69: London | J69: RDC | M69: RDCCTIDCNVA02P | N69: 169.182.80.110 | P69: DCNM/RADIUS/HiTrack - CISCO management station | T69: N | U69: N | V69: N | X69: N | Y69: N | Z69: N | AA69: Y | AB69: Y | AC69: Y | AF69: N | AG69: N | AH69: N | AJ69: Y | AK69: Y | AL69: Y | AM69: Y | AN69: Y | AO69: Y | AR69: N | AS69: N | AT69: N | AU69: N | AV69: N | AW69: N | AX69: N | AY69: N | AZ69: N | BA69: N | BC69: N | BD69: N | BE69: N | BF69: N | BG69: N | BH69: N | BI69: N | BJ69: N | BK69: N | BL69: N | BM69: N | BN69: N | BO69: N | BP69: N | BQ69: N | BR69: N | BS69: N | BT69: Y | BU69: N | BV69: N
A70: LDNCTISPA001 | B70: =VLOOKUP(M70,'APAC Dump'!D:D,1,0) -> #N/A | C70: =VLOOKUP(M70,'EMEA Dump'!D:D,1,0) -> LDNCTISPA001 | D70: =VLOOKUP(M70,'NAM Dump'!E:E,1,0) -> #N/A | F70: EMEA | G70: UK | I70: London | M70: LDNCTISPA001 | N70: 169.182.112.59 | P70: EMC Unisphere for VMAX | T70: N | U70: N | V70: N | X70: N | Y70: N | Z70: N | AA70: N | AB70: N | AC70: N | AF70: N | AG70: N | AH70: N | AJ70: Y | AK70: Y | AL70: Y | AM70: Y | AN70: Y | AO70: Y | AR70: N | AS70: N | AT70: N | AU70: N | AV70: N | AW70: N | AX70: N | AY70: N | AZ70: N | BA70: N | BC70: N | BD70: N | BE70: N | BF70: N | BG70: N | BH70: N | BI70: N | BJ70: N | BK70: N | BL70: N | BM70: N | BN70: N | BO70: N | BP70: N | BQ70: N | BR70: N | BS70: N | BT70: Y | BU70: N | BV70: N
A71: LDNCTISPA002 | B71: =VLOOKUP(M71,'APAC Dump'!D:D,1,0) -> #N/A | C71: =VLOOKUP(M71,'EMEA Dump'!D:D,1,0) -> LDNCTISPA002 | D71: =VLOOKUP(M71,'NAM Dump'!E:E,1,0) -> #N/A | F71: EMEA | G71: UK | I71: London | M71: LDNCTISPA002 | N71: 169.182.112.57 | P71: EMC Unisphere for VMAX | T71: N | U71: N | V71: N | X71: N | Y71: N | Z71: N | AA71: N | AB71: N | AC71: N | AF71: N | AG71: N | AH71: N | AJ71: Y | AK71: Y | AL71: Y | AM71: Y | AN71: Y | AO71: Y | AR71: N | AS71: N | AT71: N | AU71: N | AV71: N | AW71: N | AX71: N | AY71: N | AZ71: N | BA71: N | BC71: N | BD71: N | BE71: N | BF71: N | BG71: N | BH71: N | BI71: N | BJ71: N | BK71: N | BL71: N | BM71: N | BN71: N | BO71: N | BP71: N | BQ71: N | BR71: N | BS71: N | BT71: Y | BU71: N | BV71: N
A72: fgcctisanla01p | B72: =VLOOKUP(M72,'APAC Dump'!D:D,1,0) -> #N/A | C72: =VLOOKUP(M72,'EMEA Dump'!D:D,1,0) -> fgcctisanla01p | D72: =VLOOKUP(M72,'NAM Dump'!E:E,1,0) -> #N/A | F72: EMEA | G72: Germany | I72: Frankfurt | J72: FDC | M72: fgcctisanla01p | N72: 169.168.76.182 | O72: Linux | P72: Linux SAN management server | R72: ssh | T72: N | U72: N | V72: N | X72: N | Y72: N | Z72: N | AA72: N | AB72: N | AC72: N | AF72: N | AG72: N | AH72: N | AJ72: Y | AK72: Y | AL72: Y | AM72: Y | AN72: Y | AO72: Y | AR72: N | AS72: N | AT72: N | AU72: N | AV72: N | AW72: N | AX72: N | AY72: N | AZ72: N | BA72: N | BC72: N | BD72: N | BE72: N | BF72: N | BG72: N | BH72: N | BI72: N | BJ72: N | BK72: N | BL72: N | BM72: N | BN72: N | BO72: N | BP72: N | BQ72: N | BR72: N | BS72: N | BT72: N | BU72: N | BV72: N
A73: fgcctisanla02p | B73: =VLOOKUP(M73,'APAC Dump'!D:D,1,0) -> #N/A | C73: =VLOOKUP(M73,'EMEA Dump'!D:D,1,0) -> fgcctisanla02p | D73: =VLOOKUP(M73,'NAM Dump'!E:E,1,0) -> #N/A | F73: EMEA | G73: Germany | I73: Frankfurt | J73: FDC | M73: fgcctisanla02p | N73: 169.168.76.175 | O73: Linux | P73: Linux SAN management server | R73: ssh | T73: N | U73: N | V73: N | X73: N | Y73: N | Z73: N | AA73: N | AB73: N | AC73: N | AF73: N | AG73: N | AH73: N | AJ73: Y | AK73: Y | AL73: Y | AM73: Y | AN73: Y | AO73: Y | AR73: N | AS73: N | AT73: N | AU73: N | AV73: N | AW73: N | AX73: N | AY73: N | AZ73: N | BA73: N | BC73: N | BD73: N | BE73: N | BF73: N | BG73: N | BH73: N | BI73: N | BJ73: N | BK73: N | BL73: N | BM73: N | BN73: N | BO73: N | BP73: N | BQ73: N | BR73: N | BS73: N | BT73: N | BU73: N | BV73: N
A74: fgcctisanla03p | B74: =VLOOKUP(M74,'APAC Dump'!D:D,1,0) -> #N/A | C74: =VLOOKUP(M74,'EMEA Dump'!D:D,1,0) -> fgcctisanla03p | D74: =VLOOKUP(M74,'NAM Dump'!E:E,1,0) -> #N/A | F74: EMEA | G74: Germany | I74: Frankfurt | J74: FDC | M74: fgcctisanla03p | N74: 169.168.150.167 | O74: Linux | P74: IBM XIV ISIS/XRSC (in deployment) | R74: ssh | T74: N | U74: N | V74: N | X74: N | Y74: N | Z74: N | AA74: N | AB74: N | AC74: N | AF74: N | AG74: N | AH74: N | AJ74: Y | AK74: Y | AL74: Y | AM74: Y | AN74: Y | AO74: Y | AR74: N | AS74: N | AT74: N | AU74: N | AV74: N | AW74: N | AX74: N | AY74: N | AZ74: N | BA74: N | BC74: N | BD74: N | BE74: N | BF74: N | BG74: N | BH74: N | BI74: N | BJ74: N | BK74: N | BL74: N | BM74: N | BN74: N | BO74: N | BP74: N | BQ74: N | BR74: N | BS74: N | BT74: N | BU74: N | BV74: N
A75: fgcctisanla04p | B75: =VLOOKUP(M75,'APAC Dump'!D:D,1,0) -> #N/A | C75: =VLOOKUP(M75,'EMEA Dump'!D:D,1,0) -> fgcctisanla04p | D75: =VLOOKUP(M75,'NAM Dump'!E:E,1,0) -> #N/A | F75: EMEA | G75: Germany | I75: Frankfurt | J75: FDC | M75: fgcctisanla04p | N75: 169.168.103.71 | O75: Linux | P75: Linux SAN management server (MSC) | R75: ssh | T75: N | U75: N | V75: N | X75: N | Y75: N | Z75: N | AA75: N | AB75: N | AC75: N | AF75: N | AG75: N | AH75: N | AJ75: Y | AK75: Y | AL75: Y | AM75: Y | AN75: Y | AO75: Y | AR75: N | AS75: N | AT75: N | AU75: N | AV75: N | AW75: N | AX75: N | AY75: N | AZ75: N | BA75: N | BC75: N | BD75: N | BE75: N | BF75: N | BG75: N | BH75: N | BI75: N | BJ75: N | BK75: N | BL75: N | BM75: N | BN75: N | BO75: N | BP75: N | BQ75: N | BR75: N | BS75: N | BT75: N | BU75: N | BV75: N
A76: fgcctisanla05p | B76: =VLOOKUP(M76,'APAC Dump'!D:D,1,0) -> #N/A | C76: =VLOOKUP(M76,'EMEA Dump'!D:D,1,0) -> fgcctisanla05p | D76: =VLOOKUP(M76,'NAM Dump'!E:E,1,0) -> #N/A | F76: EMEA | G76: Germany | I76: Frankfurt | J76: FDC | M76: fgcctisanla05p | N76: 169.168.103.72 | O76: Linux | P76: Linux SAN management server (MSC) | R76: ssh | T76: N | U76: N | V76: N | X76: N | Y76: N | Z76: N | AA76: N | AB76: N | AC76: N | AF76: N | AG76: N | AH76: N | AJ76: Y | AK76: Y | AL76: Y | AM76: Y | AN76: Y | AO76: Y | AR76: N | AS76: N | AT76: N | AU76: N | AV76: N | AW76: N | AX76: N | AY76: N | AZ76: N | BA76: N | BC76: N | BD76: N | BE76: N | BF76: N | BG76: N | BH76: N | BI76: N | BJ76: N | BK76: N | BL76: N | BM76: N | BN76: N | BO76: N | BP76: N | BQ76: N | BR76: N | BS76: N | BT76: N | BU76: N | BV76: N
A77: fftctisvhm001dr | B77: =VLOOKUP(M77,'APAC Dump'!D:D,1,0) -> #N/A | C77: =VLOOKUP(M77,'EMEA Dump'!D:D,1,0) -> fftctisvhm001dr | D77: =VLOOKUP(M77,'NAM Dump'!E:E,1,0) -> #N/A | F77: EMEA | G77: Germany | I77: Frankfurt | J77: FDC 1A | K77: AA45 | M77: fftctisvhm001dr | O77: AIX | P77: Hitachi Storage Navigator | T77: N | U77: N | V77: N | X77: N | Y77: N | Z77: N | AA77: N | AB77: N | AC77: N | AF77: N | AG77: N | AH77: N | AJ77: Y | AK77: Y | AL77: Y | AM77: Y | AN77: Y | AO77: Y | AR77: N | AS77: N | AT77: N | AU77: N | AV77: N | AW77: N | AX77: N | AY77: N | AZ77: N | BA77: N | BC77: N | BD77: N | BE77: N | BF77: N | BG77: N | BH77: N | BI77: N | BJ77: N | BK77: N | BL77: N | BM77: N | BN77: N | BO77: N | BP77: N | BQ77: N | BR77: N | BS77: N | BT77: N | BU77: N | BV77: N
A78: FFTCTISAHDS001 | B78: =VLOOKUP(M78,'APAC Dump'!D:D,1,0) -> #N/A | C78: =VLOOKUP(M78,'EMEA Dump'!D:D,1,0) -> FFTCTISAHDS001 | D78: =VLOOKUP(M78,'NAM Dump'!E:E,1,0) -> #N/A | F78: EMEA | G78: Germany | I78: Frankfurt | J78: FDC | M78: FFTCTISAHDS001 | N78: 169.168.9.70 | P78: Hitachi RACC | T78: N | U78: N | V78: N | X78: N | Y78: N | Z78: N | AA78: N | AB78: N | AC78: N | AF78: N | AG78: N | AH78: N | AJ78: Y | AK78: Y | AL78: Y | AM78: Y | AN78: Y | AO78: Y | AR78: N | AS78: N | AT78: N | AU78: N | AV78: N | AW78: N | AX78: N | AY78: N | AZ78: N | BA78: N | BC78: N | BD78: N | BE78: N | BF78: N | BG78: N | BH78: N | BI78: N | BJ78: N | BK78: N | BL78: N | BM78: N | BN78: N | BO78: N | BP78: N | BQ78: N | BR78: N | BS78: N | BT78: Y | BU78: N | BV78: N
A79: ffctisanav001 | B79: =VLOOKUP(M79,'APAC Dump'!D:D,1,0) -> #N/A | C79: =VLOOKUP(M79,'EMEA Dump'!D:D,1,0) -> ffctisanav001 | D79: =VLOOKUP(M79,'NAM Dump'!E:E,1,0) -> #N/A | F79: EMEA | G79: Germany | I79: Frankfurt | J79: FDC | M79: ffctisanav001 | P79: AX4/CX4/VNX block/XIV management station | T79: N | U79: N | V79: N | X79: N | Y79: N | Z79: N | AA79: N | AB79: N | AC79: N | AF79: N | AG79: N | AH79: N | AJ79: Y | AK79: Y | AL79: Y | AM79: Y | AN79: Y | AO79: Y | AR79: N | AS79: N | AT79: N | AU79: N | AV79: N | AW79: N | AX79: N | AY79: N | AZ79: N | BA79: N | BC79: N | BD79: N | BE79: N | BF79: N | BG79: N | BH79: N | BI79: N | BJ79: N | BK79: N | BL79: N | BM79: N | BN79: N | BO79: N | BP79: N | BQ79: N | BR79: N | BS79: N | BT79: N | BU79: N | BV79: N
A80: ffctisanav002 | B80: =VLOOKUP(M80,'APAC Dump'!D:D,1,0) -> #N/A | C80: =VLOOKUP(M80,'EMEA Dump'!D:D,1,0) -> ffctisanav002 | D80: =VLOOKUP(M80,'NAM Dump'!E:E,1,0) -> #N/A | F80: EMEA | G80: Germany | I80: Frankfurt | J80: FDC | M80: ffctisanav002 | P80: AX4/CX4/VNX block/XIV management station | T80: N | U80: N | V80: N | X80: N | Y80: N | Z80: N | AA80: N | AB80: N | AC80: N | AF80: N | AG80: N | AH80: N | AJ80: Y | AK80: Y | AL80: Y | AM80: Y | AN80: Y | AO80: Y | AR80: N | AS80: N | AT80: N | AU80: N | AV80: N | AW80: N | AX80: N | AY80: N | AZ80: N | BA80: N | BC80: N | BD80: N | BE80: N | BF80: N | BG80: N | BH80: N | BI80: N | BJ80: N | BK80: N | BL80: N | BM80: N | BN80: N | BO80: N | BP80: N | BQ80: N | BR80: N | BS80: N | BT80: N | BU80: N | BV80: N
A81: FDCCTIDCNVA01P | B81: =VLOOKUP(M81,'APAC Dump'!D:D,1,0) -> #N/A | C81: =VLOOKUP(M81,'EMEA Dump'!D:D,1,0) -> FDCCTIDCNVA01P | D81: =VLOOKUP(M81,'NAM Dump'!E:E,1,0) -> #N/A | F81: EMEA | G81: Germany | I81: Frankfurt | J81: FDC | K81: Virtual | M81: FDCCTIDCNVA01P | P81: DCNM/RADIUS/HiTrack - CISCO management station | T81: N | U81: N | V81: N | X81: N | Y81: N | Z81: N | AA81: Y | AB81: Y | AC81: Y | AF81: N | AG81: N | AH81: N | AJ81: Y | AK81: Y | AL81: Y | AM81: Y | AN81: Y | AO81: Y | AR81: N | AS81: N | AT81: N | AU81: N | AV81: N | AW81: N | AX81: N | AY81: N | AZ81: N | BA81: N | BC81: N | BD81: N | BE81: N | BF81: N | BG81: N | BH81: N | BI81: N | BJ81: N | BK81: N | BL81: N | BM81: N | BN81: N | BO81: N | BP81: N | BQ81: N | BR81: N | BS81: N | BT81: Y | BU81: N | BV81: N
A82: FDCCTIDCNVA02P | B82: =VLOOKUP(M82,'APAC Dump'!D:D,1,0) -> #N/A | C82: =VLOOKUP(M82,'EMEA Dump'!D:D,1,0) -> FDCCTIDCNVA02P | D82: =VLOOKUP(M82,'NAM Dump'!E:E,1,0) -> #N/A | F82: EMEA | G82: Germany | I82: Frankfurt | J82: FDC | K82: Virtual | M82: FDCCTIDCNVA02P | P82: DCNM/RADIUS/HiTrack - CISCO management station | T82: N | U82: N | V82: N | X82: N | Y82: N | Z82: N | AA82: Y | AB82: Y | AC82: Y | AF82: N | AG82: N | AH82: N | AJ82: Y | AK82: Y | AL82: Y | AM82: Y | AN82: Y | AO82: Y | AR82: N | AS82: N | AT82: N | AU82: N | AV82: N | AW82: N | AX82: N | AY82: N | AZ82: N | BA82: N | BC82: N | BD82: N | BE82: N | BF82: N | BG82: N | BH82: N | BI82: N | BJ82: N | BK82: N | BL82: N | BM82: N | BN82: N | BO82: N | BP82: N | BQ82: N | BR82: N | BS82: N | BT82: N | BU82: N | BV82: N
A83: FFTCTISPA001 | B83: =VLOOKUP(M83,'APAC Dump'!D:D,1,0) -> #N/A | C83: =VLOOKUP(M83,'EMEA Dump'!D:D,1,0) -> FFTCTISPA001 | D83: =VLOOKUP(M83,'NAM Dump'!E:E,1,0) -> #N/A | F83: EMEA | G83: Germany | I83: Frankfurt | J83: FDC | M83: FFTCTISPA001 | P83: EMC Unisphere for VMAX | T83: N | U83: N | V83: N | X83: N | Y83: N | Z83: N | AA83: N | AB83: N | AC83: N | AF83: N | AG83: N | AH83: N | AJ83: Y | AK83: Y | AL83: Y | AM83: Y | AN83: Y | AO83: Y | AR83: N | AS83: N | AT83: N | AU83: N | AV83: N | AW83: N | AX83: N | AY83: N | AZ83: N | BA83: N | BC83: N | BD83: N | BE83: N | BF83: N | BG83: N | BH83: N | BI83: N | BJ83: N | BK83: N | BL83: N | BM83: N | BN83: N | BO83: N | BP83: N | BQ83: N | BR83: N | BS83: N | BT83: Y | BU83: N | BV83: N
A84: FFTCTISPA002 | B84: =VLOOKUP(M84,'APAC Dump'!D:D,1,0) -> #N/A | C84: =VLOOKUP(M84,'EMEA Dump'!D:D,1,0) -> FFTCTISPA002 | D84: =VLOOKUP(M84,'NAM Dump'!E:E,1,0) -> #N/A | F84: EMEA | G84: Germany | I84: Frankfurt | J84: FDC | M84: FFTCTISPA002 | P84: EMC Unisphere for VMAX | T84: N | U84: N | V84: N | X84: N | Y84: N | Z84: N | AA84: N | AB84: N | AC84: N | AF84: N | AG84: N | AH84: N | AJ84: Y | AK84: Y | AL84: Y | AM84: Y | AN84: Y | AO84: Y | AR84: N | AS84: N | AT84: N | AU84: N | AV84: N | AW84: N | AX84: N | AY84: N | AZ84: N | BA84: N | BC84: N | BD84: N | BE84: N | BF84: N | BG84: N | BH84: N | BI84: N | BJ84: N | BK84: N | BL84: N | BM84: N | BN84: N | BO84: N | BP84: N | BQ84: N | BR84: N | BS84: N | BT84: Y | BU84: N | BV84: N
A85: FFTCTISVEA004 | B85: =VLOOKUP(M85,'APAC Dump'!D:D,1,0) -> #N/A | C85: =VLOOKUP(M85,'EMEA Dump'!D:D,1,0) -> FFTCTISVEA004 | D85: =VLOOKUP(M85,'NAM Dump'!E:E,1,0) -> #N/A | F85: EMEA | G85: Germany | I85: Frankfurt | J85: FDC | M85: FFTCTISVEA004 | P85: EMC ESRS Gateway | T85: N | U85: N | V85: N | X85: N | Y85: N | Z85: N | AA85: N | AB85: N | AC85: N | AF85: N | AG85: N | AH85: N | AJ85: Y | AK85: Y | AL85: Y | AM85: Y | AN85: Y | AO85: Y | AR85: N | AS85: N | AT85: N | AU85: N | AV85: N | AW85: N | AX85: N | AY85: N | AZ85: N | BA85: N | BC85: N | BD85: N | BE85: N | BF85: N | BG85: N | BH85: N | BI85: N | BJ85: N | BK85: N | BL85: N | BM85: N | BN85: N | BO85: N | BP85: N | BQ85: N | BR85: N | BS85: N | BT85: N | BU85: N | BV85: N
A86: FFTCTISVEA005 | B86: =VLOOKUP(M86,'APAC Dump'!D:D,1,0) -> #N/A | C86: =VLOOKUP(M86,'EMEA Dump'!D:D,1,0) -> FFTCTISVEA005 | D86: =VLOOKUP(M86,'NAM Dump'!E:E,1,0) -> #N/A | F86: EMEA | G86: Germany | I86: Frankfurt | J86: FDC | M86: FFTCTISVEA005 | P86: EMC ESRS Gateway | T86: N | U86: N | V86: N | X86: N | Y86: N | Z86: N | AA86: N | AB86: N | AC86: N | AF86: N | AG86: N | AH86: N | AJ86: Y | AK86: Y | AL86: Y | AM86: Y | AN86: Y | AO86: Y | AR86: N | AS86: N | AT86: N | AU86: N | AV86: N | AW86: N | AX86: N | AY86: N | AZ86: N | BA86: N | BC86: N | BD86: N | BE86: N | BF86: N | BG86: N | BH86: N | BI86: N | BJ86: N | BK86: N | BL86: N | BM86: N | BN86: N | BO86: N | BP86: N | BQ86: N | BR86: N | BS86: N | BT86: N | BU86: N | BV86: N
A87: FFTCTISVEA006 | B87: =VLOOKUP(M87,'APAC Dump'!D:D,1,0) -> #N/A | C87: =VLOOKUP(M87,'EMEA Dump'!D:D,1,0) -> FFTCTISVEA006 | D87: =VLOOKUP(M87,'NAM Dump'!E:E,1,0) -> #N/A | F87: EMEA | G87: Germany | I87: Frankfurt | J87: FDC | M87: FFTCTISVEA006 | P87: EMC ESRS Gateway | T87: N | U87: N | V87: N | X87: N | Y87: N | Z87: N | AA87: N | AB87: N | AC87: N | AF87: N | AG87: N | AH87: N | AJ87: Y | AK87: Y | AL87: Y | AM87: Y | AN87: Y | AO87: Y | AR87: N | AS87: N | AT87: N | AU87: N | AV87: N | AW87: N | AX87: N | AY87: N | AZ87: N | BA87: N | BC87: N | BD87: N | BE87: N | BF87: N | BG87: N | BH87: N | BI87: N | BJ87: N | BK87: N | BL87: N | BM87: N | BN87: N | BO87: N | BP87: N | BQ87: N | BR87: N | BS87: N | BT87: N | BU87: N | BV87: N
A88: welsan-mgt1 | B88: =VLOOKUP(M88,'APAC Dump'!D:D,1,0) -> #N/A | C88: =VLOOKUP(M88,'EMEA Dump'!D:D,1,0) -> welsan-mgt1 | D88: =VLOOKUP(M88,'NAM Dump'!E:E,1,0) -> #N/A | F88: EMEA | G88: Germany | I88: Welle | J88: Welle | K88: C007 | M88: welsan-mgt1 | N88: 169.194.216.250 | O88: Solaris | P88: Unix management server | R88: ssh | T88: N | U88: N | V88: N | X88: N | Y88: N | Z88: N | AA88: N | AB88: N | AC88: N | AF88: N | AG88: N | AH88: N | AJ88: Y | AK88: Y | AL88: Y | AM88: Y | AN88: Y | AO88: Y | AR88: N | AS88: N | AT88: N | AU88: N | AV88: N | AW88: N | AX88: N | AY88: N | AZ88: N | BA88: N | BC88: N | BD88: N | BE88: N | BF88: N | BG88: N | BH88: N | BI88: N | BJ88: N | BK88: N | BL88: N | BM88: N | BN88: N | BO88: N | BP88: N | BQ88: N | BR88: N | BS88: N | BT88: N | BU88: N | BV88: N
A89: welsan-mgt2 | B89: =VLOOKUP(M89,'APAC Dump'!D:D,1,0) -> #N/A | C89: =VLOOKUP(M89,'EMEA Dump'!D:D,1,0) -> welsan-mgt2 | D89: =VLOOKUP(M89,'NAM Dump'!E:E,1,0) -> #N/A | F89: EMEA | G89: Germany | I89: Welle | J89: Welle | K89: C007 | M89: welsan-mgt2 | N89: 169.194.216.247 | O89: Solaris | P89: Unix management server | R89: ssh | T89: N | U89: N | V89: N | X89: N | Y89: N | Z89: N | AA89: N | AB89: N | AC89: N | AF89: N | AG89: N | AH89: N | AJ89: Y | AK89: Y | AL89: Y | AM89: Y | AN89: Y | AO89: Y | AR89: N | AS89: N | AT89: N | AU89: N | AV89: N | AW89: N | AX89: N | AY89: N | AZ89: N | BA89: N | BC89: N | BD89: N | BE89: N | BF89: N | BG89: N | BH89: N | BI89: N | BJ89: N | BK89: N | BL89: N | BM89: N | BN89: N | BO89: N | BP89: N | BQ89: N | BR89: N | BS89: N | BT89: N | BU89: N | BV89: N
A90: zhctipgs05 | B90: =VLOOKUP(M90,'APAC Dump'!D:D,1,0) -> #N/A | C90: =VLOOKUP(M90,'EMEA Dump'!D:D,1,0) -> zhctipgs05 | D90: =VLOOKUP(M90,'NAM Dump'!E:E,1,0) -> #N/A | F90: EMEA | G90: Switzerland | I90: Colt | J90: Colt | K90: 1-G20 | M90: zhctipgs05 | O90: Linux | P90: Unix management server | R90: ssh | T90: N | U90: N | V90: N | X90: N | Y90: N | Z90: N | AA90: N | AB90: N | AC90: N | AF90: N | AG90: N | AH90: N | AJ90: Y | AK90: Y | AL90: Y | AM90: Y | AN90: Y | AO90: Y | AR90: N | AS90: N | AT90: N | AU90: N | AV90: N | AW90: N | AX90: N | AY90: N | AZ90: N | BA90: N | BC90: N | BD90: N | BE90: N | BF90: N | BG90: N | BH90: N | BI90: N | BJ90: N | BK90: N | BL90: N | BM90: N | BN90: N | BO90: N | BP90: N | BQ90: N | BR90: N | BS90: N | BT90: N | BU90: N | BV90: N
A91: zhctipgs06 | B91: =VLOOKUP(M91,'APAC Dump'!D:D,1,0) -> #N/A | C91: =VLOOKUP(M91,'EMEA Dump'!D:D,1,0) -> zhctipgs06 | D91: =VLOOKUP(M91,'NAM Dump'!E:E,1,0) -> #N/A | F91: EMEA | G91: Switzerland | I91: Colt | J91: Colt | K91: 1-G20 | M91: zhctipgs06 | O91: Linux | P91: Unix management server | R91: ssh | T91: N | U91: N | V91: N | X91: N | Y91: N | Z91: N | AA91: N | AB91: N | AC91: N | AF91: N | AG91: N | AH91: N | AJ91: Y | AK91: Y | AL91: Y | AM91: Y | AN91: Y | AO91: Y | AR91: N | AS91: N | AT91: N | AU91: N | AV91: N | AW91: N | AX91: N | AY91: N | AZ91: N | BA91: N | BC91: N | BD91: N | BE91: N | BF91: N | BG91: N | BH91: N | BI91: N | BJ91: N | BK91: N | BL91: N | BM91: N | BN91: N | BO91: N | BP91: N | BQ91: N | BR91: N | BS91: N | BT91: N | BU91: N | BV91: N
A92: zhcticgs05 | B92: =VLOOKUP(M92,'APAC Dump'!D:D,1,0) -> #N/A | C92: =VLOOKUP(M92,'EMEA Dump'!D:D,1,0) -> zhcticgs05 | D92: =VLOOKUP(M92,'NAM Dump'!E:E,1,0) -> #N/A | F92: EMEA | G92: Switzerland | I92: Interxion | J92: Interxion | K92: B-C02 | M92: zhcticgs05 | O92: Linux | P92: Unix management server | R92: ssh | T92: N | U92: N | V92: N | X92: N | Y92: N | Z92: N | AA92: N | AB92: N | AC92: N | AF92: N | AG92: N | AH92: N | AJ92: Y | AK92: Y | AL92: Y | AM92: Y | AN92: Y | AO92: Y | AR92: N | AS92: N | AT92: N | AU92: N | AV92: N | AW92: N | AX92: N | AY92: N | AZ92: N | BA92: N | BC92: N | BD92: N | BE92: N | BF92: N | BG92: N | BH92: N | BI92: N | BJ92: N | BK92: N | BL92: N | BM92: N | BN92: N | BO92: N | BP92: N | BQ92: N | BR92: N | BS92: N | BT92: N | BU92: N | BV92: N
A93: zhcticgs06 | B93: =VLOOKUP(M93,'APAC Dump'!D:D,1,0) -> #N/A | C93: =VLOOKUP(M93,'EMEA Dump'!D:D,1,0) -> zhcticgs06 | D93: =VLOOKUP(M93,'NAM Dump'!E:E,1,0) -> #N/A | F93: EMEA | G93: Switzerland | I93: Interxion | J93: Interxion | K93: B-C03 | M93: zhcticgs06 | O93: Linux | P93: Unix management server | R93: ssh | T93: N | U93: N | V93: N | X93: N | Y93: N | Z93: N | AA93: N | AB93: N | AC93: N | AF93: N | AG93: N | AH93: N | AJ93: Y | AK93: Y | AL93: Y | AM93: Y | AN93: Y | AO93: Y | AR93: N | AS93: N | AT93: N | AU93: N | AV93: N | AW93: N | AX93: N | AY93: N | AZ93: N | BA93: N | BC93: N | BD93: N | BE93: N | BF93: N | BG93: N | BH93: N | BI93: N | BJ93: N | BK93: N | BL93: N | BM93: N | BN93: N | BO93: N | BP93: N | BQ93: N | BR93: N | BS93: N | BT93: N | BU93: N | BV93: N
A94: lacpcws01 | B94: =VLOOKUP(M94,'APAC Dump'!D:D,1,0) -> #N/A | C94: =VLOOKUP(M94,'EMEA Dump'!D:D,1,0) -> #N/A | D94: =VLOOKUP(M94,'NAM Dump'!E:E,1,0) -> lacpcws01 | F94: LATAM | G94: Mexico | I94: Jardines | M94: lacpcws01 | N94: 10.207.92.34 | P94: Solutions Enabler | T94: N | U94: N | V94: N | X94: N | Y94: N | Z94: N | AA94: Y | AB94: Y | AC94: Y | AF94: N | AG94: N | AH94: N | AJ94: Y | AK94: N | AL94: N | AM94: N | AN94: N | AO94: N | AR94: N | AS94: N | AT94: N | AU94: N | AV94: N | AW94: N | AX94: N | AY94: N | AZ94: N | BA94: N | BC94: Y | BD94: Y | BE94: Y | BF94: Y | BG94: Y | BH94: Y | BI94: Y | BJ94: Y | BK94: Y | BL94: Y | BM94: Y | BN94: Y | BO94: Y | BP94: Y | BQ94: Y | BR94: Y | BS94: Y | BT94: Y | BU94: Y | BV94: Y
A95: lacpcws02 | B95: =VLOOKUP(M95,'APAC Dump'!D:D,1,0) -> #N/A | C95: =VLOOKUP(M95,'EMEA Dump'!D:D,1,0) -> #N/A | D95: =VLOOKUP(M95,'NAM Dump'!E:E,1,0) -> lacpcws02 | F95: LATAM | G95: Mexico | I95: Jardines | M95: lacpcws02 | N95: 10.207.92.36 | P95: Solutions Enabler | T95: N | U95: N | V95: N | X95: N | Y95: N | Z95: N | AA95: Y | AB95: Y | AC95: Y | AF95: N | AG95: N | AH95: N | AJ95: Y | AK95: N | AL95: N | AM95: N | AN95: N | AO95: N | AR95: N | AS95: N | AT95: N | AU95: N | AV95: N | AW95: N | AX95: N | AY95: N | AZ95: N | BA95: N | BC95: Y | BD95: Y | BE95: Y | BF95: Y | BG95: Y | BH95: Y | BI95: Y | BJ95: Y | BK95: Y | BL95: Y | BM95: Y | BN95: Y | BO95: Y | BP95: Y | BQ95: Y | BR95: Y | BS95: Y | BT95: Y | BU95: Y | BV95: Y
A96: lacpemc01 | B96: =VLOOKUP(M96,'APAC Dump'!D:D,1,0) -> #N/A | C96: =VLOOKUP(M96,'EMEA Dump'!D:D,1,0) -> #N/A | D96: =VLOOKUP(M96,'NAM Dump'!E:E,1,0) -> lacpemc01 | F96: LATAM | G96: Mexico | I96: Jardines | M96: lacpemc01 | N96: 10.82.12.137 | P96: U4V | T96: N | U96: N | V96: N | X96: N | Y96: N | Z96: N | AA96: N | AB96: N | AC96: N | AF96: N | AG96: N | AH96: N | AJ96: Y | AK96: N | AL96: N | AM96: N | AN96: N | AO96: N | AR96: N | AS96: N | AT96: N | AU96: N | AV96: N | AW96: N | AX96: N | AY96: N | AZ96: N | BA96: N | BC96: Y | BD96: Y | BE96: Y | BF96: Y | BG96: Y | BH96: Y | BI96: Y | BJ96: Y | BK96: Y | BL96: Y | BM96: Y | BN96: Y | BO96: Y | BP96: Y | BQ96: Y | BR96: Y | BS96: Y | BT96: Y | BU96: Y | BV96: Y
A97: lacqcws02 | B97: =VLOOKUP(M97,'APAC Dump'!D:D,1,0) -> #N/A | C97: =VLOOKUP(M97,'EMEA Dump'!D:D,1,0) -> #N/A | D97: =VLOOKUP(M97,'NAM Dump'!E:E,1,0) -> lacqcws02 | F97: LATAM | G97: Mexico | I97: Queretaro | M97: lacqcws02 | P97: Solutions Enabler | T97: N | U97: N | V97: N | X97: N | Y97: N | Z97: N | AA97: Y | AB97: Y | AC97: Y | AF97: N | AG97: N | AH97: N | AJ97: Y | AK97: N | AL97: N | AM97: N | AN97: N | AO97: N | AR97: N | AS97: N | AT97: N | AU97: N | AV97: N | AW97: N | AX97: N | AY97: N | AZ97: N | BA97: N | BC97: Y | BD97: Y | BE97: Y | BF97: Y | BG97: Y | BH97: Y | BI97: Y | BJ97: Y | BK97: Y | BL97: Y | BM97: Y | BN97: Y | BO97: Y | BP97: Y | BQ97: Y | BR97: Y | BS97: Y | BT97: Y | BU97: Y | BV97: Y
A98: namgciscoa04 | B98: =VLOOKUP(M98,'APAC Dump'!D:D,1,0) -> #N/A | C98: =VLOOKUP(M98,'EMEA Dump'!D:D,1,0) -> #N/A | D98: =VLOOKUP(M98,'NAM Dump'!E:E,1,0) -> namgciscoa04 | F98: LATAM | G98: Mexico | I98: Queretaro | M98: namgciscoa04 | P98: cisco | T98: N | U98: N | V98: N | X98: N | Y98: N | Z98: N | AA98: N | AB98: N | AC98: Y | AF98: N | AG98: N | AH98: N | AJ98: Y | AK98: N | AL98: N | AM98: N | AN98: N | AO98: N | AR98: N | AS98: N | AT98: N | AU98: N | AV98: N | AW98: N | AX98: N | AY98: N | AZ98: N | BA98: N | BC98: Y | BD98: Y | BE98: Y | BF98: Y | BG98: Y | BH98: Y | BI98: Y | BJ98: Y | BK98: Y | BL98: Y | BM98: Y | BN98: Y | BO98: Y | BP98: Y | BQ98: Y | BR98: Y | BS98: Y | BT98: Y | BU98: Y | BV98: Y
A99: namgciscob04 | B99: =VLOOKUP(M99,'APAC Dump'!D:D,1,0) -> #N/A | C99: =VLOOKUP(M99,'EMEA Dump'!D:D,1,0) -> #N/A | D99: =VLOOKUP(M99,'NAM Dump'!E:E,1,0) -> namgciscob04 | F99: LATAM | G99: Mexico | I99: Queretaro | M99: namgciscob04 | P99: cisco | T99: N | U99: N | V99: N | X99: N | Y99: N | Z99: N | AA99: N | AB99: N | AC99: Y | AF99: N | AG99: N | AH99: N | AJ99: Y | AK99: N | AL99: N | AM99: N | AN99: N | AO99: N | AR99: N | AS99: N | AT99: N | AU99: N | AV99: N | AW99: N | AX99: N | AY99: N | AZ99: N | BA99: N | BC99: Y | BD99: Y | BE99: Y | BF99: Y | BG99: Y | BH99: Y | BI99: Y | BJ99: Y | BK99: Y | BL99: Y | BM99: Y | BN99: Y | BO99: Y | BP99: Y | BQ99: Y | BR99: Y | BS99: Y | BT99: Y | BU99: Y | BV99: Y
A100: nammciscoa04 | B100: =VLOOKUP(M100,'APAC Dump'!D:D,1,0) -> #N/A | C100: =VLOOKUP(M100,'EMEA Dump'!D:D,1,0) -> #N/A | D100: =VLOOKUP(M100,'NAM Dump'!E:E,1,0) -> nammciscoa04 | F100: LATAM | G100: Mexico | I100: Jardines | M100: nammciscoa04 | P100: cisco | T100: N | U100: N | V100: N | X100: N | Y100: N | Z100: N | AA100: N | AB100: N | AC100: Y | AF100: N | AG100: N | AH100: N | AJ100: Y | AK100: N | AL100: N | AM100: N | AN100: N | AO100: N | AR100: N | AS100: N | AT100: N | AU100: N | AV100: N | AW100: N | AX100: N | AY100: N | AZ100: N | BA100: N | BC100: Y | BD100: Y | BE100: Y | BF100: Y | BG100: Y | BH100: Y | BI100: Y | BJ100: Y | BK100: Y | BL100: Y | BM100: Y | BN100: Y | BO100: Y | BP100: Y | BQ100: Y | BR100: Y | BS100: Y | BT100: Y | BU100: Y | BV100: Y
A101: nammciscob04 | B101: =VLOOKUP(M101,'APAC Dump'!D:D,1,0) -> #N/A | C101: =VLOOKUP(M101,'EMEA Dump'!D:D,1,0) -> #N/A | D101: =VLOOKUP(M101,'NAM Dump'!E:E,1,0) -> nammciscob04 | F101: LATAM | G101: Mexico | I101: Jardines | M101: nammciscob04 | P101: cisco | T101: N | U101: N | V101: N | X101: N | Y101: N | Z101: N | AA101: N | AB101: N | AC101: Y | AF101: N | AG101: N | AH101: N | AJ101: Y | AK101: N | AL101: N | AM101: N | AN101: N | AO101: N | AR101: N | AS101: N | AT101: N | AU101: N | AV101: N | AW101: N | AX101: N | AY101: N | AZ101: N | BA101: N | BC101: Y | BD101: Y | BE101: Y | BF101: Y | BG101: Y | BH101: Y | BI101: Y | BJ101: Y | BK101: Y | BL101: Y | BM101: Y | BN101: Y | BO101: Y | BP101: Y | BQ101: Y | BR101: Y | BS101: Y | BT101: Y | BU101: Y | BV101: Y
A102: lacpisis01 | B102: =VLOOKUP(M102,'APAC Dump'!D:D,1,0) -> #N/A | C102: =VLOOKUP(M102,'EMEA Dump'!D:D,1,0) -> #N/A | D102: =VLOOKUP(M102,'NAM Dump'!E:E,1,0) -> lacpisis01 | F102: LATAM | G102: Mexico | I102: Jardines | M102: lacpisis01 | N102: 10.82.12.225 | O102: RHEL 5.6 | P102: ISIS | R102: ssh | T102: N | U102: N | V102: N | X102: N | Y102: N | Z102: N | AA102: N | AB102: N | AC102: N | AF102: N | AG102: N | AH102: N | AJ102: Y | AK102: N | AL102: N | AM102: N | AN102: N | AO102: N | AR102: N | AS102: N | AT102: N | AU102: N | AV102: N | AW102: N | AX102: N | AY102: N | AZ102: N | BA102: N | BC102: Y | BD102: Y | BE102: Y | BF102: Y | BG102: Y | BH102: Y | BI102: Y | BJ102: Y | BK102: Y | BL102: Y | BM102: Y | BN102: Y | BO102: Y | BP102: Y | BQ102: Y | BR102: Y | BS102: Y | BT102: Y | BU102: Y | BV102: Y
A103: lacqciscoa01 | B103: =VLOOKUP(M103,'APAC Dump'!D:D,1,0) -> #N/A | C103: =VLOOKUP(M103,'EMEA Dump'!D:D,1,0) -> #N/A | D103: =VLOOKUP(M103,'NAM Dump'!E:E,1,0) -> lacqciscoa01 | F103: LATAM | G103: Mexico | J103: QRDC | M103: lacqciscoa01 | N103: 144.215.12.44 | O103: Windows 2008 | P103: DCNM | R103: rdp | T103: N | U103: N | V103: N | X103: N | Y103: N | Z103: N | AA103: N | AB103: N | AC103: N | AF103: N | AG103: N | AH103: N | AJ103: Y | AK103: N | AL103: N | AM103: N | AN103: N | AO103: N | AR103: N | AS103: N | AT103: N | AU103: N | AV103: N | AW103: N | AX103: N | AY103: N | AZ103: N | BA103: N | BC103: Y | BD103: Y | BE103: Y | BF103: Y | BG103: Y | BH103: Y | BI103: Y | BJ103: Y | BK103: Y | BL103: Y | BM103: Y | BN103: Y | BO103: Y | BP103: Y | BQ103: Y | BR103: Y | BS103: Y | BT103: Y | BU103: Y | BV103: Y
A104: lacqciscob01 | B104: =VLOOKUP(M104,'APAC Dump'!D:D,1,0) -> #N/A | C104: =VLOOKUP(M104,'EMEA Dump'!D:D,1,0) -> #N/A | D104: =VLOOKUP(M104,'NAM Dump'!E:E,1,0) -> lacqciscob01 | F104: LATAM | G104: Mexico | J104: QRDC | M104: lacqciscob01 | N104: 144.215.12.40 | O104: Windows 2008 | P104: DCNM | R104: rdp | T104: N | U104: N | V104: N | X104: N | Y104: N | Z104: N | AA104: N | AB104: N | AC104: N | AF104: N | AG104: N | AH104: N | AJ104: Y | AK104: N | AL104: N | AM104: N | AN104: N | AO104: N | AR104: N | AS104: N | AT104: N | AU104: N | AV104: N | AW104: N | AX104: N | AY104: N | AZ104: N | BA104: N | BC104: Y | BD104: Y | BE104: Y | BF104: Y | BG104: Y | BH104: Y | BI104: Y | BJ104: Y | BK104: Y | BL104: Y | BM104: Y | BN104: Y | BO104: Y | BP104: Y | BQ104: Y | BR104: Y | BS104: Y | BT104: Y | BU104: Y | BV104: Y
A105: lacqcws01 | B105: =VLOOKUP(M105,'APAC Dump'!D:D,1,0) -> #N/A | C105: =VLOOKUP(M105,'EMEA Dump'!D:D,1,0) -> #N/A | D105: =VLOOKUP(M105,'NAM Dump'!E:E,1,0) -> lacqcws01 | F105: LATAM | G105: Mexico | J105: QRDC | M105: lacqcws01 | N105: 144.215.21.54 | O105: RHEL 5.6 | P105: Solutions Enabler | R105: ssh | T105: N | U105: N | V105: N | X105: N | Y105: N | Z105: N | AA105: Y | AB105: Y | AC105: Y | AF105: N | AG105: N | AH105: N | AJ105: Y | AK105: N | AL105: N | AM105: N | AN105: N | AO105: N | AR105: N | AS105: N | AT105: N | AU105: N | AV105: N | AW105: N | AX105: N | AY105: N | AZ105: N | BA105: N | BC105: Y | BD105: Y | BE105: Y | BF105: Y | BG105: Y | BH105: Y | BI105: Y | BJ105: Y | BK105: Y | BL105: Y | BM105: Y | BN105: Y | BO105: Y | BP105: Y | BQ105: Y | BR105: Y | BS105: Y | BT105: Y | BU105: Y | BV105: Y
A106: lacqemc01 | B106: =VLOOKUP(M106,'APAC Dump'!D:D,1,0) -> #N/A | C106: =VLOOKUP(M106,'EMEA Dump'!D:D,1,0) -> #N/A | D106: =VLOOKUP(M106,'NAM Dump'!E:E,1,0) -> lacqemc01 | F106: LATAM | G106: Mexico | J106: QRDC | M106: lacqemc01 | N106: 144.215.12.42 | O106: Windows 2008 | P106: U4V | R106: RDP | T106: N | U106: N | V106: N | X106: N | Y106: N | Z106: N | AA106: N | AB106: N | AC106: N | AF106: N | AG106: N | AH106: N | AJ106: Y | AK106: N | AL106: N | AM106: N | AN106: N | AO106: N | AR106: N | AS106: N | AT106: N | AU106: N | AV106: N | AW106: N | AX106: N | AY106: N | AZ106: N | BA106: N | BC106: Y | BD106: Y | BE106: Y | BF106: Y | BG106: Y | BH106: Y | BI106: Y | BJ106: Y | BK106: Y | BL106: Y | BM106: Y | BN106: Y | BO106: Y | BP106: Y | BQ106: Y | BR106: Y | BS106: Y | BT106: Y | BU106: Y | BV106: Y
A107: lacqesrsp01 | B107: =VLOOKUP(M107,'APAC Dump'!D:D,1,0) -> #N/A | C107: =VLOOKUP(M107,'EMEA Dump'!D:D,1,0) -> #N/A | D107: =VLOOKUP(M107,'NAM Dump'!E:E,1,0) -> lacqesrsp01 | F107: LATAM | G107: Mexico | J107: QRDC | M107: lacqesrsp01 | N107: 144.215.12.46 | O107: Windows 2008 | P107: ESRS | R107: RDP | T107: N | U107: N | V107: N | X107: N | Y107: N | Z107: N | AA107: N | AB107: N | AC107: N | AF107: N | AG107: N | AH107: N | AJ107: Y | AK107: N | AL107: N | AM107: N | AN107: N | AO107: N | AR107: N | AS107: N | AT107: N | AU107: N | AV107: N | AW107: N | AX107: N | AY107: N | AZ107: N | BA107: N | BC107: Y | BD107: Y | BE107: Y | BF107: Y | BG107: Y | BH107: Y | BI107: Y | BJ107: Y | BK107: Y | BL107: Y | BM107: Y | BN107: Y | BO107: Y | BP107: Y | BQ107: Y | BR107: Y | BS107: Y | BT107: Y | BU107: Y | BV107: Y
A108: lacqesrss01 | B108: =VLOOKUP(M108,'APAC Dump'!D:D,1,0) -> #N/A | C108: =VLOOKUP(M108,'EMEA Dump'!D:D,1,0) -> #N/A | D108: =VLOOKUP(M108,'NAM Dump'!E:E,1,0) -> lacqesrss01 | F108: LATAM | G108: Mexico | J108: QRDC | M108: lacqesrss01 | N108: 144.215.12.43 | O108: Windows 2008 | P108: ESRS | R108: RDP | T108: N | U108: N | V108: N | X108: N | Y108: N | Z108: N | AA108: N | AB108: N | AC108: N | AF108: N | AG108: N | AH108: N | AJ108: Y | AK108: N | AL108: N | AM108: N | AN108: N | AO108: N | AR108: N | AS108: N | AT108: N | AU108: N | AV108: N | AW108: N | AX108: N | AY108: N | AZ108: N | BA108: N | BC108: Y | BD108: Y | BE108: Y | BF108: Y | BG108: Y | BH108: Y | BI108: Y | BJ108: Y | BK108: Y | BL108: Y | BM108: Y | BN108: Y | BO108: Y | BP108: Y | BQ108: Y | BR108: Y | BS108: Y | BT108: Y | BU108: Y | BV108: Y
A109: lacqisis01 | B109: =VLOOKUP(M109,'APAC Dump'!D:D,1,0) -> #N/A | C109: =VLOOKUP(M109,'EMEA Dump'!D:D,1,0) -> #N/A | D109: =VLOOKUP(M109,'NAM Dump'!E:E,1,0) -> lacqisis01 | F109: LATAM | G109: Mexico | J109: QRDC | M109: lacqisis01 | N109: 144.215.12.69 | O109: RHEL 5.6 | P109: ISIS | R109: ssh | T109: N | U109: N | V109: N | X109: N | Y109: N | Z109: N | AA109: N | AB109: N | AC109: N | AF109: N | AG109: N | AH109: N | AJ109: Y | AK109: N | AL109: N | AM109: N | AN109: N | AO109: N | AR109: N | AS109: N | AT109: N | AU109: N | AV109: N | AW109: N | AX109: N | AY109: N | AZ109: N | BA109: N | BC109: Y | BD109: Y | BE109: Y | BF109: Y | BG109: Y | BH109: Y | BI109: Y | BJ109: Y | BK109: Y | BL109: Y | BM109: Y | BN109: Y | BO109: Y | BP109: Y | BQ109: Y | BR109: Y | BS109: Y | BT109: Y | BU109: Y | BV109: Y
A110: crp237pms001 | B110: =VLOOKUP(M110,'APAC Dump'!D:D,1,0) -> #N/A | C110: =VLOOKUP(M110,'EMEA Dump'!D:D,1,0) -> #N/A | D110: =VLOOKUP(M110,'NAM Dump'!E:E,1,0) -> crp237pms001 | F110: NAM | G110: Canada | I110: London | M110: crp237pms001 | N110: 159.17.46.52 | P110: NaviSphere | T110: N | U110: N | V110: N | X110: N | Y110: N | Z110: N | AA110: N | AB110: N | AC110: N | AF110: N | AG110: N | AH110: N | AJ110: N | AK110: N | AL110: N | AM110: N | AN110: N | AO110: N | AR110: N | AS110: N | AT110: N | AU110: N | AV110: N | AW110: N | AX110: N | AY110: N | AZ110: N | BA110: N | BC110: Y | BD110: Y | BE110: Y | BF110: Y | BG110: Y | BH110: Y | BI110: Y | BJ110: Y | BK110: Y | BL110: Y | BM110: Y | BN110: Y | BO110: Y | BP110: Y | BQ110: Y | BR110: Y | BS110: Y | BT110: Y | BU110: Y | BV110: Y
A111: crp118pas004 | B111: =VLOOKUP(M111,'APAC Dump'!D:D,1,0) -> #N/A | C111: =VLOOKUP(M111,'EMEA Dump'!D:D,1,0) -> #N/A | D111: =VLOOKUP(M111,'NAM Dump'!E:E,1,0) -> crp118pas004 | F111: NAM | G111: Canada | I111: Mississauga | M111: crp118pas004 | N111: 135.155.80.37 | P111: NaviSphere | T111: N | U111: N | V111: N | X111: N | Y111: N | Z111: N | AA111: N | AB111: N | AC111: N | AF111: N | AG111: N | AH111: N | AJ111: N | AK111: N | AL111: N | AM111: N | AN111: N | AO111: N | AR111: N | AS111: N | AT111: N | AU111: N | AV111: N | AW111: N | AX111: N | AY111: N | AZ111: N | BA111: N | BC111: Y | BD111: Y | BE111: Y | BF111: Y | BG111: Y | BH111: Y | BI111: Y | BJ111: Y | BK111: Y | BL111: Y | BM111: Y | BN111: Y | BO111: Y | BP111: Y | BQ111: Y | BR111: Y | BS111: Y | BT111: Y | BU111: Y | BV111: Y
A112: namgnavi01 | B112: =VLOOKUP(M112,'APAC Dump'!D:D,1,0) -> #N/A | C112: =VLOOKUP(M112,'EMEA Dump'!D:D,1,0) -> #N/A | D112: =VLOOKUP(M112,'NAM Dump'!E:E,1,0) -> namgnavi01 | F112: NAM | G112: Bahamas | M112: namgnavi01 | N112: 169.167.81.122/123 | P112: Navisphere access | T112: N | U112: N | V112: N | X112: N | Y112: N | Z112: N | AA112: N | AB112: N | AC112: N | AF112: N | AG112: N | AH112: N | AJ112: N | AK112: N | AL112: N | AM112: N | AN112: N | AO112: N | AR112: N | AS112: N | AT112: N | AU112: N | AV112: N | AW112: N | AX112: N | AY112: N | AZ112: N | BA112: N | BC112: Y | BD112: Y | BE112: Y | BF112: Y | BG112: Y | BH112: Y | BI112: Y | BJ112: Y | BK112: Y | BL112: Y | BM112: Y | BN112: Y | BO112: Y | BP112: Y | BQ112: Y | BR112: Y | BS112: Y | BT112: Y | BU112: Y | BV112: Y
A113: namcsanad10 | B113: =VLOOKUP(M113,'APAC Dump'!D:D,1,0) -> #N/A | C113: =VLOOKUP(M113,'EMEA Dump'!D:D,1,0) -> #N/A | D113: =VLOOKUP(M113,'NAM Dump'!E:E,1,0) -> namcsanad10 | F113: NAM | G113: US | H113: New York | I113: New York | K113: 390 Greenwich | M113: namcsanad10 | N113: 169.193.171.156 | P113: Unisphere | T113: N | U113: N | V113: N | X113: N | Y113: N | Z113: N | AA113: N | AB113: N | AC113: N | AF113: N | AG113: N | AH113: N | AJ113: N | AK113: N | AL113: N | AM113: N | AN113: N | AO113: N | AR113: N | AS113: N | AT113: N | AU113: N | AV113: N | AW113: N | AX113: N | AY113: N | AZ113: N | BA113: N | BC113: Y | BD113: Y | BE113: Y | BF113: Y | BG113: Y | BH113: Y | BI113: Y | BJ113: Y | BK113: Y | BL113: Y | BM113: Y | BN113: Y | BO113: Y | BP113: Y | BQ113: Y | BR113: Y | BS113: Y | BT113: Y | BU113: Y | BV113: Y
A114: nameciscoa02 | B114: =VLOOKUP(M114,'APAC Dump'!D:D,1,0) -> #N/A | C114: =VLOOKUP(M114,'EMEA Dump'!D:D,1,0) -> #N/A | D114: =VLOOKUP(M114,'NAM Dump'!E:E,1,0) -> nameciscoa02 | F114: NAM | G114: US | H114: New York | I114: New York | K114: 390 Greenwich | M114: nameciscoa02 | N114: 169.193.166.51 | P114: DCNM | T114: N | U114: N | V114: N | X114: N | Y114: N | Z114: N | AA114: Y | AB114: Y | AC114: Y | AF114: N | AG114: N | AH114: N | AJ114: Y | AK114: N | AL114: N | AM114: N | AN114: N | AO114: N | AR114: N | AS114: N | AT114: N | AU114: N | AV114: N | AW114: N | AX114: N | AY114: N | AZ114: N | BA114: N | BC114: Y | BD114: Y | BE114: Y | BF114: Y | BG114: Y | BH114: Y | BI114: Y | BJ114: Y | BK114: Y | BL114: Y | BM114: Y | BN114: Y | BO114: Y | BP114: Y | BQ114: Y | BR114: Y | BS114: Y | BT114: Y | BU114: Y | BV114: Y
A115: nameciscob02 | B115: =VLOOKUP(M115,'APAC Dump'!D:D,1,0) -> #N/A | C115: =VLOOKUP(M115,'EMEA Dump'!D:D,1,0) -> #N/A | D115: =VLOOKUP(M115,'NAM Dump'!E:E,1,0) -> nameciscob02 | F115: NAM | G115: US | H115: New York | I115: New York | K115: 390 Greenwich | M115: nameciscob02 | N115: 169.193.166.52 | P115: DCNM | T115: N | U115: N | V115: N | X115: N | Y115: N | Z115: N | AA115: Y | AB115: Y | AC115: Y | AF115: N | AG115: N | AH115: N | AJ115: Y | AK115: N | AL115: N | AM115: N | AN115: N | AO115: N | AR115: N | AS115: N | AT115: N | AU115: N | AV115: N | AW115: N | AX115: N | AY115: N | AZ115: N | BA115: N | BC115: Y | BD115: Y | BE115: Y | BF115: Y | BG115: Y | BH115: Y | BI115: Y | BJ115: Y | BK115: Y | BL115: Y | BM115: Y | BN115: Y | BO115: Y | BP115: Y | BQ115: Y | BR115: Y | BS115: Y | BT115: Y | BU115: Y | BV115: Y
A116: namecws01 | B116: =VLOOKUP(M116,'APAC Dump'!D:D,1,0) -> #N/A | C116: =VLOOKUP(M116,'EMEA Dump'!D:D,1,0) -> #N/A | D116: =VLOOKUP(M116,'NAM Dump'!E:E,1,0) -> namecws01 | F116: NAM | G116: US | H116: New York | I116: New York | K116: 390 Greenwich | M116: namecws01 | N116: 162.124.213.24 | P116: Solutions Enabler | T116: N | U116: N | V116: N | X116: N | Y116: N | Z116: N | AA116: Y | AB116: Y | AC116: Y | AF116: N | AG116: N | AH116: N | AJ116: Y | AK116: N | AL116: N | AM116: N | AN116: N | AO116: N | AR116: N | AS116: N | AT116: N | AU116: N | AV116: N | AW116: N | AX116: N | AY116: N | AZ116: N | BA116: N | BC116: Y | BD116: Y | BE116: Y | BF116: Y | BG116: Y | BH116: Y | BI116: Y | BJ116: Y | BK116: Y | BL116: Y | BM116: Y | BN116: Y | BO116: Y | BP116: Y | BQ116: Y | BR116: Y | BS116: Y | BT116: Y | BU116: Y | BV116: Y
A117: namecws02 | B117: =VLOOKUP(M117,'APAC Dump'!D:D,1,0) -> #N/A | C117: =VLOOKUP(M117,'EMEA Dump'!D:D,1,0) -> #N/A | D117: =VLOOKUP(M117,'NAM Dump'!E:E,1,0) -> namecws02 | F117: NAM | G117: US | H117: New York | I117: New York | K117: 390 Greenwich | M117: namecws02 | N117: 162.124.213.25 | P117: Solutions Enabler | T117: N | U117: N | V117: N | X117: N | Y117: N | Z117: N | AA117: Y | AB117: Y | AC117: Y | AF117: N | AG117: N | AH117: N | AJ117: Y | AK117: N | AL117: N | AM117: N | AN117: N | AO117: N | AR117: N | AS117: N | AT117: N | AU117: N | AV117: N | AW117: N | AX117: N | AY117: N | AZ117: N | BA117: N | BC117: Y | BD117: Y | BE117: Y | BF117: Y | BG117: Y | BH117: Y | BI117: Y | BJ117: Y | BK117: Y | BL117: Y | BM117: Y | BN117: Y | BO117: Y | BP117: Y | BQ117: Y | BR117: Y | BS117: Y | BT117: Y | BU117: Y | BV117: Y
A118: namedsdw | B118: =VLOOKUP(M118,'APAC Dump'!D:D,1,0) -> #N/A | C118: =VLOOKUP(M118,'EMEA Dump'!D:D,1,0) -> #N/A | D118: =VLOOKUP(M118,'NAM Dump'!E:E,1,0) -> namedsdw | F118: NAM | G118: US | H118: New York | I118: New York | K118: 390 Greenwich | M118: namedsdw | N118: 169.193.121.219 | P118: Generic | T118: N | U118: N | V118: N | X118: N | Y118: N | Z118: N | AA118: N | AB118: N | AC118: N | AF118: N | AG118: N | AH118: N | AJ118: N | AK118: N | AL118: N | AM118: N | AN118: N | AO118: N | AR118: N | AS118: N | AT118: N | AU118: N | AV118: N | AW118: N | AX118: N | AY118: N | AZ118: N | BA118: N | BC118: Y | BD118: Y | BE118: Y | BF118: Y | BG118: Y | BH118: Y | BI118: Y | BJ118: Y | BK118: Y | BL118: Y | BM118: Y | BN118: Y | BO118: Y | BP118: Y | BQ118: Y | BR118: Y | BS118: Y | BT118: Y | BU118: Y | BV118: Y
A119: nameemc01 | B119: =VLOOKUP(M119,'APAC Dump'!D:D,1,0) -> #N/A | C119: =VLOOKUP(M119,'EMEA Dump'!D:D,1,0) -> #N/A | D119: =VLOOKUP(M119,'NAM Dump'!E:E,1,0) -> nameemc01 | F119: NAM | G119: US | H119: New York | I119: New York | K119: 390 Greenwich | M119: nameemc01 | N119: 169.193.166.46 | P119: U4V | T119: N | U119: N | V119: N | X119: N | Y119: N | Z119: N | AA119: Y | AB119: Y | AC119: N | AF119: N | AG119: N | AH119: N | AJ119: Y | AK119: N | AL119: N | AM119: N | AN119: N | AO119: N | AR119: N | AS119: N | AT119: N | AU119: N | AV119: N | AW119: N | AX119: N | AY119: N | AZ119: N | BA119: N | BC119: Y | BD119: Y | BE119: Y | BF119: Y | BG119: Y | BH119: Y | BI119: Y | BJ119: Y | BK119: Y | BL119: Y | BM119: Y | BN119: Y | BO119: Y | BP119: Y | BQ119: Y | BR119: Y | BS119: Y | BT119: Y | BU119: Y | BV119: Y
A120: nameemc02 | B120: =VLOOKUP(M120,'APAC Dump'!D:D,1,0) -> #N/A | C120: =VLOOKUP(M120,'EMEA Dump'!D:D,1,0) -> #N/A | D120: =VLOOKUP(M120,'NAM Dump'!E:E,1,0) -> nameemc02 | F120: NAM | G120: US | H120: New York | I120: New York | K120: 390 Greenwich | M120: nameemc02 | N120: 169.193.166.47 | P120: U4V | T120: N | U120: N | V120: N | X120: N | Y120: N | Z120: N | AA120: Y | AB120: Y | AC120: N | AF120: N | AG120: N | AH120: N | AJ120: Y | AK120: N | AL120: N | AM120: N | AN120: N | AO120: N | AR120: N | AS120: N | AT120: N | AU120: N | AV120: N | AW120: N | AX120: N | AY120: N | AZ120: N | BA120: N | BC120: Y | BD120: Y | BE120: Y | BF120: Y | BG120: Y | BH120: Y | BI120: Y | BJ120: Y | BK120: Y | BL120: Y | BM120: Y | BN120: Y | BO120: Y | BP120: Y | BQ120: Y | BR120: Y | BS120: Y | BT120: Y | BU120: Y | BV120: Y
A121: nameesrsp02 | B121: =VLOOKUP(M121,'APAC Dump'!D:D,1,0) -> #N/A | C121: =VLOOKUP(M121,'EMEA Dump'!D:D,1,0) -> #N/A | D121: =VLOOKUP(M121,'NAM Dump'!E:E,1,0) -> nameesrsp02 | F121: NAM | G121: US | H121: New York | I121: New York | K121: 390 Greenwich | M121: nameesrsp02 | N121: 162.124.112.108 | P121: ESRS | T121: N | U121: N | V121: N | X121: N | Y121: N | Z121: N | AA121: Y | AB121: Y | AC121: Y | AF121: N | AG121: N | AH121: N | AJ121: Y | AK121: N | AL121: N | AM121: N | AN121: N | AO121: N | AR121: N | AS121: N | AT121: N | AU121: N | AV121: N | AW121: N | AX121: N | AY121: N | AZ121: N | BA121: N | BC121: Y | BD121: Y | BE121: Y | BF121: Y | BG121: Y | BH121: Y | BI121: Y | BJ121: Y | BK121: Y | BL121: Y | BM121: Y | BN121: Y | BO121: Y | BP121: Y | BQ121: Y | BR121: Y | BS121: Y | BT121: Y | BU121: Y | BV121: Y
A122: nameesrss02 | B122: =VLOOKUP(M122,'APAC Dump'!D:D,1,0) -> #N/A | C122: =VLOOKUP(M122,'EMEA Dump'!D:D,1,0) -> #N/A | D122: =VLOOKUP(M122,'NAM Dump'!E:E,1,0) -> nameesrss02 | F122: NAM | G122: US | H122: New York | I122: New York | K122: 390 Greenwich | M122: nameesrss02 | N122: 162.124.112.109 | P122: ESRS | T122: N | U122: N | V122: N | X122: N | Y122: N | Z122: N | AA122: N | AB122: N | AC122: N | AF122: N | AG122: N | AH122: N | AJ122: Y | AK122: N | AL122: N | AM122: N | AN122: N | AO122: N | AR122: N | AS122: N | AT122: N | AU122: N | AV122: N | AW122: N | AX122: N | AY122: N | AZ122: N | BA122: N | BC122: Y | BD122: Y | BE122: Y | BF122: Y | BG122: Y | BH122: Y | BI122: Y | BJ122: Y | BK122: Y | BL122: Y | BM122: Y | BN122: Y | BO122: Y | BP122: Y | BQ122: Y | BR122: Y | BS122: Y | BT122: Y | BU122: Y | BV122: Y
A123: namehds03 | B123: =VLOOKUP(M123,'APAC Dump'!D:D,1,0) -> #N/A | C123: =VLOOKUP(M123,'EMEA Dump'!D:D,1,0) -> #N/A | D123: =VLOOKUP(M123,'NAM Dump'!E:E,1,0) -> namehds03 | F123: NAM | G123: US | H123: New York | I123: New York | K123: 390 Greenwich | M123: namehds03 | N123: 169.193.120.170 | P123: HDS HSCS | T123: N | U123: N | V123: N | X123: N | Y123: N | Z123: N | AA123: N | AB123: N | AC123: N | AF123: N | AG123: N | AH123: N | AJ123: Y | AK123: N | AL123: N | AM123: N | AN123: N | AO123: N | AR123: N | AS123: N | AT123: N | AU123: N | AV123: N | AW123: N | AX123: N | AY123: N | AZ123: N | BA123: N | BC123: Y | BD123: Y | BE123: Y | BF123: Y | BG123: Y | BH123: Y | BI123: Y | BJ123: Y | BK123: Y | BL123: Y | BM123: Y | BN123: Y | BO123: Y | BP123: Y | BQ123: Y | BR123: Y | BS123: Y | BT123: Y | BU123: Y | BV123: Y
A124: namenavi01 | B124: =VLOOKUP(M124,'APAC Dump'!D:D,1,0) -> #N/A | C124: =VLOOKUP(M124,'EMEA Dump'!D:D,1,0) -> #N/A | D124: =VLOOKUP(M124,'NAM Dump'!E:E,1,0) -> namenavi01 | F124: NAM | G124: US | H124: New York | I124: New York | K124: 390 Greenwich | M124: namenavi01 | N124: 169.193.121.187 | P124: Navisphere | T124: N | U124: N | V124: N | X124: N | Y124: N | Z124: N | AA124: N | AB124: N | AC124: N | AF124: N | AG124: N | AH124: N | AJ124: N | AK124: N | AL124: N | AM124: N | AN124: N | AO124: N | AR124: N | AS124: N | AT124: N | AU124: N | AV124: N | AW124: N | AX124: N | AY124: N | AZ124: N | BA124: N | BC124: Y | BD124: Y | BE124: Y | BF124: Y | BG124: Y | BH124: Y | BI124: Y | BJ124: Y | BK124: Y | BL124: Y | BM124: Y | BN124: Y | BO124: Y | BP124: Y | BQ124: Y | BR124: Y | BS124: Y | BT124: Y | BU124: Y | BV124: Y
A125: namgaxcm01 | B125: =VLOOKUP(M125,'APAC Dump'!D:D,1,0) -> #N/A | C125: =VLOOKUP(M125,'EMEA Dump'!D:D,1,0) -> #N/A | D125: =VLOOKUP(M125,'NAM Dump'!E:E,1,0) -> namgaxcm01 | F125: NAM | G125: US | H125: Texas | I125: Georgetown | J125: GTDC | M125: namgaxcm01 | N125: 169.193.243.36 | P125: Connectrix Manager DCE Server | T125: N | U125: N | V125: N | X125: N | Y125: N | Z125: N | AA125: N | AB125: N | AC125: N | AF125: N | AG125: N | AH125: N | AJ125: N | AK125: N | AL125: N | AM125: N | AN125: N | AO125: N | AR125: N | AS125: N | AT125: N | AU125: N | AV125: N | AW125: N | AX125: N | AY125: N | AZ125: N | BA125: N | BC125: Y | BD125: Y | BE125: Y | BF125: Y | BG125: Y | BH125: Y | BI125: Y | BJ125: Y | BK125: Y | BL125: Y | BM125: Y | BN125: Y | BO125: Y | BP125: Y | BQ125: Y | BR125: Y | BS125: Y | BT125: Y | BU125: Y | BV125: Y
A126: namgbxcm01 | B126: =VLOOKUP(M126,'APAC Dump'!D:D,1,0) -> #N/A | C126: =VLOOKUP(M126,'EMEA Dump'!D:D,1,0) -> #N/A | D126: =VLOOKUP(M126,'NAM Dump'!E:E,1,0) -> namgbxcm01 | F126: NAM | G126: US | H126: Texas | I126: Georgetown | J126: GTDC | M126: namgbxcm01 | N126: 169.193.243.39 | P126: Connectrix Manager DCE Server | T126: N | U126: N | V126: N | X126: N | Y126: N | Z126: N | AA126: N | AB126: N | AC126: N | AF126: N | AG126: N | AH126: N | AJ126: N | AK126: N | AL126: N | AM126: N | AN126: N | AO126: N | AR126: N | AS126: N | AT126: N | AU126: N | AV126: N | AW126: N | AX126: N | AY126: N | AZ126: N | BA126: N | BC126: Y | BD126: Y | BE126: Y | BF126: Y | BG126: Y | BH126: Y | BI126: Y | BJ126: Y | BK126: Y | BL126: Y | BM126: Y | BN126: Y | BO126: Y | BP126: Y | BQ126: Y | BR126: Y | BS126: Y | BT126: Y | BU126: Y | BV126: Y
A127: namgciscoa03 | B127: =VLOOKUP(M127,'APAC Dump'!D:D,1,0) -> #N/A | C127: =VLOOKUP(M127,'EMEA Dump'!D:D,1,0) -> #N/A | D127: =VLOOKUP(M127,'NAM Dump'!E:E,1,0) -> namgciscoa03 | F127: NAM | G127: US | H127: Texas | I127: Georgetown | J127: GTDC | M127: namgciscoa03 | N127: 169.193.233.89 | P127: DCNM | T127: N | U127: N | V127: N | X127: N | Y127: N | Z127: N | AA127: Y | AB127: Y | AC127: Y | AF127: N | AG127: N | AH127: N | AJ127: Y | AK127: N | AL127: N | AM127: N | AN127: N | AO127: N | AR127: N | AS127: N | AT127: N | AU127: N | AV127: N | AW127: N | AX127: N | AY127: N | AZ127: N | BA127: N | BC127: Y | BD127: Y | BE127: Y | BF127: Y | BG127: Y | BH127: Y | BI127: Y | BJ127: Y | BK127: Y | BL127: Y | BM127: Y | BN127: Y | BO127: Y | BP127: Y | BQ127: Y | BR127: Y | BS127: Y | BT127: Y | BU127: Y | BV127: Y
A128: namgciscoa04 | B128: =VLOOKUP(M128,'APAC Dump'!D:D,1,0) -> #N/A | C128: =VLOOKUP(M128,'EMEA Dump'!D:D,1,0) -> #N/A | D128: =VLOOKUP(M128,'NAM Dump'!E:E,1,0) -> namgciscoa04 | F128: NAM | G128: US | H128: Texas | I128: Georgetown | J128: GTDC | M128: namgciscoa04 | N128: 169.193.233.90 | P128: DCNM | T128: N | U128: N | V128: N | X128: N | Y128: N | Z128: N | AA128: N | AB128: Y | AC128: Y | AF128: N | AG128: N | AH128: N | AJ128: Y | AK128: N | AL128: N | AM128: N | AN128: N | AO128: N | AR128: N | AS128: N | AT128: N | AU128: N | AV128: N | AW128: N | AX128: N | AY128: N | AZ128: N | BA128: N | BC128: Y | BD128: Y | BE128: Y | BF128: Y | BG128: Y | BH128: Y | BI128: Y | BJ128: Y | BK128: Y | BL128: Y | BM128: Y | BN128: Y | BO128: Y | BP128: Y | BQ128: Y | BR128: Y | BS128: Y | BT128: Y | BU128: Y | BV128: Y
A129: namgciscob03 | B129: =VLOOKUP(M129,'APAC Dump'!D:D,1,0) -> #N/A | C129: =VLOOKUP(M129,'EMEA Dump'!D:D,1,0) -> #N/A | D129: =VLOOKUP(M129,'NAM Dump'!E:E,1,0) -> namgciscob03 | F129: NAM | G129: US | H129: Texas | I129: Georgetown | J129: GTDC | M129: namgciscob03 | N129: 169.193.233.91 | P129: DCNM | T129: N | U129: N | V129: N | X129: N | Y129: N | Z129: N | AA129: Y | AB129: Y | AC129: Y | AF129: N | AG129: N | AH129: N | AJ129: Y | AK129: N | AL129: N | AM129: N | AN129: N | AO129: N | AR129: N | AS129: N | AT129: N | AU129: N | AV129: N | AW129: N | AX129: N | AY129: N | AZ129: N | BA129: N | BC129: Y | BD129: Y | BE129: Y | BF129: Y | BG129: Y | BH129: Y | BI129: Y | BJ129: Y | BK129: Y | BL129: Y | BM129: Y | BN129: Y | BO129: Y | BP129: Y | BQ129: Y | BR129: Y | BS129: Y | BT129: Y | BU129: Y | BV129: Y
...

Sheet APAC Dump
A1: Comparison | B1: Country | C1: Location | D1: Name | E1: IP address | F1: OS | G1: Use | H1: Environment | I1: Mode of Access
A2: =VLOOKUP(D2,Consolidated!M:M,1,0) -> APACHKIADU4V03 | B2: HK | C2: iAD | D2: APACHKIADU4V03 | E2: 169.181.15.236 | F2: Wintel | G2: Unisphere for VMAX | H2: PROD | I2: RDP
A3: =VLOOKUP(D3,Consolidated!M:M,1,0) -> APACHKIADU4V04 | B3: HK | C3: iAD | D3: APACHKIADU4V04 | E3: 169.181.15.237 | F3: Wintel | G3: Unisphere for VMAX | H3: PROD | I3: RDP
A4: =VLOOKUP(D4,Consolidated!M:M,1,0) -> APACHKASTU4V03 | B4: HK | C4: AST | D4: APACHKASTU4V03 | E4: 169.165.106.109 | F4: Wintel | G4: Unisphere for VMAX | H4: PROD | I4: RDP
A5: =VLOOKUP(D5,Consolidated!M:M,1,0) -> APACHKASTU4V04 | B5: HK | C5: AST | D5: APACHKASTU4V04 | E5: 169.165.106.110 | F5: Wintel | G5: Unisphere for VMAX | H5: PROD | I5: RDP
A6: =VLOOKUP(D6,Consolidated!M:M,1,0) -> APACHKEXHMGTV01 | B6: HK | C6: AST | D6: APACHKEXHMGTV01 | E6: 10.171.81.94 | F6: Wintel | G6: CX/VNX Unisphere | H6: COB | I6: RDP
A7: =VLOOKUP(D7,Consolidated!M:M,1,0) -> APACHKWINUV7645 | B7: HK | C7: AST | D7: APACHKWINUV7645 | E7: 169.181.182.175 | F7: Wintel | G7: DCNM | H7: UAT | I7: RDP
A8: =VLOOKUP(D8,Consolidated!M:M,1,0) -> APACHKWINUV7646 | B8: HK | C8: AST | D8: APACHKWINUV7646 | E8: 169.181.182.176 | F8: Wintel | G8: DCNM | H8: UAT | I8: RDP
A9: =VLOOKUP(D9,Consolidated!M:M,1,0) -> APACHKWINUV7857 | B9: HK | C9: AST | D9: APACHKWINUV7857 | E9: 163.36.200.107 | F9: Wintel | G9: DCNM | H9: UAT | I9: RDP
A10: =VLOOKUP(D10,Consolidated!M:M,1,0) -> APACHKWINUV7858 | B10: HK | C10: AST | D10: APACHKWINUV7858 | E10: 163.36.200.100 | F10: Wintel | G10: DCNM | H10: UAT | I10: RDP
A11: =VLOOKUP(D11,Consolidated!M:M,1,0) -> APACSGEXHMGTV01 | B11: SG | C11: CT2 | D11: APACSGEXHMGTV01 | E11: 10.91.253.100 | F11: Wintel | G11: CX/VNX Unisphere | H11: PROD | I11: RDP
A12: =VLOOKUP(D12,Consolidated!M:M,1,0) -> APACSGU4V03 | B12: SG | C12: SG | D12: APACSGU4V03 | E12: 169.178.178.72 | F12: Wintel | G12: Unisphere for VMAX | H12: PROD | I12: RDP
A13: =VLOOKUP(D13,Consolidated!M:M,1,0) -> APACSGU4V04 | B13: SG | C13: SG | D13: APACSGU4V04 | E13: 169.178.178.73 | F13: Wintel | G13: Unisphere for VMAX | H13: PROD | I13: RDP
... A51: =VLOOKUP(D51,Consolidated!M:M,1,0) -> SSUNSMM02 | B51: CT2 | C51: CT2 | D51: SSUNSMM02 | E51: 163.37.238.14 | F51: Unix | G51: Storage solution enabler server | H51: PRD | I51: ssh

Sheet EMEA Dump
A1: Comparison | B1: Country | C1: Site | D1: Hostname | E1: Llocation | F1: Serial Number | G1: Model | H1: Vendor | I1: Warranty Ends | J1: Comments | K1: Use
A2: =VLOOKUP(D2,Consolidated!M:M,1,0) -> cgcctisanla01p | B2: UK | C2: CGC | D2: cgcctisanla01p | J2: SAN Mgmt Servers - managed by Citi-Unix Team | K2: Linux SAN management server
A3: =VLOOKUP(D3,Consolidated!M:M,1,0) -> cgcctisanla02p | B3: UK | C3: CGC | D3: cgcctisanla02p | J3: SAN Mgmt Servers - managed by Citi-Unix Team | K3: Linux SAN management server
A4: =VLOOKUP(D4,Consolidated!M:M,1,0) -> FDCCTIDCNVA01P | B4: Germany | C4: FDC | D4: FDCCTIDCNVA01P | E4: Virtual | K4: DCNM/RADIUS/HiTrack - CISCO management station
A5: =VLOOKUP(D5,Consolidated!M:M,1,0) -> FDCCTIDCNVA02P | B5: Germany | C5: FDC | D5: FDCCTIDCNVA02P | E5: Virtual | K5: DCNM/RADIUS/HiTrack - CISCO management station
A6: =VLOOKUP(D6,Consolidated!M:M,1,0) -> ffctisanav001 | B6: Germany | C6: FDC | D6: ffctisanav001 | F6: Virtual | K6: AX4/CX4/VNX block/XIV management station
A7: =VLOOKUP(D7,Consolidated!M:M,1,0) -> ffctisanav002 | B7: Germany | C7: FDC | D7: ffctisanav002 | F7: Virtual | K7: AX4/CX4/VNX block/XIV management station
A8: =VLOOKUP(D8,Consolidated!M:M,1,0) -> FFTCTISAHDS001 | B8: Germany | C8: FDC | D8: FFTCTISAHDS001 | K8: Hitachi RACC
A9: =VLOOKUP(D9,Consolidated!M:M,1,0) -> FFTCTISPA001 | B9: Germany | C9: FDC | D9: FFTCTISPA001 | K9: EMC Unisphere for VMAX
A10: =VLOOKUP(D10,Consolidated!M:M,1,0) -> FFTCTISPA002 | B10: Germany | C10: FDC | D10: FFTCTISPA002 | K10: EMC Unisphere for VMAX
A11: =VLOOKUP(D11,Consolidated!M:M,1,0) -> #N/A | B11: Germany | C11: FDC 1A | D11: fftctisvcm001dr | E11: AA45 | F11: Virtual | G11: Virtual | H11: AIX | I11: N/A | J11: SAN Mgmt Servers - managed by Frame Team | K11: Connectrix Manager /Centera management station
A12: =VLOOKUP(D12,Consolidated!M:M,1,0) -> #N/A | B12: Germany | C12: FDC | D12: FFTCTISVEA001 | K12: EMC ESRS Gateway
A13: =VLOOKUP(D13,Consolidated!M:M,1,0) -> #N/A | B13: Germany | C13: FDC | D13: FFTCTISVEA002 | K13: EMC ESRS Gateway
A14: =VLOOKUP(D14,Consolidated!M:M,1,0) -> #N/A | B14: Germany | C14: FDC | D14: FFTCTISVEA003DR | K14: EMC ESRS Policy Manager
A15: =VLOOKUP(D15,Consolidated!M:M,1,0) -> FFTCTISVEA004 | B15: Germany | C15: FDC | D15: FFTCTISVEA004 | K15: EMC ESRS Gateway
A16: =VLOOKUP(D16,Consolidated!M:M,1,0) -> FFTCTISVEA005 | B16: Germany | C16: FDC | D16: FFTCTISVEA005 | K16: EMC ESRS Gateway
A17: =VLOOKUP(D17,Consolidated!M:M,1,0) -> FFTCTISVEA006 | B17: Germany | C17: FDC | D17: FFTCTISVEA006 | K17: EMC ESRS Gateway
A18: =VLOOKUP(D18,Consolidated!M:M,1,0) -> fftctisvhm001dr | B18: Germany | C18: FDC 1A | D18: fftctisvhm001dr | E18: AA45 | F18: Virtual | G18: Virtual | H18: AIX | I18: N/A | J18: SAN Mgmt Servers - managed by Frame Team | K18: Hitachi Storage Navigator
A19: =VLOOKUP(D19,Consolidated!M:M,1,0) -> #N/A | B19: Germany | C19: FDC 1A | D19: fftctisvhm002dr | E19: AA45 | F19: Virtual | G19: Virtual | H19: AIX | I19: N/A | J19: SAN Mgmt Servers - managed by Frame Team | K19: Hitachi Command Suite
A20: =VLOOKUP(D20,Consolidated!M:M,1,0) -> fgcctisanla01p | B20: Germany | C20: FDC | D20: fgcctisanla01p | K20: Linux SAN management server
A21: =VLOOKUP(D21,Consolidated!M:M,1,0) -> fgcctisanla02p | B21: Germany | C21: FDC | D21: fgcctisanla02p | K21: Linux SAN management server
A22: =VLOOKUP(D22,Consolidated!M:M,1,0) -> fgcctisanla03p | B22: Germany | C22: FDC | D22: fgcctisanla03p | F22: Virtual | K22: IBM XIV ISIS/XRSC (in deployment)
A23: =VLOOKUP(D23,Consolidated!M:M,1,0) -> fgcctisanla04p | B23: Germany | C23: FDC | D23: fgcctisanla04p | K23: Linux SAN management server (MSC)
A24: =VLOOKUP(D24,Consolidated!M:M,1,0) -> fgcctisanla05p | B24: Germany | C24: FDC | D24: fgcctisanla05p | K24: Linux SAN management server (MSC)
A25: =VLOOKUP(D25,Consolidated!M:M,1,0) -> LDNCTISAHDS001 | B25: UK | D25: LDNCTISAHDS001 | K25: Hitachi RACC
A26: =VLOOKUP(D26,Consolidated!M:M,1,0) -> ldnctisanav001 | B26: UK | C26: RDC | D26: ldnctisanav001 | F26: Virtual | K26: AX4/CX4/VNX block/XIV management station
A27: =VLOOKUP(D27,Consolidated!M:M,1,0) -> ldnctisanav002 | B27: UK | C27: RDC | D27: ldnctisanav002 | F27: Virtual | K27: AX4/CX4/VNX block/XIV management station
A28: =VLOOKUP(D28,Consolidated!M:M,1,0) -> LDNCTISPA001 | B28: UK | D28: LDNCTISPA001 | K28: EMC Unisphere for VMAX
A29: =VLOOKUP(D29,Consolidated!M:M,1,0) -> LDNCTISPA002 | B29: UK | D29: LDNCTISPA002 | K29: EMC Unisphere for VMAX
A30: =VLOOKUP(D30,Consolidated!M:M,1,0) -> #N/A | B30: UK | C30: RDC 4 | D30: ldnctisvcm001 | E30: A10 | F30: Virtual | G30: Virtual | H30: AIX | I30: N/A | J30: SAN Mgmt Servers - managed by Frame Team | K30: Connectrix Manager/Centera management station
A31: =VLOOKUP(D31,Consolidated!M:M,1,0) -> #N/A | B31: UK | D31: LDNCTISVEA001 | K31: EMC ESRS Gateway
A32: =VLOOKUP(D32,Consolidated!M:M,1,0) -> #N/A | B32: UK | D32: LDNCTISVEA002 | K32: EMC ESRS Gateway
A33: =VLOOKUP(D33,Consolidated!M:M,1,0) -> LDNCTISVEA004 | B33: UK | D33: LDNCTISVEA004 | K33: EMC ESRS Gateway
A34: =VLOOKUP(D34,Consolidated!M:M,1,0) -> LDNCTISVEA005 | B34: UK | D34: LDNCTISVEA005 | K34: EMC ESRS Gateway
A35: =VLOOKUP(D35,Consolidated!M:M,1,0) -> LDNCTISVEA006 | B35: UK | D35: LDNCTISVEA006 | K35: EMC ESRS Gateway
A36: =VLOOKUP(D36,Consolidated!M:M,1,0) -> #N/A | B36: UK | C36: RDC 4 | D36: ldnctisvhm001 | E36: A10 | F36: Virtual | G36: Virtual | H36: AIX | I36: N/A | J36: SAN Mgmt Servers - managed by Frame Team | K36: Hitachi Storage Navigator
A37: =VLOOKUP(D37,Consolidated!M:M,1,0) -> ldnctisvhm002 | B37: UK | C37: RDC 4 | D37: ldnctisvhm002 | E37: A10 | F37: Virtual | G37: Virtual | H37: AIX | I37: N/A | J37: SAN Mgmt Servers - managed by Frame Team | K37: Hitachi Command Suite
A38: =VLOOKUP(D38,Consolidated!M:M,1,0) -> RDCCTIDCNVA01P | B38: UK | C38: RDC | D38: RDCCTIDCNVA01P | F38: Virtual | K38: DCNM/RADIUS/HiTrack - CISCO management station
A39: =VLOOKUP(D39,Consolidated!M:M,1,0) -> RDCCTIDCNVA02P | B39: UK | C39: RDC | D39: RDCCTIDCNVA02P | F39: Virtual | K39: DCNM/RADIUS/HiTrack - CISCO management station
A40: =VLOOKUP(D40,Consolidated!M:M,1,0) -> rgcctisanla01p | B40: UK | C40: RDC | D40: rgcctisanla01p | J40: SAN Mgmt Servers - managed by Citi-Unix Team | K40: Linux SAN management server
A41: =VLOOKUP(D41,Consolidated!M:M,1,0) -> rgcctisanla02p | B41: UK | C41: RDC | D41: rgcctisanla02p | J41: SAN Mgmt Servers - managed by Citi-Unix Team | K41: Linux SAN management server
A42: =VLOOKUP(D42,Consolidated!M:M,1,0) -> rgcctisanla03p | B42: UK | C42: RDC | D42: rgcctisanla03p | F42: Virtual | K42: IBM XIV ISIS/XRSC (in deployment)
A43: =VLOOKUP(D43,Consolidated!M:M,1,0) -> rgcctisanla04p | B43: UK | C43: RDC | D43: rgcctisanla04p | K43: Linux SAN management server (MSC)
A44: =VLOOKUP(D44,Consolidated!M:M,1,0) -> rgcctisanla05p | B44: UK | C44: RDC | D44: rgcctisanla05p | K44: Linux SAN management server (MSC)
A45: =VLOOKUP(D45,Consolidated!M:M,1,0) -> welsan-mgt1 | B45: Germany | C45: Welle | D45: welsan-mgt1 | E45: C007 | F45: 0820FML04F | G45: SUNFIRE V245 | H45: SUN | I45: N/A | J45: SAN Mgmt Servers - managed by Citi-Unix Team | K45: Unix management server
A46: =VLOOKUP(D46,Consolidated!M:M,1,0) -> welsan-mgt2 | B46: Germany | C46: Welle | D46: welsan-mgt2 | E46: C007 | F46: 0826RB0033 | G46: SUNFIRE V245 | H46: SUN | I46: N/A | J46: SAN Mgmt Servers - managed by Citi-Unix Team | K46: Unix management server
A47: =VLOOKUP(D47,Consolidated!M:M,1,0) -> zhcticgs05 | B47: CH | C47: Interxion | D47: zhcticgs05 | E47: B-C02 | F47: CZ32504395 | G47: PROLIANT DL380 G7 | H47: HP | I47: N/A | J47: SAN Mgmt Servers - managed by Citi-Unix Team | K47: Unix management server
A48: =VLOOKUP(D48,Consolidated!M:M,1,0) -> zhcticgs06 | B48: CH | C48: Interxion | D48: zhcticgs06 | E48: B-C03 | F48: CZ32504397 | G48: PROLIANT DL380 G7 | H48: HP | I48: N/A | J48: SAN Mgmt Servers - managed by Citi-Unix Team | K48: Unix management server
A49: =VLOOKUP(D49,Consolidated!M:M,1,0) -> zhctipgs05 | B49: CH | C49: Colt | D49: zhctipgs05 | E49: 1-G20 | F49: CZ3250439B | G49: PROLIANT DL380 G7 | H49: HP | I49: N/A | J49: SAN Mgmt Servers - managed by Citi-Unix Team | K49: Unix management server
A50: =VLOOKUP(D50,Consolidated!M:M,1,0) -> zhctipgs06 | B50: CH | C50: Colt | D50: zhctipgs06 | E50: 1-G20 | F50: CZ32504399 | G50: PROLIANT DL380 G7 | H50: HP | I50: N/A | J50: SAN Mgmt Servers - managed by Citi-Unix Team | K50: Unix management server

Sheet NAM Dump
A1: Comparison | B1: Region | C1: Country | D1: Location | E1: Hostname | F1: IP Address | G1: OS | H1: HW Type | I1: Product | J1: Version | K1: Software Vendor | L1: CSI ID | M1: CTC ID | N1: Virtualizable | O1: Notes
A2: =VLOOKUP(E2,Consolidated!M:M,1,0) -> asusfla90ats01 | B2: NAM | C2: USA | D2: Jax Bld A | E2: asusfla90ats01 | F2: 135.53.211.160 | G2: Windows 2003 | H2: HP DL380 G4 | I2: NaviSphere | J2: 6.28 | K2: EMC | L2: 149141 | M2: 15794 | N2: No
A3: =VLOOKUP(E3,Consolidated!M:M,1,0) -> crp118pas004 | B3: NAM | C3: Canada | D3: Mississauga | E3: crp118pas004 | F3: 135.155.80.37 | G3: Windows 2003 | H3: HP DL320 | I3: NaviSphere | J3: 6.28 | K3: EMC | L3: 149141 | M3: 15794 | N3: No
A4: =VLOOKUP(E4,Consolidated!M:M,1,0) -> crp237pms001 | B4: NAM | C4: Canada | D4: London | E4: crp237pms001 | F4: 159.17.46.52 | G4: Windows 2003 | H4: HP DL380 G3 | I4: NaviSphere | J4: 6.28 | K4: EMC | L4: 149141 | M4: 15794 | N4: No
A5: =VLOOKUP(E5,Consolidated!M:M,1,0) -> lacpcws01 | B5: LATAM | C5: Mexico | D5: Jardines | E5: lacpcws01 | F5: 10.207.92.34 | G5: RHEL 5.6 | H5: HP Proliant 580 G7 | I5: Solutions Enabler | J5: 8.0.3.0 | K5: EMC | L5: 149141 | M5: 2868 | N5: No | O5: Solutions Enabler Host
A6: =VLOOKUP(E6,Consolidated!M:M,1,0) -> lacpcws02 | B6: LATAM | C6: Mexico | D6: Jardines | E6: lacpcws02 | F6: 10.207.92.36 | G6: RHEL 5.6 | H6: HP Proliant 580 G7 | I6: Solutions Enabler | J6: 8.0.3.0 | K6: EMC | L6: 149141 | M6: 2868 | N6: No | O6: Solutions Enabler Host
A7: =VLOOKUP(E7,Consolidated!M:M,1,0) -> lacpemc01 | B7: LATAM | C7: Mexico | D7: Jardines | E7: lacpemc01 | F7: 10.82.12.137 | G7: Windows 2008 | H7: VMware | I7: U4V | J7: 8.0.3.9 | K7: EMC | L7: 149141 | N7: Already a VM
A8: =VLOOKUP(E8,Consolidated!M:M,1,0) -> lacpisis01 | B8: LATAM | C8: Mexico | D8: Jardines | E8: lacpisis01 | F8: 10.82.12.225 | G8: RHEL 5.6 | H8: Linux | I8: ISIS | J8: 1.2.1 | K8: IBM | L8: 149141 | M8: 39644 | N8: Already a VM
A9: =VLOOKUP(E9,Consolidated!M:M,1,0) -> lacqciscoa01 | B9: LATAM | C9: Mexico | D9: QRDC | E9: lacqciscoa01 | F9: 144.215.12.44 | G9: Windows 2008 | H9: VMware | I9: DCNM | J9: 6.3(2) | K9: Cisco | L9: 149141 | M9: 19238 | N9: Already a VM | O9: Fabric-A
A10: =VLOOKUP(E10,Consolidated!M:M,1,0) -> lacqciscob01 | B10: LATAM | C10: Mexico | D10: QRDC | E10: lacqciscob01 | F10: 144.215.12.40 | G10: Windows 2008 | H10: VMware | I10: DCNM | J10: 6.3(2) | K10: Cisco | L10: 149141 | M10: 19238 | N10: Already a VM | O10: Fabric-B
A11: =VLOOKUP(E11,Consolidated!M:M,1,0) -> lacqcws01 | B11: LATAM | C11: Mexico | D11: QRDC | E11: lacqcws01 | F11: 144.215.21.54 | G11: RHEL 5.6 | H11: HP Proliant 580 G7 | I11: Solutions Enabler | J11: 8.0.3.0 | K11: EMC | L11: 149141 | M11: 2868 | N11: No | O11: Solutions Enabler Host
A12: =VLOOKUP(E12,Consolidated!M:M,1,0) -> lacqcws02 | B12: LATAM | C12: Mexico | D12: QRDC | E12: lacqcws02 | F12: 144.215.21.55 | G12: RHEL 5.6 | H12: HP Proliant 580 G7 | I12: Solutions Enabler | J12: 8.0.3.0 | K12: EMC | L12: 149141 | M12: 2868 | N12: No | O12: Solutions Enabler Host
A13: =VLOOKUP(E13,Consolidated!M:M,1,0) -> lacqemc01 | B13: LATAM | C13: Mexico | D13: QRDC | E13: lacqemc01 | F13: 144.215.12.42 | G13: Windows 2008 | H13: VMware | I13: U4V | J13: 8.0.3.9 | K13: EMC | L13: 149141 | N13: Already a VM
A14: =VLOOKUP(E14,Consolidated!M:M,1,0) -> lacqesrsp01 | B14: LATAM | C14: Mexico | D14: QRDC | E14: lacqesrsp01 | F14: 144.215.12.46 | G14: Windows 2008 | H14: VMware | I14: ESRS | J14: 2.28.00.02 | K14: EMC | L14: 149141 | M14: 43758 | N14: Already a VM
A15: =VLOOKUP(E15,Consolidated!M:M,1,0) -> lacqesrss01 | B15: LATAM | C15: Mexico | D15: QRDC | E15: lacqesrss01 | F15: 144.215.12.43 | G15: Windows 2008 | H15: VMware | I15: ESRS | J15: 2.28.00.02 | K15: EMC | L15: 149141 | M15: 43758 | N15: Already a VM
A16: =VLOOKUP(E16,Consolidated!M:M,1,0) -> lacqisis01 | B16: LATAM | C16: Mexico | D16: QRDC | E16: lacqisis01 | F16: 144.215.12.69 | G16: RHEL 5.6 | H16: Linux | I16: ISIS | J16: 1.2.1 | K16: IBM | L16: 149141 | M16: 39644 | N16: Already a VM
A17: =VLOOKUP(E17,Consolidated!M:M,1,0) -> namcsanad10 | B17: NAM | C17: USA | D17: 390G | E17: namcsanad10 | F17: 169.193.171.156 | G17: Windows 2003 | H17: VMware | I17: Unisphere | J17: 1.1.30.1.0090 | K17: EMC | L17: 149141 | M17: 15794 | N17: Already a VM | O17: Manages both US & Canada SAN Infra
A18: =VLOOKUP(E18,Consolidated!M:M,1,0) -> nameciscoa02 | B18: NAM | C18: USA | D18: 390G | E18: nameciscoa02 | F18: 169.193.166.51 | G18: Windows 2008 | H18: VMware | I18: DCNM | J18: 6.3(2) | K18: Cisco | L18: 149141 | M18: 19238 | N18: Already a VM | O18: Fabric-A
A19: =VLOOKUP(E19,Consolidated!M:M,1,0) -> nameciscob02 | B19: NAM | C19: USA | D19: 390G | E19: nameciscob02 | F19: 169.193.166.52 | G19: Windows 2008 | H19: VMware | I19: DCNM | J19: 6.3(2) | K19: Cisco | L19: 149141 | M19: 19238 | N19: Already a VM | O19: Fabric-B
A20: =VLOOKUP(E20,Consolidated!M:M,1,0) -> namecws01 | B20: NAM | C20: USA | D20: 390G | E20: namecws01 | F20: 162.124.213.24 | G20: RHEL 5.6 | H20: HP Proliant 380 G7 | I20: Solutions Enabler | J20: 8.0.3.0 | K20: EMC | L20: 149141 | M20: 2868 | N20: No | O20: Fiber Inband Connectivity Required
A21: =VLOOKUP(E21,Consolidated!M:M,1,0) -> namecws02 | B21: NAM | C21: USA | D21: 390G | E21: namecws02 | F21: 162.124.213.25 | G21: RHEL 5.6 | H21: HP Proliant 380 G7 | I21: Solutions Enabler | J21: 8.0.3.0 | K21: EMC | L21: 149141 | M21: 2868 | N21: No | O21: Fiber Inband Connectivity Required
A22: =VLOOKUP(E22,Consolidated!M:M,1,0) -> namedsdw | B22: NAM | C22: USA | D22: 390G | E22: namedsdw | F22: 169.193.121.219 | G22: Windows 2003 | H22: VMware | I22: Generic | L22: 149141 | N22: Already a VM | O22: Used for testing and daily audit compliance reporting
A23: =VLOOKUP(E23,Consolidated!M:M,1,0) -> nameemc01 | B23: NAM | C23: USA | D23: 390G | E23: nameemc01 | F23: 169.193.166.46 | G23: Windows 2008 | H23: VMware | I23: U4V | J23: 8.0.3.9 | K23: EMC | L23: 149141 | N23: Already a VM | O23: VMAX provisioning/montiroing
A24: =VLOOKUP(E24,Consolidated!M:M,1,0) -> nameemc02 | B24: NAM | C24: USA | D24: 390G | E24: nameemc02 | F24: 169.193.166.47 | G24: Windows 2008 | H24: VMware | I24: U4V | J24: 8.0.3.9 | K24: EMC | L24: 149141 | N24: Already a VM | O24: VMAX provisioning/montiroing
A25: =VLOOKUP(E25,Consolidated!M:M,1,0) -> nameesrsp02 | B25: NAM | C25: USA | D25: 390G | E25: nameesrsp02 | F25: 162.124.112.108 | G25: Windows 2008 | H25: VMware | I25: ESRS | J25: 2.28.00.02 | K25: EMC | L25: 149141 | M25: 43758 | N25: Already a VM
A26: =VLOOKUP(E26,Consolidated!M:M,1,0) -> nameesrss02 | B26: NAM | C26: USA | D26: 390G | E26: nameesrss02 | F26: 162.124.8.168 | G26: Windows 2008 | H26: VMware | I26: ESRS | J26: 2.28.00.02 | K26: EMC | L26: 149141 | M26: 43758 | N26: Already a VM
A27: =VLOOKUP(E27,Consolidated!M:M,1,0) -> namehds03 | B27: NAM | C27: USA | D27: 390G | E27: namehds03 | F27: 169.193.120.170 | G27: Windows 2008 | H27: VMware | I27: HDS HSCS | J27: 8.1 | K27: HDS | L27: 149141 | M27: 15419 | N27: Already a VM | O27: Replacement for Win2003 HCS server
A28: =VLOOKUP(E28,Consolidated!M:M,1,0) -> nameisis01 | B28: NAM | C28: USA | D28: 390G | E28: nameisis01 | F28: 162.124.234.226 | G28: RHEL 5.6 | H28: Linux | I28: ISIS | J28: 1.2.1 | K28: IBM | L28: 149141 | M28: 39644 | N28: Already a VM
A29: =VLOOKUP(E29,Consolidated!M:M,1,0) -> namenavi01 | B29: NAM | C29: USA | D29: 390G | E29: namenavi01 | F29: 169.193.121.187 | G29: Windows 2003 | H29: VMware | I29: Navisphere | J29: 6.28 | K29: EMC | L29: 149141 | M29: 15794 | N29: Already a VM
A30: =VLOOKUP(E30,Consolidated!M:M,1,0) -> namenavi02 | B30: NAM | C30: USA | D30: 390G | E30: namenavi02 | F30: 162.124.8.180 | G30: Windows 2008 | H30: VMware | I30: Unisphere | J30: 1.3.2 | K30: EMC | L30: 149141 | M30: 15794 | N30: Already a VM
A31: =VLOOKUP(E31,Consolidated!M:M,1,0) -> namgaxcm01 | B31: NAM | C31: USA | D31: GTDC | E31: namgaxcm01 | F31: 169.193.243.36 | G31: Windows 2008 | H31: VMware | I31: Connectrix Manager DCE Server | J31: 10.4 | K31: Brocade/EMC | L31: 149141 | M31: 15327 | N31: Already a VM | O31: Monterrey Connectrix Manager
A32: =VLOOKUP(E32,Consolidated!M:M,1,0) -> namgbxcm01 | B32: NAM | C32: USA | D32: GTDC | E32: namgbxcm01 | F32: 169.193.243.39 | G32: Windows 2008 | H32: VMware | I32: Connectrix Manager DCE Server | J32: 10.4 | K32: Brocade/EMC | L32: 149141 | M32: 15327 | N32: Already a VM | O32: Monterrey Connectrix Manager
A33: =VLOOKUP(E33,Consolidated!M:M,1,0) -> namgciscoa03 | B33: NAM | C33: USA | D33: GTDC | E33: namgciscoa03 | F33: 169.193.233.89 | G33: Windows 2008 | H33: VMware | I33: DCNM | J33: 6.3(2) | K33: Cisco | L33: 149141 | M33: 19238 | N33: Already a VM | O33: Fabric-A
A34: =VLOOKUP(E34,Consolidated!M:M,1,0) -> namgciscoa04 | B34: NAM | C34: USA | D34: GTDC | E34: namgciscoa04 | F34: 169.193.233.90 | G34: Windows 2008 | H34: VMware | I34: DCNM | J34: 6.3(2) | K34: Cisco | L34: 149141 | M34: 19238 | N34: Already a VM | O34: Fabric-A, used to manage US & Mexico SAN Infra
A35: =VLOOKUP(E35,Consolidated!M:M,1,0) -> namgciscob03 | B35: NAM | C35: USA | D35: GTDC | E35: namgciscob03 | F35: 169.193.233.91 | G35: Windows 2008 | H35: VMware | I35: DCNM | J35: 6.3(2) | K35: Cisco | L35: 149141 | M35: 19238 | N35: Already a VM | O35: Fabric-B
A36: =VLOOKUP(E36,Consolidated!M:M,1,0) -> namgciscob04 | B36: NAM | C36: USA | D36: GTDC | E36: namgciscob04 | F36: 169.193.233.92 | G36: Windows 2008 | H36: VMware | I36: DCNM | J36: 6.3(2) | K36: Cisco | L36: 149141 | M36: 19238 | N36: Already a VM | O36: Fabric-B, used to manage US & Mexico SAN Infra
A37: =VLOOKUP(E37,Consolidated!M:M,1,0) -> namgcws01 | B37: NAM | C37: USA | D37: GTDC | E37: namgcws01 | F37: 168.72.74.99 | G37: RHEL 5.6 | H37: HP Proliant 380 G7 | I37: Solutions Enabler | J37: 8.0.3.0 | K37: EMC | L37: 149141 | M37: 2868 | N37: No
A38: =VLOOKUP(E38,Consolidated!M:M,1,0) -> namgcws02 | B38: NAM | C38: USA | D38: GTDC | E38: namgcws02 | F38: 168.72.74.119 | G38: RHEL 5.6 | H38: HP Proliant 380 G7 | I38: Solutions Enabler | J38: 8.0.3.0 | K38: EMC | L38: 149141 | M38: 2868 | N38: No
A39: =VLOOKUP(E39,Consolidated!M:M,1,0) -> namgemc01 | B39: NAM | C39: USA | D39: GTDC | E39: namgemc01 | F39: 169.193.233.72 | G39: Windows 2008 | H39: VMware | I39: U4V | J39: 8.0.3.9 | K39: EMC | L39: 149141 | N39: Already a VM | O39: VMAX provisioning/montiroing
A40: =VLOOKUP(E40,Consolidated!M:M,1,0) -> namgemc02 | B40: NAM | C40: USA | D40: GTDC | E40: namgemc02 | F40: 169.193.233.73 | G40: Windows 2008 | H40: VMware | I40: U4V | J40: 8.0.3.9 | K40: EMC | L40: 149141 | N40: Already a VM | O40: VMAX provisioning/montiroing
A41: =VLOOKUP(E41,Consolidated!M:M,1,0) -> namgemc03 | B41: NAM | C41: USA | D41: GTDC | E41: namgemc03 | F41: 169.193.253.25 | G41: Windows 2008 | H41: VMware | I41: U4V | J41: 8.0.3.9 | K41: EMC | L41: 149141 | N41: Already a VM | O41: VMAX provisioning/montiroing
A42: =VLOOKUP(E42,Consolidated!M:M,1,0) -> namgesrsp02 | B42: NAM | C42: USA | D42: GTDC | E42: namgesrsp02 | F42: 169.193.228.125 | G42: Windows 2008 | H42: VMware | I42: ESRS | J42: 2.28.00.02 | K42: EMC | L42: 149141 | M42: 43758 | N42: Already a VM
A43: =VLOOKUP(E43,Consolidated!M:M,1,0) -> namgesrsp03 | B43: NAM | C43: USA | D43: MWDC | E43: namgesrsp03 | F43: 153.40.252.108 | G43: Windows 2008 | H43: VMware | I43: ESRS | J43: 2.28.00.02 | K43: EMC | L43: 149141 | M43: 43758 | N43: Already a VM
A44: =VLOOKUP(E44,Consolidated!M:M,1,0) -> namgesrss02 | B44: NAM | C44: USA | D44: GTDC | E44: namgesrss02 | F44: 169.193.230.24 | G44: Windows 2008 | H44: VMware | I44: ESRS | J44: 2.28.00.02 | K44: EMC | L44: 149141 | M44: 43758 | N44: Already a VM
A45: =VLOOKUP(E45,Consolidated!M:M,1,0) -> namgesrss03 | B45: NAM | C45: USA | D45: MWDC | E45: namgesrss03 | F45: 153.40.252.109 | G45: Windows 2008 | H45: VMware | I45: ESRS | J45: 2.28.00.02 | K45: EMC | L45: 149141 | M45: 43758 | N45: Already a VM
A46: =VLOOKUP(E46,Consolidated!M:M,1,0) -> namghds03 | B46: NAM | C46: USA | D46: GTDC | E46: namghds03 | F46: 10.96.144.205 | G46: Windows 2008 | H46: VMware | I46: HDS HSCS | J46: 8.1 | K46: HDS | L46: 149141 | M46: 15419 | N46: Already a VM | O46: Replacement for Win2003 HCS server | P46: 8 | Q46: 12288 | R46: 0 | S46: 0 | T46: 64 | U46: 0
A47: =VLOOKUP(E47,Consolidated!M:M,1,0) -> namgisis01 | B47: NAM | C47: USA | D47: GTDC | E47: namgisis01 | F47: 153.40.224.145 | G47: RHEL 5.6 | H47: Linux | I47: ISIS | J47: 1.2.1 | K47: IBM | L47: 149141 | M47: 39644 | N47: Already a VM
A48: =VLOOKUP(E48,Consolidated!M:M,1,0) -> namgnavi01 | B48: NAM | C48: USA | D48: GTDC | E48: namgnavi01 | F48: 169.193.242.82 | G48: Windows 2003 | H48: VMware | I48: Navisphere | J48: 6.28 | K48: EMC | L48: 149141 | M48: 15794 | N48: Already a VM
A49: =VLOOKUP(E49,Consolidated!M:M,1,0) -> namgnavi02 | B49: NAM | C49: USA | D49: GTDC | E49: namgnavi02 | F49: 10.96.145.69 | G49: Windows 2008 | H49: VMware | I49: Unisphere | J49: 1.3.2 | K49: EMC | L49: 149141 | M49: 15794 | N49: Already a VM
A50: =VLOOKUP(E50,Consolidated!M:M,1,0) -> namgsanrpt02 | B50: NAM | C50: USA | D50: GTDC | E50: namgsanrpt02 | F50: 169.193.244.11 | G50: RHEL 5.6 | H50: VMware | I50: SAN Analytic Tool (SAT) | J50: 2.6.18 | L50: 149141 | N50: Already a VM | O50: Used for SAT POC developing & SAN reporting
A51: =VLOOKUP(E51,Consolidated!M:M,1,0) -> namjcws01 | B51: NAM | C51: USA | D51: Jax bld A | E51: namjcws01 | F51: 135.53.211.168 | G51: RHEL 5.6 | H51: HP Proliant 380 G7 | I51: Solutions Enabler | J51: 8.0.3.0 | K51: EMC | L51: 149141 | M51: 2868 | N51: No
A52: =VLOOKUP(E52,Consolidated!M:M,1,0) -> nammancm01 | B52: NAM | C52: USA | D52: MWDC | E52: nammancm01 | F52: 169.193.211.150 | G52: Windows 2003 | H52: VMware | I52: Connectrix Manager | J52: 9.7.4 | K52: Brocade/EMC | L52: 149141 | M52: 15327 | N52: Already a VM | O52: Fabric-A, used to manage US & Canada SAN Infra
A53: =VLOOKUP(E53,Consolidated!M:M,1,0) -> nammaudit01 | B53: NAM | C53: USA | D53: 390G | E53: nammaudit01 | F53: 165.203.230.119 | G53: Windows 2008 | H53: VMware | I53: Generic | L53: 149141 | N53: Already a VM | O53: Used for testing and daily audit compliance reporting (to replace namedsdw)
A54: =VLOOKUP(E54,Consolidated!M:M,1,0) -> nammaxcm01 | B54: NAM | C54: USA | D54: MWDC | E54: nammaxcm01 | F54: 169.193.206.155 | G54: Windows 2008 | H54: VMware | I54: Connectrix Client | J54: 8.9 | K54: Brocade/EMC | L54: 149141 | M54: 15327 | N54: Already a VM | O54: Jardines Client
A55: =VLOOKUP(E55,Consolidated!M:M,1,0) -> nammaxcm01 | B55: NAM | C55: USA | D55: MWDC | E55: nammaxcm01 | F55: 169.193.206.155 | G55: Windows 2008 | H55: VMware | I55: Connectrix Manager DCE Server | J55: 10.4 | K55: Brocade/EMC | L55: 149141 | M55: 15327 | N55: Already a VM | O55: Jardines Brocade build
A56: =VLOOKUP(E56,Consolidated!M:M,1,0) -> nammbncm01 | B56: NAM | C56: USA | D56: MWDC | E56: nammbncm01 | F56: 169.193.211.151 | G56: Windows 2003 | H56: VMware | I56: Connectrix Manager | J56: 9.7.4 | K56: Brocade/EMC | L56: 149141 | M56: 15327 | N56: Already a VM | O56: Fabric-B, used to manage US & Canada SAN Infra
A57: =VLOOKUP(E57,Consolidated!M:M,1,0) -> nammbxcm01 | B57: NAM | C57: USA | D57: MWDC | E57: nammbxcm01 | F57: 169.193.206.156 | G57: Windows 2008 | H57: VMware | I57: Connectrix Client | J57: 8.9 | K57: Brocade/EMC | L57: 149141 | M57: 15327 | N57: Already a VM | O57: Jardines Client
A58: =VLOOKUP(E58,Consolidated!M:M,1,0) -> nammbxcm01 | B58: NAM | C58: USA | D58: MWDC | E58: nammbxcm01 | F58: 169.193.206.156 | G58: Windows 2008 | H58: VMware | I58: Connectrix Manager DCE Server | J58: 10.4 | K58: Brocade/EMC | L58: 149141 | M58: 15327 | N58: Already a VM | O58: Jardines Brocade build
A59: =VLOOKUP(E59,Consolidated!M:M,1,0) -> nammciscoa03 | B59: NAM | C59: USA | D59: MWDC | E59: nammciscoa03 | F59: 169.193.192.160 | G59: Windows 2008 | H59: VMware | I59: DCNM | J59: 6.3(2) | K59: Cisco | L59: 149141 | M59: 19238 | N59: Already a VM | O59: Fabric-A
A60: =VLOOKUP(E60,Consolidated!M:M,1,0) -> nammciscoa04 | B60: NAM | C60: USA | D60: MWDC | E60: nammciscoa04 | F60: 169.193.192.161 | G60: Windows 2008 | H60: VMware | I60: DCNM | J60: 6.3(2) | K60: Cisco | L60: 149141 | M60: 19238 | N60: Already a VM | O60: Fabric-A, used to manage US & Canada SAN Infra (NAIT)
A61: =VLOOKUP(E61,Consolidated!M:M,1,0) -> nammciscob03 | B61: NAM | C61: USA | D61: MWDC | E61: nammciscob03 | F61: 169.193.192.162 | G61: Windows 2008 | H61: VMware | I61: DCNM | J61: 6.3(2) | K61: Cisco | L61: 149141 | M61: 19238 | N61: Already a VM | O61: Fabric-B
A62: =VLOOKUP(E62,Consolidated!M:M,1,0) -> nammciscob04 | B62: NAM | C62: USA | D62: MWDC | E62: nammciscob04 | F62: 169.193.192.163 | G62: Windows 2008 | H62: VMware | I62: DCNM | J62: 6.3(2) | K62: Cisco | L62: 149141 | M62: 19238 | N62: Already a VM | O62: Fabric-B, used to manage US & Canada SAN Infra (NAIT)
A63: =VLOOKUP(E63,Consolidated!M:M,1,0) -> nammcws01 | B63: NAM | C63: USA | D63: MWDC | E63: nammcws01 | F63: 144.215.204.25 | G63: RHEL 5.6 | H63: HP Proliant 380 G7 | I63: Solutions Enabler | J63: 8.0.3.0 | K63: EMC | L63: 149141 | M63: 2868 | N63: No
A64: =VLOOKUP(E64,Consolidated!M:M,1,0) -> nammcws02 | B64: NAM | C64: USA | D64: MWDC | E64: nammcws02 | F64: 144.215.204.26 | G64: RHEL 5.6 | H64: HP Proliant 380 G7 | I64: Solutions Enabler | J64: 8.0.3.0 | K64: EMC | L64: 149141 | M64: 2868 | N64: No
A65: =VLOOKUP(E65,Consolidated!M:M,1,0) -> nammcws03 | B65: NAM | C65: USA | D65: MWDC | E65: nammcws03 | F65: 144.215.204.63 | G65: RHEL 5.6 | H65: HP Proliant 380 G7 | I65: Solutions Enabler | J65: 8.0.3.0 | K65: EMC | L65: 149141 | M65: 2868 | N65: No
A66: =VLOOKUP(E66,Consolidated!M:M,1,0) -> nammcws04 | B66: NAM | C66: USA | D66: MWDC | E66: nammcws04 | F66: 144.215.204.64 | G66: RHEL 5.6 | H66: HP Proliant 380 G7 | I66: Solutions Enabler | J66: 8.0.3.0 | K66: EMC | L66: 149141 | M66: 2868 | N66: No
A67: =VLOOKUP(E67,Consolidated!M:M,1,0) -> nammemc01 | B67: NAM | C67: USA | D67: MWDC | E67: nammemc01 | F67: 169.193.192.115 | G67: Windows 2008 | H67: VMware | I67: U4V | J67: 8.0.3.9 | K67: EMC | L67: 149141 | N67: Already a VM | O67: VMAX provisioning/montiroing
A68: =VLOOKUP(E68,Consolidated!M:M,1,0) -> nammemc02 | B68: NAM | C68: USA | D68: MWDC | E68: nammemc02 | F68: 169.193.192.116 | G68: Windows 2008 | H68: VMware | I68: U4V | J68: 8.0.3.9 | K68: EMC | L68: 149141 | N68: Already a VM | O68: VMAX provisioning/montiroing
A69: =VLOOKUP(E69,Consolidated!M:M,1,0) -> nammemc03 | B69: NAM | C69: USA | D69: MWDC | E69: nammemc03 | F69: 169.193.192.117 | G69: Windows 2008 | H69: VMware | I69: U4V | J69: 8.0.3.9 | K69: EMC | L69: 149141 | N69: Already a VM | O69: VMAX provisioning/montiroing
A70: =VLOOKUP(E70,Consolidated!M:M,1,0) -> nammemc04 | B70: NAM | C70: USA | D70: MWDC | E70: nammemc04 | F70: 165.203.230.120 | G70: Windows 2008 | H70: VMware | I70: U4V | J70: 8.0.3.9 | K70: EMC | L70: 149141 | N70: Already a VM | O70: VMAX provisioning/montiroing
A71: =VLOOKUP(E71,Consolidated!M:M,1,0) -> nammemc05 | B71: NAM | C71: USA | D71: MWDC | E71: nammemc05 | F71: 165.203.230.118 | G71: Windows 2008 | H71: VMware | I71: U4V | J71: 8.0.3.9 | K71: EMC | L71: 149141 | N71: Already a VM | O71: VMAX provisioning/montiroing
A72: =VLOOKUP(E72,Consolidated!M:M,1,0) -> nammemc06 | B72: NAM | C72: USA | D72: MWDC | E72: nammemc06 | F72: 159.17.107.226 | G72: Windows 2008 | H72: VMware | I72: U4V | J72: 8.0.3.9 | K72: EMC | L72: 149141 | N72: Already a VM | O72: VMAX provisioning/montiroing
A73: =VLOOKUP(E73,Consolidated!M:M,1,0) -> nammemc07 | B73: NAM | C73: USA | D73: MWDC | E73: nammemc07 | F73: 159.17.107.227 | G73: Windows 2008 | H73: VMware | I73: U4V | J73: 8.0.3.9 | K73: EMC | L73: 149141 | N73: Already a VM | O73: VMAX provisioning/montiroing
A74: =VLOOKUP(E74,Consolidated!M:M,1,0) -> nammesrsp03 | B74: NAM | C74: USA | D74: MWDC | E74: nammesrsp03 | F74: 169.193.158.92 | G74: Windows 2008 | H74: VMware | I74: ESRS | J74: 2.28.00.02 | K74: EMC | L74: 149141 | M74: 43758 | N74: Already a VM
A75: =VLOOKUP(E75,Consolidated!M:M,1,0) -> nammesrsp04 | B75: NAM | C75: USA | D75: MWDC | E75: nammesrsp04 | F75: 169.193.159.58 | G75: Windows 2008 | H75: VMware | I75: ESRS | J75: 2.28.00.02 | K75: EMC | L75: 149141 | M75: 43758 | N75: Already a VM
A76: =VLOOKUP(E76,Consolidated!M:M,1,0) -> nammesrsp05 | B76: NAM | C76: USA | D76: MWDC | E76: nammesrsp05 | F76: 144.215.106.110 | G76: Windows 2008 | H76: VMware | I76: ESRS | J76: 2.28.00.02 | K76: EMC | L76: 149141 | M76: 43758 | N76: Already a VM
A77: =VLOOKUP(E77,Consolidated!M:M,1,0) -> nammesrss03 | B77: NAM | C77: USA | D77: MWDC | E77: nammesrss03 | F77: 144.215.194.104 | G77: Windows 2008 | H77: VMware | I77: ESRS | J77: 2.28.00.02 | K77: EMC | L77: 149141 | M77: 43758 | N77: Already a VM
A78: =VLOOKUP(E78,Consolidated!M:M,1,0) -> nammesrss04 | B78: NAM | C78: USA | D78: MWDC | E78: nammesrss04 | F78: 144.215.194.105 | G78: Windows 2008 | H78: VMware | I78: ESRS | J78: 2.28.00.02 | K78: EMC | L78: 149141 | M78: 43758 | N78: Already a VM
A79: =VLOOKUP(E79,Consolidated!M:M,1,0) -> nammesrss05 | B79: NAM | C79: USA | D79: MWDC | E79: nammesrss05 | F79: 144.215.106.111 | G79: Windows 2008 | H79: VMware | I79: ESRS | J79: 2.28.00.02 | K79: EMC | L79: 149141 | M79: 43758 | N79: Already a VM
A80: =VLOOKUP(E80,Consolidated!M:M,1,0) -> nammhds02 | B80: NAM | C80: USA | D80: MWDC | E80: nammhds02 | F80: 169.193.158.33 | G80: Windows 2008 | H80: VMware | I80: HDS RACC | J80: 8.1 | K80: HDS | L80: 149141 | M80: 15419 | N80: Already a VM | O80: Hitachi Remote Access
A81: =VLOOKUP(E81,Consolidated!M:M,1,0) -> nammhds03 | B81: NAM | C81: USA | D81: MWDC | E81: nammhds03 | F81: 144.215.192.141 | G81: Windows 2008 | H81: VMware | I81: HDS HSCS | J81: 8.1 | K81: HDS | L81: 149141 | M81: 15419 | N81: Already a VM | O81: Replacement for Win2003 HCS server
A82: =VLOOKUP(E82,Consolidated!M:M,1,0) -> nammibm01 | B82: NAM | C82: USA | D82: MWDC | E82: nammibm01 | F82: 169.193.159.16 | G82: Windows 2008 | H82: VMware | I82: XiV | J82: 4.3.1 | K82: IBM | L82: 149141 | N82: Already a VM | O82: XiV provisioning/montiroing
A83: =VLOOKUP(E83,Consolidated!M:M,1,0) -> nammisis01 | B83: NAM | C83: USA | D83: MWDC | E83: nammisis01 | F83: 169.193.159.86 | G83: RHEL 5.6 | H83: Linux | I83: ISIS | J83: 1.2.1 | K83: IBM | L83: 149141 | M83: 39644 | N83: Already a VM
A84: =VLOOKUP(E84,Consolidated!M:M,1,0) -> nammnavi01 | B84: NAM | C84: USA | D84: MWDC | E84: nammnavi01 | F84: 169.193.210.229 | G84: Windows 2003 | H84: VMware | I84: Navisphere | J84: 6.28 | K84: EMC | L84: 149141 | M84: 15794 | N84: Already a VM
A85: =VLOOKUP(E85,Consolidated!M:M,1,0) -> nammnavi02 | B85: NAM | C85: USA | D85: MWDC | E85: nammnavi02 | F85: 144.215.198.110 | G85: Windows 2008 | H85: VMware | I85: Unisphere | J85: 1.2.25 | K85: EMC | L85: 149141 | M85: 15794 | N85: Already a VM
A86: =VLOOKUP(E86,Consolidated!M:M,1,0) -> nammsanrpt01 | B86: NAM | C86: USA | D86: MWDC | E86: nammsanrpt01 | F86: 169.193.222.59 | G86: RHEL 5.6 | H86: VMware | I86: SAN Analytic Tool (SAT) | J86: 2.6.18 | L86: 149141 | N86: Already a VM | O86: Used for SAT POC developing & SAN reporting
A87: =VLOOKUP(E87,Consolidated!M:M,1,0) -> nammssdwh01 | B87: NAM | C87: USA | D87: MWDC | E87: nammssdwh01 | F87: 144.215.196.99 | G87: Windows 2008 | H87: VMware | I87: Generic | L87: Virtual | N87: Already a VM | O87: Used for testing and daily audit compliance reporting
A88: =VLOOKUP(E88,Consolidated!M:M,1,0) -> namocws01 | B88: NAM | C88: USA | D88: O'Fallon | E88: namocws01 | F88: 169.192.70.8 | G88: RHEL 5.6 | H88: HP Proliant 380 G7 | I88: Solutions Enabler | J88: 8.0.3.0 | K88: EMC | L88: 149141 | M88: 2868 | N88: No
A89: =VLOOKUP(E89,Consolidated!M:M,1,0) -> namocws02 | B89: NAM | C89: USA | D89: O'Fallon | E89: namocws02 | F89: 169.192.70.9 | G89: RHEL 5.6 | H89: HP Proliant 380 G7 | I89: Solutions Enabler | J89: 8.0.3.0 | K89: EMC | L89: 149141 | M89: 2868 | N89: No
A90: =VLOOKUP(E90,Consolidated!M:M,1,0) -> namrciscoa02 | B90: NAM | C90: USA | D90: Rutherford | E90: namrciscoa02 | F90: 150.110.105.97 | G90: Windows 2008 | H90: VMware | I90: DCNM | J90: 6.3(2) | K90: Cisco | L90: 149141 | M90: 19238 | N90: Already a VM | O90: Fabric-A
A91: =VLOOKUP(E91,Consolidated!M:M,1,0) -> namrciscob02 | B91: NAM | C91: USA | D91: Rutherford | E91: namrciscob02 | F91: 150.110.105.98 | G91: Windows 2008 | H91: VMware | I91: DCNM | J91: 6.3(2) | K91: Cisco | L91: 149141 | M91: 19238 | N91: Already a VM | O91: Fabric-B
A92: =VLOOKUP(E92,Consolidated!M:M,1,0) -> namrcws01 | B92: NAM | C92: USA | D92: Rutherford | E92: namrcws01 | F92: 150.110.173.53 | G92: RHEL 5.6 | H92: HP Proliant 380 G7 | I92: Solutions Enabler | J92: 8.0.3.0 | K92: EMC | L92: 149141 | M92: 2868 | N92: No
A93: =VLOOKUP(E93,Consolidated!M:M,1,0) -> namrcws02 | B93: NAM | C93: USA | D93: Rutherford | E93: namrcws02 | F93: 150.110.173.54 | G93: RHEL 5.6 | H93: HP Proliant 380 G7 | I93: Solutions Enabler | J93: 8.0.3.0 | K93: EMC | L93: 149141 | M93: 2868 | N93: No
A94: =VLOOKUP(E94,Consolidated!M:M,1,0) -> namremc01 | B94: NAM | C94: USA | D94: Rutherford | E94: namremc01 | F94: 150.110.105.87 | G94: Windows 2008 | H94: VMware | I94: U4V | J94: 8.0.3.9 | K94: EMC | L94: 149141 | N94: Already a VM | O94: VMAX provisioning/montiroing
A95: =VLOOKUP(E95,Consolidated!M:M,1,0) -> namremc02 | B95: NAM | C95: USA | D95: Rutherford | E95: namremc02 | F95: 150.110.105.88 | G95: Windows 2008 | H95: VMware | I95: U4V | J95: 8.0.3.9 | K95: EMC | L95: 149141 | N95: Already a VM | O95: VMAX provisioning/montiroing
A96: =VLOOKUP(E96,Consolidated!M:M,1,0) -> namresrsp02 | B96: NAM | C96: USA | D96: Rutherford | E96: namresrsp02 | F96: 150.110.134.188 | G96: Windows 2008 | H96: VMware | I96: ESRS | J96: 2.28.00.02 | K96: EMC | L96: 149141 | M96: 43758 | N96: Already a VM
A97: =VLOOKUP(E97,Consolidated!M:M,1,0) -> namresrss02 | B97: NAM | C97: USA | D97: Rutherford | E97: namresrss02 | F97: 150.110.64.194 | G97: Windows 2008 | H97: VMware | I97: ESRS | J97: 2.28.00.02 | K97: EMC | L97: 149141 | M97: 43758 | N97: Already a VM
A98: =VLOOKUP(E98,Consolidated!M:M,1,0) -> namrhds03 | B98: NAM | C98: USA | D98: Rutherford | E98: namrhds03 | F98: 150.110.64.79 | G98: Windows 2008 | H98: VMware | I98: HDS HSCS | J98: 8.1 | K98: HDS | L98: 149141 | M98: 15419 | N98: Already a VM | O98: Replacement for Win2003 HCS server
A99: =VLOOKUP(E99,Consolidated!M:M,1,0) -> namrisis01 | B99: NAM | C99: USA | D99: Rutherford | E99: namrisis01 | F99: 150.110.64.235 | G99: RHEL 5.6 | H99: Linux | I99: ISIS | J99: 1.2.1 | K99: IBM | L99: 149141 | M99: 39644 | N99: Already a VM
A100: =VLOOKUP(E100,Consolidated!M:M,1,0) -> namrnavi01 | B100: NAM | C100: USA | D100: Rutherford | E100: namrnavi01 | F100: 150.110.197.243 | G100: Windows 2003 | H100: VMware | I100: Navisphere | J100: 6.28 | K100: EMC | L100: 149141 | M100: 15794 | N100: Already a VM
...

Sheet Consolidated20151104
T1: APAC | AE1: APAC | AF1: EMEA | AQ1: EMEA | AR1: NAM | BY1: NAM | CA1: Region | CB1: Percentage Completed | CF1: Percetage Computation
B2: Comparative with dumps | E2: Comparison | F2: Details 1 | L2: Details 1 | N2: Details 2 | S2: Details 2 | T2: NAS | W2: NAS | X2: SAN | AD2: SAN | AF2: NAS | AI2: NAS | AJ2: SAN | AP2: SAN | AR2: NAS | BB2: NAS | BC2: SAN | BX2: SAN | CA2: APAC | CB2: =CC2/CE2 -> 0.28794326 | CC2: =COUNTIF(X4:AC238,"Y") -> 406 | CD2: =COUNTIF(X4:AC238,"N") -> 1004 | CE2: =SUM(CC2:CD2) -> 1410
A3: Name | B3: APAC | C3: EMEA | D3: NAM | F3: Region | G3: Country | H3: State | I3: City | J3: DC / DC Floor | K3: Location | M3: Name | N3: IP address | O3: OS | P3: Use | Q3: Environment | R3: Mode of Access | T3: jn62051 | U3: ks14775 | V3: mp35609 | X3: pr72496 | Y3: rp04578 | Z3: sg37224 | AA3: sk36088 | AB3: sm30890 | AC3: ss84555 | AF3: cb81537 | AG3: jn76047 | AH3: wp92684 | AJ3: hd57144 | AK3: jg26166 | AL3: kv13183 | AM3: sa47183 | AN3: sg76758 | AO3: zk04269 | AR3: ah24522 | AS3: as23277 | AT3: as54505 | AU3: bk81013 | AV3: ln81010 | AW3: mg66280 | AX3: rk12759 | AY3: sm20316 | AZ3: st56532 | BA3: st60913 | BC3: ar91297 | BD3: as43276 | BE3: bd70270 | BF3: bj03264 | BG3: dd60065 | BH3: en53115 | BI3: gf89952 | BJ3: jh85336 | BK3: jk48146 | BL3: jm67831 | BM3: kh64535 | BN3: ky04806 | BO3: lf42212 | BP3: mm18246 | BQ3: mw69878 | BR3: pl75643 | BS3: rb02032 | BT3: sh10049 | BU3: sk34158 | BV3: sp65064 | BW3: up44123 | CA3: EMEA | CB3: =CC3/CE3 -> 0.21045198 | CC3: =COUNTIF(AJ4:AO239,"Y") -> 298 | CD3: =COUNTIF(AJ4:AO239,"n") -> 1118 | CE3: =SUM(CC3:CD3) -> 1416
A4: APACSGWINPV7863 | B4: =VLOOKUP(M4,'APAC Dump'!D:D,1,0) -> APACSGWINPV7863 | C4: =VLOOKUP(M4,'EMEA Dump'!D:D,1,0) -> #N/A | D4: =VLOOKUP(M4,'NAM Dump'!E:E,1,0) -> #N/A | F4: APAC | G4: SG | K4: CT2 | M4: APACSGWINPV7863 | N4: 163.37.116.85 | O4: Wintel | P4: DCNM | Q4: PROD | R4: RDP | T4: N | U4: N | V4: N | X4: Y | Y4: Y | Z4: Y | AA4: Y | AB4: Y | AC4: Y | AF4: N | AG4: N | AH4: N | AJ4: N | AK4: N | AL4: N | AM4: N | AN4: N | AO4: N | AR4: N | AS4: N | AT4: N | AU4: N | AV4: N | AW4: N | AX4: N | AY4: N | AZ4: N | BA4: N | BC4: N | BD4: N | BE4: N | BF4: N | BG4: N | BH4: N | BI4: N | BJ4: N | BK4: N | BL4: N | BM4: N | BN4: N | BO4: N | BP4: N | BQ4: N | BR4: N | BS4: N | BT4: N | BU4: Y | BV4: N | BW4: N | CA4: NAM | CB4: =CC4/CE4 -> 0.5 | CC4: =COUNTIF(BC4:BW239,"Y") -> 2909 | CD4: =COUNTIF(BC4:BW239,"Y") -> 2909 | CE4: =SUM(CC4:CD4) -> 5818
A5: APACSGWINPV7864 | B5: =VLOOKUP(M5,'APAC Dump'!D:D,1,0) -> APACSGWINPV7864 | C5: =VLOOKUP(M5,'EMEA Dump'!D:D,1,0) -> #N/A | D5: =VLOOKUP(M5,'NAM Dump'!E:E,1,0) -> #N/A | F5: APAC | G5: SG | K5: CT2 | M5: APACSGWINPV7864 | N5: 163.37.116.86 | O5: Wintel | P5: DCNM | Q5: PROD | R5: RDP | T5: N | U5: N | V5: N | X5: Y | Y5: Y | Z5: Y | AA5: Y | AB5: Y | AC5: Y | AF5: N | AG5: N | AH5: N | AJ5: N | AK5: N | AL5: N | AM5: N | AN5: N | AO5: N | AR5: N | AS5: N | AT5: N | AU5: N | AV5: N | AW5: N | AX5: N | AY5: N | AZ5: N | BA5: N | BC5: N | BD5: N | BE5: N | BF5: N | BG5: N | BH5: N | BI5: N | BJ5: N | BK5: N | BL5: N | BM5: N | BN5: N | BO5: N | BP5: N | BQ5: N | BR5: N | BS5: N | BT5: N | BU5: Y | BV5: N | BW5: N | CA5: Total | CB5: =CC5/CE5 -> 0.41797779 | CC5: =SUM(CC2:CC4) -> 3613 | CD5: =SUM(CD2:CD4) -> 5031 | CE5: =SUM(CE2:CE4) -> 8644
A6: APACHKWINUV7857 | B6: =VLOOKUP(M6,'APAC Dump'!D:D,1,0) -> APACHKWINUV7857 | C6: =VLOOKUP(M6,'EMEA Dump'!D:D,1,0) -> #N/A | D6: =VLOOKUP(M6,'NAM Dump'!E:E,1,0) -> #N/A | F6: APAC | G6: HK | K6: AST | M6: APACHKWINUV7857 | N6: 163.36.200.107 | O6: Wintel | P6: DCNM | Q6: UAT | R6: RDP | T6: N | U6: N | V6: N | X6: Y | Y6: Y | Z6: Y | AA6: Y | AB6: Y | AC6: Y | AF6: N | AG6: N | AH6: N | AJ6: N | AK6: N | AL6: N | AM6: N | AN6: N | AO6: N | AR6: N | AS6: N | AT6: N | AU6: N | AV6: N | AW6: N | AX6: N | AY6: N | AZ6: N | BA6: N | BC6: N | BD6: N | BE6: N | BF6: N | BG6: N | BH6: N | BI6: N | BJ6: N | BK6: N | BL6: N | BM6: N | BN6: N | BO6: N | BP6: N | BQ6: N | BR6: N | BS6: N | BT6: N | BU6: Y | BV6: N | BW6: N
A7: APACHKWINUV7858 | B7: =VLOOKUP(M7,'APAC Dump'!D:D,1,0) -> APACHKWINUV7858 | C7: =VLOOKUP(M7,'EMEA Dump'!D:D,1,0) -> #N/A | D7: =VLOOKUP(M7,'NAM Dump'!E:E,1,0) -> #N/A | F7: APAC | G7: HK | K7: AST | M7: APACHKWINUV7858 | N7: 163.36.200.100 | O7: Wintel | P7: DCNM | Q7: UAT | R7: RDP | T7: N | U7: N | V7: N | X7: Y | Y7: Y | Z7: Y | AA7: Y | AB7: Y | AC7: Y | AF7: N | AG7: N | AH7: N | AJ7: N | AK7: N | AL7: N | AM7: N | AN7: N | AO7: N | AR7: N | AS7: N | AT7: N | AU7: N | AV7: N | AW7: N | AX7: N | AY7: N | AZ7: N | BA7: N | BC7: N | BD7: N | BE7: N | BF7: N | BG7: N | BH7: N | BI7: N | BJ7: N | BK7: N | BL7: N | BM7: N | BN7: N | BO7: N | BP7: N | BQ7: N | BR7: N | BS7: N | BT7: N | BU7: N | BV7: N | BW7: N | CA7: Per Region
A8: APACSGWINPV7860 | B8: =VLOOKUP(M8,'APAC Dump'!D:D,1,0) -> APACSGWINPV7860 | C8: =VLOOKUP(M8,'EMEA Dump'!D:D,1,0) -> #N/A | D8: =VLOOKUP(M8,'NAM Dump'!E:E,1,0) -> #N/A | F8: APAC | G8: SG | K8: CT2 | M8: APACSGWINPV7860 | N8: 163.37.116.82 | O8: Wintel | P8: DCNM | Q8: PROD | R8: RDP | T8: N | U8: N | V8: N | X8: Y | Y8: Y | Z8: Y | AA8: Y | AB8: Y | AC8: Y | AF8: N | AG8: N | AH8: N | AJ8: N | AK8: N | AL8: N | AM8: N | AN8: N | AO8: N | AR8: N | AS8: N | AT8: N | AU8: N | AV8: N | AW8: N | AX8: N | AY8: N | AZ8: N | BA8: N | BC8: N | BD8: N | BE8: N | BF8: N | BG8: N | BH8: N | BI8: N | BJ8: N | BK8: N | BL8: N | BM8: N | BN8: N | BO8: N | BP8: N | BQ8: N | BR8: N | BS8: N | BT8: N | BU8: N | BV8: N | BW8: N | CA8: APAC | CB8: =CC8/CE8 -> 0.094982079 | CC8: =COUNTIF(X54:AC239,"Y") -> 106 | CD8: =COUNTIF(X54:AC239,"N") -> 1010 | CE8: =SUM(CC8:CD8) -> 1116
A9: APACSGWINPV7861 | B9: =VLOOKUP(M9,'APAC Dump'!D:D,1,0) -> APACSGWINPV7861 | C9: =VLOOKUP(M9,'EMEA Dump'!D:D,1,0) -> #N/A | D9: =VLOOKUP(M9,'NAM Dump'!E:E,1,0) -> #N/A | F9: APAC | G9: SG | K9: CT2 | M9: APACSGWINPV7861 | N9: 163.37.116.83 | O9: Wintel | P9: DCNM | Q9: PROD | R9: RDP | T9: N | U9: N | V9: N | X9: Y | Y9: Y | Z9: Y | AA9: Y | AB9: Y | AC9: Y | AF9: N | AG9: N | AH9: N | AJ9: N | AK9: N | AL9: N | AM9: N | AN9: N | AO9: N | AR9: N | AS9: N | AT9: N | AU9: N | AV9: N | AW9: N | AX9: N | AY9: N | AZ9: N | BA9: N | BC9: N | BD9: N | BE9: N | BF9: N | BG9: N | BH9: N | BI9: N | BJ9: N | BK9: N | BL9: N | BM9: N | BN9: N | BO9: N | BP9: N | BQ9: N | BR9: N | BS9: N | BT9: N | BU9: Y | BV9: N | BW9: N | CA9: EMEA | CB9: =CC9/CE9 -> 0.0035650624 | CC9: =COUNTIF(AJ4:AO53,"Y")+COUNTIF(AJ103:AO239,"Y") -> 4 | CD9: =COUNTIF(AJ4:AO53,"N")+COUNTIF(AJ103:AO239,"N") -> 1118 | CE9: =SUM(CC9:CD9) -> 1122
A10: APACHKWINUV7645 | B10: =VLOOKUP(M10,'APAC Dump'!D:D,1,0) -> APACHKWINUV7645 | C10: =VLOOKUP(M10,'EMEA Dump'!D:D,1,0) -> #N/A | D10: =VLOOKUP(M10,'NAM Dump'!E:E,1,0) -> #N/A | F10: APAC | G10: HK | K10: AST | M10: APACHKWINUV7645 | N10: 169.181.182.175 | O10: Wintel | P10: DCNM | Q10: UAT | R10: RDP | T10: N | U10: N | V10: N | X10: Y | Y10: Y | Z10: Y | AA10: Y | AB10: Y | AC10: Y | AF10: N | AG10: N | AH10: N | AJ10: N | AK10: N | AL10: N | AM10: N | AN10: N | AO10: N | AR10: N | AS10: N | AT10: N | AU10: N | AV10: N | AW10: N | AX10: N | AY10: N | AZ10: N | BA10: N | BC10: N | BD10: N | BE10: N | BF10: N | BG10: N | BH10: N | BI10: N | BJ10: N | BK10: N | BL10: N | BM10: N | BN10: N | BO10: N | BP10: N | BQ10: N | BR10: N | BS10: N | BT10: N | BU10: Y | BV10: N | BW10: N | CA10: NAM | CB10: =CC10/CE10 -> 0.015392015 | CC10: =COUNTIF(BC4:BW102,"Y") -> 32 | CD10: =COUNTIF(BC4:BW102,"N") -> 2047 | CE10: =SUM(CC10:CD10) -> 2079
A11: APACHKWINUV7646 | B11: =VLOOKUP(M11,'APAC Dump'!D:D,1,0) -> APACHKWINUV7646 | C11: =VLOOKUP(M11,'EMEA Dump'!D:D,1,0) -> #N/A | D11: =VLOOKUP(M11,'NAM Dump'!E:E,1,0) -> #N/A | F11: APAC | G11: HK | K11: AST | M11: APACHKWINUV7646 | N11: 169.181.182.176 | O11: Wintel | P11: DCNM | Q11: UAT | R11: RDP | T11: N | U11: N | V11: N | X11: Y | Y11: Y | Z11: Y | AA11: Y | AB11: Y | AC11: Y | AF11: N | AG11: N | AH11: N | AJ11: N | AK11: N | AL11: N | AM11: N | AN11: N | AO11: N | AR11: N | AS11: N | AT11: N | AU11: N | AV11: N | AW11: N | AX11: N | AY11: N | AZ11: N | BA11: N | BC11: N | BD11: N | BE11: N | BF11: N | BG11: N | BH11: N | BI11: N | BJ11: N | BK11: N | BL11: N | BM11: N | BN11: N | BO11: N | BP11: N | BQ11: N | BR11: N | BS11: N | BT11: N | BU11: Y | BV11: N | BW11: N | CA11: Total | CB11: =CC11/CE11 -> 0.032893213 | CC11: =SUM(CC8:CC10) -> 142 | CD11: =SUM(CD8:CD10) -> 4175 | CE11: =SUM(CE8:CE10) -> 4317
A12: SSUNSMM01 | B12: =VLOOKUP(M12,'APAC Dump'!D:D,1,0) -> SSUNSMM01 | C12: =VLOOKUP(M12,'EMEA Dump'!D:D,1,0) -> #N/A | D12: =VLOOKUP(M12,'NAM Dump'!E:E,1,0) -> #N/A | F12: APAC | G12: CT2 | K12: CT2 | M12: SSUNSMM01 | N12: 163.37.241.20 | O12: Unix | P12: Storage solution enabler server | Q12: UAT | R12: ssh | T12: N | U12: N | V12: N | X12: Y | Y12: Y | Z12: Y | AA12: Y | AB12: Y | AC12: Y | AF12: N | AG12: N | AH12: N | AJ12: N | AK12: N | AL12: N | AM12: N | AN12: N | AO12: N | AR12: N | AS12: N | AT12: N | AU12: N | AV12: N | AW12: N | AX12: N | AY12: N | AZ12: N | BA12: N | BC12: N | BD12: N | BE12: N | BF12: N | BG12: N | BH12: N | BI12: N | BJ12: N | BK12: N | BL12: N | BM12: N | BN12: N | BO12: N | BP12: N | BQ12: N | BR12: N | BS12: N | BT12: N | BU12: N | BV12: N | BW12: N
A13: SSUNSMM02 | B13: =VLOOKUP(M13,'APAC Dump'!D:D,1,0) -> SSUNSMM02 | C13: =VLOOKUP(M13,'EMEA Dump'!D:D,1,0) -> #N/A | D13: =VLOOKUP(M13,'NAM Dump'!E:E,1,0) -> #N/A | F13: APAC | G13: CT2 | K13: CT2 | M13: SSUNSMM02 | N13: 163.37.238.14 | O13: Unix | P13: Storage solution enabler server | Q13: PRD | R13: ssh | T13: N | U13: N | V13: N | X13: Y | Y13: Y | Z13: Y | AA13: Y | AB13: Y | AC13: Y | AF13: N | AG13: N | AH13: N | AJ13: N | AK13: N | AL13: N | AM13: N | AN13: N | AO13: N | AR13: N | AS13: N | AT13: N | AU13: N | AV13: N | AW13: N | AX13: N | AY13: N | AZ13: N | BA13: N | BC13: N | BD13: N | BE13: N | BF13: N | BG13: N | BH13: N | BI13: N | BJ13: N | BK13: N | BL13: N | BM13: N | BN13: N | BO13: N | BP13: N | BQ13: N | BR13: N | BS13: N | BT13: N | BU13: Y | BV13: N | BW13: N
A14: HSSUNSMM02 | B14: =VLOOKUP(M14,'APAC Dump'!D:D,1,0) -> HSSUNSMM02 | C14: =VLOOKUP(M14,'EMEA Dump'!D:D,1,0) -> #N/A | D14: =VLOOKUP(M14,'NAM Dump'!E:E,1,0) -> #N/A | F14: APAC | G14: HK | K14: iAD | M14: HSSUNSMM02 | N14: 129.14.10.5 | O14: Unix | P14: Storage solution enabler server | Q14: PRD/COB | R14: ssh | T14: N | U14: N | V14: N | X14: Y | Y14: Y | Z14: Y | AA14: Y | AB14: Y | AC14: Y | AF14: N | AG14: N | AH14: N | AJ14: N | AK14: N | AL14: N | AM14: N | AN14: N | AO14: N | AR14: N | AS14: N | AT14: N | AU14: N | AV14: N | AW14: N | AX14: N | AY14: N | AZ14: N | BA14: N | BC14: N | BD14: N | BE14: N | BF14: N | BG14: N | BH14: N | BI14: N | BJ14: N | BK14: N | BL14: N | BM14: N | BN14: N | BO14: N | BP14: N | BQ14: N | BR14: N | BS14: N | BT14: N | BU14: N | BV14: N | BW14: N
A15: HLIXIU170 | B15: =VLOOKUP(M15,'APAC Dump'!D:D,1,0) -> HLIXIU170 | C15: =VLOOKUP(M15,'EMEA Dump'!D:D,1,0) -> #N/A | D15: =VLOOKUP(M15,'NAM Dump'!E:E,1,0) -> #N/A | F15: APAC | G15: HK | K15: iAD | M15: HLIXIU170 | N15: 169.165.5.11 | O15: Unix | P15: Storage solution enabler server | Q15: UAT | R15: ssh | T15: N | U15: N | V15: N | X15: Y | Y15: Y | Z15: Y | AA15: Y | AB15: Y | AC15: Y | AF15: N | AG15: N | AH15: N | AJ15: N | AK15: N | AL15: N | AM15: N | AN15: N | AO15: N | AR15: N | AS15: N | AT15: N | AU15: N | AV15: N | AW15: N | AX15: N | AY15: N | AZ15: N | BA15: N | BC15: N | BD15: N | BE15: N | BF15: N | BG15: N | BH15: N | BI15: N | BJ15: N | BK15: N | BL15: N | BM15: N | BN15: N | BO15: N | BP15: N | BQ15: N | BR15: N | BS15: N | BT15: N | BU15: N | BV15: N | BW15: N
A16: HKASTCTILXSAN1C | B16: =VLOOKUP(M16,'APAC Dump'!D:D,1,0) -> HKASTCTILXSAN1C | C16: =VLOOKUP(M16,'EMEA Dump'!D:D,1,0) -> #N/A | D16: =VLOOKUP(M16,'NAM Dump'!E:E,1,0) -> #N/A | F16: APAC | G16: HK | K16: AST | M16: HKASTCTILXSAN1C | N16: 169.165.100.223 | O16: Unix | P16: Storage solution enabler server | Q16: COB | R16: ssh | T16: N | U16: N | V16: N | X16: Y | Y16: Y | Z16: Y | AA16: Y | AB16: Y | AC16: Y | AF16: N | AG16: N | AH16: N | AJ16: N | AK16: N | AL16: N | AM16: N | AN16: N | AO16: N | AR16: N | AS16: N | AT16: N | AU16: N | AV16: N | AW16: N | AX16: N | AY16: N | AZ16: N | BA16: N | BC16: N | BD16: N | BE16: N | BF16: N | BG16: N | BH16: N | BI16: N | BJ16: N | BK16: N | BL16: N | BM16: N | BN16: N | BO16: N | BP16: N | BQ16: N | BR16: N | BS16: N | BT16: N | BU16: Y | BV16: N | BW16: N
A17: HKASTCTILXSAN2C | B17: =VLOOKUP(M17,'APAC Dump'!D:D,1,0) -> HKASTCTILXSAN2C | C17: =VLOOKUP(M17,'EMEA Dump'!D:D,1,0) -> #N/A | D17: =VLOOKUP(M17,'NAM Dump'!E:E,1,0) -> #N/A | F17: APAC | G17: HK | K17: AST | M17: HKASTCTILXSAN2C | N17: 169.165.100.224 | O17: Unix | P17: Storage solution enabler server | Q17: COB | R17: ssh | T17: N | U17: N | V17: N | X17: Y | Y17: Y | Z17: Y | AA17: Y | AB17: Y | AC17: Y | AF17: N | AG17: N | AH17: N | AJ17: N | AK17: N | AL17: N | AM17: N | AN17: N | AO17: N | AR17: N | AS17: N | AT17: N | AU17: N | AV17: N | AW17: N | AX17: N | AY17: N | AZ17: N | BA17: N | BC17: N | BD17: N | BE17: N | BF17: N | BG17: N | BH17: N | BI17: N | BJ17: N | BK17: N | BL17: N | BM17: N | BN17: N | BO17: N | BP17: N | BQ17: N | BR17: N | BS17: N | BT17: N | BU17: Y | BV17: N | BW17: N
A18: SGCTCTILXSAN1P | B18: =VLOOKUP(M18,'APAC Dump'!D:D,1,0) -> SGCTCTILXSAN1P | C18: =VLOOKUP(M18,'EMEA Dump'!D:D,1,0) -> #N/A | D18: =VLOOKUP(M18,'NAM Dump'!E:E,1,0) -> #N/A | F18: APAC | G18: SG | K18: SG | M18: SGCTCTILXSAN1P | N18: 10.85.70.80 | O18: Unix | P18: Storage solution enabler server | Q18: PROD | R18: ssh | T18: N | U18: N | V18: N | X18: Y | Y18: Y | Z18: Y | AA18: Y | AB18: Y | AC18: Y | AF18: N | AG18: N | AH18: N | AJ18: N | AK18: N | AL18: N | AM18: N | AN18: N | AO18: N | AR18: N | AS18: N | AT18: N | AU18: N | AV18: N | AW18: N | AX18: N | AY18: N | AZ18: N | BA18: N | BC18: N | BD18: N | BE18: N | BF18: N | BG18: N | BH18: N | BI18: N | BJ18: N | BK18: N | BL18: N | BM18: N | BN18: N | BO18: N | BP18: N | BQ18: N | BR18: N | BS18: N | BT18: N | BU18: Y | BV18: N | BW18: N
A19: SGCTCTILXSAN2P | B19: =VLOOKUP(M19,'APAC Dump'!D:D,1,0) -> SGCTCTILXSAN2P | C19: =VLOOKUP(M19,'EMEA Dump'!D:D,1,0) -> #N/A | D19: =VLOOKUP(M19,'NAM Dump'!E:E,1,0) -> #N/A | F19: APAC | G19: SG | K19: SG | M19: SGCTCTILXSAN2P | N19: 10.85.70.81 | O19: Unix | P19: Storage solution enabler server | Q19: PROD | R19: ssh | T19: N | U19: N | V19: N | X19: Y | Y19: Y | Z19: Y | AA19: Y | AB19: Y | AC19: Y | AF19: N | AG19: N | AH19: N | AJ19: N | AK19: N | AL19: N | AM19: N | AN19: N | AO19: N | AR19: N | AS19: N | AT19: N | AU19: N | AV19: N | AW19: N | AX19: N | AY19: N | AZ19: N | BA19: N | BC19: N | BD19: N | BE19: N | BF19: N | BG19: N | BH19: N | BI19: N | BJ19: N | BK19: N | BL19: N | BM19: N | BN19: N | BO19: N | BP19: N | BQ19: N | BR19: N | BS19: N | BT19: N | BU19: Y | BV19: N | BW19: N
A20: SLIXIP167 | B20: =VLOOKUP(M20,'APAC Dump'!D:D,1,0) -> SLIXIP167 | C20: =VLOOKUP(M20,'EMEA Dump'!D:D,1,0) -> #N/A | D20: =VLOOKUP(M20,'NAM Dump'!E:E,1,0) -> #N/A | F20: APAC | G20: SG | K20: SG | M20: SLIXIP167 | N20: 169.179.108.69 | O20: Unix | P20: Storage solution enabler server | Q20: PROD | R20: ssh | T20: N | U20: N | V20: N | X20: Y | Y20: Y | Z20: Y | AA20: Y | AB20: Y | AC20: Y | AF20: N | AG20: N | AH20: N | AJ20: N | AK20: N | AL20: N | AM20: N | AN20: N | AO20: N | AR20: N | AS20: N | AT20: N | AU20: N | AV20: N | AW20: N | AX20: N | AY20: N | AZ20: N | BA20: N | BC20: N | BD20: N | BE20: N | BF20: N | BG20: N | BH20: N | BI20: N | BJ20: N | BK20: N | BL20: N | BM20: N | BN20: N | BO20: N | BP20: N | BQ20: N | BR20: N | BS20: N | BT20: N | BU20: Y | BV20: N | BW20: N
A21: SLIXIP168 | B21: =VLOOKUP(M21,'APAC Dump'!D:D,1,0) -> SLIXIP168 | C21: =VLOOKUP(M21,'EMEA Dump'!D:D,1,0) -> #N/A | D21: =VLOOKUP(M21,'NAM Dump'!E:E,1,0) -> #N/A | F21: APAC | G21: SG | K21: SG | M21: SLIXIP168 | N21: 169.178.149.5 | O21: Unix | P21: Storage solution enabler server | Q21: PROD | R21: ssh | T21: N | U21: N | V21: N | X21: Y | Y21: Y | Z21: Y | AA21: Y | AB21: Y | AC21: Y | AF21: N | AG21: N | AH21: N | AJ21: N | AK21: N | AL21: N | AM21: N | AN21: N | AO21: N | AR21: N | AS21: N | AT21: N | AU21: N | AV21: N | AW21: N | AX21: N | AY21: N | AZ21: N | BA21: N | BC21: N | BD21: N | BE21: N | BF21: N | BG21: N | BH21: N | BI21: N | BJ21: N | BK21: N | BL21: N | BM21: N | BN21: N | BO21: N | BP21: N | BQ21: N | BR21: N | BS21: N | BT21: N | BU21: Y | BV21: N | BW21: N
A22: HLIXIU634 | B22: =VLOOKUP(M22,'APAC Dump'!D:D,1,0) -> HLIXIU634 | C22: =VLOOKUP(M22,'EMEA Dump'!D:D,1,0) -> #N/A | D22: =VLOOKUP(M22,'NAM Dump'!E:E,1,0) -> #N/A | F22: APAC | G22: HK | K22: AST | M22: HLIXIU634 | N22: 169.179.82.11 | O22: Unix | P22: Storage solution enabler server | Q22: COB | R22: ssh | T22: N | U22: N | V22: N | X22: Y | Y22: Y | Z22: Y | AA22: Y | AB22: Y | AC22: Y | AF22: N | AG22: N | AH22: N | AJ22: N | AK22: N | AL22: N | AM22: N | AN22: N | AO22: N | AR22: N | AS22: N | AT22: N | AU22: N | AV22: N | AW22: N | AX22: N | AY22: N | AZ22: N | BA22: N | BC22: N | BD22: N | BE22: N | BF22: N | BG22: N | BH22: N | BI22: N | BJ22: N | BK22: N | BL22: N | BM22: N | BN22: N | BO22: N | BP22: N | BQ22: N | BR22: N | BS22: N | BT22: N | BU22: N | BV22: N | BW22: N
A23: HLIXIU633 | B23: =VLOOKUP(M23,'APAC Dump'!D:D,1,0) -> HLIXIU633 | C23: =VLOOKUP(M23,'EMEA Dump'!D:D,1,0) -> #N/A | D23: =VLOOKUP(M23,'NAM Dump'!E:E,1,0) -> #N/A | F23: APAC | G23: HK | K23: iAD | M23: HLIXIU633 | N23: 169.181.17.24 | O23: Unix | P23: Storage solution enabler server | Q23: COB | R23: ssh | T23: N | U23: N | V23: N | X23: Y | Y23: Y | Z23: Y | AA23: Y | AB23: Y | AC23: Y | AF23: N | AG23: N | AH23: N | AJ23: N | AK23: N | AL23: N | AM23: N | AN23: N | AO23: N | AR23: N | AS23: N | AT23: N | AU23: N | AV23: N | AW23: N | AX23: N | AY23: N | AZ23: N | BA23: N | BC23: N | BD23: N | BE23: N | BF23: N | BG23: N | BH23: N | BI23: N | BJ23: N | BK23: N | BL23: N | BM23: N | BN23: N | BO23: N | BP23: N | BQ23: N | BR23: N | BS23: N | BT23: N | BU23: N | BV23: N | BW23: N
... A53: APACHKEXHMGTV01 | B53: =VLOOKUP(M53,'APAC Dump'!D:D,1,0) -> APACHKEXHMGTV01 | C53: =VLOOKUP(M53,'EMEA Dump'!D:D,1,0) -> #N/A | D53: =VLOOKUP(M53,'NAM Dump'!E:E,1,0) -> #N/A | F53: APAC | G53: HK | K53: AST | M53: APACHKEXHMGTV01 | N53: 10.171.81.94 | O53: Wintel | P53: CX/VNX Unisphere | Q53: COB | R53: RDP | T53: N | U53: N | V53: N | X53: Y | Y53: Y | Z53: Y | AA53: Y | AB53: Y | AC53: Y | AF53: N | AG53: N | AH53: N | AJ53: N | AK53: N | AL53: N | AM53: N | AN53: N | AO53: N | AR53: N | AS53: N | AT53: N | AU53: N | AV53: N | AW53: N | AX53: N | AY53: N | AZ53: N | BA53: N | BC53: N | BD53: N | BE53: N | BF53: N | BG53: N | BH53: N | BI53: N | BJ53: N | BK53: N | BL53: N | BM53: N | BN53: N | BO53: N | BP53: N | BQ53: N | BR53: N | BS53: N | BT53: N | BU53: N | BV53: N | BW53: N
A54: cgcctisanla01p | B54: =VLOOKUP(M54,'APAC Dump'!D:D,1,0) -> #N/A | C54: =VLOOKUP(M54,'EMEA Dump'!D:D,1,0) -> cgcctisanla01p | D54: =VLOOKUP(M54,'NAM Dump'!E:E,1,0) -> #N/A | F54: EMEA | G54: UK | I54: London | J54: CGC | M54: cgcctisanla01p | N54: 169.194.35.240 | O54: Linux | P54: Linux SAN management server | R54: ssh | T54: N | U54: N | V54: N | X54: N | Y54: N | Z54: N | AA54: N | AB54: N | AC54: N | AF54: N | AG54: N | AH54: N | AJ54: Y | AK54: Y | AL54: Y | AM54: Y | AN54: Y | AO54: Y | AR54: N | AS54: N | AT54: N | AU54: N | AV54: N | AW54: N | AX54: N | AY54: N | AZ54: N | BA54: N | BC54: N | BD54: N | BE54: N | BF54: N | BG54: N | BH54: N | BI54: N | BJ54: N | BK54: N | BL54: N | BM54: N | BN54: N | BO54: N | BP54: N | BQ54: N | BR54: N | BS54: N | BT54: N | BU54: N | BV54: N | BW54: N
A55: cgcctisanla02p | B55: =VLOOKUP(M55,'APAC Dump'!D:D,1,0) -> #N/A | C55: =VLOOKUP(M55,'EMEA Dump'!D:D,1,0) -> cgcctisanla02p | D55: =VLOOKUP(M55,'NAM Dump'!E:E,1,0) -> #N/A | F55: EMEA | G55: UK | I55: London | J55: CGC | M55: cgcctisanla02p | N55: 169.194.35.239 | O55: Linux | P55: Linux SAN management server | R55: ssh | T55: N | U55: N | V55: N | X55: N | Y55: N | Z55: N | AA55: N | AB55: N | AC55: N | AF55: N | AG55: N | AH55: N | AJ55: Y | AK55: Y | AL55: Y | AM55: Y | AN55: Y | AO55: Y | AR55: N | AS55: N | AT55: N | AU55: N | AV55: N | AW55: N | AX55: N | AY55: N | AZ55: N | BA55: N | BC55: N | BD55: N | BE55: N | BF55: N | BG55: N | BH55: N | BI55: N | BJ55: N | BK55: N | BL55: N | BM55: N | BN55: N | BO55: N | BP55: N | BQ55: N | BR55: N | BS55: N | BT55: N | BU55: N | BV55: N | BW55: N
A56: rgcctisanla01p | B56: =VLOOKUP(M56,'APAC Dump'!D:D,1,0) -> #N/A | C56: =VLOOKUP(M56,'EMEA Dump'!D:D,1,0) -> rgcctisanla01p | D56: =VLOOKUP(M56,'NAM Dump'!E:E,1,0) -> #N/A | F56: EMEA | G56: UK | I56: London | J56: RDC | M56: rgcctisanla01p | N56: 169.182.137.64 | O56: Linux | P56: Linux SAN management server | R56: ssh | T56: N | U56: N | V56: N | X56: N | Y56: N | Z56: N | AA56: N | AB56: N | AC56: N | AF56: N | AG56: N | AH56: N | AJ56: Y | AK56: Y | AL56: Y | AM56: Y | AN56: Y | AO56: Y | AR56: N | AS56: N | AT56: N | AU56: N | AV56: N | AW56: N | AX56: N | AY56: N | AZ56: N | BA56: N | BC56: N | BD56: N | BE56: N | BF56: N | BG56: N | BH56: N | BI56: N | BJ56: N | BK56: N | BL56: N | BM56: N | BN56: N | BO56: N | BP56: N | BQ56: N | BR56: N | BS56: N | BT56: N | BU56: N | BV56: N | BW56: N
A57: rgcctisanla02p | B57: =VLOOKUP(M57,'APAC Dump'!D:D,1,0) -> #N/A | C57: =VLOOKUP(M57,'EMEA Dump'!D:D,1,0) -> rgcctisanla02p | D57: =VLOOKUP(M57,'NAM Dump'!E:E,1,0) -> #N/A | F57: EMEA | G57: UK | I57: London | J57: RDC | M57: rgcctisanla02p | N57: 169.182.137.72 | O57: Linux | P57: Linux SAN management server | R57: ssh | T57: N | U57: N | V57: N | X57: N | Y57: N | Z57: N | AA57: N | AB57: N | AC57: N | AF57: N | AG57: N | AH57: N | AJ57: Y | AK57: Y | AL57: Y | AM57: Y | AN57: Y | AO57: Y | AR57: N | AS57: N | AT57: N | AU57: N | AV57: N | AW57: N | AX57: N | AY57: N | AZ57: N | BA57: N | BC57: N | BD57: N | BE57: N | BF57: N | BG57: N | BH57: N | BI57: N | BJ57: N | BK57: N | BL57: N | BM57: N | BN57: N | BO57: N | BP57: N | BQ57: N | BR57: N | BS57: N | BT57: N | BU57: N | BV57: N | BW57: N
A58: rgcctisanla03p | B58: =VLOOKUP(M58,'APAC Dump'!D:D,1,0) -> #N/A | C58: =VLOOKUP(M58,'EMEA Dump'!D:D,1,0) -> rgcctisanla03p | D58: =VLOOKUP(M58,'NAM Dump'!E:E,1,0) -> #N/A | F58: EMEA | G58: UK | I58: London | J58: RDC | M58: rgcctisanla03p | N58: 169.182.80.191 | O58: Linux | P58: IBM XIV ISIS/XRSC (in deployment) | R58: ssh | T58: N | U58: N | V58: N | X58: N | Y58: N | Z58: N | AA58: N | AB58: N | AC58: N | AF58: N | AG58: N | AH58: N | AJ58: Y | AK58: Y | AL58: Y | AM58: Y | AN58: Y | AO58: Y | AR58: N | AS58: N | AT58: N | AU58: N | AV58: N | AW58: N | AX58: N | AY58: N | AZ58: N | BA58: N | BC58: N | BD58: N | BE58: N | BF58: N | BG58: N | BH58: N | BI58: N | BJ58: N | BK58: N | BL58: N | BM58: N | BN58: N | BO58: N | BP58: N | BQ58: N | BR58: N | BS58: N | BT58: N | BU58: N | BV58: N | BW58: N
A59: rgcctisanla04p | B59: =VLOOKUP(M59,'APAC Dump'!D:D,1,0) -> #N/A | C59: =VLOOKUP(M59,'EMEA Dump'!D:D,1,0) -> rgcctisanla04p | D59: =VLOOKUP(M59,'NAM Dump'!E:E,1,0) -> #N/A | F59: EMEA | G59: UK | I59: London | J59: RDC | M59: rgcctisanla04p | N59: 10.134.170.53 | O59: Linux | P59: Linux SAN management server (MSC) | R59: ssh | T59: N | U59: N | V59: N | X59: N | Y59: N | Z59: N | AA59: N | AB59: N | AC59: N | AF59: N | AG59: N | AH59: N | AJ59: Y | AK59: Y | AL59: Y | AM59: Y | AN59: Y | AO59: Y | AR59: N | AS59: N | AT59: N | AU59: N | AV59: N | AW59: N | AX59: N | AY59: N | AZ59: N | BA59: N | BC59: N | BD59: N | BE59: N | BF59: N | BG59: N | BH59: N | BI59: N | BJ59: N | BK59: N | BL59: N | BM59: N | BN59: N | BO59: N | BP59: N | BQ59: N | BR59: N | BS59: N | BT59: N | BU59: N | BV59: N | BW59: N
A60: rgcctisanla05p | B60: =VLOOKUP(M60,'APAC Dump'!D:D,1,0) -> #N/A | C60: =VLOOKUP(M60,'EMEA Dump'!D:D,1,0) -> rgcctisanla05p | D60: =VLOOKUP(M60,'NAM Dump'!E:E,1,0) -> #N/A | F60: EMEA | G60: UK | I60: London | J60: RDC | M60: rgcctisanla05p | N60: 10.134.170.54 | O60: Linux | P60: Linux SAN management server (MSC) | R60: ssh | T60: N | U60: N | V60: N | X60: N | Y60: N | Z60: N | AA60: N | AB60: N | AC60: N | AF60: N | AG60: N | AH60: N | AJ60: Y | AK60: Y | AL60: Y | AM60: Y | AN60: Y | AO60: Y | AR60: N | AS60: N | AT60: N | AU60: N | AV60: N | AW60: N | AX60: N | AY60: N | AZ60: N | BA60: N | BC60: N | BD60: N | BE60: N | BF60: N | BG60: N | BH60: N | BI60: N | BJ60: N | BK60: N | BL60: N | BM60: N | BN60: N | BO60: N | BP60: N | BQ60: N | BR60: N | BS60: N | BT60: N | BU60: N | BV60: N | BW60: N
A61: ldnctisvcm001 | B61: =VLOOKUP(M61,'APAC Dump'!D:D,1,0) -> #N/A | C61: =VLOOKUP(M61,'EMEA Dump'!D:D,1,0) -> ldnctisvcm001 | D61: =VLOOKUP(M61,'NAM Dump'!E:E,1,0) -> #N/A | F61: EMEA | G61: UK | I61: London | J61: RDC 4 | K61: A10 | M61: ldnctisvcm001 | O61: AIX | P61: Connectrix Manager/Centera management station | T61: N | U61: N | V61: N | X61: N | Y61: N | Z61: N | AA61: N | AB61: N | AC61: N | AF61: N | AG61: N | AH61: N | AJ61: Y | AK61: Y | AL61: Y | AM61: Y | AN61: Y | AO61: Y | AR61: N | AS61: N | AT61: N | AU61: N | AV61: N | AW61: N | AX61: N | AY61: N | AZ61: N | BA61: N | BC61: N | BD61: N | BE61: N | BF61: N | BG61: N | BH61: N | BI61: N | BJ61: N | BK61: N | BL61: N | BM61: N | BN61: N | BO61: N | BP61: N | BQ61: N | BR61: N | BS61: N | BT61: N | BU61: N | BV61: N | BW61: N
A62: ldnctisvhm001 | B62: =VLOOKUP(M62,'APAC Dump'!D:D,1,0) -> #N/A | C62: =VLOOKUP(M62,'EMEA Dump'!D:D,1,0) -> ldnctisvhm001 | D62: =VLOOKUP(M62,'NAM Dump'!E:E,1,0) -> #N/A | F62: EMEA | G62: UK | I62: London | J62: RDC 4 | K62: A10 | M62: ldnctisvhm001 | O62: AIX | P62: Hitachi Storage Navigator | T62: N | U62: N | V62: N | X62: N | Y62: N | Z62: N | AA62: N | AB62: N | AC62: N | AF62: N | AG62: N | AH62: N | AJ62: Y | AK62: Y | AL62: Y | AM62: Y | AN62: Y | AO62: Y | AR62: N | AS62: N | AT62: N | AU62: N | AV62: N | AW62: N | AX62: N | AY62: N | AZ62: N | BA62: N | BC62: N | BD62: N | BE62: N | BF62: N | BG62: N | BH62: N | BI62: N | BJ62: N | BK62: N | BL62: N | BM62: N | BN62: N | BO62: N | BP62: N | BQ62: N | BR62: N | BS62: N | BT62: N | BU62: N | BV62: N | BW62: N
A63: ldnctisvhm002 | B63: =VLOOKUP(M63,'APAC Dump'!D:D,1,0) -> #N/A | C63: =VLOOKUP(M63,'EMEA Dump'!D:D,1,0) -> ldnctisvhm002 | D63: =VLOOKUP(M63,'NAM Dump'!E:E,1,0) -> #N/A | F63: EMEA | G63: UK | I63: London | J63: RDC 4 | K63: A10 | M63: ldnctisvhm002 | O63: AIX | P63: Hitachi Command Suite | T63: N | U63: N | V63: N | X63: N | Y63: N | Z63: N | AA63: N | AB63: N | AC63: N | AF63: N | AG63: N | AH63: N | AJ63: Y | AK63: Y | AL63: Y | AM63: Y | AN63: Y | AO63: Y | AR63: N | AS63: N | AT63: N | AU63: N | AV63: N | AW63: N | AX63: N | AY63: N | AZ63: N | BA63: N | BC63: N | BD63: N | BE63: N | BF63: N | BG63: N | BH63: N | BI63: N | BJ63: N | BK63: N | BL63: N | BM63: N | BN63: N | BO63: N | BP63: N | BQ63: N | BR63: N | BS63: N | BT63: N | BU63: N | BV63: N | BW63: N
A64: LDNCTISAHDS001 | B64: =VLOOKUP(M64,'APAC Dump'!D:D,1,0) -> #N/A | C64: =VLOOKUP(M64,'EMEA Dump'!D:D,1,0) -> LDNCTISAHDS001 | D64: =VLOOKUP(M64,'NAM Dump'!E:E,1,0) -> #N/A | F64: EMEA | G64: UK | I64: London | M64: LDNCTISAHDS001 | N64: 10.154.174.55 | P64: Hitachi RACC | T64: N | U64: N | V64: N | X64: N | Y64: N | Z64: N | AA64: N | AB64: N | AC64: N | AF64: N | AG64: N | AH64: N | AJ64: Y | AK64: Y | AL64: Y | AM64: Y | AN64: Y | AO64: Y | AR64: N | AS64: N | AT64: N | AU64: N | AV64: N | AW64: N | AX64: N | AY64: N | AZ64: N | BA64: N | BC64: N | BD64: N | BE64: N | BF64: N | BG64: N | BH64: N | BI64: N | BJ64: N | BK64: N | BL64: N | BM64: N | BN64: N | BO64: N | BP64: N | BQ64: N | BR64: N | BS64: N | BT64: N | BU64: Y | BV64: N | BW64: N
A65: LDNCTISVEA001 | B65: =VLOOKUP(M65,'APAC Dump'!D:D,1,0) -> #N/A | C65: =VLOOKUP(M65,'EMEA Dump'!D:D,1,0) -> LDNCTISVEA001 | D65: =VLOOKUP(M65,'NAM Dump'!E:E,1,0) -> #N/A | F65: EMEA | G65: UK | I65: London | M65: LDNCTISVEA001 | P65: EMC ESRS Gateway | T65: N | U65: N | V65: N | X65: N | Y65: N | Z65: N | AA65: N | AB65: N | AC65: N | AF65: N | AG65: N | AH65: N | AJ65: Y | AK65: Y | AL65: Y | AM65: Y | AN65: Y | AO65: Y | AR65: N | AS65: N | AT65: N | AU65: N | AV65: N | AW65: N | AX65: N | AY65: N | AZ65: N | BA65: N | BC65: N | BD65: N | BE65: N | BF65: N | BG65: N | BH65: N | BI65: N | BJ65: N | BK65: N | BL65: N | BM65: N | BN65: N | BO65: N | BP65: N | BQ65: N | BR65: N | BS65: N | BT65: N | BU65: N | BV65: N | BW65: N
A66: LDNCTISVEA002 | B66: =VLOOKUP(M66,'APAC Dump'!D:D,1,0) -> #N/A | C66: =VLOOKUP(M66,'EMEA Dump'!D:D,1,0) -> LDNCTISVEA002 | D66: =VLOOKUP(M66,'NAM Dump'!E:E,1,0) -> #N/A | F66: EMEA | G66: UK | I66: London | M66: LDNCTISVEA002 | P66: EMC ESRS Gateway | T66: N | U66: N | V66: N | X66: N | Y66: N | Z66: N | AA66: N | AB66: N | AC66: N | AF66: N | AG66: N | AH66: N | AJ66: Y | AK66: Y | AL66: Y | AM66: Y | AN66: Y | AO66: Y | AR66: N | AS66: N | AT66: N | AU66: N | AV66: N | AW66: N | AX66: N | AY66: N | AZ66: N | BA66: N | BC66: N | BD66: N | BE66: N | BF66: N | BG66: N | BH66: N | BI66: N | BJ66: N | BK66: N | BL66: N | BM66: N | BN66: N | BO66: N | BP66: N | BQ66: N | BR66: N | BS66: N | BT66: N | BU66: N | BV66: N | BW66: N
A67: LDNCTISVEA004 | B67: =VLOOKUP(M67,'APAC Dump'!D:D,1,0) -> #N/A | C67: =VLOOKUP(M67,'EMEA Dump'!D:D,1,0) -> LDNCTISVEA004 | D67: =VLOOKUP(M67,'NAM Dump'!E:E,1,0) -> #N/A | F67: EMEA | G67: UK | I67: London | M67: LDNCTISVEA004 | P67: EMC ESRS Gateway | T67: N | U67: N | V67: N | X67: N | Y67: N | Z67: N | AA67: N | AB67: N | AC67: N | AF67: N | AG67: N | AH67: N | AJ67: Y | AK67: Y | AL67: Y | AM67: Y | AN67: Y | AO67: Y | AR67: N | AS67: N | AT67: N | AU67: N | AV67: N | AW67: N | AX67: N | AY67: N | AZ67: N | BA67: N | BC67: N | BD67: N | BE67: N | BF67: N | BG67: N | BH67: N | BI67: N | BJ67: N | BK67: N | BL67: N | BM67: N | BN67: N | BO67: N | BP67: N | BQ67: N | BR67: N | BS67: N | BT67: N | BU67: N | BV67: N | BW67: N
A68: LDNCTISVEA005 | B68: =VLOOKUP(M68,'APAC Dump'!D:D,1,0) -> #N/A | C68: =VLOOKUP(M68,'EMEA Dump'!D:D,1,0) -> LDNCTISVEA005 | D68: =VLOOKUP(M68,'NAM Dump'!E:E,1,0) -> #N/A | F68: EMEA | G68: UK | I68: London | M68: LDNCTISVEA005 | P68: EMC ESRS Gateway | T68: N | U68: N | V68: N | X68: N | Y68: N | Z68: N | AA68: N | AB68: N | AC68: N | AF68: N | AG68: N | AH68: N | AJ68: Y | AK68: Y | AL68: Y | AM68: Y | AN68: Y | AO68: Y | AR68: N | AS68: N | AT68: N | AU68: N | AV68: N | AW68: N | AX68: N | AY68: N | AZ68: N | BA68: N | BC68: N | BD68: N | BE68: N | BF68: N | BG68: N | BH68: N | BI68: N | BJ68: N | BK68: N | BL68: N | BM68: N | BN68: N | BO68: N | BP68: N | BQ68: N | BR68: N | BS68: N | BT68: N | BU68: N | BV68: N | BW68: N
A69: LDNCTISVEA006 | B69: =VLOOKUP(M69,'APAC Dump'!D:D,1,0) -> #N/A | C69: =VLOOKUP(M69,'EMEA Dump'!D:D,1,0) -> LDNCTISVEA006 | D69: =VLOOKUP(M69,'NAM Dump'!E:E,1,0) -> #N/A | F69: EMEA | G69: UK | I69: London | M69: LDNCTISVEA006 | P69: EMC ESRS Gateway | T69: N | U69: N | V69: N | X69: N | Y69: N | Z69: N | AA69: N | AB69: N | AC69: N | AF69: N | AG69: N | AH69: N | AJ69: Y | AK69: Y | AL69: Y | AM69: Y | AN69: Y | AO69: Y | AR69: N | AS69: N | AT69: N | AU69: N | AV69: N | AW69: N | AX69: N | AY69: N | AZ69: N | BA69: N | BC69: N | BD69: N | BE69: N | BF69: N | BG69: N | BH69: N | BI69: N | BJ69: N | BK69: N | BL69: N | BM69: N | BN69: N | BO69: N | BP69: N | BQ69: N | BR69: N | BS69: N | BT69: N | BU69: N | BV69: N | BW69: N
A70: ldnctisanav001 | B70: =VLOOKUP(M70,'APAC Dump'!D:D,1,0) -> #N/A | C70: =VLOOKUP(M70,'EMEA Dump'!D:D,1,0) -> ldnctisanav001 | D70: =VLOOKUP(M70,'NAM Dump'!E:E,1,0) -> #N/A | F70: EMEA | G70: UK | I70: London | J70: RDC | M70: ldnctisanav001 | N70: 169.182.100.160 | P70: AX4/CX4/VNX block/XIV management station | T70: N | U70: N | V70: N | X70: N | Y70: N | Z70: N | AA70: N | AB70: N | AC70: N | AF70: N | AG70: N | AH70: N | AJ70: Y | AK70: Y | AL70: Y | AM70: Y | AN70: Y | AO70: Y | AR70: N | AS70: N | AT70: N | AU70: N | AV70: N | AW70: N | AX70: N | AY70: N | AZ70: N | BA70: N | BC70: N | BD70: N | BE70: N | BF70: N | BG70: N | BH70: N | BI70: N | BJ70: N | BK70: N | BL70: N | BM70: N | BN70: N | BO70: N | BP70: N | BQ70: N | BR70: N | BS70: N | BT70: N | BU70: N | BV70: N | BW70: N
