Workbook

Sheet XIO_inventory
A1: City | B1: Assigned Name | C1: Serial # | D1: Rack Information | E1: IP RDP ( AD - APPC Domain)dress | F1: Current Code Level | G1: To be upgraded to | H1: Schedule date
A2: SINGAPORE | B2: sinctinasx8008 | C2: CKM00142501600 | D2: CT2L1-E-100W | E2: 163.36.186.176 | F2: 3.0.0-42 | G2: 3.0.1-11 | H2: 42068
A3: SINGAPORE | B3: sinctinasx8007 | C3: CKM00142601511 | D3: CT2L1-E-100W | E3: 163.36.186.175 | F3: 3.0.0-42 | G3: 3.0.1-11 | H3: 42068
A4: SINGAPORE | B4: sinctinasx8006 | C4: CKM00140101266 | D4: CT2L1-I-100U | E4: 163.36.186.174 | F4: 3.0.0-42 | G4: 3.0.1-11 | H4: 42068
A5: SINGAPORE | B5: sinctinasx8005 | C5: CKM00142501085 | D5: CT2L1-I-100U | E5: 163.36.186.173 | F5: 3.0.0-42 | G5: 3.0.1-11 | H5: 42068
A6: SINGAPORE | B6: sinctinasx8004 | C6: CKM00142500995 | D6: CT2L1-I-100S | E6: 163.36.186.172 | F6: 3.0.0-42 | G6: 3.0.1-11 | H6: 42282
A7: SINGAPORE | B7: sinctinasx8003 | C7: CKM00142601275 | D7: CT2L1-I-100S | E7: 163.36.186.86 | F7: 3.0.0-42 | G7: 3.0.1-11 | H7: 42282
A8: SINGAPORE | B8: sinctinasx8002 | C8: CKM00140101436 | D8: CT2L1-I-104K | E8: 163.36.186.171 | F8: 3.0.0-42 | G8: 3.0.1-11 | H8: 42282
A9: SINGAPORE | B9: sinctinasx8001 | C9: CKM00140101248 | D9: CT2L1-I-104K | E9: 163.36.186.170 | F9: 3.0.0-42 | G9: 3.0.1-11 | H9: 42282
A10: HONG KONG | B10: hkgctinasx8001 | C10: CKM00140501045 | D10: AST3-DC5-I005 | E10: 163.36.108.163 | F10: 3.0.0-42 | G10: 3.0.1-11 | H10: 17/05/2015
A11: HONG KONG | B11: hkgctinasx8002 | C11: CKM00140501307 | D11: AST3-DC5-I005 | E11: 163.36.108.169 | F11: 3.0.0-42 | G11: 3.0.1-11 | H11: 17/05/2015
A12: HONG KONG | B12: hkgctinasx8003 | C12: CKM00141400023 | D12: AST3-DC5-I007 | E12: 163.36.108.186 | F12: 3.0.0-42 | G12: 3.0.1-11 | H12: 17/05/2015
A13: HONG KONG | B13: hkgctinasx8004 | C13: CKM00140501044 | D13: AST3-DC5-I007 | E13: 163.36.108.199 | F13: 3.0.0-42 | G13: 3.0.1-11 | H13: 17/05/2015
A14: HONG KONG | B14: hkgctinasx8005 | C14: CKM00142100388 | D14: AST3-DC5-I008 | E14: 163.36.108.202 | F14: 3.0.0-42 | G14: 3.0.1-11 | H14: 17/05/2015
A15: HONG KONG | B15: hkgctinasx8006 | C15: CKM00142100220 | D15: AST3-DC5-I008 | E15: 163.36.108.203 | F15: 3.0.0-42 | G15: 3.0.1-11 | H15: 24/05/2015
A16: HONG KONG | B16: hkgctinasx8007 | C16: CKM00142603405 | D16: AST3-DC5-I010 | E16: 163.36.108.204 | F16: 3.0.0-42 | G16: 3.0.1-11 | H16: 24/05/2015
A17: HONG KONG | B17: hkgctinasx8008 | C17: CKM00142502596 | D17: AST3-DC5-I010 | E17: 169.181.190.228 | F17: 3.0.0-42 | G17: 3.0.1-11 | H17: 24/05/2015
A20: Regards

Sheet Inventory
A1: Serial # | B1: Country | C1: City | D1: Site Address | E1: Asset Subtype | F1: Platform | G1: Vendor | H1: Model | I1: Assigned Name | J1: Serial# | K1: Rack Information | L1: IP Address to RDP ( AD - APPC Domain) | M1: Installation date | N1: Warranty End Date | O1: Maintenance Start Date | P1: Current Code Level | Q1: Latest CATE Supported Code Level | R1: EOVS End of Vendor Support | S1: EOSL End of Support Life | T1: Remarks | U1: Location | V1: Environment | W1: Mgmt Station | X1: Access to Mgmt Station | Y1: Access to Device | Z1: ECC/DCNM/Tuning Manager Access | AA1: Total installed Capacity ( Market Size in GB) | AB1: Total Installed Disks | AC1: Spare Disks | AD1: Disk Type 1 146GB | AE1: Disk Type 2 200GB | AF1: Disk Type 3 300GB | AG1: Disk Type 3 400GB | AH1: Disk Type 4 450GB | AI1: Disk Type 5 600GB | AJ1: Disk Type 6 650GB | AK1: Disk Type 7 1024GB | AL1: Disk Type 8 2048GB | AM1: Disk Type 9 3072GB | AN1: RAID TYPE | AO1: Usable Capacity | AP1: Installed FA ports | AQ1: No of Switch Modules X ports | AR1: Module Type 1 16Port | AS1: Module Type 2 24 port | AT1: Module Type 3 32 port | AU1: Module Type 4 48 port | AV1: Vendor Dail home Status | AW1: Citi Internal VT status | AX1: Citi Alaram Point / Scripted Alert | AY1: ECC Alert Status | AZ1: Code upgrRDP ( AD - APPC Domain)e Handled by | BA1: Log review | BB1: SBCC Q1-2015 | BC1: ESRS DUMP Reference | BD1: ESRS Status
A2: CK290105366 | B2: SINGAPORE | C2: SINGAPORE | D2: 75 SCIENCE PARK DRIVE, SINGAPORE SCIENCE PARK I | E2: SAN Storage | F2: SAN | G2: EMC | H2: SYMM DMX-4 2500 | I2: =J2 -> 290105366 | J2: 290105366 | K2: CT2B1-E32-E34 | L2: =VLOOKUP(J2,ESRS!A:E,5,0) -> 172.19.107.44 | M2: 39971 | N2: 42145 | O2: 42146 | P2: =VLOOKUP(J2,'SYMM Code upgrade'!A:W,8,0) -> #N/A | Q2: =VLOOKUP(J2,'SYMM Code upgrade'!A:J,10,0) -> #N/A | S2: 43008 | T2: n/a | U2: =LEFT(K2, 5) -> CT2B1 | V2: PROD | W2: slixip167 | X2: ssh (KRB) | Y2: pbrun ksh | Z2: APAC ECC Access Procedure | AA2: 49056 | AB2: 336 | AC2: 8 | AD2: 336 | AE2: 0 | AF2: 0 | AG2: 0 | AH2: 0 | AI2: 0 | AJ2: 0 | AK2: 0 | AL2: 0 | AM2: 0 | AN2: RAID-6 (6+2) | AO2: NA | AP2: 32 | AQ2: NA | AR2: NA | AS2: NA | AT2: NA | AU2: NA | AV2: Yes | AW2: No | AX2: No | AY2: YES | AZ2: Ganesh | BA2: SEMS | BC2: =VLOOKUP(J2,ESRS!A:E,1,0) -> 290105366 | BD2: Yes
A3: CK290301222 | B3: SINGAPORE | C3: SINGAPORE | D3: 75 SCIENCE PARK DRIVE, SINGAPORE SCIENCE PARK I | E3: SAN Storage | F3: SAN | G3: EMC | H3: SYMM DMX-3 950 | I3: =J3 -> 290301222 | J3: 290301222 | K3: CT2B1-E38 | L3: 172.19.107.45 | M3: 39992 | N3: 41670 | O3: 41671 | P3: =VLOOKUP(J3,'SYMM Code upgrade'!A:W,8,0) -> #N/A | Q3: =VLOOKUP(J3,'SYMM Code upgrade'!A:J,10,0) -> #N/A | S3: 42369 | T3: Tech-Refresh In-Progress | U3: =LEFT(K3, 5) -> CT2B1 | V3: PROD | W3: slixip167 | X3: ssh (KRB) | Y3: pbrun ksh | Z3: APAC ECC Access Procedure | AA3: 12848 | AB3: 88 | AC3: 8 | AD3: 88 | AE3: 0 | AF3: 0 | AG3: 0 | AH3: 0 | AI3: 0 | AJ3: 0 | AK3: 0 | AL3: 0 | AM3: 0 | AN3: RAID-6 (6+2) | AO3: NA | AP3: 8 | AQ3: NA | AR3: NA | AS3: NA | AT3: NA | AU3: NA | AV3: Yes | AW3: No | AX3: No | AY3: YES | AZ3: Ganesh | BC3: =VLOOKUP(J3,ESRS!A:E,1,0) -> 290301222 | BD3: Yes
A4: CK292600224 | B4: SINGAPORE | C4: SINGAPORE | D4: 75 SCIENCE PARK DRIVE, SINGAPORE SCIENCE PARK I | E4: SAN Storage | F4: SAN | G4: EMC | H4: SYMM VMAX-1 | I4: =J4 -> 292600224 | J4: 292600224 | K4: CT2B1-E40-42 | L4: 172.19.107.50 | M4: 40032 | N4: 41670 | O4: 41670 | P4: =VLOOKUP(J4,'SYMM Code upgrade'!A:W,8,0) -> #N/A | Q4: =VLOOKUP(J4,'SYMM Code upgrade'!A:J,10,0) -> #N/A | S4: 0-Jan-00 | T4: n/a | U4: =LEFT(K4, 5) -> CT2B1 | V4: PROD | W4: slixip167 | X4: ssh (KRB) | Y4: pbrun ksh | Z4: APAC ECC Access Procedure | AA4: 36592 | AB4: 200 | AC4: 8 | AD4: 152 | AE4: 0 | AF4: 48 | AG4: 0 | AH4: 0 | AI4: 0 | AJ4: 0 | AK4: 0 | AL4: 0 | AM4: 0 | AN4: RAID-6 (14+2) | AO4: NA | AP4: 32 | AQ4: NA | AR4: NA | AS4: NA | AT4: NA | AU4: NA | AV4: Yes | AW4: No | AX4: No | AY4: YES | AZ4: Ganesh | BC4: =VLOOKUP(J4,ESRS!A:E,1,0) -> 292600224 | BD4: Yes
A5: CK292602662 | B5: SINGAPORE | C5: SINGAPORE | D5: 75 SCIENCE PARK DRIVE, SINGAPORE SCIENCE PARK I | E5: SAN Storage | F5: SAN | G5: EMC | H5: SYMM VMAX 1 | I5: =J5 -> 292602662 | J5: 292602662 | K5: CT2B1-E79-81 | L5: 172.19.107.93 | M5: 40622 | N5: 42082 | O5: 42074 | P5: =VLOOKUP(J5,'SYMM Code upgrade'!A:W,8,0) -> #N/A | Q5: =VLOOKUP(J5,'SYMM Code upgrade'!A:J,10,0) -> #N/A | S5: 0-Jan-00 | T5: n/a | U5: =LEFT(K5, 5) -> CT2B1 | V5: PROD | W5: slixip167 | X5: ssh (KRB) | Y5: pbrun ksh | Z5: APAC ECC Access Procedure | AA5: 107000 | AB5: 245 | AC5: 9 | AD5: 0 | AE5: 13 | AF5: 0 | AG5: 0 | AH5: 232 | AI5: 0 | AJ5: 0 | AK5: 0 | AL5: 0 | AM5: 0 | AN5: RAID-5 (7+1) RAID-6 (14+2) | AO5: NA | AP5: 32 | AQ5: NA | AR5: NA | AS5: NA | AT5: NA | AU5: NA | AV5: Yes | AW5: No | AX5: No | AY5: YES | AZ5: Ganesh | BC5: =VLOOKUP(J5,ESRS!A:E,1,0) -> 292602662 | BD5: Yes
A6: CK292603607 | B6: SINGAPORE | C6: SINGAPORE | D6: 75 SCIENCE PARK DRIVE, SINGAPORE SCIENCE PARK I | E6: SAN Storage | F6: SAN | G6: EMC | H6: SYMM VMAX-1 | I6: =J6 -> 292603607 | J6: 292603607 | K6: CT2B1 E- Row 51 | L6: =VLOOKUP(J6,ESRS!A:E,5,0) -> 172.19.107.74 | M6: 41124 | N6: 42584 | O6: 42585 | P6: =VLOOKUP(J6,'SYMM Code upgrade'!A:W,8,0) -> #N/A | Q6: =VLOOKUP(J6,'SYMM Code upgrade'!A:J,10,0) -> #N/A | S6: 0-Jan-00 | T6: n/a | U6: =LEFT(K6, 5) -> CT2B1 | V6: PROD | W6: slixip167 | X6: ssh (KRB) | Y6: pbrun ksh | Z6: APAC ECC Access Procedure | AA6: 94200 | AB6: 314 | AC6: 10 | AD6: 0 | AE6: 0 | AF6: 314 | AG6: 0 | AH6: 0 | AI6: 0 | AJ6: 0 | AK6: 0 | AL6: 0 | AM6: 0 | AN6: RAID-6 (6+2) | AO6: NA | AP6: 48 | AQ6: NA | AR6: NA | AS6: NA | AT6: NA | AU6: NA | AV6: Yes | AW6: No | AX6: No | AY6: YES | AZ6: Ganesh | BC6: =VLOOKUP(J6,ESRS!A:E,1,0) -> 292603607 | BD6: Yes
A7: CK292603613 | B7: SINGAPORE | C7: SINGAPORE | D7: 75 SCIENCE PARK DRIVE, SINGAPORE SCIENCE PARK I | E7: SAN Storage | F7: SAN | G7: EMC | H7: SYMM VMAX6 | I7: 292603613 | J7: 292603613 | K7: CT2B1-E-004BY / BW / BX / BU | L7: =VLOOKUP(J7,ESRS!A:E,5,0) -> 172.19.107.75 | M7: 41392 | N7: 42583 | O7: 42584 | P7: =VLOOKUP(J7,'SYMM Code upgrade'!A:W,8,0) -> #N/A | Q7: =VLOOKUP(J7,'SYMM Code upgrade'!A:J,10,0) -> #N/A | S7: 0-Jan-00 | T7: n/a | U7: =LEFT(K7, 5) -> CT2B1 | V7: PROD | W7: slixip167 | X7: ssh (KRB) | Y7: pbrun ksh | Z7: APAC ECC Access Procedure | AA7: 111600 | AB7: 248 | AC7: 8 | AD7: 0 | AE7: 0 | AF7: 0 | AG7: 0 | AH7: 248 | AI7: 0 | AJ7: 0 | AK7: 0 | AL7: 0 | AM7: 0 | AN7: RAID-6 (6+2) | AO7: NA | AP7: 48 | AQ7: NA | AR7: NA | AS7: NA | AT7: NA | AU7: NA | AV7: Yes | AW7: No | AX7: No | AY7: YES | AZ7: Ganesh | BC7: =VLOOKUP(J7,ESRS!A:E,1,0) -> 292603613 | BD7: Yes
A8: CK292603628 | B8: SINGAPORE | C8: SINGAPORE | D8: 75 SCIENCE PARK DRIVE, SINGAPORE SCIENCE PARK I | E8: SAN Storage | F8: SAN | G8: EMC | H8: SYMM VMAX6 | I8: 292603628 | J8: 292603628 | K8: CT2B1-E-019BQ / BT / BS / BP | L8: =VLOOKUP(J8,ESRS!A:E,5,0) -> 172.19.107.76 | M8: 41138 | N8: 42598 | O8: 42599 | P8: =VLOOKUP(J8,'SYMM Code upgrade'!A:W,8,0) -> #N/A | Q8: =VLOOKUP(J8,'SYMM Code upgrade'!A:J,10,0) -> #N/A | S8: 0-Jan-00 | T8: n/a | U8: =LEFT(K8, 5) -> CT2B1 | V8: PROD | W8: slixip167 | X8: ssh (KRB) | Y8: pbrun ksh | Z8: APAC ECC Access Procedure | AA8: 162600 | AB8: 542 | AC8: 14 | AD8: 0 | AE8: 0 | AF8: 542 | AG8: 0 | AH8: 0 | AI8: 0 | AJ8: 0 | AK8: 0 | AL8: 0 | AM8: 0 | AN8: RAID-6 (6+2) | AO8: NA | AP8: 48 | AQ8: NA | AR8: NA | AS8: NA | AT8: NA | AU8: NA | AV8: Yes | AW8: No | AX8: No | AY8: YES | AZ8: Ganesh | BC8: =VLOOKUP(J8,ESRS!A:E,1,0) -> 292603628 | BD8: Yes
A9: CK292603943 | B9: SINGAPORE | C9: SINGAPORE | D9: 75 SCIENCE PARK DRIVE, SINGAPORE SCIENCE PARK I | E9: SAN Storage | F9: SAN | G9: EMC | H9: SYMM VMAX-1 | I9: =J9 -> 292603943 | J9: 292603943 | K9: CT2B1-E-021BP Row 48 | L9: =VLOOKUP(J9,ESRS!A:E,5,0) -> 172.19.107.126 | M9: 41103 | N9: 42563 | O9: 42564 | P9: =VLOOKUP(J9,'SYMM Code upgrade'!A:W,8,0) -> #N/A | Q9: =VLOOKUP(J9,'SYMM Code upgrade'!A:J,10,0) -> #N/A | S9: 0-Jan-00 | T9: n/a | U9: =LEFT(K9, 5) -> CT2B1 | V9: PROD | W9: slixip167 | X9: ssh (KRB) | Y9: pbrun ksh | Z9: APAC ECC Access Procedure | AA9: 257400 | AB9: 572 | AC9: 12 | AD9: 0 | AE9: 0 | AF9: 0 | AG9: 0 | AH9: 572 | AI9: 0 | AJ9: 0 | AK9: 0 | AL9: 0 | AM9: 0 | AN9: RAID-6 (14+2) | AO9: NA | AP9: 32 | AQ9: NA | AR9: NA | AS9: NA | AT9: NA | AU9: NA | AV9: Yes | AW9: No | AX9: No | AY9: YES | AZ9: Ganesh | BC9: =VLOOKUP(J9,ESRS!A:E,1,0) -> 292603943 | BD9: Yes
A10: 292603979 | B10: SINGAPORE | C10: SINGAPORE | D10: 75 SCIENCE PARK DRIVE, SINGAPORE SCIENCE PARK I | E10: SAN Storage | F10: SAN | G10: EMC | H10: SYMM VMAX-1 | I10: 292603979 | J10: 292603979 | K10: Row 49 - CT2B1-E-013BX | L10: =VLOOKUP(J10,ESRS!A:E,5,0) -> 172.19.107.125 | M10: 41098 | N10: 42558 | O10: 42559 | P10: =VLOOKUP(J10,'SYMM Code upgrade'!A:W,8,0) -> #N/A | Q10: =VLOOKUP(J10,'SYMM Code upgrade'!A:J,10,0) -> #N/A | S10: 0-Jan-00 | T10: n/a | U10: CT2B1 | V10: PROD | W10: slixip167 | X10: ssh (KRB) | Y10: pbrun ksh | Z10: APAC ECC Access Procedure | AA10: 118800 | AB10: 264 | AC10: 8 | AD10: 0 | AE10: 0 | AF10: 0 | AG10: 0 | AH10: 264 | AI10: 0 | AJ10: 0 | AK10: 0 | AL10: 0 | AM10: 0 | AN10: RAID-6 (14+2) | AO10: NA | AP10: 32 | AQ10: NA | AR10: NA | AS10: NA | AT10: NA | AU10: NA | AV10: Yes | AW10: No | AX10: No | AY10: YES | AZ10: Ganesh | BC10: =VLOOKUP(J10,ESRS!A:E,1,0) -> 292603979 | BD10: Yes
A11: CK295700507 | B11: SINGAPORE | C11: SINGAPORE | D11: 75 SCIENCE PARK DRIVE, SINGAPORE SCIENCE PARK I | E11: SAN Storage | F11: SAN | G11: EMC | H11: SYMM VMAX6 | I11: =J11 -> 295700507 | J11: 295700507 | K11: CT2L1- Row 38 - E - 054H | L11: 163.37.197.209 | M11: 41539 | N11: 42999 | O11: 42998 | P11: =VLOOKUP(J11,'SYMM Code upgrade'!A:W,8,0) -> #N/A | Q11: =VLOOKUP(J11,'SYMM Code upgrade'!A:J,10,0) -> #N/A | S11: 0-Jan-00 | T11: n/a | U11: =LEFT(K11, 5) -> CT2L1 | V11: PROD | W11: slixip167 | X11: ssh (KRB) | Y11: pbrun ksh | Z11: APAC ECC Access Procedure | AA11: 148800 | AB11: 248 | AC11: 8 | AD11: 0 | AE11: 0 | AF11: 0 | AG11: 0 | AH11: 0 | AI11: 248 | AJ11: 0 | AK11: 0 | AL11: 0 | AM11: 0 | AN11: RAID-6 (6+2) | AO11: NA | AP11: 48 | AQ11: NA | AR11: NA | AS11: NA | AT11: NA | AU11: NA | AV11: Yes | AW11: No | AX11: No | AY11: YES | AZ11: Ganesh | BC11: =VLOOKUP(J11,ESRS!A:E,1,0) -> 295700507 | BD11: Yes
A12: 295700613 | B12: SINGAPORE | C12: SINGAPORE | D12: 75 SCIENCE PARK DRIVE, SINGAPORE SCIENCE PARK I | E12: SAN Storage | F12: SAN | G12: EMC | H12: SYMM VMAX40K | I12: 295700613 | J12: 295700613 | K12: Row 48 CT2 B1-E-045CA | L12: =VLOOKUP(J12,ESRS!A:E,5,0) -> 172.19.107.17 | M12: 41539 | N12: 42999 | O12: 42998 | P12: =VLOOKUP(J12,'SYMM Code upgrade'!A:W,8,0) -> #N/A | Q12: =VLOOKUP(J12,'SYMM Code upgrade'!A:J,10,0) -> #N/A | S12: 0-Jan-00 | T12: n/a | U12: CT2B1 | V12: PROD | W12: slixip167 | X12: ssh (KRB) | Y12: pbrun ksh | Z12: APAC ECC Access Procedure | AA12: 196800 | AB12: 656 | AC12: 16 | AD12: 0 | AE12: 0 | AF12: 656 | AG12: 0 | AH12: 0 | AI12: 0 | AJ12: 0 | AK12: 0 | AL12: 0 | AM12: 0 | AN12: RAID-6 (6+2) | AO12: NA | AP12: 32 | AQ12: NA | AR12: NA | AS12: NA | AT12: NA | AU12: NA | AV12: Yes | AW12: No | AX12: No | AY12: NO | AZ12: Ganesh | BC12: =VLOOKUP(J12,ESRS!A:E,1,0) -> 295700613 | BD12: Yes
A13: 492600122 | B13: SINGAPORE | C13: SINGAPORE | D13: 75 SCIENCE PARK DRIVE, SINGAPORE SCIENCE PARK I | E13: SAN Storage | F13: SAN | G13: EMC | H13: SYMM VMAX-1 | I13: 492600122 | J13: 492600122 | K13: CT2B1-E102-104 Row 50 | L13: =VLOOKUP(J13,ESRS!A:E,5,0) -> 172.19.107.120 | M13: 41234 | N13: 42694 | O13: 42695 | P13: =VLOOKUP(J13,'SYMM Code upgrade'!A:W,8,0) -> #N/A | Q13: =VLOOKUP(J13,'SYMM Code upgrade'!A:J,10,0) -> #N/A | S13: 0-Jan-00 | T13: n/a | U13: =LEFT(K13, 5) -> CT2B1 | V13: PROD | W13: slixip167 | X13: ssh (KRB) | Y13: pbrun ksh | Z13: APAC ECC Access Procedure | AA13: 147600 | AB13: 328 | AC13: 8 | AD13: 0 | AE13: 0 | AF13: 0 | AG13: 0 | AH13: 328 | AI13: 0 | AJ13: 0 | AK13: 0 | AL13: 0 | AM13: 0 | AN13: RAID-6 (6+2 and 14+2) | AO13: NA | AP13: 32 | AQ13: NA | AR13: NA | AS13: NA | AT13: NA | AU13: NA | AV13: Yes | AW13: No | AX13: No | AY13: YES | AZ13: Ganesh | BC13: =VLOOKUP(J13,ESRS!A:E,1,0) -> 492600122 | BD13: Yes
A14: CN492600146 | B14: SINGAPORE | C14: SINGAPORE | D14: 75 SCIENCE PARK DRIVE, SINGAPORE SCIENCE PARK I | E14: SAN Storage | F14: SAN | G14: EMC | H14: SYMM VMAX-1 | I14: =J14 -> 492600146 | J14: 492600146 | K14: CT2B1-E117-119 Row 48 | L14: =VLOOKUP(J14,ESRS!A:E,5,0) -> 172.19.107.121 | M14: 40792 | N14: 42252 | O14: 42253 | P14: =VLOOKUP(J14,'SYMM Code upgrade'!A:W,8,0) -> #N/A | Q14: =VLOOKUP(J14,'SYMM Code upgrade'!A:J,10,0) -> #N/A | S14: 0-Jan-00 | T14: n/a | U14: =LEFT(K14, 5) -> CT2B1 | V14: PROD | W14: slixip167 | X14: ssh (KRB) | Y14: pbrun ksh | Z14: APAC ECC Access Procedure | AA14: 78200 | AB14: 181 | AC14: 9 | AD14: 0 | AE14: 13 | AF14: 0 | AG14: 0 | AH14: 168 | AI14: 0 | AJ14: 0 | AK14: 0 | AL14: 0 | AM14: 0 | AN14: RAID-6 (14+2) | AO14: NA | AP14: 32 | AQ14: NA | AR14: NA | AS14: NA | AT14: NA | AU14: NA | AV14: Yes | AW14: No | AX14: No | AY14: YES | AZ14: Ganesh | BC14: =VLOOKUP(J14,ESRS!A:E,1,0) -> 492600146 | BD14: Yes
A15: CN492600393 | B15: SINGAPORE | C15: SINGAPORE | D15: 75 SCIENCE PARK DRIVE, SINGAPORE SCIENCE PARK I | E15: SAN Storage | F15: SAN | G15: EMC | H15: SYMM VMAX6 | I15: 492600393 | J15: 492600393 | K15: CT2-B1-E014BY / BZ / CA / CC | L15: =VLOOKUP(J15,ESRS!A:E,5,0) -> 172.19.107.77 | M15: 41317 | N15: 42777 | O15: 42778 | P15: 5876.268.174 | Q15: =VLOOKUP(J15,'SYMM Code upgrade'!A:J,10,0) -> #N/A | S15: 0-Jan-00 | T15: n/a | U15: =LEFT(K15, 5) -> CT2-B | V15: PROD | W15: slixip167 | X15: ssh (KRB) | Y15: pbrun ksh | Z15: APAC ECC Access Procedure | AA15: 162600 | AB15: 542 | AC15: 14 | AD15: 0 | AE15: 0 | AF15: 542 | AG15: 0 | AH15: 0 | AI15: 0 | AJ15: 0 | AK15: 0 | AL15: 0 | AM15: 0 | AN15: RAID-6 (6+2) | AO15: NA | AP15: 48 | AQ15: NA | AR15: NA | AS15: NA | AT15: NA | AU15: NA | AV15: Yes | AW15: No | AX15: No | AY15: YES | AZ15: Ganesh | BC15: =VLOOKUP(J15,ESRS!A:E,1,0) -> 492600393 | BD15: Yes
A16: CN495700035 | B16: SINGAPORE | C16: SINGAPORE | D16: 75 SCIENCE PARK DRIVE, SINGAPORE SCIENCE PARK I | E16: SAN Storage | F16: SAN | G16: EMC | H16: SYMM VMAX6 | I16: =J16 -> 495700035 | J16: 495700035 | K16: CT2L1- Row 55 -E- 127I | L16: =VLOOKUP(J16,ESRS!A:E,5,0) -> 163.37.197.208 | M16: 41539 | N16: 42999 | O16: 43000 | P16: =VLOOKUP(J16,'SYMM Code upgrade'!A:W,8,0) -> #N/A | Q16: =VLOOKUP(J16,'SYMM Code upgrade'!A:J,10,0) -> #N/A | S16: 0-Jan-00 | T16: n/a | U16: =LEFT(K16, 5) -> CT2L1 | V16: PROD | W16: slixip167 | X16: ssh (KRB) | Y16: pbrun ksh | Z16: APAC ECC Access Procedure | AA16: 148800 | AB16: 248 | AC16: 8 | AD16: 0 | AE16: 0 | AF16: 0 | AG16: 0 | AH16: 0 | AI16: 248 | AJ16: 0 | AK16: 0 | AL16: 0 | AM16: 0 | AN16: RAID-6 (6+2) | AO16: NA | AP16: 48 | AQ16: NA | AR16: NA | AS16: NA | AT16: NA | AU16: NA | AV16: Yes | AW16: No | AX16: No | AY16: YES | AZ16: Ganesh | BC16: =VLOOKUP(J16,ESRS!A:E,1,0) -> 495700035 | BD16: Yes
A17: CK290103014 | B17: HONG KONG | C17: NEW TERRITORIES | D17: 1 WANG WO TSAI STREET, TSUEN WAN | E17: SAN Storage | F17: SAN | G17: EMC | H17: SYMM DMX-4 2500 | I17: =J17 -> 290103014 | J17: 290103014 | K17: AST4-DC2- E028 Row 12. | L17: 10.186.172.150 | M17: 39422 | N17: 40882 | O17: 40883 | P17: =VLOOKUP(J17,'SYMM Code upgrade'!A:W,8,0) -> #N/A | Q17: =VLOOKUP(J17,'SYMM Code upgrade'!A:J,10,0) -> #N/A | S17: 43008 | T17: n/a | U17: AST4-DC2 | V17: COB | W17: hlixiu634 | X17: ssh (KRB) | Y17: pbrun ksh | Z17: APAC ECC Access Procedure | AA17: 87600 | AB17: 600 | AC17: 16 | AD17: 600 | AE17: 0 | AF17: 0 | AG17: 0 | AH17: 0 | AI17: 0 | AJ17: 0 | AK17: 0 | AL17: 0 | AM17: 0 | AN17: RAID-6 (6+2) | AO17: NA | AP17: 32 | AQ17: NA | AR17: NA | AS17: NA | AT17: NA | AU17: NA | AV17: Yes | AW17: No | AX17: No | AY17: YES | AZ17: Ganesh | BC17: =VLOOKUP(J17,ESRS!A:E,1,0) -> 290103014 | BD17: Yes
A18: CK290105338 | B18: HONG KONG | C18: HONG KONG | D18: 1 WANG WO TSAI STREET, TSUEN WAN | E18: SAN Storage | F18: SAN | G18: EMC | H18: SYMM DMX-4 2500 | I18: 290105338 | J18: 290105338 | K18: IAD25-E30 | L18: 172.19.232.35 | M18: 39971 | N18: 41408 | O18: 41409 | P18: =VLOOKUP(J18,'SYMM Code upgrade'!A:W,8,0) -> #N/A | Q18: =VLOOKUP(J18,'SYMM Code upgrade'!A:J,10,0) -> #N/A | S18: 43008 | T18: n/a | U18: =LEFT(K18, 5) -> IAD25 | V18: COB | W18: slixip167 | X18: ssh (KRB) | Y18: pbrun ksh | Z18: APAC ECC Access Procedure | AA18: 86724 | AB18: 594 | AC18: 12 | AD18: 594 | AE18: 0 | AF18: 0 | AG18: 0 | AH18: 0 | AI18: 0 | AJ18: 0 | AK18: 0 | AL18: 0 | AM18: 0 | AN18: RAID-6 (6+2) | AO18: NA | AP18: 32 | AQ18: NA | AR18: NA | AS18: NA | AT18: NA | AU18: NA | AV18: Yes | AW18: No | AX18: No | AY18: NO | AZ18: Ganesh | BC18: =VLOOKUP(J18,ESRS!A:E,1,0) -> 290105338 | BD18: no network cable, using modem
A19: CK290300751 | B19: SINGAPORE | C19: SINGAPORE | D19: 5 TAMPINES CENTRAL | E19: SAN Storage | F19: SAN | G19: EMC | H19: SYMM DMX-3 950 | I19: =J19 -> 290300751 | J19: 290300751 | K19: T3-E102 | L19: =VLOOKUP(J19,ESRS!A:E,5,0) -> 163.37.99.154 | M19: 39992 | N19: 41670 | O19: 41671 | P19: =VLOOKUP(J19,'SYMM Code upgrade'!A:W,8,0) -> #N/A | Q19: =VLOOKUP(J19,'SYMM Code upgrade'!A:J,10,0) -> #N/A | S19: 42369 | T19: Tech-Refresh In-Progress | U19: =LEFT(K19, 5) -> T3-E1 | V19: COB | W19: slixip167 | X19: ssh (KRB) | Y19: pbrun ksh | Z19: APAC ECC Access Procedure | AA19: 10512 | AB19: 72 | AC19: 8 | AD19: 72 | AE19: 0 | AF19: 0 | AG19: 0 | AH19: 0 | AI19: 0 | AJ19: 0 | AK19: 0 | AL19: 0 | AM19: 0 | AN19: RAID-6 (6+2) | AO19: NA | AP19: 8 | AQ19: NA | AR19: NA | AS19: NA | AT19: NA | AU19: NA | AV19: Yes | AW19: No | AX19: No | AY19: YES | AZ19: Ganesh | BC19: =VLOOKUP(J19,ESRS!A:E,1,0) -> 290300751 | BD19: Yes
A20: CK290301196 | B20: HONG KONG | C20: HONG KONG | D20: 1 WANG WO TSAI STREET, TSUEN WAN | E20: SAN Storage | F20: SAN | G20: EMC | H20: SYMM DMX-3 950 | I20: =J20 -> 290301196 | J20: 290301196 | K20: IAD25-E32 | L20: =VLOOKUP(J20,ESRS!A:E,5,0) -> 172.19.232.38 | M20: 39992 | N20: 41670 | O20: 41671 | P20: =VLOOKUP(J20,'SYMM Code upgrade'!A:W,8,0) -> #N/A | Q20: =VLOOKUP(J20,'SYMM Code upgrade'!A:J,10,0) -> #N/A | S20: 42369 | T20: Tech-Refresh In-Progress | U20: =LEFT(K20, 5) -> IAD25 | V20: COB | W20: slixip167 | X20: ssh (KRB) | Y20: pbrun ksh | Z20: APAC ECC Access Procedure | AA20: 17520 | AB20: 120 | AC20: 8 | AD20: 120 | AE20: 0 | AF20: 0 | AG20: 0 | AH20: 0 | AI20: 0 | AJ20: 0 | AK20: 0 | AL20: 0 | AM20: 0 | AN20: RAID-6 (6+2) | AO20: NA | AP20: 8 | AQ20: NA | AR20: NA | AS20: NA | AT20: NA | AU20: NA | AV20: Yes | AW20: No | AX20: No | AY20: NO | AZ20: Ganesh | BC20: =VLOOKUP(J20,ESRS!A:E,1,0) -> 290301196 | BD20: Yes
A21: CK292600268 | B21: SINGAPORE | C21: SINGAPORE | D21: 5 TAMPINES CENTRAL | E21: SAN Storage | F21: SAN | G21: EMC | H21: SYMM VMAX-1 | I21: =J21 -> 292600268 | J21: 292600268 | K21: T3-E103 | L21: =VLOOKUP(J21,ESRS!A:E,5,0) -> 163.37.99.51 | M21: 40041 | N21: 41670 | O21: 41652 | P21: =VLOOKUP(J21,'SYMM Code upgrade'!A:W,8,0) -> #N/A | Q21: =VLOOKUP(J21,'SYMM Code upgrade'!A:J,10,0) -> #N/A | S21: 0-Jan-00 | T21: n/a | U21: =LEFT(K21, 5) -> T3-E1 | V21: COB | W21: slixip167 | X21: ssh (KRB) | Y21: pbrun ksh | Z21: APAC ECC Access Procedure | AA21: 16724 | AB21: 104 | AC21: 8 | AD21: 94 | AE21: 0 | AF21: 10 | AG21: 0 | AH21: 0 | AI21: 0 | AJ21: 0 | AK21: 0 | AL21: 0 | AM21: 0 | AN21: NA | AO21: NA | AP21: 16 | AQ21: NA | AR21: NA | AS21: NA | AT21: NA | AU21: NA | AV21: Yes | AW21: No | AX21: No | AY21: YES | AZ21: Ganesh | BC21: =VLOOKUP(J21,ESRS!A:E,1,0) -> 292600268 | BD21: Yes
A22: CK292600269 | B22: HONG KONG | C22: HONG KONG | D22: 1 WANG WO TSAI STREET, TSUEN WAN | E22: SAN Storage | F22: SAN | G22: EMC | H22: SYMM VMAX-1 | I22: =J22 -> 292600269 | J22: 292600269 | K22: IAD25-E-33 | L22: =VLOOKUP(J22,ESRS!A:E,5,0) -> 172.19.232.40 | M22: 40032 | N22: 41670 | O22: 41670 | P22: =VLOOKUP(J22,'SYMM Code upgrade'!A:W,8,0) -> #N/A | Q22: =VLOOKUP(J22,'SYMM Code upgrade'!A:J,10,0) -> #N/A | S22: 0-Jan-00 | T22: n/a | U22: =LEFT(K22, 5) -> IAD25 | V22: COB | W22: slixip167 | X22: ssh (KRB) | Y22: pbrun ksh | Z22: APAC ECC Access Procedure | AA22: 74464 | AB22: 394 | AC22: 10 | AD22: 284 | AE22: 0 | AF22: 110 | AG22: 0 | AH22: 0 | AI22: 0 | AJ22: 0 | AK22: 0 | AL22: 0 | AM22: 0 | AN22: RAID-6 (14+2) | AO22: NA | AP22: 32 | AQ22: NA | AR22: NA | AS22: NA | AT22: NA | AU22: NA | AV22: Yes | AW22: No | AX22: No | AY22: YES | AZ22: Ganesh | BC22: =VLOOKUP(J22,ESRS!A:E,1,0) -> 292600269 | BD22: Yes
A23: CK292604047 | B23: HONG KONG | C23: HONG KONG | D23: 399 CHAI WAN ROAD, CHAI WAN | E23: SAN Storage | F23: SAN | G23: EMC | H23: SYMM VMAX-1 | I23: =J23 -> 292604047 | J23: 292604047 | K23: AST4-DC2-E017 | L23: =VLOOKUP(J23,ESRS!A:E,5,0) -> 10.186.172.143 | M23: 41089 | N23: 42549 | O23: 42550 | P23: =VLOOKUP(J23,'SYMM Code upgrade'!A:W,8,0) -> #N/A | Q23: =VLOOKUP(J23,'SYMM Code upgrade'!A:J,10,0) -> #N/A | S23: 0-Jan-00 | T23: n/a | U23: AST4-DC2 | V23: COB | W23: slixip167 | X23: ssh (KRB) | Y23: pbrun ksh | Z23: APAC ECC Access Procedure | AA23: 147600 | AB23: 328 | AC23: 8 | AD23: 0 | AE23: 0 | AF23: 0 | AG23: 0 | AH23: 328 | AI23: 0 | AJ23: 0 | AK23: 0 | AL23: 0 | AM23: 0 | AN23: RAID-6 (14+2) | AO23: NA | AP23: 32 | AQ23: NA | AR23: NA | AS23: NA | AT23: NA | AU23: NA | AV23: Yes | AW23: No | AX23: No | AY23: YES | AZ23: Ganesh | BC23: =VLOOKUP(J23,ESRS!A:E,1,0) -> 292604047 | BD23: Yes
A24: CK292604132 | B24: HONG KONG | C24: HONG KONG | D24: 399 CHAI WAN ROAD, CHAI WAN | E24: SAN Storage | F24: SAN | G24: EMC | H24: SYMM VMAX-1 | I24: =J24 -> 292604132 | J24: 292604132 | K24: AST4-DC2-E020 Row 11 | L24: =VLOOKUP(J24,ESRS!A:E,5,0) -> 10.186.172.149 | M24: 41108 | N24: 42568 | O24: 42569 | P24: =VLOOKUP(J24,'SYMM Code upgrade'!A:W,8,0) -> #N/A | Q24: =VLOOKUP(J24,'SYMM Code upgrade'!A:J,10,0) -> #N/A | S24: 0-Jan-00 | T24: n/a | U24: AST4-DC2 | V24: COB | W24: slixip167 | X24: ssh (KRB) | Y24: pbrun ksh | Z24: APAC ECC Access Procedure | AA24: 442800 | AB24: 984 | AC24: 24 | AD24: 0 | AE24: 0 | AF24: 0 | AG24: 0 | AH24: 984 | AI24: 0 | AJ24: 0 | AK24: 0 | AL24: 0 | AM24: 0 | AN24: RAID-6 (14+2) | AO24: NA | AP24: 32 | AQ24: NA | AR24: NA | AS24: NA | AT24: NA | AU24: NA | AV24: Yes | AW24: No | AX24: No | AY24: YES | AZ24: Ganesh | BC24: =VLOOKUP(J24,ESRS!A:E,1,0) -> 292604132 | BD24: Yes
A25: CK295700517 | B25: HONG KONG | C25: HONG KONG | D25: 399 CHAI WAN ROAD, CHAI WAN | E25: SAN Storage | F25: SAN | G25: EMC | H25: SYMM VMAX6 | I25: =J25 -> 295700517 | J25: 295700517 | K25: AST3-DC6-E010 - Row 13 | L25: 10.186.71.21 | M25: 41539 | N25: 42999 | O25: 43000 | P25: =VLOOKUP(J25,'SYMM Code upgrade'!A:W,8,0) -> #N/A | Q25: =VLOOKUP(J25,'SYMM Code upgrade'!A:J,10,0) -> #N/A | S25: 0-Jan-00 | T25: n/a | U25: AST3-DC6 | V25: COB | W25: slixip167 | X25: ssh (KRB) | Y25: pbrun ksh | Z25: APAC ECC Access Procedure | AA25: 294000 | AB25: 490 | AC25: 10 | AD25: 0 | AE25: 0 | AF25: 0 | AG25: 0 | AH25: 0 | AI25: 490 | AJ25: 0 | AK25: 0 | AL25: 0 | AM25: 0 | AN25: RAID-6 (6+2) | AO25: NA | AP25: 48 | AQ25: NA | AR25: NA | AS25: NA | AT25: NA | AU25: NA | AV25: Yes | AW25: No | AX25: No | AY25: YES | AZ25: Ganesh | BC25: =VLOOKUP(J25,ESRS!A:E,1,0) -> 295700517 | BD25: Yes
A26: CK295700527 | B26: HONG KONG | C26: HONG KONG | D26: 399 CHAI WAN ROAD, CHAI WAN | E26: SAN Storage | F26: SAN | G26: EMC | H26: SYMM VMAX6 | I26: =J26 -> 295700527 | J26: 295700527 | K26: AST3-DC6-E009 - Row 10 | L26: 10.186.71.20 | M26: 41539 | N26: 42999 | O26: 43000 | P26: =VLOOKUP(J26,'SYMM Code upgrade'!A:W,8,0) -> #N/A | Q26: =VLOOKUP(J26,'SYMM Code upgrade'!A:J,10,0) -> #N/A | S26: 0-Jan-00 | T26: n/a | U26: AST3-DC6 | V26: COB | W26: slixip167 | X26: ssh (KRB) | Y26: pbrun ksh | Z26: APAC ECC Access Procedure | AA26: 294000 | AB26: 490 | AC26: 10 | AD26: 0 | AE26: 0 | AF26: 0 | AG26: 0 | AH26: 0 | AI26: 490 | AJ26: 0 | AK26: 0 | AL26: 0 | AM26: 0 | AN26: RAID-6 (6+2) | AO26: NA | AP26: 48 | AQ26: NA | AR26: NA | AS26: NA | AT26: NA | AU26: NA | AV26: Yes | AW26: No | AX26: No | AY26: YES | AZ26: Ganesh | BC26: =VLOOKUP(J26,ESRS!A:E,1,0) -> 295700527 | BD26: Yes
A27: CN492600105 | B27: HONG KONG | C27: HONG KONG | D27: 1 WANG WO TSAI STREET, TSUEN WAN | E27: SAN Storage | F27: SAN | G27: EMC | H27: SYMM VMAX-1 | I27: =J27 -> 492600105 | J27: 492600105 | K27: IAD22-E-11 | L27: =VLOOKUP(J27,ESRS!A:E,5,0) -> 172.19.234.16 | M27: 40714 | N27: 42174 | O27: 42175 | P27: =VLOOKUP(J27,'SYMM Code upgrade'!A:W,8,0) -> #N/A | Q27: =VLOOKUP(J27,'SYMM Code upgrade'!A:J,10,0) -> #N/A | S27: 0-Jan-00 | T27: n/a | U27: =LEFT(K27, 5) -> IAD22 | V27: COB | W27: slixip167 | X27: ssh (KRB) | Y27: pbrun ksh | Z27: APAC ECC Access Procedure | AA27: 208700 | AB27: 471 | AC27: 11 | AD27: 0 | AE27: 13 | AF27: 0 | AG27: 0 | AH27: 458 | AI27: 0 | AJ27: 0 | AK27: 0 | AL27: 0 | AM27: 0 | AN27: RAID-5 (7+1) RAID-6 (14+2) | AO27: NA | AP27: 32 | AQ27: NA | AR27: NA | AS27: NA | AT27: NA | AU27: NA | AV27: Yes | AW27: No | AX27: No | AY27: YES | AZ27: Ganesh | BC27: =VLOOKUP(J27,ESRS!A:E,1,0) -> 492600105 | BD27: Yes
A28: CN492600106 | B28: HONG KONG | C28: HONG KONG | D28: 1 WANG WO TSAI STREET, TSUEN WAN | E28: SAN Storage | F28: SAN | G28: EMC | H28: SYMM VMAX-1 | I28: =J28 -> 492600106 | J28: 492600106 | K28: IAD27-E-56 | L28: =VLOOKUP(J28,ESRS!A:E,5,0) -> 172.19.233.34 | M28: 40714 | N28: 42174 | O28: 42175 | P28: =VLOOKUP(J28,'SYMM Code upgrade'!A:W,8,0) -> #N/A | Q28: =VLOOKUP(J28,'SYMM Code upgrade'!A:J,10,0) -> #N/A | S28: 0-Jan-00 | T28: n/a | U28: =LEFT(K28, 5) -> IAD27 | V28: COB | W28: slixip167 | X28: ssh (KRB) | Y28: pbrun ksh | Z28: APAC ECC Access Procedure | AA28: 266400 | AB28: 592 | AC28: 16 | AD28: 0 | AE28: 0 | AF28: 0 | AG28: 0 | AH28: 592 | AI28: 0 | AJ28: 0 | AK28: 0 | AL28: 0 | AM28: 0 | AN28: RAID-6 (6+2 and 14+2) | AO28: NA | AP28: 32 | AQ28: NA | AR28: NA | AS28: NA | AT28: NA | AU28: NA | AV28: Yes | AW28: No | AX28: No | AY28: YES | AZ28: Ganesh | BC28: =VLOOKUP(J28,ESRS!A:E,1,0) -> 492600106 | BD28: Yes
A29: CN492600150 | B29: HONG KONG | C29: HONG KONG | D29: 399 CHAI WAN ROAD, CHAI WAN | E29: SAN Storage | F29: SAN | G29: EMC | H29: SYMM VMAX-1 | I29: =J29 -> 492600150 | J29: 492600150 | K29: AST4-DC2-E010 | L29: 10.186.172.142 | M29: 40793 | N29: 42253 | O29: 42254 | P29: =VLOOKUP(J29,'SYMM Code upgrade'!A:W,8,0) -> #N/A | Q29: =VLOOKUP(J29,'SYMM Code upgrade'!A:J,10,0) -> #N/A | S29: 0-Jan-00 | T29: n/a | U29: AST4-DC2 | V29: COB | W29: slixip167 | X29: ssh (KRB) | Y29: pbrun ksh | Z29: APAC ECC Access Procedure | AA29: 150200 | AB29: 341 | AC29: 9 | AD29: 0 | AE29: 13 | AF29: 0 | AG29: 0 | AH29: 328 | AI29: 0 | AJ29: 0 | AK29: 0 | AL29: 0 | AM29: 0 | AN29: RAID-6 (14+2) | AO29: NA | AP29: 32 | AQ29: NA | AR29: NA | AS29: NA | AT29: NA | AU29: NA | AV29: Yes | AW29: No | AX29: No | AY29: YES | AZ29: Ganesh | BC29: =VLOOKUP(J29,ESRS!A:E,1,0) -> 492600150 | BD29: Yes
A30: CK492600392 | B30: HONG KONG | C30: HONG KONG | D30: 399 CHAI WAN ROAD, CHAI WAN | E30: SAN Storage | F30: SAN | G30: EMC | H30: SYMM VMAX6 | I30: 492600392 | J30: 492600392 | K30: AST3-DC4-E008A/B/C/D/E/F | L30: 10.186.71.16 | M30: 41401 | N30: 42832 | O30: 42862 | P30: =VLOOKUP(J30,'SYMM Code upgrade'!A:W,8,0) -> #N/A | Q30: =VLOOKUP(J30,'SYMM Code upgrade'!A:J,10,0) -> #N/A | S30: 0-Jan-00 | T30: n/a | U30: AST3-DC6 | V30: COB | W30: slixip167 | X30: ssh (KRB) | Y30: pbrun ksh | Z30: APAC ECC Access Procedure | AA30: 218400 | AB30: 728 | AC30: 24 | AD30: 0 | AE30: 0 | AF30: 728 | AG30: 0 | AH30: 0 | AI30: 0 | AJ30: 0 | AK30: 0 | AL30: 0 | AM30: 0 | AN30: RAID-6 (6+2) | AO30: NA | AP30: 48 | AQ30: NA | AR30: NA | AS30: NA | AT30: NA | AU30: NA | AV30: Yes | AW30: No | AX30: No | AY30: YES | AZ30: Ganesh | BC30: =VLOOKUP(J30,ESRS!A:E,1,0) -> 492600392 | BD30: Yes
A31: CK292603574 | B31: HONG KONG | C31: HONG KONG | D31: 1 WANG WO TSAI STREET, TSUEN WAN | E31: SAN Storage | F31: SAN | G31: EMC | H31: SYMM VMAX-1 | I31: =J31 -> 292603574 | J31: 292603574 | K31: IAD23-E-14 | L31: =VLOOKUP(J31,ESRS!A:E,5,0) -> 172.19.78.78 | M31: 41180 | N31: 42640 | O31: 42640 | P31: =VLOOKUP(J31,'SYMM Code upgrade'!A:W,8,0) -> #N/A | Q31: =VLOOKUP(J31,'SYMM Code upgrade'!A:J,10,0) -> #N/A | S31: 0-Jan-00 | T31: n/a | U31: =LEFT(K31, 5) -> IAD23 | V31: PROD | W31: hlixiu633 | X31: ssh (KRB) | Y31: swsa | Z31: APAC ECC Access Procedure | AA31: 97200 | AB31: 216 | AC31: 8 | AD31: 0 | AE31: 0 | AF31: 0 | AG31: 0 | AH31: 216 | AI31: 0 | AJ31: 0 | AK31: 0 | AL31: 0 | AM31: 0 | AN31: RAID-6 (14+2) | AO31: NA | AP31: 16 | AQ31: NA | AR31: NA | AS31: NA | AT31: NA | AU31: NA | AV31: Yes | AW31: No | AX31: No | AY31: YES | AZ31: Ganesh | BC31: =VLOOKUP(J31,ESRS!A:E,1,0) -> 292603574 | BD31: Yes
A32: CK292603609 | B32: HONG KONG | C32: HONG KONG | D32: 399 CHAI WAN ROAD, CHAI WAN | E32: SAN Storage | F32: SAN | G32: EMC | H32: SYMM VMAX-1 | I32: =J32 -> 292603609 | J32: 292603609 | K32: AST4-DC2-E013-15 | L32: =VLOOKUP(J32,ESRS!A:E,5,0) -> 10.186.172.148 | M32: 41180 | N32: 42640 | O32: 42641 | P32: =VLOOKUP(J32,'SYMM Code upgrade'!A:W,8,0) -> #N/A | Q32: =VLOOKUP(J32,'SYMM Code upgrade'!A:J,10,0) -> #N/A | S32: 0-Jan-00 | T32: n/a | U32: AST4 | V32: COB | W32: hlixiu633 | X32: ssh (KRB) | Y32: swsa | Z32: APAC ECC Access Procedure | AA32: 75600 | AB32: 168 | AC32: 8 | AD32: 0 | AE32: 0 | AF32: 0 | AG32: 0 | AH32: 168 | AI32: 0 | AJ32: 0 | AK32: 0 | AL32: 0 | AM32: 0 | AN32: RAID-6 (14+2) | AO32: NA | AP32: 16 | AQ32: NA | AR32: NA | AS32: NA | AT32: NA | AU32: NA | AV32: Yes | AW32: No | AX32: No | AY32: YES | AZ32: Ganesh | BC32: =VLOOKUP(J32,ESRS!A:E,1,0) -> 292603609 | BD32: Yes
A33: CK292601913 | B33: HONG KONG | C33: HONG KONG | D33: 1 WANG WO TSAI STREET, TSUEN WAN | E33: SAN Storage | F33: SAN | G33: EMC | H33: SYMM VMAX 1 | I33: =J33 -> 292601913 | J33: 292601913 | K33: IAD22-E-1 | L33: =VLOOKUP(J33,ESRS!A:E,5,0) -> 172.19.234.11 | M33: 40438 | N33: 41898 | O33: 41899 | P33: =VLOOKUP(J33,'SYMM Code upgrade'!A:W,8,0) -> #N/A | Q33: =VLOOKUP(J33,'SYMM Code upgrade'!A:J,10,0) -> #N/A | S33: 0-Jan-00 | T33: n/a | U33: =LEFT(K33, 5) -> IAD22 | V33: COB | W33: hlixiu170 | X33: ssh (KRB) | Y33: swsa | Z33: APAC ECC Access Procedure | AA33: 125400 | AB33: 418 | AC33: 10 | AD33: 0 | AE33: 0 | AF33: 418 | AG33: 0 | AH33: 0 | AI33: 0 | AJ33: 0 | AK33: 0 | AL33: 0 | AM33: 0 | AN33: RAID-6 (14+2) | AO33: NA | AP33: 16 | AQ33: NA | AR33: NA | AS33: NA | AT33: NA | AU33: NA | AV33: Yes | AW33: No | AX33: No | AY33: YES | AZ33: Ganesh | BC33: =VLOOKUP(J33,ESRS!A:E,1,0) -> 292601913 | BD33: Yes
A34: CN492600021 | B34: CHINA | C34: SHANGHAI | D34: 5678 YANGGAO SOUTH ROAD | E34: SAN Storage | F34: SAN | G34: EMC | H34: SYMM VMAX 1 | I34: =J34 -> 492600021 | J34: 492600021 | K34: IP2L3-E-M19, IP2L3-E-M20 | L34: =VLOOKUP(J34,ESRS!A:E,5,0) -> 172.19.208.140 | M34: 40450 | N34: 41909 | O34: 41909 | P34: 5876.268.174 | Q34: =VLOOKUP(J34,'SYMM Code upgrade'!A:J,10,0) -> #N/A | S34: 0-Jan-00 | T34: n/a | U34: =LEFT(K34, 5) -> IP2L3 | V34: PROD | W34: hlixiu170/clixip170 | X34: ssh (KRB) | Y34: swsa | Z34: APAC ECC Access Procedure | AA34: 80400 | AB34: 268 | AC34: 8 | AD34: 0 | AE34: 0 | AF34: 268 | AG34: 0 | AH34: 0 | AI34: 0 | AJ34: 0 | AK34: 0 | AL34: 0 | AM34: 0 | AN34: RAID-6 (14+2) | AO34: NA | AP34: 16 | AQ34: NA | AR34: NA | AS34: NA | AT34: NA | AU34: NA | AV34: Yes | AW34: No | AX34: No | AY34: YES | AZ34: Ganesh | BC34: =VLOOKUP(J34,ESRS!A:E,1,0) -> 492600021 | BD34: Yes
A35: CN498700237 | B35: CHINA | C35: SHANGHAI | D35: SHANGHAI NANHUI DC | E35: SAN Storage | F35: SAN | G35: EMC | H35: SYMM VMAX 10K | I35: 498700237 | J35: 498700237 | K35: IP2L3-E-AD12 - AD13 | L35: 172.19.208.151 | M35: 40450 | N35: 41909 | O35: 41909 | P35: 5876.268.174 | Q35: =VLOOKUP(J35,'SYMM Code upgrade'!A:J,10,0) -> #N/A | S35: 0-Jan-00 | T35: n/a | U35: =LEFT(K35, 5) -> IP2L3 | V35: PROD | W35: clixip170 | X35: ssh (KRB) | Y35: swsa | Z35: APAC ECC Access Procedure | AA35: =(146*AD35)+(200*AE35)+(300*AF35)+(400*AG35)+(450*AH35)+(600*AI35)+(650*AJ35)+(1024*AK35)+(2048*AL35)+(3072*AM35) -> 0 | AZ35: Ganesh | BC35: =VLOOKUP(J35,ESRS!A:E,1,0) -> 498700237 | BD35: Yes
A36: CK498700161 | B36: CHINA | C36: SHANGHAI | D36: SHANGHAI NANHUI DC | E36: SAN Storage | F36: SAN | G36: EMC | H36: SYMM VMAX 10K | I36: 498700161 | J36: 498700161 | K36: IP2L3-E-AK18, E-AK19 | L36: =VLOOKUP(J36,ESRS!A:E,5,0) -> 172.19.208.150 | M36: 40450 | N36: 41909 | O36: 41909 | P36: 5876.268.174 | Q36: =VLOOKUP(J36,'SYMM Code upgrade'!A:J,10,0) -> #N/A | S36: 0-Jan-00 | T36: n/a | U36: =LEFT(K36, 5) -> IP2L3 | V36: PROD | W36: clixip170 | X36: ssh (KRB) | Y36: swsa | Z36: APAC ECC Access Procedure | AA36: =(146*AD36)+(200*AE36)+(300*AF36)+(400*AG36)+(450*AH36)+(600*AI36)+(650*AJ36)+(1024*AK36)+(2048*AL36)+(3072*AM36) -> 0 | BC36: =VLOOKUP(J36,ESRS!A:E,1,0) -> 498700161 | BD36: Yes
A37: CK295700499 | B37: SINGAPORE | C37: CINTECH 2 | D37: Row 45 CT2 B1-E-058CA | E37: SAN Storage | F37: SAN | G37: EMC | H37: SYMM VMAX 40K | I37: 295700499 | J37: 295700499 | K37: Row 45 CT2 B1-E-058CA | L37: 172.19.107.15 | M37: 40450 | N37: 41909 | O37: 41909 | P37: =VLOOKUP(J37,'SYMM Code upgrade'!A:W,8,0) -> #N/A | Q37: =VLOOKUP(J37,'SYMM Code upgrade'!A:J,10,0) -> #N/A | S37: 0-Jan-00 | T37: n/a | U37: =LEFT(K37, 5) -> Row 4 | V37: PROD | W37: slixip167 | X37: ssh (KRB) | Y37: swsa | Z37: APAC ECC Access Procedure | AA37: =(146*AD37)+(200*AE37)+(300*AF37)+(400*AG37)+(450*AH37)+(600*AI37)+(650*AJ37)+(1024*AK37)+(2048*AL37)+(3072*AM37) -> 0 | AZ37: Ganesh | BC37: =VLOOKUP(J37,ESRS!A:E,1,0) -> 295700499 | BD37: Yes
A38: CK295700608 | B38: SINGAPORE | C38: CINTECH 2 | D38: Row 45 CT2 B1-E-058BX | E38: SAN Storage | F38: SAN | G38: EMC | H38: SYMM VMAX 40K | I38: 295700608 | J38: 295700608 | K38: Row 45 CT2 B1-E-058BX | L38: 172.19.107.16 | M38: 40450 | N38: 41909 | O38: 41909 | P38: =VLOOKUP(J38,'SYMM Code upgrade'!A:W,8,0) -> #N/A | Q38: =VLOOKUP(J38,'SYMM Code upgrade'!A:J,10,0) -> #N/A | S38: 0-Jan-00 | T38: n/a | U38: =LEFT(K38, 5) -> Row 4 | V38: PROD | W38: slixip167 | X38: ssh (KRB) | Y38: swsa | Z38: APAC ECC Access Procedure | AA38: =(146*AD38)+(200*AE38)+(300*AF38)+(400*AG38)+(450*AH38)+(600*AI38)+(650*AJ38)+(1024*AK38)+(2048*AL38)+(3072*AM38) -> 0 | AZ38: Ganesh | BC38: =VLOOKUP(J38,ESRS!A:E,1,0) -> 295700608 | BD38: Yes
A39: CK295700613 | B39: SINGAPORE | C39: CINTECH 2 | D39: Row 48 CT2 B1-E-045CA | E39: SAN Storage | F39: SAN | G39: EMC | H39: SYMM VMAX 40K | I39: 295700613 | J39: 295700613 | K39: Row 48 CT2 B1-E-045CA | L39: 172.19.107.17 | M39: 40450 | N39: 41909 | O39: 41909 | P39: =VLOOKUP(J39,'SYMM Code upgrade'!A:W,8,0) -> #N/A | Q39: =VLOOKUP(J39,'SYMM Code upgrade'!A:J,10,0) -> #N/A | S39: 0-Jan-00 | T39: n/a | U39: =LEFT(K39, 5) -> Row 4 | V39: PROD | W39: slixip167 | X39: ssh (KRB) | Y39: swsa | Z39: APAC ECC Access Procedure | AA39: =(146*AD39)+(200*AE39)+(300*AF39)+(400*AG39)+(450*AH39)+(600*AI39)+(650*AJ39)+(1024*AK39)+(2048*AL39)+(3072*AM39) -> 192000 | AB39: 656 | AC39: 16 | AD39: 0 | AE39: 0 | AF39: 640 | AG39: 0 | AH39: 0 | AI39: 0 | AJ39: 0 | AK39: 0 | AL39: 0 | AM39: 0 | AN39: RAID-6 (6+2) | AO39: NA | AP39: 24 | AQ39: NA | AR39: NA | AS39: NA | AT39: NA | AU39: NA | AV39: Yes | AW39: No | AX39: No | AY39: YES | AZ39: Ganesh | BC39: =VLOOKUP(J39,ESRS!A:E,1,0) -> 295700613 | BD39: Yes
A40: CK295700478 | B40: HONG KONG | C40: HONG KONG | D40: 1 WANG WO TSAI STREET, TSUEN WAN | E40: SAN Storage | F40: SAN | G40: EMC | H40: SYMM VMAX 40K | I40: 295700478 | J40: 295700478 | K40: Row 08 IAD25-E-35 | L40: 172.19.232.44 | M40: 40450 | N40: 41909 | O40: 41909 | P40: =VLOOKUP(J40,'SYMM Code upgrade'!A:W,8,0) -> #N/A | Q40: =VLOOKUP(J40,'SYMM Code upgrade'!A:J,10,0) -> #N/A | S40: 0-Jan-00 | T40: n/a | U40: =LEFT(K40, 5) -> Row 0 | V40: COB | W40: hlixiu170 | X40: ssh (KRB) | Y40: swsa | Z40: APAC ECC Access Procedure | AA40: =(146*AD40)+(200*AE40)+(300*AF40)+(400*AG40)+(450*AH40)+(600*AI40)+(650*AJ40)+(1024*AK40)+(2048*AL40)+(3072*AM40) -> 0 | AZ40: Ganesh | BC40: =VLOOKUP(J40,ESRS!A:E,1,0) -> 295700478 | BD40: Yes
...

Sheet SYMM  Code upgrade
A1: SymmID | B1: Type | C1: Country | D1: Location | E1: Remarks | F1: Model | G1: Management host | H1: Current Microcode | K1: Upgrade History
H2: Version | I2: RFC/Date | J2: Current Certified Code | K2: Version | M2: RFC/Date | N2: Version | O2: RFC/Date | P2: Version | Q2: RFC/Date | R2: Version | S2: RFC/Date | T2: Version | U2: RFC/Date | V2: Version | W2: RFC/Date
A3: 290105366 | B3: PROD | C3: SG | D3: CT2B1-E32-E34 | E3: JFP | F3: DMX4-24 | G3: slixip167 | H3: 5773.184.130 | I3: 17931488 (02-Mar-14) | J3: 5773.184.130 | K3: =L3 -> 5773.184.130 | L3: =VLOOKUP(A3,'VMAX code upgrade reference'!A:D,3,0) -> 5773.184.130 | M3: 16031132 (07-Oct-12) | N3: 5773.168.115 | O3: 14609831 (13-Nov-11) | P3: 5773.163.113 | Q3: 14247220 (14-Aug-11) | R3: 5773.160.111 | S3: 13287878 (12-Dec-10)
A4: 290301222 | B4: PROD | C4: SG | D4: CT2B1-E38 | E4: Stratus | F4: DMX3-6 | G4: slixip167 | H4: 5773.168.115 | I4: 14609831 (13-Nov-11) | J4: 5773.168.115 | K4: =H4 -> 5773.168.115 | L4: =VLOOKUP(A4,'VMAX code upgrade reference'!A:D,3,0) -> #N/A | M4: 14247220 (14-Aug-11)
A5: 292600224 | B5: PROD | C5: SG | D5: CT2B1-E40-42 | F5: VMAX-1 | G5: slixip167 | H5: 5876.268.174 | I5: CHG0000330839 (17-Aug-14) | J5: 5876.268.174 | K5: =L5 -> 5876.229.145 | L5: =VLOOKUP(A5,'VMAX code upgrade reference'!A:D,3,0) -> 5876.229.145 | M5: 17945517 (09-Mar-14) | N5: 5875.269.201 | O5: 16851476 (21-Apr-13) | P5: 5875.231.172 | Q5: 15010996 (26-Feb-12) | R5: 5874.259.201 | S5: 14672515 (27-Nov-11) | T5: 5874.242.191 | U5: 13602000 (13-Mar-11)
A6: 292602662 | B6: PROD | C6: SG | D6: CT2B1-E79-81 | F6: VMAX-1 | G6: slixip167 | H6: 5876.268.174 | I6: CHG0000330839 (17-Aug-14) | J6: 5876.268.174 | K6: =L6 -> 5876.229.145 | L6: =VLOOKUP(A6,'VMAX code upgrade reference'!A:D,3,0) -> 5876.229.145 | M6: 17931488 (02-Mar-14) | N6: 5875.269.201 | O6: 16851476 (21-Apr-13) | P6: 5875.231.172 | Q6: 15140105 (25-Mar-12)
A7: 292603607 | B7: PROD | C7: SG | D7: CT2B1-E-006CA | F7: VMAX-1 | G7: slixip167 | H7: 5876.268.174 | I7: CHG0000341604 (24-Aug-14) | J7: 5876.268.174 | K7: =L7 -> 5876.229.145 | L7: =VLOOKUP(A7,'VMAX code upgrade reference'!A:D,3,0) -> 5876.229.145 | M7: CHG0000194430 (18-May-14) | N7: 5876.163.105 | O7: 17445685 (22-Sep-13) | P7: 5875.269.201
A8: 292603613 | B8: PROD | C8: SG | D8: CT2B1-E-007BX | E8: Non-Rep | F8: VMAX-1 | G8: slixip167 | H8: 5876.229.145 | I8: CHG0000163137 (27-Apr-14) | J8: 5876.268.174 | K8: =L8 -> 5876.229.145 | L8: =VLOOKUP(A8,'VMAX code upgrade reference'!A:D,3,0) -> 5876.229.145 | M8: 17445685 (22-Sep-13) | N8: 5875.269.201
A9: 292603628 | B9: PROD | C9: SG | D9: CT2B1-E-019BQ | F9: VMAX-1 | G9: slixip167 | H9: 5876.229.145 | I9: CHG0000194430 (18-May-14) | J9: 5876.268.174 | K9: =L9 -> 5876.229.145 | L9: =VLOOKUP(A9,'VMAX code upgrade reference'!A:D,3,0) -> 5876.229.145 | M9: 17445685 (22-Sep-13) | N9: 5875.269.201
A10: 292603943 | B10: PROD | C10: SG | D10: CT2B1-E021BP | F10: VMAX-1 | G10: slixip167 | H10: 5876.268.174 | I10: CHG0000341604 (24-Aug-14) | J10: 5876.268.174 | K10: =L10 -> 5876.229.145 | L10: =VLOOKUP(A10,'VMAX code upgrade reference'!A:D,3,0) -> 5876.229.145 | M10: 17945517 (09-Mar-14) | N10: 5875.269.201 | O10: 16897635 (19-May-13)
A11: 292603979 | B11: PROD | C11: SG | D11: CT2B1-E-013BX | E11: Flexcube | F11: VMAX-1 | G11: slixip167 | H11: 5876.268.174 | I11: CHG0000341604 (24-Aug-14) | J11: 5876.268.174 | K11: =L11 -> 5876.229.145 | L11: =VLOOKUP(A11,'VMAX code upgrade reference'!A:D,3,0) -> 5876.229.145 | M11: 17931488 (02-Mar-14) | N11: 5875.269.201 | O11: 16897635 (19-May-13)
A12: 295700507 | B12: PROD | C12: SG | D12: CT2L1-E-054H | F12: VMAX40K | G12: slixip167 | H12: 5876.229.145 | I12: CHG0000163137 (27-Apr-14) | J12: 5876.268.174 | K12: =L12 -> 5876.229.145 | L12: =VLOOKUP(A12,'VMAX code upgrade reference'!A:D,3,0) -> 5876.229.145
A13: 295700613 | B13: PROD | C13: SG | D13: CT2B1-E-004BY | F13: VMAX40K | G13: slixip167 | H13: 5876.229.145 | J13: 5876.268.174 | K13: =H13 -> 5876.229.145 | L13: =VLOOKUP(A13,'VMAX code upgrade reference'!A:D,3,0) -> #N/A
A14: 492600122 | B14: PROD | C14: SG | D14: CT2B1-E102 | F14: VMAX-1 | G14: slixip167 | H14: 5876.268.174 | I14: CHG0000341604 (24-Aug-14) | J14: 5876.268.174 | K14: =L14 -> 5876.268.174 | L14: =VLOOKUP(A14,'VMAX code upgrade reference'!A:D,3,0) -> 5876.268.174 | M14: 17866762 (9-Feb-14) | N14: 5875.269.201 | O14: 16851476 (21-Apr-13) | P14: 5875.231.172 | Q14: 15139941 (18-Mar-12)
A15: 492600146 | B15: PROD | C15: SG | D15: CT2B1-E118 | F15: VMAX-1 | G15: slixip167 | H15: 5876.268.174 | I15: CHG0000330839 (17-Aug-14) | J15: 5876.268.174 | K15: =H15 -> 5876.268.174 | L15: =VLOOKUP(A15,'VMAX code upgrade reference'!A:D,3,0) -> #N/A | M15: 17866762 (9-Feb-14) | N15: 5875.269.201 | O15: 16851476 (21-Apr-13) | P15: 5875.231.172 | Q15: 15140105 (25-Mar-12)
A16: 492600393 | B16: PROD | C16: SG | D16: CT2B1-E-014BY | F16: VMAX-1 | G16: slixip167 | H16: 5876.268.174 | I16: CHG0000194430 (18-May-14) | J16: 5876.268.174 | K16: =L16 -> 5876.229.145 | L16: =VLOOKUP(A16,'VMAX code upgrade reference'!A:D,3,0) -> 5876.229.145 | M16: 17445685 (22-Sep-13) | N16: 5875.269.201
A17: 495700035 | B17: PROD | C17: SG | D17: CT2L1- Row 55 -E-CT2L1-E-127I | F17: VMAX40K | G17: slixip167 | H17: 5876.229.145 | I17: CHG0000163137 (27-Apr-14) | J17: 5876.268.174 | K17: =L17 -> 5876.229.145 | L17: =VLOOKUP(A17,'VMAX code upgrade reference'!A:D,3,0) -> 5876.229.145
A18: 290300751 | B18: BUNK | C18: SG | D18: T3-E102 | F18: DMX3-6 | G18: ssunacs8 | H18: 5773.168.115 | J18: 5773.168.115 | K18: =H18 -> 5773.168.115 | L18: =VLOOKUP(A18,'VMAX code upgrade reference'!A:D,3,0) -> #N/A
A19: 295700499 | B19: PROD | C19: SG | D19: Row 45 CT2 B1-E-058CA | F19: VMAX 40K | H19: 5876.229.145 | J19: 5876.268.174 | K19: =L19 -> 5876.268.174 | L19: =VLOOKUP(A19,'VMAX code upgrade reference'!A:D,3,0) -> 5876.268.174
A20: 295700608 | B20: PROD | C20: SG | D20: Row 45 CT2 B1-E-058BX | F20: VMAX 40K | H20: 5876.229.145 | J20: 5876.268.174 | K20: =H20 -> 5876.229.145 | L20: =VLOOKUP(A20,'VMAX code upgrade reference'!A:D,3,0) -> #N/A
A21: 295700518 | B21: COB | C21: HK | D21: Asiatone | F21: VMAX 40K | H21: 5876.229.145 | J21: 5876.268.174 | K21: =H21 -> 5876.229.145 | L21: =VLOOKUP(A21,'VMAX code upgrade reference'!A:D,3,0) -> #N/A
A22: 292600268 | B22: BUNK | C22: SG | D22: T3-E103 | F22: VMAX-1 | G22: ssunacs8 | H22: 5876.268.174 | I22: CHG0000330839 (17-Aug-14) | J22: 5876.268.174 | K22: =L22 -> 5876.229.145 | L22: =VLOOKUP(A22,'VMAX code upgrade reference'!A:D,3,0) -> 5876.229.145 | M22: 17945517 (09-Mar-14) | N22: 5875.269.201 | O22: 16851476 (21-Apr-13) | P22: 5875.231.172 | Q22: 15010996 (26-Feb-12) | R22: 5874.259.201 | S22: 14672515 (27-Nov-11) | T22: 5874.242.191 | U22: 13602000 (13-Mar-11)
A23: 290105338 | B23: COB | C23: HK | D23: IAD25-E30 | F23: DMX4-24 | G23: hsunsmm02 | H23: 5773.184.130 | I23: 16691323 (24-Mar-13) | J23: 5773.184.130 | K23: =H23 -> 5773.184.130 | L23: =VLOOKUP(A23,'VMAX code upgrade reference'!A:D,3,0) -> #N/A | M23: 14495625 (23-Oct-11)
A24: 290301196 | B24: COB | C24: HK | D24: IAD25-E32 | F24: DMX3-6 | G24: hsunsmm02 | H24: 5773.184.130 | I24: 16691323 (24-Mar-13) | J24: 5773.184.130 | K24: =H24 -> 5773.184.130 | L24: =VLOOKUP(A24,'VMAX code upgrade reference'!A:D,3,0) -> #N/A | M24: 14495625 (23-Oct-11)
A25: 292600269 | B25: COB | C25: HK | D25: IAD25-E33 | F25: VMAX-1 | G25: hsunsmm02 | H25: 5876.268.174 | I25: CHG0000287924 (20-Jul-14) | J25: 5876.268.174 | K25: =L25 -> 5876.268.174 | L25: =VLOOKUP(A25,'VMAX code upgrade reference'!A:D,3,0) -> 5876.268.174 | M25: 17810194 (19-Jan-14) | N25: 5875.269.201 | O25: 16691323 (24-Mar-13) | P25: 5875.231.172 | Q25: 15010981 (19-Feb-12) | R25: 5874.259.201 | S25: 14672515 (27-Nov-11) | T25: 5874.248.194 | U25: 14495625 (23-Oct-11) | V25: 5874.248.194 | W25: 14495625 (23-Oct-11)
A26: 492600105 | B26: COB | C26: HK | D26: IAD22-E11 | F26: VMAX-1 | G26: hsunsmm02 | H26: 5876.268.174 | I26: CHG0000287924 (20-Jul-14) | J26: 5876.268.174 | K26: =L26 -> 5876.268.174 | L26: =VLOOKUP(A26,'VMAX code upgrade reference'!A:D,3,0) -> 5876.268.174 | M26: 17810194 (19-Jan-14) | N26: 5875.269.201 | O26: 16691323 (24-Mar-13) | P26: 5875.231.172 | Q26: 15139941 (18-Mar-12)
A27: 492600106 | B27: COB | C27: HK | D27: IAD27-E56 | F27: VMAX-1 | G27: hsunsmm02 | H27: 5876.268.174 | I27: CHG0000287924 (20-Jul-14) | J27: 5876.268.174 | K27: =L27 -> 5876.268.174 | L27: =VLOOKUP(A27,'VMAX code upgrade reference'!A:D,3,0) -> 5876.268.174 | M27: 17810194 (19-Jan-14) | N27: 5875.269.201 | O27: 16798281 (07-Apr-13)
A28: 290103014 | B28: COB | C28: HK | D28: AST4-DC2-E28 | F28: DMX4-24 | G28: hlixiu634 | H28: 5773.176.124 | J28: 5773.176.124 | K28: =H28 -> 5773.176.124 | L28: =VLOOKUP(A28,'VMAX code upgrade reference'!A:D,3,0) -> #N/A | M28: 14484875 (16-Oct-11)
A29: 292602398 | B29: COB | C29: HK | D29: AST3-DC6-E002C (Row 10) | E29: Non-Rep | F29: VMAX-1 | G29: hlixiu634 | H29: 5876.268.174 | I29: CHG0000312423 (03-Aug-14) | J29: 5876.268.174 | K29: =L29 -> 5876.229.145 | L29: =VLOOKUP(A29,'VMAX code upgrade reference'!A:D,3,0) -> 5876.229.145 | M29: CHG0000106948 (06-Apr-14) | N29: 5876.163.105 | O29: 17445685 (22-Sep-13) | P29: 5875.269.201
A30: 292603609 | B30: COB | C30: HK | D30: AST4-DC2-E13B | E30: ICG | F30: VMAX-1 | G30: hlixiu634 | H30: 5876.268.174 | I30: CHG0000299267 (27-Jul-14) | J30: 5876.268.174 | K30: =L30 -> 5876.268.174 | L30: =VLOOKUP(A30,'VMAX code upgrade reference'!A:D,3,0) -> 5876.268.174 | M30: 17836251 (26-Jan-14) | N30: 5875.269.201 | O30: 16798281 (07-Apr-13)
A31: 292603629 | B31: COB | C31: HK | D31: AST3-DC6-E004D (Row 8) | F31: VMAX-1 | G31: hlixiu634 | H31: 5876.268.174 | I31: CHG0000312423 (03-Aug-14) | J31: 5876.268.174 | K31: =L31 -> 5876.229.145 | L31: =VLOOKUP(A31,'VMAX code upgrade reference'!A:D,3,0) -> 5876.229.145 | M31: CHG0000106948 (06-Apr-14) | N31: 5876.163.105 | O31: 17445685 (22-Sep-13) | P31: 5875.269.201
A32: 292603631 | B32: COB | C32: HK | D32: AST3-DC6-E003B (Row 13) | E32: Non-Rep | F32: VMAX-1 | G32: hlixiu634 | H32: 5876.268.174 | I32: CHG0000312423 (03-Aug-14) | J32: 5876.268.174 | K32: =L32 -> 5876.229.145 | L32: =VLOOKUP(A32,'VMAX code upgrade reference'!A:D,3,0) -> 5876.229.145 | M32: CHG0000106948 (06-Apr-14) | N32: 5876.163.105 | O32: 17445685 (22-Sep-13) | P32: 5875.269.201
A33: 292604047 | B33: COB | C33: HK | D33: AST4-DC2-E017 | F33: VMAX-1 | G33: hlixiu634 | H33: 5876.268.174 | I33: CHG0000299267 (27-Jul-14) | J33: 5876.268.174 | K33: =L33 -> 5876.268.174 | L33: =VLOOKUP(A33,'VMAX code upgrade reference'!A:D,3,0) -> 5876.268.174 | M33: 17836251 (26-Jan-14) | N33: 5875.269.201 | O33: 16798281 (07-Apr-13)
A34: 292604132 | B34: COB | C34: HK | D34: AST4-DC2-E020 | F34: VMAX-1 | G34: hlixiu634 | H34: 5876.268.174 | I34: CHG0000299267 (27-Jul-14) | J34: 5876.268.174 | K34: =L34 -> 5876.268.174 | L34: =VLOOKUP(A34,'VMAX code upgrade reference'!A:D,3,0) -> 5876.268.174 | M34: 17836251 (26-Jan-14) | N34: 5875.269.201 | O34: 16798281 (07-Apr-13)
A35: 295700517 | B35: COB | C35: HK | D35: AST3-DC6-E010 - Row 13 | F35: VMAX40K | G35: hlixiu634 | H35: 5876.268.174 | I35: CHG0000312423 (03-Aug-14) | J35: 5876.268.174 | K35: =L35 -> 5876.229.145 | L35: =VLOOKUP(A35,'VMAX code upgrade reference'!A:D,3,0) -> 5876.229.145 | M35: CHG0000140761 (20-Apr-14) | N35: 5876.163.105
A36: 295700527 | B36: COB | C36: HK | D36: AST3-DC6-E009 - Row 10 | F36: VMAX40K | G36: hlixiu634 | H36: 5876.268.174 | I36: CHG0000322788 (10-Aug-14) | J36: 5876.268.174 | K36: =L36 -> 5876.229.145 | L36: =VLOOKUP(A36,'VMAX code upgrade reference'!A:D,3,0) -> 5876.229.145 | M36: CHG0000140761 (20-Apr-14) | N36: 5876.163.105
A37: 492600150 | B37: COB | C37: HK | D37: AST4-DC2-E10 | F37: VMAX-1 | G37: hlixiu634 | H37: 5876.268.174 | I37: CHG0000299267 (27-Jul-14) | J37: 5876.268.174 | K37: =L37 -> 5876.268.174 | L37: =VLOOKUP(A37,'VMAX code upgrade reference'!A:D,3,0) -> 5876.268.174 | M37: 17810194 (19-Jan-14) | N37: 5875.269.201 | O37: 16798281 (07-Apr-13) | P37: 5875.231.172 | Q37: 15139941 (18-Mar-12)
A38: 492600392 | B38: COB | C38: HK | D38: AST3-DC6-E001C (Row 7) | F38: VMAX-1 | G38: hlixiu634 | H38: 5876.268.174 | I38: CHG0000299267 (27-Jul-14) | J38: 5876.268.174 | K38: =L38 -> 5876.229.145 | L38: =VLOOKUP(A38,'VMAX code upgrade reference'!A:D,3,0) -> 5876.229.145 | M38: CHG0000106948 (06-Apr-14) | N38: 5876.163.105 | O38: 17445685 (22-Sep-13) | P38: 5875.269.201
A39: 295700611 | B39: COB | C39: HK | D39: AST4-DC2–E032 | F39: VMAX40K | G39: hlixiu634 | H39: 5876.268.174 | I39: CHG0000322788 (10-Aug-14) | J39: 5876.268.174 | K39: =L39 -> 5876.268.174 | L39: =VLOOKUP(A39,'VMAX code upgrade reference'!A:D,3,0) -> 5876.268.174
A40: 292603574 | B40: PROD | C40: HK | D40: IAD23-E14 | E40: ICG | F40: VMAX-1 | G40: hlixiu633 | H40: 5876.268.174 | I40: CHG0000322788 (10-Aug-14) | J40: 5876.268.174 | K40: =L40 -> 5876.268.174 | L40: =VLOOKUP(A40,'VMAX code upgrade reference'!A:D,3,0) -> 5876.268.174 | M40: 17866762 (9-Feb-14) | N40: 5875.269.201 | O40: 16828216 (14-Apr-13)
...

Sheet SE servers
A1: hostname | B1: ip | C1: OS | D1: SE version
A2: ssunsmm01 | B2: 163.37.241.20 | C2: SunOS ssunsmm01 5.10 Generic_147440-27 sun4u sparc SUNW,Sun-Fire-V490 | D2: V7.5.0.0
A3: ssunsmm02 | B3: 163.37.238.14 | C3: SunOS ssunsmm02 5.10 Generic_147440-27 sun4u sparc SUNW,Sun-Fire-V490 | D3: V7.5.0.0
A4: hsunsmm02 | B4: 129.14.10.5 | C4: SunOS hsunsmm02 5.10 Generic_147440-27 sun4u sparc SUNW,Sun-Fire-V490 | D4: V7.5.0.0
A5: hlixiu170 | B5: 169.165.5.11 | C5: Linux hlixiu170.apac.nsroot.net 2.6.18-348.4.1.el5 #1 SMP Fri Mar 22 05:41:51 EDT 2013 x86_64 x86_64 x86_64 GNU/Linux | D5: V7.6.1.0
A6: clixip155 | B6: 169.179.35.29 | C6: Linux clixip155.apac.nsroot.net 2.6.18-238.45.1.el5 #1 SMP Thu Sep 20 12:19:35 EDT 2012 x86_64 x86_64 x86_64 GNU/Linux | D6: V7.6.1.0
A7: clixip170 | B7: 169.179.35.35 | C7: Linux clixip170.apac.nsroot.net 2.6.18-238.45.1.el5 #1 SMP Thu Sep 20 12:19:35 EDT 2012 x86_64 x86_64 x86_64 GNU/Linux | D7: V7.6.1.0
A8: hlixiu633 | B8: 169.181.17.24 | C8: Linux hlixiu633.apac.nsroot.net 2.6.18-348.4.1.el5 #1 SMP Fri Mar 22 05:41:51 EDT 2013 x86_64 x86_64 x86_64 GNU/Linux | D8: V7.6.1.0
A9: hlixiu634 | B9: 169.179.82.11 | C9: Linux hlixiu634.apac.nsroot.net 2.6.18-348.4.1.el5 #1 SMP Fri Mar 22 05:41:51 EDT 2013 x86_64 x86_64 x86_64 GNU/Linux | D9: V7.6.1.0
A10: slixip167 | B10: 169.179.108.69 | C10: Linux slixip167.apac.nsroot.net 2.6.18-238.45.1.el5 #1 SMP Thu Sep 20 12:19:35 EDT 2012 x86_64 x86_64 x86_64 GNU/Linux | D10: V7.6.1.0
A11: ssunacs8 | B11: 163.37.189.185 | C11: SunOS ssunacs8 5.10 Generic_147440-27 sun4u sparc SUNW,Sun-Fire-V240 | D11: V7.5.0.0

Sheet MDS firmware upgrade
A1: Serial No: | B1: Switch Name | C1: Chassis S No | D1: Model | E1: Current Code Level | F1: Current CATE Certified Code | G1: Env | H1: Country | I1: Completed 5.2(8b) | J1: Target Date 5.2(8c) | K1: Completed 5.2(8c) | L1: Completed Date | M1: Target Date 5.2(8d) | N1: Completed 5.2(8d) | O1: Completed Date
A2: FOX112013BE | B2: HKIADSW01 | C2: JAE1149A1P4 | D2: 9124 | E2: 5.2(8c) | F2: 5.2(8d) | G2: Backup-NAS | H2: Hong Kong | I2: 41560 | J2: 41700 | K2: Yes | L2: 41700
A3: FOX1349GGWG | B3: HKIADSW02 | C3: JAF13512XWY | D3: 9124 | E3: 5.2(8c) | F3: 5.2(8d) | G3: Backup-NAS | H3: Hong Kong | I3: 41560 | J3: 41700 | K3: Yes | L3: 41700
A4: FOX1347GQXS | B4: HKIADSW03 | C4: JAF13512XXV | D4: 9124 | E4: 5.2(8c) | F4: 5.2(8d) | G4: Backup-Legato | H4: Hong Kong | I4: 41553 | J4: 41700 | K4: Yes | L4: 41700
A5: FOX1352GY5Q | B5: HKDSHSW01 | C5: JAF14060Z0Y | D5: 9124 | E5: 5.2(8c) | F5: 5.2(8d) | G5: Backup | H5: Hong Kong | I5: 41560 | J5: 41700 | K5: Yes | L5: 41700
A6: FOX1119002W | B6: SGTPKSW01 | C6: JAE1149A1T8 | D6: 9124 | E6: 5.2(8c) | F6: 5.2(8d) | G6: Backup-NAS | H6: Singapore | I6: 41560 | J6: 41700 | K6: Yes | L6: 41700
A7: FOX1119002M | B7: SGTPKSW02 | C7: JAE1149A1T5 | D7: 9124 | E7: 5.2(8c) | F7: 5.2(8d) | G7: Backup-NAS | H7: Singapore | I7: 41560 | J7: 41700 | K7: Yes | L7: 41700
A8: FOX1435GRXF | B8: SGTPKSW03 | C8: JAF1442U093 | D8: 9124 | E8: 5.2(8c) | F8: 5.2(8d) | G8: Backup-NAS | H8: Singapore | I8: 41560 | J8: 41700 | K8: Yes | L8: 41700
A9: FOX1435GRYM | B9: SGTPKSW04 | C9: JAF1442U099 | D9: 9124 | E9: 5.2(8c) | F9: 5.2(8d) | G9: Not in use | H9: Singapore | I9: 41553 | J9: 41700 | K9: Yes | L9: 41700
A10: FOX112013BL | B10: HKCPSW01 | C10: JAE1149A1NJ | D10: 9124 | E10: 5.2(8c) | F10: 5.2(8d) | G10: Backup-NAS | H10: Hong Kong | I10: 41560 | J10: 41700 | K10: Yes | L10: 41700
A11: FOX1349H9JR | B11: SGCINSW01 | C11: JAF1404061Y | D11: 9124 | E11: 5.2(8c) | F11: 5.2(8d) | G11: Backup-Legato | H11: Singapore | I11: 41553 | J11: 41700 | K11: Yes | L11: 41700
A12: FOX1349GH0L | B12: SGCINSW02 | C12: JAF14091631 | D12: 9124 | E12: 5.2(8c) | F12: 5.2(8d) | G12: Backup-NAS | H12: Singapore | I12: 41560 | J12: 41700 | K12: Yes | L12: 41700
A13: FOX1349GGZK | B13: SGCINSW03 | C13: JAF1409162Z | D13: 9124 | E13: 5.2(8c) | F13: 5.2(8d) | G13: Backup-NAS | H13: Singapore | I13: 41560 | J13: 41700 | K13: Yes | L13: 41700
... A15: FOX1340GP4Y | B15: TWCPBSW02 | C15: JAF1347245X | D15: 9124 | E15: 5.2(8c) | F15: 5.2(8d) | G15: Backup-NAS | H15: Taiwan | I15: 41553 | J15: 41700 | K15: Yes | L15: 41700
A16: FOX1426GSRX | B16: MYKLSW03 | C16: JAF143886X2 | D16: 9124 | E16: 5.2(8c) | F16: 5.2(8d) | G16: ICG-PROD | H16: Malaysia | J16: 41707 | K16: Yes | L16: 41714
A17: FOX1426GSWX | B17: MYKLSW04 | C17: JAF1438844X | D17: 9124 | E17: 5.2(8c) | F17: 5.2(8d) | G17: ICG-PROD | H17: Malaysia | J17: 41714 | K17: Yes | L17: 41721
A18: FOX1435GPV8 | B18: SYDEXCSW1 | C18: JAF1449V462 | D18: 9124 | E18: 5.2(8c) | F18: 5.2(8d) | G18: Exchange | H18: Australia | I18: 41560 | J18: 41735 | K18: Yes | L18: 41721
A19: FOX1447GP7R | B19: SYDEXCSW2 | C19: JAF1449V989 | D19: 9124 | E19: 5.2(8c) | F19: 5.2(8d) | G19: Exchange | H19: Australia | I19: 41567 | J19: 41735 | K19: Yes | L19: 41735
A20: FOX1435GP5N | B20: WPHEXCSW1 | C20: JAF1449V42Z | D20: 9124 | E20: 5.2(8c) | F20: 5.2(8d) | G20: Exchange | H20: Australia | I20: 41560 | J20: 41735 | K20: Yes | L20: 41721
A21: FOX1447GP85 | B21: WPHEXCSW2 | C21: JAF1449V895 | D21: 9124 | E21: 5.2(8c) | F21: 5.2(8d) | G21: Exchange | H21: Australia | I21: 41567 | J21: 41735 | K21: Yes | L21: 41735
A22: FOX1449GV55 | B22: HKIADSW04 | C22: JAF15050XXY | D22: 9124 | E22: 5.2(8c) | F22: 5.2(8d) | G22: Exchange | H22: Hong Kong | I22: 41560 | J22: 41735 | K22: Yes | L22: 41721
A23: FOX1438H3M5 | B23: HKIADSW05 | C23: JAF1449V3YZ | D23: 9124 | E23: 5.2(8c) | F23: 5.2(8d) | G23: Exchange | H23: Hong Kong | I23: 41567 | J23: 41735 | K23: Yes | L23: 41735
A24: FOX1435GRU8 | B24: SGCINSW04 | C24: JAF1449V864 | D24: 9124 | E24: 5.2(8c) | F24: 5.2(8d) | G24: Exchange | H24: Singapore | I24: 41560 | J24: 41735 | K24: Yes | L24: 41721
A25: FOX1435GP6K | B25: SGCINSW05 | C25: JAF1449V757 | D25: 9124 | E25: 5.2(8c) | F25: 5.2(8d) | G25: Exchange | H25: Singapore | I25: 41567 | J25: 41735 | K25: Yes | L25: 41735
A26: FOX1340GP4T | B26: TWKHBSW01 | C26: JAF134724U7 | D26: 9124 | E26: 5.2(8c) | F26: 5.2(8d) | G26: Backup | H26: Taiwan | I26: 41553 | J26: 41707 | K26: Yes | L26: 41714
A27: FOX1340GP3N | B27: TWKHBSW02 | C27: JAF13472499 | D27: 9124 | E27: 5.2(8c) | F27: 5.2(8d) | G27: Backup | H27: Taiwan | I27: 41553 | J27: 41707 | K27: Yes | L27: 41714
A28: FOX1407GR9L | B28: Berylnaslibrary | C28: JAF1409AJHR | D28: 9124 | E28: 5.2(8c) | F28: 5.2(8d) | G28: NAS NDMP | H28: India | J28: 41742 | K28: Yes | L28: 41749
A29: FOX1407GP73 | B29: CISCO-MER | C29: JAF1411AKLD | D29: 9124 | E29: 5.2(8c) | F29: 5.2(8d) | G29: NAS NDMP | H29: India | J29: 41742 | K29: Yes | L29: 41749
A30: FOX1517H32G | B30: THBKKSW01 | C30: JAF152459UU | D30: 9124 | E30: 5.2(8c) | F30: 5.2(8d) | G30: ICG-VNX PROD | H30: Thailand | J30: 41714 | K30: Yes | L30: 41714
A31: FOX11050CRS | B31: THBKKSW02 | C31: JAB1122N88T | D31: 9124 | E31: 5.2(8c) | F31: 5.2(8d) | G31: ICG-VNX PROD | H31: Thailand | J31: 41721 | K31: Yes | L31: 41721
A32: FOX1450G8P3 | B32: THBKKSW03 | C32: JAF150816V9 | D32: 9124 | E32: 5.2(8c) | F32: 5.2(8d) | G32: ICG-VNX COB | H32: Thailand | J32: 41707 | K32: Yes | L32: 41714
A33: FOX1520GJ3Y | B33: THBKKSW04 | C33: JAF152661X4 | D33: 9124 | E33: 5.2(8c) | F33: 5.2(8d) | G33: ICG-VNX COB | H33: Thailand | J33: 41707 | K33: Yes | L33: 41721
A34: FOX1347GR0U | B34: MYKLSW01 | C34: JAF13523296 | D34: 9124 | E34: 5.2(8c) | F34: 5.2(8d) | G34: NAS NDMP | H34: Malaysia | I34: 41581 | J34: 41756 | K34: Yes | L34: 41756
A35: FOX1349GL5W | B35: MYKLSW02 | C35: JAF13523271 | D35: 9124 | E35: 5.2(8c) | F35: 5.2(8d) | G35: NAS NDMP | H35: Malaysia | I35: 41581 | J35: 41756 | K35: Yes | L35: 41756
A36: FOX1347GR18 | B36: MYPGSW01 | C36: JAF13523297 | D36: 9124 | E36: 5.2(8c) | F36: 5.2(8d) | G36: NAS NDMP | H36: Malaysia | I36: 41581 | J36: 41756 | K36: Yes | L36: 41756
A37: FOX1347GR26 | B37: MYPGSW02 | C37: JAF1352329Z | D37: 9124 | E37: 5.2(8c) | F37: 5.2(8d) | G37: NAS NDMP | H37: Malaysia | I37: 41581 | J37: 41756 | K37: Yes | L37: 41756
A38: FOX1413G2WZ | B38: INDOBIOSW01 | C38: JAF14142675 | D38: 9124 | E38: 5.2(8c) | F38: 5.2(8d) | G38: NAS NDMP | H38: Indonesia | I38: 41616 | J38: 41742 | K38: Yes | L38: 41749
A39: FOX1413G2X0 | B39: INDOBIOSW02 | C39: JAF14142676 | D39: 9124 | E39: 5.2(8c) | F39: 5.2(8d) | G39: NAS NDMP | H39: Indonesia | I39: 41616 | J39: 41742 | K39: Yes | L39: 41749
