Workbook

Sheet XIO_inventory
A1: City | B1: Assigned Name | C1: Serial # | D1: Rack Information | E1: IP RDP ( AD - APPC Domain)dress | F1: Current Code Level | G1: To be upgraded to | H1: Schedule date
A2: SINGAPORE | B2: sinctinasx8008 | C2: CKM00142501600 | D2: CT2L1-E-100W | E2: 163.36.186.176 | F2: 3.0.0-42 | G2: 3.0.1-11 | H2: 42068
A3: SINGAPORE | B3: sinctinasx8007 | C3: CKM00142601511 | D3: CT2L1-E-100W | E3: 163.36.186.175 | F3: 3.0.0-42 | G3: 3.0.1-11 | H3: 42068
A4: SINGAPORE | B4: sinctinasx8006 | C4: CKM00140101266 | D4: CT2L1-I-100U | E4: 163.36.186.174 | F4: 3.0.0-42 | G4: 3.0.1-11 | H4: 42068
A5: SINGAPORE | B5: sinctinasx8005 | C5: CKM00142501085 | D5: CT2L1-I-100U | E5: 163.36.186.173 | F5: 3.0.0-42 | G5: 3.0.1-11 | H5: 42068
A6: SINGAPORE | B6: sinctinasx8004 | C6: CKM00142500995 | D6: CT2L1-I-100S | E6: 163.36.186.172 | F6: 3.0.0-42 | G6: 3.0.1-11 | H6: 42282
A7: SINGAPORE | B7: sinctinasx8003 | C7: CKM00142601275 | D7: CT2L1-I-100S | E7: 163.36.186.86 | F7: 3.0.0-42 | G7: 3.0.1-11 | H7: 42282
A8: SINGAPORE | B8: sinctinasx8002 | C8: CKM00140101436 | D8: CT2L1-I-104K | E8: 163.36.186.171 | F8: 3.0.0-42 | G8: 3.0.1-11 | H8: 42282
A9: SINGAPORE | B9: sinctinasx8001 | C9: CKM00140101248 | D9: CT2L1-I-104K | E9: 163.36.186.170 | F9: 3.0.0-42 | G9: 3.0.1-11 | H9: 42282
A10: HONG KONG | B10: hkgctinasx8001 | C10: CKM00140501045 | D10: AST3-DC5-I005 | E10: 163.36.108.163 | F10: 3.0.0-42 | G10: 3.0.1-11 | H10: 17/05/2015
A11: HONG KONG | B11: hkgctinasx8002 | C11: CKM00140501307 | D11: AST3-DC5-I005 | E11: 163.36.108.169 | F11: 3.0.0-42 | G11: 3.0.1-11 | H11: 17/05/2015
A12: HONG KONG | B12: hkgctinasx8003 | C12: CKM00141400023 | D12: AST3-DC5-I007 | E12: 163.36.108.186 | F12: 3.0.0-42 | G12: 3.0.1-11 | H12: 17/05/2015
A13: HONG KONG | B13: hkgctinasx8004 | C13: CKM00140501044 | D13: AST3-DC5-I007 | E13: 163.36.108.199 | F13: 3.0.0-42 | G13: 3.0.1-11 | H13: 17/05/2015
A14: HONG KONG | B14: hkgctinasx8005 | C14: CKM00142100388 | D14: AST3-DC5-I008 | E14: 163.36.108.202 | F14: 3.0.0-42 | G14: 3.0.1-11 | H14: 17/05/2015
A15: HONG KONG | B15: hkgctinasx8006 | C15: CKM00142100220 | D15: AST3-DC5-I008 | E15: 163.36.108.203 | F15: 3.0.0-42 | G15: 3.0.1-11 | H15: 24/05/2015
A16: HONG KONG | B16: hkgctinasx8007 | C16: CKM00142603405 | D16: AST3-DC5-I010 | E16: 163.36.108.204 | F16: 3.0.0-42 | G16: 3.0.1-11 | H16: 24/05/2015
A17: HONG KONG | B17: hkgctinasx8008 | C17: CKM00142502596 | D17: AST3-DC5-I010 | E17: 169.181.190.228 | F17: 3.0.0-42 | G17: 3.0.1-11 | H17: 24/05/2015
A20: Regards

Sheet Inventory
A1: Serial # | B1: Country | C1: City | D1: Site Address | E1: Asset Subtype | F1: Platform | G1: Vendor | H1: Model | I1: Assigned Name | J1: Serial# | K1: Rack Information | L1: IP Address to RDP ( AD - APPC Domain) | M1: Installation date | N1: Warranty End Date | O1: Maintenance Start Date | P1: Current Code Level | Q1: Latest CATE Supported Code Level | R1: EOVS End of Vendor Support | S1: EOSL End of Support Life | T1: Remarks | U1: Location | V1: Environment | W1: Mgmt Station | X1: Access to Mgmt Station | Y1: Access to Device | Z1: ECC/DCNM/Tuning Manager Access | AA1: Total installed Capacity ( Market Size in GB) | AB1: Total Installed Disks | AC1: Spare Disks | AD1: Disk Type 1 146GB | AE1: Disk Type 2 200GB | AF1: Disk Type 3 300GB | AG1: Disk Type 3 400GB | AH1: Disk Type 4 450GB | AI1: Disk Type 5 600GB | AJ1: Disk Type 6 650GB | AK1: Disk Type 7 1024GB | AL1: Disk Type 8 2048GB | AM1: Disk Type 9 3072GB | AN1: RAID TYPE | AO1: Usable Capacity | AP1: Installed FA ports | AQ1: No of Switch Modules X ports | AR1: Module Type 1 16Port | AS1: Module Type 2 24 port | AT1: Module Type 3 32 port | AU1: Module Type 4 48 port | AV1: Vendor Dail home Status | AW1: Citi Internal VT status | AX1: Citi Alaram Point / Scripted Alert | AY1: ECC Alert Status | AZ1: Code upgrRDP ( AD - APPC Domain)e Handled by | BA1: Log review | BB1: SBCC Q1-2015 | BC1: ESRS DUMP Reference | BD1: ESRS Status
A2: CK290105366 | B2: SINGAPORE | C2: SINGAPORE | D2: 75 SCIENCE PARK DRIVE, SINGAPORE SCIENCE PARK I | E2: SAN Storage | F2: SAN | G2: EMC | H2: SYMM DMX-4 2500 | I2: =J2 -> 290105366 | J2: 290105366 | K2: CT2B1-E32-E34 | L2: =VLOOKUP(J2,ESRS!A:E,5,0) -> 172.19.107.44 | M2: 39971 | N2: 42145 | O2: 42146 | P2: =VLOOKUP(J2,'SYMM Code upgrade'!A:W,8,0) -> #N/A | Q2: =VLOOKUP(J2,'SYMM Code upgrade'!A:J,10,0) -> #N/A | S2: 43008 | T2: n/a | U2: =LEFT(K2, 5) -> CT2B1 | V2: PROD | W2: slixip167 | X2: ssh (KRB) | Y2: pbrun ksh | Z2: APAC ECC Access Procedure | AA2: 49056 | AB2: 336 | AC2: 8 | AD2: 336 | AE2: 0 | AF2: 0 | AG2: 0 | AH2: 0 | AI2: 0 | AJ2: 0 | AK2: 0 | AL2: 0 | AM2: 0 | AN2: RAID-6 (6+2) | AO2: NA | AP2: 32 | AQ2: NA | AR2: NA | AS2: NA | AT2: NA | AU2: NA | AV2: Yes | AW2: No | AX2: No | AY2: YES | AZ2: Ganesh | BA2: SEMS | BC2: =VLOOKUP(J2,ESRS!A:E,1,0) -> 290105366 | BD2: Yes
A3: CK290301222 | B3: SINGAPORE | C3: SINGAPORE | D3: 75 SCIENCE PARK DRIVE, SINGAPORE SCIENCE PARK I | E3: SAN Storage | F3: SAN | G3: EMC | H3: SYMM DMX-3 950 | I3: =J3 -> 290301222 | J3: 290301222 | K3: CT2B1-E38 | L3: 172.19.107.45 | M3: 39992 | N3: 41670 | O3: 41671 | P3: =VLOOKUP(J3,'SYMM Code upgrade'!A:W,8,0) -> #N/A | Q3: =VLOOKUP(J3,'SYMM Code upgrade'!A:J,10,0) -> #N/A | S3: 42369 | T3: Tech-Refresh In-Progress | U3: =LEFT(K3, 5) -> CT2B1 | V3: PROD | W3: slixip167 | X3: ssh (KRB) | Y3: pbrun ksh | Z3: APAC ECC Access Procedure | AA3: 12848 | AB3: 88 | AC3: 8 | AD3: 88 | AE3: 0 | AF3: 0 | AG3: 0 | AH3: 0 | AI3: 0 | AJ3: 0 | AK3: 0 | AL3: 0 | AM3: 0 | AN3: RAID-6 (6+2) | AO3: NA | AP3: 8 | AQ3: NA | AR3: NA | AS3: NA | AT3: NA | AU3: NA | AV3: Yes | AW3: No | AX3: No | AY3: YES | AZ3: Ganesh | BC3: =VLOOKUP(J3,ESRS!A:E,1,0) -> 290301222 | BD3: Yes
A4: CK292600224 | B4: SINGAPORE | C4: SINGAPORE | D4: 75 SCIENCE PARK DRIVE, SINGAPORE SCIENCE PARK I | E4: SAN Storage | F4: SAN | G4: EMC | H4: SYMM VMAX-1 | I4: =J4 -> 292600224 | J4: 292600224 | K4: CT2B1-E40-42 | L4: 172.19.107.50 | M4: 40032 | N4: 41670 | O4: 41670 | P4: =VLOOKUP(J4,'SYMM Code upgrade'!A:W,8,0) -> #N/A | Q4: =VLOOKUP(J4,'SYMM Code upgrade'!A:J,10,0) -> #N/A | S4: 0-Jan-00 | T4: n/a | U4: =LEFT(K4, 5) -> CT2B1 | V4: PROD | W4: slixip167 | X4: ssh (KRB) | Y4: pbrun ksh | Z4: APAC ECC Access Procedure | AA4: 36592 | AB4: 200 | AC4: 8 | AD4: 152 | AE4: 0 | AF4: 48 | AG4: 0 | AH4: 0 | AI4: 0 | AJ4: 0 | AK4: 0 | AL4: 0 | AM4: 0 | AN4: RAID-6 (14+2) | AO4: NA | AP4: 32 | AQ4: NA | AR4: NA | AS4: NA | AT4: NA | AU4: NA | AV4: Yes | AW4: No | AX4: No | AY4: YES | AZ4: Ganesh | BC4: =VLOOKUP(J4,ESRS!A:E,1,0) -> 292600224 | BD4: Yes
A5: CK292602662 | B5: SINGAPORE | C5: SINGAPORE | D5: 75 SCIENCE PARK DRIVE, SINGAPORE SCIENCE PARK I | E5: SAN Storage | F5: SAN | G5: EMC | H5: SYMM VMAX 1 | I5: =J5 -> 292602662 | J5: 292602662 | K5: CT2B1-E79-81 | L5: 172.19.107.93 | M5: 40622 | N5: 42082 | O5: 42074 | P5: =VLOOKUP(J5,'SYMM Code upgrade'!A:W,8,0) -> #N/A | Q5: =VLOOKUP(J5,'SYMM Code upgrade'!A:J,10,0) -> #N/A | S5: 0-Jan-00 | T5: n/a | U5: =LEFT(K5, 5) -> CT2B1 | V5: PROD | W5: slixip167 | X5: ssh (KRB) | Y5: pbrun ksh | Z5: APAC ECC Access Procedure | AA5: 107000 | AB5: 245 | AC5: 9 | AD5: 0 | AE5: 13 | AF5: 0 | AG5: 0 | AH5: 232 | AI5: 0 | AJ5: 0 | AK5: 0 | AL5: 0 | AM5: 0 | AN5: RAID-5 (7+1) RAID-6 (14+2) | AO5: NA | AP5: 32 | AQ5: NA | AR5: NA | AS5: NA | AT5: NA | AU5: NA | AV5: Yes | AW5: No | AX5: No | AY5: YES | AZ5: Ganesh | BC5: =VLOOKUP(J5,ESRS!A:E,1,0) -> 292602662 | BD5: Yes
A6: CK292603607 | B6: SINGAPORE | C6: SINGAPORE | D6: 75 SCIENCE PARK DRIVE, SINGAPORE SCIENCE PARK I | E6: SAN Storage | F6: SAN | G6: EMC | H6: SYMM VMAX-1 | I6: =J6 -> 292603607 | J6: 292603607 | K6: CT2B1 E- Row 51 | L6: =VLOOKUP(J6,ESRS!A:E,5,0) -> 172.19.107.74 | M6: 41124 | N6: 42584 | O6: 42585 | P6: =VLOOKUP(J6,'SYMM Code upgrade'!A:W,8,0) -> #N/A | Q6: =VLOOKUP(J6,'SYMM Code upgrade'!A:J,10,0) -> #N/A | S6: 0-Jan-00 | T6: n/a | U6: =LEFT(K6, 5) -> CT2B1 | V6: PROD | W6: slixip167 | X6: ssh (KRB) | Y6: pbrun ksh | Z6: APAC ECC Access Procedure | AA6: 94200 | AB6: 314 | AC6: 10 | AD6: 0 | AE6: 0 | AF6: 314 | AG6: 0 | AH6: 0 | AI6: 0 | AJ6: 0 | AK6: 0 | AL6: 0 | AM6: 0 | AN6: RAID-6 (6+2) | AO6: NA | AP6: 48 | AQ6: NA | AR6: NA | AS6: NA | AT6: NA | AU6: NA | AV6: Yes | AW6: No | AX6: No | AY6: YES | AZ6: Ganesh | BC6: =VLOOKUP(J6,ESRS!A:E,1,0) -> 292603607 | BD6: Yes
A7: CK292603613 | B7: SINGAPORE | C7: SINGAPORE | D7: 75 SCIENCE PARK DRIVE, SINGAPORE SCIENCE PARK I | E7: SAN Storage | F7: SAN | G7: EMC | H7: SYMM VMAX6 | I7: 292603613 | J7: 292603613 | K7: CT2B1-E-004BY / BW / BX / BU | L7: =VLOOKUP(J7,ESRS!A:E,5,0) -> 172.19.107.75 | M7: 41392 | N7: 42583 | O7: 42584 | P7: =VLOOKUP(J7,'SYMM Code upgrade'!A:W,8,0) -> #N/A | Q7: =VLOOKUP(J7,'SYMM Code upgrade'!A:J,10,0) -> #N/A | S7: 0-Jan-00 | T7: n/a | U7: =LEFT(K7, 5) -> CT2B1 | V7: PROD | W7: slixip167 | X7: ssh (KRB) | Y7: pbrun ksh | Z7: APAC ECC Access Procedure | AA7: 111600 | AB7: 248 | AC7: 8 | AD7: 0 | AE7: 0 | AF7: 0 | AG7: 0 | AH7: 248 | AI7: 0 | AJ7: 0 | AK7: 0 | AL7: 0 | AM7: 0 | AN7: RAID-6 (6+2) | AO7: NA | AP7: 48 | AQ7: NA | AR7: NA | AS7: NA | AT7: NA | AU7: NA | AV7: Yes | AW7: No | AX7: No | AY7: YES | AZ7: Ganesh | BC7: =VLOOKUP(J7,ESRS!A:E,1,0) -> 292603613 | BD7: Yes
A8: CK292603628 | B8: SINGAPORE | C8: SINGAPORE | D8: 75 SCIENCE PARK DRIVE, SINGAPORE SCIENCE PARK I | E8: SAN Storage | F8: SAN | G8: EMC | H8: SYMM VMAX6 | I8: 292603628 | J8: 292603628 | K8: CT2B1-E-019BQ / BT / BS / BP | L8: =VLOOKUP(J8,ESRS!A:E,5,0) -> 172.19.107.76 | M8: 41138 | N8: 42598 | O8: 42599 | P8: =VLOOKUP(J8,'SYMM Code upgrade'!A:W,8,0) -> #N/A | Q8: =VLOOKUP(J8,'SYMM Code upgrade'!A:J,10,0) -> #N/A | S8: 0-Jan-00 | T8: n/a | U8: =LEFT(K8, 5) -> CT2B1 | V8: PROD | W8: slixip167 | X8: ssh (KRB) | Y8: pbrun ksh | Z8: APAC ECC Access Procedure | AA8: 162600 | AB8: 542 | AC8: 14 | AD8: 0 | AE8: 0 | AF8: 542 | AG8: 0 | AH8: 0 | AI8: 0 | AJ8: 0 | AK8: 0 | AL8: 0 | AM8: 0 | AN8: RAID-6 (6+2) | AO8: NA | AP8: 48 | AQ8: NA | AR8: NA | AS8: NA | AT8: NA | AU8: NA | AV8: Yes | AW8: No | AX8: No | AY8: YES | AZ8: Ganesh | BC8: =VLOOKUP(J8,ESRS!A:E,1,0) -> 292603628 | BD8: Yes
A9: CK292603943 | B9: SINGAPORE | C9: SINGAPORE | D9: 75 SCIENCE PARK DRIVE, SINGAPORE SCIENCE PARK I | E9: SAN Storage | F9: SAN | G9: EMC | H9: SYMM VMAX-1 | I9: =J9 -> 292603943 | J9: 292603943 | K9: CT2B1-E-021BP Row 48 | L9: =VLOOKUP(J9,ESRS!A:E,5,0) -> 172.19.107.126 | M9: 41103 | N9: 42563 | O9: 42564 | P9: =VLOOKUP(J9,'SYMM Code upgrade'!A:W,8,0) -> #N/A | Q9: =VLOOKUP(J9,'SYMM Code upgrade'!A:J,10,0) -> #N/A | S9: 0-Jan-00 | T9: n/a | U9: =LEFT(K9, 5) -> CT2B1 | V9: PROD | W9: slixip167 | X9: ssh (KRB) | Y9: pbrun ksh | Z9: APAC ECC Access Procedure | AA9: 257400 | AB9: 572 | AC9: 12 | AD9: 0 | AE9: 0 | AF9: 0 | AG9: 0 | AH9: 572 | AI9: 0 | AJ9: 0 | AK9: 0 | AL9: 0 | AM9: 0 | AN9: RAID-6 (14+2) | AO9: NA | AP9: 32 | AQ9: NA | AR9: NA | AS9: NA | AT9: NA | AU9: NA | AV9: Yes | AW9: No | AX9: No | AY9: YES | AZ9: Ganesh | BC9: =VLOOKUP(J9,ESRS!A:E,1,0) -> 292603943 | BD9: Yes
A10: 292603979 | B10: SINGAPORE | C10: SINGAPORE | D10: 75 SCIENCE PARK DRIVE, SINGAPORE SCIENCE PARK I | E10: SAN Storage | F10: SAN | G10: EMC | H10: SYMM VMAX-1 | I10: 292603979 | J10: 292603979 | K10: Row 49 - CT2B1-E-013BX | L10: =VLOOKUP(J10,ESRS!A:E,5,0) -> 172.19.107.125 | M10: 41098 | N10: 42558 | O10: 42559 | P10: =VLOOKUP(J10,'SYMM Code upgrade'!A:W,8,0) -> #N/A | Q10: =VLOOKUP(J10,'SYMM Code upgrade'!A:J,10,0) -> #N/A | S10: 0-Jan-00 | T10: n/a | U10: CT2B1 | V10: PROD | W10: slixip167 | X10: ssh (KRB) | Y10: pbrun ksh | Z10: APAC ECC Access Procedure | AA10: 118800 | AB10: 264 | AC10: 8 | AD10: 0 | AE10: 0 | AF10: 0 | AG10: 0 | AH10: 264 | AI10: 0 | AJ10: 0 | AK10: 0 | AL10: 0 | AM10: 0 | AN10: RAID-6 (14+2) | AO10: NA | AP10: 32 | AQ10: NA | AR10: NA | AS10: NA | AT10: NA | AU10: NA | AV10: Yes | AW10: No | AX10: No | AY10: YES | AZ10: Ganesh | BC10: =VLOOKUP(J10,ESRS!A:E,1,0) -> 292603979 | BD10: Yes
A11: CK295700507 | B11: SINGAPORE | C11: SINGAPORE | D11: 75 SCIENCE PARK DRIVE, SINGAPORE SCIENCE PARK I | E11: SAN Storage | F11: SAN | G11: EMC | H11: SYMM VMAX6 | I11: =J11 -> 295700507 | J11: 295700507 | K11: CT2L1- Row 38 - E - 054H | L11: 163.37.197.209 | M11: 41539 | N11: 42999 | O11: 42998 | P11: =VLOOKUP(J11,'SYMM Code upgrade'!A:W,8,0) -> #N/A | Q11: =VLOOKUP(J11,'SYMM Code upgrade'!A:J,10,0) -> #N/A | S11: 0-Jan-00 | T11: n/a | U11: =LEFT(K11, 5) -> CT2L1 | V11: PROD | W11: slixip167 | X11: ssh (KRB) | Y11: pbrun ksh | Z11: APAC ECC Access Procedure | AA11: 148800 | AB11: 248 | AC11: 8 | AD11: 0 | AE11: 0 | AF11: 0 | AG11: 0 | AH11: 0 | AI11: 248 | AJ11: 0 | AK11: 0 | AL11: 0 | AM11: 0 | AN11: RAID-6 (6+2) | AO11: NA | AP11: 48 | AQ11: NA | AR11: NA | AS11: NA | AT11: NA | AU11: NA | AV11: Yes | AW11: No | AX11: No | AY11: YES | AZ11: Ganesh | BC11: =VLOOKUP(J11,ESRS!A:E,1,0) -> 295700507 | BD11: Yes
A12: 295700613 | B12: SINGAPORE | C12: SINGAPORE | D12: 75 SCIENCE PARK DRIVE, SINGAPORE SCIENCE PARK I | E12: SAN Storage | F12: SAN | G12: EMC | H12: SYMM VMAX40K | I12: 295700613 | J12: 295700613 | K12: Row 48 CT2 B1-E-045CA | L12: =VLOOKUP(J12,ESRS!A:E,5,0) -> 172.19.107.17 | M12: 41539 | N12: 42999 | O12: 42998 | P12: =VLOOKUP(J12,'SYMM Code upgrade'!A:W,8,0) -> #N/A | Q12: =VLOOKUP(J12,'SYMM Code upgrade'!A:J,10,0) -> #N/A | S12: 0-Jan-00 | T12: n/a | U12: CT2B1 | V12: PROD | W12: slixip167 | X12: ssh (KRB) | Y12: pbrun ksh | Z12: APAC ECC Access Procedure | AA12: 196800 | AB12: 656 | AC12: 16 | AD12: 0 | AE12: 0 | AF12: 656 | AG12: 0 | AH12: 0 | AI12: 0 | AJ12: 0 | AK12: 0 | AL12: 0 | AM12: 0 | AN12: RAID-6 (6+2) | AO12: NA | AP12: 32 | AQ12: NA | AR12: NA | AS12: NA | AT12: NA | AU12: NA | AV12: Yes | AW12: No | AX12: No | AY12: NO | AZ12: Ganesh | BC12: =VLOOKUP(J12,ESRS!A:E,1,0) -> 295700613 | BD12: Yes
A13: 492600122 | B13: SINGAPORE | C13: SINGAPORE | D13: 75 SCIENCE PARK DRIVE, SINGAPORE SCIENCE PARK I | E13: SAN Storage | F13: SAN | G13: EMC | H13: SYMM VMAX-1 | I13: 492600122 | J13: 492600122 | K13: CT2B1-E102-104 Row 50 | L13: =VLOOKUP(J13,ESRS!A:E,5,0) -> 172.19.107.120 | M13: 41234 | N13: 42694 | O13: 42695 | P13: =VLOOKUP(J13,'SYMM Code upgrade'!A:W,8,0) -> #N/A | Q13: =VLOOKUP(J13,'SYMM Code upgrade'!A:J,10,0) -> #N/A | S13: 0-Jan-00 | T13: n/a | U13: =LEFT(K13, 5) -> CT2B1 | V13: PROD | W13: slixip167 | X13: ssh (KRB) | Y13: pbrun ksh | Z13: APAC ECC Access Procedure | AA13: 147600 | AB13: 328 | AC13: 8 | AD13: 0 | AE13: 0 | AF13: 0 | AG13: 0 | AH13: 328 | AI13: 0 | AJ13: 0 | AK13: 0 | AL13: 0 | AM13: 0 | AN13: RAID-6 (6+2 and 14+2) | AO13: NA | AP13: 32 | AQ13: NA | AR13: NA | AS13: NA | AT13: NA | AU13: NA | AV13: Yes | AW13: No | AX13: No | AY13: YES | AZ13: Ganesh | BC13: =VLOOKUP(J13,ESRS!A:E,1,0) -> 492600122 | BD13: Yes
A14: CN492600146 | B14: SINGAPORE | C14: SINGAPORE | D14: 75 SCIENCE PARK DRIVE, SINGAPORE SCIENCE PARK I | E14: SAN Storage | F14: SAN | G14: EMC | H14: SYMM VMAX-1 | I14: =J14 -> 492600146 | J14: 492600146 | K14: CT2B1-E117-119 Row 48 | L14: =VLOOKUP(J14,ESRS!A:E,5,0) -> 172.19.107.121 | M14: 40792 | N14: 42252 | O14: 42253 | P14: =VLOOKUP(J14,'SYMM Code upgrade'!A:W,8,0) -> #N/A | Q14: =VLOOKUP(J14,'SYMM Code upgrade'!A:J,10,0) -> #N/A | S14: 0-Jan-00 | T14: n/a | U14: =LEFT(K14, 5) -> CT2B1 | V14: PROD | W14: slixip167 | X14: ssh (KRB) | Y14: pbrun ksh | Z14: APAC ECC Access Procedure | AA14: 78200 | AB14: 181 | AC14: 9 | AD14: 0 | AE14: 13 | AF14: 0 | AG14: 0 | AH14: 168 | AI14: 0 | AJ14: 0 | AK14: 0 | AL14: 0 | AM14: 0 | AN14: RAID-6 (14+2) | AO14: NA | AP14: 32 | AQ14: NA | AR14: NA | AS14: NA | AT14: NA | AU14: NA | AV14: Yes | AW14: No | AX14: No | AY14: YES | AZ14: Ganesh | BC14: =VLOOKUP(J14,ESRS!A:E,1,0) -> 492600146 | BD14: Yes
A15: CN492600393 | B15: SINGAPORE | C15: SINGAPORE | D15: 75 SCIENCE PARK DRIVE, SINGAPORE SCIENCE PARK I | E15: SAN Storage | F15: SAN | G15: EMC | H15: SYMM VMAX6 | I15: 492600393 | J15: 492600393 | K15: CT2-B1-E014BY / BZ / CA / CC | L15: =VLOOKUP(J15,ESRS!A:E,5,0) -> 172.19.107.77 | M15: 41317 | N15: 42777 | O15: 42778 | P15: 5876.268.174 | Q15: =VLOOKUP(J15,'SYMM Code upgrade'!A:J,10,0) -> #N/A | S15: 0-Jan-00 | T15: n/a | U15: =LEFT(K15, 5) -> CT2-B | V15: PROD | W15: slixip167 | X15: ssh (KRB) | Y15: pbrun ksh | Z15: APAC ECC Access Procedure | AA15: 162600 | AB15: 542 | AC15: 14 | AD15: 0 | AE15: 0 | AF15: 542 | AG15: 0 | AH15: 0 | AI15: 0 | AJ15: 0 | AK15: 0 | AL15: 0 | AM15: 0 | AN15: RAID-6 (6+2) | AO15: NA | AP15: 48 | AQ15: NA | AR15: NA | AS15: NA | AT15: NA | AU15: NA | AV15: Yes | AW15: No | AX15: No | AY15: YES | AZ15: Ganesh | BC15: =VLOOKUP(J15,ESRS!A:E,1,0) -> 492600393 | BD15: Yes
A16: CN495700035 | B16: SINGAPORE | C16: SINGAPORE | D16: 75 SCIENCE PARK DRIVE, SINGAPORE SCIENCE PARK I | E16: SAN Storage | F16: SAN | G16: EMC | H16: SYMM VMAX6 | I16: =J16 -> 495700035 | J16: 495700035 | K16: CT2L1- Row 55 -E- 127I | L16: =VLOOKUP(J16,ESRS!A:E,5,0) -> 163.37.197.208 | M16: 41539 | N16: 42999 | O16: 43000 | P16: =VLOOKUP(J16,'SYMM Code upgrade'!A:W,8,0) -> #N/A | Q16: =VLOOKUP(J16,'SYMM Code upgrade'!A:J,10,0) -> #N/A | S16: 0-Jan-00 | T16: n/a | U16: =LEFT(K16, 5) -> CT2L1 | V16: PROD | W16: slixip167 | X16: ssh (KRB) | Y16: pbrun ksh | Z16: APAC ECC Access Procedure | AA16: 148800 | AB16: 248 | AC16: 8 | AD16: 0 | AE16: 0 | AF16: 0 | AG16: 0 | AH16: 0 | AI16: 248 | AJ16: 0 | AK16: 0 | AL16: 0 | AM16: 0 | AN16: RAID-6 (6+2) | AO16: NA | AP16: 48 | AQ16: NA | AR16: NA | AS16: NA | AT16: NA | AU16: NA | AV16: Yes | AW16: No | AX16: No | AY16: YES | AZ16: Ganesh | BC16: =VLOOKUP(J16,ESRS!A:E,1,0) -> 495700035 | BD16: Yes
A17: CK290103014 | B17: HONG KONG | C17: NEW TERRITORIES | D17: 1 WANG WO TSAI STREET, TSUEN WAN | E17: SAN Storage | F17: SAN | G17: EMC | H17: SYMM DMX-4 2500 | I17: =J17 -> 290103014 | J17: 290103014 | K17: AST4-DC2- E028 Row 12. | L17: 10.186.172.150 | M17: 39422 | N17: 40882 | O17: 40883 | P17: =VLOOKUP(J17,'SYMM Code upgrade'!A:W,8,0) -> #N/A | Q17: =VLOOKUP(J17,'SYMM Code upgrade'!A:J,10,0) -> #N/A | S17: 43008 | T17: n/a | U17: AST4-DC2 | V17: COB | W17: hlixiu634 | X17: ssh (KRB) | Y17: pbrun ksh | Z17: APAC ECC Access Procedure | AA17: 87600 | AB17: 600 | AC17: 16 | AD17: 600 | AE17: 0 | AF17: 0 | AG17: 0 | AH17: 0 | AI17: 0 | AJ17: 0 | AK17: 0 | AL17: 0 | AM17: 0 | AN17: RAID-6 (6+2) | AO17: NA | AP17: 32 | AQ17: NA | AR17: NA | AS17: NA | AT17: NA | AU17: NA | AV17: Yes | AW17: No | AX17: No | AY17: YES | AZ17: Ganesh | BC17: =VLOOKUP(J17,ESRS!A:E,1,0) -> 290103014 | BD17: Yes
A18: CK290105338 | B18: HONG KONG | C18: HONG KONG | D18: 1 WANG WO TSAI STREET, TSUEN WAN | E18: SAN Storage | F18: SAN | G18: EMC | H18: SYMM DMX-4 2500 | I18: 290105338 | J18: 290105338 | K18: IAD25-E30 | L18: 172.19.232.35 | M18: 39971 | N18: 41408 | O18: 41409 | P18: =VLOOKUP(J18,'SYMM Code upgrade'!A:W,8,0) -> #N/A | Q18: =VLOOKUP(J18,'SYMM Code upgrade'!A:J,10,0) -> #N/A | S18: 43008 | T18: n/a | U18: =LEFT(K18, 5) -> IAD25 | V18: COB | W18: slixip167 | X18: ssh (KRB) | Y18: pbrun ksh | Z18: APAC ECC Access Procedure | AA18: 86724 | AB18: 594 | AC18: 12 | AD18: 594 | AE18: 0 | AF18: 0 | AG18: 0 | AH18: 0 | AI18: 0 | AJ18: 0 | AK18: 0 | AL18: 0 | AM18: 0 | AN18: RAID-6 (6+2) | AO18: NA | AP18: 32 | AQ18: NA | AR18: NA | AS18: NA | AT18: NA | AU18: NA | AV18: Yes | AW18: No | AX18: No | AY18: NO | AZ18: Ganesh | BC18: =VLOOKUP(J18,ESRS!A:E,1,0) -> 290105338 | BD18: no network cable, using modem
A19: CK290300751 | B19: SINGAPORE | C19: SINGAPORE | D19: 5 TAMPINES CENTRAL | E19: SAN Storage | F19: SAN | G19: EMC | H19: SYMM DMX-3 950 | I19: =J19 -> 290300751 | J19: 290300751 | K19: T3-E102 | L19: =VLOOKUP(J19,ESRS!A:E,5,0) -> 163.37.99.154 | M19: 39992 | N19: 41670 | O19: 41671 | P19: =VLOOKUP(J19,'SYMM Code upgrade'!A:W,8,0) -> #N/A | Q19: =VLOOKUP(J19,'SYMM Code upgrade'!A:J,10,0) -> #N/A | S19: 42369 | T19: Tech-Refresh In-Progress | U19: =LEFT(K19, 5) -> T3-E1 | V19: COB | W19: slixip167 | X19: ssh (KRB) | Y19: pbrun ksh | Z19: APAC ECC Access Procedure | AA19: 10512 | AB19: 72 | AC19: 8 | AD19: 72 | AE19: 0 | AF19: 0 | AG19: 0 | AH19: 0 | AI19: 0 | AJ19: 0 | AK19: 0 | AL19: 0 | AM19: 0 | AN19: RAID-6 (6+2) | AO19: NA | AP19: 8 | AQ19: NA | AR19: NA | AS19: NA | AT19: NA | AU19: NA | AV19: Yes | AW19: No | AX19: No | AY19: YES | AZ19: Ganesh | BC19: =VLOOKUP(J19,ESRS!A:E,1,0) -> 290300751 | BD19: Yes
A20: CK290301196 | B20: HONG KONG | C20: HONG KONG | D20: 1 WANG WO TSAI STREET, TSUEN WAN | E20: SAN Storage | F20: SAN | G20: EMC | H20: SYMM DMX-3 950 | I20: =J20 -> 290301196 | J20: 290301196 | K20: IAD25-E32 | L20: =VLOOKUP(J20,ESRS!A:E,5,0) -> 172.19.232.38 | M20: 39992 | N20: 41670 | O20: 41671 | P20: =VLOOKUP(J20,'SYMM Code upgrade'!A:W,8,0) -> #N/A | Q20: =VLOOKUP(J20,'SYMM Code upgrade'!A:J,10,0) -> #N/A | S20: 42369 | T20: Tech-Refresh In-Progress | U20: =LEFT(K20, 5) -> IAD25 | V20: COB | W20: slixip167 | X20: ssh (KRB) | Y20: pbrun ksh | Z20: APAC ECC Access Procedure | AA20: 17520 | AB20: 120 | AC20: 8 | AD20: 120 | AE20: 0 | AF20: 0 | AG20: 0 | AH20: 0 | AI20: 0 | AJ20: 0 | AK20: 0 | AL20: 0 | AM20: 0 | AN20: RAID-6 (6+2) | AO20: NA | AP20: 8 | AQ20: NA | AR20: NA | AS20: NA | AT20: NA | AU20: NA | AV20: Yes | AW20: No | AX20: No | AY20: NO | AZ20: Ganesh | BC20: =VLOOKUP(J20,ESRS!A:E,1,0) -> 290301196 | BD20: Yes
A21: CK292600268 | B21: SINGAPORE | C21: SINGAPORE | D21: 5 TAMPINES CENTRAL | E21: SAN Storage | F21: SAN | G21: EMC | H21: SYMM VMAX-1 | I21: =J21 -> 292600268 | J21: 292600268 | K21: T3-E103 | L21: =VLOOKUP(J21,ESRS!A:E,5,0) -> 163.37.99.51 | M21: 40041 | N21: 41670 | O21: 41652 | P21: =VLOOKUP(J21,'SYMM Code upgrade'!A:W,8,0) -> #N/A | Q21: =VLOOKUP(J21,'SYMM Code upgrade'!A:J,10,0) -> #N/A | S21: 0-Jan-00 | T21: n/a | U21: =LEFT(K21, 5) -> T3-E1 | V21: COB | W21: slixip167 | X21: ssh (KRB) | Y21: pbrun ksh | Z21: APAC ECC Access Procedure | AA21: 16724 | AB21: 104 | AC21: 8 | AD21: 94 | AE21: 0 | AF21: 10 | AG21: 0 | AH21: 0 | AI21: 0 | AJ21: 0 | AK21: 0 | AL21: 0 | AM21: 0 | AN21: NA | AO21: NA | AP21: 16 | AQ21: NA | AR21: NA | AS21: NA | AT21: NA | AU21: NA | AV21: Yes | AW21: No | AX21: No | AY21: YES | AZ21: Ganesh | BC21: =VLOOKUP(J21,ESRS!A:E,1,0) -> 292600268 | BD21: Yes
A22: CK292600269 | B22: HONG KONG | C22: HONG KONG | D22: 1 WANG WO TSAI STREET, TSUEN WAN | E22: SAN Storage | F22: SAN | G22: EMC | H22: SYMM VMAX-1 | I22: =J22 -> 292600269 | J22: 292600269 | K22: IAD25-E-33 | L22: =VLOOKUP(J22,ESRS!A:E,5,0) -> 172.19.232.40 | M22: 40032 | N22: 41670 | O22: 41670 | P22: =VLOOKUP(J22,'SYMM Code upgrade'!A:W,8,0) -> #N/A | Q22: =VLOOKUP(J22,'SYMM Code upgrade'!A:J,10,0) -> #N/A | S22: 0-Jan-00 | T22: n/a | U22: =LEFT(K22, 5) -> IAD25 | V22: COB | W22: slixip167 | X22: ssh (KRB) | Y22: pbrun ksh | Z22: APAC ECC Access Procedure | AA22: 74464 | AB22: 394 | AC22: 10 | AD22: 284 | AE22: 0 | AF22: 110 | AG22: 0 | AH22: 0 | AI22: 0 | AJ22: 0 | AK22: 0 | AL22: 0 | AM22: 0 | AN22: RAID-6 (14+2) | AO22: NA | AP22: 32 | AQ22: NA | AR22: NA | AS22: NA | AT22: NA | AU22: NA | AV22: Yes | AW22: No | AX22: No | AY22: YES | AZ22: Ganesh | BC22: =VLOOKUP(J22,ESRS!A:E,1,0) -> 292600269 | BD22: Yes
A23: CK292604047 | B23: HONG KONG | C23: HONG KONG | D23: 399 CHAI WAN ROAD, CHAI WAN | E23: SAN Storage | F23: SAN | G23: EMC | H23: SYMM VMAX-1 | I23: =J23 -> 292604047 | J23: 292604047 | K23: AST4-DC2-E017 | L23: =VLOOKUP(J23,ESRS!A:E,5,0) -> 10.186.172.143 | M23: 41089 | N23: 42549 | O23: 42550 | P23: =VLOOKUP(J23,'SYMM Code upgrade'!A:W,8,0) -> #N/A | Q23: =VLOOKUP(J23,'SYMM Code upgrade'!A:J,10,0) -> #N/A | S23: 0-Jan-00 | T23: n/a | U23: AST4-DC2 | V23: COB | W23: slixip167 | X23: ssh (KRB) | Y23: pbrun ksh | Z23: APAC ECC Access Procedure | AA23: 147600 | AB23: 328 | AC23: 8 | AD23: 0 | AE23: 0 | AF23: 0 | AG23: 0 | AH23: 328 | AI23: 0 | AJ23: 0 | AK23: 0 | AL23: 0 | AM23: 0 | AN23: RAID-6 (14+2) | AO23: NA | AP23: 32 | AQ23: NA | AR23: NA | AS23: NA | AT23: NA | AU23: NA | AV23: Yes | AW23: No | AX23: No | AY23: YES | AZ23: Ganesh | BC23: =VLOOKUP(J23,ESRS!A:E,1,0) -> 292604047 | BD23: Yes
A24: CK292604132 | B24: HONG KONG | C24: HONG KONG | D24: 399 CHAI WAN ROAD, CHAI WAN | E24: SAN Storage | F24: SAN | G24: EMC | H24: SYMM VMAX-1 | I24: =J24 -> 292604132 | J24: 292604132 | K24: AST4-DC2-E020 Row 11 | L24: =VLOOKUP(J24,ESRS!A:E,5,0) -> 10.186.172.149 | M24: 41108 | N24: 42568 | O24: 42569 | P24: =VLOOKUP(J24,'SYMM Code upgrade'!A:W,8,0) -> #N/A | Q24: =VLOOKUP(J24,'SYMM Code upgrade'!A:J,10,0) -> #N/A | S24: 0-Jan-00 | T24: n/a | U24: AST4-DC2 | V24: COB | W24: slixip167 | X24: ssh (KRB) | Y24: pbrun ksh | Z24: APAC ECC Access Procedure | AA24: 442800 | AB24: 984 | AC24: 24 | AD24: 0 | AE24: 0 | AF24: 0 | AG24: 0 | AH24: 984 | AI24: 0 | AJ24: 0 | AK24: 0 | AL24: 0 | AM24: 0 | AN24: RAID-6 (14+2) | AO24: NA | AP24: 32 | AQ24: NA | AR24: NA | AS24: NA | AT24: NA | AU24: NA | AV24: Yes | AW24: No | AX24: No | AY24: YES | AZ24: Ganesh | BC24: =VLOOKUP(J24,ESRS!A:E,1,0) -> 292604132 | BD24: Yes
A25: CK295700517 | B25: HONG KONG | C25: HONG KONG | D25: 399 CHAI WAN ROAD, CHAI WAN | E25: SAN Storage | F25: SAN | G25: EMC | H25: SYMM VMAX6 | I25: =J25 -> 295700517 | J25: 295700517 | K25: AST3-DC6-E010 - Row 13 | L25: 10.186.71.21 | M25: 41539 | N25: 42999 | O25: 43000 | P25: =VLOOKUP(J25,'SYMM Code upgrade'!A:W,8,0) -> #N/A | Q25: =VLOOKUP(J25,'SYMM Code upgrade'!A:J,10,0) -> #N/A | S25: 0-Jan-00 | T25: n/a | U25: AST3-DC6 | V25: COB | W25: slixip167 | X25: ssh (KRB) | Y25: pbrun ksh | Z25: APAC ECC Access Procedure | AA25: 294000 | AB25: 490 | AC25: 10 | AD25: 0 | AE25: 0 | AF25: 0 | AG25: 0 | AH25: 0 | AI25: 490 | AJ25: 0 | AK25: 0 | AL25: 0 | AM25: 0 | AN25: RAID-6 (6+2) | AO25: NA | AP25: 48 | AQ25: NA | AR25: NA | AS25: NA | AT25: NA | AU25: NA | AV25: Yes | AW25: No | AX25: No | AY25: YES | AZ25: Ganesh | BC25: =VLOOKUP(J25,ESRS!A:E,1,0) -> 295700517 | BD25: Yes
A26: CK295700527 | B26: HONG KONG | C26: HONG KONG | D26: 399 CHAI WAN ROAD, CHAI WAN | E26: SAN Storage | F26: SAN | G26: EMC | H26: SYMM VMAX6 | I26: =J26 -> 295700527 | J26: 295700527 | K26: AST3-DC6-E009 - Row 10 | L26: 10.186.71.20 | M26: 41539 | N26: 42999 | O26: 43000 | P26: =VLOOKUP(J26,'SYMM Code upgrade'!A:W,8,0) -> #N/A | Q26: =VLOOKUP(J26,'SYMM Code upgrade'!A:J,10,0) -> #N/A | S26: 0-Jan-00 | T26: n/a | U26: AST3-DC6 | V26: COB | W26: slixip167 | X26: ssh (KRB) | Y26: pbrun ksh | Z26: APAC ECC Access Procedure | AA26: 294000 | AB26: 490 | AC26: 10 | AD26: 0 | AE26: 0 | AF26: 0 | AG26: 0 | AH26: 0 | AI26: 490 | AJ26: 0 | AK26: 0 | AL26: 0 | AM26: 0 | AN26: RAID-6 (6+2) | AO26: NA | AP26: 48 | AQ26: NA | AR26: NA | AS26: NA | AT26: NA | AU26: NA | AV26: Yes | AW26: No | AX26: No | AY26: YES | AZ26: Ganesh | BC26: =VLOOKUP(J26,ESRS!A:E,1,0) -> 295700527 | BD26: Yes
A27: CN492600105 | B27: HONG KONG | C27: HONG KONG | D27: 1 WANG WO TSAI STREET, TSUEN WAN | E27: SAN Storage | F27: SAN | G27: EMC | H27: SYMM VMAX-1 | I27: =J27 -> 492600105 | J27: 492600105 | K27: IAD22-E-11 | L27: =VLOOKUP(J27,ESRS!A:E,5,0) -> 172.19.234.16 | M27: 40714 | N27: 42174 | O27: 42175 | P27: =VLOOKUP(J27,'SYMM Code upgrade'!A:W,8,0) -> #N/A | Q27: =VLOOKUP(J27,'SYMM Code upgrade'!A:J,10,0) -> #N/A | S27: 0-Jan-00 | T27: n/a | U27: =LEFT(K27, 5) -> IAD22 | V27: COB | W27: slixip167 | X27: ssh (KRB) | Y27: pbrun ksh | Z27: APAC ECC Access Procedure | AA27: 208700 | AB27: 471 | AC27: 11 | AD27: 0 | AE27: 13 | AF27: 0 | AG27: 0 | AH27: 458 | AI27: 0 | AJ27: 0 | AK27: 0 | AL27: 0 | AM27: 0 | AN27: RAID-5 (7+1) RAID-6 (14+2) | AO27: NA | AP27: 32 | AQ27: NA | AR27: NA | AS27: NA | AT27: NA | AU27: NA | AV27: Yes | AW27: No | AX27: No | AY27: YES | AZ27: Ganesh | BC27: =VLOOKUP(J27,ESRS!A:E,1,0) -> 492600105 | BD27: Yes
A28: CN492600106 | B28: HONG KONG | C28: HONG KONG | D28: 1 WANG WO TSAI STREET, TSUEN WAN | E28: SAN Storage | F28: SAN | G28: EMC | H28: SYMM VMAX-1 | I28: =J28 -> 492600106 | J28: 492600106 | K28: IAD27-E-56 | L28: =VLOOKUP(J28,ESRS!A:E,5,0) -> 172.19.233.34 | M28: 40714 | N28: 42174 | O28: 42175 | P28: =VLOOKUP(J28,'SYMM Code upgrade'!A:W,8,0) -> #N/A | Q28: =VLOOKUP(J28,'SYMM Code upgrade'!A:J,10,0) -> #N/A | S28: 0-Jan-00 | T28: n/a | U28: =LEFT(K28, 5) -> IAD27 | V28: COB | W28: slixip167 | X28: ssh (KRB) | Y28: pbrun ksh | Z28: APAC ECC Access Procedure | AA28: 266400 | AB28: 592 | AC28: 16 | AD28: 0 | AE28: 0 | AF28: 0 | AG28: 0 | AH28: 592 | AI28: 0 | AJ28: 0 | AK28: 0 | AL28: 0 | AM28: 0 | AN28: RAID-6 (6+2 and 14+2) | AO28: NA | AP28: 32 | AQ28: NA | AR28: NA | AS28: NA | AT28: NA | AU28: NA | AV28: Yes | AW28: No | AX28: No | AY28: YES | AZ28: Ganesh | BC28: =VLOOKUP(J28,ESRS!A:E,1,0) -> 492600106 | BD28: Yes
A29: CN492600150 | B29: HONG KONG | C29: HONG KONG | D29: 399 CHAI WAN ROAD, CHAI WAN | E29: SAN Storage | F29: SAN | G29: EMC | H29: SYMM VMAX-1 | I29: =J29 -> 492600150 | J29: 492600150 | K29: AST4-DC2-E010 | L29: 10.186.172.142 | M29: 40793 | N29: 42253 | O29: 42254 | P29: =VLOOKUP(J29,'SYMM Code upgrade'!A:W,8,0) -> #N/A | Q29: =VLOOKUP(J29,'SYMM Code upgrade'!A:J,10,0) -> #N/A | S29: 0-Jan-00 | T29: n/a | U29: AST4-DC2 | V29: COB | W29: slixip167 | X29: ssh (KRB) | Y29: pbrun ksh | Z29: APAC ECC Access Procedure | AA29: 150200 | AB29: 341 | AC29: 9 | AD29: 0 | AE29: 13 | AF29: 0 | AG29: 0 | AH29: 328 | AI29: 0 | AJ29: 0 | AK29: 0 | AL29: 0 | AM29: 0 | AN29: RAID-6 (14+2) | AO29: NA | AP29: 32 | AQ29: NA | AR29: NA | AS29: NA | AT29: NA | AU29: NA | AV29: Yes | AW29: No | AX29: No | AY29: YES | AZ29: Ganesh | BC29: =VLOOKUP(J29,ESRS!A:E,1,0) -> 492600150 | BD29: Yes
A30: CK492600392 | B30: HONG KONG | C30: HONG KONG | D30: 399 CHAI WAN ROAD, CHAI WAN | E30: SAN Storage | F30: SAN | G30: EMC | H30: SYMM VMAX6 | I30: 492600392 | J30: 492600392 | K30: AST3-DC4-E008A/B/C/D/E/F | L30: 10.186.71.16 | M30: 41401 | N30: 42832 | O30: 42862 | P30: =VLOOKUP(J30,'SYMM Code upgrade'!A:W,8,0) -> #N/A | Q30: =VLOOKUP(J30,'SYMM Code upgrade'!A:J,10,0) -> #N/A | S30: 0-Jan-00 | T30: n/a | U30: AST3-DC6 | V30: COB | W30: slixip167 | X30: ssh (KRB) | Y30: pbrun ksh | Z30: APAC ECC Access Procedure | AA30: 218400 | AB30: 728 | AC30: 24 | AD30: 0 | AE30: 0 | AF30: 728 | AG30: 0 | AH30: 0 | AI30: 0 | AJ30: 0 | AK30: 0 | AL30: 0 | AM30: 0 | AN30: RAID-6 (6+2) | AO30: NA | AP30: 48 | AQ30: NA | AR30: NA | AS30: NA | AT30: NA | AU30: NA | AV30: Yes | AW30: No | AX30: No | AY30: YES | AZ30: Ganesh | BC30: =VLOOKUP(J30,ESRS!A:E,1,0) -> 492600392 | BD30: Yes
A31: CK292603574 | B31: HONG KONG | C31: HONG KONG | D31: 1 WANG WO TSAI STREET, TSUEN WAN | E31: SAN Storage | F31: SAN | G31: EMC | H31: SYMM VMAX-1 | I31: =J31 -> 292603574 | J31: 292603574 | K31: IAD23-E-14 | L31: =VLOOKUP(J31,ESRS!A:E,5,0) -> 172.19.78.78 | M31: 41180 | N31: 42640 | O31: 42640 | P31: =VLOOKUP(J31,'SYMM Code upgrade'!A:W,8,0) -> #N/A | Q31: =VLOOKUP(J31,'SYMM Code upgrade'!A:J,10,0) -> #N/A | S31: 0-Jan-00 | T31: n/a | U31: =LEFT(K31, 5) -> IAD23 | V31: PROD | W31: hlixiu633 | X31: ssh (KRB) | Y31: swsa | Z31: APAC ECC Access Procedure | AA31: 97200 | AB31: 216 | AC31: 8 | AD31: 0 | AE31: 0 | AF31: 0 | AG31: 0 | AH31: 216 | AI31: 0 | AJ31: 0 | AK31: 0 | AL31: 0 | AM31: 0 | AN31: RAID-6 (14+2) | AO31: NA | AP31: 16 | AQ31: NA | AR31: NA | AS31: NA | AT31: NA | AU31: NA | AV31: Yes | AW31: No | AX31: No | AY31: YES | AZ31: Ganesh | BC31: =VLOOKUP(J31,ESRS!A:E,1,0) -> 292603574 | BD31: Yes
A32: CK292603609 | B32: HONG KONG | C32: HONG KONG | D32: 399 CHAI WAN ROAD, CHAI WAN | E32: SAN Storage | F32: SAN | G32: EMC | H32: SYMM VMAX-1 | I32: =J32 -> 292603609 | J32: 292603609 | K32: AST4-DC2-E013-15 | L32: =VLOOKUP(J32,ESRS!A:E,5,0) -> 10.186.172.148 | M32: 41180 | N32: 42640 | O32: 42641 | P32: =VLOOKUP(J32,'SYMM Code upgrade'!A:W,8,0) -> #N/A | Q32: =VLOOKUP(J32,'SYMM Code upgrade'!A:J,10,0) -> #N/A | S32: 0-Jan-00 | T32: n/a | U32: AST4 | V32: COB | W32: hlixiu633 | X32: ssh (KRB) | Y32: swsa | Z32: APAC ECC Access Procedure | AA32: 75600 | AB32: 168 | AC32: 8 | AD32: 0 | AE32: 0 | AF32: 0 | AG32: 0 | AH32: 168 | AI32: 0 | AJ32: 0 | AK32: 0 | AL32: 0 | AM32: 0 | AN32: RAID-6 (14+2) | AO32: NA | AP32: 16 | AQ32: NA | AR32: NA | AS32: NA | AT32: NA | AU32: NA | AV32: Yes | AW32: No | AX32: No | AY32: YES | AZ32: Ganesh | BC32: =VLOOKUP(J32,ESRS!A:E,1,0) -> 292603609 | BD32: Yes
A33: CK292601913 | B33: HONG KONG | C33: HONG KONG | D33: 1 WANG WO TSAI STREET, TSUEN WAN | E33: SAN Storage | F33: SAN | G33: EMC | H33: SYMM VMAX 1 | I33: =J33 -> 292601913 | J33: 292601913 | K33: IAD22-E-1 | L33: =VLOOKUP(J33,ESRS!A:E,5,0) -> 172.19.234.11 | M33: 40438 | N33: 41898 | O33: 41899 | P33: =VLOOKUP(J33,'SYMM Code upgrade'!A:W,8,0) -> #N/A | Q33: =VLOOKUP(J33,'SYMM Code upgrade'!A:J,10,0) -> #N/A | S33: 0-Jan-00 | T33: n/a | U33: =LEFT(K33, 5) -> IAD22 | V33: COB | W33: hlixiu170 | X33: ssh (KRB) | Y33: swsa | Z33: APAC ECC Access Procedure | AA33: 125400 | AB33: 418 | AC33: 10 | AD33: 0 | AE33: 0 | AF33: 418 | AG33: 0 | AH33: 0 | AI33: 0 | AJ33: 0 | AK33: 0 | AL33: 0 | AM33: 0 | AN33: RAID-6 (14+2) | AO33: NA | AP33: 16 | AQ33: NA | AR33: NA | AS33: NA | AT33: NA | AU33: NA | AV33: Yes | AW33: No | AX33: No | AY33: YES | AZ33: Ganesh | BC33: =VLOOKUP(J33,ESRS!A:E,1,0) -> 292601913 | BD33: Yes
A34: CN492600021 | B34: CHINA | C34: SHANGHAI | D34: 5678 YANGGAO SOUTH ROAD | E34: SAN Storage | F34: SAN | G34: EMC | H34: SYMM VMAX 1 | I34: =J34 -> 492600021 | J34: 492600021 | K34: IP2L3-E-M19, IP2L3-E-M20 | L34: =VLOOKUP(J34,ESRS!A:E,5,0) -> 172.19.208.140 | M34: 40450 | N34: 41909 | O34: 41909 | P34: 5876.268.174 | Q34: =VLOOKUP(J34,'SYMM Code upgrade'!A:J,10,0) -> #N/A | S34: 0-Jan-00 | T34: n/a | U34: =LEFT(K34, 5) -> IP2L3 | V34: PROD | W34: hlixiu170/clixip170 | X34: ssh (KRB) | Y34: swsa | Z34: APAC ECC Access Procedure | AA34: 80400 | AB34: 268 | AC34: 8 | AD34: 0 | AE34: 0 | AF34: 268 | AG34: 0 | AH34: 0 | AI34: 0 | AJ34: 0 | AK34: 0 | AL34: 0 | AM34: 0 | AN34: RAID-6 (14+2) | AO34: NA | AP34: 16 | AQ34: NA | AR34: NA | AS34: NA | AT34: NA | AU34: NA | AV34: Yes | AW34: No | AX34: No | AY34: YES | AZ34: Ganesh | BC34: =VLOOKUP(J34,ESRS!A:E,1,0) -> 492600021 | BD34: Yes
A35: CN498700237 | B35: CHINA | C35: SHANGHAI | D35: SHANGHAI NANHUI DC | E35: SAN Storage | F35: SAN | G35: EMC | H35: SYMM VMAX 10K | I35: 498700237 | J35: 498700237 | K35: IP2L3-E-AD12 - AD13 | L35: 172.19.208.151 | M35: 40450 | N35: 41909 | O35: 41909 | P35: 5876.268.174 | Q35: =VLOOKUP(J35,'SYMM Code upgrade'!A:J,10,0) -> #N/A | S35: 0-Jan-00 | T35: n/a | U35: =LEFT(K35, 5) -> IP2L3 | V35: PROD | W35: clixip170 | X35: ssh (KRB) | Y35: swsa | Z35: APAC ECC Access Procedure | AA35: =(146*AD35)+(200*AE35)+(300*AF35)+(400*AG35)+(450*AH35)+(600*AI35)+(650*AJ35)+(1024*AK35)+(2048*AL35)+(3072*AM35) -> 0 | AZ35: Ganesh | BC35: =VLOOKUP(J35,ESRS!A:E,1,0) -> 498700237 | BD35: Yes
A36: CK498700161 | B36: CHINA | C36: SHANGHAI | D36: SHANGHAI NANHUI DC | E36: SAN Storage | F36: SAN | G36: EMC | H36: SYMM VMAX 10K | I36: 498700161 | J36: 498700161 | K36: IP2L3-E-AK18, E-AK19 | L36: =VLOOKUP(J36,ESRS!A:E,5,0) -> 172.19.208.150 | M36: 40450 | N36: 41909 | O36: 41909 | P36: 5876.268.174 | Q36: =VLOOKUP(J36,'SYMM Code upgrade'!A:J,10,0) -> #N/A | S36: 0-Jan-00 | T36: n/a | U36: =LEFT(K36, 5) -> IP2L3 | V36: PROD | W36: clixip170 | X36: ssh (KRB) | Y36: swsa | Z36: APAC ECC Access Procedure | AA36: =(146*AD36)+(200*AE36)+(300*AF36)+(400*AG36)+(450*AH36)+(600*AI36)+(650*AJ36)+(1024*AK36)+(2048*AL36)+(3072*AM36) -> 0 | BC36: =VLOOKUP(J36,ESRS!A:E,1,0) -> 498700161 | BD36: Yes
A37: CK295700499 | B37: SINGAPORE | C37: CINTECH 2 | D37: Row 45 CT2 B1-E-058CA | E37: SAN Storage | F37: SAN | G37: EMC | H37: SYMM VMAX 40K | I37: 295700499 | J37: 295700499 | K37: Row 45 CT2 B1-E-058CA | L37: 172.19.107.15 | M37: 40450 | N37: 41909 | O37: 41909 | P37: =VLOOKUP(J37,'SYMM Code upgrade'!A:W,8,0) -> #N/A | Q37: =VLOOKUP(J37,'SYMM Code upgrade'!A:J,10,0) -> #N/A | S37: 0-Jan-00 | T37: n/a | U37: =LEFT(K37, 5) -> Row 4 | V37: PROD | W37: slixip167 | X37: ssh (KRB) | Y37: swsa | Z37: APAC ECC Access Procedure | AA37: =(146*AD37)+(200*AE37)+(300*AF37)+(400*AG37)+(450*AH37)+(600*AI37)+(650*AJ37)+(1024*AK37)+(2048*AL37)+(3072*AM37) -> 0 | AZ37: Ganesh | BC37: =VLOOKUP(J37,ESRS!A:E,1,0) -> 295700499 | BD37: Yes
A38: CK295700608 | B38: SINGAPORE | C38: CINTECH 2 | D38: Row 45 CT2 B1-E-058BX | E38: SAN Storage | F38: SAN | G38: EMC | H38: SYMM VMAX 40K | I38: 295700608 | J38: 295700608 | K38: Row 45 CT2 B1-E-058BX | L38: 172.19.107.16 | M38: 40450 | N38: 41909 | O38: 41909 | P38: =VLOOKUP(J38,'SYMM Code upgrade'!A:W,8,0) -> #N/A | Q38: =VLOOKUP(J38,'SYMM Code upgrade'!A:J,10,0) -> #N/A | S38: 0-Jan-00 | T38: n/a | U38: =LEFT(K38, 5) -> Row 4 | V38: PROD | W38: slixip167 | X38: ssh (KRB) | Y38: swsa | Z38: APAC ECC Access Procedure | AA38: =(146*AD38)+(200*AE38)+(300*AF38)+(400*AG38)+(450*AH38)+(600*AI38)+(650*AJ38)+(1024*AK38)+(2048*AL38)+(3072*AM38) -> 0 | AZ38: Ganesh | BC38: =VLOOKUP(J38,ESRS!A:E,1,0) -> 295700608 | BD38: Yes
A39: CK295700613 | B39: SINGAPORE | C39: CINTECH 2 | D39: Row 48 CT2 B1-E-045CA | E39: SAN Storage | F39: SAN | G39: EMC | H39: SYMM VMAX 40K | I39: 295700613 | J39: 295700613 | K39: Row 48 CT2 B1-E-045CA | L39: 172.19.107.17 | M39: 40450 | N39: 41909 | O39: 41909 | P39: =VLOOKUP(J39,'SYMM Code upgrade'!A:W,8,0) -> #N/A | Q39: =VLOOKUP(J39,'SYMM Code upgrade'!A:J,10,0) -> #N/A | S39: 0-Jan-00 | T39: n/a | U39: =LEFT(K39, 5) -> Row 4 | V39: PROD | W39: slixip167 | X39: ssh (KRB) | Y39: swsa | Z39: APAC ECC Access Procedure | AA39: =(146*AD39)+(200*AE39)+(300*AF39)+(400*AG39)+(450*AH39)+(600*AI39)+(650*AJ39)+(1024*AK39)+(2048*AL39)+(3072*AM39) -> 192000 | AB39: 656 | AC39: 16 | AD39: 0 | AE39: 0 | AF39: 640 | AG39: 0 | AH39: 0 | AI39: 0 | AJ39: 0 | AK39: 0 | AL39: 0 | AM39: 0 | AN39: RAID-6 (6+2) | AO39: NA | AP39: 24 | AQ39: NA | AR39: NA | AS39: NA | AT39: NA | AU39: NA | AV39: Yes | AW39: No | AX39: No | AY39: YES | AZ39: Ganesh | BC39: =VLOOKUP(J39,ESRS!A:E,1,0) -> 295700613 | BD39: Yes
A40: CK295700478 | B40: HONG KONG | C40: HONG KONG | D40: 1 WANG WO TSAI STREET, TSUEN WAN | E40: SAN Storage | F40: SAN | G40: EMC | H40: SYMM VMAX 40K | I40: 295700478 | J40: 295700478 | K40: Row 08 IAD25-E-35 | L40: 172.19.232.44 | M40: 40450 | N40: 41909 | O40: 41909 | P40: =VLOOKUP(J40,'SYMM Code upgrade'!A:W,8,0) -> #N/A | Q40: =VLOOKUP(J40,'SYMM Code upgrade'!A:J,10,0) -> #N/A | S40: 0-Jan-00 | T40: n/a | U40: =LEFT(K40, 5) -> Row 0 | V40: COB | W40: hlixiu170 | X40: ssh (KRB) | Y40: swsa | Z40: APAC ECC Access Procedure | AA40: =(146*AD40)+(200*AE40)+(300*AF40)+(400*AG40)+(450*AH40)+(600*AI40)+(650*AJ40)+(1024*AK40)+(2048*AL40)+(3072*AM40) -> 0 | AZ40: Ganesh | BC40: =VLOOKUP(J40,ESRS!A:E,1,0) -> 295700478 | BD40: Yes
A41: CK295700518 | B41: HONG KONG | C41: HONG KONG | D41: 1 WANG WO TSAI STREET, TSUEN WAN | E41: SAN Storage | F41: SAN | G41: EMC | H41: SYMM VMAX 40K | I41: 295700518 | J41: 295700518 | K41: Row 09 IAD25-E-36 | L41: 172.19.232.45 | M41: 40450 | N41: 41909 | O41: 41909 | P41: =VLOOKUP(J41,'SYMM Code upgrade'!A:W,8,0) -> #N/A | Q41: =VLOOKUP(J41,'SYMM Code upgrade'!A:J,10,0) -> #N/A | S41: 0-Jan-00 | T41: n/a | U41: =LEFT(K41, 5) -> Row 0 | V41: COB | W41: hlixiu170 | X41: ssh (KRB) | Y41: swsa | Z41: APAC ECC Access Procedure | AA41: =(146*AD41)+(200*AE41)+(300*AF41)+(400*AG41)+(450*AH41)+(600*AI41)+(650*AJ41)+(1024*AK41)+(2048*AL41)+(3072*AM41) -> 0 | AZ41: Ganesh | BC41: To be installed | BD41: To be installed
A42: CK295700611 | B42: HONG KONG | C42: HONG KONG | D42: 399 CHAI WAN ROAD, CHAI WAN | E42: SAN Storage | F42: SAN | G42: EMC | H42: SYMM VMAX 40K | I42: 295700611 | J42: 295700611 | K42: Row 13 (AST4-DC2-E032) | L42: 10.186.172.151 | M42: 40450 | N42: 41909 | O42: 41909 | P42: =VLOOKUP(J42,'SYMM Code upgrade'!A:W,8,0) -> #N/A | Q42: =VLOOKUP(J42,'SYMM Code upgrade'!A:J,10,0) -> #N/A | S42: 0-Jan-00 | T42: n/a | U42: =LEFT(K42, 5) -> Row 1 | V42: COB | W42: hlixiu634 | X42: ssh (KRB) | Y42: swsa | Z42: APAC ECC Access Procedure | AA42: =(146*AD42)+(200*AE42)+(300*AF42)+(400*AG42)+(450*AH42)+(600*AI42)+(650*AJ42)+(1024*AK42)+(2048*AL42)+(3072*AM42) -> 384000 | AB42: 1312 | AC42: 32 | AD42: 0 | AE42: 0 | AF42: 1280 | AG42: 0 | AH42: 0 | AI42: 0 | AJ42: 0 | AK42: 0 | AL42: 0 | AM42: 0 | AN42: RAID-6 (6+2) | AO42: NA | AP42: 24 | AQ42: NA | AR42: NA | AS42: NA | AT42: NA | AU42: NA | AV42: Yes | AW42: No | AX42: No | AY42: YES | AZ42: Ganesh | BC42: =VLOOKUP(J42,ESRS!A:E,1,0) -> 295700611 | BD42: Yes
A43: CK292602398 | B43: HONG KONG | C43: HONG KONG | D43: 399 CHAI WAN ROAD, CHAI WAN | E43: SAN Storage | F43: SAN | G43: EMC | H43: SYMM VMAX-1 | I43: 292602398 | J43: 292602398 | K43: AST3-DC6-E002C (Row 10) | L43: 10.186.71.17 | M43: 40450 | N43: 41909 | O43: 41909 | P43: =VLOOKUP(J43,'SYMM Code upgrade'!A:W,8,0) -> #N/A | Q43: =VLOOKUP(J43,'SYMM Code upgrade'!A:J,10,0) -> #N/A | S43: 0-Jan-00 | T43: n/a | U43: =LEFT(K43, 5) -> AST3- | V43: COB | W43: hlixiu634 | X43: ssh (KRB) | Y43: swsa | Z43: APAC ECC Access Procedure | AA43: =(146*AD43)+(200*AE43)+(300*AF43)+(400*AG43)+(450*AH43)+(600*AI43)+(650*AJ43)+(1024*AK43)+(2048*AL43)+(3072*AM43) -> 216000 | AB43: 720 | AC43: 16 | AD43: 0 | AE43: 0 | AF43: 720 | AG43: 0 | AH43: 0 | AI43: 0 | AJ43: 0 | AK43: 0 | AL43: 0 | AM43: 0 | AN43: RAID-6 (6+2) | AO43: NA | AP43: 48 | AQ43: NA | AR43: NA | AS43: NA | AT43: NA | AU43: NA | AV43: Yes | AW43: No | AX43: No | AY43: YES | AZ43: Ganesh | BC43: =VLOOKUP(J43,ESRS!A:E,1,0) -> 292602398 | BD43: Yes
A44: CK292603631 | B44: HONG KONG | C44: HONG KONG | D44: 399 CHAI WAN ROAD, CHAI WAN | E44: SAN Storage | F44: SAN | G44: EMC | H44: SYMM VMAX-1 | I44: 292603631 | J44: 292603631 | K44: AST3-DC6-E003B (Row 13) | L44: 10.186.71.18 | M44: 40450 | N44: 41909 | O44: 41909 | P44: =VLOOKUP(J44,'SYMM Code upgrade'!A:W,8,0) -> #N/A | Q44: =VLOOKUP(J44,'SYMM Code upgrade'!A:J,10,0) -> #N/A | S44: 0-Jan-00 | T44: n/a | U44: =LEFT(K44, 5) -> AST3- | V44: COB | W44: hlixiu634 | X44: ssh (KRB) | Y44: swsa | Z44: APAC ECC Access Procedure | AA44: =(146*AD44)+(200*AE44)+(300*AF44)+(400*AG44)+(450*AH44)+(600*AI44)+(650*AJ44)+(1024*AK44)+(2048*AL44)+(3072*AM44) -> 111600 | AB44: 248 | AC44: 8 | AD44: 0 | AE44: 0 | AF44: 0 | AG44: 0 | AH44: 248 | AI44: 0 | AJ44: 0 | AK44: 0 | AL44: 0 | AM44: 0 | AN44: RAID-6 (6+2) | AO44: NA | AP44: 48 | AQ44: NA | AR44: NA | AS44: NA | AT44: NA | AU44: NA | AV44: Yes | AW44: No | AX44: No | AY44: YES | AZ44: Ganesh | BC44: =VLOOKUP(J44,ESRS!A:E,1,0) -> 292603631 | BD44: Yes
A45: CK292603629 | B45: HONG KONG | C45: HONG KONG | D45: 399 CHAI WAN ROAD, CHAI WAN | E45: SAN Storage | F45: SAN | G45: EMC | H45: SYMM VMAX-1 | I45: 292603629 | J45: 292603629 | K45: AST3-DC6-E004D (Row 8) | L45: 10.186.71.19 | M45: 40450 | N45: 41909 | O45: 41909 | P45: =VLOOKUP(J45,'SYMM Code upgrade'!A:W,8,0) -> #N/A | Q45: =VLOOKUP(J45,'SYMM Code upgrade'!A:J,10,0) -> #N/A | S45: 0-Jan-00 | T45: n/a | U45: =LEFT(K45, 5) -> AST3- | V45: COB | W45: hlixiu634 | X45: ssh (KRB) | Y45: swsa | Z45: APAC ECC Access Procedure | AA45: =(146*AD45)+(200*AE45)+(300*AF45)+(400*AG45)+(450*AH45)+(600*AI45)+(650*AJ45)+(1024*AK45)+(2048*AL45)+(3072*AM45) -> 218400 | AB45: 728 | AC45: 24 | AD45: 0 | AE45: 0 | AF45: 728 | AG45: 0 | AH45: 0 | AI45: 0 | AJ45: 0 | AK45: 0 | AL45: 0 | AM45: 0 | AN45: RAID-6 (6+2) | AO45: NA | AP45: 36 | AQ45: NA | AR45: NA | AS45: NA | AT45: NA | AU45: NA | AV45: Yes | AW45: No | AX45: No | AY45: YES | AZ45: Ganesh | BC45: =VLOOKUP(J45,ESRS!A:E,1,0) -> 292603629 | BD45: Yes
A46: CK298700658 | B46: INDIA | C46: MUMBAI | D46: 6th Floor,Nirlon Knowledge Park,Mumbai | E46: SAN Storage | F46: SAN | G46: EMC | H46: SYMM VMAX 10K | I46: inomume110r0658 | J46: 298700658 | K46: A-09 /A-10 | L46: 10.186.105.20 | M46: 41533 | N46: 42993 | O46: 42994 | P46: =VLOOKUP(J46,'SYMM Code upgrade'!A:W,8,0) -> #N/A | Q46: =VLOOKUP(J46,'SYMM Code upgrade'!A:J,10,0) -> #N/A | S46: 0-Jan-00 | T46: n/a | U46: =LEFT(K46, 5) -> A-09 | V46: COB | W46: inbrdcnkpbkp02 | X46: ssh (KRB) | Y46: pbrun storbg1//PPAK/pbrun <soe id > | Z46: APAC ECC Access Procedure | AA46: 64800 | AB46: 108 | AC46: 4 | AD46: 0 | AE46: 0 | AF46: 0 | AG46: 0 | AH46: 0 | AI46: 108 | AJ46: 0 | AK46: 0 | AL46: 0 | AM46: 0 | AN46: RAID-6 (14+2) | AO46: NA | AP46: 16 | AQ46: NA | AR46: NA | AS46: NA | AT46: NA | AU46: NA | AV46: Yes | AW46: No | AX46: No | AY46: YES | AZ46: Ganesh | BC46: =VLOOKUP(J46,ESRS!A:E,1,0) -> 298700658 | BD46: Yes
A47: CK298700651 | B47: INDIA | C47: CHENNIA | D47: 1st Floor, 163 Annasalai, Chennia | E47: SAN Storage | F47: SAN | G47: EMC | H47: SYMM VMAX 10K | I47: inochee110r0651 | J47: 298700651 | K47: F-07 / F-08 | L47: 169.187.169.22 | M47: 41617 | N47: 43078 | O47: 43078 | P47: =VLOOKUP(J47,'SYMM Code upgrade'!A:W,8,0) -> #N/A | Q47: =VLOOKUP(J47,'SYMM Code upgrade'!A:J,10,0) -> #N/A | S47: 0-Jan-00 | T47: n/a | U47: =LEFT(K47, 5) -> F-07 | V47: PROD | W47: inbrdcnkpbkp02 | X47: ssh (KRB) | Y47: pbrun storbg1//PPAK/pbrun <soe id > | Z47: APAC ECC Access Procedure | AA47: 31200 | AB47: 52 | AC47: 4 | AD47: 0 | AE47: 0 | AF47: 0 | AG47: 0 | AH47: 0 | AI47: 52 | AJ47: 0 | AK47: 0 | AL47: 0 | AM47: 0 | AN47: RAID-6 (14+2) | AO47: NA | AP47: 16 | AQ47: NA | AR47: NA | AS47: NA | AT47: NA | AU47: NA | AV47: Yes | AW47: No | AX47: No | AY47: YES | AZ47: Ganesh | BC47: =VLOOKUP(J47,ESRS!A:E,1,0) -> 298700651 | BD47: Yes
A48: CKM00131900759 | B48: INDIA | C48: CHENNIA | D48: 2nd Floor, 163 Annasalai | E48: SAN Storage | F48: SAN | G48: EMC | H48: DGC VNX5100 | I48: inochee111n0759 | J48: CKM00131900759 | K48: SB-13 | L48: 169.187.199.67/68 | M48: 41532 | N48: 42993 | O48: 42994 | P48: =VLOOKUP(J48,'DGC (CX_VNX) Flare code upgrade'!A:E,4,0) -> 05.32.000.5.207 | Q48: =VLOOKUP(J48,'DGC (CX_VNX) Flare code upgrade'!A:E,5,0) -> 05.32.000.5.207 | S48: 0-Jan-00 | T48: n/a | U48: =LEFT(K48, 5) -> SB-13 | V48: PROD | W48: apacsgexhmgtv01/apacsgwinp1092 | X48: RDP ( AD - APPC Domain) | Y48: unisphere( LDAP - APPC Domain) | Z48: APAC ECC Access Procedure | AA48: 6300 | AB48: 21 | AC48: 0 | AD48: 0 | AE48: 0 | AF48: 21 | AG48: 0 | AH48: 0 | AI48: 0 | AJ48: 0 | AK48: 0 | AL48: 0 | AM48: 0 | AN48: RAID-6 (14+2) | AO48: NA | AP48: NA | AQ48: NA | AR48: NA | AS48: NA | AT48: NA | AU48: NA | AV48: Yes | AW48: No | AX48: No | AY48: YES | AZ48: Nisha, Vasanthan | BC48: =VLOOKUP(J48,ESRS!A:E,1,0) -> CKM00131900759 | BD48: Yes
A49: CKM00131900766 | B49: INDIA | C49: DELHI | D49: Jeevan Vihar,Ground Floor,Parliament Street,Connaught Place,New Delhi - 110001 | E49: SAN Storage | F49: SAN | G49: EMC | H49: DGC VNX5100 | I49: inodele113n0766 | J49: CKM00131900766 | K49: Rack - 4 | L49: 10.155.64.11/12 | M49: 41537 | N49: 42997 | O49: 42998 | P49: =VLOOKUP(J49,'DGC (CX_VNX) Flare code upgrade'!A:E,4,0) -> 05.32.000.5.207 | Q49: =VLOOKUP(J49,'DGC (CX_VNX) Flare code upgrade'!A:E,5,0) -> 05.32.000.5.207 | S49: 0-Jan-00 | T49: n/a | U49: =LEFT(K49, 5) -> Rack | V49: PROD | W49: apacsgexhmgtv01/apacsgwinp1092 | X49: RDP ( AD - APPC Domain) | Y49: unisphere( LDAP - APPC Domain) | Z49: APAC ECC Access Procedure | AA49: 6300 | AB49: 21 | AC49: 1 | AD49: 0 | AE49: 0 | AF49: 21 | AG49: 0 | AH49: 0 | AI49: 0 | AJ49: 0 | AK49: 0 | AL49: 0 | AM49: 0 | AN49: RAID-6 (14+2),RAID-5 (3+1) | AO49: NA | AP49: NA | AQ49: NA | AR49: NA | AS49: NA | AT49: NA | AU49: NA | AV49: Yes | AW49: No | AX49: No | AY49: YES | AZ49: Nisha, Vasanthan | BC49: =VLOOKUP(J49,ESRS!A:E,1,0) -> CKM00131900766 | BD49: Yes
A50: CKM00114400773 | B50: THAILAND | C50: BANGKOK | D50: 323 SILOM RORDP ( AD - APPC Domain), SILOM, BANGRAK | E50: SAN Storage | F50: SAN | G50: EMC | H50: DGC VNX5300 | I50: CKM00114400773 | J50: CKM00114400773 | L50: 163.36.212.89 /90 | M50: 40880 | N50: 42344 | O50: 42343 | P50: =VLOOKUP(J50,'DGC (CX_VNX) Flare code upgrade'!A:E,4,0) -> 05.32.000.5.207 | Q50: =VLOOKUP(J50,'DGC (CX_VNX) Flare code upgrade'!A:E,5,0) -> 05.32.000.5.207 | S50: 0-Jan-00 | T50: n/a | U50: =LEFT(K50, 5) | V50: COB | W50: apacsgexhmgtv01/apacsgwinp1092 | X50: RDP ( AD - APPC Domain) | Y50: unisphere( LDAP - APPC Domain) | Z50: APAC ECC Access Procedure | AA50: 6900 | AB50: 23 | AC50: 2 | AD50: 0 | AE50: 0 | AF50: 23 | AG50: 0 | AH50: 0 | AI50: 0 | AJ50: 0 | AK50: 0 | AL50: 0 | AM50: 0 | AN50: RAID-6 (12+2) | AO50: NA | AP50: NA | AQ50: NA | AR50: NA | AS50: NA | AT50: NA | AU50: NA | AV50: Yes | AW50: No | AX50: Yes | AY50: YES | AZ50: Nisha, Vasanthan | BC50: =VLOOKUP(J50,ESRS!A:E,1,0) -> CKM00114400773 | BD50: Yes
A51: CKM00114400775 | B51: THAILAND | C51: BANGKOK | D51: 399 SUKHUMVIT RORDP ( AD - APPC Domain), KLONGTOEY NUA, WATTANA | E51: SAN Storage | F51: SAN | G51: EMC | H51: DGC VNX5300 | I51: CKM00114400775 | J51: CKM00114400775 | L51: 10.70.184.141/142 | M51: 40879 | N51: 42339 | O51: 42340 | P51: =VLOOKUP(J51,'DGC (CX_VNX) Flare code upgrade'!A:E,4,0) -> 05.32.000.5.207 | Q51: =VLOOKUP(J51,'DGC (CX_VNX) Flare code upgrade'!A:E,5,0) -> 05.32.000.5.207 | S51: 0-Jan-00 | T51: n/a | U51: =LEFT(K51, 5) | V51: PROD | W51: apacsgexhmgtv01/apacsgwinp1092 | X51: RDP ( AD - APPC Domain) | Y51: unisphere( LDAP - APPC Domain) | Z51: APAC ECC Access Procedure | AA51: 6900 | AB51: 23 | AC51: 2 | AD51: 0 | AE51: 0 | AF51: 23 | AG51: 0 | AH51: 0 | AI51: 0 | AJ51: 0 | AK51: 0 | AL51: 0 | AM51: 0 | AN51: RAID-6 (12+2) | AO51: NA | AP51: NA | AQ51: NA | AR51: NA | AS51: NA | AT51: NA | AU51: NA | AV51: Yes | AW51: No | AX51: Yes | AY51: YES | AZ51: Nisha, Vasanthan | BC51: =VLOOKUP(J51,ESRS!A:E,1,0) -> CKM00114400775 | BD51: Yes
A52: CKM00133700069 | B52: HONG KONG | C52: HONG KONG | D52: 399 SUKHUMVIT RORDP ( AD - APPC Domain), KLONGTOEY NUA, WATTANA | E52: SAN Storage | F52: SAN | G52: EMC | H52: DGC VNX7600 | I52: =J52 -> CKM00133700069 | J52: CKM00133700069 | K52: Row08 25-E-37 | L52: 129.14.5.166/167 | M52: 41539 | N52: 42999 | O52: 43000 | P52: =VLOOKUP(J52,'DGC (CX_VNX) Flare code upgrade'!A:E,4,0) -> 05.33.000.5.038 | Q52: =VLOOKUP(J52,'DGC (CX_VNX) Flare code upgrade'!A:E,5,0) -> 05.33.000.5.038 | S52: 0-Jan-00 | T52: n/a | U52: =LEFT(K52, 5) -> Row08 | V52: UAT | W52: apacsgexhmgtv01/apachkwinc1090 | X52: RDP ( AD - APPC Domain) | Y52: unisphere( LDAP - APPC Domain) | Z52: APAC ECC Access Procedure | AA52: 211200 | AB52: 352 | AC52: 12 | AD52: 0 | AE52: 0 | AF52: 0 | AG52: 0 | AH52: 0 | AI52: 352 | AJ52: 0 | AK52: 0 | AL52: 0 | AM52: 0 | AN52: RAID-6 (14+2),RAID-5 (3+1) | AO52: NA | AP52: NA | AQ52: NA | AR52: NA | AS52: NA | AT52: NA | AU52: NA | AV52: configured, test pending | AW52: No | AX52: No | AY52: NO | AZ52: Nisha, Vasanthan | BC52: =VLOOKUP(J52,ESRS!A:E,1,0) -> CKM00133700069 | BD52: Yes
A53: FCN00122200039 | B53: HONG KONG | C53: HONG KONG | D53: 1 WANG WO TSAI STREET, TSUEN WAN | E53: SAN Storage | F53: SAN | G53: EMC | H53: DGC VNX7500 | I53: =J53 -> FCN00122200039 | J53: FCN00122200039 | K53: AST4-DC2-E018 | L53: 10.70.126.5/6 | M53: 41075 | N53: 42535 | O53: 42536 | P53: =VLOOKUP(J53,'DGC (CX_VNX) Flare code upgrade'!A:E,4,0) -> 05.32.000.5.207 | Q53: =VLOOKUP(J53,'DGC (CX_VNX) Flare code upgrade'!A:E,5,0) -> 05.32.000.5.207 | S53: 0-Jan-00 | T53: n/a | U53: =LEFT(K53, 5) -> AST4- | V53: PROD | W53: apacsgexhmgtv01/apachkwinc1090 | X53: RDP ( AD - APPC Domain) | Y53: unisphere( LDAP - APPC Domain) | Z53: APAC ECC Access Procedure | AA53: 509824 | AB53: 393 | AC53: 2*600,4*1TB,2*2TB,1*3TB | AD53: 0 | AE53: 0 | AF53: 4 | AG53: 0 | AH53: 0 | AI53: 78 | AJ53: 0 | AK53: 188 | AL53: 106 | AM53: 17 | AN53: RAID-6 (14+2),RAID-5 (3+1),RAID1/0 (4+4),RAID-6 (6+2) | AO53: NA | AP53: NA | AQ53: NA | AR53: NA | AS53: NA | AT53: NA | AU53: NA | AV53: Yes | AW53: No | AX53: Yes | AY53: YES | AZ53: Nisha, Vasanthan | BC53: =VLOOKUP(J53,ESRS!A:E,1,0) -> FCN00122200039 | BD53: Yes
A54: FCN00122300103 | B54: HONG KONG | C54: HONG KONG | D54: 1 WANG WO TSAI STREET, TSUEN WAN | E54: SAN Storage | F54: SAN | G54: EMC | H54: DGC VNX7500 | I54: =J54 -> FCN00122300103 | J54: FCN00122300103 | K54: AST4-DC2-E019 | L54: 10.70.126.7/8 | M54: 41075 | N54: 42535 | O54: 42536 | P54: =VLOOKUP(J54,'DGC (CX_VNX) Flare code upgrade'!A:E,4,0) -> 05.32.000.5.207 | Q54: =VLOOKUP(J54,'DGC (CX_VNX) Flare code upgrade'!A:E,5,0) -> 05.32.000.5.207 | S54: 0-Jan-00 | T54: n/a | U54: =LEFT(K54, 5) -> AST4- | V54: PROD | W54: apacsgexhmgtv01/apachkwinc1090 | X54: RDP ( AD - APPC Domain) | Y54: unisphere( LDAP - APPC Domain) | Z54: APAC ECC Access Procedure | AA54: 615328 | AB54: 437 | AC54: 2*600,4*1TB,2*2TB,1*3TB | AD54: 0 | AE54: 0 | AF54: 4 | AG54: 0 | AH54: 0 | AI54: 90 | AJ54: 0 | AK54: 188 | AL54: 106 | AM54: 49 | AN54: RAID-6 (14+2),RAID-5 (3+1),RAID1/0 (4+4),RAID-6 (6+2) | AO54: NA | AP54: NA | AQ54: NA | AR54: NA | AS54: NA | AT54: NA | AU54: NA | AV54: Yes | AW54: No | AX54: Yes | AY54: YES | AZ54: Nisha, Vasanthan | BC54: =VLOOKUP(J54,ESRS!A:E,1,0) -> FCN00122300103 | BD54: Yes
A55: CKM00133700074 | B55: HONG KONG | C55: HONG KONG | D55: 1 WANG WO TSAI STREET, TSUEN WAN | E55: SAN Storage | F55: SAN | G55: EMC | H55: DGC VNX7600 | I55: =J55 -> CKM00133700074 | J55: CKM00133700074 | K55: AST3-DC6- Row7 - E011 | L55: 10.107.243.211/212 | M55: 41539 | N55: 42999 | O55: 43000 | P55: =VLOOKUP(J55,'DGC (CX_VNX) Flare code upgrade'!A:E,4,0) -> 05.33.000.5.038 | Q55: =VLOOKUP(J55,'DGC (CX_VNX) Flare code upgrade'!A:E,5,0) -> 05.33.000.5.038 | S55: 0-Jan-00 | T55: n/a | U55: =LEFT(K55, 5) -> AST3- | V55: UAT | W55: apacsgexhmgtv01/apachkwinc1090 | X55: RDP ( AD - APPC Domain) | Y55: unisphere( LDAP - APPC Domain) | Z55: APAC ECC Access Procedure | AA55: 211200 | AB55: 352 | AC55: 12 | AD55: 0 | AE55: 0 | AF55: 0 | AG55: 0 | AH55: 0 | AI55: 352 | AJ55: 0 | AK55: 0 | AL55: 0 | AM55: 0 | AN55: RAID-6 (14+2),RAID-5 (3+1) | AO55: NA | AP55: NA | AQ55: NA | AR55: NA | AS55: NA | AT55: NA | AU55: NA | AV55: Yes | AW55: No | AX55: No | AY55: NO | AZ55: Nisha, Vasanthan | BC55: =VLOOKUP(J55,ESRS!A:E,1,0) -> CKM00133700074 | BD55: Yes
A56: CKM00133700071 | B56: HONG KONG | C56: HONG KONG | D56: 1 WANG WO TSAI STREET, TSUEN WAN | E56: SAN Storage | F56: SAN | G56: EMC | H56: DGC VNX7600 | I56: =J56 -> CKM00133700071 | J56: CKM00133700071 | K56: AST3-DC6- Row7 - E012 | L56: 10.107.243.213/214 | M56: 41539 | N56: 42999 | O56: 43000 | P56: =VLOOKUP(J56,'DGC (CX_VNX) Flare code upgrade'!A:E,4,0) -> 05.33.000.5.038 | Q56: =VLOOKUP(J56,'DGC (CX_VNX) Flare code upgrade'!A:E,5,0) -> 05.33.000.5.038 | S56: 0-Jan-00 | T56: n/a | U56: =LEFT(K56, 5) -> AST3- | V56: UAT | W56: apacsgexhmgtv01/apachkwinc1090 | X56: RDP ( AD - APPC Domain) | Y56: unisphere( LDAP - APPC Domain) | Z56: APAC ECC Access Procedure | AA56: 211200 | AB56: 352 | AC56: 12 | AD56: 0 | AE56: 0 | AF56: 0 | AG56: 0 | AH56: 0 | AI56: 352 | AJ56: 0 | AK56: 0 | AL56: 0 | AM56: 0 | AN56: RAID-6 (14+2),RAID-5 (3+1) | AO56: NA | AP56: NA | AQ56: NA | AR56: NA | AS56: NA | AT56: NA | AU56: NA | AV56: Yes | AW56: No | AX56: No | AY56: No | AZ56: Nisha, Vasanthan | BC56: =VLOOKUP(J56,ESRS!A:E,1,0) -> CKM00133700071 | BD56: Yes
A57: FCN00122300102 | B57: SINGAPORE | C57: SINGAPORE | D57: 75 SCIENCE PARK DRIVE, SINGAPORE SCIENCE PARK I | E57: SAN Storage | F57: SAN | G57: EMC | H57: DGC VNX7500 | I57: =J57 -> FCN00122300102 | J57: FCN00122300102 | K57: CT2B1-E-04XBW Row 53 | L57: 10.70.224.129/130 | M57: 41105 | N57: 42565 | O57: 42566 | P57: =VLOOKUP(J57,'DGC (CX_VNX) Flare code upgrade'!A:E,4,0) -> 05.32.000.5.015 | Q57: =VLOOKUP(J57,'DGC (CX_VNX) Flare code upgrade'!A:E,5,0) -> 05.32.000.5.207 | S57: 0-Jan-00 | T57: n/a | U57: =LEFT(K57, 5) -> CT2B1 | V57: PROD | W57: apacsgexhmgtv01/apacsgwinp1092 | X57: RDP ( AD - APPC Domain) | Y57: unisphere( LDAP - APPC Domain) | Z57: APAC ECC Access Procedure | AA57: 709472 | AB57: 498 | AC57: 2*600,4*1TB,3*2TB,1*3TB | AD57: 0 | AE57: 0 | AF57: 4 | AG57: 0 | AH57: 0 | AI57: 66 | AJ57: 0 | AK57: 236 | AL57: 159 | AM57: 33 | AN57: RAID-6 (14+2),RAID-5 (3+1),RAID1/0 (4+4),RAID-6 (6+2) | AO57: NA | AP57: NA | AQ57: NA | AR57: NA | AS57: NA | AT57: NA | AU57: NA | AV57: Yes | AW57: No | AX57: Yes | AY57: YES | AZ57: Nisha, Vasanthan | BC57: =VLOOKUP(J57,ESRS!A:E,1,0) -> FCN00122300102 | BD57: Yes
A58: FCN00122300105 | B58: SINGAPORE | C58: SINGAPORE | D58: 75 SCIENCE PARK DRIVE, SINGAPORE SCIENCE PARK I | E58: SAN Storage | F58: SAN | G58: EMC | H58: DGC VNX7500 | I58: =J58 -> FCN00122300105 | J58: FCN00122300105 | K58: CT2B1-E-01XBQ Row 54 | L58: 10.70.224.131/132 | M58: 41105 | N58: 42565 | O58: 42566 | P58: =VLOOKUP(J58,'DGC (CX_VNX) Flare code upgrade'!A:E,4,0) -> 05.32.000.5.015 | Q58: =VLOOKUP(J58,'DGC (CX_VNX) Flare code upgrade'!A:E,5,0) -> 05.32.000.5.207 | S58: 0-Jan-00 | T58: n/a | U58: =LEFT(K58, 5) -> CT2B1 | V58: PROD | W58: apacsgexhmgtv01/apacsgwinp1092 | X58: RDP ( AD - APPC Domain) | Y58: unisphere( LDAP - APPC Domain) | Z58: APAC ECC Access Procedure | AA58: 647080 | AB58: 456 | AC58: 2*600,4*1TB,2*2TB,1*3TB | AD58: 0 | AE58: 0 | AF58: 4 | AG58: 0 | AH58: 0 | AI58: 61 | AJ58: 0 | AK58: 236 | AL58: 106 | AM58: 49 | AN58: RAID-6 (14+2),RAID-5 (3+1),RAID1/0 (4+4),RAID-6 (6+2) | AO58: NA | AP58: NA | AQ58: NA | AR58: NA | AS58: NA | AT58: NA | AU58: NA | AV58: Yes | AW58: No | AX58: Yes | AY58: YES | AZ58: Nisha, Vasanthan | BC58: =VLOOKUP(J58,ESRS!A:E,1,0) -> FCN00122300105 | BD58: Yes
A59: CKM00121900293 | B59: SINGAPORE | C59: SINGAPORE | D59: 75 SCIENCE PARK DRIVE, SINGAPORE SCIENCE PARK I | E59: SAN Storage | F59: SAN | G59: EMC | H59: DGC VNX5700 | I59: =J59 -> CKM00121900293 | J59: CKM00121900293 | K59: CT2B1-E56BE Row 36 | L59: 10.70.224.125/126 | M59: 41077 | N59: 42537 | O59: 42538 | P59: =VLOOKUP(J59,'DGC (CX_VNX) Flare code upgrade'!A:E,4,0) -> 05.32.000.5.207 | Q59: =VLOOKUP(J59,'DGC (CX_VNX) Flare code upgrade'!A:E,5,0) -> 05.32.000.5.207 | S59: 0-Jan-00 | T59: n/a | U59: =LEFT(K59, 5) -> CT2B1 | V59: PROD | W59: apacsgexhmgtv01/apacsgwinp1092 | X59: RDP ( AD - APPC Domain) | Y59: unisphere( LDAP - APPC Domain) | Z59: APAC ECC Access Procedure | AA59: 10200 | AB59: 19 | AC59: 1 | AD59: 0 | AE59: 0 | AF59: 4 | AG59: 0 | AH59: 0 | AI59: 15 | AJ59: 0 | AK59: 0 | AL59: 0 | AM59: 0 | AN59: RAID-6 (12+2),RAID-5 (3+1) | AO59: NA | AP59: NA | AQ59: NA | AR59: NA | AS59: NA | AT59: NA | AU59: NA | AV59: Yes | AW59: No | AX59: Yes | AY59: YES | AZ59: Nisha, Vasanthan | BC59: =VLOOKUP(J59,ESRS!A:E,1,0) -> CKM00121900293 | BD59: Yes
A60: CKM00133401669 | B60: SINGAPORE | C60: SINGAPORE | D60: 75 SCIENCE PARK DRIVE, SINGAPORE SCIENCE PARK I | E60: SAN Storage | F60: SAN | G60: EMC | H60: DGC VNX7600 | I60: =J60 -> CKM00133401669 | J60: CKM00133401669 | K60: Row 37 beside E-049W | L60: 10.217.102.69/70 | M60: 41539 | N60: 42999 | O60: 43000 | P60: =VLOOKUP(J60,'DGC (CX_VNX) Flare code upgrade'!A:E,4,0) -> 05.33.000.5.038 | Q60: =VLOOKUP(J60,'DGC (CX_VNX) Flare code upgrade'!A:E,5,0) -> 05.33.000.5.038 | S60: 0-Jan-00 | T60: n/a | U60: =LEFT(K60, 5) -> Row 3 | V60: PROD | W60: apacsgexhmgtv01/apacsgwinp1092 | X60: RDP ( AD - APPC Domain) | Y60: unisphere( LDAP - APPC Domain) | Z60: APAC ECC Access Procedure | AA60: 319200 | AB60: 532 | AC60: 16 | AD60: 0 | AE60: 0 | AF60: 0 | AG60: 0 | AH60: 0 | AI60: 532 | AJ60: 0 | AK60: 0 | AL60: 0 | AM60: 0 | AN60: RAID-6 (14+2),RAID-5 (3+1) | AO60: NA | AP60: NA | AQ60: NA | AR60: NA | AS60: NA | AT60: NA | AU60: NA | AV60: configured, test pending | AW60: No | AX60: No | AY60: NO | AZ60: Nisha, Vasanthan | BC60: =VLOOKUP(J60,ESRS!A:E,1,0) -> CKM00133401669 | BD60: Yes
A61: 7860214 | B61: SINGAPORE | C61: SINGAPORE | D61: 75 SCIENCE PARK DRIVE, SINGAPORE SCIENCE PARK I | E61: SAN Storage | F61: SAN | G61: IBM | H61: IBM-XIV | I61: 7860214 | J61: 7860214 | K61: CT2 B1-I-050 | L61: 172.19.107.18/19/20 | M61: 41574 | N61: 43034 | O61: 43035 | P61: 11.3.0.a | Q61: 11.4.2 | S61: 0-Jan-00 | T61: n/a | U61: =LEFT(K61, 5) -> CT2 B | V61: PROD | W61: apacsgvpmc001 | X61: RDP ( AD - APPC Domain) | Y61: XIV GUI ( Local ID) | Z61: APAC ECC Access Procedure | AA61: 552960 | AB61: 180 | AC61: 15 | AD61: 0 | AE61: 0 | AF61: 0 | AG61: 0 | AH61: 0 | AI61: 0 | AJ61: 0 | AK61: 0 | AL61: 0 | AM61: 180 | AN61: RAID10 | AO61: NA | AP61: NA | AQ61: NA | AR61: NA | AS61: NA | AT61: NA | AU61: NA | AV61: No | AW61: No | AX61: No | AY61: NO | AZ61: Nisha, Vasanthan | BC61: configured | BD61: Non EMC
A62: CK200081900324 | B62: SINGAPORE | C62: SINGAPORE | D62: 75 SCIENCE PARK DRIVE, SINGAPORE SCIENCE PARK I | E62: SAN Storage | F62: SAN | G62: EMC | H62: DGC CX3-80 | I62: CK200081900324 | J62: CK200081900324 | K62: CT2L1-E158 | L62: 163.37.143.220/221 | M62: 39652 | N62: 41113 | O62: SAN | P62: =VLOOKUP(J62,'DGC (CX_VNX) Flare code upgrade'!A:E,4,0) -> 3.26.80.5.031 | Q62: =VLOOKUP(J62,'DGC (CX_VNX) Flare code upgrade'!A:E,5,0) -> 3.26.80.5.031 | S62: 41729 | T62: Tech-Refresh In-Progress | U62: =LEFT(K62, 5) -> CT2L1 | V62: PROD | W62: apacsgwinp1092 | X62: RDP ( AD - APPC Domain) | Y62: unisphere ( Local ID) | Z62: APAC ECC Access Procedure | AA62: 27010 | AB62: 185 | AC62: 5 | AD62: 185 | AE62: 0 | AF62: 0 | AG62: 0 | AH62: 0 | AI62: 0 | AJ62: 0 | AK62: 0 | AL62: 0 | AM62: 0 | AN62: r5 | AO62: NA | AP62: NA | AQ62: NA | AR62: NA | AS62: NA | AT62: NA | AU62: NA | AV62: Yes | AW62: No | AX62: Yes | AY62: NO | AZ62: Nisha, Vasanthan | BC62: =VLOOKUP(J62,ESRS!A:E,1,0) -> CK200081900324 | BD62: Yes
A63: CK200072400943 | B63: SINGAPORE | C63: SINGAPORE | D63: 75 SCIENCE PARK DRIVE, SINGAPORE SCIENCE PARK I | E63: SAN Storage | F63: SAN | G63: EMC | H63: DGC CX3-80 | I63: CK200072400943 | J63: CK200072400943 | K63: CT2L1-E117 | L63: 163.37.143.222/223 | M63: 39313 | N63: 40772 | O63: SAN | P63: =VLOOKUP(J63,'DGC (CX_VNX) Flare code upgrade'!A:E,4,0) -> 3.26.80.5.031 | Q63: =VLOOKUP(J63,'DGC (CX_VNX) Flare code upgrade'!A:E,5,0) -> 3.26.80.5.031 | S63: 41729 | T63: Tech-Refresh In-Progress | U63: =LEFT(K63, 5) -> CT2L1 | V63: PROD | W63: apacsgwinp1092 | X63: RDP ( AD - APPC Domain) | Y63: unisphere ( Local ID) | Z63: APAC ECC Access Procedure | AA63: 60300 | AB63: 201 | AC63: 5 | AD63: 0 | AE63: 0 | AF63: 201 | AG63: 0 | AH63: 0 | AI63: 0 | AJ63: 0 | AK63: 0 | AL63: 0 | AM63: 0 | AN63: r5 | AO63: NA | AP63: NA | AQ63: NA | AR63: NA | AS63: NA | AT63: NA | AU63: NA | AV63: Yes | AW63: No | AX63: Yes | AY63: NO | AZ63: Nisha, Vasanthan | BC63: =VLOOKUP(J63,ESRS!A:E,1,0) -> CK200072400943 | BD63: Yes
A64: CK200081900323 | B64: SINGAPORE | C64: SINGAPORE | D64: 75 SCIENCE PARK DRIVE, SINGAPORE SCIENCE PARK I | E64: SAN Storage | F64: SAN | G64: EMC | H64: DGC CX3-80 | I64: CK200081900323 | J64: CK200081900323 | K64: CT2L1-E160 | L64: 163.37.143.224/225 | M64: 39652 | N64: 41113 | O64: SAN | P64: =VLOOKUP(J64,'DGC (CX_VNX) Flare code upgrade'!A:E,4,0) -> 3.26.80.5.031 | Q64: =VLOOKUP(J64,'DGC (CX_VNX) Flare code upgrade'!A:E,5,0) -> 3.26.80.5.031 | S64: 41729 | T64: Tech-Refresh In-Progress | U64: =LEFT(K64, 5) -> CT2L1 | V64: PROD | W64: apacsgwinp1092 | X64: RDP ( AD - APPC Domain) | Y64: unisphere ( Local ID) | Z64: APAC ECC Access Procedure | AA64: 16944 | AB64: 115 | AC64: 5 | AD64: 114 | AE64: 0 | AF64: 1 | AG64: 0 | AH64: 0 | AI64: 0 | AJ64: 0 | AK64: 0 | AL64: 0 | AM64: 0 | AN64: r5 | AO64: NA | AP64: NA | AQ64: NA | AR64: NA | AS64: NA | AT64: NA | AU64: NA | AV64: Yes | AW64: No | AX64: Yes | AY64: NO | AZ64: Nisha, Vasanthan | BC64: =VLOOKUP(J64,ESRS!A:E,1,0) -> CK200081900323 | BD64: Yes
A65: CK200071500503 | B65: SINGAPORE | C65: SINGAPORE | D65: 75 SCIENCE PARK DRIVE, SINGAPORE SCIENCE PARK I | E65: SAN Storage | F65: SAN | G65: EMC | H65: DGC CX3-80 | I65: CK200071500503 | J65: CK200071500503 | K65: CT2L1-E108 | L65: 163.37.143.226/227 | M65: 39266 | N65: 40720 | O65: SAN | P65: =VLOOKUP(J65,'DGC (CX_VNX) Flare code upgrade'!A:E,4,0) -> 3.26.80.5.031 | Q65: =VLOOKUP(J65,'DGC (CX_VNX) Flare code upgrade'!A:E,5,0) -> 3.26.80.5.031 | S65: 41729 | T65: Tech-Refresh In-Progress | U65: =LEFT(K65, 5) -> CT2L1 | V65: PROD | W65: apacsgwinp1092 | X65: RDP ( AD - APPC Domain) | Y65: unisphere ( Local ID) | Z65: APAC ECC Access Procedure | AA65: 17082 | AB65: 117 | AC65: 5 | AD65: 117 | AE65: 0 | AF65: 0 | AG65: 0 | AH65: 0 | AI65: 0 | AJ65: 0 | AK65: 0 | AL65: 0 | AM65: 0 | AN65: r5 | AO65: NA | AP65: NA | AQ65: NA | AR65: NA | AS65: NA | AT65: NA | AU65: NA | AV65: Yes | AW65: No | AX65: Yes | AY65: NO | AZ65: Nisha, Vasanthan | BC65: =VLOOKUP(J65,ESRS!A:E,1,0) -> CK200071500503 | BD65: Yes
A66: FCNCX101000064 | B66: HONG KONG | C66: HONG KONG | D66: 399 CHAI WAN RORDP ( AD - APPC Domain), CHAI WAN | E66: SAN Storage | F66: SAN | G66: EMC | H66: DGC CX4-120 | I66: FCNCX101000064 | J66: FCNCX101000064 | K66: IAD 27-E45 | L66: 129.14.6.41 | M66: 40274 | N66: 41733 | O66: SAN | P66: =VLOOKUP(J66,'DGC (CX_VNX) Flare code upgrade'!A:E,4,0) -> 04.30.000.5.526 | Q66: =VLOOKUP(J66,'DGC (CX_VNX) Flare code upgrade'!A:E,5,0) -> 04.30.000.5.526 | S66: 42735 | T66: Tech-Refresh In-Progress | U66: =LEFT(K66, 5) -> IAD 2 | V66: UAT | W66: apachkwinc1090 | X66: RDP ( AD - APPC Domain) | Y66: unisphere ( LDAP - APAC Domain) | Z66: APAC ECC Access Procedure | AA66: #VALUE! | AB66: 0 | AC66: Nologin | AD66: No Login | AE66: 0 | AF66: NoLogin | AG66: 0 | AH66: NoLogin | AI66: NoLogin | AJ66: 0 | AK66: NoLogin | AL66: NoLogin | AM66: NoLogin | AN66: NoLogin | AO66: NA | AP66: NA | AQ66: NA | AR66: NA | AS66: NA | AT66: NA | AU66: NA | AV66: Yes | AW66: No | AX66: Yes | AY66: YES | AZ66: Nisha, Vasanthan | BC66: =VLOOKUP(J66,ESRS!A:E,1,0) -> FCNCX101000064 | BD66: Yes
A67: CKM00101800043 | B67: SINGAPORE | C67: SINGAPORE | D67: 75 SCIENCE PARK DRIVE, SINGAPORE SCIENCE PARK I | E67: SAN Storage | F67: SAN | G67: EMC | H67: DGC CX4-480 | I67: CKM00101800043 | J67: CKM00101800043 | K67: CT2B1-E62 | L67: 10.70.224.5 | M67: 40412 | N67: 41872 | O67: SAN | P67: =VLOOKUP(J67,'DGC (CX_VNX) Flare code upgrade'!A:E,4,0) -> 04.30.000.5.526 | Q67: =VLOOKUP(J67,'DGC (CX_VNX) Flare code upgrade'!A:E,5,0) -> 04.30.000.5.526 | S67: 42735 | T67: n/a | U67: =LEFT(K67, 5) -> CT2B1 | V67: PROD | W67: apacsgwinp1092 | X67: RDP ( AD - APPC Domain) | Y67: unisphere ( LDAP - APAC Domain) | Z67: APAC ECC Access Procedure | AA67: 45130 | AB67: 92 | AC67: 6 | AD67: 5 | AE67: 0 | AF67: 26 | AG67: 0 | AH67: 0 | AI67: 61 | AJ67: 0 | AK67: 0 | AL67: 0 | AM67: 0 | AN67: r5,r6 | AO67: NA | AP67: NA | AQ67: NA | AR67: NA | AS67: NA | AT67: NA | AU67: NA | AV67: Yes | AW67: No | AX67: Yes | AY67: YES | AZ67: Nisha, Vasanthan | BC67: =VLOOKUP(J67,ESRS!A:E,1,0) -> CKM00101800043 | BD67: Yes
A68: CKM00102100004 | B68: HONG KONG | C68: HONG KONG | D68: 399 CHAI WAN RORDP ( AD - APPC Domain), CHAI WAN | E68: SAN Storage | F68: SAN | G68: EMC | H68: DGC CX4-480 | I68: CKM00102100004 | J68: CKM00102100004 | K68: IAD 27-E48 | L68: 129.14.6.44 | M68: 40359 | N68: 41819 | O68: SAN | P68: =VLOOKUP(J68,'DGC (CX_VNX) Flare code upgrade'!A:E,4,0) -> 04.28.000.5.707 | Q68: =VLOOKUP(J68,'DGC (CX_VNX) Flare code upgrade'!A:E,5,0) -> 04.30.000.5.526 | S68: 42735 | T68: n/a | U68: =LEFT(K68, 5) -> IAD 2 | V68: PROD | W68: apachkwinc1090 | X68: RDP ( AD - APPC Domain) | Y68: unisphere ( LDAP - APAC Domain) | Z68: APAC ECC Access Procedure | AA68: 87730 | AB68: 150 | AC68: 6 | AD68: 5 | AE68: 0 | AF68: 0 | AG68: 0 | AH68: 0 | AI68: 145 | AJ68: 0 | AK68: 0 | AL68: 0 | AM68: 0 | AN68: r5,r6 | AO68: NA | AP68: NA | AQ68: NA | AR68: NA | AS68: NA | AT68: NA | AU68: NA | AV68: configured, test pending | AW68: No | AX68: Yes | AY68: YES | AZ68: Nisha, Vasanthan | BC68: =VLOOKUP(J68,ESRS!A:E,1,0) -> CKM00102100004 | BD68: Yes
A69: FCNCX103800158 | B69: HONG KONG | C69: HONG KONG | D69: 399 CHAI WAN RORDP ( AD - APPC Domain), CHAI WAN | E69: SAN Storage | F69: SAN | G69: EMC | H69: DGC CX4-480 | I69: FCNCX103800158 | J69: FCNCX103800158 | K69: IAD 22-E-4 | L69: 10.70.218.154 | M69: 40501 | N69: 41961 | O69: SAN | P69: =VLOOKUP(J69,'DGC (CX_VNX) Flare code upgrade'!A:E,4,0) -> 04.30.000.5.526 | Q69: =VLOOKUP(J69,'DGC (CX_VNX) Flare code upgrade'!A:E,5,0) -> 04.30.000.5.526 | S69: 42735 | T69: n/a | U69: =LEFT(K69, 5) -> IAD 2 | V69: UAT | W69: apachkwinc1090 | X69: RDP ( AD - APPC Domain) | Y69: unisphere ( LDAP - APAC Domain) | Z69: APAC ECC Access Procedure | AA69: #VALUE! | AB69: 0 | AC69: Nologin | AD69: No Login | AE69: 0 | AF69: NoLogin | AG69: 0 | AH69: NoLogin | AI69: NoLogin | AJ69: 0 | AK69: NoLogin | AL69: NoLogin | AM69: NoLogin | AN69: NoLogin | AO69: NA | AP69: NA | AQ69: NA | AR69: NA | AS69: NA | AT69: NA | AU69: NA | AV69: No | AW69: No | AX69: Yes | AY69: YES | AZ69: Nisha, Vasanthan | BC69: =VLOOKUP(J69,ESRS!A:E,1,0) -> FCNCX103800158 | BD69: Yes
A70: CKM00093200604 | B70: INDIA | C70: MUMBAI | D70: PLOT C-61, G BLOCK | E70: SAN Storage | F70: SAN | G70: EMC | H70: DGC CX4-120C | I70: CKM00093200604 | J70: CKM00093200604 | K70: Mumbai NKP 6th Flr A-02 | L70: 10.170.251.166 | M70: 40213 | N70: 41561 | O70: JAN-14 to DEC-14 | P70: =VLOOKUP(J70,'DGC (CX_VNX) Flare code upgrade'!A:E,4,0) -> 04.30.000.5.526 | Q70: =VLOOKUP(J70,'DGC (CX_VNX) Flare code upgrade'!A:E,5,0) -> 04.30.000.5.526 | S70: 42735 | T70: Tech-Refresh In-Progress | U70: =LEFT(K70, 5) -> Mumba | V70: PROD | W70: apacsgwinp1092 | X70: RDP ( AD - APPC Domain) | Y70: unisphere ( LDAP - APAC Domain) | Z70: APAC ECC Access Procedure | AA70: 69190 | AB70: 77 | AC70: 2 | AD70: 11 | AE70: 0 | AF70: 0 | AG70: 0 | AH70: 0 | AI70: 0 | AJ70: 0 | AK70: 66 | AL70: 0 | AM70: 0 | AN70: r1_0,r6 | AO70: NA | AP70: NA | AQ70: NA | AR70: NA | AS70: NA | AT70: NA | AU70: NA | AV70: NA | AW70: No | AX70: Yes | AY70: YES | AZ70: Nisha, Vasanthan | BC70: =VLOOKUP(J70,ESRS!A:E,1,0) -> CKM00093200604 | BD70: Yes
A71: SL7E1093500038 | B71: INDIA | C71: MUMBAI | D71: PLOT C-61, G BLOCK | E71: SAN Storage | F71: SAN | G71: EMC | H71: DGC AX4-5 | I71: SL7E1093500038 | J71: SL7E1093500038 | K71: Mumbai NKP 6th Flr A-03 | L71: 10.170.251.170 | M71: 40126 | N71: 41561 | O71: JAN-14 to DEC-14 | P71: =VLOOKUP(J71,'DGC (CX_VNX) Flare code upgrade'!A:E,4,0) -> 2.23.50.5.711 | Q71: =VLOOKUP(J71,'DGC (CX_VNX) Flare code upgrade'!A:E,5,0) -> 2.23.50.5.711 | S71: 43646 | T71: n/a | U71: =LEFT(K71, 5) -> Mumba | V71: PROD | W71: apacsgwinp1092 | X71: RDP ( AD - APPC Domain) | Y71: navishere ( Local ID) | Z71: APAC ECC Access Procedure | AA71: 9886 | AB71: 54 | AC71: 2 | AD71: 41 | AE71: 0 | AF71: 13 | AG71: 0 | AH71: 0 | AI71: 0 | AJ71: 0 | AK71: 0 | AL71: 0 | AM71: 0 | AN71: r1_0 | AO71: NA | AP71: NA | AQ71: NA | AR71: NA | AS71: NA | AT71: NA | AU71: NA | AV71: Yes | AW71: No | AX71: Yes | AY71: YES | AZ71: Nisha, Vasanthan | BC71: =VLOOKUP(J71,ESRS!A:E,1,0) -> SL7E1093500038 | BD71: Yes
A72: SL7E1093500033 | B72: INDIA | C72: MUMBAI | D72: PLOT C-61, G BLOCK | E72: SAN Storage | F72: SAN | G72: EMC | H72: DGC AX4-5 | I72: SL7E1093500033 | J72: SL7E1093500033 | K72: Mumbai NKP 6th Flr A-03 | L72: 10.170.251.168 | M72: 40101 | N72: 41586 | O72: 41586 | P72: =VLOOKUP(J72,'DGC (CX_VNX) Flare code upgrade'!A:E,4,0) -> 2.23.50.5.711 | Q72: =VLOOKUP(J72,'DGC (CX_VNX) Flare code upgrade'!A:E,5,0) -> 2.23.50.5.711 | S72: 43646 | T72: n/a | U72: =LEFT(K72, 5) -> Mumba | V72: PROD | W72: apacsgwinp1092 | X72: RDP ( AD - APPC Domain) | Y72: navishere ( Local ID) | Z72: APAC ECC Access Procedure | AA72: 10858 | AB72: 48 | AC72: 2 | AD72: 23 | AE72: 0 | AF72: 25 | AG72: 0 | AH72: 0 | AI72: 0 | AJ72: 0 | AK72: 0 | AL72: 0 | AM72: 0 | AN72: r1_0 | AO72: NA | AP72: NA | AQ72: NA | AR72: NA | AS72: NA | AT72: NA | AU72: NA | AV72: Yes | AW72: No | AX72: Yes | AY72: YES | AZ72: Nisha, Vasanthan | BC72: =VLOOKUP(J72,ESRS!A:E,1,0) -> SL7E1093500033 | BD72: Yes
A73: CKM00093900037 | B73: CHINA | C73: SHANGHAI | D73: 5678 YANGGAO SOUTH RORDP ( AD - APPC Domain) | E73: SAN Storage | F73: SAN | G73: EMC | H73: DGC CX4-120C | I73: CKM00093900037 | J73: CKM00093900037 | K73: Rack J 10 | L73: 10.70.232.58 | M73: 40213 | N73: 41666 | O73: n/a | P73: =VLOOKUP(J73,'DGC (CX_VNX) Flare code upgrade'!A:E,4,0) -> 04.30.000.5.526 | Q73: =VLOOKUP(J73,'DGC (CX_VNX) Flare code upgrade'!A:E,5,0) -> 04.30.000.5.526 | S73: 42735 | T73: n/a | U73: =LEFT(K73, 5) -> Rack | V73: PROD | W73: apacsgwinp1092 | X73: RDP ( AD - APPC Domain) | Y73: unisphere ( LDAP - APAC Domain) | Z73: APAC ECC Access Procedure | AA73: 35398 | AB73: 44 | AC73: 2 | AD73: 11 | AE73: 0 | AF73: 0 | AG73: 0 | AH73: 0 | AI73: 0 | AJ73: 0 | AK73: 33 | AL73: 0 | AM73: 0 | AN73: r1_0,r6 | AO73: NA | AP73: NA | AQ73: NA | AR73: NA | AS73: NA | AT73: NA | AU73: NA | AV73: No | AW73: No | AX73: Yes | AY73: NA | AZ73: Nisha, Vasanthan | BC73: =VLOOKUP(J73,ESRS!A:E,1,0) -> CKM00093900037 | BD73: Yes
A74: SL7E1093500057 | B74: CHINA | C74: SHANGHAI | D74: 5678 YANGGAO SOUTH RORDP ( AD - APPC Domain) | E74: SAN Storage | F74: SAN | G74: EMC | H74: DGC AX4-5 | I74: SL7E1093500057 | J74: SL7E1093500057 | K74: IP2L3-E-AK07 | L74: 10.70.232.56 | M74: 40213 | N74: 41666 | O74: n/a | P74: =VLOOKUP(J74,'DGC (CX_VNX) Flare code upgrade'!A:E,4,0) -> 2.23.50.5.711 | Q74: =VLOOKUP(J74,'DGC (CX_VNX) Flare code upgrade'!A:E,5,0) -> 2.23.50.5.711 | S74: 43646 | T74: n/a | U74: =LEFT(K74, 5) -> IP2L3 | V74: PROD | W74: apacsgwinp1092 | X74: RDP ( AD - APPC Domain) | Y74: navishere ( Local ID) | Z74: APAC ECC Access Procedure | AA74: 9886 | AB74: 54 | AC74: 2 | AD74: 41 | AE74: 0 | AF74: 13 | AG74: 0 | AH74: 0 | AI74: 0 | AJ74: 0 | AK74: 0 | AL74: 0 | AM74: 0 | AN74: r1_0 | AO74: NA | AP74: NA | AQ74: NA | AR74: NA | AS74: NA | AT74: NA | AU74: NA | AV74: No | AW74: No | AX74: Yes | AY74: NO | AZ74: Nisha, Vasanthan | BC74: =VLOOKUP(J74,ESRS!A:E,1,0) -> SL7E1093500057 | BD74: Yes
A75: CKM00093400132 | B75: TAIWAN | C75: TAIPEI | D75: NO 16 SECTION 4, NAN-KING EAST RORDP ( AD - APPC Domain) | E75: SAN Storage | F75: SAN | G75: EMC | H75: DGC CX4-120C | I75: CKM00093400132 | J75: CKM00093400132 | K75: RACCPB14-K-25 | L75: 169.179.23.33 | M75: 40557 | N75: 41652 | O75: SAN | P75: =VLOOKUP(J75,'DGC (CX_VNX) Flare code upgrade'!A:E,4,0) -> 04.30.000.5.526 | Q75: =VLOOKUP(J75,'DGC (CX_VNX) Flare code upgrade'!A:E,5,0) -> 04.30.000.5.526 | S75: 42735 | T75: n/a | U75: =LEFT(K75, 5) -> RACCP | V75: PROD | W75: apacsgwinp1092 | X75: RDP ( AD - APPC Domain) | Y75: unisphere ( LDAP - APAC Domain) | Z75: APAC ECC Access Procedure | AA75: 18284 | AB75: 23 | AC75: 2 | AD75: 6 | AE75: 0 | AF75: 0 | AG75: 0 | AH75: 0 | AI75: 0 | AJ75: 0 | AK75: 17 | AL75: 0 | AM75: 0 | AN75: r1_0,r6 | AO75: NA | AP75: NA | AQ75: NA | AR75: NA | AS75: NA | AT75: NA | AU75: NA | AV75: Yes | AW75: No | AX75: Yes | AY75: YES | AZ75: Nisha, Vasanthan | BC75: =VLOOKUP(J75,ESRS!A:E,1,0) -> CKM00093400132 | BD75: Yes
A76: SL7E1093500042 | B76: TAIWAN | C76: TAIPEI | D76: NO 16 SECTION 4, NAN-KING EAST RORDP ( AD - APPC Domain) | E76: SAN Storage | F76: SAN | G76: EMC | H76: DGC AX4-5 | I76: SL7E1093500042 | J76: SL7E1093500042 | K76: RACCPB14-K-25 | L76: 169.179.23.35 | M76: 40192 | N76: 41652 | O76: SAN | P76: =VLOOKUP(J76,'DGC (CX_VNX) Flare code upgrade'!A:E,4,0) -> 2.23.50.5.711 | Q76: =VLOOKUP(J76,'DGC (CX_VNX) Flare code upgrade'!A:E,5,0) -> 2.23.50.5.711 | S76: 43646 | T76: n/a | U76: =LEFT(K76, 5) -> RACCP | V76: PROD | W76: apacsgwinp1092 | X76: RDP ( AD - APPC Domain) | Y76: navishere ( Local ID) | Z76: APAC ECC Access Procedure | AA76: 9886 | AB76: 54 | AC76: 2 | AD76: 41 | AE76: 0 | AF76: 13 | AG76: 0 | AH76: 0 | AI76: 0 | AJ76: 0 | AK76: 0 | AL76: 0 | AM76: 0 | AN76: r1_0 | AO76: NA | AP76: NA | AQ76: NA | AR76: NA | AS76: NA | AT76: NA | AU76: NA | AV76: No | AW76: No | AX76: Yes | AY76: YES | AZ76: Nisha, Vasanthan | BC76: =VLOOKUP(J76,ESRS!A:E,1,0) -> SL7E1093500042 | BD76: Yes
A77: CK200083601025 | B77: TAIWAN | C77: TAIPEI | D77: NO. 1, Songjhih Road, Taipei (110), Taiwan | E77: SAN Storage | F77: SAN | G77: EMC | H77: DGC CX3-20F | I77: CK200083601025 | J77: CK200083601025 | K77: Taiwan | L77: 10.114.46.86/87 | M77: 39782 | N77: 41242 | O77: 41242 | P77: 03.26.020.5.020 | Q77: 03.26.040.5.031 | S77: 41729 | BC77: =VLOOKUP(J77,ESRS!A:E,1,0) -> CK200083601025 | BD77: Yes
A78: FCNCX100400203 | B78: AUSTRALIA | C78: SYDNEY | D78: 2 PARK STREET | E78: SAN Storage | F78: SAN | G78: EMC | H78: DGC CX4-120C | I78: FCNCX100400203 | J78: FCNCX100400203 | K78: Floor 11 / C / 5 | L78: 169.191.101.69 | M78: 40242 | N78: 41703 | O78: n/a | P78: =VLOOKUP(J78,'DGC (CX_VNX) Flare code upgrade'!A:E,4,0) -> 04.30.000.5.526 | Q78: =VLOOKUP(J78,'DGC (CX_VNX) Flare code upgrade'!A:E,5,0) -> 04.30.000.5.526 | S78: 42735 | T78: n/a | U78: =LEFT(K78, 5) -> Floor | V78: PROD | W78: apacsgwinp1092 | X78: RDP ( AD - APPC Domain) | Y78: unisphere ( LDAP - APAC Domain) | Z78: APAC ECC Access Procedure | AA78: 42860 | AB78: 47 | AC78: 2 | AD78: 6 | AE78: 0 | AF78: 0 | AG78: 0 | AH78: 0 | AI78: 0 | AJ78: 0 | AK78: 41 | AL78: 0 | AM78: 0 | AN78: r1_0,r6 | AO78: NA | AP78: NA | AQ78: NA | AR78: NA | AS78: NA | AT78: NA | AU78: NA | AV78: Yes | AW78: No | AX78: Yes | AY78: YES | AZ78: Nisha, Vasanthan | BC78: =VLOOKUP(J78,ESRS!A:E,1,0) -> FCNCX100400203 | BD78: Yes
A79: SL7EA100200038 | B79: AUSTRALIA | C79: SYDNEY | D79: 55 COONARA AVENUE, WEST PENNANT HILLS | E79: SAN Storage | F79: SAN | G79: EMC | H79: DGC AX4-5 | I79: SL7EA100200038 | J79: SL7EA100200038 | K79: WPH - CA 38 | L79: 169.191.152.112 | M79: 40324 | N79: 41784 | O79: n/a | P79: =VLOOKUP(J79,'DGC (CX_VNX) Flare code upgrade'!A:E,4,0) -> 2.23.50.5.711 | Q79: =VLOOKUP(J79,'DGC (CX_VNX) Flare code upgrade'!A:E,5,0) -> 2.23.50.5.711 | S79: 43646 | T79: n/a | U79: =LEFT(K79, 5) -> WPH - | V79: COB | W79: apacsgwinp1092 | X79: RDP ( AD - APPC Domain) | Y79: navishere ( Local ID) | Z79: APAC ECC Access Procedure | AA79: #VALUE! | AB79: 0 | AC79: Nologin | AD79: No Login | AE79: 0 | AF79: NoLogin | AG79: 0 | AH79: NoLogin | AI79: NoLogin | AJ79: 0 | AK79: NoLogin | AL79: NoLogin | AM79: NoLogin | AN79: NoLogin | AO79: NA | AP79: NA | AQ79: NA | AR79: NA | AS79: NA | AT79: NA | AU79: NA | AV79: Yes | AW79: No | AX79: Yes | AY79: NO | AZ79: Nisha, Vasanthan | BC79: =VLOOKUP(J79,ESRS!A:E,1,0) -> SL7EA100200038 | BD79: Yes
A80: CKM00104200269 | B80: MALAYSIA | C80: KUALA LUMPUR | D80: 165 JALAN AMPANG | E80: SAN Storage | F80: SAN | G80: EMC | H80: DGC CX4-120C | I80: CKM00104200269 | J80: CKM00104200269 | K80: KL | L80: 169.165.172.88 | M80: 40520 | N80: 41980 | O80: SAN | P80: =VLOOKUP(J80,'DGC (CX_VNX) Flare code upgrade'!A:E,4,0) -> 04.30.000.5.526 | Q80: =VLOOKUP(J80,'DGC (CX_VNX) Flare code upgrade'!A:E,5,0) -> 04.30.000.5.526 | S80: 42735 | T80: n/a | U80: =LEFT(K80, 5) -> KL | V80: PROD | W80: apacsgwinp1092 | X80: RDP ( AD - APPC Domain) | Y80: unisphere ( LDAP - APAC Domain) | Z80: APAC ECC Access Procedure | AA80: 3430 | AB80: 14 | AC80: 1 | AD80: 5 | AE80: 0 | AF80: 9 | AG80: 0 | AH80: 0 | AI80: 0 | AJ80: 0 | AK80: 0 | AL80: 0 | AM80: 0 | AN80: r6 | AO80: NA | AP80: NA | AQ80: NA | AR80: NA | AS80: NA | AT80: NA | AU80: NA | AV80: Yes | AW80: No | AX80: Yes | AY80: YES | AZ80: Nisha, Vasanthan | BC80: =VLOOKUP(J80,ESRS!A:E,1,0) -> CKM00104200269 | BD80: Yes
A81: FCNMM110300133 | B81: AUSTRALIA | C81: SYDNEY | D81: 55 COONARA AVENUE, WEST PENNANT HILLS | E81: SAN Storage | F81: SAN | G81: EMC | H81: DGC AX4-5 | I81: FCNMM110300133 | J81: FCNMM110300133 | K81: WPH.a.09 | L81: 169.191.152.99 | M81: 40617 | N81: 42077 | O81: n/a | P81: =VLOOKUP(J81,'DGC (CX_VNX) Flare code upgrade'!A:E,4,0) -> 2.23.50.5.711 | Q81: =VLOOKUP(J81,'DGC (CX_VNX) Flare code upgrade'!A:E,5,0) -> 2.23.50.5.711 | S81: 43646 | T81: n/a | U81: =LEFT(K81, 5) -> WPH.a | V81: COB | W81: apacsgwinp1092 | X81: RDP ( AD - APPC Domain) | Y81: navishere ( Local ID) | Z81: APAC ECC Access Procedure | AA81: 14084 | AB81: 49 | AC81: 1 | AD81: 4 | AE81: 0 | AF81: 45 | AG81: 0 | AH81: 0 | AI81: 0 | AJ81: 0 | AK81: 0 | AL81: 0 | AM81: 0 | AN81: r1_0 | AO81: NA | AP81: NA | AQ81: NA | AR81: NA | AS81: NA | AT81: NA | AU81: NA | AV81: Yes | AW81: No | AX81: Yes | AY81: NO | AZ81: Nisha, Vasanthan | BC81: =VLOOKUP(J81,ESRS!A:E,1,0) -> FCNMM110300133 | BD81: Yes
A82: CKM00110400276 | B82: SINGAPORE | C82: SINGAPORE | D82: CINTECH 2 | E82: SAN Storage | F82: SAN | G82: EMC | H82: DGC CX4-120 | I82: CKM00110400276 | J82: CKM00110400276 | K82: CT2B1-E-75 | L82: 10.70.96.22 | M82: 41275 | N82: 42735 | O82: SAN | P82: =VLOOKUP(J82,'DGC (CX_VNX) Flare code upgrade'!A:E,4,0) -> 04.30.000.5.526 | Q82: =VLOOKUP(J82,'DGC (CX_VNX) Flare code upgrade'!A:E,5,0) -> 04.30.000.5.526 | S82: 42735 | T82: n/a | U82: =LEFT(K82, 5) -> CT2B1 | V82: PROD | W82: apacsgwinp1092 | X82: RDP ( AD - APPC Domain) | Y82: unisphere ( LDAP - APAC Domain) | Z82: APAC ECC Access Procedure | AA82: 11016 | AB82: 15 | AC82: 2 | AD82: 0 | AE82: 0 | AF82: 6 | AG82: 0 | AH82: 0 | AI82: 0 | AJ82: 0 | AK82: 9 | AL82: 0 | AM82: 0 | AN82: r1_0 | AO82: NA | AP82: NA | AQ82: NA | AR82: NA | AS82: NA | AT82: NA | AU82: NA | AV82: Yes | AW82: No | AX82: Yes | AY82: YES | AZ82: Nisha, Vasanthan | BC82: =VLOOKUP(J82,ESRS!A:E,1,0) -> CKM00110400276 | BD82: Yes
A83: SL7F1110100001 | B83: SINGAPORE | C83: SINGAPORE | D83: CINTECH 2 | E83: SAN Storage | F83: SAN | G83: EMC | H83: DGC AX4-5 | I83: SL7F1110100001 | J83: SL7F1110100001 | K83: CT2B1-E-78 | L83: 10.70.96.24 | N83: Not available | O83: Not available | P83: =VLOOKUP(J83,'DGC (CX_VNX) Flare code upgrade'!A:E,4,0) -> 2.23.50.5.711 | Q83: =VLOOKUP(J83,'DGC (CX_VNX) Flare code upgrade'!A:E,5,0) -> 2.23.50.5.711 | S83: 43646 | T83: n/a | U83: =LEFT(K83, 5) -> CT2B1 | V83: PROD | W83: apacsgwinp1092 | X83: RDP ( AD - APPC Domain) | Y83: unisphere ( Local ID) | Z83: APAC ECC Access Procedure | AA83: 9884 | AB83: 35 | AC83: 1 | AD83: 4 | AE83: 0 | AF83: 31 | AG83: 0 | AH83: 0 | AI83: 0 | AJ83: 0 | AK83: 0 | AL83: 0 | AM83: 0 | AN83: r1_0 | AO83: NA | AP83: NA | AQ83: NA | AR83: NA | AS83: NA | AT83: NA | AU83: NA | AV83: Yes | AW83: No | AX83: Yes | AY83: YES | AZ83: Nisha, Vasanthan | BC83: =VLOOKUP(J83,ESRS!A:E,1,0) -> SL7F1110100001 | BD83: Yes
A84: SL7F1110100011 | B84: SINGAPORE | C84: SINGAPORE | D84: CINTECH 2 | E84: SAN Storage | F84: SAN | G84: EMC | H84: DGC AX4-5 | I84: SL7F1110100011 | J84: SL7F1110100011 | K84: CT2B1-E-78 | L84: 10.70.96.26 | N84: Not available | O84: Not available | P84: =VLOOKUP(J84,'DGC (CX_VNX) Flare code upgrade'!A:E,4,0) -> 2.23.50.5.711 | Q84: =VLOOKUP(J84,'DGC (CX_VNX) Flare code upgrade'!A:E,5,0) -> 2.23.50.5.711 | S84: 43646 | T84: n/a | U84: =LEFT(K84, 5) -> CT2B1 | V84: PROD | W84: apacsgwinp1092 | X84: RDP ( AD - APPC Domain) | Y84: unisphere ( Local ID) | Z84: APAC ECC Access Procedure | AA84: 6884 | AB84: 25 | AC84: 1 | AD84: 4 | AE84: 0 | AF84: 21 | AG84: 0 | AH84: 0 | AI84: 0 | AJ84: 0 | AK84: 0 | AL84: 0 | AM84: 0 | AN84: r1_0 | AO84: NA | AP84: NA | AQ84: NA | AR84: NA | AS84: NA | AT84: NA | AU84: NA | AV84: Yes | AW84: No | AX84: Yes | AY84: YES | AZ84: Nisha, Vasanthan | BC84: =VLOOKUP(J84,ESRS!A:E,1,0) -> SL7F1110100011 | BD84: Yes
A85: FCNMM105200232 | B85: HONG KONG | C85: HONG KONG | D85: HK-iRDP ( AD - APPC Domain) | E85: SAN Storage | F85: SAN | G85: EMC | H85: DGC AX4-5 | I85: FCNMM105200232 | J85: FCNMM105200232 | K85: IRDP 22-H-25 | L85: 10.70.56.22 | N85: Not available | O85: Not available | P85: =VLOOKUP(J85,'DGC (CX_VNX) Flare code upgrade'!A:E,4,0) -> 2.23.50.5.711 | Q85: =VLOOKUP(J85,'DGC (CX_VNX) Flare code upgrade'!A:E,5,0) -> 2.23.50.5.711 | S85: 43646 | T85: n/a | U85: =LEFT(K85, 5) -> IRDP | V85: COB | W85: apachkwinc1090 | X85: RDP ( AD - APPC Domain) | Y85: unisphere ( Local ID) | Z85: APAC ECC Access Procedure | AA85: 6884 | AB85: 25 | AC85: 1 | AD85: 4 | AE85: 0 | AF85: 21 | AG85: 0 | AH85: 0 | AI85: 0 | AJ85: 0 | AK85: 0 | AL85: 0 | AM85: 0 | AN85: r1_0 | AO85: NA | AP85: NA | AQ85: NA | AR85: NA | AS85: NA | AT85: NA | AU85: NA | AV85: Yes | AW85: No | AX85: Yes | AY85: YES | AZ85: Nisha, Vasanthan | BC85: =VLOOKUP(J85,ESRS!A:E,1,0) -> FCNMM105200232 | BD85: Yes
A86: FCNMM105200234 | B86: HONG KONG | C86: HONG KONG | D86: HK-iRDP ( AD - APPC Domain) | E86: SAN Storage | F86: SAN | G86: EMC | H86: DGC AX4-5 | I86: FCNMM105200234 | J86: FCNMM105200234 | K86: IAD 22-H-25 | L86: 10.70.56.24 | N86: Not available | O86: Not available | P86: =VLOOKUP(J86,'DGC (CX_VNX) Flare code upgrade'!A:E,4,0) -> 2.23.50.5.711 | Q86: =VLOOKUP(J86,'DGC (CX_VNX) Flare code upgrade'!A:E,5,0) -> 2.23.50.5.711 | S86: 43646 | T86: n/a | U86: =LEFT(K86, 5) -> IAD 2 | V86: COB | W86: apachkwinc1090 | X86: RDP ( AD - APPC Domain) | Y86: unisphere ( Local ID) | Z86: APAC ECC Access Procedure | AA86: 9884 | AB86: 35 | AC86: 1 | AD86: 4 | AE86: 0 | AF86: 31 | AG86: 0 | AH86: 0 | AI86: 0 | AJ86: 0 | AK86: 0 | AL86: 0 | AM86: 0 | AN86: r1_0 | AO86: NA | AP86: NA | AQ86: NA | AR86: NA | AS86: NA | AT86: NA | AU86: NA | AV86: Yes | AW86: No | AX86: Yes | AY86: YES | AZ86: Nisha, Vasanthan | BC86: =VLOOKUP(J86,ESRS!A:E,1,0) -> FCNMM105200234 | BD86: Yes
A87: FCNMM110300136 | B87: AUSTRALIA | C87: SYDNEY | D87: 2 PARK STREET | E87: SAN Storage | F87: SAN | G87: EMC | H87: DGC AX4-5 | I87: FCNMM110300136 | J87: FCNMM110300136 | K87: 26.6.1 | L87: 169.191.99.175 | M87: 40634 | N87: 42094 | O87: n/a | P87: =VLOOKUP(J87,'DGC (CX_VNX) Flare code upgrade'!A:E,4,0) -> 2.23.50.5.711 | Q87: =VLOOKUP(J87,'DGC (CX_VNX) Flare code upgrade'!A:E,5,0) -> 2.23.50.5.711 | S87: 43646 | T87: n/a | U87: =LEFT(K87, 5) -> 26.6. | V87: PROD | W87: apacsgwinp1092 | X87: RDP ( AD - APPC Domain) | Y87: navishere ( Local ID) | Z87: APAC ECC Access Procedure | AA87: 14084 | AB87: 49 | AC87: 1 | AD87: 4 | AE87: 0 | AF87: 45 | AG87: 0 | AH87: 0 | AI87: 0 | AJ87: 0 | AK87: 0 | AL87: 0 | AM87: 0 | AN87: r1_0 | AO87: NA | AP87: NA | AQ87: NA | AR87: NA | AS87: NA | AT87: NA | AU87: NA | AV87: Yes | AW87: No | AX87: Yes | AY87: NO | AZ87: Nisha, Vasanthan | BC87: =VLOOKUP(J87,ESRS!A:E,1,0) -> FCNMM110300136 | BD87: Yes
A88: FCN00114100106 | B88: HONG KONG | C88: HONG KONG | D88: 399 CHAI WAN RORDP ( AD - APPC Domain), CHAI WAN | E88: SAN Storage | F88: SAN | G88: EMC | H88: DGC CX4-120C | I88: FCN00114100106 | J88: FCN00114100106 | K88: IAD 23-E-13 | L88: 169.181.159.133 | M88: 40871 | N88: 42331 | O88: SAN | P88: =VLOOKUP(J88,'DGC (CX_VNX) Flare code upgrade'!A:E,4,0) -> 04.30.000.5.526 | Q88: =VLOOKUP(J88,'DGC (CX_VNX) Flare code upgrade'!A:E,5,0) -> 04.30.000.5.526 | S88: 42735 | T88: n/a | U88: =LEFT(K88, 5) -> IAD 2 | V88: PROD | W88: apachkwinc1090 | X88: RDP ( AD - APPC Domain) | Y88: unisphere ( LDAP - APAC Domain) | Z88: APAC ECC Access Procedure | AA88: 35592 | AB88: 39 | AC88: 2 | AD88: 0 | AE88: 0 | AF88: 6 | AG88: 0 | AH88: 0 | AI88: 0 | AJ88: 0 | AK88: 33 | AL88: 0 | AM88: 0 | AN88: r1_0,r6 | AO88: NA | AP88: NA | AQ88: NA | AR88: NA | AS88: NA | AT88: NA | AU88: NA | AV88: Yes | AW88: No | AX88: Yes | AY88: YES | AZ88: Nisha, Vasanthan | BC88: =VLOOKUP(J88,ESRS!A:E,1,0) -> FCN00114100106 | BD88: Yes
A89: SL7FJ110800006 | B89: HONG KONG | C89: HONG KONG | D89: 399 CHAI WAN RORDP ( AD - APPC Domain), CHAI WAN | E89: SAN Storage | F89: SAN | G89: EMC | H89: DGC AX4-5 | I89: SL7FJ110800006 | J89: SL7FJ110800006 | K89: IAD 23-E-12 | L89: 169.181.159.118 | M89: 40861 | N89: 42321 | O89: SAN | P89: =VLOOKUP(J89,'DGC (CX_VNX) Flare code upgrade'!A:E,4,0) -> 2.23.50.5.711 | Q89: =VLOOKUP(J89,'DGC (CX_VNX) Flare code upgrade'!A:E,5,0) -> 2.23.50.5.711 | S89: 43646 | T89: n/a | U89: =LEFT(K89, 5) -> IAD 2 | V89: PROD | W89: apachkwinc1090 | X89: RDP ( AD - APPC Domain) | Y89: navishere ( Local ID) | Z89: APAC ECC Access Procedure | AA89: 15900 | AB89: 53 | AC89: 1 | AD89: 0 | AE89: 0 | AF89: 53 | AG89: 0 | AH89: 0 | AI89: 0 | AJ89: 0 | AK89: 0 | AL89: 0 | AM89: 0 | AN89: r1_0 | AO89: NA | AP89: NA | AQ89: NA | AR89: NA | AS89: NA | AT89: NA | AU89: NA | AV89: Yes | AW89: No | AX89: Yes | AY89: YES | AZ89: Nisha, Vasanthan | BC89: =VLOOKUP(J89,ESRS!A:E,1,0) -> SL7FJ110800006 | BD89: Yes
A90: SL7FJ110200014 | B90: HONG KONG | C90: HONG KONG | D90: 399 CHAI WAN RORDP ( AD - APPC Domain), CHAI WAN | E90: SAN Storage | F90: SAN | G90: EMC | H90: DGC AX4-5 | I90: SL7FJ110200014 | J90: SL7FJ110200014 | K90: IAD 23-E-12 | L90: 169.181.159.116 | M90: 40861 | N90: 42321 | O90: SAN | P90: =VLOOKUP(J90,'DGC (CX_VNX) Flare code upgrade'!A:E,4,0) -> 2.23.50.5.711 | Q90: =VLOOKUP(J90,'DGC (CX_VNX) Flare code upgrade'!A:E,5,0) -> 2.23.50.5.711 | S90: 43646 | T90: n/a | U90: =LEFT(K90, 5) -> IAD 2 | V90: COB | W90: apachkwinc1090 | X90: RDP ( AD - APPC Domain) | Y90: navishere ( Local ID) | Z90: APAC ECC Access Procedure | AA90: 15900 | AB90: 53 | AC90: 1 | AD90: 0 | AE90: 0 | AF90: 53 | AG90: 0 | AH90: 0 | AI90: 0 | AJ90: 0 | AK90: 0 | AL90: 0 | AM90: 0 | AN90: r1_0 | AO90: NA | AP90: NA | AQ90: NA | AR90: NA | AS90: NA | AT90: NA | AU90: NA | AV90: Yes | AW90: No | AX90: Yes | AY90: YES | AZ90: Nisha, Vasanthan | BC90: =VLOOKUP(J90,ESRS!A:E,1,0) -> SL7FJ110200014 | BD90: Yes
A91: FCNMM121200094 | B91: AUSTRALIA | C91: SYDNEY | D91: 2 PARK ST. SYDNEY,NSW 2000 AU | E91: SAN Storage | F91: SAN | G91: EMC | H91: DGC AX4-5 | I91: FCNMM121200094 | J91: FCNMM121200094 | K91: 11 – C – 5 | L91: 169.191.101.48 | M91: 40308 | N91: 41769 | P91: =VLOOKUP(J91,'DGC (CX_VNX) Flare code upgrade'!A:E,4,0) -> 2.23.50.5.711 | Q91: =VLOOKUP(J91,'DGC (CX_VNX) Flare code upgrade'!A:E,5,0) -> 2.23.50.5.711 | S91: 43646 | T91: n/a | U91: =LEFT(K91, 5) -> 11 – | V91: PROD | W91: apacsgwinp1092 | X91: RDP ( AD - APPC Domain) | Y91: navishere ( Local ID) | Z91: APAC ECC Access Procedure | AA91: 5458 | AB91: 30 | AC91: 2 | AD91: 23 | AE91: 0 | AF91: 7 | AG91: 0 | AH91: 0 | AI91: 0 | AJ91: 0 | AK91: 0 | AL91: 0 | AM91: 0 | AN91: r1_0 | AO91: NA | AP91: NA | AQ91: NA | AR91: NA | AS91: NA | AT91: NA | AU91: NA | AV91: Yes | AW91: No | AX91: Yes | AY91: NO | AZ91: Nisha, Vasanthan | BC91: =VLOOKUP(J91,ESRS!A:E,1,0) -> FCNMM121200094 | BD91: Yes
A92: FCN00112200066 | B92: CHINA | C92: BEIJING | D92: NO. 6, WUDINGHOU STREET, XICHENG DISTRICT | E92: SAN Storage | F92: SAN | G92: EMC | H92: DGC CX4-480 | I92: FCN00112200066 | J92: FCN00112200066 | K92: H05/17 floor | L92: 10.183.29.195 | M92: 40780 | N92: 42240 | O92: n/a | P92: =VLOOKUP(J92,'DGC (CX_VNX) Flare code upgrade'!A:E,4,0) -> 04.30.000.5.526 | Q92: =VLOOKUP(J92,'DGC (CX_VNX) Flare code upgrade'!A:E,5,0) -> 04.30.000.5.526 | S92: 42735 | T92: n/a | U92: =LEFT(K92, 5) -> H05/1 | V92: 10 | W92: apacsgwinp1092 | X92: RDP ( AD - APPC Domain) | Y92: unisphere ( LDAP - APAC Domain) | Z92: APAC ECC Access Procedure | AA92: 21750 | AB92: 50 | AC92: 2 | AD92: 0 | AE92: 0 | AF92: 5 | AG92: 0 | AH92: 45 | AI92: 0 | AJ92: 0 | AK92: 0 | AL92: 0 | AM92: 0 | AN92: r6 | AO92: NA | AP92: NA | AQ92: NA | AR92: NA | AS92: NA | AT92: NA | AU92: NA | AV92: Yes | AW92: No | AX92: Yes | AY92: YES | AZ92: Nisha, Vasanthan | BC92: =VLOOKUP(J92,ESRS!A:E,1,0) -> FCN00112200066 | BD92: Yes
A93: FCNMM115000071 | B93: CHINA | C93: SHANGHAI | D93: 5678 YANGGAO SOUTH RORDP ( AD - APPC Domain) | E93: SAN Storage | F93: SAN | G93: EMC | H93: DGC AX4-5 | I93: FCNMM115000071 | J93: FCNMM115000071 | K93: Not Available | L93: 10.70.232.54 | M93: 40940 | N93: 42400 | O93: 42400 | P93: =VLOOKUP(J93,'DGC (CX_VNX) Flare code upgrade'!A:E,4,0) -> 2.23.50.5.711 | Q93: =VLOOKUP(J93,'DGC (CX_VNX) Flare code upgrade'!A:E,5,0) -> 2.23.50.5.711 | S93: 43646 | T93: n/a | U93: =LEFT(K93, 5) -> Not A | V93: PROD | W93: apacsgwinp1092 | X93: RDP ( AD - APPC Domain) | Y93: navishere ( Local ID) | Z93: APAC ECC Access Procedure | AA93: 15284 | AB93: 53 | AC93: 1 | AD93: 4 | AE93: 0 | AF93: 49 | AG93: 0 | AH93: 0 | AI93: 0 | AJ93: 0 | AK93: 0 | AL93: 0 | AM93: 0 | AN93: r1_0 | AO93: NA | AP93: NA | AQ93: NA | AR93: NA | AS93: NA | AT93: NA | AU93: NA | AV93: Yes | AW93: No | AX93: Yes | AY93: YES | AZ93: Nisha, Vasanthan | BC93: =VLOOKUP(J93,ESRS!A:E,1,0) -> FCNMM115000071 | BD93: Yes
A94: SL7FJ110200003 | B94: SINGAPORE | C94: SINGAPORE | D94: SG Cintech II | E94: SAN Storage | F94: SAN | G94: EMC | H94: DGC AX4-5 | I94: SGCNAX003 | J94: SL7FJ110200003 | K94: CT2B1-E125 Row 36 | L94: 10.70.96.48 | N94: Not available | O94: 41640 | P94: =VLOOKUP(J94,'DGC (CX_VNX) Flare code upgrade'!A:E,4,0) -> 2.23.50.5.711 | Q94: =VLOOKUP(J94,'DGC (CX_VNX) Flare code upgrade'!A:E,5,0) -> 2.23.50.5.711 | S94: 43646 | T94: n/a | U94: =LEFT(K94, 5) -> CT2B1 | V94: PROD | W94: apacsgwinp1092 | X94: RDP ( AD - APPC Domain) | Y94: navishere ( Local ID) | Z94: APAC ECC Access Procedure | AA94: 15900 | AB94: 53 | AC94: 1 | AD94: 0 | AE94: 0 | AF94: 53 | AG94: 0 | AH94: 0 | AI94: 0 | AJ94: 0 | AK94: 0 | AL94: 0 | AM94: 0 | AN94: r1_0 | AO94: NA | AP94: NA | AQ94: NA | AR94: NA | AS94: NA | AT94: NA | AU94: NA | AV94: NA | AW94: NA | AX94: Yes | AY94: YES | AZ94: Nisha, Vasanthan | BC94: =VLOOKUP(J94,ESRS!A:E,1,0) -> SL7FJ110200003 | BD94: Yes
A95: SL7FJ110200009 | B95: SINGAPORE | C95: SINGAPORE | D95: SG Cintech II | E95: SAN Storage | F95: SAN | G95: EMC | H95: DGC AX4-5 | I95: SGCNAX009 | J95: SL7FJ110200009 | K95: CT2B1-E126 Row 36 | L95: 10.70.96.52 | N95: Not available | O95: 41640 | P95: =VLOOKUP(J95,'DGC (CX_VNX) Flare code upgrade'!A:E,4,0) -> 2.23.50.5.711 | Q95: =VLOOKUP(J95,'DGC (CX_VNX) Flare code upgrade'!A:E,5,0) -> 2.23.50.5.711 | S95: 43646 | T95: n/a | U95: =LEFT(K95, 5) -> CT2B1 | V95: PROD | W95: apacsgwinp1092 | X95: RDP ( AD - APPC Domain) | Y95: navishere ( Local ID) | Z95: APAC ECC Access Procedure | AA95: 8700 | AB95: 29 | AC95: 1 | AD95: 0 | AE95: 0 | AF95: 29 | AG95: 0 | AH95: 0 | AI95: 0 | AJ95: 0 | AK95: 0 | AL95: 0 | AM95: 0 | AN95: r1_0 | AO95: NA | AP95: NA | AQ95: NA | AR95: NA | AS95: NA | AT95: NA | AU95: NA | AV95: NA | AW95: NA | AX95: Yes | AY95: YES | AZ95: Nisha, Vasanthan | BC95: =VLOOKUP(J95,ESRS!A:E,1,0) -> SL7FJ110200009 | BD95: Yes
A96: SL7FJ110200010 | B96: SINGAPORE | C96: SINGAPORE | D96: SG Cintech II | E96: SAN Storage | F96: SAN | G96: EMC | H96: DGC AX4-5 | I96: SGCNAX010 | J96: SL7FJ110200010 | K96: CT2B1-E125 Row 36 | L96: 10.70.96.46 | N96: Not available | O96: 41640 | P96: =VLOOKUP(J96,'DGC (CX_VNX) Flare code upgrade'!A:E,4,0) -> 2.23.50.5.711 | Q96: =VLOOKUP(J96,'DGC (CX_VNX) Flare code upgrade'!A:E,5,0) -> 2.23.50.5.711 | S96: 43646 | T96: n/a | U96: =LEFT(K96, 5) -> CT2B1 | V96: PROD | W96: apacsgwinp1092 | X96: RDP ( AD - APPC Domain) | Y96: navishere ( Local ID) | Z96: APAC ECC Access Procedure | AA96: 15900 | AB96: 53 | AC96: 1 | AD96: 0 | AE96: 0 | AF96: 53 | AG96: 0 | AH96: 0 | AI96: 0 | AJ96: 0 | AK96: 0 | AL96: 0 | AM96: 0 | AN96: r1_0 | AO96: NA | AP96: NA | AQ96: NA | AR96: NA | AS96: NA | AT96: NA | AU96: NA | AV96: NA | AW96: NA | AX96: Yes | AY96: YES | AZ96: Nisha, Vasanthan | BC96: =VLOOKUP(J96,ESRS!A:E,1,0) -> SL7FJ110200010 | BD96: Yes
A97: FCN00113601004 | B97: SINGAPORE | C97: SINGAPORE | D97: SG Cintech II | E97: SAN Storage | F97: SAN | G97: EMC | H97: DGC CX4-120 | I97: SGCNCX004 | J97: FCN00113601004 | K97: CT2B1-E124 Row 36 | L97: 10.70.96.54 | N97: Not available | O97: 41640 | P97: =VLOOKUP(J97,'DGC (CX_VNX) Flare code upgrade'!A:E,4,0) -> 04.30.000.5.526 | Q97: =VLOOKUP(J97,'DGC (CX_VNX) Flare code upgrade'!A:E,5,0) -> 04.30.000.5.526 | S97: 42735 | T97: n/a | U97: =LEFT(K97, 5) -> CT2B1 | V97: PROD | W97: apacsgwinp1092 | X97: RDP ( AD - APPC Domain) | Y97: unisphere ( LDAP - APAC Domain) | Z97: APAC ECC Access Procedure | AA97: 102152 | AB97: 104 | AC97: 3 | AD97: 0 | AE97: 0 | AF97: 6 | AG97: 0 | AH97: 0 | AI97: 0 | AJ97: 0 | AK97: 98 | AL97: 0 | AM97: 0 | AN97: r1_0,r6 | AO97: NA | AP97: NA | AQ97: NA | AR97: NA | AS97: NA | AT97: NA | AU97: NA | AV97: NA | AW97: NA | AX97: Yes | AY97: YES | AZ97: Nisha, Vasanthan | BC97: =VLOOKUP(J97,ESRS!A:E,1,0) -> FCN00113601004 | BD97: Yes
A98: 53643 | B98: SINGAPORE | C98: SINGAPORE | D98: 75 SCIENCE PARK DRIVE, SINGAPORE SCIENCE PARK I | E98: SAN Storage | F98: SAN | G98: HDS | H98: HDS VSP | I98: SGOCH02R53643 | J98: 53643 | K98: CT-B1-S-45-46-47 | L98: 172.19.107.109 - 110 | M98: 40676 | N98: 42155 | O98: 40695 | P98: =VLOOKUP(J98,'HDS MC upgrade'!A:F,4,0) -> 70-06-13-00/00 | Q98: =VLOOKUP(J98,'HDS MC upgrade'!A:G,5,0) -> 70-06-13-00/20 | S98: 0-Jan-00 | T98: n/a | U98: =LEFT(K98, 5) -> CT-B1 | V98: PROD | W98: apacsgwinp1091/1092 | X98: RDP ( AD - APPC Domain) | Y98: Device Manager | Z98: Device Manager | AA98: 196544 | AB98: 688 | AC98: 10 | AD98: 64 | AE98: 0 | AF98: 624 | AG98: 0 | AH98: 0 | AI98: 0 | AJ98: 0 | AK98: RAID6(6D+2P) | AL98: NA | AM98: 128 | AN98: NA | AO98: NA | AP98: NA | AQ98: NA | AR98: NA | AV98: Yes | AW98: No | AX98: Yes | AY98: YES | AZ98: Robin, Dayanand | BC98: HiTrack | BD98: Yes
A99: 53630 | B99: SINGAPORE | C99: SINGAPORE | D99: 75 SCIENCE PARK DRIVE, SINGAPORE SCIENCE PARK I | E99: SAN Storage | F99: SAN | G99: HDS | H99: HDS VSP | I99: SGOCH003R53630 | J99: 53630 | K99: CT-B1-S-48-49 | L99: 172.19.107.105 - 106 | M99: 40676 | N99: 42155 | O99: 40695 | P99: =VLOOKUP(J99,'HDS MC upgrade'!A:F,4,0) -> 70-06-13-00/00 | Q99: =VLOOKUP(J99,'HDS MC upgrade'!A:G,5,0) -> 70-06-13-00/20 | S99: 0-Jan-00 | T99: n/a | U99: =LEFT(K99, 5) -> CT-B1 | V99: PROD | W99: apacsgwinp1091/1092 | X99: RDP ( AD - APPC Domain) | Y99: Device Manager | Z99: Device Manager | AA99: 107808 | AB99: 384 | AC99: 10 | AD99: 48 | AE99: 0 | AF99: 336 | AG99: 0 | AH99: 0 | AI99: 0 | AJ99: 0 | AK99: RAID6(6D+2P) | AL99: NA | AM99: 64 | AN99: NA | AO99: NA | AP99: NA | AQ99: NA | AR99: NA | AV99: Yes | AW99: No | AX99: Yes | AY99: YES | AZ99: Robin, Dayanand | BC99: HiTrack | BD99: Yes
A100: 53584 | B100: SINGAPORE | C100: SINGAPORE | D100: 75 SCIENCE PARK DRIVE, SINGAPORE SCIENCE PARK I | E100: SAN Storage | F100: SAN | G100: HDS | H100: HDS VSP | I100: SGOCH004R53584 | J100: 53584 | K100: CT-B1-S-40-41 | L100: 172.19.107.100 - 101 | M100: 40676 | N100: 42155 | O100: 40695 | P100: =VLOOKUP(J100,'HDS MC upgrade'!A:F,4,0) -> 70-06-13-00/00 | Q100: =VLOOKUP(J100,'HDS MC upgrade'!A:G,5,0) -> 70-06-13-00/20 | S100: 0-Jan-00 | T100: n/a | U100: =LEFT(K100, 5) -> CT-B1 | V100: PROD | W100: apacsgwinp1091/1092 | X100: RDP ( AD - APPC Domain) | Y100: Device Manager | Z100: Device Manager | AA100: 76608 | AB100: 280 | AC100: 10 | AD100: 48 | AE100: 0 | AF100: 232 | AG100: 0 | AH100: 0 | AI100: 0 | AJ100: 0 | AK100: RAID6(6D+2P) | AL100: NA | AM100: 64 | AN100: NA | AO100: NA | AP100: NA | AQ100: NA | AR100: NA | AV100: Yes | AW100: No | AX100: Yes | AY100: YES | AZ100: Robin, Dayanand | BC100: HiTrack | BD100: Yes
...

Sheet SYMM  Code upgrade
A1: SymmID | B1: Type | C1: Country | D1: Location | E1: Remarks | F1: Model | G1: Management host | H1: Current Microcode | K1: Upgrade History
H2: Version | I2: RFC/Date | J2: Current Certified Code | K2: Version | M2: RFC/Date | N2: Version | O2: RFC/Date | P2: Version | Q2: RFC/Date | R2: Version | S2: RFC/Date | T2: Version | U2: RFC/Date | V2: Version | W2: RFC/Date
A3: 290105366 | B3: PROD | C3: SG | D3: CT2B1-E32-E34 | E3: JFP | F3: DMX4-24 | G3: slixip167 | H3: 5773.184.130 | I3: 17931488 (02-Mar-14) | J3: 5773.184.130 | K3: =L3 -> 5773.184.130 | L3: =VLOOKUP(A3,'VMAX code upgrade reference'!A:D,3,0) -> 5773.184.130 | M3: 16031132 (07-Oct-12) | N3: 5773.168.115 | O3: 14609831 (13-Nov-11) | P3: 5773.163.113 | Q3: 14247220 (14-Aug-11) | R3: 5773.160.111 | S3: 13287878 (12-Dec-10)
A4: 290301222 | B4: PROD | C4: SG | D4: CT2B1-E38 | E4: Stratus | F4: DMX3-6 | G4: slixip167 | H4: 5773.168.115 | I4: 14609831 (13-Nov-11) | J4: 5773.168.115 | K4: =H4 -> 5773.168.115 | L4: =VLOOKUP(A4,'VMAX code upgrade reference'!A:D,3,0) -> #N/A | M4: 14247220 (14-Aug-11)
A5: 292600224 | B5: PROD | C5: SG | D5: CT2B1-E40-42 | F5: VMAX-1 | G5: slixip167 | H5: 5876.268.174 | I5: CHG0000330839 (17-Aug-14) | J5: 5876.268.174 | K5: =L5 -> 5876.229.145 | L5: =VLOOKUP(A5,'VMAX code upgrade reference'!A:D,3,0) -> 5876.229.145 | M5: 17945517 (09-Mar-14) | N5: 5875.269.201 | O5: 16851476 (21-Apr-13) | P5: 5875.231.172 | Q5: 15010996 (26-Feb-12) | R5: 5874.259.201 | S5: 14672515 (27-Nov-11) | T5: 5874.242.191 | U5: 13602000 (13-Mar-11)
A6: 292602662 | B6: PROD | C6: SG | D6: CT2B1-E79-81 | F6: VMAX-1 | G6: slixip167 | H6: 5876.268.174 | I6: CHG0000330839 (17-Aug-14) | J6: 5876.268.174 | K6: =L6 -> 5876.229.145 | L6: =VLOOKUP(A6,'VMAX code upgrade reference'!A:D,3,0) -> 5876.229.145 | M6: 17931488 (02-Mar-14) | N6: 5875.269.201 | O6: 16851476 (21-Apr-13) | P6: 5875.231.172 | Q6: 15140105 (25-Mar-12)
A7: 292603607 | B7: PROD | C7: SG | D7: CT2B1-E-006CA | F7: VMAX-1 | G7: slixip167 | H7: 5876.268.174 | I7: CHG0000341604 (24-Aug-14) | J7: 5876.268.174 | K7: =L7 -> 5876.229.145 | L7: =VLOOKUP(A7,'VMAX code upgrade reference'!A:D,3,0) -> 5876.229.145 | M7: CHG0000194430 (18-May-14) | N7: 5876.163.105 | O7: 17445685 (22-Sep-13) | P7: 5875.269.201
A8: 292603613 | B8: PROD | C8: SG | D8: CT2B1-E-007BX | E8: Non-Rep | F8: VMAX-1 | G8: slixip167 | H8: 5876.229.145 | I8: CHG0000163137 (27-Apr-14) | J8: 5876.268.174 | K8: =L8 -> 5876.229.145 | L8: =VLOOKUP(A8,'VMAX code upgrade reference'!A:D,3,0) -> 5876.229.145 | M8: 17445685 (22-Sep-13) | N8: 5875.269.201
A9: 292603628 | B9: PROD | C9: SG | D9: CT2B1-E-019BQ | F9: VMAX-1 | G9: slixip167 | H9: 5876.229.145 | I9: CHG0000194430 (18-May-14) | J9: 5876.268.174 | K9: =L9 -> 5876.229.145 | L9: =VLOOKUP(A9,'VMAX code upgrade reference'!A:D,3,0) -> 5876.229.145 | M9: 17445685 (22-Sep-13) | N9: 5875.269.201
A10: 292603943 | B10: PROD | C10: SG | D10: CT2B1-E021BP | F10: VMAX-1 | G10: slixip167 | H10: 5876.268.174 | I10: CHG0000341604 (24-Aug-14) | J10: 5876.268.174 | K10: =L10 -> 5876.229.145 | L10: =VLOOKUP(A10,'VMAX code upgrade reference'!A:D,3,0) -> 5876.229.145 | M10: 17945517 (09-Mar-14) | N10: 5875.269.201 | O10: 16897635 (19-May-13)
A11: 292603979 | B11: PROD | C11: SG | D11: CT2B1-E-013BX | E11: Flexcube | F11: VMAX-1 | G11: slixip167 | H11: 5876.268.174 | I11: CHG0000341604 (24-Aug-14) | J11: 5876.268.174 | K11: =L11 -> 5876.229.145 | L11: =VLOOKUP(A11,'VMAX code upgrade reference'!A:D,3,0) -> 5876.229.145 | M11: 17931488 (02-Mar-14) | N11: 5875.269.201 | O11: 16897635 (19-May-13)
A12: 295700507 | B12: PROD | C12: SG | D12: CT2L1-E-054H | F12: VMAX40K | G12: slixip167 | H12: 5876.229.145 | I12: CHG0000163137 (27-Apr-14) | J12: 5876.268.174 | K12: =L12 -> 5876.229.145 | L12: =VLOOKUP(A12,'VMAX code upgrade reference'!A:D,3,0) -> 5876.229.145
A13: 295700613 | B13: PROD | C13: SG | D13: CT2B1-E-004BY | F13: VMAX40K | G13: slixip167 | H13: 5876.229.145 | J13: 5876.268.174 | K13: =H13 -> 5876.229.145 | L13: =VLOOKUP(A13,'VMAX code upgrade reference'!A:D,3,0) -> #N/A
A14: 492600122 | B14: PROD | C14: SG | D14: CT2B1-E102 | F14: VMAX-1 | G14: slixip167 | H14: 5876.268.174 | I14: CHG0000341604 (24-Aug-14) | J14: 5876.268.174 | K14: =L14 -> 5876.268.174 | L14: =VLOOKUP(A14,'VMAX code upgrade reference'!A:D,3,0) -> 5876.268.174 | M14: 17866762 (9-Feb-14) | N14: 5875.269.201 | O14: 16851476 (21-Apr-13) | P14: 5875.231.172 | Q14: 15139941 (18-Mar-12)
A15: 492600146 | B15: PROD | C15: SG | D15: CT2B1-E118 | F15: VMAX-1 | G15: slixip167 | H15: 5876.268.174 | I15: CHG0000330839 (17-Aug-14) | J15: 5876.268.174 | K15: =H15 -> 5876.268.174 | L15: =VLOOKUP(A15,'VMAX code upgrade reference'!A:D,3,0) -> #N/A | M15: 17866762 (9-Feb-14) | N15: 5875.269.201 | O15: 16851476 (21-Apr-13) | P15: 5875.231.172 | Q15: 15140105 (25-Mar-12)
A16: 492600393 | B16: PROD | C16: SG | D16: CT2B1-E-014BY | F16: VMAX-1 | G16: slixip167 | H16: 5876.268.174 | I16: CHG0000194430 (18-May-14) | J16: 5876.268.174 | K16: =L16 -> 5876.229.145 | L16: =VLOOKUP(A16,'VMAX code upgrade reference'!A:D,3,0) -> 5876.229.145 | M16: 17445685 (22-Sep-13) | N16: 5875.269.201
A17: 495700035 | B17: PROD | C17: SG | D17: CT2L1- Row 55 -E-CT2L1-E-127I | F17: VMAX40K | G17: slixip167 | H17: 5876.229.145 | I17: CHG0000163137 (27-Apr-14) | J17: 5876.268.174 | K17: =L17 -> 5876.229.145 | L17: =VLOOKUP(A17,'VMAX code upgrade reference'!A:D,3,0) -> 5876.229.145
A18: 290300751 | B18: BUNK | C18: SG | D18: T3-E102 | F18: DMX3-6 | G18: ssunacs8 | H18: 5773.168.115 | J18: 5773.168.115 | K18: =H18 -> 5773.168.115 | L18: =VLOOKUP(A18,'VMAX code upgrade reference'!A:D,3,0) -> #N/A
A19: 295700499 | B19: PROD | C19: SG | D19: Row 45 CT2 B1-E-058CA | F19: VMAX 40K | H19: 5876.229.145 | J19: 5876.268.174 | K19: =L19 -> 5876.268.174 | L19: =VLOOKUP(A19,'VMAX code upgrade reference'!A:D,3,0) -> 5876.268.174
A20: 295700608 | B20: PROD | C20: SG | D20: Row 45 CT2 B1-E-058BX | F20: VMAX 40K | H20: 5876.229.145 | J20: 5876.268.174 | K20: =H20 -> 5876.229.145 | L20: =VLOOKUP(A20,'VMAX code upgrade reference'!A:D,3,0) -> #N/A
A21: 295700518 | B21: COB | C21: HK | D21: Asiatone | F21: VMAX 40K | H21: 5876.229.145 | J21: 5876.268.174 | K21: =H21 -> 5876.229.145 | L21: =VLOOKUP(A21,'VMAX code upgrade reference'!A:D,3,0) -> #N/A
A22: 292600268 | B22: BUNK | C22: SG | D22: T3-E103 | F22: VMAX-1 | G22: ssunacs8 | H22: 5876.268.174 | I22: CHG0000330839 (17-Aug-14) | J22: 5876.268.174 | K22: =L22 -> 5876.229.145 | L22: =VLOOKUP(A22,'VMAX code upgrade reference'!A:D,3,0) -> 5876.229.145 | M22: 17945517 (09-Mar-14) | N22: 5875.269.201 | O22: 16851476 (21-Apr-13) | P22: 5875.231.172 | Q22: 15010996 (26-Feb-12) | R22: 5874.259.201 | S22: 14672515 (27-Nov-11) | T22: 5874.242.191 | U22: 13602000 (13-Mar-11)
A23: 290105338 | B23: COB | C23: HK | D23: IAD25-E30 | F23: DMX4-24 | G23: hsunsmm02 | H23: 5773.184.130 | I23: 16691323 (24-Mar-13) | J23: 5773.184.130 | K23: =H23 -> 5773.184.130 | L23: =VLOOKUP(A23,'VMAX code upgrade reference'!A:D,3,0) -> #N/A | M23: 14495625 (23-Oct-11)
A24: 290301196 | B24: COB | C24: HK | D24: IAD25-E32 | F24: DMX3-6 | G24: hsunsmm02 | H24: 5773.184.130 | I24: 16691323 (24-Mar-13) | J24: 5773.184.130 | K24: =H24 -> 5773.184.130 | L24: =VLOOKUP(A24,'VMAX code upgrade reference'!A:D,3,0) -> #N/A | M24: 14495625 (23-Oct-11)
A25: 292600269 | B25: COB | C25: HK | D25: IAD25-E33 | F25: VMAX-1 | G25: hsunsmm02 | H25: 5876.268.174 | I25: CHG0000287924 (20-Jul-14) | J25: 5876.268.174 | K25: =L25 -> 5876.268.174 | L25: =VLOOKUP(A25,'VMAX code upgrade reference'!A:D,3,0) -> 5876.268.174 | M25: 17810194 (19-Jan-14) | N25: 5875.269.201 | O25: 16691323 (24-Mar-13) | P25: 5875.231.172 | Q25: 15010981 (19-Feb-12) | R25: 5874.259.201 | S25: 14672515 (27-Nov-11) | T25: 5874.248.194 | U25: 14495625 (23-Oct-11) | V25: 5874.248.194 | W25: 14495625 (23-Oct-11)
A26: 492600105 | B26: COB | C26: HK | D26: IAD22-E11 | F26: VMAX-1 | G26: hsunsmm02 | H26: 5876.268.174 | I26: CHG0000287924 (20-Jul-14) | J26: 5876.268.174 | K26: =L26 -> 5876.268.174 | L26: =VLOOKUP(A26,'VMAX code upgrade reference'!A:D,3,0) -> 5876.268.174 | M26: 17810194 (19-Jan-14) | N26: 5875.269.201 | O26: 16691323 (24-Mar-13) | P26: 5875.231.172 | Q26: 15139941 (18-Mar-12)
A27: 492600106 | B27: COB | C27: HK | D27: IAD27-E56 | F27: VMAX-1 | G27: hsunsmm02 | H27: 5876.268.174 | I27: CHG0000287924 (20-Jul-14) | J27: 5876.268.174 | K27: =L27 -> 5876.268.174 | L27: =VLOOKUP(A27,'VMAX code upgrade reference'!A:D,3,0) -> 5876.268.174 | M27: 17810194 (19-Jan-14) | N27: 5875.269.201 | O27: 16798281 (07-Apr-13)
A28: 290103014 | B28: COB | C28: HK | D28: AST4-DC2-E28 | F28: DMX4-24 | G28: hlixiu634 | H28: 5773.176.124 | J28: 5773.176.124 | K28: =H28 -> 5773.176.124 | L28: =VLOOKUP(A28,'VMAX code upgrade reference'!A:D,3,0) -> #N/A | M28: 14484875 (16-Oct-11)
A29: 292602398 | B29: COB | C29: HK | D29: AST3-DC6-E002C (Row 10) | E29: Non-Rep | F29: VMAX-1 | G29: hlixiu634 | H29: 5876.268.174 | I29: CHG0000312423 (03-Aug-14) | J29: 5876.268.174 | K29: =L29 -> 5876.229.145 | L29: =VLOOKUP(A29,'VMAX code upgrade reference'!A:D,3,0) -> 5876.229.145 | M29: CHG0000106948 (06-Apr-14) | N29: 5876.163.105 | O29: 17445685 (22-Sep-13) | P29: 5875.269.201
A30: 292603609 | B30: COB | C30: HK | D30: AST4-DC2-E13B | E30: ICG | F30: VMAX-1 | G30: hlixiu634 | H30: 5876.268.174 | I30: CHG0000299267 (27-Jul-14) | J30: 5876.268.174 | K30: =L30 -> 5876.268.174 | L30: =VLOOKUP(A30,'VMAX code upgrade reference'!A:D,3,0) -> 5876.268.174 | M30: 17836251 (26-Jan-14) | N30: 5875.269.201 | O30: 16798281 (07-Apr-13)
A31: 292603629 | B31: COB | C31: HK | D31: AST3-DC6-E004D (Row 8) | F31: VMAX-1 | G31: hlixiu634 | H31: 5876.268.174 | I31: CHG0000312423 (03-Aug-14) | J31: 5876.268.174 | K31: =L31 -> 5876.229.145 | L31: =VLOOKUP(A31,'VMAX code upgrade reference'!A:D,3,0) -> 5876.229.145 | M31: CHG0000106948 (06-Apr-14) | N31: 5876.163.105 | O31: 17445685 (22-Sep-13) | P31: 5875.269.201
A32: 292603631 | B32: COB | C32: HK | D32: AST3-DC6-E003B (Row 13) | E32: Non-Rep | F32: VMAX-1 | G32: hlixiu634 | H32: 5876.268.174 | I32: CHG0000312423 (03-Aug-14) | J32: 5876.268.174 | K32: =L32 -> 5876.229.145 | L32: =VLOOKUP(A32,'VMAX code upgrade reference'!A:D,3,0) -> 5876.229.145 | M32: CHG0000106948 (06-Apr-14) | N32: 5876.163.105 | O32: 17445685 (22-Sep-13) | P32: 5875.269.201
A33: 292604047 | B33: COB | C33: HK | D33: AST4-DC2-E017 | F33: VMAX-1 | G33: hlixiu634 | H33: 5876.268.174 | I33: CHG0000299267 (27-Jul-14) | J33: 5876.268.174 | K33: =L33 -> 5876.268.174 | L33: =VLOOKUP(A33,'VMAX code upgrade reference'!A:D,3,0) -> 5876.268.174 | M33: 17836251 (26-Jan-14) | N33: 5875.269.201 | O33: 16798281 (07-Apr-13)
A34: 292604132 | B34: COB | C34: HK | D34: AST4-DC2-E020 | F34: VMAX-1 | G34: hlixiu634 | H34: 5876.268.174 | I34: CHG0000299267 (27-Jul-14) | J34: 5876.268.174 | K34: =L34 -> 5876.268.174 | L34: =VLOOKUP(A34,'VMAX code upgrade reference'!A:D,3,0) -> 5876.268.174 | M34: 17836251 (26-Jan-14) | N34: 5875.269.201 | O34: 16798281 (07-Apr-13)
A35: 295700517 | B35: COB | C35: HK | D35: AST3-DC6-E010 - Row 13 | F35: VMAX40K | G35: hlixiu634 | H35: 5876.268.174 | I35: CHG0000312423 (03-Aug-14) | J35: 5876.268.174 | K35: =L35 -> 5876.229.145 | L35: =VLOOKUP(A35,'VMAX code upgrade reference'!A:D,3,0) -> 5876.229.145 | M35: CHG0000140761 (20-Apr-14) | N35: 5876.163.105
A36: 295700527 | B36: COB | C36: HK | D36: AST3-DC6-E009 - Row 10 | F36: VMAX40K | G36: hlixiu634 | H36: 5876.268.174 | I36: CHG0000322788 (10-Aug-14) | J36: 5876.268.174 | K36: =L36 -> 5876.229.145 | L36: =VLOOKUP(A36,'VMAX code upgrade reference'!A:D,3,0) -> 5876.229.145 | M36: CHG0000140761 (20-Apr-14) | N36: 5876.163.105
A37: 492600150 | B37: COB | C37: HK | D37: AST4-DC2-E10 | F37: VMAX-1 | G37: hlixiu634 | H37: 5876.268.174 | I37: CHG0000299267 (27-Jul-14) | J37: 5876.268.174 | K37: =L37 -> 5876.268.174 | L37: =VLOOKUP(A37,'VMAX code upgrade reference'!A:D,3,0) -> 5876.268.174 | M37: 17810194 (19-Jan-14) | N37: 5875.269.201 | O37: 16798281 (07-Apr-13) | P37: 5875.231.172 | Q37: 15139941 (18-Mar-12)
A38: 492600392 | B38: COB | C38: HK | D38: AST3-DC6-E001C (Row 7) | F38: VMAX-1 | G38: hlixiu634 | H38: 5876.268.174 | I38: CHG0000299267 (27-Jul-14) | J38: 5876.268.174 | K38: =L38 -> 5876.229.145 | L38: =VLOOKUP(A38,'VMAX code upgrade reference'!A:D,3,0) -> 5876.229.145 | M38: CHG0000106948 (06-Apr-14) | N38: 5876.163.105 | O38: 17445685 (22-Sep-13) | P38: 5875.269.201
A39: 295700611 | B39: COB | C39: HK | D39: AST4-DC2–E032 | F39: VMAX40K | G39: hlixiu634 | H39: 5876.268.174 | I39: CHG0000322788 (10-Aug-14) | J39: 5876.268.174 | K39: =L39 -> 5876.268.174 | L39: =VLOOKUP(A39,'VMAX code upgrade reference'!A:D,3,0) -> 5876.268.174
A40: 292603574 | B40: PROD | C40: HK | D40: IAD23-E14 | E40: ICG | F40: VMAX-1 | G40: hlixiu633 | H40: 5876.268.174 | I40: CHG0000322788 (10-Aug-14) | J40: 5876.268.174 | K40: =L40 -> 5876.268.174 | L40: =VLOOKUP(A40,'VMAX code upgrade reference'!A:D,3,0) -> 5876.268.174 | M40: 17866762 (9-Feb-14) | N40: 5875.269.201 | O40: 16828216 (14-Apr-13)
A41: 492600021 | B41: PROD | C41: CN | D41: IP2L3-E-M19, E-M20 | F41: VMAX-1 | G41: clixip155/170 | H41: 5876.268.174 | I41: 17931488 (02-Mar-14) | J41: 5876.268.174 | K41: =L41 -> 5876.229.145 | L41: =VLOOKUP(A41,'VMAX code upgrade reference'!A:D,3,0) -> 5876.229.145 | M41: 17056789 (04-Aug-13) | N41: 5874.259.201 | O41: 14672515 (27-Nov-11)
A42: 498700161 | B42: PROD | C42: CN | D42: IP2L3-E-AK18, E-AK19 | F42: VMAX10K | G42: clixip155/170 | H42: 5876.268.174 | J42: 5876.268.174 | K42: =H42 -> 5876.268.174 | L42: =VLOOKUP(A42,'VMAX code upgrade reference'!A:D,3,0) -> #N/A
A43: 498700237 | B43: PROD | C43: CN | D43: IP2L3-E-AD12, AD13 | F43: VMAX10K | G43: clixip155/170 | H43: 5876.268.174 | J43: 5876.268.174 | K43: =H43 -> 5876.268.174 | L43: =VLOOKUP(A43,'VMAX code upgrade reference'!A:D,3,0) -> #N/A
A44: 298701068 | B44: COB | C44: CN | E44: CN COB | G44: hlixiu634 | H44: 5876.268.174 | L44: =VLOOKUP(A44,'VMAX code upgrade reference'!A:D,3,0) -> #N/A
A45: 498700157 | B45: COB | C45: HK | E45: CN COB | F45: VMAX10K | G45: hlixiu634 | H45: 5876.268.174 | I45: CHG0000322788 (10-Aug-14) | J45: 5876.268.174 | K45: =L45 -> 5876.229.145 | L45: =VLOOKUP(A45,'VMAX code upgrade reference'!A:D,3,0) -> 5876.229.145 | M45: CHG0000140761 (20-Apr-14) | N45: 5876.163.105
A46: 292601913 | B46: COB | C46: HK | D46: IAD22-E1 | E46: CN COB | F46: VMAX-1 | G46: hlixiu170 | H46: 5876.268.174 | I46: CHG0000287924 (20-Jul-14) | J46: 5876.268.174 | K46: =L46 -> 5876.268.174 | L46: =VLOOKUP(A46,'VMAX code upgrade reference'!A:D,3,0) -> 5876.268.174 | M46: 17866762 (9-Feb-14) | N46: 5875.269.201 | O46: 17040799 (02-Jun-13) | P46: 5874.259.201 | Q46: 14672515 (27-Nov-11) | R46: 5874.248.194 | S46: 14495625 (23-Oct-11)
A47: 295700478 | B47: COB | C47: HK | D47: Row 08 IAD25-E-35 | G47: hlixiu170 | H47: 5876.268.174 | I47: CHG0000287924 (20-Jul-14) | J47: 5876.268.174 | L47: =VLOOKUP(A47,'VMAX code upgrade reference'!A:D,3,0) -> 5876.268.174
A48: 294901296 | B48: PROD | C48: IN | D48: India | F48: VMAX-1SE | G48: inbrdcsan01 | H48: 5876.229.145 | I48: 17541823 (11-Jan-14) | J48: 5876.268.174 | K48: =H48 -> 5876.229.145 | L48: =VLOOKUP(A48,'VMAX code upgrade reference'!A:D,3,0) -> #N/A | M48: 17064051 (9-Jun-13)
A49: 298700651 | B49: PROD | C49: IN | D49: India | F49: VMAX10K | G49: inbrdccmerbkp02 | H49: 5876.268.174 | I49: CHG0000330920 (17-Aug-14) | J49: 5876.268.174 | K49: =L49 -> 5876.268.174 | L49: =VLOOKUP(A49,'VMAX code upgrade reference'!A:D,3,0) -> 5876.268.174
A50: 298700658 | B50: PROD | C50: IN | D50: India | F50: VMAX10K | G50: inbrdcnkpbkp02 | H50: 5876.163.105 | J50: 5876.268.174 | K50: =L50 -> 5876.268.174 | L50: =VLOOKUP(A50,'VMAX code upgrade reference'!A:D,3,0) -> 5876.268.174
A51: 298700649 | B51: PROD | C51: IN | D51: India | F51: VMAX10K | G51: inbrdccgmbkp02 | H51: 5876.163.105 | J51: 5876.268.174 | K51: =H51 -> 5876.163.105 | L51: =VLOOKUP(A51,'VMAX code upgrade reference'!A:D,3,0) -> #N/A
A52: 492600409 | B52: PROD | C52: SG | D52: CT2B1 | E52: Return to EMC | F52: VMAX-1 | G52: slixip167 | H52: 5875.269.201 | J52: 5876.268.174
A53: 290103762 | B53: COB | C53: HK | D53: IAD25-E26 | E53: Sunset | F53: DMX4-24 | G53: hsunsmm02 | H53: 5773.184.130 | I53: 16691323 (24-Mar-13) | K53: 5773.168.115 | M53: 14495625 (23-Oct-11)
A54: 290103429 | B54: PROD | C54: SG | D54: CT2L1-E147-E149 | E54: Sunset | F54: DMX4-24 | G54: slixip167 | H54: 5773.184.130 | K54: 5773.168.115 | M54: 14609831 (13-Nov-11) | N54: 5773.163.113 | O54: 14213291 (07-Aug-11)
A55: 290103486 | B55: PROD | C55: SG | D55: CT2L1-E150-E152 | E55: Sunset | F55: DMX4-24 | G55: slixip167 | H55: 5773.184.130 | I55: 16828216 (14-Apr-13) | K55: 5773.168.115 | M55: 14609831 (13-Nov-11) | N55: 5773.163.113 | O55: 14213291 (07-Aug-11)

Sheet SE servers
A1: hostname | B1: ip | C1: OS | D1: SE version
A2: ssunsmm01 | B2: 163.37.241.20 | C2: SunOS ssunsmm01 5.10 Generic_147440-27 sun4u sparc SUNW,Sun-Fire-V490 | D2: V7.5.0.0
A3: ssunsmm02 | B3: 163.37.238.14 | C3: SunOS ssunsmm02 5.10 Generic_147440-27 sun4u sparc SUNW,Sun-Fire-V490 | D3: V7.5.0.0
A4: hsunsmm02 | B4: 129.14.10.5 | C4: SunOS hsunsmm02 5.10 Generic_147440-27 sun4u sparc SUNW,Sun-Fire-V490 | D4: V7.5.0.0
A5: hlixiu170 | B5: 169.165.5.11 | C5: Linux hlixiu170.apac.nsroot.net 2.6.18-348.4.1.el5 #1 SMP Fri Mar 22 05:41:51 EDT 2013 x86_64 x86_64 x86_64 GNU/Linux | D5: V7.6.1.0
A6: clixip155 | B6: 169.179.35.29 | C6: Linux clixip155.apac.nsroot.net 2.6.18-238.45.1.el5 #1 SMP Thu Sep 20 12:19:35 EDT 2012 x86_64 x86_64 x86_64 GNU/Linux | D6: V7.6.1.0
A7: clixip170 | B7: 169.179.35.35 | C7: Linux clixip170.apac.nsroot.net 2.6.18-238.45.1.el5 #1 SMP Thu Sep 20 12:19:35 EDT 2012 x86_64 x86_64 x86_64 GNU/Linux | D7: V7.6.1.0
A8: hlixiu633 | B8: 169.181.17.24 | C8: Linux hlixiu633.apac.nsroot.net 2.6.18-348.4.1.el5 #1 SMP Fri Mar 22 05:41:51 EDT 2013 x86_64 x86_64 x86_64 GNU/Linux | D8: V7.6.1.0
A9: hlixiu634 | B9: 169.179.82.11 | C9: Linux hlixiu634.apac.nsroot.net 2.6.18-348.4.1.el5 #1 SMP Fri Mar 22 05:41:51 EDT 2013 x86_64 x86_64 x86_64 GNU/Linux | D9: V7.6.1.0
A10: slixip167 | B10: 169.179.108.69 | C10: Linux slixip167.apac.nsroot.net 2.6.18-238.45.1.el5 #1 SMP Thu Sep 20 12:19:35 EDT 2012 x86_64 x86_64 x86_64 GNU/Linux | D10: V7.6.1.0
A11: ssunacs8 | B11: 163.37.189.185 | C11: SunOS ssunacs8 5.10 Generic_147440-27 sun4u sparc SUNW,Sun-Fire-V240 | D11: V7.5.0.0

Sheet MDS firmware upgrade
A1: Serial No: | B1: Switch Name | C1: Chassis S No | D1: Model | E1: Current Code Level | F1: Current CATE Certified Code | G1: Env | H1: Country | I1: Completed 5.2(8b) | J1: Target Date 5.2(8c) | K1: Completed 5.2(8c) | L1: Completed Date | M1: Target Date 5.2(8d) | N1: Completed 5.2(8d) | O1: Completed Date
A2: FOX112013BE | B2: HKIADSW01 | C2: JAE1149A1P4 | D2: 9124 | E2: 5.2(8c) | F2: 5.2(8d) | G2: Backup-NAS | H2: Hong Kong | I2: 41560 | J2: 41700 | K2: Yes | L2: 41700
A3: FOX1349GGWG | B3: HKIADSW02 | C3: JAF13512XWY | D3: 9124 | E3: 5.2(8c) | F3: 5.2(8d) | G3: Backup-NAS | H3: Hong Kong | I3: 41560 | J3: 41700 | K3: Yes | L3: 41700
A4: FOX1347GQXS | B4: HKIADSW03 | C4: JAF13512XXV | D4: 9124 | E4: 5.2(8c) | F4: 5.2(8d) | G4: Backup-Legato | H4: Hong Kong | I4: 41553 | J4: 41700 | K4: Yes | L4: 41700
A5: FOX1352GY5Q | B5: HKDSHSW01 | C5: JAF14060Z0Y | D5: 9124 | E5: 5.2(8c) | F5: 5.2(8d) | G5: Backup | H5: Hong Kong | I5: 41560 | J5: 41700 | K5: Yes | L5: 41700
A6: FOX1119002W | B6: SGTPKSW01 | C6: JAE1149A1T8 | D6: 9124 | E6: 5.2(8c) | F6: 5.2(8d) | G6: Backup-NAS | H6: Singapore | I6: 41560 | J6: 41700 | K6: Yes | L6: 41700
A7: FOX1119002M | B7: SGTPKSW02 | C7: JAE1149A1T5 | D7: 9124 | E7: 5.2(8c) | F7: 5.2(8d) | G7: Backup-NAS | H7: Singapore | I7: 41560 | J7: 41700 | K7: Yes | L7: 41700
A8: FOX1435GRXF | B8: SGTPKSW03 | C8: JAF1442U093 | D8: 9124 | E8: 5.2(8c) | F8: 5.2(8d) | G8: Backup-NAS | H8: Singapore | I8: 41560 | J8: 41700 | K8: Yes | L8: 41700
A9: FOX1435GRYM | B9: SGTPKSW04 | C9: JAF1442U099 | D9: 9124 | E9: 5.2(8c) | F9: 5.2(8d) | G9: Not in use | H9: Singapore | I9: 41553 | J9: 41700 | K9: Yes | L9: 41700
A10: FOX112013BL | B10: HKCPSW01 | C10: JAE1149A1NJ | D10: 9124 | E10: 5.2(8c) | F10: 5.2(8d) | G10: Backup-NAS | H10: Hong Kong | I10: 41560 | J10: 41700 | K10: Yes | L10: 41700
A11: FOX1349H9JR | B11: SGCINSW01 | C11: JAF1404061Y | D11: 9124 | E11: 5.2(8c) | F11: 5.2(8d) | G11: Backup-Legato | H11: Singapore | I11: 41553 | J11: 41700 | K11: Yes | L11: 41700
A12: FOX1349GH0L | B12: SGCINSW02 | C12: JAF14091631 | D12: 9124 | E12: 5.2(8c) | F12: 5.2(8d) | G12: Backup-NAS | H12: Singapore | I12: 41560 | J12: 41700 | K12: Yes | L12: 41700
A13: FOX1349GGZK | B13: SGCINSW03 | C13: JAF1409162Z | D13: 9124 | E13: 5.2(8c) | F13: 5.2(8d) | G13: Backup-NAS | H13: Singapore | I13: 41560 | J13: 41700 | K13: Yes | L13: 41700
... A15: FOX1340GP4Y | B15: TWCPBSW02 | C15: JAF1347245X | D15: 9124 | E15: 5.2(8c) | F15: 5.2(8d) | G15: Backup-NAS | H15: Taiwan | I15: 41553 | J15: 41700 | K15: Yes | L15: 41700
A16: FOX1426GSRX | B16: MYKLSW03 | C16: JAF143886X2 | D16: 9124 | E16: 5.2(8c) | F16: 5.2(8d) | G16: ICG-PROD | H16: Malaysia | J16: 41707 | K16: Yes | L16: 41714
A17: FOX1426GSWX | B17: MYKLSW04 | C17: JAF1438844X | D17: 9124 | E17: 5.2(8c) | F17: 5.2(8d) | G17: ICG-PROD | H17: Malaysia | J17: 41714 | K17: Yes | L17: 41721
A18: FOX1435GPV8 | B18: SYDEXCSW1 | C18: JAF1449V462 | D18: 9124 | E18: 5.2(8c) | F18: 5.2(8d) | G18: Exchange | H18: Australia | I18: 41560 | J18: 41735 | K18: Yes | L18: 41721
A19: FOX1447GP7R | B19: SYDEXCSW2 | C19: JAF1449V989 | D19: 9124 | E19: 5.2(8c) | F19: 5.2(8d) | G19: Exchange | H19: Australia | I19: 41567 | J19: 41735 | K19: Yes | L19: 41735
A20: FOX1435GP5N | B20: WPHEXCSW1 | C20: JAF1449V42Z | D20: 9124 | E20: 5.2(8c) | F20: 5.2(8d) | G20: Exchange | H20: Australia | I20: 41560 | J20: 41735 | K20: Yes | L20: 41721
A21: FOX1447GP85 | B21: WPHEXCSW2 | C21: JAF1449V895 | D21: 9124 | E21: 5.2(8c) | F21: 5.2(8d) | G21: Exchange | H21: Australia | I21: 41567 | J21: 41735 | K21: Yes | L21: 41735
A22: FOX1449GV55 | B22: HKIADSW04 | C22: JAF15050XXY | D22: 9124 | E22: 5.2(8c) | F22: 5.2(8d) | G22: Exchange | H22: Hong Kong | I22: 41560 | J22: 41735 | K22: Yes | L22: 41721
A23: FOX1438H3M5 | B23: HKIADSW05 | C23: JAF1449V3YZ | D23: 9124 | E23: 5.2(8c) | F23: 5.2(8d) | G23: Exchange | H23: Hong Kong | I23: 41567 | J23: 41735 | K23: Yes | L23: 41735
A24: FOX1435GRU8 | B24: SGCINSW04 | C24: JAF1449V864 | D24: 9124 | E24: 5.2(8c) | F24: 5.2(8d) | G24: Exchange | H24: Singapore | I24: 41560 | J24: 41735 | K24: Yes | L24: 41721
A25: FOX1435GP6K | B25: SGCINSW05 | C25: JAF1449V757 | D25: 9124 | E25: 5.2(8c) | F25: 5.2(8d) | G25: Exchange | H25: Singapore | I25: 41567 | J25: 41735 | K25: Yes | L25: 41735
A26: FOX1340GP4T | B26: TWKHBSW01 | C26: JAF134724U7 | D26: 9124 | E26: 5.2(8c) | F26: 5.2(8d) | G26: Backup | H26: Taiwan | I26: 41553 | J26: 41707 | K26: Yes | L26: 41714
A27: FOX1340GP3N | B27: TWKHBSW02 | C27: JAF13472499 | D27: 9124 | E27: 5.2(8c) | F27: 5.2(8d) | G27: Backup | H27: Taiwan | I27: 41553 | J27: 41707 | K27: Yes | L27: 41714
A28: FOX1407GR9L | B28: Berylnaslibrary | C28: JAF1409AJHR | D28: 9124 | E28: 5.2(8c) | F28: 5.2(8d) | G28: NAS NDMP | H28: India | J28: 41742 | K28: Yes | L28: 41749
A29: FOX1407GP73 | B29: CISCO-MER | C29: JAF1411AKLD | D29: 9124 | E29: 5.2(8c) | F29: 5.2(8d) | G29: NAS NDMP | H29: India | J29: 41742 | K29: Yes | L29: 41749
A30: FOX1517H32G | B30: THBKKSW01 | C30: JAF152459UU | D30: 9124 | E30: 5.2(8c) | F30: 5.2(8d) | G30: ICG-VNX PROD | H30: Thailand | J30: 41714 | K30: Yes | L30: 41714
A31: FOX11050CRS | B31: THBKKSW02 | C31: JAB1122N88T | D31: 9124 | E31: 5.2(8c) | F31: 5.2(8d) | G31: ICG-VNX PROD | H31: Thailand | J31: 41721 | K31: Yes | L31: 41721
A32: FOX1450G8P3 | B32: THBKKSW03 | C32: JAF150816V9 | D32: 9124 | E32: 5.2(8c) | F32: 5.2(8d) | G32: ICG-VNX COB | H32: Thailand | J32: 41707 | K32: Yes | L32: 41714
A33: FOX1520GJ3Y | B33: THBKKSW04 | C33: JAF152661X4 | D33: 9124 | E33: 5.2(8c) | F33: 5.2(8d) | G33: ICG-VNX COB | H33: Thailand | J33: 41707 | K33: Yes | L33: 41721
A34: FOX1347GR0U | B34: MYKLSW01 | C34: JAF13523296 | D34: 9124 | E34: 5.2(8c) | F34: 5.2(8d) | G34: NAS NDMP | H34: Malaysia | I34: 41581 | J34: 41756 | K34: Yes | L34: 41756
A35: FOX1349GL5W | B35: MYKLSW02 | C35: JAF13523271 | D35: 9124 | E35: 5.2(8c) | F35: 5.2(8d) | G35: NAS NDMP | H35: Malaysia | I35: 41581 | J35: 41756 | K35: Yes | L35: 41756
A36: FOX1347GR18 | B36: MYPGSW01 | C36: JAF13523297 | D36: 9124 | E36: 5.2(8c) | F36: 5.2(8d) | G36: NAS NDMP | H36: Malaysia | I36: 41581 | J36: 41756 | K36: Yes | L36: 41756
A37: FOX1347GR26 | B37: MYPGSW02 | C37: JAF1352329Z | D37: 9124 | E37: 5.2(8c) | F37: 5.2(8d) | G37: NAS NDMP | H37: Malaysia | I37: 41581 | J37: 41756 | K37: Yes | L37: 41756
A38: FOX1413G2WZ | B38: INDOBIOSW01 | C38: JAF14142675 | D38: 9124 | E38: 5.2(8c) | F38: 5.2(8d) | G38: NAS NDMP | H38: Indonesia | I38: 41616 | J38: 41742 | K38: Yes | L38: 41749
A39: FOX1413G2X0 | B39: INDOBIOSW02 | C39: JAF14142676 | D39: 9124 | E39: 5.2(8c) | F39: 5.2(8d) | G39: NAS NDMP | H39: Indonesia | I39: 41616 | J39: 41742 | K39: Yes | L39: 41749
A40: FOX1409GM5Q | B40: INDOPIHSW01 | C40: JAF1410172U | D40: 9124 | E40: 5.2(8c) | F40: 5.2(8d) | G40: NAS NDMP | H40: Indonesia | I40: 41616 | J40: 41742 | K40: Yes | L40: 41749
A41: FOX1413G2X5 | B41: INDOPIHSW02 | C41: JAF14142678 | D41: 9124 | E41: 5.2(8c) | F41: 5.2(8d) | G41: NAS NDMP | H41: Indonesia | I41: 41616 | J41: 41742 | K41: Yes | L41: 41749
A42: FOX1349H9RP | B42: CNGZSW01 | C42: JAF13522ZZ4 | D42: 9124 | E42: 5.2(8c) | F42: 5.2(8d) | G42: NAS NDMP | H42: China | I42: 41581 | J42: 41742 | K42: Yes | L42: 41749
A43: FOX1349H2YR | B43: CNGZSW02 | C43: JAF13523019 | D43: 9124 | E43: 5.2(8c) | F43: 5.2(8d) | G43: NAS NDMP | H43: China | I43: 41581 | J43: 41742 | K43: Yes | L43: 41749
A44: FOX1349GLW8 | B44: CNSHSW01 | C44: JAF13522ZX2 | D44: 9124 | E44: 5.2(8c) | F44: 5.2(8d) | G44: NAS NDMP | H44: China | I44: 41581 | J44: 41742 | K44: Yes | L44: 41749
A45: FOX1349H2ZG | B45: CNSHSW02 | C45: JAF135230WZ | D45: 9124 | E45: 5.2(8c) | F45: 5.2(8d) | G45: NAS NDMP | H45: China | I45: 41581 | J45: 41742 | K45: Yes | L45: 41749
... A51: FOX1529H7HY | B51: INCSILSW04 | C51: JAF15470486 | D51: 9124 | E51: 5.2(8c) | F51: 5.2(8d) | G51: NAS NDMP | H51: India | I51: 41581 | J51: 41749 | K51: Yes | L51: 41749
A52: FOX1450G8J9 | B52: MDS9124A | C52: JAF1507129X | D52: 9124 | E52: 5.2(8c) | F52: 5.2(8d) | G52: NAS NDMP | H52: China | J52: 41721 | K52: Yes | L52: 41714
A53: FOX1450GHSM | B53: MDS9124B | C53: JAF150816Z7 | D53: 9124 | E53: 5.2(8c) | F53: 5.2(8d) | G53: NAS NDMP | H53: China | J53: 41721 | K53: Yes | L53: 41714
A54: FOX1521H7TC | B54: MDS4ESWA01 | C54: JAB1528N2BR | D54: 9513 | E54: 5.2(8c) | F54: 5.2(8d) | G54: SAN COB/UAT | H54: Hong Kong | J54: 41742 | K54: Yes | L54: 41749
A55: FOX1517GC5U | B55: MDS4ESWB01 | C55: JAB1527N285 | D55: 9513 | E55: 5.2(8c) | F55: 5.2(8d) | G55: SAN COB/UAT | H55: Hong Kong | J55: 41756 | K55: Yes | L55: 41805
A56: FOX1518GSJS | B56: MDS4ESWA02 | C56: JAB1534N2YB | D56: 9513 | E56: 5.2(8c) | F56: 5.2(8d) | G56: SAN COB/UAT | H56: Hong Kong | J56: 41742 | K56: Yes | L56: 41749
A57: FOX1527GD4B | B57: MDS4ESWB02 | C57: JAB1534N2YE | D57: 9513 | E57: 5.2(8c) | F57: 5.2(8d) | G57: SAN COB/UAT | H57: Hong Kong | J57: 41756 | K57: Yes | L57: 41805
A58: FOX1517GC6B | B58: MDS4CSWA01 | C58: JAB1527N286 | D58: 9513 | E58: 5.2(8c) | F58: 5.2(8d) | G58: SAN COB/UAT | H58: Hong Kong | J58: 41735 | K58: Yes | L58: 41735
A59: FOX1521H7TB | B59: MDS4CSWB01 | C59: JAB1528N2BQ | D59: 9513 | E59: 5.2(8c) | F59: 5.2(8d) | G59: SAN COB/UAT | H59: Hong Kong | J59: 41749 | K59: Yes | L59: 41756
A60: FOX1546G7U7 | B60: MDS4CSWA02 | C60: JMX1615B0KN | D60: 9513 | E60: 5.2(8c) | F60: 5.2(8d) | G60: SAN COB/UAT | H60: Hong Kong | J60: 41742 | K60: Yes | L60: 41749
A61: FOX1553GKA3 | B61: MDS4CSWB02 | C61: JMX1623B17J | D61: 9513 | E61: 5.2(8c) | F61: 5.2(8d) | G61: SAN COB/UAT | H61: Hong Kong | J61: 41756 | K61: Yes | L61: 41756
A62: FOX1612GK5J | B62: MDS4ESWA03 | C62: JMX1637B2DA | D62: 9513 | E62: 5.2(8c) | F62: 5.2(8d) | G62: SAN COB/UAT | H62: Hong Kong | J62: 41742 | K62: Yes | L62: 41749
A63: FOX1606GYXT | B63: MDS4ESWB03 | C63: JMX1636B2BP | D63: 9513 | E63: 5.2(8c) | F63: 5.2(8d) | G63: SAN COB/UAT | H63: Hong Kong | J63: 41756 | K63: Yes | L63: 41756
A64: FOX1443GRL8 | B64: MDS233SW1 | C64: JAB1501N01L | D64: 9513 | E64: 5.2(8c) | F64: 5.2(8d) | G64: SAN COB/UAT | H64: Hong Kong | J64: 41777 | K64: Yes | L64: 41812
A65: FOX1443GRLF | B65: MDS234SW1 | C65: JAB1501N01M | D65: 9513 | E65: 5.2(1) | F65: 5.2(8d) | G65: SAN COB/UAT | H65: Hong Kong | J65: 41784 | N65: Yes | O65: 41826
A66: FOX1517GC5X | B66: MDS4FSWA01 | C66: JAB1527N283 | D66: 9513 | E66: 5.2(8c) | F66: 5.2(8d) | G66: SAN COB/UAT | H66: Hong Kong | J66: 41777 | K66: Yes | L66: 41805
A67: FOX1517GC6A | B67: MDS4FSWB01 | C67: JAB1527N287 | D67: 9513 | E67: 5.2(8c) | F67: 5.2(8d) | G67: SAN COB/UAT | H67: Hong Kong | J67: 41777 | K67: Yes | L67: 41812
A68: FOX1428H1L0 | B68: MDS221SW1 | C68: JAB1435N3K7 | D68: 9513 | E68: 5.2(8c) | F68: 5.2(8d) | G68: SAN COB/UAT | H68: Hong Kong | J68: 41784 | K68: Yes | L68: 41812
A69: FOX1428H1N7 | B69: MDS221SW2 | C69: JAB1435N3KM | D69: 9513 | E69: 5.2(1) | F69: 5.2(8d) | G69: SAN COB/UAT | H69: Hong Kong | J69: 41784 | N69: Yes | O69: 41826
A70: FOX1211GKUF | B70: MDS231SW1 | C70: JAB1212N2FH | D70: 9513 | E70: 5.2(8c) | F70: 5.2(8d) | G70: SAN COB/UAT | H70: Hong Kong | J70: 41784 | K70: Yes | L70: 41812
A71: FOX1251GU34 | B71: MDS232SW1 | C71: JAB1306N0KF | D71: 9513 | E71: 5.2(1) | F71: 5.2(8d) | G71: SAN COB/UAT | H71: Hong Kong | J71: 41784 | N71: Yes | O71: 41826
A72: FOX1208G1R9 | B72: MDS251SW1 | C72: JAB1209N1KM | D72: 9513 | E72: 5.2(8c) | F72: 5.2(8d) | G72: SAN COB/UAT | H72: Hong Kong | J72: 41693 | K72: Yes | L72: 41693
A73: FOX1208G1ST | B73: MDS252SW1 | C73: JAB1209N1KQ | D73: 9513 | E73: 5.2(8c) | F73: 5.2(8d) | G73: SAN COB/UAT | H73: Hong Kong | J73: 41700 | K73: Yes | L73: 41700
A74: FOX1516G4K1 | B74: MDS254ESW1 | C74: JAB1523N1Q0 | D74: 9513 | E74: 5.2(8c) | F74: 5.2(8d) | G74: SAN COB/UAT | H74: Hong Kong | J74: 41693 | K74: Yes | L74: 41693
A75: FOX1516GHAT | B75: MDS253ESW1 | C75: JAB1523N1QA | D75: 9513 | E75: 5.2(8c) | F75: 5.2(8d) | G75: SAN COB/UAT | H75: Hong Kong | J75: 41700 | K75: Yes | L75: 41700
A76: FOX1147GMA5 | B76: MDS271SW1 | C76: JAB1152NMXY | D76: 9513 | E76: 5.2(8c) | F76: 5.2(8d) | G76: SAN COB/UAT | H76: Hong Kong | J76: 41693 | K76: Yes | L76: 41693
A77: FOX1149H2LK | B77: MDS272SW1 | C77: JAB1152NMXD | D77: 9513 | E77: 5.2(8c) | F77: 5.2(8d) | G77: SAN COB/UAT | H77: Hong Kong | J77: 41700 | K77: Yes | L77: 41700
A78: FOX1518G4NR | B78: MDS273CSW1 | C78: JAB1525N1YF | D78: 9513 | E78: 5.2(8c) | F78: 5.2(8d) | G78: SAN COB/UAT | H78: Hong Kong | J78: 41693 | K78: Yes | L78: 41693
A79: FOX1516GHCA | B79: MDS274CSW1 | C79: JAB1523N1PZ | D79: 9513 | E79: 5.2(8c) | F79: 5.2(8d) | G79: SAN COB/UAT | H79: Hong Kong | J79: 41700 | K79: Yes | L79: 41700
A80: FOX1147GMAA | B80: CT2-MDS05-SW1 | C80: JAB1152NMXE | D80: 9513 | E80: 5.2(1) | F80: 5.2(8d) | G80: SAN COB/UAT | H80: Singapore | J80: 41693 | K80: Yes | L80: 41693 | N80: Yes | O80: 41847
A81: FOX1210G5RT | B81: MDS09SW2 | C81: JAB1210N1YB | D81: 9513 | E81: 5.2(1) | F81: 5.2(8d) | G81: SAN COB/UAT | H81: Singapore | J81: 41819
A82: FOX1309HB4D | B82: MDS11SW2 | C82: JAB1312N0ZY | D82: 9513 | E82: 5.2(1) | F82: 5.2(8d) | G82: SAN COB/UAT | H82: Singapore | J82: 41819
A83: FOX1205GAJE | B83: MDS02SW2 | C83: JAB1207N1FS | D83: 9513 | E83: 5.2(1) | F83: 5.2(8d) | G83: SAN COB/UAT | H83: Singapore | J83: 41819 | N83: Yes | O83: 41847
A84: FOX1203HDN4 | B84: MDS04SW2 | C84: JAB1207N1GK | D84: 9513 | E84: 5.2(1) | F84: 5.2(8d) | G84: SAN COB/UAT | H84: Singapore | J84: 41819
A85: FOX1205GAJD | B85: CT2-MDS01-SW1 | C85: JAB1207N1FT | D85: 9513 | E85: 5.2(1) | F85: 5.2(8d) | G85: SAN COB/UAT | H85: Singapore | J85: 41819 | N85: Yes | O85: 41847
A86: FOX1203H6FQ | B86: MDS03SW1 | C86: JAB1207N1G8 | D86: 9513 | E86: 5.2(1) | F86: 5.2(8d) | G86: SAN COB/UAT | H86: Singapore | J86: 41826 | N86: Yes | O86: 41847
A87: FOX1425GT3L | B87: MDS031SW1 | C87: JAB1434N3F9 | D87: 9513 | E87: 5.2(1) | F87: 5.2(8d) | G87: SAN COB/UAT | H87: China | J87: 41805
A88: FOX1425GT3T | B88: MDS031SW2 | C88: JAB1434N3F8 | D88: 9513 | E88: 5.2(1) | F88: 5.2(8d) | G88: SAN COB/UAT | H88: China | J88: 41812
A89: FOX1205GAJM | B89: CT2-MDS15-SW2 | C89: JAB1207N1FQ | D89: 9513 | E89: 5.2(1) | F89: 5.2(8d) | G89: SAN PROD | H89: Singapore | J89: 41826
A90: FOX1203HDLY | B90: CT2-MDS13-SW2 | C90: JAB1207N1GJ | D90: 9513 | E90: 5.2(1) | F90: 5.2(8d) | G90: SAN PROD | H90: Singapore | J90: 41826
A91: FOX1535GKG9 | B91: MDSSCBSWA01 | C91: JMX1612B0FR | D91: 9222i | E91: 5.2(8c) | F91: 5.2(8d) | G91: SAN PROD | H91: Taiwan | J91: 41707 | K91: Yes | L91: 41707
A92: FOX1535GUDU | B92: MDSSCBSWB01 | C92: JMX1612B0FU | D92: 9222i | E92: 5.2(8c) | F92: 5.2(8d) | G92: SAN PROD | H92: Taiwan | J92: 41707 | K92: Yes | L92: 41707
A93: FOX1414GS7A | B93: MDSCPBSWA01 | C93: JAB1419N20S | D93: 9222i | E93: 5.2(8c) | F93: 5.2(8d) | G93: SAN PROD | H93: Taiwan | J93: 41707 | K93: Yes | L93: 41707
A94: FOX1535GKHF | B94: MDSCPBSWB01 | C94: JMX1612B0FQ | D94: 9222i | E94: 5.2(8c) | F94: 5.2(8d) | G94: SAN PROD | H94: Taiwan | J94: 41707 | K94: Yes | L94: 41707
A95: FOX1535GUDX | B95: MDSKHBSWA01 | C95: JMX1612B0FS | D95: 9222i | E95: 5.2(8c) | F95: 5.2(8d) | G95: SAN COB/UAT | H95: Taiwan | J95: 41693 | K95: Yes | L95: 41693
A96: FOX1535GUE0 | B96: MDSKHBSWB01 | C96: JMX1612B0FV | D96: 9222i | E96: 5.2(8c) | F96: 5.2(8d) | G96: SAN COB/UAT | H96: Taiwan | J96: 41693 | K96: Yes | L96: 41693
A97: FOX1448GFSJ | B97: MDS23CSW1 | C97: JAB1510N0ME | D97: 9513 | E97: 5.2(1) | F97: 5.2(8d) | G97: SAN PROD | H97: Singapore | J97: 41826
A98: FOX1516GHCF | B98: MDS27ESW1 | C98: JAB1523N1P4 | D98: 9513 | E98: 5.2(1) | F98: 5.2(8d) | G98: SAN PROD | H98: Singapore | J98: 41826
A99: FOX1517GC5J | B99: MDS31ESW1 | C99: JAB1523N1PY | D99: 9513 | E99: 5.2(1) | F99: 5.2(8d) | G99: SAN PROD | H99: Singapore | J99: 41840
A100: FOX1443GRLZ | B100: MDS19SW2 | C100: JAB1501N012 | D100: 9513 | E100: 5.2(1) | F100: 5.2(8d) | G100: SAN PROD | H100: Singapore | J100: 41840
A101: FOX1149H2N5 | B101: MDS07SW2 | C101: JAB1152NMXW | D101: 9513 | E101: 5.2(1) | F101: 5.2(8d) | G101: SAN PROD | H101: Singapore | J101: 41840
A102: FOX1209GE3Z | B102: MDS11SW1 | C102: JAB1211N21Y | D102: 9513 | E102: 5.2(1) | F102: 5.2(8d) | G102: SAN PROD | H102: Singapore | J102: 41840
A103: FOX1210G5RN | B103: MDS15SW1 | C103: JAB1210N1YA | D103: 9513 | E103: 5.2(1) | F103: 5.2(8d) | G103: SAN PROD | H103: Singapore | J103: 41840
A104: FOX1202H3NE | B104: MDS03SW2 | C104: JAB1207N1G9 | D104: 9513 | E104: 5.2(1) | F104: 5.2(8d) | G104: SAN PROD | H104: Singapore | J104: 41847
A105: FOX1519GN5F | B105: MDS35ESW1 | C105: JAB1535N300 | D105: 9513 | E105: 5.2(1) | F105: 5.2(8d) | G105: SAN PROD | H105: Singapore | J105: 41847
A106: FOX1527GD62 | B106: MDS39ESW1 | C106: JAB1536N32Y | D106: 9513 | E106: 5.2(1) | F106: 5.2(8d) | G106: SAN PROD | H106: Singapore | J106: 41847
...

Sheet HDS MC upgrade
A1: Serial No: | B1: Name | C1: Model | D1: Current Code Level | E1: Current CATE Certified Code | F1: Env | G1: Country | H1: Target Date
A2: 53643 | C2: VSP | D2: 70-06-13-00/00 | E2: 70-06-13-00/20 | F2: PROD | G2: SG | H2: n/a
A3: 53630 | C3: VSP | D3: 70-06-13-00/00 | E3: 70-06-13-00/20 | F3: PROD | G3: SG | H3: n/a
A4: 53584 | C4: VSP | D4: 70-06-13-00/00 | E4: 70-06-13-00/20 | F4: PROD | G4: SG | H4: n/a
A5: 53762 | C5: VSP | D5: 70-06-13-00/00 | E5: 70-06-13-00/20 | F5: PROD | G5: SG | H5: n/a
A6: 53744 | C6: VSP | D6: 70-06-13-00/20 | E6: 70-06-13-00/20 | F6: UAT | G6: SG | H6: n/a
A7: 53789 | C7: VSP | D7: 70-06-13-00/00 | E7: 70-06-13-00/20 | F7: COB | G7: HK | H7: n/a
A8: 53796 | C8: VSP | D8: 70-06-13-00/00 | E8: 70-06-13-00/20 | F8: COB | G8: HK | H8: n/a
A9: 53799 | C9: VSP | D9: 70-06-13-00/20 | E9: 70-06-13-00/20 | F9: UAT | G9: HK | H9: n/a
A10: 53587 | C10: VSP | D10: 70-06-13-00/00 | E10: 70-06-13-00/20 | F10: COB | G10: HK | H10: n/a
A11: 53732 | C11: VSP | D11: 70-06-13-00/00 | E11: 70-06-13-00/20 | F11: COB | G11: HK | H11: n/a
A12: 53755 | C12: VSP | D12: 70-06-13-00/20 | E12: 70-06-13-00/20 | F12: UAT | G12: HK | H12: n/a
A13: 17395 | C13: USPV | D13: 60-08-13-00/00 | F13: PROD | G13: SG | H13: n/a
A14: 45141 | C14: USPV | D14: 60-08-13-00/00 | F14: COB | G14: HK | H14: n/a
A15: 37213 | C15: USPVM | D15: 60-08-48-00/00 | F15: PROD | G15: IN | H15: n/a

Sheet DGC (CX_VNX) Flare code upgrade
A1: Sr.Number | B1: Country | C1: Model | D1: Flare.Rev | E1: Current CATE certified - 9/2/2014 | F1: Target Date | G1: SPA IP | H1: SPB IP | I1: Remarks
A2: CK200044100337 | B2: HONG KONG | C2: CX700 | D2: 2.26.700.5.011 | E2: 2.26.700.5.031 | F2: 41910 | G2: 169.181.41.151 | H2: 169.181.41.152 | I2: eqt (1 server logged in)
A3: CK200060800185 | B3: INDIA | C3: CX700 | D3: 2.26.700.5.031 | E3: 2.26.700.5.031 | G3: 169.187.161.224 | H3: 169.187.161.222
A4: CK200063500092 | B4: SINGAPORE | C4: CX700 | D4: 02.19.700.5.034 | E4: 2.26.700.5.031 | F4: 41910 | G4: 163.37.197.35 | H4: 163.37.197.36 | I4: pending mig
A5: CK200071500503 | B5: SINGAPORE | C5: CX3-80 | D5: 3.26.80.5.031 | E5: 3.26.80.5.031 | G5: 163.37.197.39 | H5: 163.37.197.40
A6: CK200071600600 | B6: KOREA | C6: CX3-20 | D6: 03.24.020.5.022 | E6: 3.26.020.5.031 | F6: 41910 | G6: 10.183.103.40 | H6: 10.183.103.40
A7: CK200072400943 | B7: SINGAPORE | C7: CX3-80 | D7: 3.26.80.5.031 | E7: 3.26.80.5.031 | G7: 163.37.197.169 | H7: 163.37.197.170
A8: CK200073700403 | B8: INDIA | C8: CX300 | D8: 2.26.300.5.031 | E8: 2.26.300.5.031 | G8: 10.155.64.153 | H8: 10.155.64.154
A9: CK200081900323 | B9: SINGAPORE | C9: CX3-80 | D9: 3.26.80.5.031 | E9: 3.26.80.5.031 | G9: 163.37.197.193 | H9: 163.37.197.194
A10: CK200081900324 | B10: SINGAPORE | C10: CX3-80 | D10: 3.26.80.5.031 | E10: 3.26.80.5.031 | G10: 163.37.197.13 | H10: 163.37.197.20
A11: CK200083601025 | B11: TAIWAN | C11: CX3-20c | D11: 3.26.020.5.031 | E11: 3.26.020.5.031 | G11: 10.114.46.86 | H11: 10.114.46.87
A12: CKM00093200604 | B12: INDIA | C12: CX4-120 | D12: 04.30.000.5.526 | E12: 04.30.000.5.526 | G12: 10.170.251.166 | H12: 10.170.251.167
A13: CKM00093400132 | B13: TAIWAN | C13: CX4-120 | D13: 04.30.000.5.526 | E13: 04.30.000.5.526 | G13: 169.179.23.33 | H13: 169.179.23.34
A14: CKM00093500447 | B14: SINGAPORE | C14: CX4-120 | D14: n/a | E14: n/a | G14: 163.36.178.211 | H14: 163.36.178.212 | I14: Exch (no active servers)
A15: CKM00093900037 | B15: CHINA | C15: CX4-120 | D15: 04.30.000.5.526 | E15: 04.30.000.5.526 | G15: 10.70.232.58 | H15: 10.70.232.59
A16: CKM00101800043 | B16: SINGAPORE | C16: CX4-480 | D16: 04.30.000.5.526 | E16: 04.30.000.5.526 | G16: 10.70.224.5 | H16: 10.70.224.6
A17: CKM00102100004 | B17: HONG KONG | C17: CX4-480 | D17: 04.28.000.5.707 | E17: 04.30.000.5.526 | F17: 41910 | G17: 129.14.6.44 | H17: 129.14.6.45 | I17: pending upgrade
A18: CKM00104200269 | B18: Malaysia | C18: CX4-120 | D18: 04.30.000.5.526 | E18: 04.30.000.5.526 | G18: 169.165.172.88 | H18: 169.165.172.85
A19: CKM00105200038 | B19: INDONESIA | C19: CX4-120C | D19: 04.30.000.5.526 | E19: 04.30.000.5.526 | G19: 163.36.82.41 | H19: 163.36.82.42
A20: CKM00110400276 | B20: SINGAPORE | C20: CX4-120 | D20: 04.30.000.5.526 | E20: 04.30.000.5.526 | G20: 10.70.96.22 | H20: 10.70.96.23
A21: CKM00114400773 | B21: THAILAND | C21: VNX5300 | D21: 05.32.000.5.207 | E21: 05.32.000.5.207 | G21: 163.36.212.89 | H21: 163.36.212.90
A22: CKM00114400775 | B22: THAILAND | C22: VNX5300 | D22: 05.32.000.5.207 | E22: 05.32.000.5.207 | G22: 10.70.184.141 | H22: 10.70.184.142
A23: CKM00121900293 | B23: SINGAPORE | C23: VNX5700 | D23: 05.32.000.5.207 | E23: 05.32.000.5.207 | G23: 10.70.224.125 | H23: 10.70.224.126
A24: CKM00125002588 | B24: KOREA | C24: VNX5100 | D24: 05.31.00.5.709 | E24: 05.32.000.5.207 | F24: 41917 | G24: 169.179.143.51 | H24: 169.179.143.51
A25: CKM00131900759 | B25: INDIA | C25: VNX5100 | D25: 05.32.000.5.207 | E25: 05.32.000.5.207 | G25: 169.187.199.67 | H25: 169.187.199.68
A26: CKM00131900766 | B26: INDIA | C26: VNX5100 | D26: 05.32.000.5.207 | E26: 05.32.000.5.207 | G26: 10.155.64.11 | H26: 10.155.64.12
A27: CKM00133401669 | B27: SINGAPORE | C27: VNX7600 | D27: 05.33.000.5.038 | E27: 05.33.000.5.038 | G27: 10.217.102.69 | H27: 10.217.102.70
A28: CKM00133700069 | B28: HONG KONG | C28: VNX7600 | D28: 05.33.000.5.038 | E28: 05.33.000.5.038 | G28: 129.14.5.166 | H28: 129.14.5.167
A29: CKM00133700071 | B29: HONG KONG | C29: VNX7600 | D29: 05.33.000.5.038 | E29: 05.33.000.5.038 | G29: 10.107.243.213 | H29: 10.107.243.214
A30: CKM00133700074 | B30: HONG KONG | C30: VNX7600 | D30: 05.33.000.5.038 | E30: 05.33.000.5.038 | G30: 10.107.243.211 | H30: 10.107.243.212
A31: CKM00141101132 | B31: INDONESIA | C31: VNX5400 | D31: 05.33.000.5.038 | E31: 05.33.000.5.038 | G31: 169.179.215.13 | H31: 169.179.215.7
A32: CKM00141101133 | B32: INDONESIA | C32: VNX5400 | D32: 05.33.000.5.038 | E32: 05.33.000.5.038 | G32: 169.179.245.87 | H32: 169.179.245.88
A33: FCN00112200066 | B33: CHINA | C33: CX4-480 | D33: 04.30.000.5.526 | E33: 04.30.000.5.526 | G33: 10.183.29.195 | H33: 10.183.29.196
A34: FCN00113601004 | B34: SINGAPORE | C34: CX4-120 | D34: 04.30.000.5.526 | E34: 04.30.000.5.526 | G34: 10.70.96.54 | H34: 10.70.96.55
A35: FCN00114100106 | B35: HONG KONG | C35: CX4-120 | D35: 04.30.000.5.526 | E35: 04.30.000.5.526 | G35: 169.181.159.133 | H35: 169.181.159.134
A36: FCN00122200039 | B36: HONG KONG | C36: VNX7500 | D36: 05.32.000.5.207 | E36: 05.32.000.5.207 | G36: 10.70.126.5 | H36: 10.70.126.6
A37: FCN00122300102 | B37: SINGAPORE | C37: VNX7500 | D37: 05.32.000.5.015 | E37: 05.32.000.5.207 | F37: 41924 | G37: 10.70.224.129 | H37: 10.70.224.130 | I37: rmserver agent pend
A38: FCN00122300103 | B38: HONG KONG | C38: VNX7500 | D38: 05.32.000.5.207 | E38: 05.32.000.5.207 | G38: 10.70.126.7 | H38: 10.70.126.8
A39: FCN00122300105 | B39: SINGAPORE | C39: VNX7500 | D39: 05.32.000.5.015 | E39: 05.32.000.5.207 | F39: 41924 | G39: 10.70.224.131 | H39: 10.70.224.132 | I39: rmserver agent pend
A40: FCNCX093700035 | B40: HONG KONG | C40: CX4-120 | D40: n/a | E40: n/a | G40: 169.181.159.222 | H40: 169.181.159.223 | I40: Exch (no active servers)
A41: FCNCX100400203 | B41: AUSTRALIA | C41: CX4-120 | D41: 04.30.000.5.526 | E41: 04.30.000.5.526 | G41: 169.191.101.69 | H41: 169.191.101.85
A42: FCNCX101000064 | B42: HONG KONG | C42: CX4-120 | D42: 04.30.000.5.526 | E42: 04.30.000.5.526 | G42: 129.14.6.41 | H42: 129.14.6.42
A43: FCNCX103800158 | B43: HONG KONG | C43: CX4-480 | D43: 04.30.000.5.526 | E43: 04.30.000.5.526 | G43: 10.70.218.154 | H43: 10.70.218.155
A44: FCNMM093600036 | B44: SINGAPORE | C44: AX4-5 | D44: 2.23.50.5.711 | E44: 2.23.50.5.711 | G44: 163.36.178.219 | H44: 163.36.178.220
A45: FCNMM093800007 | B45: HONG KONG | C45: AX4-5 | D45: 2.23.50.5.711 | E45: 2.23.50.5.711 | G45: 169.181.159.224 | H45: 169.181.159.225
A46: FCNMM101400150 | B46: SINGAPORE | C46: AX4-5 | D46: 2.23.50.5.711 | E46: 2.23.50.5.711 | G46: 163.36.178.90 | H46: 163.36.178.91
A47: FCNMM101600022 | B47: HONG KONG | C47: AX4-5 | D47: 2.23.50.5.711 | E47: 2.23.50.5.711 | G47: 169.181.159.247 | H47: 169.181.159.248
A48: FCNMM105200232 | B48: HONG KONG | C48: AX4-5 | D48: 2.23.50.5.711 | E48: 2.23.50.5.711 | G48: 10.70.56.22 | H48: 10.70.56.23
A49: FCNMM105200234 | B49: HONG KONG | C49: AX4-5 | D49: 2.23.50.5.711 | E49: 2.23.50.5.711 | G49: 10.70.56.24 | H49: 10.70.56.25
A50: FCNMM110300133 | B50: AUSTRALIA | C50: AX4-5 | D50: 2.23.50.5.711 | E50: 2.23.50.5.711 | G50: 169.191.152.99 | H50: 169.191.153.25
A51: FCNMM110300136 | B51: AUSTRALIA | C51: AX4-5 | D51: 2.23.50.5.711 | E51: 2.23.50.5.711 | G51: 169.191.99.175 | H51: 169.191.100.25
A52: FCNMM114700132 | B52: INDIA | C52: AX4-5 | D52: 2.23.50.5.711 | E52: 2.23.50.5.711 | G52: 10.170.251.224 | H52: 10.170.251.225
... A54: FCNMM121200094 | B54: AUSTRALIA | C54: AX4-5 | D54: 2.23.50.5.711 | E54: 2.23.50.5.711 | G54: 169.191.101.48 | H54: 169.191.101.49
A55: GQMTF1S | B55: INDIA | C55: CX300 | D55: 2.24.300.5.016 | E55: 2.26.300.5.031 | G55: 169.187.161.220 | H55: 169.187.161.223 | I55: Migration complete/Pending rollout
A56: HQMTF1S | B56: INDIA | C56: CX300 | D56: 2.24.300.5.017 | E56: 2.26.300.5.031 | G56: 169.187.130.96 | H56: 169.187.130.97 | I56: Migration complete/Pending rollout
A57: SL7E1093500033 | B57: INDIA | C57: AX4-5 | D57: 2.23.50.5.711 | E57: 2.23.50.5.711 | G57: 10.170.251.168 | H57: 10.170.251.169
A58: SL7E1093500038 | B58: INDIA | C58: AX4-5 | D58: 2.23.50.5.711 | E58: 2.23.50.5.711 | G58: 10.170.251.170 | H58: 10.170.251.171
A59: SL7E1093500042 | B59: TAIWAN | C59: AX4-5 | D59: 2.23.50.5.711 | E59: 2.23.50.5.711 | G59: 169.179.23.35 | H59: 169.179.23.36
A60: SL7E1093500057 | B60: CHINA | C60: AX4-5 | D60: 2.23.50.5.711 | E60: 2.23.50.5.711 | G60: 10.70.232.56 | H60: 10.70.232.57
A61: SL7E1093600006 | B61: HONG KONG | C61: AX4-5 | D61: 2.23.50.5.711 | E61: 2.23.50.5.711 | G61: 169.181.159.228 | H61: 169.181.159.229
A62: SL7E1093600013 | B62: HONG KONG | C62: AX4-5 | D62: 2.23.50.5.711 | E62: 2.23.50.5.711 | G62: 169.181.159.230 | H62: 169.181.159.231
A63: SL7E1093600014 | B63: HONG KONG | C63: AX4-5 | D63: 2.23.50.5.711 | E63: 2.23.50.5.711 | G63: 169.181.159.226 | H63: 169.181.159.227
A64: SL7E1093800009 | B64: SINGAPORE | C64: AX4-5 | D64: 2.23.50.5.711 | E64: 2.23.50.5.711 | G64: 163.36.178.213 | H64: 163.36.178.214
A65: SL7E1093800018 | B65: SINGAPORE | C65: AX4-5 | D65: 2.23.50.5.711 | E65: 2.23.50.5.711 | G65: 163.36.178.217 | H65: 163.36.178.218
A66: SL7E1093800029 | B66: SINGAPORE | C66: AX4-5 | D66: 2.23.50.5.711 | E66: 2.23.50.5.711 | G66: 163.36.178.215 | H66: 163.36.178.216
A67: SL7EA100200038 | B67: AUSTRALIA | C67: AX4-5 | D67: 2.23.50.5.711 | E67: 2.23.50.5.711 | G67: 169.191.152.112 | H67: 169.191.152.113
A68: SL7F1110100001 | B68: SINGAPORE | C68: AX4-5 | D68: 2.23.50.5.711 | E68: 2.23.50.5.711 | G68: 10.70.96.24 | H68: 10.70.96.25
... A77: SL7FJ110800006 | B77: HONG KONG | C77: AX4-5 | D77: 2.23.50.5.711 | E77: 2.23.50.5.711 | G77: 169.181.159.118 | H77: 169.181.159.119
A78: SL7E1081900011 | B78: JAPAN | C78: AX4-5 | D78: 02.23.050.5.703 | G78: 169.180.206.99 | H78: 169.180.206.107
A79: SLE1082200114 | B79: JAPAN | C79: AX4-5 | D79: 02.23.050.5.703 | G79: 169.180.206.109 | H79: 169.180.206.112
A80: CK200085000975 | B80: JAPAN | C80: cx3-10 | D80: 03.26.xxx.5.010 | G80: 169.180.206.114 | H80: 169.180.206.67
A81: FCNMM105000280 | B81: JAPAN | C81: AX4-5 | D81: 03.26.xxx.5.010 | G81: 169.180.210.90 | H81: 169.180.210.91
A82: FCNCP102500033 | B82: JAPAN | C82: CX4 | D82: NA | G82: 169.180.195.51 | H82: 169.180.195.52

Sheet VMAX code upgrade reference
A1: VMAX SN# | B1: Current Microcode | C1: New Microcode | D1: Activity Date | E1: RFC | F1: Location
A2: 290105366 | B2: 5773.175.122 | C2: 5773.184.130 | D2: Sunday, March 02, 2014 | E2: RFC # 17931488 | F2: Singapore
A3: 292603979 | B3: 5875.269.201 | C3: 5876.229.145 | D3: Sunday, March 02, 2014 | E3: RFC # 17931488 | F3: Singapore
A4: 292602662 | B4: 5875.269.201 | C4: 5876.229.145 | D4: Sunday, March 02, 2014 | E4: RFC # 17931488 | F4: Singapore
A5: 292603943 | B5: 5875.269.201 | C5: 5876.229.145 | D5: Sunday, March 09, 2014 | E5: RFC # 17945517 / SN# CHG0000078869 | F5: Singapore
A6: 292600224 | B6: 5875.269.201 | C6: 5876.229.145 | D6: Sunday, March 09, 2014 | E6: RFC # 17945517 / SN# CHG0000078869 | F6: Singapore
A7: 292600268 | B7: 5875.300.232 | C7: 5876.229.145 | D7: Sunday, March 09, 2014 | E7: RFC # 17945517 / SN# CHG0000078869 | F7: Singapore
A8: 292603613 | B8: 5876.163.105 | C8: 5876.229.145 | D8: Sunday, April 27, 2014 | E8: SN# CHG0000163137 | F8: Singapore
A9: 495700035 | B9: 5876.163.105 | C9: 5876.229.145 | D9: Sunday, April 27, 2014 | E9: SN# CHG0000163137 | F9: Singapore
A10: 295700507 | B10: 5876.163.105 | C10: 5876.229.145 | D10: Sunday, April 27, 2014 | E10: SN# CHG0000163137 | F10: Singapore
A11: 292603607 | B11: 5876.163.105 | C11: 5876.229.145 | D11: Sunday, May 18, 2014 | E11: SN# CHG0000194430 | F11: Singapore
A12: 292603628 | B12: 5876.163.105 | C12: 5876.229.145 | D12: Sunday, May 18, 2014 | E12: SN# CHG0000194430 | F12: Singapore
... A15: 292600224 | B15: 5876.229.145 | C15: 5876.268.174 | D15: Sunday, August 17, 2014 | E15: SN# CHG0000330839 | F15: Singapore
A16: 492600146 | B16: 5876.229.145 | C16: 5876.268.174 | D16: Sunday, August 17, 2014 | E16: SN# CHG0000330839 | F16: Singapore
A17: 492600122 | B17: 5876.229.145 | C17: 5876.268.174 | D17: Sunday, August 24, 2014 | E17: SN# CHG0000341604 | F17: Singapore
A18: 292603979 | B18: 5876.229.145 | C18: 5876.268.174 | D18: Sunday, August 24, 2014 | E18: SN# CHG0000341604 | F18: Singapore
A19: 292603943 | B19: 5876.229.145 | C19: 5876.268.174 | D19: Sunday, August 24, 2014 | E19: SN# CHG0000341604 | F19: Singapore
A20: 292603607 | B20: 5876.229.145 | C20: 5876.268.174 | D20: Sunday, August 24, 2014 | E20: SN# CHG0000341604 | F20: Singapore
A21: 292603628 | B21: 5876.229.145 | C21: 5876.268.174 | D21: Sunday, September 28, 2014 | E21: SN# CHG0000396994 | F21: Singapore
A22: 295700499 | B22: 5876.229.145 | C22: 5876.268.174 | D22: Sunday, September 28, 2014 | E22: SN# CHG0000396994 | F22: Singapore
A23: 292603607 | B23: 5876_268_0005_174_5002 | C23: 5876_268_0083_174_5013 | D23: Sunday, October 05, 2014 | E23: SN # CHG0000408013 | F23: Singapore
A24: 292603613 | B24: 5876.229.145 | C24: 5876.268.174 | D24: Sunday, October 26, 2014 | E24: SN# CHG0000397139 | F24: Singapore
A25: 495700035 | B25: 5876.229.145 | C25: 5876.268.174 | D25: Sunday, November 09, 2014 | E25: SN# CHG0000463707 | F25: Singapore
A26: 492600392 | B26: 5876.163.105 | C26: 5876.229.145 | D26: Sunday, April 06, 2014 | E26: SN# CHG0000106948 | F26: Hong Kong
A27: 292603629 | B27: 5876.163.105 | C27: 5876.229.145 | D27: Sunday, April 06, 2014 | E27: SN# CHG0000106948 | F27: Hong Kong
A28: 292602398 | B28: 5876.163.105 | C28: 5876.229.145 | D28: Sunday, April 06, 2014 | E28: SN# CHG0000106948 | F28: Hong Kong
... A54: 492600021 | B54: 5875.269.201 | C54: 5876.229.145 | D54: Sunday, March 02, 2014 | E54: RFC # 17931488 | F54: China

Sheet Hardware - Management SW
A1: Hardware Family | B1: Model | C1: Management S/W
A2: Clarrion Family | B2: CX/AX/VNX | C2: unisphere
A3: Symmtrix Family | B3: VMAX/DMAX | C3: Solution Enabler
A4: HDS family | B4: VSP/USP-V | C4: Hitachi Storage Navigator
A5: Cisco MDS switches | B5: MDS 9513/MDS 9124/ MDS 9222i/MDS 9509 | C5: MDS CLI ( ssh)
A6: IBM XIV | B6: XIV Gen3 | C6: XIV GUI
A7: EMC XtremeIO | B7: XIO | C7: XMS

Sheet Sheet3
A1: FCNMM110300136 | B1: =VLOOKUP(A1,Inventory!A:A,1,0) -> FCNMM110300136 | C1: remarks
A2: FCNMM121200094 | B2: =VLOOKUP(A2,Inventory!A:A,1,0) -> FCNMM121200094
A3: FCNCX100400203 | B3: =VLOOKUP(A3,Inventory!A:A,1,0) -> FCNCX100400203
A4: SL7EA100200038 | B4: =VLOOKUP(A4,Inventory!A:A,1,0) -> SL7EA100200038
A5: FCNMM110300133 | B5: =VLOOKUP(A5,Inventory!A:A,1,0) -> FCNMM110300133
A6: CKM00093900037 | B6: =VLOOKUP(A6,Inventory!A:A,1,0) -> CKM00093900037
A7: SL7E1093500057 | B7: =VLOOKUP(A7,Inventory!A:A,1,0) -> SL7E1093500057
A8: FCN00112200066 | B8: =VLOOKUP(A8,Inventory!A:A,1,0) -> FCN00112200066
A9: CK200081900324 | B9: =VLOOKUP(A9,Inventory!A:A,1,0) -> CK200081900324
A10: CK200072400943 | B10: =VLOOKUP(A10,Inventory!A:A,1,0) -> CK200072400943
A11: CK200081900323 | B11: =VLOOKUP(A11,Inventory!A:A,1,0) -> CK200081900323
A12: CK200071500503 | B12: =VLOOKUP(A12,Inventory!A:A,1,0) -> CK200071500503
A13: CKM00101800043 | B13: =VLOOKUP(A13,Inventory!A:A,1,0) -> CKM00101800043
... A47: CKM00105200038 | B47: =VLOOKUP(A47,Inventory!A:A,1,0) -> CKM00105200038
A48: CKM00141101132 | B48: =VLOOKUP(A48,Inventory!A:A,1,0) -> #N/A | C48: Missing
A49: CKM00141101133 | B49: =VLOOKUP(A49,Inventory!A:A,1,0) -> #N/A | C49: Missing
A50: CKM00093200604 | B50: =VLOOKUP(A50,Inventory!A:A,1,0) -> CKM00093200604
A51: SL7E1093500038 | B51: =VLOOKUP(A51,Inventory!A:A,1,0) -> SL7E1093500038
A52: SL7E1093500033 | B52: =VLOOKUP(A52,Inventory!A:A,1,0) -> SL7E1093500033
A53: GQMTF1S | B53: =VLOOKUP(A53,Inventory!A:A,1,0) -> #N/A
A54: CK200060800185 | B54: =VLOOKUP(A54,Inventory!A:A,1,0) -> #N/A
A55: HQMTF1S | B55: =VLOOKUP(A55,Inventory!A:A,1,0) -> #N/A
A56: CK200073700403 | B56: =VLOOKUP(A56,Inventory!A:A,1,0) -> #N/A
A57: FCNMM114700132 | B57: =VLOOKUP(A57,Inventory!A:A,1,0) -> FCNMM114700132
A58: CKM00131900759 | B58: =VLOOKUP(A58,Inventory!A:A,1,0) -> CKM00131900759
A59: CKM00131900766 | B59: =VLOOKUP(A59,Inventory!A:A,1,0) -> CKM00131900766
A60: CKM00104200269 | B60: =VLOOKUP(A60,Inventory!A:A,1,0) -> CKM00104200269
A61: CK200071600600 | B61: =VLOOKUP(A61,Inventory!A:A,1,0) -> #N/A
A62: CKM00125002588 | B62: =VLOOKUP(A62,Inventory!A:A,1,0) -> #N/A | C62: Missing
A63: SL7FJ110200001 | B63: =VLOOKUP(A63,Inventory!A:A,1,0) -> #N/A
A64: SL7FJ110200003 | B64: =VLOOKUP(A64,Inventory!A:A,1,0) -> SL7FJ110200003
A65: SL7FJ110200009 | B65: =VLOOKUP(A65,Inventory!A:A,1,0) -> SL7FJ110200009
A66: SL7FJ110200010 | B66: =VLOOKUP(A66,Inventory!A:A,1,0) -> SL7FJ110200010
A67: FCN00113601004 | B67: =VLOOKUP(A67,Inventory!A:A,1,0) -> FCN00113601004
A68: SL7FJ110200004 | B68: =VLOOKUP(A68,Inventory!A:A,1,0) -> #N/A | C68: Missing
A69: CKM00133401669 | B69: =VLOOKUP(A69,Inventory!A:A,1,0) -> CKM00133401669
A70: FCNMM115000071 | B70: =VLOOKUP(A70,Inventory!A:A,1,0) -> FCNMM115000071
A71: CKM00093400132 | B71: =VLOOKUP(A71,Inventory!A:A,1,0) -> CKM00093400132
A72: SL7E1093500042 | B72: =VLOOKUP(A72,Inventory!A:A,1,0) -> SL7E1093500042
A73: CKM00114400773 | B73: =VLOOKUP(A73,Inventory!A:A,1,0) -> CKM00114400773
A74: CKM00114400775 | B74: =VLOOKUP(A74,Inventory!A:A,1,0) -> CKM00114400775
A75: CK200083601025 | B75: =VLOOKUP(A75,Inventory!A:A,1,0) -> CK200083601025

Sheet Sheet4
A1: me
A2: 290105366 | B2: =VLOOKUP(A2,Inventory!#REF!,1,0) -> #REF!
A3: 290301222 | B3: =VLOOKUP(A3,Inventory!#REF!,1,0) -> #REF!
A4: 292600224 | B4: =VLOOKUP(A4,Inventory!#REF!,1,0) -> #REF!
A5: 292602662 | B5: =VLOOKUP(A5,Inventory!#REF!,1,0) -> #REF!
A6: 292603607 | B6: =VLOOKUP(A6,Inventory!#REF!,1,0) -> #REF!
A7: 292603613 | B7: =VLOOKUP(A7,Inventory!#REF!,1,0) -> #REF!
A8: 292603628 | B8: =VLOOKUP(A8,Inventory!#REF!,1,0) -> #REF!
A9: 292603943 | B9: =VLOOKUP(A9,Inventory!#REF!,1,0) -> #REF!
A10: 292603979 | B10: =VLOOKUP(A10,Inventory!#REF!,1,0) -> #REF!
A11: 295700499 | B11: =VLOOKUP(A11,Inventory!#REF!,1,0) -> #REF!
A12: 295700507 | B12: =VLOOKUP(A12,Inventory!#REF!,1,0) -> #REF!
A13: 295700608 | B13: =VLOOKUP(A13,Inventory!#REF!,1,0) -> #REF!
... A42: 498700237 | B42: =VLOOKUP(A42,Inventory!#REF!,1,0) -> #REF!

Sheet Sheet5
A1: Serial #
A2: 290105366 | B2: =VLOOKUP(A2,Sheet4!A:A,1,0) -> 290105366
A3: 290301222 | B3: =VLOOKUP(A3,Sheet4!A:A,1,0) -> 290301222
A4: 292600224 | B4: =VLOOKUP(A4,Sheet4!A:A,1,0) -> 292600224
A5: 292602662 | B5: =VLOOKUP(A5,Sheet4!A:A,1,0) -> 292602662
A6: 292603607 | B6: =VLOOKUP(A6,Sheet4!A:A,1,0) -> 292603607
A7: 292603613 | B7: =VLOOKUP(A7,Sheet4!A:A,1,0) -> 292603613
A8: 292603628 | B8: =VLOOKUP(A8,Sheet4!A:A,1,0) -> 292603628
A9: 292603943 | B9: =VLOOKUP(A9,Sheet4!A:A,1,0) -> 292603943
A10: 292603979 | B10: =VLOOKUP(A10,Sheet4!A:A,1,0) -> 292603979
A11: 295700507 | B11: =VLOOKUP(A11,Sheet4!A:A,1,0) -> 295700507
A12: 295700613 | B12: =VLOOKUP(A12,Sheet4!A:A,1,0) -> 295700613
A13: 492600122 | B13: =VLOOKUP(A13,Sheet4!A:A,1,0) -> 492600122
... A61: CKM00133401669 | B61: =VLOOKUP(A61,Sheet4!A:A,1,0) -> #N/A
A62: 7860214 | B62: =VLOOKUP(A62,Sheet4!A:A,1,0) -> #N/A
A63: CK200081900324 | B63: =VLOOKUP(A63,Sheet4!A:A,1,0) -> #N/A
A64: CK200072400943 | B64: =VLOOKUP(A64,Sheet4!A:A,1,0) -> #N/A
A65: CK200081900323 | B65: =VLOOKUP(A65,Sheet4!A:A,1,0) -> #N/A
A66: CK200063500092 | B66: =VLOOKUP(A66,Sheet4!A:A,1,0) -> #N/A
A67: CK200071500503 | B67: =VLOOKUP(A67,Sheet4!A:A,1,0) -> #N/A
A68: FCNCX101000064 | B68: =VLOOKUP(A68,Sheet4!A:A,1,0) -> #N/A
A69: CKM00101800043 | B69: =VLOOKUP(A69,Sheet4!A:A,1,0) -> #N/A
A70: CKM00102100004 | B70: =VLOOKUP(A70,Sheet4!A:A,1,0) -> #N/A
A71: FCNCX103800158 | B71: =VLOOKUP(A71,Sheet4!A:A,1,0) -> #N/A
A72: CKM00093500447 | B72: =VLOOKUP(A72,Sheet4!A:A,1,0) -> #N/A
A73: SL7E1093800009 | B73: =VLOOKUP(A73,Sheet4!A:A,1,0) -> #N/A
A74: SL7E1093800029 | B74: =VLOOKUP(A74,Sheet4!A:A,1,0) -> #N/A
... A120: FCN00113601004 | B120: =VLOOKUP(A120,Sheet4!A:A,1,0) -> #N/A
A121: 53643 | B121: =VLOOKUP(A121,Sheet4!A:A,1,0) -> #N/A
A122: 53630 | B122: =VLOOKUP(A122,Sheet4!A:A,1,0) -> #N/A
A123: 53584 | B123: =VLOOKUP(A123,Sheet4!A:A,1,0) -> #N/A
A124: 53762 | B124: =VLOOKUP(A124,Sheet4!A:A,1,0) -> #N/A
A125: 53744 | B125: =VLOOKUP(A125,Sheet4!A:A,1,0) -> #N/A
A126: 53789 | B126: =VLOOKUP(A126,Sheet4!A:A,1,0) -> #N/A
A127: 53796 | B127: =VLOOKUP(A127,Sheet4!A:A,1,0) -> #N/A
A128: 53799 | B128: =VLOOKUP(A128,Sheet4!A:A,1,0) -> #N/A
A129: 53587 | B129: =VLOOKUP(A129,Sheet4!A:A,1,0) -> #N/A
A130: 53732 | B130: =VLOOKUP(A130,Sheet4!A:A,1,0) -> #N/A
A131: 53755 | B131: =VLOOKUP(A131,Sheet4!A:A,1,0) -> #N/A
A132: FOX1448G68H | B132: =VLOOKUP(A132,Sheet4!A:A,1,0) -> #N/A
A133: FOX1549G4G2 | B133: =VLOOKUP(A133,Sheet4!A:A,1,0) -> #N/A
A134: FOX1645Q07H | B134: =VLOOKUP(A134,Sheet4!A:A,1,0) -> #N/A
A135: FOX1443GRM6 | B135: =VLOOKUP(A135,Sheet4!A:A,1,0) -> #N/A
A136: FOX1516GHC4 | B136: =VLOOKUP(A136,Sheet4!A:A,1,0) -> #N/A
A137: FOX1516GHC6 | B137: =VLOOKUP(A137,Sheet4!A:A,1,0) -> #N/A
A138: FOX1149H2MH | B138: =VLOOKUP(A138,Sheet4!A:A,1,0) -> #N/A
A139: FOX1210GS3N | B139: =VLOOKUP(A139,Sheet4!A:A,1,0) -> #N/A
A140: FOX1210G5RT | B140: =VLOOKUP(A140,Sheet4!A:A,1,0) -> #N/A
A141: FOX1147GMAA | B141: =VLOOKUP(A141,Sheet4!A:A,1,0) -> #N/A
A142: FOX1448GFSJ | B142: =VLOOKUP(A142,Sheet4!A:A,1,0) -> #N/A
A143: FOX1549G4GA | B143: =VLOOKUP(A143,Sheet4!A:A,1,0) -> #N/A
... A387: FOX1340GP3N | B387: =VLOOKUP(A387,Sheet4!A:A,1,0) -> #N/A

Sheet ESRS
A1: SerialNumber | B1: Product | C1: Site Id | D1: Organization | E1: IP
A2: 0F41330795 | B2: DATADOMAIN | C2: 13275795 | D2: Citigroup_Shanghai-Nanhui_OS | E2: 10.70.233.2
A3: 0F41334268 | B3: DATADOMAIN | C3: 9234138 | D3: Citigroup_HK-iAD_BRS | E3: 10.70.240.2
A4: 0F41349458 | B4: DATADOMAIN | C4: 2376041 | D4: Citigroup_SG-TP_BRS | E4: 163.37.235.124
A5: 0F48W04270 | B5: DATADOMAIN | C5: 9234138 | D5: Citigroup_HK-iAD_BRS | E5: 129.14.34.7
A6: 0F48W06598 | B6: DATADOMAIN | C6: 2376041 | D6: Citigroup_SG-TP_BRS | E6: 163.37.235.120
A7: 0F48W27071 | B7: DATADOMAIN | C7: 9234138 | D7: Citigroup_HK-iAD_BRS | E7: 10.70.58.21
A8: 1FZ0924016 | B8: DATADOMAIN | C8: 13275795 | D8: Citigroup_Shanghai-Nanhui_OS | E8: 169.179.44.24
A9: 1FZ0928003 | B9: DATADOMAIN | C9: 11903871 | D9: CITIBANK (CHINA) CO., LTD | E9: 169.181.217.24
A10: 1FZ1523025 | B10: DATADOMAIN | C10: 2375629 | D10: Citigroup_SG-CT2_BRS | E10: 10.70.96.30
A11: 1FZ1523026 | B11: DATADOMAIN | C11: 2376041 | D11: Citigroup_SG-TP_BRS | E11: 163.37.235.8
A12: 1FZ1526020 | B12: DATADOMAIN | C12: 21235243 | D12: Citigroup_HK-AST_BRS | E12: 169.179.102.71
A13: 1FZ1534025 | B13: DATADOMAIN | C13: 9234138 | D13: Citigroup_HK-iAD_BRS | E13: 169.181.236.71
... A135: CK200143200458 | B135: CENTERA | C135: 2375629 | D135: Citigroup_SG-CT2_BRS | E135: 10.70.101.190
A136: 290102896 | B136: SYMMETRIX | C136: 2376010 | D136: Citigroup_SG-CT2_MF | E136: 172.19.107.53
A137: 290105366 | B137: SYMMETRIX | C137: 2375910 | D137: Citigroup_SG-CT2_OS | E137: 172.19.107.44
A138: 290300751 | B138: SYMMETRIX | C138: 2375910 | D138: Citigroup_SG-CT2_OS | E138: 163.37.99.154
A139: 290301222 | B139: SYMMETRIX | C139: 2375910 | D139: Citigroup_SG-CT2_OS | E139: 172.19.107.45
A140: 292600224 | B140: SYMMETRIX | C140: 2375910 | D140: Citigroup_SG-CT2_OS | E140: 172.19.107.50
A141: 292600268 | B141: SYMMETRIX | C141: 2375910 | D141: Citigroup_SG-CT2_OS | E141: 163.37.99.51
A142: 292601920 | B142: SYMMETRIX | C142: 2376010 | D142: Citigroup_SG-CT2_MF | E142: 172.19.107.90
A143: 292602394 | B143: SYMMETRIX | C143: 2376010 | D143: Citigroup_SG-CT2_MF | E143: 172.19.107.104
A144: 292602397 | B144: SYMMETRIX | C144: 2375910 | D144: Citigroup_SG-CT2_OS | E144: 172.19.107.73
A145: 292602550 | B145: SYMMETRIX | C145: 2376010 | D145: Citigroup_SG-CT2_MF | E145: 172.19.107.98
A146: 292602662 | B146: SYMMETRIX | C146: 2375910 | D146: Citigroup_SG-CT2_OS | E146: 172.19.107.93
A147: 292602700 | B147: SYMMETRIX | C147: 2376010 | D147: Citigroup_SG-CT2_MF | E147: 172.19.107.97
... A164: 298700658 | B164: SYMMETRIX | C164: 9989271 | D164: Citigroup_Mumbai-NKP_OS | E164: 10.186.105.20
A165: CKM00093200604 | B165: CLARIION | C165: 9989271 | D165: Citigroup_Mumbai-NKP_OS | E165: 10.170.251.166
A166: CKM00093200604 | B166: CLARIION | C166: 9989271 | D166: Citigroup_Mumbai-NKP_OS | E166: 10.170.251.167
A167: CKM00093400132 | B167: CLARIION | C167: 2395445 | D167: Citigroup_TW-CPB_OS | E167: 169.179.23.33
A168: CKM00093400132 | B168: CLARIION | C168: 2395445 | D168: Citigroup_TW-CPB_OS | E168: 169.179.23.34
A169: CKM00093500447 | B169: CLARIION | C169: 2375910 | D169: Citigroup_SG-CT2_OS | E169: 163.36.178.211
A170: CKM00093500447 | B170: CLARIION | C170: 2375910 | D170: Citigroup_SG-CT2_OS | E170: 163.36.178.212
A171: CKM00093600622 | B171: CLARIION | C171: 12040044 | D171: Citigroup_Shanghai_NAS | E171: 169.181.200.28
A172: CKM00093600622 | B172: CLARIION | C172: 12040044 | D172: Citigroup_Shanghai_NAS | E172: 169.181.200.38
A173: CKM00093900037 | B173: CLARIION | C173: 13275795 | D173: Citigroup_Shanghai-Nanhui_OS | E173: 10.70.232.58
A174: CKM00093900037 | B174: CLARIION | C174: 13275795 | D174: Citigroup_Shanghai-Nanhui_OS | E174: 10.70.232.59
A175: CKM00101600412 | B175: CLARIION | C175: 83642 | D175: Citigroup_Incheon_OS | E175: 129.14.71.171
A176: CKM00101600412 | B176: CLARIION | C176: 83642 | D176: Citigroup_Incheon_OS | E176: 129.14.71.172
... A308: CKM00143802396 | B308: VNX | C308: 29342622 | D308: Citigroup_HK-AST_NAS | E308: 10.107.246.69
A309: 492600021 | B309: SYMMETRIX | C309: 13275795 | D309: Citigroup_Shanghai-Nanhui_OS | E309: 172.19.208.140
A310: 492600122 | B310: SYMMETRIX | C310: 2375910 | D310: Citigroup_SG-CT2_OS | E310: 172.19.107.120
A311: 492600146 | B311: SYMMETRIX | C311: 2375910 | D311: Citigroup_SG-CT2_OS | E311: 172.19.107.121
A312: 492600393 | B312: SYMMETRIX | C312: 2375910 | D312: Citigroup_SG-CT2_OS | E312: 172.19.107.77
A313: 492600546 | B313: SYMMETRIX | C313: 8592539 | D313: Citigroup_Shanghai-Nanhui_MF | E313: 10.70.232.68
A314: 495700035 | B314: SYMMETRIX | C314: 2375910 | D314: Citigroup_SG-CT2_OS | E314: 163.37.197.208
A315: 498700161 | B315: SYMMETRIX | C315: 13275795 | D315: Citigroup_Shanghai-Nanhui_OS | E315: 172.19.208.150
A316: 498700237 | B316: SYMMETRIX | C316: 13275795 | D316: Citigroup_Shanghai-Nanhui_OS | E316: 172.19.208.151
A317: FCN00112200066 | B317: CLARIION | C317: 11903871 | D317: CITIBANK (CHINA) CO., LTD | E317: 10.183.29.195
A318: FCN00112200066 | B318: CLARIION | C318: 11903871 | D318: CITIBANK (CHINA) CO., LTD | E318: 10.183.29.196
A319: FCN00113601004 | B319: CLARIION | C319: 2375910 | D319: Citigroup_SG-CT2_OS | E319: 10.70.96.54
A320: FCN00113601004 | B320: CLARIION | C320: 2375910 | D320: Citigroup_SG-CT2_OS | E320: 10.70.96.55
A321: FCN00122200039 | B321: VNX | C321: 14307026 | D321: Citigroup_HK-AT_OS | E321: 10.70.126.5
A322: FCN00122200039 | B322: VNX | C322: 14307026 | D322: Citigroup_HK-AT_OS | E322: 10.70.126.6
A323: FCN00122300102 | B323: VNX | C323: 2375910 | D323: Citigroup_SG-CT2_OS | E323: 10.70.224.129
A324: FCN00122300102 | B324: VNX | C324: 2375910 | D324: Citigroup_SG-CT2_OS | E324: 10.70.224.130
A325: FCN00122300103 | B325: VNX | C325: 14307026 | D325: Citigroup_HK-AT_OS | E325: 10.70.126.7
A326: FCN00122300103 | B326: VNX | C326: 14307026 | D326: Citigroup_HK-AT_OS | E326: 10.70.126.8
A327: FCN00122300105 | B327: VNX | C327: 2375910 | D327: Citigroup_SG-CT2_OS | E327: 10.70.224.131
A328: FCN00122300105 | B328: VNX | C328: 2375910 | D328: Citigroup_SG-CT2_OS | E328: 10.70.224.132
... A517: CK200132400201 | B517: CENTERA | C517: 21235243 | D517: Citigroup_HK-AST_BRS | E517: 163.36.30.22
A518: 290103014 | B518: SYMMETRIX | C518: 14307026 | D518: Citigroup_HK-AT_OS | E518: 10.186.172.150
A519: 290301196 | B519: SYMMETRIX | C519: 2375816 | D519: Citigroup_HK-iAD_OS | E519: 172.19.232.38
A520: 292600269 | B520: SYMMETRIX | C520: 2375816 | D520: Citigroup_HK-iAD_OS | E520: 172.19.232.40
A521: 292601913 | B521: SYMMETRIX | C521: 2375816 | D521: Citigroup_HK-iAD_OS | E521: 172.19.234.11
A522: 292602398 | B522: SYMMETRIX | C522: 14307026 | D522: Citigroup_HK-AT_OS | E522: 10.186.71.17
A523: 292603574 | B523: SYMMETRIX | C523: 2375816 | D523: Citigroup_HK-iAD_OS | E523: 172.19.78.78
A524: 292603578 | B524: SYMMETRIX | C524: 25894782 | D524: Citigroup_HK-AT_MF | E524: 10.107.242.12
A525: 292603585 | B525: SYMMETRIX | C525: 25894782 | D525: Citigroup_HK-AT_MF | E525: 10.107.242.13
A526: 292603609 | B526: SYMMETRIX | C526: 14307026 | D526: Citigroup_HK-AT_OS | E526: 10.186.172.148
A527: 292603625 | B527: SYMMETRIX | C527: 25894782 | D527: Citigroup_HK-AT_MF | E527: 10.107.242.14
A528: 292603629 | B528: SYMMETRIX | C528: 14307026 | D528: Citigroup_HK-AT_OS | E528: 10.186.71.19
A529: 292603631 | B529: SYMMETRIX | C529: 14307026 | D529: Citigroup_HK-AT_OS | E529: 10.186.71.18
... A546: 498700157 | B546: SYMMETRIX | C546: 14307026 | D546: Citigroup_HK-AT_OS | E546: 10.186.71.22
A547: FCN00114100106 | B547: CLARIION | C547: 2375816 | D547: Citigroup_HK-iAD_OS | E547: 169.181.159.133
A548: FCN00114100106 | B548: CLARIION | C548: 2375816 | D548: Citigroup_HK-iAD_OS | E548: 169.181.159.134
A549: FCNCX093700035 | B549: CLARIION | C549: 2375816 | D549: Citigroup_HK-iAD_OS | E549: 169.181.159.222
A550: FCNCX093700035 | B550: CLARIION | C550: 2375816 | D550: Citigroup_HK-iAD_OS | E550: 169.181.159.223
A551: FCNCX101000064 | B551: CLARIION | C551: 2375816 | D551: Citigroup_HK-iAD_OS | E551: 129.14.6.42
A552: FCNCX101000064 | B552: CLARIION | C552: 2375816 | D552: Citigroup_HK-iAD_OS | E552: 129.14.6.41
A553: FCNCX103800158 | B553: CLARIION | C553: 2375816 | D553: Citigroup_HK-iAD_OS | E553: 10.70.218.154
A554: FCNCX103800158 | B554: CLARIION | C554: 2375816 | D554: Citigroup_HK-iAD_OS | E554: 10.70.218.155
A555: FCNMM093800007 | B555: CLARIION | C555: 2375816 | D555: Citigroup_HK-iAD_OS | E555: 169.181.159.224
A556: FCNMM093800007 | B556: CLARIION | C556: 2375816 | D556: Citigroup_HK-iAD_OS | E556: 169.181.159.225
A557: FCNMM101600022 | B557: CLARIION | C557: 2375816 | D557: Citigroup_HK-iAD_OS | E557: 169.181.159.247
A558: FCNMM101600022 | B558: CLARIION | C558: 2375816 | D558: Citigroup_HK-iAD_OS | E558: 169.181.159.248
... A592: CK200083800219 | B592: CENTERA | C592: 2395391 | D592: Citigroup_Chennai_OS | E592: 169.187.186.136
A593: 294901296 | B593: SYMMETRIX | C593: 2395295 | D593: Citigroup_Mumbai-BKC_OS | E593: 10.186.153.152
A594: 298700651 | B594: SYMMETRIX | C594: 2395391 | D594: Citigroup_Chennai_OS | E594: 169.187.169.22
A595: 298700658 | B595: SYMMETRIX | C595: 9989271 | D595: Citigroup_Mumbai-NKP_OS | E595: 10.186.105.20
A596: CKM00093200604 | B596: CLARIION | C596: 9989271 | D596: Citigroup_Mumbai-NKP_OS | E596: 10.170.251.166
A597: CKM00093200604 | B597: CLARIION | C597: 9989271 | D597: Citigroup_Mumbai-NKP_OS | E597: 10.170.251.167
A598: CKM00114900032 | B598: VNX | C598: 2395391 | D598: Citigroup_Chennai_OS | E598: 169.187.173.208
A599: CKM00114900032 | B599: VNX | C599: 2395391 | D599: Citigroup_Chennai_OS | E599: 169.187.173.209
A600: CKM00114900032 | B600: VNX | C600: 2395391 | D600: Citigroup_Chennai_OS | E600: 169.187.173.200
A601: CKM00114900032 | B601: VNX | C601: 2395391 | D601: Citigroup_Chennai_OS | E601: 169.187.173.200
A602: CKM00114900248 | B602: VNX | C602: 9989271 | D602: Citigroup_Mumbai-NKP_OS | E602: 169.195.5.208
A603: CKM00114900248 | B603: VNX | C603: 9989271 | D603: Citigroup_Mumbai-NKP_OS | E603: 169.195.5.209
A604: CKM00114900248 | B604: VNX | C604: 9989271 | D604: Citigroup_Mumbai-NKP_OS | E604: 169.195.5.200
A605: CKM00131900759 | B605: VNX | C605: 26892739 | D605: Citigroup_Chennai-CWA_OS | E605: 169.187.199.67
...

Sheet ESRS_Summary
A1: ESRS DUMP Reference | B1: #N/A
A3: Count of ESRS DUMP Reference
A4: Row Labels | B4: EMC | C4: Total
A5: CHINA | B5: 6 | C5: 6
A6: INDONESIA | B6: 6 | C6: 6
A7: JAPAN | B7: 25 | C7: 25
A8: MALAYSIA | B8: 6 | C8: 6
A9: THAILAND | B9: 4 | C9: 4
A10: Total | B10: 47 | C10: 47
