Workbook

Sheet CEEMEA
A1: ticket number
A2: 120222205424
A3: 120530060747
A4: 120608111350
A5: 120608111351
A6: 120612115955
A7: 120613025515
A8: 120615075030
A9: 120615075031
A10: 120615075032
A11: 120615075033
A12: 120618045951
A13: 120618050549
... A228: 121105092042

Sheet Removes
A1: ticket number
A2: 120604051548
A3: 120608102151
A4: 120608102804
A5: 120608103108
A6: 120608103221
A7: 120608103419
A8: 120611093047
A9: 120611094656
A10: 120618051426
A11: 120620031218
A12: 120621100422
A13: 120621100618
... A24: 1206111011022
A25: 120621072834 | B25: ar91297 | C25: 14 July 2012
A26: 120626060729 | B26: ar91297 | C26: 14 July 2012
A27: 120629015338 | B27: ar91297 | C27: 14 July 2012
A28: 120709101951
A29: 120709103144
A30: 120705083616
A31: 120710064134
A32: 120710064437
A33: 1207110516082
A34: 1207110522181
A35: 1207170240392
A36: 1207170253492
A37: 1207170258182
A38: 120717000502
A39: 1207162348242
... A87: 1211020943423

Sheet TTM
A1: ticket number
A2: 1206131229061
A3: 1206131232473
A4: 1206131234111
A5: 1206131235461
A6: 1206131236281
A7: 1206131239301
A8: 1206140909101
A9: 120712042312
A10: 120712042729
A11: 120712042955
A12: 120718043310
A13: 120718044502
... A55: 120927052257

Sheet FastTrack
A1: ticket number
A2: 120612115502
A3: 120620060312
A4: 120710103213
A5: 120710103424
A6: 1205290750522
A7: 1205290817112
A8: 120629134938
A9: 120629134943
A10: 120705092215
A11: 120705092216
A12: 1207050922161
A13: 120705092217
... A58: 121017044209

Sheet schedule
A1: Allocation Slot | B1: 41057 | C1: 41058 | D1: 41059 | E1: 41060 | F1: 41061 | G1: 41062 | H1: 41063 | I1: 41064 | J1: 41065 | K1: 41066 | L1: 41067 | M1: 41068 | N1: 41069 | O1: 41070 | P1: 41071 | Q1: 41072 | R1: 41073 | S1: 41074 | T1: 41075 | U1: 41076 | V1: 41077 | W1: 41078 | X1: 41079 | Y1: 41080 | Z1: 41081 | AA1: 41082 | AB1: 41083 | AC1: 41084 | AD1: 41085 | AE1: 41086 | AF1: 41087 | AG1: 41088 | AH1: 41089 | AI1: 41090 | AJ1: 41091 | AK1: 41092 | AL1: 41093 | AM1: 41094 | AN1: 41095 | AO1: 41096 | AP1: 41097 | AQ1: 41098 | AR1: 41099 | AS1: 41100 | AT1: 41101 | AU1: 41102 | AV1: 41103 | AW1: 41104 | AX1: 41105 | AY1: 41106 | AZ1: 41107 | BA1: 41108 | BB1: 41109 | BC1: 41110 | BD1: 41111 | BE1: 41112 | BF1: 41113 | BG1: 41114 | BH1: 41115 | BI1: 41116 | BJ1: 41117 | BK1: 41118 | BL1: 41119 | BM1: 41120 | BN1: 41121 | BO1: 41122 | BP1: 41123 | BQ1: 41124 | BR1: 41125 | BS1: 41126 | BT1: 41127 | BU1: 41128 | BV1: 41129 | BW1: 41130 | BX1: 41131 | BY1: 41132 | BZ1: 41133 | CA1: 41134 | CB1: 41135 | CC1: 41136 | CD1: 41137 | CE1: 41138 | CF1: 41139 | CG1: 41140 | CH1: 41141 | CI1: 41142 | CJ1: 41143 | CK1: 41144 | CL1: 41145 | CM1: 41146 | CN1: 41147 | CO1: 41148 | CP1: 41149 | CQ1: 41150 | CR1: 41151 | CS1: 41152 | CT1: 41153 | CU1: 41154 | CV1: 41155 | CW1: 41156 | CX1: 41157 | CY1: 41158 | CZ1: 41159 | DA1: 41160 | DB1: 41161 | DC1: 41162 | DD1: 41163 | DE1: 41164 | DF1: 41165 | DG1: 41166 | DH1: 41167 | DI1: 41168 | DJ1: 41169 | DK1: 41170 | DL1: 41171 | DM1: 41172 | DN1: 41173 | DO1: 41174 | DP1: 41175 | DQ1: 41176 | DR1: 41177 | DS1: 41178 | DT1: 41179 | DU1: 41180 | DV1: 41181 | DW1: 41182 | DX1: 41183 | DY1: 41184 | DZ1: 41185 | EA1: 41186 | EB1: 41187 | EC1: 41188 | ED1: 41189 | EE1: 41190 | EF1: 41191 | EG1: 41192 | EH1: 41193 | EI1: 41194 | EJ1: 41195 | EK1: 41196 | EL1: 41197 | EM1: 41198 | EN1: 41199 | EO1: 41200 | EP1: 41201 | EQ1: 41202 | ER1: 41203 | ES1: 41204 | ET1: 41205 | EU1: 41206 | EV1: 41207 | EW1: 41208 | EX1: 41209 | EY1: 41210 | EZ1: 41211 | FA1: 41212 | FB1: 41213 | FC1: 41214 | FD1: 41215 | FE1: 41216 | FF1: 41217 | FG1: 41218 | FH1: 41219 | FI1: 41220 | FJ1: 41221 | FK1: 41222 | FL1: 41223 | FM1: 41224 | FN1: 41225 | FO1: 41226 | FP1: 41227 | FQ1: 41228 | FR1: 41229 | FS1: 41230 | FT1: 41231 | FU1: 41232 | FV1: 41233 | FW1: 41234 | FX1: 41235 | FY1: 41236 | FZ1: 41237 | GA1: 41238 | GB1: 41239 | GC1: 41240 | GD1: 41241 | GE1: 41242 | GF1: 41243 | GG1: 41244 | GH1: 41245 | GI1: 41246 | GJ1: 41247 | GK1: 41248 | GL1: 41249 | GM1: 41250 | GN1: 41251 | GO1: 41252 | GP1: 41253 | GQ1: 41254 | GR1: 41255 | GS1: 41256 | GT1: 41257 | GU1: 41258 | GV1: 41259 | GW1: 41260 | GX1: 41261 | GY1: 41262 | GZ1: 41263 | HA1: 41264 | HB1: 41265 | HC1: 41266 | HD1: 41267 | HE1: 41268 | HF1: 41269 | HG1: 41270 | HH1: 41271 | HI1: 41272 | HJ1: 41273 | HK1: 41274 | HL1: 41275 | HM1: 41276 | HN1: 41277 | HO1: 41278 | HP1: 41279 | HQ1: 41280 | HR1: 41281 | HS1: 41282 | HT1: 41283 | HU1: 41284 | HV1: 41285 | HW1: 41286 | HX1: 41287 | HY1: 41288 | HZ1: 41289 | IA1: 41290 | IB1: 41291 | IC1: 41292 | ID1: 41293 | IE1: 41294 | IF1: 41295 | IG1: 41296 | IH1: 41297 | II1: 41298 | IJ1: 41299 | IK1: 41300 | IL1: 41301 | IM1: 41302 | IN1: 41303 | IO1: 41304 | IP1: 41305 | IQ1: 41306 | IR1: 41307 | IS1: 41308 | IT1: 41309 | IU1: 41310 | IV1: 41311 | IW1: 41312 | IX1: 41313 | IY1: 41314 | IZ1: 41315 | JA1: 41316
B2: =B1 -> 41057 | C2: =C1 -> 41058 | D2: =D1 -> 41059 | E2: =E1 -> 41060 | F2: =F1 -> 41061 | G2: =G1 -> 41062 | H2: =H1 -> 41063 | I2: =I1 -> 41064 | ... IZ2: =IZ1 -> 41315
A3: 1 | B3: TTM/npi | C3: TTM/npi | D3: TTM/npi | E3: TTM/npi | F3: TTM/npi | G3: n/a | K3: TTM/npi | L3: TTM/npi | M3: TTM/npi | N3: n/a | P3: TTM/npi | Q3: TTM/npi | R3: TTM/npi | S3: TTM/npi | T3: TTM/npi | U3: n/a | W3: TTM/npi | X3: TTM/npi | Y3: TTM/npi | Z3: TTM/npi | AA3: Change Freeze | AK3: TTM/npi | AL3: TTM/npi | AM3: TTM/npi | AN3: TTM/npi | AO3: 120703104158 | AP3: n/a | AR3: 120703111203 | AS3: TTM/npi | AT3: TTM/npi | AU3: 120712042312 | AV3: TTM/npi | AW3: n/a | AY3: TTM/npi | AZ3: 120716052818 | BA3: 120718043310 | BB3: TTM/npi | BC3: 120718021102 | BD3: n/a | BF3: 120718021101 | BG3: TTM/npi | BH3: TTM/npi | BI3: TTM/npi | BJ3: Change Freeze | BN3: TTM/npi | BO3: TTM/npi | BP3: TTM/npi | BQ3: TTM/npi | BR3: n/a | BT3: TTM/npi | BU3: TTM/npi | BV3: TTM/npi | BW3: TTM/npi | BX3: TTM/npi | CA3: TTM/npi | CB3: TTM/npi | CC3: TTM/npi | CD3: TTM/npi | CE3: TTM/npi | CH3: TTM/npi | CI3: TTM/npi | CJ3: TTM/npi | CK3: TTM/npi | CL3: TTM/npi | CO3: TTM/npi | CP3: TTM/npi | CQ3: TTM/npi | CR3: TTM/npi | CS3: TTM/npi | CV3: TTM/npi | CW3: TTM/npi | CX3: TTM/npi | CY3: TTM/npi | CZ3: TTM/npi | DC3: TTM/npi | DD3: TTM/npi | DE3: TTM/npi | DF3: TTM/npi | DG3: TTM/npi | DJ3: TTM/npi | DK3: 120905120335 | DL3: 120905122253 | DM3: 120918044014 | DN3: TTM/npi | DQ3: 120921100310 | DR3: TTM/npi | DS3: 120925044400 | DT3: TTM/npi | DU3: 120927052257 | DX3: TTM/npi | DY3: TTM/npi | DZ3: TTM/npi | EA3: TTM/npi | EB3: TTM/npi | EE3: TTM/npi | EF3: TTM/npi | EG3: TTM/npi | EH3: TTM/npi | EI3: TTM/npi | EL3: TTM/npi | EM3: TTM/npi | EN3: TTM/npi | EO3: TTM/npi | EP3: TTM/npi | ES3: TTM/npi | ET3: TTM/npi | EU3: TTM/npi | EV3: TTM/npi | EW3: TTM/npi | EZ3: TTM/npi | FA3: TTM/npi | FB3: TTM/npi | FC3: TTM/npi | FD3: TTM/npi | FG3: TTM/npi | FH3: TTM/npi | FI3: TTM/npi | FJ3: TTM/npi | FK3: TTM/npi | FN3: TTM/npi | FO3: TTM/npi | FP3: TTM/npi | FQ3: TTM/npi | FR3: TTM/npi | FU3: TTM/npi | FV3: TTM/npi | FW3: TTM/npi | FX3: TTM/npi | FY3: TTM/npi | GB3: TTM/npi | GC3: TTM/npi | GD3: TTM/npi | GE3: TTM/npi | GF3: TTM/npi | GI3: TTM/npi | GJ3: TTM/npi | GK3: TTM/npi | GL3: TTM/npi | GM3: TTM/npi | GP3: TTM/npi | GQ3: TTM/npi | GR3: TTM/npi | GS3: TTM/npi | GT3: TTM/npi | GU3: Change Freeze Change Freeze | HR3: TTM/npi | HS3: TTM/npi | HT3: TTM/npi | HU3: TTM/npi | HV3: TTM/npi | HY3: TTM/npi | HZ3: TTM/npi | IA3: TTM/npi | IB3: TTM/npi | IC3: TTM/npi | IF3: TTM/npi | IG3: TTM/npi | IH3: TTM/npi | II3: TTM/npi | IJ3: TTM/npi | IM3: TTM/npi | IN3: TTM/npi | IO3: TTM/npi | IP3: TTM/npi | IQ3: TTM/npi | IT3: TTM/npi | IU3: TTM/npi | IV3: TTM/npi | IW3: TTM/npi | IX3: TTM/npi
A4: 2 | B4: TTM/npi | C4: TTM/npi | D4: TTM/npi | E4: TTM/npi | F4: TTM/npi | K4: TTM/npi | L4: TTM/npi | M4: TTM/npi | P4: TTM/npi | Q4: TTM/npi | R4: TTM/npi | S4: TTM/npi | T4: TTM/npi | W4: TTM/npi | X4: TTM/npi | Y4: TTM/npi | Z4: TTM/npi | AK4: TTM/npi | AL4: TTM/npi | AM4: TTM/npi | AN4: TTM/npi | AO4: 120703104517 | AR4: 120703111449 | AS4: TTM/npi | AT4: TTM/npi | AU4: 120712042729 | AV4: TTM/npi | AY4: TTM/npi | AZ4: 120716052919 | BA4: 120718044502 | BB4: TTM/npi | BC4: 120718021054 | BF4: 120718021057 | BG4: TTM/npi | BH4: TTM/npi | BI4: TTM/npi | BN4: TTM/npi | BO4: TTM/npi | BP4: TTM/npi | BQ4: TTM/npi | BT4: TTM/npi | BU4: TTM/npi | BV4: TTM/npi | BW4: TTM/npi | BX4: TTM/npi | CA4: TTM/npi | CB4: TTM/npi | CC4: TTM/npi | CD4: TTM/npi | CE4: TTM/npi | CH4: TTM/npi | CI4: TTM/npi | CJ4: TTM/npi | CK4: TTM/npi | CL4: TTM/npi | CO4: TTM/npi | CP4: TTM/npi | CQ4: TTM/npi | CR4: TTM/npi | CS4: TTM/npi | CV4: TTM/npi | CW4: TTM/npi | CX4: TTM/npi | CY4: TTM/npi | CZ4: TTM/npi | DC4: TTM/npi | DD4: TTM/npi | DE4: TTM/npi | DF4: TTM/npi | DG4: TTM/npi | DJ4: TTM/npi | DK4: 120905120645 | DL4: 120905123804 | DM4: 120918050654 | DN4: TTM/npi | DQ4: 120921101005 | DR4: TTM/npi | DS4: 1209250445421 | DT4: TTM/npi | DU4: 120927052549 | DX4: TTM/npi | DY4: TTM/npi | DZ4: TTM/npi | EA4: TTM/npi | EB4: TTM/npi | EE4: TTM/npi | EF4: TTM/npi | EG4: TTM/npi | EH4: TTM/npi | EI4: TTM/npi | EL4: TTM/npi | EM4: TTM/npi | EN4: TTM/npi | EO4: TTM/npi | EP4: TTM/npi | ES4: TTM/npi | ET4: TTM/npi | EU4: TTM/npi | EV4: TTM/npi | EW4: TTM/npi | EZ4: TTM/npi | FA4: TTM/npi | FB4: TTM/npi | FC4: TTM/npi | FD4: TTM/npi | FG4: TTM/npi | FH4: TTM/npi | FI4: TTM/npi | FJ4: TTM/npi | FK4: TTM/npi | FN4: TTM/npi | FO4: TTM/npi | FP4: TTM/npi | FQ4: TTM/npi | FR4: TTM/npi | FU4: TTM/npi | FV4: TTM/npi | FW4: TTM/npi | FX4: TTM/npi | FY4: TTM/npi | GB4: TTM/npi | GC4: TTM/npi | GD4: TTM/npi | GE4: TTM/npi | GF4: TTM/npi | GI4: TTM/npi | GJ4: TTM/npi | GK4: TTM/npi | GL4: TTM/npi | GM4: TTM/npi | GP4: TTM/npi | GQ4: TTM/npi | GR4: TTM/npi | GS4: TTM/npi | GT4: TTM/npi | HR4: TTM/npi | HS4: TTM/npi | HT4: TTM/npi | HU4: TTM/npi | HV4: TTM/npi | HY4: TTM/npi | HZ4: TTM/npi | IA4: TTM/npi | IB4: TTM/npi | IC4: TTM/npi | IF4: TTM/npi | IG4: TTM/npi | IH4: TTM/npi | II4: TTM/npi | IJ4: TTM/npi | IM4: TTM/npi | IN4: TTM/npi | IO4: TTM/npi | IP4: TTM/npi | IQ4: TTM/npi | IT4: TTM/npi | IU4: TTM/npi | IV4: TTM/npi | IW4: TTM/npi | IX4: TTM/npi
A5: 3 | B5: TTM/npi | C5: TTM/npi | D5: TTM/npi | E5: TTM/npi | F5: TTM/npi | K5: TTM/npi | L5: TTM/npi | M5: TTM/npi | P5: TTM/npi | Q5: TTM/npi | R5: TTM/npi | S5: TTM/npi | T5: TTM/npi | W5: TTM/npi | X5: TTM/npi | Y5: TTM/npi | Z5: TTM/npi | AK5: TTM/npi | AL5: TTM/npi | AM5: TTM/npi | AN5: TTM/npi | AO5: 120703105526 | AR5: 120703112034 | AS5: TTM/npi | AT5: TTM/npi | AU5: 120712042955 | AV5: TTM/npi | AY5: TTM/npi | AZ5: 120716052951 | BA5: 120718045431 | BB5: TTM/npi | BC5: 120718021120 | BF5: 1207180210571 | BG5: TTM/npi | BH5: TTM/npi | BI5: TTM/npi | BN5: TTM/npi | BO5: TTM/npi | BP5: TTM/npi | BQ5: TTM/npi | BT5: TTM/npi | BU5: TTM/npi | BV5: TTM/npi | BW5: TTM/npi | BX5: TTM/npi | CA5: TTM/npi | CB5: TTM/npi | CC5: TTM/npi | CD5: TTM/npi | CE5: TTM/npi | CH5: TTM/npi | CI5: TTM/npi | CJ5: TTM/npi | CK5: TTM/npi | CL5: TTM/npi | CO5: TTM/npi | CP5: TTM/npi | CQ5: TTM/npi | CR5: TTM/npi | CS5: TTM/npi | CV5: TTM/npi | CW5: TTM/npi | CX5: TTM/npi | CY5: TTM/npi | CZ5: TTM/npi | DC5: TTM/npi | DD5: TTM/npi | DE5: TTM/npi | DF5: TTM/npi | DG5: TTM/npi | DJ5: TTM/npi | DK5: 120905121025 | DL5: 120905114759 | DM5: TTM/npi | DN5: TTM/npi | DQ5: 120921101204 | DR5: TTM/npi | DS5: TTM/npi | DT5: TTM/npi | DU5: 120927052757 | DX5: TTM/npi | DY5: TTM/npi | DZ5: TTM/npi | EA5: TTM/npi | EB5: TTM/npi | EE5: TTM/npi | EF5: TTM/npi | EG5: TTM/npi | EH5: TTM/npi | EI5: TTM/npi | EL5: TTM/npi | EM5: TTM/npi | EN5: TTM/npi | EO5: TTM/npi | EP5: TTM/npi | ES5: TTM/npi | ET5: TTM/npi | EU5: TTM/npi | EV5: TTM/npi | EW5: TTM/npi | EZ5: TTM/npi | FA5: TTM/npi | FB5: TTM/npi | FC5: TTM/npi | FD5: TTM/npi | FG5: TTM/npi | FH5: TTM/npi | FI5: TTM/npi | FJ5: TTM/npi | FK5: TTM/npi | FN5: TTM/npi | FO5: TTM/npi | FP5: TTM/npi | FQ5: TTM/npi | FR5: TTM/npi | FU5: TTM/npi | FV5: TTM/npi | FW5: TTM/npi | FX5: TTM/npi | FY5: TTM/npi | GB5: TTM/npi | GC5: TTM/npi | GD5: TTM/npi | GE5: TTM/npi | GF5: TTM/npi | GI5: TTM/npi | GJ5: TTM/npi | GK5: TTM/npi | GL5: TTM/npi | GM5: TTM/npi | GP5: TTM/npi | GQ5: TTM/npi | GR5: TTM/npi | GS5: TTM/npi | GT5: TTM/npi | HR5: TTM/npi | HS5: TTM/npi | HT5: TTM/npi | HU5: TTM/npi | HV5: TTM/npi | HY5: TTM/npi | HZ5: TTM/npi | IA5: TTM/npi | IB5: TTM/npi | IC5: TTM/npi | IF5: TTM/npi | IG5: TTM/npi | IH5: TTM/npi | II5: TTM/npi | IJ5: TTM/npi | IM5: TTM/npi | IN5: TTM/npi | IO5: TTM/npi | IP5: TTM/npi | IQ5: TTM/npi | IT5: TTM/npi | IU5: TTM/npi | IV5: TTM/npi | IW5: TTM/npi | IX5: TTM/npi
A6: 4 | B6: TTM/npi | C6: TTM/npi | D6: TTM/npi | E6: TTM/npi | F6: TTM/npi | K6: TTM/npi | L6: TTM/npi | M6: TTM/npi | P6: TTM/npi | Q6: TTM/npi | R6: TTM/npi | S6: TTM/npi | T6: TTM/npi | W6: TTM/npi | X6: TTM/npi | Y6: TTM/npi | Z6: TTM/npi | AK6: TTM/npi | AL6: TTM/npi | AM6: TTM/npi | AN6: TTM/npi | AO6: 120703110043 | AR6: 120703112304 | AS6: TTM/npi | AT6: TTM/npi | AU6: TTM/npi | AV6: TTM/npi | AY6: TTM/npi | AZ6: TTM/npi | BA6: 120718045716 | BB6: TTM/npi | BC6: 120718021206 | BF6: 120718021059 | BG6: TTM/npi | BH6: TTM/npi | BI6: TTM/npi | BN6: TTM/npi | BO6: TTM/npi | BP6: TTM/npi | BQ6: TTM/npi | BT6: TTM/npi | BU6: TTM/npi | BV6: TTM/npi | BW6: TTM/npi | BX6: TTM/npi | CA6: TTM/npi | CB6: TTM/npi | CC6: TTM/npi | CD6: TTM/npi | CE6: TTM/npi | CH6: TTM/npi | CI6: TTM/npi | CJ6: TTM/npi | CK6: TTM/npi | CL6: TTM/npi | CO6: TTM/npi | CP6: TTM/npi | CQ6: TTM/npi | CR6: TTM/npi | CS6: TTM/npi | CV6: TTM/npi | CW6: TTM/npi | CX6: TTM/npi | CY6: TTM/npi | CZ6: TTM/npi | DC6: TTM/npi | DD6: TTM/npi | DE6: TTM/npi | DF6: TTM/npi | DG6: TTM/npi | DJ6: TTM/npi | DK6: 120905121336 | DL6: TTM/npi | DM6: TTM/npi | DN6: TTM/npi | DQ6: TTM/npi | DR6: TTM/npi | DS6: TTM/npi | DT6: TTM/npi | DU6: TTM/npi | DX6: TTM/npi | DY6: TTM/npi | DZ6: TTM/npi | EA6: TTM/npi | EB6: TTM/npi | EE6: TTM/npi | EF6: TTM/npi | EG6: TTM/npi | EH6: TTM/npi | EI6: TTM/npi | EL6: TTM/npi | EM6: TTM/npi | EN6: TTM/npi | EO6: TTM/npi | EP6: TTM/npi | ES6: TTM/npi | ET6: TTM/npi | EU6: TTM/npi | EV6: TTM/npi | EW6: TTM/npi | EZ6: TTM/npi | FA6: TTM/npi | FB6: TTM/npi | FC6: TTM/npi | FD6: TTM/npi | FG6: TTM/npi | FH6: TTM/npi | FI6: TTM/npi | FJ6: TTM/npi | FK6: TTM/npi | FN6: TTM/npi | FO6: TTM/npi | FP6: TTM/npi | FQ6: TTM/npi | FR6: TTM/npi | FU6: TTM/npi | FV6: TTM/npi | FW6: TTM/npi | FX6: TTM/npi | FY6: TTM/npi | GB6: TTM/npi | GC6: TTM/npi | GD6: TTM/npi | GE6: TTM/npi | GF6: TTM/npi | GI6: TTM/npi | GJ6: TTM/npi | GK6: TTM/npi | GL6: TTM/npi | GM6: TTM/npi | GP6: TTM/npi | GQ6: TTM/npi | GR6: TTM/npi | GS6: TTM/npi | GT6: TTM/npi | HR6: TTM/npi | HS6: TTM/npi | HT6: TTM/npi | HU6: TTM/npi | HV6: TTM/npi | HY6: TTM/npi | HZ6: TTM/npi | IA6: TTM/npi | IB6: TTM/npi | IC6: TTM/npi | IF6: TTM/npi | IG6: TTM/npi | IH6: TTM/npi | II6: TTM/npi | IJ6: TTM/npi | IM6: TTM/npi | IN6: TTM/npi | IO6: TTM/npi | IP6: TTM/npi | IQ6: TTM/npi | IT6: TTM/npi | IU6: TTM/npi | IV6: TTM/npi | IW6: TTM/npi | IX6: TTM/npi
A7: 5 | B7: TTM/npi | C7: TTM/npi | D7: TTM/npi | E7: TTM/npi | F7: TTM/npi | K7: TTM/npi | L7: TTM/npi | M7: TTM/npi | P7: TTM/npi | Q7: TTM/npi | R7: TTM/npi | S7: TTM/npi | T7: TTM/npi | W7: TTM/npi | X7: TTM/npi | Y7: TTM/npi | Z7: TTM/npi | AK7: TTM/npi | AL7: TTM/npi | AM7: TTM/npi | AN7: TTM/npi | AO7: 120703110845 | AR7: 120703112522 | AS7: TTM/npi | AT7: TTM/npi | AU7: TTM/npi | AV7: TTM/npi | AY7: TTM/npi | AZ7: TTM/npi | BA7: 120717051932 | BB7: TTM/npi | BC7: 120718021208 | BF7: 120718021105 | BG7: TTM/npi | BH7: TTM/npi | BI7: TTM/npi | BN7: TTM/npi | BO7: TTM/npi | BP7: TTM/npi | BQ7: TTM/npi | BT7: TTM/npi | BU7: TTM/npi | BV7: TTM/npi | BW7: TTM/npi | BX7: TTM/npi | CA7: TTM/npi | CB7: TTM/npi | CC7: TTM/npi | CD7: TTM/npi | CE7: TTM/npi | CH7: TTM/npi | CI7: TTM/npi | CJ7: TTM/npi | CK7: TTM/npi | CL7: TTM/npi | CO7: TTM/npi | CP7: TTM/npi | CQ7: TTM/npi | CR7: TTM/npi | CS7: TTM/npi | CV7: TTM/npi | CW7: TTM/npi | CX7: TTM/npi | CY7: TTM/npi | CZ7: TTM/npi | DC7: TTM/npi | DD7: TTM/npi | DE7: TTM/npi | DF7: TTM/npi | DG7: TTM/npi | DJ7: TTM/npi | DK7: 120905121644 | DL7: TTM/npi | DM7: TTM/npi | DN7: TTM/npi | DQ7: TTM/npi | DR7: TTM/npi | DS7: TTM/npi | DT7: TTM/npi | DU7: TTM/npi | DX7: TTM/npi | DY7: TTM/npi | DZ7: TTM/npi | EA7: TTM/npi | EB7: TTM/npi | EE7: TTM/npi | EF7: TTM/npi | EG7: TTM/npi | EH7: TTM/npi | EI7: TTM/npi | EL7: TTM/npi | EM7: TTM/npi | EN7: TTM/npi | EO7: TTM/npi | EP7: TTM/npi | ES7: TTM/npi | ET7: TTM/npi | EU7: TTM/npi | EV7: TTM/npi | EW7: TTM/npi | EZ7: TTM/npi | FA7: TTM/npi | FB7: TTM/npi | FC7: TTM/npi | FD7: TTM/npi | FG7: TTM/npi | FH7: TTM/npi | FI7: TTM/npi | FJ7: TTM/npi | FK7: TTM/npi | FN7: TTM/npi | FO7: TTM/npi | FP7: TTM/npi | FQ7: TTM/npi | FR7: TTM/npi | FU7: TTM/npi | FV7: TTM/npi | FW7: TTM/npi | FX7: TTM/npi | FY7: TTM/npi | GB7: TTM/npi | GC7: TTM/npi | GD7: TTM/npi | GE7: TTM/npi | GF7: TTM/npi | GI7: TTM/npi | GJ7: TTM/npi | GK7: TTM/npi | GL7: TTM/npi | GM7: TTM/npi | GP7: TTM/npi | GQ7: TTM/npi | GR7: TTM/npi | GS7: TTM/npi | GT7: TTM/npi | HR7: TTM/npi | HS7: TTM/npi | HT7: TTM/npi | HU7: TTM/npi | HV7: TTM/npi | HY7: TTM/npi | HZ7: TTM/npi | IA7: TTM/npi | IB7: TTM/npi | IC7: TTM/npi | IF7: TTM/npi | IG7: TTM/npi | IH7: TTM/npi | II7: TTM/npi | IJ7: TTM/npi | IM7: TTM/npi | IN7: TTM/npi | IO7: TTM/npi | IP7: TTM/npi | IQ7: TTM/npi | IT7: TTM/npi | IU7: TTM/npi | IV7: TTM/npi | IW7: TTM/npi | IX7: TTM/npi
A8: 6 | B8: CEEMEA | C8: CEEMEA | D8: CEEMEA | E8: CEEMEA | F8: CEEMEA | K8: CEEMEA | L8: CEEMEA | M8: CEEMEA | P8: CEEMEA | Q8: CEEMEA | R8: CEEMEA | S8: CEEMEA | T8: CEEMEA | W8: CEEMEA | X8: CEEMEA | Y8: 120222205424 | Z8: 1206081113501 | AK8: CEEMEA | AL8: CEEMEA | AM8: CEEMEA | AN8: CEEMEA | AO8: 120702115205 | AR8: 120702231259 | AS8: CEEMEA | AT8: CEEMEA | AU8: 120704040151 | AV8: 120712133651 | AY8: CEEMEA | AZ8: CEEMEA | BA8: CEEMEA | BB8: CEEMEA | BC8: CEEMEA | BF8: 120718021118 | BG8: CEEMEA | BH8: CEEMEA | BI8: CEEMEA | BN8: CEEMEA | BO8: CEEMEA | BP8: CEEMEA | BQ8: CEEMEA | BT8: CEEMEA | BU8: CEEMEA | BV8: CEEMEA | BW8: CEEMEA | BX8: CEEMEA | CA8: CEEMEA | CB8: CEEMEA | CC8: CEEMEA | CD8: CEEMEA | CE8: CEEMEA | CH8: CEEMEA | CI8: CEEMEA | CJ8: CEEMEA | CK8: CEEMEA | CL8: CEEMEA | CO8: CEEMEA | CP8: CEEMEA | CQ8: CEEMEA | CR8: CEEMEA | CS8: CEEMEA | CV8: CEEMEA | CW8: CEEMEA | CX8: CEEMEA | CY8: CEEMEA | CZ8: CEEMEA | DC8: CEEMEA | DD8: CEEMEA | DE8: CEEMEA | DF8: CEEMEA | DG8: CEEMEA | DJ8: CEEMEA | DK8: CEEMEA | DL8: CEEMEA | DM8: CEEMEA | DN8: CEEMEA | DQ8: 120912233330 | DR8: 120913030541 | DS8: 120914005007 | DT8: 120914023437 | DU8: 120914025115 | DX8: 120914034923 | DY8: 120918043432 | DZ8: 120813211234 | EA8: 1208131228432 | EB8: 120926055006 | EE8: 120928030835 | EF8: 120927053256 | EG8: CEEMEA | EH8: CEEMEA | EI8: CEEMEA | EL8: CEEMEA | EM8: CEEMEA | EN8: CEEMEA | EO8: CEEMEA | EP8: CEEMEA | ES8: CEEMEA | ET8: CEEMEA | EU8: CEEMEA | EV8: CEEMEA | EW8: CEEMEA | EZ8: CEEMEA | FA8: CEEMEA | FB8: CEEMEA | FC8: CEEMEA | FD8: CEEMEA | FG8: CEEMEA | FH8: CEEMEA | FI8: CEEMEA | FJ8: CEEMEA | FK8: CEEMEA | FN8: CEEMEA | FO8: CEEMEA | FP8: CEEMEA | FQ8: CEEMEA | FR8: CEEMEA | FU8: CEEMEA | FV8: CEEMEA | FW8: CEEMEA | FX8: CEEMEA | FY8: CEEMEA | GB8: CEEMEA | GC8: CEEMEA | GD8: CEEMEA | GE8: CEEMEA | GF8: CEEMEA | GI8: CEEMEA | GJ8: CEEMEA | GK8: CEEMEA | GL8: CEEMEA | GM8: CEEMEA | GP8: CEEMEA | GQ8: CEEMEA | GR8: CEEMEA | GS8: CEEMEA | GT8: CEEMEA | HR8: CEEMEA | HS8: CEEMEA | HT8: CEEMEA | HU8: CEEMEA | HV8: CEEMEA | HY8: CEEMEA | HZ8: CEEMEA | IA8: CEEMEA | IB8: CEEMEA | IC8: CEEMEA | IF8: CEEMEA | IG8: CEEMEA | IH8: CEEMEA | II8: CEEMEA | IJ8: CEEMEA | IM8: CEEMEA | IN8: CEEMEA | IO8: CEEMEA | IP8: CEEMEA | IQ8: CEEMEA | IT8: CEEMEA | IU8: CEEMEA | IV8: CEEMEA | IW8: CEEMEA | IX8: CEEMEA
A9: 7 | B9: CEEMEA | C9: CEEMEA | D9: CEEMEA | E9: CEEMEA | F9: CEEMEA | K9: CEEMEA | L9: CEEMEA | M9: CEEMEA | P9: CEEMEA | Q9: CEEMEA | R9: CEEMEA | S9: CEEMEA | T9: CEEMEA | W9: CEEMEA | X9: CEEMEA | Y9: 120530060747 | Z9: 1206150750331 | AK9: CEEMEA | AL9: CEEMEA | AM9: CEEMEA | AN9: CEEMEA | AO9: 120703002145 | AR9: 120703002145 | AS9: CEEMEA | AT9: CEEMEA | AU9: 120704040152 | AV9: 120712133653 | AY9: CEEMEA | AZ9: CEEMEA | BA9: CEEMEA | BB9: CEEMEA | BC9: CEEMEA | BF9: 120718021122 | BG9: CEEMEA | BH9: CEEMEA | BI9: CEEMEA | BN9: CEEMEA | BO9: CEEMEA | BP9: CEEMEA | BQ9: CEEMEA | BT9: CEEMEA | BU9: CEEMEA | BV9: CEEMEA | BW9: CEEMEA | BX9: CEEMEA | CA9: CEEMEA | CB9: CEEMEA | CC9: CEEMEA | CD9: CEEMEA | CE9: CEEMEA | CH9: CEEMEA | CI9: CEEMEA | CJ9: CEEMEA | CK9: CEEMEA | CL9: CEEMEA | CO9: CEEMEA | CP9: CEEMEA | CQ9: CEEMEA | CR9: CEEMEA | CS9: CEEMEA | CV9: CEEMEA | CW9: CEEMEA | CX9: CEEMEA | CY9: CEEMEA | CZ9: CEEMEA | DC9: CEEMEA | DD9: CEEMEA | DE9: CEEMEA | DF9: CEEMEA | DG9: CEEMEA | DJ9: CEEMEA | DK9: CEEMEA | DL9: CEEMEA | DM9: CEEMEA | DN9: CEEMEA | DQ9: 120912234812 | DR9: 120913051016 | DS9: 120914005614 | DT9: 120914023818 | DU9: 120914031802 | DX9: 120914040159 | DY9: 120918043434 | DZ9: 120924045846 | EA9: 1208131228453 | EB9: 120926055120 | EE9: 120928031528 | EF9: 120927055006 | EG9: CEEMEA | EH9: CEEMEA | EI9: CEEMEA | EL9: CEEMEA | EM9: CEEMEA | EN9: CEEMEA | EO9: CEEMEA | EP9: CEEMEA | ES9: CEEMEA | ET9: CEEMEA | EU9: CEEMEA | EV9: CEEMEA | EW9: CEEMEA | EZ9: CEEMEA | FA9: CEEMEA | FB9: CEEMEA | FC9: CEEMEA | FD9: CEEMEA | FG9: CEEMEA | FH9: CEEMEA | FI9: CEEMEA | FJ9: CEEMEA | FK9: CEEMEA | FN9: CEEMEA | FO9: CEEMEA | FP9: CEEMEA | FQ9: CEEMEA | FR9: CEEMEA | FU9: CEEMEA | FV9: CEEMEA | FW9: CEEMEA | FX9: CEEMEA | FY9: CEEMEA | GB9: CEEMEA | GC9: CEEMEA | GD9: CEEMEA | GE9: CEEMEA | GF9: CEEMEA | GI9: CEEMEA | GJ9: CEEMEA | GK9: CEEMEA | GL9: CEEMEA | GM9: CEEMEA | GP9: CEEMEA | GQ9: CEEMEA | GR9: CEEMEA | GS9: CEEMEA | GT9: CEEMEA | HR9: CEEMEA | HS9: CEEMEA | HT9: CEEMEA | HU9: CEEMEA | HV9: CEEMEA | HY9: CEEMEA | HZ9: CEEMEA | IA9: CEEMEA | IB9: CEEMEA | IC9: CEEMEA | IF9: CEEMEA | IG9: CEEMEA | IH9: CEEMEA | II9: CEEMEA | IJ9: CEEMEA | IM9: CEEMEA | IN9: CEEMEA | IO9: CEEMEA | IP9: CEEMEA | IQ9: CEEMEA | IT9: CEEMEA | IU9: CEEMEA | IV9: CEEMEA | IW9: CEEMEA | IX9: CEEMEA
A10: 8 | B10: CEEMEA | C10: CEEMEA | D10: CEEMEA | E10: CEEMEA | F10: CEEMEA | K10: CEEMEA | L10: CEEMEA | M10: CEEMEA | P10: CEEMEA | Q10: CEEMEA | R10: CEEMEA | S10: CEEMEA | T10: CEEMEA | W10: CEEMEA | X10: CEEMEA | Y10: 120608111350 | Z10: 120620073056 | AK10: CEEMEA | AL10: CEEMEA | AM10: CEEMEA | AN10: CEEMEA | AO10: 120702115204 | AR10: CEEMEA | AS10: CEEMEA | AT10: CEEMEA | AU10: 120704040153 | AV10: CEEMEA | AY10: CEEMEA | AZ10: CEEMEA | BA10: CEEMEA | BB10: CEEMEA | BC10: CEEMEA | BF10: 120718021124 | BG10: CEEMEA | BH10: CEEMEA | BI10: CEEMEA | BN10: CEEMEA | BO10: CEEMEA | BP10: CEEMEA | BQ10: CEEMEA | BT10: CEEMEA | BU10: CEEMEA | BV10: CEEMEA | BW10: CEEMEA | BX10: CEEMEA | CA10: CEEMEA | CB10: CEEMEA | CC10: CEEMEA | CD10: CEEMEA | CE10: CEEMEA | CH10: CEEMEA | CI10: CEEMEA | CJ10: CEEMEA | CK10: CEEMEA | CL10: CEEMEA | CO10: CEEMEA | CP10: CEEMEA | CQ10: CEEMEA | CR10: CEEMEA | CS10: CEEMEA | CV10: CEEMEA | CW10: CEEMEA | CX10: CEEMEA | CY10: CEEMEA | CZ10: CEEMEA | DC10: CEEMEA | DD10: CEEMEA | DE10: CEEMEA | DF10: CEEMEA | DG10: CEEMEA | DJ10: CEEMEA | DK10: CEEMEA | DL10: CEEMEA | DM10: CEEMEA | DN10: CEEMEA | DQ10: 120913025255 | DR10: 120913062811 | DS10: 120914010015 | DT10: 120914024126 | DU10: 120914032053 | DX10: 1208181910351 | DY10: 120926053242 | DZ10: 120924050542 | EA10: 120813211119 | EB10: 120926055203 | EE10: 120928032303 | EF10: 120927062803 | EG10: CEEMEA | EH10: CEEMEA | EI10: CEEMEA | EL10: CEEMEA | EM10: CEEMEA | EN10: CEEMEA | EO10: CEEMEA | EP10: CEEMEA | ES10: CEEMEA | ET10: CEEMEA | EU10: CEEMEA | EV10: CEEMEA | EW10: CEEMEA | EZ10: CEEMEA | FA10: CEEMEA | FB10: CEEMEA | FC10: CEEMEA | FD10: CEEMEA | FG10: CEEMEA | FH10: CEEMEA | FI10: CEEMEA | FJ10: CEEMEA | FK10: CEEMEA | FN10: CEEMEA | FO10: CEEMEA | FP10: CEEMEA | FQ10: CEEMEA | FR10: CEEMEA | FU10: CEEMEA | FV10: CEEMEA | FW10: CEEMEA | FX10: CEEMEA | FY10: CEEMEA | GB10: CEEMEA | GC10: CEEMEA | GD10: CEEMEA | GE10: CEEMEA | GF10: CEEMEA | GI10: CEEMEA | GJ10: CEEMEA | GK10: CEEMEA | GL10: CEEMEA | GM10: CEEMEA | GP10: CEEMEA | GQ10: CEEMEA | GR10: CEEMEA | GS10: CEEMEA | GT10: CEEMEA | HR10: CEEMEA | HS10: CEEMEA | HT10: CEEMEA | HU10: CEEMEA | HV10: CEEMEA | HY10: CEEMEA | HZ10: CEEMEA | IA10: CEEMEA | IB10: CEEMEA | IC10: CEEMEA | IF10: CEEMEA | IG10: CEEMEA | IH10: CEEMEA | II10: CEEMEA | IJ10: CEEMEA | IM10: CEEMEA | IN10: CEEMEA | IO10: CEEMEA | IP10: CEEMEA | IQ10: CEEMEA | IT10: CEEMEA | IU10: CEEMEA | IV10: CEEMEA | IW10: CEEMEA | IX10: CEEMEA
A11: 9 | B11: CEEMEA | C11: CEEMEA | D11: CEEMEA | E11: CEEMEA | F11: CEEMEA | K11: CEEMEA | L11: CEEMEA | M11: CEEMEA | P11: CEEMEA | Q11: CEEMEA | R11: CEEMEA | S11: CEEMEA | T11: CEEMEA | W11: CEEMEA | X11: CEEMEA | Y11: 120608111351 | Z11: 120620073604 | AK11: CEEMEA | AL11: CEEMEA | AM11: CEEMEA | AN11: CEEMEA | AO11: 1207021152011 | AR11: CEEMEA | AS11: CEEMEA | AT11: CEEMEA | AU11: 120704040154 | AV11: CEEMEA | AY11: CEEMEA | AZ11: CEEMEA | BA11: CEEMEA | BB11: CEEMEA | BC11: CEEMEA | BF11: 120718021204 | BG11: CEEMEA | BH11: CEEMEA | BI11: CEEMEA | BN11: CEEMEA | BO11: CEEMEA | BP11: CEEMEA | BQ11: CEEMEA | BT11: CEEMEA | BU11: CEEMEA | BV11: CEEMEA | BW11: CEEMEA | BX11: CEEMEA | CA11: CEEMEA | CB11: CEEMEA | CC11: CEEMEA | CD11: CEEMEA | CE11: CEEMEA | CH11: CEEMEA | CI11: CEEMEA | CJ11: CEEMEA | CK11: CEEMEA | CL11: CEEMEA | CO11: CEEMEA | CP11: CEEMEA | CQ11: CEEMEA | CR11: CEEMEA | CS11: CEEMEA | CV11: CEEMEA | CW11: CEEMEA | CX11: CEEMEA | CY11: CEEMEA | CZ11: CEEMEA | DC11: CEEMEA | DD11: CEEMEA | DE11: CEEMEA | DF11: CEEMEA | DG11: CEEMEA | DJ11: CEEMEA | DK11: CEEMEA | DL11: CEEMEA | DM11: CEEMEA | DN11: CEEMEA | DQ11: 120913025811 | DR11: 120913064130 | DS11: 120914023001 | DT11: 120914024423 | DU11: 120914033316 | DX11: 1208181910543 | DY11: 120926054701 | DZ11: 120425231137 | EA11: CEEMEA | EB11: 120926055346 | EE11: 120928033149 | EF11: 120927065919 | EG11: CEEMEA | EH11: CEEMEA | EI11: CEEMEA | EL11: CEEMEA | EM11: CEEMEA | EN11: CEEMEA | EO11: CEEMEA | EP11: CEEMEA | ES11: CEEMEA | ET11: CEEMEA | EU11: CEEMEA | EV11: CEEMEA | EW11: CEEMEA | EZ11: CEEMEA | FA11: CEEMEA | FB11: CEEMEA | FC11: CEEMEA | FD11: CEEMEA | FG11: CEEMEA | FH11: CEEMEA | FI11: CEEMEA | FJ11: CEEMEA | FK11: CEEMEA | FN11: CEEMEA | FO11: CEEMEA | FP11: CEEMEA | FQ11: CEEMEA | FR11: CEEMEA | FU11: CEEMEA | FV11: CEEMEA | FW11: CEEMEA | FX11: CEEMEA | FY11: CEEMEA | GB11: CEEMEA | GC11: CEEMEA | GD11: CEEMEA | GE11: CEEMEA | GF11: CEEMEA | GI11: CEEMEA | GJ11: CEEMEA | GK11: CEEMEA | GL11: CEEMEA | GM11: CEEMEA | GP11: CEEMEA | GQ11: CEEMEA | GR11: CEEMEA | GS11: CEEMEA | GT11: CEEMEA | HR11: CEEMEA | HS11: CEEMEA | HT11: CEEMEA | HU11: CEEMEA | HV11: CEEMEA | HY11: CEEMEA | HZ11: CEEMEA | IA11: CEEMEA | IB11: CEEMEA | IC11: CEEMEA | IF11: CEEMEA | IG11: CEEMEA | IH11: CEEMEA | II11: CEEMEA | IJ11: CEEMEA | IM11: CEEMEA | IN11: CEEMEA | IO11: CEEMEA | IP11: CEEMEA | IQ11: CEEMEA | IT11: CEEMEA | IU11: CEEMEA | IV11: CEEMEA | IW11: CEEMEA | IX11: CEEMEA
A12: 10 | B12: CEEMEA | C12: CEEMEA | D12: CEEMEA | E12: CEEMEA | F12: CEEMEA | K12: CEEMEA | L12: CEEMEA | M12: CEEMEA | P12: CEEMEA | Q12: CEEMEA | R12: CEEMEA | S12: CEEMEA | T12: CEEMEA | W12: CEEMEA | X12: 120618045951 | Y12: 120612115955 | Z12: 120621072834 | AK12: CEEMEA | AL12: CEEMEA | AM12: CEEMEA | AN12: CEEMEA | AO12: 120702115202 | AR12: CEEMEA | AS12: CEEMEA | AT12: CEEMEA | AU12: CEEMEA | AV12: CEEMEA | AY12: CEEMEA | AZ12: CEEMEA | BA12: CEEMEA | BB12: CEEMEA | BC12: CEEMEA | BF12: CEEMEA | BG12: CEEMEA | BH12: CEEMEA | BI12: CEEMEA | BN12: CEEMEA | BO12: CEEMEA | BP12: CEEMEA | BQ12: CEEMEA | BT12: CEEMEA | BU12: CEEMEA | BV12: CEEMEA | BW12: CEEMEA | BX12: CEEMEA | CA12: CEEMEA | CB12: CEEMEA | CC12: CEEMEA | CD12: CEEMEA | CE12: CEEMEA | CH12: CEEMEA | CI12: CEEMEA | CJ12: CEEMEA | CK12: CEEMEA | CL12: CEEMEA | CO12: CEEMEA | CP12: CEEMEA | CQ12: CEEMEA | CR12: CEEMEA | CS12: CEEMEA | CV12: CEEMEA | CW12: CEEMEA | CX12: CEEMEA | CY12: CEEMEA | CZ12: CEEMEA | DC12: CEEMEA | DD12: CEEMEA | DE12: CEEMEA | DF12: CEEMEA | DG12: CEEMEA | DJ12: CEEMEA | DK12: CEEMEA | DL12: CEEMEA | DM12: CEEMEA | DN12: CEEMEA | DQ12: CEEMEA | DR12: CEEMEA | DS12: CEEMEA | DT12: CEEMEA | DU12: CEEMEA | DX12: 120913063358 | DY12: 1208170551071 | DZ12: 120925061219 | EA12: CEEMEA | EB12: 120926055445 | EE12: 120928033607 | EF12: 120808042130 | EG12: CEEMEA | EH12: CEEMEA | EI12: CEEMEA | EL12: CEEMEA | EM12: CEEMEA | EN12: CEEMEA | EO12: CEEMEA | EP12: CEEMEA | ES12: CEEMEA | ET12: CEEMEA | EU12: CEEMEA | EV12: CEEMEA | EW12: CEEMEA | EZ12: CEEMEA | FA12: CEEMEA | FB12: CEEMEA | FC12: CEEMEA | FD12: CEEMEA | FG12: CEEMEA | FH12: CEEMEA | FI12: CEEMEA | FJ12: CEEMEA | FK12: CEEMEA | FN12: CEEMEA | FO12: CEEMEA | FP12: CEEMEA | FQ12: CEEMEA | FR12: CEEMEA | FU12: CEEMEA | FV12: CEEMEA | FW12: CEEMEA | FX12: CEEMEA | FY12: CEEMEA | GB12: CEEMEA | GC12: CEEMEA | GD12: CEEMEA | GE12: CEEMEA | GF12: CEEMEA | GI12: CEEMEA | GJ12: CEEMEA | GK12: CEEMEA | GL12: CEEMEA | GM12: CEEMEA | GP12: CEEMEA | GQ12: CEEMEA | GR12: CEEMEA | GS12: CEEMEA | GT12: CEEMEA | HR12: CEEMEA | HS12: CEEMEA | HT12: CEEMEA | HU12: CEEMEA | HV12: CEEMEA | HY12: CEEMEA | HZ12: CEEMEA | IA12: CEEMEA | IB12: CEEMEA | IC12: CEEMEA | IF12: CEEMEA | IG12: CEEMEA | IH12: CEEMEA | II12: CEEMEA | IJ12: CEEMEA | IM12: CEEMEA | IN12: CEEMEA | IO12: CEEMEA | IP12: CEEMEA | IQ12: CEEMEA | IT12: CEEMEA | IU12: CEEMEA | IV12: CEEMEA | IW12: CEEMEA | IX12: CEEMEA
A13: 11 | B13: CEEMEA | C13: CEEMEA | D13: CEEMEA | E13: CEEMEA | F13: CEEMEA | K13: CEEMEA | L13: CEEMEA | M13: CEEMEA | P13: CEEMEA | Q13: CEEMEA | R13: CEEMEA | S13: CEEMEA | T13: CEEMEA | W13: CEEMEA | X13: 120618050549 | Y13: 120613025515 | Z13: 120622111319 | AK13: CEEMEA | AL13: CEEMEA | AM13: CEEMEA | AN13: CEEMEA | AO13: 120702231259 | AR13: CEEMEA | AS13: CEEMEA | AT13: CEEMEA | AU13: CEEMEA | AV13: CEEMEA | AY13: CEEMEA | AZ13: CEEMEA | BA13: CEEMEA | BB13: CEEMEA | BC13: CEEMEA | BF13: CEEMEA | BG13: CEEMEA | BH13: CEEMEA | BI13: CEEMEA | BN13: CEEMEA | BO13: CEEMEA | BP13: CEEMEA | BQ13: CEEMEA | BT13: CEEMEA | BU13: CEEMEA | BV13: CEEMEA | BW13: CEEMEA | BX13: CEEMEA | CA13: CEEMEA | CB13: CEEMEA | CC13: CEEMEA | CD13: CEEMEA | CE13: CEEMEA | CH13: CEEMEA | CI13: CEEMEA | CJ13: CEEMEA | CK13: CEEMEA | CL13: CEEMEA | CO13: CEEMEA | CP13: CEEMEA | CQ13: CEEMEA | CR13: CEEMEA | CS13: CEEMEA | CV13: CEEMEA | CW13: CEEMEA | CX13: CEEMEA | CY13: CEEMEA | CZ13: CEEMEA | DC13: CEEMEA | DD13: CEEMEA | DE13: CEEMEA | DF13: CEEMEA | DG13: CEEMEA | DJ13: CEEMEA | DK13: CEEMEA | DL13: CEEMEA | DM13: CEEMEA | DN13: CEEMEA | DQ13: CEEMEA | DR13: CEEMEA | DS13: CEEMEA | DT13: CEEMEA | DU13: CEEMEA | DX13: CEEMEA | DY13: CEEMEA | DZ13: CEEMEA | EA13: CEEMEA | EB13: 120926231802 | EE13: 120928035008 | EF13: 120927053455 | EG13: CEEMEA | EH13: CEEMEA | EI13: CEEMEA | EL13: CEEMEA | EM13: CEEMEA | EN13: CEEMEA | EO13: CEEMEA | EP13: CEEMEA | ES13: CEEMEA | ET13: CEEMEA | EU13: CEEMEA | EV13: CEEMEA | EW13: CEEMEA | EZ13: CEEMEA | FA13: CEEMEA | FB13: CEEMEA | FC13: CEEMEA | FD13: CEEMEA | FG13: CEEMEA | FH13: CEEMEA | FI13: CEEMEA | FJ13: CEEMEA | FK13: CEEMEA | FN13: CEEMEA | FO13: CEEMEA | FP13: CEEMEA | FQ13: CEEMEA | FR13: CEEMEA | FU13: CEEMEA | FV13: CEEMEA | FW13: CEEMEA | FX13: CEEMEA | FY13: CEEMEA | GB13: CEEMEA | GC13: CEEMEA | GD13: CEEMEA | GE13: CEEMEA | GF13: CEEMEA | GI13: CEEMEA | GJ13: CEEMEA | GK13: CEEMEA | GL13: CEEMEA | GM13: CEEMEA | GP13: CEEMEA | GQ13: CEEMEA | GR13: CEEMEA | GS13: CEEMEA | GT13: CEEMEA | HR13: CEEMEA | HS13: CEEMEA | HT13: CEEMEA | HU13: CEEMEA | HV13: CEEMEA | HY13: CEEMEA | HZ13: CEEMEA | IA13: CEEMEA | IB13: CEEMEA | IC13: CEEMEA | IF13: CEEMEA | IG13: CEEMEA | IH13: CEEMEA | II13: CEEMEA | IJ13: CEEMEA | IM13: CEEMEA | IN13: CEEMEA | IO13: CEEMEA | IP13: CEEMEA | IQ13: CEEMEA | IT13: CEEMEA | IU13: CEEMEA | IV13: CEEMEA | IW13: CEEMEA | IX13: CEEMEA
A14: 12 | B14: CEEMEA | C14: CEEMEA | D14: CEEMEA | E14: CEEMEA | F14: CEEMEA | K14: CEEMEA | L14: CEEMEA | M14: CEEMEA | P14: CEEMEA | Q14: CEEMEA | R14: CEEMEA | S14: CEEMEA | T14: CEEMEA | W14: CEEMEA | X14: 120618052824 | Y14: 120615075030 | Z14: 120622111320 | AK14: CEEMEA | AL14: CEEMEA | AM14: CEEMEA | AN14: CEEMEA | AO14: 120702115201 | AR14: CEEMEA | AS14: CEEMEA | AT14: CEEMEA | AU14: CEEMEA | AV14: CEEMEA | AY14: CEEMEA | AZ14: CEEMEA | BA14: CEEMEA | BB14: CEEMEA | BC14: CEEMEA | BF14: CEEMEA | BG14: CEEMEA | BH14: CEEMEA | BI14: CEEMEA | BN14: CEEMEA | BO14: CEEMEA | BP14: CEEMEA | BQ14: CEEMEA | BT14: CEEMEA | BU14: CEEMEA | BV14: CEEMEA | BW14: CEEMEA | BX14: CEEMEA | CA14: CEEMEA | CB14: CEEMEA | CC14: CEEMEA | CD14: CEEMEA | CE14: CEEMEA | CH14: CEEMEA | CI14: CEEMEA | CJ14: CEEMEA | CK14: CEEMEA | CL14: CEEMEA | CO14: CEEMEA | CP14: CEEMEA | CQ14: CEEMEA | CR14: CEEMEA | CS14: CEEMEA | CV14: CEEMEA | CW14: CEEMEA | CX14: CEEMEA | CY14: CEEMEA | CZ14: CEEMEA | DC14: CEEMEA | DD14: CEEMEA | DE14: CEEMEA | DF14: CEEMEA | DG14: CEEMEA | DJ14: CEEMEA | DK14: CEEMEA | DL14: CEEMEA | DM14: CEEMEA | DN14: CEEMEA | DQ14: CEEMEA | DR14: CEEMEA | DS14: CEEMEA | DT14: CEEMEA | DU14: CEEMEA | DX14: CEEMEA | DY14: CEEMEA | DZ14: CEEMEA | EA14: CEEMEA | EB14: 1207300416493 | EE14: 120928035440 | EF14: 1208182007483 | EG14: CEEMEA | EH14: CEEMEA | EI14: CEEMEA | EL14: CEEMEA | EM14: CEEMEA | EN14: CEEMEA | EO14: CEEMEA | EP14: CEEMEA | ES14: CEEMEA | ET14: CEEMEA | EU14: CEEMEA | EV14: CEEMEA | EW14: CEEMEA | EZ14: CEEMEA | FA14: CEEMEA | FB14: CEEMEA | FC14: CEEMEA | FD14: CEEMEA | FG14: CEEMEA | FH14: CEEMEA | FI14: CEEMEA | FJ14: CEEMEA | FK14: CEEMEA | FN14: CEEMEA | FO14: CEEMEA | FP14: CEEMEA | FQ14: CEEMEA | FR14: CEEMEA | FU14: CEEMEA | FV14: CEEMEA | FW14: CEEMEA | FX14: CEEMEA | FY14: CEEMEA | GB14: CEEMEA | GC14: CEEMEA | GD14: CEEMEA | GE14: CEEMEA | GF14: CEEMEA | GI14: CEEMEA | GJ14: CEEMEA | GK14: CEEMEA | GL14: CEEMEA | GM14: CEEMEA | GP14: CEEMEA | GQ14: CEEMEA | GR14: CEEMEA | GS14: CEEMEA | GT14: CEEMEA | HR14: CEEMEA | HS14: CEEMEA | HT14: CEEMEA | HU14: CEEMEA | HV14: CEEMEA | HY14: CEEMEA | HZ14: CEEMEA | IA14: CEEMEA | IB14: CEEMEA | IC14: CEEMEA | IF14: CEEMEA | IG14: CEEMEA | IH14: CEEMEA | II14: CEEMEA | IJ14: CEEMEA | IM14: CEEMEA | IN14: CEEMEA | IO14: CEEMEA | IP14: CEEMEA | IQ14: CEEMEA | IT14: CEEMEA | IU14: CEEMEA | IV14: CEEMEA | IW14: CEEMEA | IX14: CEEMEA
A15: 13 | B15: CEEMEA | C15: CEEMEA | D15: CEEMEA | E15: CEEMEA | F15: CEEMEA | K15: CEEMEA | L15: CEEMEA | M15: CEEMEA | P15: CEEMEA | Q15: CEEMEA | R15: CEEMEA | S15: CEEMEA | T15: CEEMEA | W15: CEEMEA | X15: CEEMEA | Y15: 120615075031 | Z15: 120622111321 | AK15: CEEMEA | AL15: CEEMEA | AM15: CEEMEA | AN15: CEEMEA | AO15: 120702225805 | AR15: CEEMEA | AS15: CEEMEA | AT15: CEEMEA | AU15: CEEMEA | AV15: CEEMEA | AY15: CEEMEA | AZ15: CEEMEA | BA15: CEEMEA | BB15: CEEMEA | BC15: CEEMEA | BF15: CEEMEA | BG15: CEEMEA | BH15: CEEMEA | BI15: CEEMEA | BN15: CEEMEA | BO15: CEEMEA | BP15: CEEMEA | BQ15: CEEMEA | BT15: CEEMEA | BU15: CEEMEA | BV15: CEEMEA | BW15: CEEMEA | BX15: CEEMEA | CA15: CEEMEA | CB15: CEEMEA | CC15: CEEMEA | CD15: CEEMEA | CE15: CEEMEA | CH15: CEEMEA | CI15: CEEMEA | CJ15: CEEMEA | CK15: CEEMEA | CL15: CEEMEA | CO15: CEEMEA | CP15: CEEMEA | CQ15: CEEMEA | CR15: CEEMEA | CS15: CEEMEA | CV15: CEEMEA | CW15: CEEMEA | CX15: CEEMEA | CY15: CEEMEA | CZ15: CEEMEA | DC15: CEEMEA | DD15: CEEMEA | DE15: CEEMEA | DF15: CEEMEA | DG15: CEEMEA | DJ15: CEEMEA | DK15: CEEMEA | DL15: CEEMEA | DM15: CEEMEA | DN15: CEEMEA | DQ15: CEEMEA | DR15: CEEMEA | DS15: CEEMEA | DT15: CEEMEA | DU15: CEEMEA | DX15: CEEMEA | DY15: CEEMEA | DZ15: CEEMEA | EA15: CEEMEA | EB15: 1207300416523 | EE15: 120928040143 | EF15: CEEMEA | EG15: CEEMEA | EH15: CEEMEA | EI15: CEEMEA | EL15: CEEMEA | EM15: CEEMEA | EN15: CEEMEA | EO15: CEEMEA | EP15: CEEMEA | ES15: CEEMEA | ET15: CEEMEA | EU15: CEEMEA | EV15: CEEMEA | EW15: CEEMEA | EZ15: CEEMEA | FA15: CEEMEA | FB15: CEEMEA | FC15: CEEMEA | FD15: CEEMEA | FG15: CEEMEA | FH15: CEEMEA | FI15: CEEMEA | FJ15: CEEMEA | FK15: CEEMEA | FN15: CEEMEA | FO15: CEEMEA | FP15: CEEMEA | FQ15: CEEMEA | FR15: CEEMEA | FU15: CEEMEA | FV15: CEEMEA | FW15: CEEMEA | FX15: CEEMEA | FY15: CEEMEA | GB15: CEEMEA | GC15: CEEMEA | GD15: CEEMEA | GE15: CEEMEA | GF15: CEEMEA | GI15: CEEMEA | GJ15: CEEMEA | GK15: CEEMEA | GL15: CEEMEA | GM15: CEEMEA | GP15: CEEMEA | GQ15: CEEMEA | GR15: CEEMEA | GS15: CEEMEA | GT15: CEEMEA | HR15: CEEMEA | HS15: CEEMEA | HT15: CEEMEA | HU15: CEEMEA | HV15: CEEMEA | HY15: CEEMEA | HZ15: CEEMEA | IA15: CEEMEA | IB15: CEEMEA | IC15: CEEMEA | IF15: CEEMEA | IG15: CEEMEA | IH15: CEEMEA | II15: CEEMEA | IJ15: CEEMEA | IM15: CEEMEA | IN15: CEEMEA | IO15: CEEMEA | IP15: CEEMEA | IQ15: CEEMEA | IT15: CEEMEA | IU15: CEEMEA | IV15: CEEMEA | IW15: CEEMEA | IX15: CEEMEA
A16: 14 | B16: CEEMEA | C16: CEEMEA | D16: CEEMEA | E16: CEEMEA | F16: CEEMEA | K16: CEEMEA | L16: CEEMEA | M16: CEEMEA | P16: CEEMEA | Q16: CEEMEA | R16: CEEMEA | S16: CEEMEA | T16: CEEMEA | W16: CEEMEA | X16: CEEMEA | Y16: 120615075032 | Z16: 120626022821 | AK16: CEEMEA | AL16: CEEMEA | AM16: CEEMEA | AN16: CEEMEA | AO16: 120622120228 | AR16: CEEMEA | AS16: CEEMEA | AT16: CEEMEA | AU16: CEEMEA | AV16: CEEMEA | AY16: CEEMEA | AZ16: CEEMEA | BA16: CEEMEA | BB16: CEEMEA | BC16: CEEMEA | BF16: CEEMEA | BG16: CEEMEA | BH16: CEEMEA | BI16: CEEMEA | BN16: CEEMEA | BO16: CEEMEA | BP16: CEEMEA | BQ16: CEEMEA | BT16: CEEMEA | BU16: CEEMEA | BV16: CEEMEA | BW16: CEEMEA | BX16: CEEMEA | CA16: CEEMEA | CB16: CEEMEA | CC16: CEEMEA | CD16: CEEMEA | CE16: CEEMEA | CH16: CEEMEA | CI16: CEEMEA | CJ16: CEEMEA | CK16: CEEMEA | CL16: CEEMEA | CO16: CEEMEA | CP16: CEEMEA | CQ16: CEEMEA | CR16: CEEMEA | CS16: CEEMEA | CV16: CEEMEA | CW16: CEEMEA | CX16: CEEMEA | CY16: CEEMEA | CZ16: CEEMEA | DC16: CEEMEA | DD16: CEEMEA | DE16: CEEMEA | DF16: CEEMEA | DG16: CEEMEA | DJ16: CEEMEA | DK16: CEEMEA | DL16: CEEMEA | DM16: CEEMEA | DN16: CEEMEA | DQ16: CEEMEA | DR16: CEEMEA | DS16: CEEMEA | DT16: CEEMEA | DU16: CEEMEA | DX16: CEEMEA | DY16: CEEMEA | DZ16: CEEMEA | EA16: CEEMEA | EB16: 1208080420583 | EE16: CEEMEA | EF16: CEEMEA | EG16: CEEMEA | EH16: CEEMEA | EI16: CEEMEA | EL16: CEEMEA | EM16: CEEMEA | EN16: CEEMEA | EO16: CEEMEA | EP16: CEEMEA | ES16: CEEMEA | ET16: CEEMEA | EU16: CEEMEA | EV16: CEEMEA | EW16: CEEMEA | EZ16: CEEMEA | FA16: CEEMEA | FB16: CEEMEA | FC16: CEEMEA | FD16: CEEMEA | FG16: CEEMEA | FH16: CEEMEA | FI16: CEEMEA | FJ16: CEEMEA | FK16: CEEMEA | FN16: CEEMEA | FO16: CEEMEA | FP16: CEEMEA | FQ16: CEEMEA | FR16: CEEMEA | FU16: CEEMEA | FV16: CEEMEA | FW16: CEEMEA | FX16: CEEMEA | FY16: CEEMEA | GB16: CEEMEA | GC16: CEEMEA | GD16: CEEMEA | GE16: CEEMEA | GF16: CEEMEA | GI16: CEEMEA | GJ16: CEEMEA | GK16: CEEMEA | GL16: CEEMEA | GM16: CEEMEA | GP16: CEEMEA | GQ16: CEEMEA | GR16: CEEMEA | GS16: CEEMEA | GT16: CEEMEA | HR16: CEEMEA | HS16: CEEMEA | HT16: CEEMEA | HU16: CEEMEA | HV16: CEEMEA | HY16: CEEMEA | HZ16: CEEMEA | IA16: CEEMEA | IB16: CEEMEA | IC16: CEEMEA | IF16: CEEMEA | IG16: CEEMEA | IH16: CEEMEA | II16: CEEMEA | IJ16: CEEMEA | IM16: CEEMEA | IN16: CEEMEA | IO16: CEEMEA | IP16: CEEMEA | IQ16: CEEMEA | IT16: CEEMEA | IU16: CEEMEA | IV16: CEEMEA | IW16: CEEMEA | IX16: CEEMEA
A17: 15 | B17: CEEMEA | C17: CEEMEA | D17: CEEMEA | E17: CEEMEA | F17: CEEMEA | K17: CEEMEA | L17: CEEMEA | M17: CEEMEA | P17: CEEMEA | Q17: CEEMEA | R17: CEEMEA | S17: CEEMEA | T17: CEEMEA | W17: CEEMEA | X17: CEEMEA | Y17: 120615075033 | Z17: CEEMEA | AK17: CEEMEA | AL17: CEEMEA | AM17: CEEMEA | AN17: CEEMEA | AO17: 120510123130 | AR17: CEEMEA | AS17: CEEMEA | AT17: CEEMEA | AU17: CEEMEA | AV17: CEEMEA | AY17: CEEMEA | AZ17: CEEMEA | BA17: CEEMEA | BB17: CEEMEA | BC17: CEEMEA | BF17: CEEMEA | BG17: CEEMEA | BH17: CEEMEA | BI17: CEEMEA | BN17: CEEMEA | BO17: CEEMEA | BP17: CEEMEA | BQ17: CEEMEA | BT17: CEEMEA | BU17: CEEMEA | BV17: CEEMEA | BW17: CEEMEA | BX17: CEEMEA | CA17: CEEMEA | CB17: CEEMEA | CC17: CEEMEA | CD17: CEEMEA | CE17: CEEMEA | CH17: CEEMEA | CI17: CEEMEA | CJ17: CEEMEA | CK17: CEEMEA | CL17: CEEMEA | CO17: CEEMEA | CP17: CEEMEA | CQ17: CEEMEA | CR17: CEEMEA | CS17: CEEMEA | CV17: CEEMEA | CW17: CEEMEA | CX17: CEEMEA | CY17: CEEMEA | CZ17: CEEMEA | DC17: CEEMEA | DD17: CEEMEA | DE17: CEEMEA | DF17: CEEMEA | DG17: CEEMEA | DJ17: CEEMEA | DK17: CEEMEA | DL17: CEEMEA | DM17: CEEMEA | DN17: CEEMEA | DQ17: CEEMEA | DR17: CEEMEA | DS17: CEEMEA | DT17: CEEMEA | DU17: CEEMEA | DX17: CEEMEA | DY17: CEEMEA | DZ17: CEEMEA | EA17: CEEMEA | EB17: 1208170548561 | EE17: CEEMEA | EF17: CEEMEA | EG17: CEEMEA | EH17: CEEMEA | EI17: CEEMEA | EL17: CEEMEA | EM17: CEEMEA | EN17: CEEMEA | EO17: CEEMEA | EP17: CEEMEA | ES17: CEEMEA | ET17: CEEMEA | EU17: CEEMEA | EV17: CEEMEA | EW17: CEEMEA | EZ17: CEEMEA | FA17: CEEMEA | FB17: CEEMEA | FC17: CEEMEA | FD17: CEEMEA | FG17: CEEMEA | FH17: CEEMEA | FI17: CEEMEA | FJ17: CEEMEA | FK17: CEEMEA | FN17: CEEMEA | FO17: CEEMEA | FP17: CEEMEA | FQ17: CEEMEA | FR17: CEEMEA | FU17: CEEMEA | FV17: CEEMEA | FW17: CEEMEA | FX17: CEEMEA | FY17: CEEMEA | GB17: CEEMEA | GC17: CEEMEA | GD17: CEEMEA | GE17: CEEMEA | GF17: CEEMEA | GI17: CEEMEA | GJ17: CEEMEA | GK17: CEEMEA | GL17: CEEMEA | GM17: CEEMEA | GP17: CEEMEA | GQ17: CEEMEA | GR17: CEEMEA | GS17: CEEMEA | GT17: CEEMEA | HR17: CEEMEA | HS17: CEEMEA | HT17: CEEMEA | HU17: CEEMEA | HV17: CEEMEA | HY17: CEEMEA | HZ17: CEEMEA | IA17: CEEMEA | IB17: CEEMEA | IC17: CEEMEA | IF17: CEEMEA | IG17: CEEMEA | IH17: CEEMEA | II17: CEEMEA | IJ17: CEEMEA | IM17: CEEMEA | IN17: CEEMEA | IO17: CEEMEA | IP17: CEEMEA | IQ17: CEEMEA | IT17: CEEMEA | IU17: CEEMEA | IV17: CEEMEA | IW17: CEEMEA | IX17: CEEMEA
A18: 16 | B18: Fast Track | C18: Fast Track | D18: Fast Track | E18: Fast Track | F18: Fast Track | K18: Fast Track | L18: Fast Track | M18: Fast Track | P18: Fast Track | Q18: Fast Track | R18: Fast Track | S18: Fast Track | T18: Fast Track | W18: Fast Track | X18: Fast Track | Y18: 120612115502 | Z18: Fast Track | AK18: Fast Track | AL18: Fast Track | AM18: Fast Track | AN18: Fast Track | AO18: Fast Track | AR18: Fast Track | AS18: Fast Track | AT18: Fast Track | AU18: Fast Track | AV18: 120710103213 | AY18: Fast Track | AZ18: Fast Track | BA18: Fast Track | BB18: Fast Track | BC18: Fast Track | BI18: Fast Track | BN18: Fast Track | BO18: Fast Track | BP18: Fast Track | BQ18: Fast Track | BT18: Fast Track | BU18: Fast Track | BV18: Fast Track | BW18: Fast Track | BX18: Fast Track | CA18: Fast Track | CB18: Fast Track | CC18: Fast Track | CD18: Fast Track | CE18: Fast Track | CH18: Fast Track | CI18: Fast Track | CJ18: Fast Track | CK18: Fast Track | CL18: Fast Track | CO18: Fast Track | CP18: Fast Track | CQ18: Fast Track | CR18: Fast Track | CS18: Fast Track | CV18: Fast Track | CW18: Fast Track | CX18: Fast Track | CY18: Fast Track | CZ18: Fast Track | DC18: Fast Track | DD18: Fast Track | DE18: Fast Track | DF18: Fast Track | DG18: Fast Track | DJ18: Fast Track | DK18: Fast Track | DL18: Fast Track | DM18: Fast Track | DN18: 120920105038 | DQ18: Fast Track | DR18: 120921080155 | DS18: Fast Track | DT18: Fast Track | DU18: Fast Track | DX18: Fast Track | DY18: Fast Track | DZ18: Fast Track | EA18: Fast Track | EB18: Fast Track | EE18: Fast Track | EF18: Fast Track | EG18: Fast Track | EH18: Fast Track | EI18: Fast Track | EL18: Fast Track | EM18: Fast Track | EN18: Fast Track | EO18: Fast Track | EP18: Fast Track | ES18: Fast Track | ET18: Fast Track | EU18: Fast Track | EV18: Fast Track | EW18: Fast Track | EZ18: Fast Track | FA18: Fast Track | FB18: Fast Track | FC18: Fast Track | FD18: Fast Track | FG18: 120928083924 | FH18: 120928083925 | FI18: Fast Track | FJ18: Fast Track | FK18: Fast Track | FN18: 121107151010 | FO18: Fast Track | FP18: Fast Track | FQ18: 121016045052 | FR18: 121017044209 | FU18: Fast Track | FV18: Fast Track | FW18: Fast Track | FX18: Fast Track | FY18: Fast Track | GB18: Fast Track | GC18: Fast Track | GD18: Fast Track | GE18: Fast Track | GF18: Fast Track | GI18: Fast Track | GJ18: Fast Track | GK18: Fast Track | GL18: Fast Track | GM18: Fast Track | GP18: Fast Track | GQ18: Fast Track | GR18: Fast Track | GS18: Fast Track | GT18: Fast Track | HR18: Fast Track | HS18: Fast Track | HT18: Fast Track | HU18: Fast Track | HV18: Fast Track | HY18: Fast Track | HZ18: Fast Track | IA18: Fast Track | IB18: Fast Track | IC18: Fast Track | IF18: Fast Track | IG18: Fast Track | IH18: Fast Track | II18: Fast Track | IJ18: Fast Track | IM18: Fast Track | IN18: Fast Track | IO18: Fast Track | IP18: Fast Track | IQ18: Fast Track | IT18: Fast Track | IU18: Fast Track | IV18: Fast Track | IW18: Fast Track | IX18: Fast Track
A19: 17 | B19: 111109112812 | C19: 111118111642 | D19: 120327064037 | E19: 120511065956 | F19: 120511070000 | K19: 120523072235 | L19: 1205110659561 | M19: 120511072837 | P19: 120511102045 | Q19: 120514070347 | R19: 120522051859 | S19: 120222205813 | T19: 1205211026351 | W19: 120523074225 | X19: 120222205424 | Y19: 120611073314 | Z19: 120615103712 | AE19: 120618123957 | AF19: 120622120228 | AH19: 1205040732531 | AK19: 120618131420 | AM19: 120626072902 | AN19: 120629134943 | AO19: 120702115202 | AR19: 1206290940271 | AT19: 120704085415 | AU19: 120704085317 | AV19: 120710103424 | AW19: 120608102151 | AY19: 120704164011 | AZ19: 1207040925463 | BA19: 120326131421 | BB19: 1206290700111 | BC19: 120712091154 | BF19: 120705092215 | BG19: 120705092219 | BH19: 120717060231 | BI19: 120717061153 | BN19: 120717061708 | BO19: 120717061959 | BP19: 120717062241 | BQ19: 120718054932 | BT19: 120718062052 | BU19: 1206280443063 | BV19: 1206280443203 | BW19: 1207050922161 | BX19: 1207171114351 | CA19: 1207160057171 | CB19: 1207050831192 | CC19: 1206180420173 | CD19: 120718115252 | CE19: 120718114646 | CH19: 120717061959 | CI19: 120713114036 | CJ19: 120713034307 | CK19: 120712091133 | CL19: 120705092155 | CP19: 120705092154 | CQ19: 1101121309421 | CR19: 120802135948 | CS19: 120807114245 | CV19: 1208140314061 | CW19: 1207310442292 | CY19: 120817085824 | CZ19: 120817091339 | DC19: 120817093926 | DD19: 120817094811 | DE19: 120830100816 | DF19: 120821104845 | DG19: 1207120911141 | DJ19: 1208011218572 | DK19: 1206290700111 | DN19: 120920105039 | DQ19: 120906034948 | DR19: 120914043948 | DS19: 1209140439392 | DT19: 120911103950 | DU19: 120815111406 | DX19: 120920102003 | DY19: 120920100741 | DZ19: 120921103812 | EA19: 120924072835 | EB19: 120925065753 | EE19: 120925072358 | EF19: 120925081432 | EG19: 121004115414 | EH19: 120911085025 | EI19: 120918132852 | EL19: 120928083924 | EM19: 1209271104291 | EN19: 120918043436 | EO19: 121002121312 | EP19: 121001103918 | ES19: 121002103025 | ET19: 1210021030251 | EU19: 121003111216 | EV19: 120918043442 | EW19: 121009072551 | EZ19: 121009080142 | FA19: 121009093649 | FB19: 121010053413 | FC19: 121012103818 | FG19: 121015095853 | FH19: 1209140439273 | FI19: 1210090936471 | FJ19: 120925102028 | FK19: 121001103918 | FN19: 121002092610 | FO19: 121002092614 | FP19: 1210020926101 | FQ19: 120918132852 | FR19: 121009093648 | FU19: 1205071015481 | FV19: 1208080420583 | FW19: 120808042130 | FX19: 120925072119 | FY19: 121002103023 | GB19: 121019204011 | GC19: 1209181329021 | GD19: 120920100749 | GE19: 120920102004 | GF19: 121004114031 | GI19: 121004114039 | GJ19: 121004114049 | GK19: 1208170548561 | GL19: 1210041140271 | GM19: 120925081434 | GP19: 121024080055 | GQ19: 1210050639322 | GR19: 121017111953 | GS19: 121026113639 | GT19: 121017112319 | HR19: 121027031435 | HS19: 121029115550 | HT19: 121030044113 | HU19: 121030072652 | HY19: 121031093238 | HZ19: 1210101126282 | IA19: 1210310932381 | IB19: 121031081421 | IC19: 120802114037 | IF19: 121026135114 | IG19: 121026135119 | IH19: 121102094154 | II19: 121102094344 | IJ19: 121106040214 | IM19: 121107050722 | IN19: 121107060934 | IO19: 121107065015 | IP19: 121108075733 | IQ19: 121108092025 | IT19: 121110100521 | IU19: 121114004601 | IV19: 1210261351161 | IW19: 1211020941521 | IX19: 1211070527481 | JA19: 1211121416443 | JB19: 121114065740 | JC19: 121105092042 | JD19: 121115094541
A20: 18 | B20: 1204191111052 | C20: 1203260617041 | D20: 1205101150192 | E20: 120511065957 | F20: 120523051825 | K20: 120523072412 | L20: 1205230727385 | M20: 120511073055 | P20: 120511103007 | Q20: 120521041016 | R20: 120522052350 | S20: 120308212238 | T20: 1205250518401 | W20: 120523074226 | X20: 1203260617041 | Y20: 120614082356 | Z20: 120521102634 | AE20: 120618123958 | AH20: 120504073254 | AK20: 120214053629 | AL20: 120627052444 | AM20: 120629093931 | AN20: 120702103130 | AO20: 120702115204 | AR20: 120703111757 | AS20: 1206281250191 | AT20: 120704083245 | AU20: 120629134940 | AW20: 120608102804 | AY20: 120710235851 | AZ20: 120702101620 | BA20: 120705092154 | BB20: 120529114300 | BC20: 120712091156 | BF20: 120705092216 | BG20: 120705092220 | BH20: 120717060625 | BI20: 120717061324 | BN20: 120717061804 | BO20: 120717062047 | BP20: 120718052052 | BQ20: 120718061210 | BT20: 120718062227 | BU20: 1206280443104 | BV20: 1206280443233 | BW20: 1207050922201 | BX20: 1207171115392 | CA20: 1207160108521 | CB20: 1207050840152 | CC20: 1206180420221 | CD20: 120718173436 | CE20: 120718114816 | CH20: 120717062047 | CI20: 120716050603 | CJ20: 120713034446 | CK20: 120712091134 | CL20: 120529114300 | CQ20: 120517113404 | CR20: 120802135949 | CS20: 120807114644 | CV20: 1208090636051 | CW20: 120831132013 | CX20: 120814105536 | CY20: 120817090532 | CZ20: 120817091514 | DC20: 120817094044 | DD20: 120817095100 | DE20: 120830100821 | DF20: 1208211051441 | DG20: 1207300822342 | DJ20: 1208281236333 | DK20: 1207170519353 | DL20: 120918094814 | DN20: 120920122446 | DQ20: 120906034947 | DR20: 1209140439433 | DS20: 120914043427 | DU20: 120822072617 | DX20: 120920102004 | DY20: 120920100748 | DZ20: 120921104210 | EA20: 120924073125 | EB20: 120925071712 | EE20: 120925072944 | EF20: 120925081434 | EG20: 121004115419 | EH20: 120911085027 | EI20: 120927104826 | EL20: 120928083925 | EM20: 120928084209 | EN20: 121001103915 | EO20: 121002121623 | EP20: 121001103919 | ES20: 121002103026 | ET20: 1210021030271 | EU20: 1209181329021 | EV20: 121005113706 | EW20: 121009073210 | EZ20: 121009093646 | FA20: 121009093650 | FB20: 121010053909 | FC20: 121012104249 | FD20: 121014235508 | FG20: 121015100154 | FH20: 1209140439341 | FI20: 1210090936491 | FJ20: 120817055750 | FK20: 121001103919 | FN20: 121002092611 | FO20: 121002092615 | FP20: 1210020926131 | FQ20: 120919073941 | FR20: 121009093649 | FU20: 1205071017043 | FV20: 1208080421003 | FW20: 120920123003 | FX20: 120925072358 | FY20: 121002103028 | GB20: 121019210444 | GC20: 110112124608 | GD20: 120920100750 | GE20: 120920102005 | GF20: 121004114035 | GI20: 121004114041 | GJ20: 121022005904 | GK20: 1209201007501 | GL20: 1210041140401 | GM20: 120925092049 | GP20: 121025073356 | GQ20: 1210170505041 | GR20: 121017111955 | GS20: 121026114131 | GT20: 121017112324 | HR20: 121027032040 | HS20: 121029115555 | HT20: 121030044819 | HU20: 121030072701 | HV20: 121010112643 | HY20: 1203261240303 | HZ20: 1210101126361 | IA20: 121031074439 | IB20: 121031081422 | IC20: 121005113707 | IF20: 121026135116 | IG20: 121026135120 | IH20: 121102094200 | II20: 121102094345 | IJ20: 121107002637 | IM20: 121107050915 | IN20: 121107061215 | IO20: 121107103542 | IP20: 121108075734 | IQ20: 121109025700 | IT20: 121110100731 | IU20: 1208170546371 | IV20: 1211011000561 | IW20: 1211020943421 | IX20: 1211070631351 | JA20: 121017035437 | JB20: 121114070213 | JC20: 121115090825
A21: 19 | B21: 1204020935331 | C21: 1205090000082 | D21: 120521115524 | E21: 120511065958 | F21: 120523051826 | K21: 120523072550 | L21: 120509052318 | M21: 120511075950 | P21: 120511103713 | Q21: 120521094133 | R21: 120524111806 | S21: 120524102842 | T21: 1205250819523 | W21: 120525051353 | X21: 120608064527 | Y21: 120614084520 | Z21: 120618131420 | AE21: 120618123959 | AF21: 1205080529373 | AK21: 1202140536363 | AL21: 1206270520161 | AM21: 120629094027 | AN21: 120702104025 | AO21: 120702115205 | AR21: 1202030824102 | AS21: 120628125019 | AT21: 120704085143 | AU21: 1206291349411 | AV21: 1205290750522 | AW21: 1206081029374 | AY21: 120711000458 | AZ21: 120705092155 | BA21: 120711051041 | BB21: 120709104626 | BC21: 1205291205301 | BF21: 120705092217 | BG21: 120705092221 | BH21: 120717060804 | BI21: 120717061437 | BN21: 120717061905 | BO21: 120717062047 | BP21: 120718052451 | BQ21: 120718061524 | BT21: 1206280442594 | BU21: 1206280443135 | BV21: 1206280443266 | BW21: 1207120911561 | BX21: 1207190418151 | CA21: 1207181739281 | CB21: 1207050921551 | CC21: 1206180553583 | CD21: 120720000104 | CE21: 120718115002 | CH21: 120713034841 | CI21: 120716051627 | CJ21: 120713034606 | CK21: 120712091135 | CL21: 120709104626 | CP21: 1208131121231 | CQ21: 1205291205301 | CR21: 120802135950 | CV21: 1208130601181 | CW21: 120815111406 | CX21: 120817055750 | CY21: 120817091023 | CZ21: 120817093410 | DC21: 120817094247 | DD21: 120817095329 | DE21: 120517113406 | DK21: 1209180940441 | DL21: 120918101103 | DN21: 120920123244 | DQ21: 120906034949 | DR21: 120914131525 | DS21: 120919080500 | DT21: 1209181328563 | DU21: 1207260344013 | DX21: 120920102005 | DY21: 120920100749 | DZ21: 120920123003 | EA21: 120925064243 | EB21: 120925072119 | EE21: 120925073254 | EF21: 120925092049 | EG21: 121004115426 | EH21: 120926062821 | EI21: 120928062940 | EL21: 120928084206 | EM21: 121001031312 | EN21: 121001103916 | EO21: 121002121759 | EP21: 120817055750 | ES21: 121002103027 | ET21: 1210021030291 | EU21: 1210011039171 | EV21: 121005113708 | EW21: 121009073359 | EZ21: 121009093647 | FA21: 121010041041 | FB21: 121012045300 | FC21: 121014235219 | FD21: 121014235824 | FG21: 1209140434453 | FH21: 1209180434431 | FI21: 1210120912551 | FJ21: 121001103915 | FK21: 121002092608 | FN21: 121002092612 | FO21: 121002103025 | FP21: 1210020926141 | FQ21: 121009093646 | FR21: 121009093650 | FU21: 1207300416493 | FV21: 1208080421041 | FW21: 120925065753 | FX21: 120925072944 | GB21: 121019210716 | GC21: 120920100741 | GD21: 120920100751 | GE21: 120920102006 | GF21: 121004114036 | GI21: 121004114042 | GJ21: 121022010608 | GK21: 1209201020041 | GL21: 120918043442 | GM21: 120925092714 | GP21: 121025170744 | GQ21: 1210250746343 | GR21: 121026064434 | GS21: 1210091243331 | GT21: 121017112326 | HR21: 121027032329 | HS21: 121029115558 | HT21: 121030045259 | HU21: 121030072714 | HV21: 121015113947 | HY21: 1203261240343 | HZ21: 1210151107151 | IA21: 121031080654 | IB21: 1207301048403 | IC21: 121026113051 | IF21: 121026135117 | IG21: 121031081108 | IH21: 121102094201 | II21: 121105091900 | IJ21: 121107003225 | IM21: 121107051252 | IN21: 121107064025 | IO21: 121107104419 | IP21: 121108075735 | IQ21: 121109101844 | IT21: 121110100845 | IU21: 1208170550321 | IV21: 1211011502532 | IW21: 1211050918541 | IX21: 1211070644121 | JA21: 121105092224 | JB21: 121114070405 | JC21: 121115093345
A22: 20 | B22: 110112124608 | C22: 120327063532 | D22: 1205211155251 | E22: 120511065959 | F22: 120523072032 | K22: 120523072923 | L22: 120509052618 | M22: 120511080312 | P22: 120511104441 | Q22: 120522050351 | R22: 120222205424 | S22: 120524104719 | T22: 1205250832273 | W22: 1205180931582 | X22: 120222205813 | Y22: 120619094125 | Z22: 120618132301 | AE22: 120618124000 | AK22: 120214053642 | AL22: 1206280442081 | AM22: 120629134938 | AR22: 1206290939311 | AS22: 120702101618 | AT22: 120704085602 | AU22: 1206291349421 | AV22: 1205290817112 | AW22: 120608103108 | AZ22: 1207050921551 | BA22: 1203261342263 | BB22: 120709104628 | BC22: 1206290700111 | BF22: 120705092218 | BG22: 120705092222 | BH22: 120717060923 | BI22: 120717061544 | BN22: 120717061959 | BO22: 120717062137 | BP22: 120718053619 | BQ22: 120718061813 | BT22: 1206280443025 | BU22: 1206280443171 | BV22: 1206280443303 | BW22: 1207170610431 | BX22: 1207190419001 | CA22: 1207190417221 | CB22: 120728055847 | CC22: 1206180554013 | CD22: 120720000735 | CE22: 120718115112 | CH22: 120718112725 | CI22: 120716051936 | CJ22: 120713034724 | CK22: 120713034125 | CL22: 120709104628 | CP22: 1208131121443 | CQ22: 120726115048 | CR22: 120803023337 | CS22: 120725081705 | CV22: 120802052527 | CW22: 120831130840 | CX22: 120813072545 | CY22: 120817091200 | CZ22: 120817093719 | DC22: 120817094548 | DD22: 120817095624 | DE22: 120830100825 | DF22: 120822073346 | DG22: 1207311200172 | DK22: 120829132233 | DL22: 120918101550 | DN22: 1209060349491 | DQ22: 120914043354 | DR22: 120914131728 | DS22: 120911103946 | DT22: 1101121309421 | DU22: 1207260343541 | DX22: 120920102006 | DY22: 120920100750 | DZ22: 120925102028 | EA22: 120925103117 | EB22: 1203261341573 | EE22: 1209110954451 | EF22: 120925092714 | EG22: 121004115427 | EH22: 1209260617381 | EI22: 120928063131 | EL22: 120928084208 | EM22: 120918043436 | EN22: 121001103917 | EO22: 1210021220001 | EP22: 121002103023 | ES22: 121002103028 | ET22: 121003111215 | EU22: 1210031112141 | EV22: 121008090312 | EW22: 121009073609 | EZ22: 121009093648 | FA22: 121010053020 | FB22: 121012103043 | FC22: 121014234649 | FD22: 121015074047 | FG22: 1209140439233 | FH22: 1210090759291 | FI22: 120919080500 | FJ22: 121001103916 | FK22: 121002092609 | FN22: 121002092613 | FO22: 1210020926081 | FP22: 1210021030251 | FQ22: 121009093647 | FR22: 121012045300 | FU22: 1207300416523 | FV22: 1208170551071 | FW22: 120925071712 | FX22: 120925073254 | FY22: 121019091907 | GB22: 121019212051 | GC22: 120920100748 | GD22: 120920102003 | GE22: 120921104210 | GF22: 121004114037 | GI22: 121004114043 | GJ22: 1101121309421 | GK22: 1209201020062 | GL22: 120925081432 | GM22: 121001103917 | GP22: 1210011039171 | GQ22: 1210251701391 | GR22: 121026064755 | GS22: 1210282233581 | GT22: 121017112327 | HR22: 121027032653 | HS22: 121029115600 | HT22: 121030050610 | HU22: 120928083924 | HV22: 121030072555 | HY22: 1210101126192 | HZ22: 1210151139503 | IA22: 121031080756 | IB22: 121014231615 | IC22: 121026113053 | IF22: 121026135118 | IG22: 121101100626 | IH22: 121102094343 | II22: 121106035750 | IJ22: 121107015342 | IM22: 121107052544 | IN22: 121107064730 | IO22: 121108075732 | IP22: 121108090543 | IQ22: 121110100247 | IT22: 121112134838 | IU22: 1210160453281 | IV22: 1211011510381 | IW22: 1211070522511 | IX22: 1211121409191 | JA22: 121105092226 | JB22: 121114070729 | JC22: 121115094402
A23: 21 | X23: 1206131239301 | Y23: 120618094035 | Z23: 1206141413342 | AE23: 120615104850 | AK23: 1202140536481 | AL23: 1206280442113 | AR23: 120702101620 | AS23: 120709091824 | AT23: 120709060527 | AU23: 1207050921331 | AV23: 120713053542 | AW23: 120608103221 | BC23: 120712091155 | BF23: 1207131032042 | BN23: 1207260906031 | BO23: 1207250658361 | BQ23: 120618042024 | BR23: 120718061210 | BW23: 120712091157 | CA23: 120808034441 | CB23: 120801051551 | CC23: 120807111746 | CD23: 120806042917 | CE23: 120808053254 | CH23: 120813074901 | CI23: 120813122842 | CJ23: 120821024055 | CQ23: 1208131121543 | CR23: 120713114036 | CS23: 120807114847 | CV23: 120813062647 | CW23: 120831132357 | CX23: 120813072546 | DC23: 1208300652102 | DD23: 120817094811 | DE23: 120903091621 | DF23: 120910051807 | DG23: 120724062903 | DJ23: 120906050548 | DK23: 120326133020 | DL23: 1203261330002 | DM23: 1203261330243 | DN23: 1203261330474 | DQ23: 120820104430 | DR23: 120829044635 | DS23: 120829044639 | DT23: 120831032320 | DU23: 120831032952 | DX23: 1209201020041 | DY23: 120920100751 | DZ23: 1203261342323 | EA23: 120907104148 | EB23: 120907134556 | EE23: 120907140813 | EF23: 120814105536 | EG23: 1207260343573 | EH23: 120906034950 | EI23: 120918043435 | EU23: 120927052257 | FN23: 121107151012 | FO23: 120921104210
