Workbook
Name _c__Master_TCO_Report_by_PL__Run_if_needed_: #REF!
Name _c__Master_TCO_Report_by_PL__Run_if_needed_: #REF!
Name _RF2001: #REF!
Name _RF2001: #REF!
Name AcctGroup: '[2]TOTAL (2)'!$K$197
Name Adjustments: '[3]o_(r)'!#REF!
Name Adjustments: '[3]o_(r)'!#REF!
Name ALIGN_ALL: #N/A
Name ALL: #REF!
Name ALL: #REF!
Name ASPACSum: [4]ASPACSum!$A$9:$AQ$50
Name aug: '[5]August AM180'!$E$1:$G$3810
Name big2tas: #REF!
Name big2tas: #REF!
Name branches: #REF!
Name branches: #REF!
Name btu: '[6]6. Rates'!$D$4
Name BTU_Cost: [7]Reference!#REF!
Name BTU_Cost: [7]Reference!#REF!
Name BTU_Cost___0: [8]MiscCostDataLookup!$B$11
Name btu_pwr_ratio: '[6]6. Rates'!$D$8
Name Building: '[9]Drop Down List'!#REF!
Name Building: '[9]Drop Down List'!#REF!
Name BuiltIn_Print_Area___1: #REF!
Name BuiltIn_Print_Area___1: #REF!
Name BuiltIn_Print_Area___2: "$#REF!.$B$#REF!:$U$#REF!"
Name BuiltIn_Print_Area___4: #REF!
Name BuiltIn_Print_Area___4: #REF!
Name BuiltIn_Print_Area___5: "$Template.$B$#REF!:$U$#REF!"
Name BuiltIn_Print_Titles___1: #REF!
Name BuiltIn_Print_Titles___1: #REF!
Name BuiltIn_Print_Titles___2: "$#REF!.$B$1:$B$31853"
Name BuiltIn_Print_Titles___5: #REF!
Name BuiltIn_Print_Titles___5: #REF!
Name Calendar: #REF!
Name Calendar: #REF!
Name CAO: #REF!
Name CAO: #REF!
Name Cap_pool: '[6]Rate Schedule'!#REF!
Name Cap_pool: '[6]Rate Schedule'!#REF!
Name cc_008167: #REF!
Name cc_008167: #REF!
Name cc_019106: #REF!
Name cc_019106: #REF!
Name cc_019107: #REF!
Name cc_019107: #REF!
Name cfgdbCPUx: #REF!
Name cfgdbCPUx: #REF!
Name CGDBMachx: #REF!
Name CGDBMachx: #REF!
Name citi: #REF!
Name citi: #REF!
Name City: '[9]Drop Down List'!#REF!
Name City: '[9]Drop Down List'!#REF!
Name CODES_RETRIEVAL: #REF!
Name CODES_RETRIEVAL: #REF!
Name Compaq: #REF!
Name Compaq: #REF!
Name ConsumerEssbase: [3]corp_con!#REF!
Name ConsumerEssbase: [3]corp_con!#REF!

Sheet SAN
A1: EMEA
D2: 2009 | H2: 2010 | X2: 2011 | AN2: 2012 | BD2: 2013
A3: SAN | D3: Q1 | E3: Q2 | F3: Q3 | G3: Q4 | H3: Jan | I3: Feb | J3: Mar | K3: Q1 | L3: Apr | M3: May | N3: Jun | O3: Q2 | P3: Jul | Q3: Aug | R3: Sep | S3: Q3 | T3: Oct | U3: Nov | V3: Dec | W3: Q4 | X3: Jan | Y3: Feb | Z3: Mar | AA3: Q1 | AB3: Apr | AC3: May | AD3: Jun | AE3: Q2 | AF3: Jul | AG3: Aug | AH3: Sep | AI3: Q3 | AJ3: Oct | AK3: Nov | AL3: Dec | AM3: Q4 | AN3: Jan | AO3: Feb | AP3: Mar | AQ3: Q1 | AR3: Apr | AS3: May | AT3: Jun | AU3: Q2 | AV3: Jul | AW3: Aug | AX3: Sep | AY3: Q3 | AZ3: Oct | BA3: Nov | BB3: Dec | BC3: Q4 | BD3: Jan | BE3: Feb | BF3: Mar | BG3: Q1 | BH3: Apr | BI3: May | BJ3: Jun | BK3: Q2 | BL3: Jul | BM3: Aug | BN3: Sep | BO3: Q3 | BP3: Oct | BQ3: Nov | BR3: Dec | BS3: Q4
B4: CORP | C4: % Optimized | H4: 0.0069914368 | I4: 0.0053189014 | J4: 0 | K4: =J4 -> 0 | L4: 0.0022670458 | M4: 0.0045846965 | N4: 0.0081681162 | O4: =N4 -> 0.0081681162 | P4: 0.0072606565 | Q4: 0.0074357144 | R4: 0.0057898481 | S4: =R4 -> 0.0057898481 | T4: 1.9340009e-05 | U4: 0.001040053 | V4: 0.00075914638 | W4: =V4 -> 0.00075914638 | X4: 0.00076496361 | Y4: 0.0014018844 | Z4: 0.00080591592 | AA4: =+Z4 -> 0.00080591592 | AB4: 0.0005806539 | AC4: 0.0005806539 | AD4: 0.00074195628 | AE4: =+AD4 -> 0.00074195628 | AF4: 0.00073942616 | AG4: 0.00056704224 | AH4: 0.00082896046 | AI4: =+AH4 -> 0.00082896046 | AJ4: 0.11406985 | AK4: 0.12752408 | AL4: 0.13483506 | AM4: =+AL4 -> 0.13483506 | AN4: 0.11519934 | AO4: 0.13925946 | AP4: 0.13165563 | AQ4: =+AP4 -> 0.13165563 | AR4: 0.10497669 | AS4: 0.10053725 | AT4: 0.084834253 | AU4: =+AT4 -> 0.084834253 | AV4: 0.11033193 | AW4: 0.11010547 | AX4: 0.095437641 | AY4: =+AX4 -> 0.095437641 | AZ4: 0.096758698 | BB4: 0.087492837 | BC4: =+BB4 -> 0.087492837 | BE4: 0.09 | BF4: 0.094 | BG4: =+BF4 -> 0.094
C5: % Virtualized | K5: =J5 -> 0 | O5: =N5 -> 0 | P5: 0.1101859 | Q5: 0.11281086 | R5: 0.089098607 | S5: =R5 -> 0.089098607 | T5: 0.097454857 | U5: 0.4142383 | V5: 0.38344619 | W5: =V5 -> 0.38344619 | X5: 0.38588218 | Y5: 0.34331454 | Z5: 0.34495407 | AA5: =+Z5 -> 0.34495407 | AB5: 0.35315828 | AC5: 0.54522846 | AD5: 0.5528715 | AE5: =+AD5 -> 0.5528715 | AF5: 0.56936427 | AG5: 0.58069051 | AH5: 0.57461576 | AI5: =+AH5 -> 0.57461576 | AJ5: 0.54631616 | AK5: 0.54751989 | AL5: 0.5640743 | AM5: =+AL5 -> 0.5640743 | AN5: 0.5789011 | AO5: 0.57980765 | AP5: 0.58859858 | AQ5: =+AP5 -> 0.58859858 | AR5: 0.59216201 | AS5: 0.61012351 | AT5: 0.57770683 | AU5: =+AT5 -> 0.57770683 | AV5: 0.56184127 | AW5: 0.56209715 | AX5: 0.573758 | AY5: =+AX5 -> 0.573758 | AZ5: 0.57191253 | BB5: 0.52392136 | BC5: =+BB5 -> 0.52392136 | BE5: 0.52 | BF5: 0.59 | BG5: =+BF5 -> 0.59 | BK5: =+BJ5 -> 0 | BO5: =+BN5 -> 0 | BS5: =+BR5 -> 0
C6: Avg Utilization | D6: =IF(D7=0,0,D8/D7) -> 0 | E6: =IF(E7=0,0,E8/E7) -> 0 | F6: =IF(F7=0,0,F8/F7) -> 0 | G6: =IF(G7=0,0,G8/G7) -> 0 | H6: =IF(H7=0,0,H8/H7) -> 0.439752 | I6: =IF(I7=0,0,I8/I7) -> 0.43566497 | J6: =IF(J7=0,0,J8/J7) -> 0.39890375 | K6: =J6 -> 0.39890375 | L6: =IF(L7=0,0,L8/L7) -> 0.50227756 | M6: =IF(M7=0,0,M8/M7) -> 0.58472469 | N6: =IF(N7=0,0,N8/N7) -> 0.59120341 | O6: =N6 -> 0.59120341 | P6: =IF(P7=0,0,P8/P7) -> 0.61020654 | Q6: =IF(Q7=0,0,Q8/Q7) -> 0.6022829 | R6: =IF(R7=0,0,R8/R7) -> 0.57724929 | S6: =R6 -> 0.57724929 | T6: =IF(T7=0,0,T8/T7) -> 0.58953728 | U6: =IF(U7=0,0,U8/U7) -> 0.54487984 | V6: =IF(V7=0,0,V8/V7) -> 0.54952755 | W6: =V6 -> 0.54952755 | X6: =IF(X7=0,0,X8/X7) -> 0.52426459 | Y6: =IF(Y7=0,0,Y8/Y7) -> 0.49425643 | Z6: =IF(Z7=0,0,Z8/Z7) -> 0.56254979 | AA6: =+Z6 -> 0.56254979 | AB6: =IF(AB7=0,0,AB8/AB7) -> 0.57410529 | AC6: =IF(AC7=0,0,AC8/AC7) -> 0.51993276 | AD6: =IF(AD7=0,0,AD8/AD7) -> 0.57150705 | AE6: =+AD6 -> 0.57150705 | AF6: =IF(AF7=0,0,AF8/AF7) -> 0.65431034 | AG6: =IF(AG7=0,0,AG8/AG7) -> 0.63095887 | AH6: =IF(AH7=0,0,AH8/AH7) -> 0.57207506 | AI6: =+AH6 -> 0.57207506 | AJ6: =IF(AJ7=0,0,AJ8/AJ7) -> 0.54026775 | AK6: =IF(AK7=0,0,AK8/AK7) -> 0.58487143 | AL6: =IF(AL7=0,0,AL8/AL7) -> 0.58597137 | AM6: =+AL6 -> 0.58597137 | AN6: =IF(AN7=0,0,AN8/AN7) -> 0.61704801 | AO6: =IF(AO7=0,0,AO8/AO7) -> 0.60526826 | AP6: =IF(AP7=0,0,AP8/AP7) -> 0.57645971 | AQ6: =+AP6 -> 0.57645971 | AR6: =IF(AR7=0,0,AR8/AR7) -> 0.58074928 | AS6: =IF(AS7=0,0,AS8/AS7) -> 0.55070816 | AT6: =IF(AT7=0,0,AT8/AT7) -> 0.56415317 | AU6: =+AT6 -> 0.56415317 | AV6: =IF(AV7=0,0,AV8/AV7) -> 0.62587059 | AW6: =IF(AW7=0,0,AW8/AW7) -> 0.58140954 | AX6: =IF(AX7=0,0,AX8/AX7) -> 0.60185974 | AY6: =+AX6 -> 0.60185974 | AZ6: =IF(AZ7=0,0,AZ8/AZ7) -> 0.61390409 | BA6: =IF(BA7=0,0,BA8/BA7) -> 0 | BB6: =IF(BB7=0,0,BB8/BB7) -> 0.64142922 | BC6: =+BB6 -> 0.64142922 | BD6: =IF(BD7=0,0,BD8/BD7) -> 0 | BE6: =IF(BE7=0,0,BE8/BE7) -> 0.64149683 | BF6: =IF(BF7=0,0,BF8/BF7) -> 0.52892235 | BG6: =+BF6 -> 0.52892235 | BH6: =IF(BH7=0,0,BH8/BH7) -> 0 | BI6: =IF(BI7=0,0,BI8/BI7) -> 0 | BJ6: =IF(BJ7=0,0,BJ8/BJ7) -> 0 | BK6: =+BJ6 -> 0 | BL6: =IF(BL7=0,0,BL8/BL7) -> 0 | BM6: =IF(BM7=0,0,BM8/BM7) -> 0 | BN6: =IF(BN7=0,0,BN8/BN7) -> 0 | BO6: =+BN6 -> 0 | BP6: =IF(BP7=0,0,BP8/BP7) -> 0 | BQ6: =IF(BQ7=0,0,BQ8/BQ7) -> 0 | BR6: =IF(BR7=0,0,BR8/BR7) -> 0 | BS6: =+BR6 -> 0
C7: Allocated TB | H7: 206.49445 | I7: 200.59121 | J7: 205.11616 | K7: =J7 -> 205.11616 | L7: 233.98753 | M7: 351.78475 | N7: 332.21064 | O7: =N7 -> 332.21064 | P7: 373.96406 | Q7: 365.26232 | R7: 463.31601 | S7: =R7 -> 463.31601 | T7: 479.19202 | U7: 428.88477 | V7: 488.23855 | W7: =V7 -> 488.23855 | X7: 484.5257 | Y7: 452.52985 | Z7: 471.06486 | AA7: =+Z7 -> 471.06486 | AB7: 1201.23 | AC7: 1680.9067 | AD7: 1598.9284 | AE7: =+AD7 -> 1598.9284 | AF7: 1605.3634 | AG7: 1622.5272 | AH7: 1879.5837 | AI7: =+AH7 -> 1879.5837 | AJ7: 2084.6098 | AK7: 2050.8871 | AL7: 2151.5767 | AM7: =+AL7 -> 2151.5767 | AN7: 2253.2265 | AO7: 2296.0504 | AP7: 2401.9974 | AQ7: =+AP7 -> 2401.9974 | AR7: 2475.6079 | AS7: 2582.1406 | AT7: 2424.0271 | AU7: =+AT7 -> 2424.0271 | AV7: 2348.4198 | AW7: 2351.2279 | AX7: 2485.2418 | AY7: =+AX7 -> 2485.2418 | AZ7: 2510.2603 | BB7: 2993.2373 | BC7: =+BB7 -> 2993.2373 | BE7: 2993 | BF7: 1753.0687 | BG7: =+BF7 -> 1753.0687 | BK7: =+BJ7 -> 0 | BO7: =+BN7 -> 0 | BS7: =+BR7 -> 0
C8: Used TB | H8: 90.806349 | I8: 87.390562 | J8: 81.821605 | K8: =J8 -> 81.821605 | L8: 117.52669 | M8: 205.69723 | N8: 196.40407 | O8: =N8 -> 196.40407 | P8: 228.19532 | Q8: 219.99125 | R8: 267.44884 | S8: =R8 -> 267.44884 | T8: 282.50156 | U8: 233.69066 | V8: 268.30054 | W8: =V8 -> 268.30054 | X8: 254.01967 | Y8: 223.66579 | Z8: 264.99744 | AA8: =+Z8 -> 264.99744 | AB8: 689.63252 | AC8: 873.95843 | AD8: 913.79884 | AE8: =+AD8 -> 913.79884 | AF8: 1050.4059 | AG8: 1023.7479 | AH8: 1075.263 | AI8: =+AH8 -> 1075.263 | AJ8: 1126.2475 | AK8: 1199.5053 | AL8: 1260.7624 | AM8: =+AL8 -> 1260.7624 | AN8: 1390.3489 | AO8: 1389.7264 | AP8: 1384.6547 | AQ8: =+AP8 -> 1384.6547 | AR8: 1437.7075 | AS8: 1422.0059 | AT8: 1367.5226 | AU8: =+AT8 -> 1367.5226 | AV8: 1469.8069 | AW8: 1367.0264 | AX8: 1495.767 | AY8: =+AX8 -> 1495.767 | AZ8: 1541.0591 | BB8: 1919.9499 | BC8: =+BB8 -> 1919.9499 | BE8: 1920 | BF8: 927.23719 | BG8: =+BF8 -> 927.23719 | BK8: =+BJ8 -> 0 | BO8: =+BN8 -> 0 | BS8: =+BR8 -> 0
C9: Available TB | H9: 115.68811 | I9: 113.20065 | J9: 123.29455 | K9: =J9 -> 123.29455 | L9: 116.46084 | M9: 146.08752 | N9: 135.80658 | O9: =N9 -> 135.80658 | P9: 145.76875 | Q9: 145.27107 | R9: 195.86717 | S9: =R9 -> 195.86717 | T9: 196.69046 | U9: 195.19411 | V9: 219.93802 | W9: =V9 -> 219.93802 | X9: 230.50604 | Y9: 228.86406 | Z9: 206.06742 | AA9: =+Z9 -> 206.06742 | AB9: =AB7-AB8 -> 511.59752 | AC9: =AC7-AC8 -> 806.94822 | AD9: =AD7-AD8 -> 685.12955 | AE9: =+AD9 -> 685.12955 | AF9: =AF7-AF8 -> 554.95752 | AG9: =AG7-AG8 -> 598.77926 | AH9: =AH7-AH8 -> 804.32075 | AI9: =+AH9 -> 804.32075 | AJ9: =AJ7-AJ8 -> 958.36236 | AK9: =AK7-AK8 -> 851.38184 | AL9: =AL7-AL8 -> 890.81438 | AM9: =+AL9 -> 890.81438 | AN9: =AN7-AN8 -> 862.87755 | AO9: =AO7-AO8 -> 906.32397 | AP9: =AP7-AP8 -> 1017.3427 | AQ9: =+AP9 -> 1017.3427 | AR9: =AR7-AR8 -> 1037.9004 | AS9: =AS7-AS8 -> 1160.1347 | AT9: =AT7-AT8 -> 1056.5045 | AU9: =+AT9 -> 1056.5045 | AV9: =AV7-AV8 -> 878.61291 | AW9: =AW7-AW8 -> 984.20158 | AX9: =AX7-AX8 -> 989.4748 | AY9: =+AX9 -> 989.4748 | AZ9: =AZ7-AZ8 -> 969.20124 | BA9: =BA7-BA8 -> 0 | BB9: =BB7-BB8 -> 1073.2874 | BC9: =+BB9 -> 1073.2874 | BD9: =BD7-BD8 -> 0 | BE9: 1073 | BF9: 825.83147 | BG9: =+BF9 -> 825.83147 | BK9: =+BJ9 -> 0 | BO9: =+BN9 -> 0 | BS9: =+BR9 -> 0
B10: ICG | C10: % Optimized | H10: 0.095660319 | I10: 0.080765626 | J10: 0.069852525 | K10: =J10 -> 0.069852525 | L10: 0.08973895 | M10: 0.098898134 | N10: 0.099170339 | O10: =N10 -> 0.099170339 | P10: 0.08881392 | Q10: 0.079099689 | R10: 0.06249388 | S10: =R10 -> 0.06249388 | T10: 0.016958201 | U10: 0.073931125 | V10: 0.015111274 | W10: =V10 -> 0.015111274 | X10: 0.012715439 | Y10: 0.014507535 | Z10: 0.045805451 | AA10: =+Z10 -> 0.045805451 | AB10: 0.042452296 | AC10: 0.042452296 | AD10: 0.010524247 | AE10: =+AD10 -> 0.010524247 | AF10: 0.0073633982 | AG10: 0.0081906148 | AH10: 0.039444794 | AI10: =+AH10 -> 0.039444794 | AJ10: 0.27192879 | AK10: 0.36829694 | AL10: 0.37687993 | AM10: =+AL10 -> 0.37687993 | AN10: 0.29112288 | AO10: 0.28037824 | AP10: 0.29208522 | AQ10: =+AP10 -> 0.29208522 | AR10: 0.27049508 | AS10: 0.24624588 | AT10: 0.21556588 | AU10: =+AT10 -> 0.21556588 | AV10: 0.30810695 | AW10: 0.29677958 | AX10: 0.31366683 | AY10: =+AX10 -> 0.31366683 | AZ10: 0.29357963 | BB10: 0.31485684 | BC10: =+BB10 -> 0.31485684 | BE10: 0.31 | BF10: 0.3176 | BG10: =+BF10 -> 0.3176 | BK10: =+BJ10 -> 0 | BO10: =+BN10 -> 0 | BS10: =+BR10 -> 0
C11: % Virtualized | K11: =J11 -> 0 | O11: =N11 -> 0 | P11: 0.019673299 | Q11: 0.0044361387 | R11: 0.0043057865 | S11: =R11 -> 0.0043057865 | T11: 0.014538501 | U11: 0.1978419 | V11: 0.19362741 | W11: =V11 -> 0.19362741 | X11: 0.19284701 | Y11: 0.18357256 | Z11: 0.18713749 | AA11: =+Z11 -> 0.18713749 | AB11: 0.1941497 | AC11: 0.5371171 | AD11: 0.55498098 | AE11: =+AD11 -> 0.55498098 | AF11: 0.56770204 | AG11: 0.57095101 | AH11: 0.58028743 | AI11: =+AH11 -> 0.58028743 | AJ11: 0.62474829 | AK11: 0.6446905 | AL11: 0.62670453 | AM11: =+AL11 -> 0.62670453 | AN11: 0.63421245 | AO11: 0.67438397 | AP11: 0.66714821 | AQ11: =+AP11 -> 0.66714821 | AR11: 0.67679319 | AS11: 0.67903397 | AT11: 0.64992435 | AU11: =+AT11 -> 0.64992435 | AV11: 0.64616531 | AW11: 0.64658487 | AX11: 0.64628528 | AY11: =+AX11 -> 0.64628528 | AZ11: 0.73740064 | BB11: 0.5959433 | BC11: =+BB11 -> 0.5959433 | BE11: 0.6 | BF11: 0.67 | BG11: =+BF11 -> 0.67 | BK11: =+BJ11 -> 0 | BO11: =+BN11 -> 0 | BS11: =+BR11 -> 0
C12: Avg Utilization | D12: =IF(D13=0,0,D14/D13) -> 0 | E12: =IF(E13=0,0,E14/E13) -> 0 | F12: =IF(F13=0,0,F14/F13) -> 0 | G12: =IF(G13=0,0,G14/G13) -> 0 | H12: =IF(H13=0,0,H14/H13) -> 0.58700362 | I12: =IF(I13=0,0,I14/I13) -> 0.57229618 | J12: =IF(J13=0,0,J14/J13) -> 0.61632658 | K12: =J12 -> 0.61632658 | L12: =IF(L13=0,0,L14/L13) -> 0.6024099 | M12: =IF(M13=0,0,M14/M13) -> 0.58035426 | N12: =IF(N13=0,0,N14/N13) -> 0.58589341 | O12: =N12 -> 0.58589341 | P12: =IF(P13=0,0,P14/P13) -> 0.58128924 | Q12: =IF(Q13=0,0,Q14/Q13) -> 0.57601478 | R12: =IF(R13=0,0,R14/R13) -> 0.57205059 | S12: =R12 -> 0.57205059 | T12: =IF(T13=0,0,T14/T13) -> 0.60239692 | U12: =IF(U13=0,0,U14/U13) -> 0.58970685 | V12: =IF(V13=0,0,V14/V13) -> 0.54326119 | W12: =V12 -> 0.54326119 | X12: =IF(X13=0,0,X14/X13) -> 0.54121981 | Y12: =IF(Y13=0,0,Y14/Y13) -> 0.54973686 | Z12: =IF(Z13=0,0,Z14/Z13) -> 0.56195884 | AA12: =+Z12 -> 0.56195884 | AB12: =IF(AB13=0,0,AB14/AB13) -> 0.5515982 | AC12: =IF(AC13=0,0,AC14/AC13) -> 0.54280516 | AD12: =IF(AD13=0,0,AD14/AD13) -> 0.5414926 | AE12: =+AD12 -> 0.5414926 | AF12: =IF(AF13=0,0,AF14/AF13) -> 0.61722348 | AG12: =IF(AG13=0,0,AG14/AG13) -> 0.63954057 | AH12: =IF(AH13=0,0,AH14/AH13) -> 0.60158168 | AI12: =+AH12 -> 0.60158168 | AJ12: =IF(AJ13=0,0,AJ14/AJ13) -> 0.70752963 | AK12: =IF(AK13=0,0,AK14/AK13) -> 0.75368142 | AL12: =IF(AL13=0,0,AL14/AL13) -> 0.75836847 | AM12: =+AL12 -> 0.75836847 | AN12: =IF(AN13=0,0,AN14/AN13) -> 0.7204538 | AO12: =IF(AO13=0,0,AO14/AO13) -> 0.73569846 | AP12: =IF(AP13=0,0,AP14/AP13) -> 0.73264836 | AQ12: =+AP12 -> 0.73264836 | AR12: =IF(AR13=0,0,AR14/AR13) -> 0.72083819 | AS12: =IF(AS13=0,0,AS14/AS13) -> 0.67898041 | AT12: =IF(AT13=0,0,AT14/AT13) -> 0.65760777 | AU12: =+AT12 -> 0.65760777 | AV12: =IF(AV13=0,0,AV14/AV13) -> 0.78850401 | AW12: =IF(AW13=0,0,AW14/AW13) -> 0.74785364 | AX12: =IF(AX13=0,0,AX14/AX13) -> 0.77425405 | AY12: =+AX12 -> 0.77425405 | AZ12: =IF(AZ13=0,0,AZ14/AZ13) -> 0.83091571 | BA12: =IF(BA13=0,0,BA14/BA13) -> 0 | BB12: =IF(BB13=0,0,BB14/BB13) -> 0.83502908 | BC12: =+BB12 -> 0.83502908 | BD12: =IF(BD13=0,0,BD14/BD13) -> 0 | BE12: =IF(BE13=0,0,BE14/BE13) -> 0.83488372 | BF12: =IF(BF13=0,0,BF14/BF13) -> 0.71663129 | BG12: =+BF12 -> 0.71663129 | BH12: =IF(BH13=0,0,BH14/BH13) -> 0 | BI12: =IF(BI13=0,0,BI14/BI13) -> 0 | BJ12: =IF(BJ13=0,0,BJ14/BJ13) -> 0 | BK12: =+BJ12 -> 0 | BL12: =IF(BL13=0,0,BL14/BL13) -> 0 | BM12: =IF(BM13=0,0,BM14/BM13) -> 0 | BN12: =IF(BN13=0,0,BN14/BN13) -> 0 | BO12: =+BN12 -> 0 | BP12: =IF(BP13=0,0,BP14/BP13) -> 0 | BQ12: =IF(BQ13=0,0,BQ14/BQ13) -> 0 | BR12: =IF(BR13=0,0,BR14/BR13) -> 0 | BS12: =+BR12 -> 0
C13: Allocated TB | H13: 671.5356 | I13: 675.46382 | J13: 683.75303 | K13: =J13 -> 683.75303 | L13: 706.46392 | M13: 1320.1036 | N13: 1332.496 | O13: =N13 -> 1332.496 | P13: 1346.5814 | Q13: 1339.8587 | R13: 1380.936 | S13: =R13 -> 1380.936 | T13: 1395.3178 | U13: 824.15246 | V13: 818.62967 | W13: =V13 -> 818.62967 | X13: 825.40991 | Y13: 829.57585 | Z13: 845.4072 | AA13: =+Z13 -> 845.4072 | AB13: 827.08393 | AC13: 1006.2263 | AD13: 904.84869 | AE13: =+AD13 -> 904.84869 | AF13: 904.77343 | AG13: 923.66816 | AH13: 1016.2134 | AI13: =+AH13 -> 1016.2134 | AJ13: 1142.0592 | AK13: 1217.8177 | AL13: 1147.7503 | AM13: =+AL13 -> 1147.7503 | AN13: 1167.9134 | AO13: 1310.1881 | AP13: 1286.2113 | AQ13: =+AP13 -> 1286.2113 | AR13: 1324.5937 | AS13: 1292.6733 | AT13: 1145.8368 | AU13: =+AT13 -> 1145.8368 | AV13: 1141.64 | AW13: 1141.1986 | AX13: 1131.0694 | AY13: =+AX13 -> 1131.0694 | AZ13: 976.64513 | BB13: 1289.7907 | BC13: =+BB13 -> 1289.7907 | BE13: 1290 | BF13: 1099.5279 | BG13: =+BF13 -> 1099.5279 | BK13: =+BJ13 -> 0 | BO13: =+BN13 -> 0 | BS13: =+BR13 -> 0
C14: Used TB | H14: 394.19383 | I14: 386.56537 | J14: 421.41517 | K14: =J14 -> 421.41517 | L14: 425.58086 | M14: 766.12775 | N14: 780.70063 | O14: =N14 -> 780.70063 | P14: 782.7533 | Q14: 771.77838 | R14: 789.96526 | S14: =R14 -> 789.96526 | T14: 840.53517 | U14: 486.00835 | V14: 444.72973 | W14: =V14 -> 444.72973 | X14: 446.72819 | Y14: 456.04842 | Z14: 475.08405 | AA14: =+Z14 -> 475.08405 | AB14: 456.218 | AC14: 546.18482 | AD14: 489.96887 | AE14: =+AD14 -> 489.96887 | AF14: 558.44741 | AG14: 590.72326 | AH14: 611.33534 | AI14: =+AH14 -> 611.33534 | AJ14: 808.04074 | AK14: 917.84661 | AL14: 870.41763 | AM14: =+AL14 -> 870.41763 | AN14: 841.42764 | AO14: 963.90338 | AP14: 942.34056 | AQ14: =+AP14 -> 942.34056 | AR14: 954.81775 | AS14: 877.69987 | AT14: 753.51117 | AU14: =+AT14 -> 753.51117 | AV14: 900.1877 | AW14: 853.44952 | AX14: 875.73508 | AY14: =+AX14 -> 875.73508 | AZ14: 811.50978 | BB14: 1077.0128 | BC14: =+BB14 -> 1077.0128 | BE14: 1077 | BF14: 787.95608 | BG14: =+BF14 -> 787.95608 | BK14: =+BJ14 -> 0 | BO14: =+BN14 -> 0 | BS14: =+BR14 -> 0
C15: Available TB | H15: 277.34177 | I15: 288.89845 | J15: 262.33786 | K15: =J15 -> 262.33786 | L15: 280.88306 | M15: 553.97585 | N15: 551.79539 | O15: =N15 -> 551.79539 | P15: 563.82814 | Q15: 568.08027 | R15: 590.97075 | S15: =R15 -> 590.97075 | T15: 554.78266 | U15: 338.14411 | V15: 373.89994 | W15: =V15 -> 373.89994 | X15: 378.68172 | Y15: 373.52743 | Z15: 370.32315 | AA15: =+Z15 -> 370.32315 | AB15: =AB13-AB14 -> 370.86592 | AC15: =AC13-AC14 -> 460.04147 | AD15: =AD13-AD14 -> 414.87982 | AE15: =+AD15 -> 414.87982 | AF15: =AF13-AF14 -> 346.32602 | AG15: =AG13-AG14 -> 332.9449 | AH15: =AH13-AH14 -> 404.87802 | AI15: =+AH15 -> 404.87802 | AJ15: =AJ13-AJ14 -> 334.01848 | AK15: =AK13-AK14 -> 299.97113 | AL15: =AL13-AL14 -> 277.33266 | AM15: =+AL15 -> 277.33266 | AN15: =AN13-AN14 -> 326.48575 | AO15: =AO13-AO14 -> 346.28474 | AP15: =AP13-AP14 -> 343.87069 | AQ15: =+AP15 -> 343.87069 | AR15: =AR13-AR14 -> 369.77598 | AS15: =AS13-AS14 -> 414.97346 | AT15: =AT13-AT14 -> 392.32561 | AU15: =+AT15 -> 392.32561 | AV15: =AV13-AV14 -> 241.45228 | AW15: =AW13-AW14 -> 287.74907 | AX15: =AX13-AX14 -> 255.33434 | AY15: =+AX15 -> 255.33434 | AZ15: =AZ13-AZ14 -> 165.13535 | BA15: =BA13-BA14 -> 0 | BB15: =BB13-BB14 -> 212.77796 | BC15: =+BB15 -> 212.77796 | BD15: =BD13-BD14 -> 0 | BE15: 213 | BF15: 311.5718 | BG15: =+BF15 -> 311.5718 | BK15: =+BJ15 -> 0 | BO15: =+BN15 -> 0 | BS15: =+BR15 -> 0
B16: GCG | C16: % Optimized | H16: 0.031999282 | I16: 0.037799643 | J16: 0.033435547 | K16: =J16 -> 0.033435547 | L16: 0.33593336 | M16: 0.36437414 | N16: 0.3643592 | O16: =N16 -> 0.3643592 | P16: 0.02943433 | Q16: 0.029165647 | R16: 0.0030859794 | S16: =R16 -> 0.0030859794 | T16: 0.30737765 | U16: 0.0069573877 | V16: 0.0025662458 | W16: =V16 -> 0.0025662458 | X16: 0.0025708497 | Y16: 0.0026013549 | Z16: 0.0023604856 | AA16: =+Z16 -> 0.0023604856 | AB16: 0.0023604856 | AC16: 0.0023604856 | AD16: 0.0016291895 | AE16: =+AD16 -> 0.0016291895 | AF16: 0.0016858749 | AG16: 0.00056704224 | AH16: 0.0016962889 | AI16: =+AH16 -> 0.0016962889 | AJ16: 0.57559353 | AK16: 0.6220403 | AL16: 0.665131 | AM16: =+AL16 -> 0.665131 | AN16: 0.57455224 | AO16: 0.36443638 | AP16: 0.34297906 | AQ16: =+AP16 -> 0.34297906 | AR16: 0.3418314 | AS16: 0.23893753 | AT16: 0.16992163 | AU16: =+AT16 -> 0.16992163 | AV16: 0.30982259 | AW16: 0.3106521 | AX16: 0.3169076 | AY16: =+AX16 -> 0.3169076 | AZ16: 0.32348731 | BB16: 0.32269768 | BC16: =+BB16 -> 0.32269768 | BE16: 0.32 | BF16: 0.3009 | BG16: =+BF16 -> 0.3009 | BK16: =+BJ16 -> 0 | BO16: =+BN16 -> 0 | BS16: =+BR16 -> 0
C17: % Virtualized | K17: =J17 -> 0 | O17: =N17 -> 0 | P17: 0 | Q17: 0 | R17: 0 | S17: =R17 -> 0 | T17: 0.019561116 | U17: 0.085227888 | V17: 0.032023234 | W17: =V17 -> 0.032023234 | X17: 0.032079733 | Y17: 0.032460385 | Z17: 0.035955576 | AA17: =+Z17 -> 0.035955576 | AB17: 0.035955576 | AC17: 0.52118538 | AD17: 0.59817582 | AE17: =+AD17 -> 0.59817582 | AF17: 0.62368615 | AG17: 0.84981939 | AH17: 0.84113852 | AI17: =+AH17 -> 0.84113852 | AJ17: 0.91608205 | AK17: 0.92324474 | AL17: 0.93605337 | AM17: =+AL17 -> 0.93605337 | AN17: 0.93338583 | AO17: 0.95067147 | AP17: 0.95519556 | AQ17: =+AP17 -> 0.95519556 | AR17: 0.96345632 | AS17: 0.96776427 | AT17: 0.90702906 | AU17: =+AT17 -> 0.90702906 | AV17: 0.90484171 | AW17: 0.90775807 | AX17: 0.92555917 | AY17: =+AX17 -> 0.92555917 | AZ17: 0.94173284 | BB17: 0.95978035 | BC17: =+BB17 -> 0.95978035 | BE17: 0.96 | BF17: 0.96 | BG17: =+BF17 -> 0.96 | BK17: =+BJ17 -> 0 | BO17: =+BN17 -> 0 | BS17: =+BR17 -> 0
C18: Avg Utilization | D18: =IF(D19=0,0,D20/D19) -> 0 | E18: =IF(E19=0,0,E20/E19) -> 0 | F18: =IF(F19=0,0,F20/F19) -> 0 | G18: =IF(G19=0,0,G20/G19) -> 0 | H18: =IF(H19=0,0,H20/H19) -> 0.62957182 | I18: =IF(I19=0,0,I20/I19) -> 0.52564009 | J18: =IF(J19=0,0,J20/J19) -> 0.53275951 | K18: =J18 -> 0.53275951 | L18: =IF(L19=0,0,L20/L19) -> 0.75669537 | M18: =IF(M19=0,0,M20/M19) -> 0.75597547 | N18: =IF(N19=0,0,N20/N19) -> 0.77296614 | O18: =N18 -> 0.77296614 | P18: =IF(P19=0,0,P20/P19) -> 0.48335128 | Q18: =IF(Q19=0,0,Q20/Q19) -> 0.48452517 | R18: =IF(R19=0,0,R20/R19) -> 0.33504583 | S18: =R18 -> 0.33504583 | T18: =IF(T19=0,0,T20/T19) -> 0.6425144 | U18: =IF(U19=0,0,U20/U19) -> 0.50044041 | V18: =IF(V19=0,0,V20/V19) -> 0.53334498 | W18: =V18 -> 0.53334498 | X18: =IF(X19=0,0,X20/X19) -> 0.5373002 | Y18: =IF(Y19=0,0,Y20/Y19) -> 0.52144221 | Z18: =IF(Z19=0,0,Z20/Z19) -> 0.70927754 | AA18: =+Z18 -> 0.70927754 | AB18: =IF(AB19=0,0,AB20/AB19) -> 0.72293928 | AC18: =IF(AC19=0,0,AC20/AC19) -> 0.56040055 | AD18: =IF(AD19=0,0,AD20/AD19) -> 0.41333351 | AE18: =+AD18 -> 0.41333351 | AF18: =IF(AF19=0,0,AF20/AF19) -> 0.51375855 | AG18: =IF(AG19=0,0,AG20/AG19) -> 0.5186975 | AH18: =IF(AH19=0,0,AH20/AH19) -> 0.7377284 | AI18: =+AH18 -> 0.7377284 | AJ18: =IF(AJ19=0,0,AJ20/AJ19) -> 0.72694988 | AK18: =IF(AK19=0,0,AK20/AK19) -> 0.67795221 | AL18: =IF(AL19=0,0,AL20/AL19) -> 0.76232911 | AM18: =+AL18 -> 0.76232911 | AN18: =IF(AN19=0,0,AN20/AN19) -> 0.76988534 | AO18: =IF(AO19=0,0,AO20/AO19) -> 0.86265511 | AP18: =IF(AP19=0,0,AP20/AP19) -> 0.70609463 | AQ18: =+AP18 -> 0.70609463 | AR18: =IF(AR19=0,0,AR20/AR19) -> 0.61824109 | AS18: =IF(AS19=0,0,AS20/AS19) -> 0.65982574 | AT18: =IF(AT19=0,0,AT20/AT19) -> 0.56318359 | AU18: =+AT18 -> 0.56318359 | AV18: =IF(AV19=0,0,AV20/AV19) -> 0.60771863 | AW18: =IF(AW19=0,0,AW20/AW19) -> 0.57870154 | AX18: =IF(AX19=0,0,AX20/AX19) -> 0.5724944 | AY18: =+AX18 -> 0.5724944 | AZ18: =IF(AZ19=0,0,AZ20/AZ19) -> 0.62074437 | BA18: =IF(BA19=0,0,BA20/BA19) -> 0 | BB18: =IF(BB19=0,0,BB20/BB19) -> 0.65616524 | BC18: =+BB18 -> 0.65616524 | BD18: =IF(BD19=0,0,BD20/BD19) -> 0 | BE18: =IF(BE19=0,0,BE20/BE19) -> 0.65612648 | BF18: =IF(BF19=0,0,BF20/BF19) -> 0.52850116 | BG18: =+BF18 -> 0.52850116 | BH18: =IF(BH19=0,0,BH20/BH19) -> 0 | BI18: =IF(BI19=0,0,BI20/BI19) -> 0 | BJ18: =IF(BJ19=0,0,BJ20/BJ19) -> 0 | BK18: =+BJ18 -> 0 | BL18: =IF(BL19=0,0,BL20/BL19) -> 0 | BM18: =IF(BM19=0,0,BM20/BM19) -> 0 | BN18: =IF(BN19=0,0,BN20/BN19) -> 0 | BO18: =+BN18 -> 0 | BP18: =IF(BP19=0,0,BP20/BP19) -> 0 | BQ18: =IF(BQ19=0,0,BQ20/BQ19) -> 0 | BR18: =IF(BR19=0,0,BR20/BR19) -> 0 | BS18: =+BR18 -> 0
C19: Allocated TB | H19: 47.42028 | I19: 40.143631 | J19: 39.749042 | K19: =J19 -> 39.749042 | L19: 70.267563 | M19: 74.927363 | N19: 68.917305 | O19: =N19 -> 68.917305 | P19: 62.382646 | Q19: 62.967715 | R19: 66.467451 | S19: =R19 -> 66.467451 | T19: 76.950332 | U19: 47.326379 | V19: 128.30711 | W19: =V19 -> 128.30711 | X19: 128.08113 | Y19: 126.57917 | Z19: 139.4956 | AA19: =+Z19 -> 139.4956 | AB19: 139.4956 | AC19: 195.82217 | AD19: 202.10515 | AE19: =+AD19 -> 202.10515 | AF19: 195.30962 | AG19: 184.15664 | AH19: 194.11056 | AI19: =+AH19 -> 194.11056 | AJ19: 127.7256 | AK19: 139.64477 | AL19: 131.37642 | AM19: =+AL19 -> 131.37642 | AN19: 126.1155 | AO19: 186.31204 | AP19: 211.02215 | AQ19: =+AP19 -> 211.02215 | AR19: 258.72405 | AS19: 287.40502 | AT19: 457.53058 | AU19: =+AT19 -> 457.53058 | AV19: 447.01356 | AW19: 445.23623 | AX19: 554.44485 | AY19: =+AX19 -> 554.44485 | AZ19: 516.01585 | BB19: 505.66731 | BC19: =+BB19 -> 505.66731 | BE19: 506 | BF19: 522.73953 | BG19: =+BF19 -> 522.73953 | BK19: =+BJ19 -> 0 | BO19: =+BN19 -> 0 | BS19: =+BR19 -> 0
C20: Used TB | H20: 29.854472 | I20: 21.101102 | J20: 21.17668 | K20: =J20 -> 21.17668 | L20: 53.171139 | M20: 56.643249 | N20: 53.270743 | O20: =N20 -> 53.270743 | P20: 30.152732 | Q20: 30.509443 | R20: 22.269642 | S20: =R20 -> 22.269642 | T20: 49.441696 | U20: 23.684033 | V20: 68.431953 | W20: =V20 -> 68.431953 | X20: 68.818018 | Y20: 66.003723 | Z20: 98.941093 | AA20: =+Z20 -> 98.941093 | AB20: 100.84685 | AC20: 109.73886 | AD20: 83.536829 | AE20: =+AD20 -> 83.536829 | AF20: 100.34199 | AG20: 95.52159 | AH20: 143.20087 | AI20: =+AH20 -> 143.20087 | AJ20: 92.850109 | AK20: 94.672479 | AL20: 100.15207 | AM20: =+AL20 -> 100.15207 | AN20: 97.094473 | AO20: 160.72303 | AP20: 149.00161 | AQ20: =+AP20 -> 149.00161 | AR20: 159.95384 | AS20: 189.63723 | AT20: 257.67371 | AU20: =+AT20 -> 257.67371 | AV20: 271.65847 | AW20: 257.65889 | AX20: 317.41657 | AY20: =+AX20 -> 317.41657 | AZ20: 320.31394 | BB20: 331.80131 | BC20: =+BB20 -> 331.80131 | BE20: 332 | BF20: 276.26845 | BG20: =+BF20 -> 276.26845 | BK20: =+BJ20 -> 0 | BO20: =+BN20 -> 0 | BS20: =+BR20 -> 0
C21: Available TB | H21: 17.565808 | I21: 19.042529 | J21: 18.572362 | K21: =J21 -> 18.572362 | L21: 17.096424 | M21: 18.284115 | N21: 15.646562 | O21: =N21 -> 15.646562 | P21: 32.229914 | Q21: 32.458272 | R21: 44.197809 | S21: =R21 -> 44.197809 | T21: 27.508636 | U21: 23.642346 | V21: 59.875156 | W21: =V21 -> 59.875156 | X21: 59.263115 | Y21: 60.575447 | Z21: 40.554502 | AA21: =+Z21 -> 40.554502 | AB21: =AB19-AB20 -> 38.64875 | AC21: =AC19-AC20 -> 86.08332 | AD21: =AD19-AD20 -> 118.56832 | AE21: =+AD21 -> 118.56832 | AF21: =AF19-AF20 -> 94.967632 | AG21: =AG19-AG20 -> 88.635051 | AH21: =AH19-AH20 -> 50.909687 | AI21: =+AH21 -> 50.909687 | AJ21: =AJ19-AJ20 -> 34.87549 | AK21: =AK19-AK20 -> 44.972288 | AL21: =AL19-AL20 -> 31.224351 | AM21: =+AL21 -> 31.224351 | AN21: =AN19-AN20 -> 29.021025 | AO21: =AO19-AO20 -> 25.589007 | AP21: =AP19-AP20 -> 62.020543 | AQ21: =+AP21 -> 62.020543 | AR21: =AR19-AR20 -> 98.77021 | AS21: =AS19-AS20 -> 97.767788 | AT21: =AT19-AT20 -> 199.85687 | AU21: =+AT21 -> 199.85687 | AV21: =AV19-AV20 -> 175.35509 | AW21: =AW19-AW20 -> 187.57734 | AX21: =AX19-AX20 -> 237.02828 | AY21: =+AX21 -> 237.02828 | AZ21: =AZ19-AZ20 -> 195.70192 | BA21: =BA19-BA20 -> 0 | BB21: =BB19-BB20 -> 173.866 | BC21: =+BB21 -> 173.866 | BE21: 174 | BF21: 246.47109 | BG21: =+BF21 -> 246.47109 | BK21: =+BJ21 -> 0 | BO21: =+BN21 -> 0 | BS21: =+BR21 -> 0
B22: OTHER | C22: % Optimized | H22: 0.022013903 | I22: 0.021543212 | J22: 0.02197793 | K22: =J22 -> 0.02197793 | L22: 0.03946991 | M22: 0.030841387 | N22: 0.032985973 | O22: =N22 -> 0.032985973 | P22: 0.066343477 | Q22: 0.00049977587 | R22: 0.13782221 | S22: =R22 -> 0.13782221 | T22: 0 | U22: 0 | V22: 0 | W22: =V22 -> 0 | X22: 0.00075739169 | Y22: 0 | Z22: 0 | AA22: =+Z22 -> 0 | AB22: 0 | AC22: 0 | AD22: 0 | AE22: =+AD22 -> 0 | AF22: 0 | AG22: 0 | AH22: 0.0032638586 | AI22: =+AH22 -> 0.0032638586 | AJ22: 0.22977424 | AK22: 0.43845671 | AL22: 0.45281428 | AM22: =+AL22 -> 0.45281428 | AN22: 0.15081655 | AO22: 0 | AP22: 0.26555524 | AQ22: =+AP22 -> 0.26555524 | AR22: 0.41994396 | AS22: 0 | AT22: 0.31936967 | AU22: =+AT22 -> 0.31936967 | AV22: 0.42365722 | AW22: 0.40414755 | AX22: 0.39824051 | AY22: =+AX22 -> 0.39824051 | AZ22: 0.72355068 | BB22: 0.37313555 | BC22: =+BB22 -> 0.37313555 | BE22: 0.37 | BF22: 0.4294 | BG22: =+BF22 -> 0.4294 | BK22: =+BJ22 -> 0 | BO22: =+BN22 -> 0 | BS22: =+BR22 -> 0
C23: % Virtualized | K23: =J23 -> 0 | N23: 0.36259542 | O23: =N23 -> 0.36259542 | P23: 0.16791168 | Q23: 0.18146448 | R23: 0.16798533 | S23: =R23 -> 0.16798533 | T23: 0.14356273 | U23: 0.21820089 | V23: 0.36439688 | W23: =V23 -> 0.36439688 | X23: 0.33033377 | Y23: 0.4158485 | Z23: 0.42528326 | AA23: =+Z23 -> 0.42528326 | AB23: 0.42792258 | AC23: 0.23469434 | AD23: 0.30749475 | AE23: =+AD23 -> 0.30749475 | AF23: 0.30874509 | AG23: 0.4645536 | AH23: 0.42528198 | AI23: =+AH23 -> 0.42528198 | AJ23: 0.70528168 | AK23: 0.75190051 | AL23: 0.78311591 | AM23: =+AL23 -> 0.78311591 | AN23: 0.82551129 | AO23: 0 | AP23: 0.71569317 | AQ23: =+AP23 -> 0.71569317 | AR23: 0.52610817 | AS23: 0 | AT23: 0.37808787 | AU23: =+AT23 -> 0.37808787 | AV23: 0.38336507 | AW23: 0.37889542 | AX23: 0.35641949 | AY23: =+AX23 -> 0.35641949 | AZ23: 0.39479946 | BB23: 0.55433141 | BC23: =+BB23 -> 0.55433141 | BE23: 0.55 | BF23: 0.72 | BG23: =+BF23 -> 0.72 | BK23: =+BJ23 -> 0 | BO23: =+BN23 -> 0 | BS23: =+BR23 -> 0
C24: Avg Utilization | D24: =IF(D25=0,0,D26/D25) -> 0 | E24: =IF(E25=0,0,E26/E25) -> 0 | F24: =IF(F25=0,0,F26/F25) -> 0 | G24: =IF(G25=0,0,G26/G25) -> 0 | H24: =IF(H25=0,0,H26/H25) -> 0.66831987 | I24: =IF(I25=0,0,I26/I25) -> 0.60122967 | J24: =IF(J25=0,0,J26/J25) -> 0.61449525 | K24: =J24 -> 0.61449525 | L24: =IF(L25=0,0,L26/L25) -> 0.65470836 | M24: =IF(M25=0,0,M26/M25) -> 0.64119164 | N24: =IF(N25=0,0,N26/N25) -> 0.6463078 | O24: =N24 -> 0.6463078 | P24: =IF(P25=0,0,P26/P25) -> 0.78426981 | Q24: =IF(Q25=0,0,Q26/Q25) -> 0.43677572 | R24: =IF(R25=0,0,R26/R25) -> 0.52111476 | S24: =R24 -> 0.52111476 | T24: =IF(T25=0,0,T26/T25) -> 0.55445552 | U24: =IF(U25=0,0,U26/U25) -> 0.59993349 | V24: =IF(V25=0,0,V26/V25) -> 0.58274689 | W24: =V24 -> 0.58274689 | X24: =IF(X25=0,0,X26/X25) -> 0.54356233 | Y24: =IF(Y25=0,0,Y26/Y25) -> 0.5685353 | Z24: =IF(Z25=0,0,Z26/Z25) -> 0.53990018 | AA24: =+Z24 -> 0.53990018 | AB24: =IF(AB25=0,0,AB26/AB25) -> 0.57826074 | AC24: =IF(AC25=0,0,AC26/AC25) -> 0.40428105 | AD24: =IF(AD25=0,0,AD26/AD25) -> 0.54965605 | AE24: =+AD24 -> 0.54965605 | AF24: =IF(AF25=0,0,AF26/AF25) -> 0.6317609 | AG24: =IF(AG25=0,0,AG26/AG25) -> 0.62629023 | AH24: =IF(AH25=0,0,AH26/AH25) -> 0.59218572 | AI24: =+AH24 -> 0.59218572 | AJ24: =IF(AJ25=0,0,AJ26/AJ25) -> 0.60432314 | AK24: =IF(AK25=0,0,AK26/AK25) -> 0.6490016 | AL24: =IF(AL25=0,0,AL26/AL25) -> 0.65040074 | AM24: =+AL24 -> 0.65040074 | AN24: =IF(AN25=0,0,AN26/AN25) -> 0.65652759 | AO24: =IF(AO25=0,0,AO26/AO25) -> 0 | AP24: =IF(AP25=0,0,AP26/AP25) -> 0.63499624 | AQ24: =+AP24 -> 0.63499624 | AR24: =IF(AR25=0,0,AR26/AR25) -> 0.62885583 | AS24: =IF(AS25=0,0,AS26/AS25) -> 0 | AT24: =IF(AT25=0,0,AT26/AT25) -> 0.59063186 | AU24: =+AT24 -> 0.59063186 | AV24: =IF(AV25=0,0,AV26/AV25) -> 0.67096872 | AW24: =IF(AW25=0,0,AW26/AW25) -> 0.62934155 | AX24: =IF(AX25=0,0,AX26/AX25) -> 0.64470772 | AY24: =+AX24 -> 0.64470772 | AZ24: =IF(AZ25=0,0,AZ26/AZ25) -> 0.66773303 | BA24: =IF(BA25=0,0,BA26/BA25) -> 0 | BB24: =IF(BB25=0,0,BB26/BB25) -> 0.69512961 | BC24: =+BB24 -> 0.69512961 | BD24: =IF(BD25=0,0,BD26/BD25) -> 0 | BE24: =IF(BE25=0,0,BE26/BE25) -> 0.69449378 | BF24: =IF(BF25=0,0,BF26/BF25) -> 0.48810643 | BG24: =+BF24 -> 0.48810643 | BH24: =IF(BH25=0,0,BH26/BH25) -> 0 | BI24: =IF(BI25=0,0,BI26/BI25) -> 0 | BJ24: =IF(BJ25=0,0,BJ26/BJ25) -> 0 | BK24: =+BJ24 -> 0 | BL24: =IF(BL25=0,0,BL26/BL25) -> 0 | BM24: =IF(BM25=0,0,BM26/BM25) -> 0 | BN24: =IF(BN25=0,0,BN26/BN25) -> 0 | BO24: =+BN24 -> 0 | BP24: =IF(BP25=0,0,BP26/BP25) -> 0 | BQ24: =IF(BQ25=0,0,BQ26/BQ25) -> 0 | BR24: =IF(BR25=0,0,BR26/BR25) -> 0 | BS24: =+BR24 -> 0
C25: Allocated TB | H25: 1475.5594 | I25: 1522.0187 | J25: 1472.2935 | K25: =J25 -> 1472.2935 | L25: 1165.9337 | M25: 518.53799 | N25: 713.56569 | O25: =N25 -> 713.56569 | P25: 891.95359 | Q25: 1058.0545 | R25: 960.70277 | S25: =R25 -> 960.70277 | T25: 968.49535 | U25: 1528.8682 | V25: 1562.6206 | W25: =V25 -> 1562.6206 | X25: 1651.2235 | Y25: 1819.1234 | Z25: 1880.5234 | AA25: =+Z25 -> 1880.5234 | AB25: 1180.6688 | AC25: 582.44189 | AD25: 665.3262 | AE25: =+AD25 -> 665.3262 | AF25: 744.08343 | AG25: 753.10152 | AH25: 464.9923 | AI25: =+AH25 -> 464.9923 | AJ25: 285.34504 | AK25: 266.28299 | AL25: 274.82543 | AM25: =+AL25 -> 274.82543 | AN25: 142.50278 | AO25: 0 | AP25: 79.359728 | AQ25: =+AP25 -> 79.359728 | AR25: 60.089098 | AS25: 0 | AT25: 243.95433 | AU25: =+AT25 -> 243.95433 | AV25: 694.17515 | AW25: 705.30371 | AX25: 669.49793 | AY25: =+AX25 -> 669.49793 | AZ25: 1348.4102 | BB25: 562.63607 | BC25: =+BB25 -> 562.63607 | BE25: 563 | BF25: 137.932 | BG25: =+BF25 -> 137.932 | BK25: =+BJ25 -> 0 | BO25: =+BN25 -> 0 | BS25: =+BR25 -> 0
C26: Used TB | H26: 986.14569 | I26: 915.08278 | J26: 904.71734 | K26: =J26 -> 904.71734 | L26: 763.34651 | M26: 332.48222 | N26: 461.18307 | O26: =N26 -> 461.18307 | P26: 699.53227 | Q26: 462.13253 | R26: 500.63639 | S26: =R26 -> 500.63639 | T26: 536.98759 | U26: 917.21924 | V26: 910.61228 | W26: =V26 -> 910.61228 | X26: 897.54289 | Y26: 1034.2358 | Z26: 1015.2949 | AA26: =+Z26 -> 1015.2949 | AB26: 682.73442 | AC26: 235.47022 | AD26: 365.70057 | AE26: =+AD26 -> 365.70057 | AF26: 470.08281 | AG26: 471.66013 | AH26: 275.3618 | AI26: =+AH26 -> 275.3618 | AJ26: 172.44061 | AK26: 172.81809 | AL26: 178.74667 | AM26: =+AL26 -> 178.74667 | AN26: 93.557005 | AO26: 0 | AP26: 50.393128 | AQ26: =+AP26 -> 50.393128 | AR26: 37.78738 | AS26: 0 | AT26: 144.0872 | AU26: =+AT26 -> 144.0872 | AV26: 465.76981 | AW26: 443.87693 | AX26: 431.63048 | AY26: =+AX26 -> 431.63048 | AZ26: 900.37801 | BB26: 391.105 | BC26: =+BB26 -> 391.105 | BE26: 391 | BF26: 67.325498 | BG26: =+BF26 -> 67.325498 | BK26: =+BJ26 -> 0 | BO26: =+BN26 -> 0 | BS26: =+BR26 -> 0
C27: Available TB | H27: =H25-H26 -> 489.41374 | I27: =I25-I26 -> 606.93589 | J27: =J25-J26 -> 567.57613 | K27: =J27 -> 567.57613 | L27: =L25-L26 -> 402.58714 | M27: =M25-M26 -> 186.05577 | N27: =N25-N26 -> 252.38262 | O27: =N27 -> 252.38262 | P27: =P25-P26 -> 192.42132 | Q27: =Q25-Q26 -> 595.92199 | R27: =R25-R26 -> 460.06637 | S27: =R27 -> 460.06637 | T27: =T25-T26 -> 431.50776 | U27: =U25-U26 -> 611.64898 | V27: =V25-V26 -> 652.00831 | W27: =V27 -> 652.00831 | X27: =X25-X26 -> 753.6806 | Y27: =Y25-Y26 -> 784.88753 | Z27: =Z25-Z26 -> 865.22846 | AA27: =+Z27 -> 865.22846 | AB27: =AB25-AB26 -> 497.93439 | AC27: =AC25-AC26 -> 346.97167 | AD27: =AD25-AD26 -> 299.62563 | AE27: =+AD27 -> 299.62563 | AF27: =AF25-AF26 -> 274.00061 | AG27: =AG25-AG26 -> 281.44139 | AH27: =AH25-AH26 -> 189.6305 | AI27: =+AH27 -> 189.6305 | AJ27: =AJ25-AJ26 -> 112.90443 | AK27: =AK25-AK26 -> 93.464903 | AL27: =AL25-AL26 -> 96.078768 | AM27: =+AL27 -> 96.078768 | AN27: =AN25-AN26 -> 48.945771 | AO27: =AO25-AO26 -> 0 | AP27: =AP25-AP26 -> 28.966599 | AQ27: =+AP27 -> 28.966599 | AR27: =AR25-AR26 -> 22.301718 | AS27: =AS25-AS26 -> 0 | AT27: =AT25-AT26 -> 99.867133 | AU27: =+AT27 -> 99.867133 | AV27: =AV25-AV26 -> 228.40534 | AW27: =AW25-AW26 -> 261.42678 | AX27: =AX25-AX26 -> 237.86745 | AY27: =+AX27 -> 237.86745 | AZ27: =AZ25-AZ26 -> 448.03215 | BA27: =BA25-BA26 -> 0 | BB27: =BB25-BB26 -> 171.53108 | BC27: =+BB27 -> 171.53108 | BE27: 172 | BF27: 70.606506 | BG27: =+BF27 -> 70.606506 | BK27: =+BJ27 -> 0 | BO27: =+BN27 -> 0 | BS27: =+BR27 -> 0
B28: TOTAL | C28: % Optimized | H28: 0.057237497 | I28: 0.050015485 | J28: 0.043737163 | K28: =J28 -> 0.043737163 | L28: 0.073505796 | M28: 0.077738266 | N28: 0.078514176 | O28: =N28 -> 0.078514176 | P28: 0.068801675 | Q28: 0.04674288 | R28: 0.034926467 | S28: =R28 -> 0.034926467 | T28: 0.018445247 | U28: 0.06949043 | V28: 0.013908842 | W28: =V28 -> 0.013908842 | X28: 0.0061182965 | Y28: 0.014543965 | Z28: 0.020654409 | AA28: =+Z28 -> 0.020654409 | AB28: 0.0190354 | AC28: 0.0190354 | AD28: 0.0051119423 | AE28: =+AD28 -> 0.0051119423 | AF28: 0.0037206779 | AG28: 0.0070495463 | AH28: 0.017426118 | AI28: =+AH28 -> 0.017426118 | AJ28: 0.22975971 | AK28: 0.29305204 | AL28: 0.29617872 | AM28: =+AL28 -> 0.29617872 | AN28: 0.22710541 | AO28: 0.23396888 | AP28: 0.23486756 | AQ28: =+AP28 -> 0.23486756 | AR28: 0.20918501 | AS28: 0.17655841 | AT28: 0.15824686 | AU28: =+AT28 -> 0.15824686 | AV28: 0.22545351 | AW28: 0.22085042 | AX28: 0.22132692 | AY28: =+AX28 -> 0.22132692 | AZ28: 0.21782287 | BB28: 0.20748938 | BC28: =+BB28 -> 0.20748938 | BE28: 0.21 | BF28: 0.21 | BG28: =+BF28 -> 0.21 | BK28: =+BJ28 -> 0 | BO28: =+BN28 -> 0 | BS28: =+BR28 -> 0
C29: % Virtualized | K29: =J29 -> 0 | O29: =N29 -> 0 | P29: 0.070741531 | Q29: 0.06603897 | R29: 0.061145727 | S29: =R29 -> 0.061145727 | T29: 0.061062858 | U29: 0.25238473 | V29: 0.27227273 | W29: =V29 -> 0.27227273 | X29: 0.26761228 | Y29: 0.26951 | Z29: 0.27156361 | AA29: =+Z29 -> 0.27156361 | AB29: 0.27739253 | AC29: 0.53190471 | AD29: 0.31802434 | AE29: =+AD29 -> 0.31802434 | AF29: 0.56556595 | AG29: 0.58767742 | AH29: 0.5875645 | AI29: =+AH29 -> 0.5875645 | AJ29: 0.59509479 | AK29: 0.60833634 | AL29: 0.6120542 | AM29: =+AL29 -> 0.6120542 | AN29: 0.62763491 | AO29: 0.63267425 | AP29: 0.63675475 | AQ29: =+AP29 -> 0.63675475 | AR29: 0.64225619 | AS29: 0.65802195 | AT29: 0.63344924 | AU29: =+AT29 -> 0.63344924 | AV29: 0.62340578 | AW29: 0.62371216 | AX29: 0.63773461 | AY29: =+AX29 -> 0.63773461 | AZ29: 0.65785918 | BB29: 0.58962644 | BC29: =+BB29 -> 0.58962644 | BE29: 0.59 | BF29: 0.64 | BG29: =+BF29 -> 0.64 | BK29: =+BJ29 -> 0 | BO29: =+BN29 -> 0 | BS29: =+BR29 -> 0
C30: Avg Utilization | D30: =IF(D32=0,0,D33/D32) -> 0 | E30: =IF(E32=0,0,E33/E32) -> 0 | F30: =IF(F32=0,0,F33/F32) -> 0 | G30: =IF(G32=0,0,G33/G32) -> 0 | H30: =IF(H32=0,0,H33/H32) -> 0.62515378 | I30: =IF(I32=0,0,I33/I32) -> 0.57834869 | J30: =IF(J32=0,0,J33/J32) -> 0.59524504 | K30: =J30 -> 0.59524504 | L30: =IF(L32=0,0,L33/L32) -> 0.6246404 | M30: =IF(M32=0,0,M33/M32) -> 0.60076731 | N30: =IF(N32=0,0,N33/N32) -> 0.60949853 | O30: =N30 -> 0.60949853 | P30: =IF(P32=0,0,P33/P32) -> 0.65073293 | Q30: =IF(Q32=0,0,Q33/Q32) -> 0.52524288 | R30: =IF(R32=0,0,R33/R32) -> 0.55036146 | S30: =R30 -> 0.55036146 | T30: =IF(T32=0,0,T33/T32) -> 0.58544248 | U30: =IF(U32=0,0,U33/U32) -> 0.58694458 | V30: =IF(V32=0,0,V33/V32) -> 0.56443952 | W30: =V30 -> 0.56443952 | X30: =IF(X32=0,0,X33/X32) -> 0.53965009 | Y30: =IF(Y32=0,0,Y33/Y32) -> 0.55144347 | Z30: =IF(Z32=0,0,Z33/Z32) -> 0.55576876 | AA30: =+Z30 -> 0.55576876 | AB30: =IF(AB32=0,0,AB33/AB32) -> 0.57621151 | AC30: =IF(AC32=0,0,AC33/AC32) -> 0.50942282 | AD30: =IF(AD32=0,0,AD33/AD32) -> 0.54965605 | AE30: =+AD30 -> 0.54965605 | AF30: =IF(AF32=0,0,AF33/AF32) -> 0.6317609 | AG30: =IF(AG32=0,0,AG33/AG32) -> 0.62629023 | AH30: =IF(AH32=0,0,AH33/AH32) -> 0.59218572 | AI30: =+AH30 -> 0.59218572 | AJ30: =IF(AJ32=0,0,AJ33/AJ32) -> 0.60432314 | AK30: =IF(AK32=0,0,AK33/AK32) -> 0.6490016 | AL30: =IF(AL32=0,0,AL33/AL32) -> 0.65040074 | AM30: =+AL30 -> 0.65040074 | AN30: =IF(AN32=0,0,AN33/AN32) -> 0.65652759 | AO30: =IF(AO32=0,0,AO33/AO32) -> 0.66297148 | AP30: =IF(AP32=0,0,AP33/AP32) -> 0.63499624 | AQ30: =+AP30 -> 0.63499624 | AR30: =IF(AR32=0,0,AR33/AR32) -> 0.62885583 | AS30: =IF(AS32=0,0,AS33/AS32) -> 0.59808074 | AT30: =IF(AT32=0,0,AT33/AT32) -> 0.59063186 | AU30: =+AT30 -> 0.59063186 | AV30: =IF(AV32=0,0,AV33/AV32) -> 0.67096872 | AW30: =IF(AW32=0,0,AW33/AW32) -> 0.62934155 | AX30: =IF(AX32=0,0,AX33/AX32) -> 0.64470772 | AY30: =+AX30 -> 0.64470772 | AZ30: =IF(AZ32=0,0,AZ33/AZ32) -> 0.66773303 | BA30: =IF(BA32=0,0,BA33/BA32) -> 0 | BB30: =IF(BB32=0,0,BB33/BB32) -> 0.69512961 | BC30: =+BB30 -> 0.69512961 | BD30: =IF(BD32=0,0,BD33/BD32) -> 0 | BE30: =IF(BE32=0,0,BE33/BE32) -> 0.69506726 | BF30: =IF(BF32=0,0,BF33/BF32) -> 0.58600345 | BG30: =+BF30 -> 0.58600345 | BH30: =IF(BH32=0,0,BH33/BH32) -> 0 | BI30: =IF(BI32=0,0,BI33/BI32) -> 0 | BJ30: =IF(BJ32=0,0,BJ33/BJ32) -> 0 | BK30: =+BJ30 -> 0 | BL30: =IF(BL32=0,0,BL33/BL32) -> 0 | BM30: =IF(BM32=0,0,BM33/BM32) -> 0 | BN30: =IF(BN32=0,0,BN33/BN32) -> 0 | BO30: =+BN30 -> 0 | BP30: =IF(BP32=0,0,BP33/BP32) -> 0 | BQ30: =IF(BQ32=0,0,BQ33/BQ32) -> 0 | BR30: =IF(BR32=0,0,BR33/BR32) -> 0 | BS30: =+BR30 -> 0
C31: Installed TB | H31: 3619.0741 | I31: 3700.7479 | J31: 3700.7479 | K31: =J31 -> 3700.7479 | L31: 4220.839 | M31: 4221.2939 | N31: 4064.5078 | O31: =N31 -> 4064.5078 | P31: 4079.5175 | Q31: 4196.7515 | R31: 4196.882 | S31: =R31 -> 4196.882 | T31: 4355.051 | U31: 4307.3321 | V31: 4328.2527 | W31: =V31 -> 4328.2527 | X31: 4333.5562 | Y31: 4389.3226 | Z31: 4687.8827 | AA31: =+Z31 -> 4687.8827 | AB31: 4687.8827 | AC31: 4687.8827 | AD31: 4328.5625 | AE31: =+AD31 -> 4328.5625 | AF31: 4328.5625 | AG31: 4541.9839 | AH31: 4688.3466 | AI31: =+AH31 -> 4688.3466 | AJ31: 4936.3026 | AK31: 4936.3026 | AL31: 4716.8634 | AM31: =+AL31 -> 4716.8634 | AN31: 4804.1918 | AO31: 4804.6465 | AP31: 5269.4314 | AQ31: =+AP31 -> 5269.4314 | AR31: 5346.2462 | AS31: 5830.9706 | AT31: 6122.7356 | AU31: =+AT31 -> 6122.7356 | AV31: 6042.5005 | AW31: 6338.416 | AX31: 6338.5569 | AY31: =+AX31 -> 6338.5569 | AZ31: 6366.0445 | BC31: =+BB31 -> 0 | BG31: =+BF31 -> 0 | BK31: =+BJ31 -> 0 | BO31: =+BN31 -> 0 | BS31: =+BR31 -> 0
C32: Allocated TB | D32: =SUM(D25,D19,D13,D7) -> 0 | E32: =SUM(E25,E19,E13,E7) -> 0 | F32: =SUM(F25,F19,F13,F7) -> 0 | G32: =SUM(G25,G19,G13,G7) -> 0 | H32: =SUM(H25,H19,H13,H7) -> 2401.0098 | I32: =SUM(I25,I19,I13,I7) -> 2438.2173 | J32: =SUM(J25,J19,J13,J7) -> 2400.9117 | K32: =J32 -> 2400.9117 | L32: =SUM(L25,L19,L13,L7) -> 2176.6527 | M32: =SUM(M25,M19,M13,M7) -> 2265.3537 | N32: =SUM(N25,N19,N13,N7) -> 2447.1897 | O32: =N32 -> 2447.1897 | P32: =SUM(P25,P19,P13,P7) -> 2674.8817 | Q32: =SUM(Q25,Q19,Q13,Q7) -> 2826.1432 | R32: =SUM(R25,R19,R13,R7) -> 2871.4222 | S32: =R32 -> 2871.4222 | T32: =SUM(T25,T19,T13,T7) -> 2919.9555 | U32: =SUM(U25,U19,U13,U7) -> 2829.2318 | V32: =SUM(V25,V19,V13,V7) -> 2997.7959 | W32: =V32 -> 2997.7959 | X32: =SUM(X25,X19,X13,X7) -> 3089.2402 | Y32: =SUM(Y25,Y19,Y13,Y7) -> 3227.8082 | Z32: =SUM(Z25,Z19,Z13,Z7) -> 3336.491 | AA32: =+Z32 -> 3336.491 | AB32: =SUM(AB25,AB19,AB13,AB7) -> 3348.4784 | AC32: =SUM(AC25,AC19,AC13,AC7) -> 3465.397 | AD32: =SUM(AD25,AD19,AD13,AD7) -> 3371.2084 | AE32: =+AD32 -> 3371.2084 | AF32: =SUM(AF25,AF19,AF13,AF7) -> 3449.5299 | AG32: =SUM(AG25,AG19,AG13,AG7) -> 3483.4535 | AH32: =SUM(AH25,AH19,AH13,AH7) -> 3554.8999 | AI32: =+AH32 -> 3554.8999 | AJ32: =SUM(AJ25,AJ19,AJ13,AJ7) -> 3639.7397 | AK32: =SUM(AK25,AK19,AK13,AK7) -> 3674.6326 | AL32: =SUM(AL25,AL19,AL13,AL7) -> 3705.5289 | AM32: =+AL32 -> 3705.5289 | AN32: =SUM(AN25,AN19,AN13,AN7) -> 3689.7581 | AO32: =SUM(AO25,AO19,AO13,AO7) -> 3792.5506 | AP32: =SUM(AP25,AP19,AP13,AP7) -> 3978.5905 | AQ32: =+AP32 -> 3978.5905 | AR32: =SUM(AR25,AR19,AR13,AR7) -> 4119.0148 | AS32: =SUM(AS25,AS19,AS13,AS7) -> 4162.219 | AT32: =SUM(AT25,AT19,AT13,AT7) -> 4271.3488 | AU32: =+AT32 -> 4271.3488 | AV32: =SUM(AV25,AV19,AV13,AV7) -> 4631.2485 | AW32: =SUM(AW25,AW19,AW13,AW7) -> 4642.9665 | AX32: =SUM(AX25,AX19,AX13,AX7) -> 4840.254 | AY32: =+AX32 -> 4840.254 | AZ32: =SUM(AZ25,AZ19,AZ13,AZ7) -> 5351.3315 | BA32: =SUM(BA25,BA19,BA13,BA7) -> 0 | BB32: =SUM(BB25,BB19,BB13,BB7) -> 5351.3315 | BC32: =+BB32 -> 5351.3315 | BD32: =SUM(BD25,BD19,BD13,BD7) -> 0 | BE32: =SUM(BE25,BE19,BE13,BE7) -> 5352 | BF32: =SUM(BF25,BF19,BF13,BF7) -> 3513.2681 | BG32: =+BF32 -> 3513.2681 | BH32: =SUM(BH25,BH19,BH13,BH7) -> 0 | BI32: =SUM(BI25,BI19,BI13,BI7) -> 0 | BJ32: =SUM(BJ25,BJ19,BJ13,BJ7) -> 0 | BK32: =+BJ32 -> 0 | BL32: =SUM(BL25,BL19,BL13,BL7) -> 0 | BM32: =SUM(BM25,BM19,BM13,BM7) -> 0 | BN32: =SUM(BN25,BN19,BN13,BN7) -> 0 | BO32: =+BN32 -> 0 | BP32: =SUM(BP25,BP19,BP13,BP7) -> 0 | BQ32: =SUM(BQ25,BQ19,BQ13,BQ7) -> 0 | BR32: =SUM(BR25,BR19,BR13,BR7) -> 0 | BS32: =+BR32 -> 0
C33: Used TB | D33: =SUM(D26,D20,D14,D8) -> 0 | E33: =SUM(E26,E20,E14,E8) -> 0 | F33: =SUM(F26,F20,F14,F8) -> 0 | G33: =SUM(G26,G20,G14,G8) -> 0 | H33: =SUM(H26,H20,H14,H8) -> 1501.0003 | I33: =SUM(I26,I20,I14,I8) -> 1410.1398 | J33: =SUM(J26,J20,J14,J8) -> 1429.1308 | K33: =J33 -> 1429.1308 | L33: =SUM(L26,L20,L14,L8) -> 1359.6252 | M33: =SUM(M26,M20,M14,M8) -> 1360.9504 | N33: =SUM(N26,N20,N14,N8) -> 1491.5585 | O33: =N33 -> 1491.5585 | P33: =SUM(P26,P20,P14,P8) -> 1740.6336 | Q33: =SUM(Q26,Q20,Q14,Q8) -> 1484.4116 | R33: =SUM(R26,R20,R14,R8) -> 1580.3201 | S33: =R33 -> 1580.3201 | T33: =SUM(T26,T20,T14,T8) -> 1709.466 | U33: =SUM(U26,U20,U14,U8) -> 1660.6023 | V33: =SUM(V26,V20,V14,V8) -> 1692.0745 | W33: =V33 -> 1692.0745 | X33: =SUM(X26,X20,X14,X8) -> 1667.1088 | Y33: =SUM(Y26,Y20,Y14,Y8) -> 1779.9538 | Z33: =SUM(Z26,Z20,Z14,Z8) -> 1854.3175 | AA33: =+Z33 -> 1854.3175 | AB33: =SUM(AB26,AB20,AB14,AB8) -> 1929.4318 | AC33: =SUM(AC26,AC20,AC14,AC8) -> 1765.3523 | AD33: =SUM(AD26,AD20,AD14,AD8) -> 1853.0051 | AE33: =+AD33 -> 1853.0051 | AF33: =SUM(AF26,AF20,AF14,AF8) -> 2179.2781 | AG33: =SUM(AG26,AG20,AG14,AG8) -> 2181.6529 | AH33: =SUM(AH26,AH20,AH14,AH8) -> 2105.161 | AI33: =+AH33 -> 2105.161 | AJ33: =SUM(AJ26,AJ20,AJ14,AJ8) -> 2199.5789 | AK33: =SUM(AK26,AK20,AK14,AK8) -> 2384.8424 | AL33: =SUM(AL26,AL20,AL14,AL8) -> 2410.0787 | AM33: =+AL33 -> 2410.0787 | AN33: =SUM(AN26,AN20,AN14,AN8) -> 2422.428 | AO33: =SUM(AO26,AO20,AO14,AO8) -> 2514.3529 | AP33: =SUM(AP26,AP20,AP14,AP8) -> 2526.39 | AQ33: =+AP33 -> 2526.39 | AR33: =SUM(AR26,AR20,AR14,AR8) -> 2590.2665 | AS33: =SUM(AS26,AS20,AS14,AS8) -> 2489.343 | AT33: =SUM(AT26,AT20,AT14,AT8) -> 2522.7947 | AU33: =+AT33 -> 2522.7947 | AV33: =SUM(AV26,AV20,AV14,AV8) -> 3107.4229 | AW33: =SUM(AW26,AW20,AW14,AW8) -> 2922.0117 | AX33: =SUM(AX26,AX20,AX14,AX8) -> 3120.5491 | AY33: =+AX33 -> 3120.5491 | AZ33: =SUM(AZ26,AZ20,AZ14,AZ8) -> 3573.2608 | BA33: =SUM(BA26,BA20,BA14,BA8) -> 0 | BB33: =SUM(BB26,BB20,BB14,BB8) -> 3719.869 | BC33: =+BB33 -> 3719.869 | BD33: =SUM(BD26,BD20,BD14,BD8) -> 0 | BE33: =SUM(BE26,BE20,BE14,BE8) -> 3720 | BF33: =SUM(BF26,BF20,BF14,BF8) -> 2058.7872 | BG33: =+BF33 -> 2058.7872 | BH33: =SUM(BH26,BH20,BH14,BH8) -> 0 | BI33: =SUM(BI26,BI20,BI14,BI8) -> 0 | BJ33: =SUM(BJ26,BJ20,BJ14,BJ8) -> 0 | BK33: =+BJ33 -> 0 | BL33: =SUM(BL26,BL20,BL14,BL8) -> 0 | BM33: =SUM(BM26,BM20,BM14,BM8) -> 0 | BN33: =SUM(BN26,BN20,BN14,BN8) -> 0 | BO33: =+BN33 -> 0 | BP33: =SUM(BP26,BP20,BP14,BP8) -> 0 | BQ33: =SUM(BQ26,BQ20,BQ14,BQ8) -> 0 | BR33: =SUM(BR26,BR20,BR14,BR8) -> 0 | BS33: =+BR33 -> 0
C34: Available TB | D34: =SUM(D27,D21,D15,D9) -> 0 | E34: =SUM(E27,E21,E15,E9) -> 0 | F34: =SUM(F27,F21,F15,F9) -> 0 | G34: =SUM(G27,G21,G15,G9) -> 0 | H34: =SUM(H27,H21,H15,H9) -> 900.00942 | I34: =SUM(I27,I21,I15,I9) -> 1028.0775 | J34: =SUM(J27,J21,J15,J9) -> 971.78091 | K34: =J34 -> 971.78091 | L34: =SUM(L27,L21,L15,L9) -> 817.02747 | M34: =SUM(M27,M21,M15,M9) -> 904.40325 | N34: =SUM(N27,N21,N15,N9) -> 955.63115 | O34: =N34 -> 955.63115 | P34: =SUM(P27,P21,P15,P9) -> 934.24811 | Q34: =SUM(Q27,Q21,Q15,Q9) -> 1341.7316 | R34: =SUM(R27,R21,R15,R9) -> 1291.1021 | S34: =R34 -> 1291.1021 | T34: =SUM(T27,T21,T15,T9) -> 1210.4895 | U34: =SUM(U27,U21,U15,U9) -> 1168.6295 | V34: =SUM(V27,V21,V15,V9) -> 1305.7214 | W34: =V34 -> 1305.7214 | X34: =SUM(X27,X21,X15,X9) -> 1422.1315 | Y34: =SUM(Y27,Y21,Y15,Y9) -> 1447.8545 | Z34: =SUM(Z27,Z21,Z15,Z9) -> 1482.1735 | AA34: =+Z34 -> 1482.1735 | AB34: =SUM(AB27,AB21,AB15,AB9) -> 1419.0466 | AC34: =SUM(AC27,AC21,AC15,AC9) -> 1700.0447 | AD34: =SUM(AD27,AD21,AD15,AD9) -> 1518.2033 | AE34: =+AD34 -> 1518.2033 | AF34: =SUM(AF27,AF21,AF15,AF9) -> 1270.2518 | AG34: =SUM(AG27,AG21,AG15,AG9) -> 1301.8006 | AH34: =SUM(AH27,AH21,AH15,AH9) -> 1449.739 | AI34: =+AH34 -> 1449.739 | AJ34: =SUM(AJ27,AJ21,AJ15,AJ9) -> 1440.1608 | AK34: =SUM(AK27,AK21,AK15,AK9) -> 1289.7902 | AL34: =SUM(AL27,AL21,AL15,AL9) -> 1295.4502 | AM34: =+AL34 -> 1295.4502 | AN34: =SUM(AN27,AN21,AN15,AN9) -> 1267.3301 | AO34: =SUM(AO27,AO21,AO15,AO9) -> 1278.1977 | AP34: =SUM(AP27,AP21,AP15,AP9) -> 1452.2005 | AQ34: =+AP34 -> 1452.2005 | AR34: =SUM(AR27,AR21,AR15,AR9) -> 1528.7483 | AS34: =SUM(AS27,AS21,AS15,AS9) -> 1672.8759 | AT34: =SUM(AT27,AT21,AT15,AT9) -> 1748.5541 | AU34: =+AT34 -> 1748.5541 | AV34: =SUM(AV27,AV21,AV15,AV9) -> 1523.8256 | AW34: =SUM(AW27,AW21,AW15,AW9) -> 1720.9548 | AX34: =SUM(AX27,AX21,AX15,AX9) -> 1719.7049 | AY34: =+AX34 -> 1719.7049 | AZ34: =SUM(AZ27,AZ21,AZ15,AZ9) -> 1778.0707 | BA34: =SUM(BA27,BA21,BA15,BA9) -> 0 | BB34: =SUM(BB27,BB21,BB15,BB9) -> 1631.4625 | BC34: =+BB34 -> 1631.4625 | BD34: =SUM(BD27,BD21,BD15,BD9) -> 0 | BE34: =SUM(BE27,BE21,BE15,BE9) -> 1632 | BF34: =SUM(BF27,BF21,BF15,BF9) -> 1454.4809 | BG34: =+BF34 -> 1454.4809 | BH34: =SUM(BH27,BH21,BH15,BH9) -> 0 | BI34: =SUM(BI27,BI21,BI15,BI9) -> 0 | BJ34: =SUM(BJ27,BJ21,BJ15,BJ9) -> 0 | BK34: =+BJ34 -> 0 | BL34: =SUM(BL27,BL21,BL15,BL9) -> 0 | BM34: =SUM(BM27,BM21,BM15,BM9) -> 0 | BN34: =SUM(BN27,BN21,BN15,BN9) -> 0 | BO34: =+BN34 -> 0 | BP34: =SUM(BP27,BP21,BP15,BP9) -> 0 | BQ34: =SUM(BQ27,BQ21,BQ15,BQ9) -> 0 | BR34: =SUM(BR27,BR21,BR15,BR9) -> 0 | BS34: =+BR34 -> 0
C35: Tech Refesh TB | H35: 0 | I35: 0 | J35: 0 | K35: =J35 -> 0 | L35: 12 | M35: 47 | N35: 59 | O35: =N35 -> 59 | P35: 97 | Q35: 195 | R35: 205 | S35: =R35 -> 205 | T35: 193 | U35: 143.14606 | V35: 144.43019 | W35: =V35 -> 144.43019 | X35: 173.97711 | Y35: 127.6492 | Z35: 129.62206 | AA35: =+Z35 -> 129.62206 | AB35: 175.32176 | AC35: 179.96415 | AD35: 182.01177 | AE35: =+AD35 -> 182.01177 | AF35: 190.90192 | AG35: 174.80073 | AH35: 188.16316 | AI35: =+AH35 -> 188.16316 | AJ35: 188 | AK35: 233.97627 | AL35: 212.40101 | AM35: =+AL35 -> 212.40101 | AN35: 252.5466 | AO35: 258.599 | AP35: 290.90623 | AQ35: =+AP35 -> 290.90623 | AR35: 179.33235 | AS35: 285.97925 | AT35: 183.12015 | AU35: =+AT35 -> 183.12015 | AV35: 168.39994 | AW35: 169.15725 | AX35: 251.78281 | AY35: =+AX35 -> 251.78281 | AZ35: 255.48185 | BB35: 255.48185 | BC35: =+BB35 -> 255.48185 | BE35: 255 | BF35: 255 | BG35: =+BF35 -> 255 | BK35: =+BJ35 -> 0 | BO35: =+BN35 -> 0 | BS35: =+BR35 -> 0
C36: FTE | H36: 14.5 | I36: 14.5 | J36: 14.5 | K36: =J36 -> 14.5 | L36: 14.5 | M36: 14.5 | N36: 13.5 | O36: =N36 -> 13.5 | P36: 13.5 | Q36: 13.5 | R36: 15.5 | S36: =R36 -> 15.5 | T36: 16.5 | U36: 16.5 | V36: 15.5 | W36: =V36 -> 15.5 | X36: 16.5 | Y36: 16.5 | Z36: 16.5 | AA36: =+Z36 -> 16.5 | AB36: =+AA36 -> 16.5 | AC36: 13.5 | AD36: 13.5 | AE36: =+AD36 -> 13.5 | AF36: 12.5 | AG36: 12.5 | AH36: 11.5 | AI36: =+AH36 -> 11.5 | AJ36: 11.5 | AK36: 11.5 | AL36: 11.5 | AM36: =+AL36 -> 11.5 | AN36: 12.5 | AO36: 12.5 | AP36: 12.5 | AQ36: =+AP36 -> 12.5 | AR36: =+AQ36 -> 12.5 | AS36: =+AR36 -> 12.5 | AT36: =+AS36 -> 12.5 | AU36: =+AT36 -> 12.5 | AV36: =+AU36 -> 12.5 | AW36: 12.5 | AX36: 12.5 | AY36: =+AX36 -> 12.5 | AZ36: =+AY36 -> 12.5 | BA36: =+AZ36 -> 12.5 | BB36: =+BA36 -> 12.5 | BC36: =+BB36 -> 12.5 | BE36: 12 | BF36: 10 | BG36: =+BF36 -> 10 | BK36: =+BJ36 -> 0 | BO36: =+BN36 -> 0 | BS36: =+BR36 -> 0
C40: RAID 5 % | H40: 0.68307496 | I40: 0.59562253 | J40: 0.61731319 | K40: =J40 -> 0.61731319 | L40: 0.63324071 | M40: 0.65598762 | N40: 0.68358593 | O40: =N40 -> 0.68358593 | P40: 0.69730472 | Q40: 0.73220127 | R40: 0.73703238 | S40: =R40 -> 0.73703238 | T40: 0.74286741 | U40: 0.75674561 | V40: 0.77141858 | W40: =V40 -> 0.77141858 | X40: 0.77362737 | Y40: 0.78649912 | Z40: 0.7909842 | AA40: =Z40 -> 0.7909842 | AB40: 0.79492857 | AC40: 0.80215 | AD40: 0.83707146 | AE40: =AD40 -> 0.83707146 | AF40: 0.84102933 | AG40: 0.84132737 | AH40: 0.8452937 | AI40: =AH40 -> 0.8452937 | AJ40: 0.85 | AK40: 0.86366545 | AL40: 0.89466445 | AM40: =AL40 -> 0.89466445 | AN40: 0.89379055 | AO40: 0.89651532 | AP40: 0.90434286 | AQ40: =AP40 -> 0.90434286 | AR40: 0.9074467 | AS40: 0.90673727 | AT40: 0.90859839 | AU40: =AT40 -> 0.90859839 | AV40: 0.90859839 | AW40: 0.92059822 | AX40: 0.92317726 | AY40: =AX40 -> 0.92317726 | AZ40: 0.91378907 | BB40: 0.92084275 | BC40: =BB40 -> 0.92084275 | BE40: 0.91 | BF40: 0.8037 | BG40: =BF40 -> 0.8037 | BK40: =BJ40 -> 0 | BO40: =BN40 -> 0 | BS40: =BR40 -> 0
B43: Note | C43: * The installed TB figures include the DMX, VMAX, HDS and Clariion arrays in UK, Germany, Russia and Turkey
C44: * The installed TB figures include the HP/HDS arrays in Poland
C45: * The installed TB figures include the Centera arrays across EMEA.
...

Sheet EMEA SAN CIOC
A1: Month | B1: Location | C1: Type (SAN, NAS or MF) | D1: Installed Raw(TB) | E1: Allocated (TB) | F1: Not Allocated /Free(TB) | G1: Subsystems Frames/Filers | H1: Tech Refresh (TB) | I1: Tech Refresh Subsystems Frames/Filers | J1: % Allocated (calculated) | K1: SAN Switch Capacity (#ports) | L1: Used Ports | M1: Free Ports | N1: Ports Not Installed | O1: SAN Switch Count
A2: 40179 | B2: Frankfurt | C2: SAN | D2: 686.70882 | E2: 548 | F2: =D2-E2 -> 138.70882 | G2: 16 | J2: =E2/D2 -> 0.79800927
A3: 40179 | B3: London (RDC) | C3: SAN | D3: 1554.1152 | E3: 1098 | F3: =D3-E3 -> 456.11524 | G3: 32 | J3: =E3/D3 -> 0.70651131
A4: 40179 | B4: CGC | C4: SAN | D4: 686.39941 | E4: 259 | F4: =D4-E4 -> 427.39941 | G4: 14 | J4: =E4/D4 -> 0.37733132
A5: 40179 | B5: IX Europe | C5: SAN | D5: 178.17578 | E5: 166 | F5: =D5-E5 -> 12.175781 | G5: 6 | J5: =E5/D5 -> 0.93166422
A6: 40179 | B6: Meerbusch | C6: SAN | D6: 253.62109 | E6: 188.00977 | F6: =D6-E6 -> 65.611328 | G6: 5 | J6: =E6/D6 -> 0.74130177
A7: 40179 | B7: Senatorska | C7: SAN | D7: 82.728516 | E7: 45 | F7: =D7-E7 -> 37.728516 | G7: 3 | J7: =E7/D7 -> 0.54394787
A8: 40179 | B8: Goleszowska | C8: SAN | D8: 76.945312 | E8: 42 | F8: =D8-E8 -> 34.945312 | G8: 3 | J8: =E8/D8 -> 0.54584222
A9: 40179 | B9: Welle | C9: SAN | D9: 14.849609 | E9: 4 | F9: =D9-E9 -> 10.849609 | G9: 1 | J9: =E9/D9 -> 0.26936735
A10: 40179 | B10: Turkey | C10: SAN | D10: 53.144531 | E10: 36 | F10: =D10-E10 -> 17.144531 | G10: 2 | J10: =E10/D10 -> 0.67739802
A11: 40179 | B11: Switzerland | C11: SAN | D11: 32.385742 | E11: 15 | F11: =D11-E11 -> 17.385742 | G11: 2 | J11: =E11/D11 -> 0.46316678
A12: 40179 | B12: Russia | C12: SAN | D12: 0 | E12: 0 | F12: =D12-E12 -> 0 | G12: 0 | J12: 0
A13: 40210 | B13: Frankfurt | C13: SAN | D13: 738.04085 | E13: 574.29725 | F13: =D13-E13 -> 163.7436 | G13: 16 | J13: =E13/D13 -> 0.77813748
A14: 40210 | B14: London (RDC) | C14: SAN | D14: 1569.8721 | E14: 1103.617 | F14: =D14-E14 -> 466.25511 | G14: 32 | J14: =E14/D14 -> 0.70299802
A15: 40210 | B15: CGC | C15: SAN | D15: 686.39941 | E15: 256.33203 | F15: =D15-E15 -> 430.06738 | G15: 14 | J15: =E15/D15 -> 0.37344442
A16: 40210 | B16: IX Europe | C16: SAN | D16: 178.17578 | E16: 165.8584 | F16: =D16-E16 -> 12.317383 | G16: 6 | J16: =E16/D16 -> 0.93086949
A17: 40210 | B17: Meerbusch | C17: SAN | D17: 268.20605 | E17: 190.84082 | F17: =D17-E17 -> 77.365234 | G17: 6 | J17: =E17/D17 -> 0.71154553
A18: 40210 | B18: Senatorska | C18: SAN | D18: 82.728516 | E18: 47.337738 | F18: =D18-E18 -> 35.390778 | G18: 3 | J18: =E18/D18 -> 0.57220582
A19: 40210 | B19: Goleszowska | C19: SAN | D19: 76.945312 | E19: 43.624554 | F19: =D19-E19 -> 33.320758 | G19: 3 | J19: =E19/D19 -> 0.56695532
A20: 40210 | B20: Welle | C20: SAN | D20: 14.849609 | E20: 3.9599609 | F20: =D20-E20 -> 10.889648 | G20: 1 | J20: =E20/D20 -> 0.26667105
A21: 40210 | B21: Turkey | C21: SAN | D21: 53.144531 | E21: 37.527344 | F21: =D21-E21 -> 15.617188 | G21: 2 | J21: =E21/D21 -> 0.70613745
A22: 40210 | B22: Switzerland | C22: SAN | D22: 32.385742 | E22: 14.822266 | F22: =D22-E22 -> 17.563477 | G22: 2 | J22: =E22/D22 -> 0.45767874
A23: 40210 | B23: Russia | C23: SAN | D23: 0 | E23: 0 | F23: =D23-E23 -> 0 | G23: 0 | J23: 0
A24: 40238 | B24: Frankfurt | C24: SAN | D24: 738.04085 | E24: 513.07859 | F24: =D24-E24 -> 224.96225 | G24: 16 | H24: 0 | I24: 0 | J24: =E24/D24 -> 0.69518997 | K24: 2812 | L24: 1917 | M24: =K24-L24 -> 895 | O24: 20
A25: 40238 | B25: London (RDC) | C25: SAN | D25: 1569.8721 | E25: 1131.487 | F25: =D25-E25 -> 438.38506 | G25: 32 | H25: 0 | I25: 0 | J25: =E25/D25 -> 0.7207511 | K25: 6013 | L25: 3594 | M25: =K25-L25 -> 2419 | O25: 49
A26: 40238 | B26: CGC | C26: SAN | D26: 686.39941 | E26: 249.22949 | F26: =D26-E26 -> 437.16992 | G26: 14 | H26: 0 | I26: 0 | J26: =E26/D26 -> 0.36309689 | K26: 3637 | L26: 1494 | M26: =K26-L26 -> 2143 | O26: 36
A27: 40238 | B27: IX Europe | C27: SAN | D27: 178.17578 | E27: 166.25781 | F27: =D27-E27 -> 11.917969 | G27: 6 | J27: =E27/D27 -> 0.93311117
A28: 40238 | B28: Meerbusch | C28: SAN | D28: 268.20605 | E28: 191.30762 | F28: =D28-E28 -> 76.898438 | G28: 6 | J28: =E28/D28 -> 0.71328597
A29: 40238 | B29: Senatorska | C29: SAN | D29: 82.728516 | E29: 49.246918 | F29: =D29-E29 -> 33.481598 | G29: 3 | J29: =E29/D29 -> 0.59528347
A30: 40238 | B30: Goleszowska | C30: SAN | D30: 76.945312 | E30: 43.723187 | F30: =D30-E30 -> 33.222125 | G30: 3 | J30: =E30/D30 -> 0.56823718
A31: 40238 | B31: Welle | C31: SAN | D31: 14.849609 | E31: 3.9599609 | F31: =D31-E31 -> 10.889648 | G31: 1 | J31: =E31/D31 -> 0.26667105 | K31: 96 | L31: 84 | M31: 12 | O31: 2
A32: 40238 | B32: Turkey | C32: SAN | D32: 53.144531 | E32: 37.723633 | F32: =D32-E32 -> 15.420898 | G32: 2 | J32: =E32/D32 -> 0.70983094
A33: 40238 | B33: Switzerland | C33: SAN | D33: 32.385742 | E33: 14.897461 | F33: =D33-E33 -> 17.488281 | G33: 2 | J33: =E33/D33 -> 0.4600006
A34: 40238 | B34: Russia | C34: SAN | D34: 0 | E34: 0 | F34: =D34-E34 -> 0 | G34: 0 | J34: 0
A35: 40269 | B35: Frankfurt | C35: SAN | D35: 906.84268 | E35: 473.28713 | F35: =D35-E35 -> 433.55554 | G35: 17 | H35: 1.6467773 | I35: 1 | J35: =E35/D35 -> 0.52190655 | K35: 2991 | L35: 2147 | M35: =K35-L35 -> 844 | O35: 22
A36: 40269 | B36: London (RDC) | C36: SAN | D36: 1718.9492 | E36: 1005.1803 | F36: =D36-E36 -> 713.76895 | G36: 34 | H36: 8.4720703 | I36: 2 | J36: =E36/D36 -> 0.58476438 | K36: 6015 | L36: 3623 | M36: =K36-L36 -> 2392 | O36: 49
A37: 40269 | B37: CGC | C37: SAN | D37: 886.5902 | E37: 210.44049 | F37: =D37-E37 -> 676.14971 | G37: 16 | H37: 1.6851562 | I37: 2 | J37: =E37/D37 -> 0.23735937 | K37: 3637 | L37: 1561 | M37: =K37-L37 -> 2076 | O37: 36
A38: 40269 | B38: IX Europe | C38: SAN | D38: 178.19944 | E38: 174.96191 | F38: =D38-E38 -> 3.2375261 | G38: 6 | J38: =E38/D38 -> 0.98183201
A39: 40269 | B39: Meerbusch | C39: SAN | D39: 268.20506 | E39: 161.8017 | F39: =D39-E39 -> 106.40336 | G39: 6 | J39: =E39/D39 -> 0.6032761
A40: 40269 | B40: Senatorska | C40: SAN | D40: 84.728371 | E40: 47.977153 | F40: =D40-E40 -> 36.751219 | G40: 3 | J40: =E40/D40 -> 0.56624661
...

Sheet Comments
A2: Installations
A3: 40544 | B3: VMAX array added to Welle
A4: 40575 | B4: Disks added to VMAX arrays in RDC & CGC
A5: 40603 | B5: VMAX arrays added to FDC & EDC (Meerbuch). Disks added to Centera arrays in RDC and EDC (Meerbuch). Clariion array added to FDC
A6: 40634 | B6: No changes
A7: 40664 | B7: No changes
A8: 40695 | B8: 2 DMX arrays decommissioned in RDC, 2 DMX arrays decommissioned in FDC, 1 DMX array decommissioned in CGC, 6 DMX arrays decommissioned in IXE
A9: 40725 | B9: No changes
A10: 40756 | B10: 1 DMX decommissioned in RDC, 1 new VMAX in RDC, 1 New Clariion in RDC, 1 new Clariion in FDC, disk added to Centera in EDC, disk added to Centera in RDC
A11: 40787 | B11: Disks added to VMAX FDC, to Centera in Goleszoswka, to DMX in Meerbuch
A12: 40827 | B12: 1 new VMAX in RDC, 1 new VMAX in FDC
A13: 40848 | B13: 1 new VMAX in RDC, 1 new VMAX in FDC
A14: 40878 | B14: 1 DMX decommissioned in CGC, 1 DMX decommissioned in RDC, 3 DMX decommissioned in EDC
... A22: 41122 | B22: CGC Disks added to VMAX, Frankfurt Disks added to VMAX, Goleszowska Disk added to Centera, IX Europe , London (RDC) Disks added to VMAX, Meerbusch , Russia , Senatorska Disk added to Centera, Switzerland , Turkey , Welle
A26: Allocations
A27: 40544 | B27: 5TB Centera allocations in EDC (Meerbuch). 21TB VMAX in FDC, 4TB VMAX in Welle. 23TB HDS in FDC, 38TB HDS in RDC
A28: 40575 | B28: 6TB Centera allocations in EDC (Meerbuch). 3TB VMAX in FDC, 11TB VMAX in RDC. 52TB HDS in FDC, 54TB HDS in RDC
A29: 40603 | B29: 3TB Centera allocations in EDC (Meerbuch). 60TB VMAX in CGC, 8TB VMAX in FDC, 15TB VMAX in RDC, 21TB in EDC (Meerbuch). 17TB HDS in RDC
A30: 40634 | B30: 9TB Centera allocations in EDC (Meerbuch), 6TB Centera in RDC, 3TB Centera in Turkey, 7TB VMAX in FDC, 6TB VMAX in RDC, 3TB HDS in FDC, 13TB HDS in RDC
A31: 40664 | B31: 8TB Centera allocations in EDC (Meerbuch), 4TB Centera in RDC, 2TB Centera in Turkey, 1TB Centera in Senatorska, 12TB VMAX in CGC, 35TB in RDC, 6TB in EDC, 6TB HDS in FDC, 4TB HDS in RDC
