Workbook
Name _c__Master_TCO_Report_by_PL__Run_if_needed_: #REF!
Name _c__Master_TCO_Report_by_PL__Run_if_needed_: #REF!
Name _RF2001: #REF!
Name _RF2001: #REF!
Name AcctGroup: '[2]TOTAL (2)'!$K$197
Name Adjustments: '[3]o_(r)'!#REF!
Name Adjustments: '[3]o_(r)'!#REF!
Name ALIGN_ALL: #N/A
Name ALL: #REF!
Name ALL: #REF!
Name ASPACSum: [4]ASPACSum!$A$9:$AQ$50
Name aug: '[5]August AM180'!$E$1:$G$3810
Name big2tas: #REF!
Name big2tas: #REF!
Name branches: #REF!
Name branches: #REF!
Name btu: '[6]6. Rates'!$D$4
Name BTU_Cost: [7]Reference!#REF!
Name BTU_Cost: [7]Reference!#REF!
Name BTU_Cost___0: [8]MiscCostDataLookup!$B$11
Name btu_pwr_ratio: '[6]6. Rates'!$D$8
Name Building: '[9]Drop Down List'!#REF!
Name Building: '[9]Drop Down List'!#REF!
Name BuiltIn_Print_Area___1: #REF!
Name BuiltIn_Print_Area___1: #REF!
Name BuiltIn_Print_Area___2: "$#REF!.$B$#REF!:$U$#REF!"
Name BuiltIn_Print_Area___4: #REF!
Name BuiltIn_Print_Area___4: #REF!
Name BuiltIn_Print_Area___5: "$Template.$B$#REF!:$U$#REF!"
Name BuiltIn_Print_Titles___1: #REF!
Name BuiltIn_Print_Titles___1: #REF!
Name BuiltIn_Print_Titles___2: "$#REF!.$B$1:$B$31853"
Name BuiltIn_Print_Titles___5: #REF!
Name BuiltIn_Print_Titles___5: #REF!
Name Calendar: #REF!
Name Calendar: #REF!
Name CAO: #REF!
Name CAO: #REF!
Name Cap_pool: '[6]Rate Schedule'!#REF!
Name Cap_pool: '[6]Rate Schedule'!#REF!
Name cc_008167: #REF!
Name cc_008167: #REF!
Name cc_019106: #REF!
Name cc_019106: #REF!
Name cc_019107: #REF!
Name cc_019107: #REF!
Name cfgdbCPUx: #REF!
Name cfgdbCPUx: #REF!
Name CGDBMachx: #REF!
Name CGDBMachx: #REF!
Name citi: #REF!
Name citi: #REF!
Name City: '[9]Drop Down List'!#REF!
Name City: '[9]Drop Down List'!#REF!
Name CODES_RETRIEVAL: #REF!
Name CODES_RETRIEVAL: #REF!
Name Compaq: #REF!
Name Compaq: #REF!
Name ConsumerEssbase: [3]corp_con!#REF!
Name ConsumerEssbase: [3]corp_con!#REF!

Sheet SAN
A1: EMEA
D2: 2009 | H2: 2010 | X2: 2011 | AN2: 2012 | BD2: 2013
A3: SAN | D3: Q1 | E3: Q2 | F3: Q3 | G3: Q4 | H3: Jan | I3: Feb | J3: Mar | K3: Q1 | L3: Apr | M3: May | N3: Jun | O3: Q2 | P3: Jul | Q3: Aug | R3: Sep | S3: Q3 | T3: Oct | U3: Nov | V3: Dec | W3: Q4 | X3: Jan | Y3: Feb | Z3: Mar | AA3: Q1 | AB3: Apr | AC3: May | AD3: Jun | AE3: Q2 | AF3: Jul | AG3: Aug | AH3: Sep | AI3: Q3 | AJ3: Oct | AK3: Nov | AL3: Dec | AM3: Q4 | AN3: Jan | AO3: Feb | AP3: Mar | AQ3: Q1 | AR3: Apr | AS3: May | AT3: Jun | AU3: Q2 | AV3: Jul | AW3: Aug | AX3: Sep | AY3: Q3 | AZ3: Oct | BA3: Nov | BB3: Dec | BC3: Q4 | BD3: Jan | BE3: Feb | BF3: Mar | BG3: Q1 | BH3: Apr | BI3: May | BJ3: Jun | BK3: Q2 | BL3: Jul | BM3: Aug | BN3: Sep | BO3: Q3 | BP3: Oct | BQ3: Nov | BR3: Dec | BS3: Q4
B4: CORP | C4: % Optimized | H4: 0.0069914368 | I4: 0.0053189014 | J4: 0 | K4: =J4 -> 0 | L4: 0.0022670458 | M4: 0.0045846965 | N4: 0.0081681162 | O4: =N4 -> 0.0081681162 | P4: 0.0072606565 | Q4: 0.0074357144 | R4: 0.0057898481 | S4: =R4 -> 0.0057898481 | T4: 1.9340009e-05 | U4: 0.001040053 | V4: 0.00075914638 | W4: =V4 -> 0.00075914638 | X4: 0.00076496361 | Y4: 0.0014018844 | Z4: 0.00080591592 | AA4: =+Z4 -> 0.00080591592 | AB4: 0.0005806539 | AC4: 0.0005806539 | AD4: 0.00074195628 | AE4: =+AD4 -> 0.00074195628 | AF4: 0.00073942616 | AG4: 0.00056704224 | AH4: 0.00082896046 | AI4: =+AH4 -> 0.00082896046 | AJ4: 0.11406985 | AK4: 0.12752408 | AL4: 0.13483506 | AM4: =+AL4 -> 0.13483506 | AN4: 0.11519934 | AO4: 0.13925946 | AP4: 0.13165563 | AQ4: =+AP4 -> 0.13165563 | AR4: 0.10497669 | AS4: 0.10053725 | AT4: 0.084834253 | AU4: =+AT4 -> 0.084834253 | AV4: 0.11033193 | AW4: 0.11010547 | AX4: 0.095437641 | AY4: =+AX4 -> 0.095437641 | AZ4: 0.096758698 | BB4: 0.087492837 | BC4: =+BB4 -> 0.087492837 | BE4: 0.09 | BF4: 0.094 | BG4: =+BF4 -> 0.094
C5: % Virtualized | K5: =J5 -> 0 | O5: =N5 -> 0 | P5: 0.1101859 | Q5: 0.11281086 | R5: 0.089098607 | S5: =R5 -> 0.089098607 | T5: 0.097454857 | U5: 0.4142383 | V5: 0.38344619 | W5: =V5 -> 0.38344619 | X5: 0.38588218 | Y5: 0.34331454 | Z5: 0.34495407 | AA5: =+Z5 -> 0.34495407 | AB5: 0.35315828 | AC5: 0.54522846 | AD5: 0.5528715 | AE5: =+AD5 -> 0.5528715 | AF5: 0.56936427 | AG5: 0.58069051 | AH5: 0.57461576 | AI5: =+AH5 -> 0.57461576 | AJ5: 0.54631616 | AK5: 0.54751989 | AL5: 0.5640743 | AM5: =+AL5 -> 0.5640743 | AN5: 0.5789011 | AO5: 0.57980765 | AP5: 0.58859858 | AQ5: =+AP5 -> 0.58859858 | AR5: 0.59216201 | AS5: 0.61012351 | AT5: 0.57770683 | AU5: =+AT5 -> 0.57770683 | AV5: 0.56184127 | AW5: 0.56209715 | AX5: 0.573758 | AY5: =+AX5 -> 0.573758 | AZ5: 0.57191253 | BB5: 0.52392136 | BC5: =+BB5 -> 0.52392136 | BE5: 0.52 | BF5: 0.59 | BG5: =+BF5 -> 0.59 | BK5: =+BJ5 -> 0 | BO5: =+BN5 -> 0 | BS5: =+BR5 -> 0
C6: Avg Utilization | D6: =IF(D7=0,0,D8/D7) -> 0 | E6: =IF(E7=0,0,E8/E7) -> 0 | F6: =IF(F7=0,0,F8/F7) -> 0 | G6: =IF(G7=0,0,G8/G7) -> 0 | H6: =IF(H7=0,0,H8/H7) -> 0.439752 | I6: =IF(I7=0,0,I8/I7) -> 0.43566497 | J6: =IF(J7=0,0,J8/J7) -> 0.39890375 | K6: =J6 -> 0.39890375 | L6: =IF(L7=0,0,L8/L7) -> 0.50227756 | M6: =IF(M7=0,0,M8/M7) -> 0.58472469 | N6: =IF(N7=0,0,N8/N7) -> 0.59120341 | O6: =N6 -> 0.59120341 | P6: =IF(P7=0,0,P8/P7) -> 0.61020654 | Q6: =IF(Q7=0,0,Q8/Q7) -> 0.6022829 | R6: =IF(R7=0,0,R8/R7) -> 0.57724929 | S6: =R6 -> 0.57724929 | T6: =IF(T7=0,0,T8/T7) -> 0.58953728 | U6: =IF(U7=0,0,U8/U7) -> 0.54487984 | V6: =IF(V7=0,0,V8/V7) -> 0.54952755 | W6: =V6 -> 0.54952755 | X6: =IF(X7=0,0,X8/X7) -> 0.52426459 | Y6: =IF(Y7=0,0,Y8/Y7) -> 0.49425643 | Z6: =IF(Z7=0,0,Z8/Z7) -> 0.56254979 | AA6: =+Z6 -> 0.56254979 | AB6: =IF(AB7=0,0,AB8/AB7) -> 0.57410529 | AC6: =IF(AC7=0,0,AC8/AC7) -> 0.51993276 | AD6: =IF(AD7=0,0,AD8/AD7) -> 0.57150705 | AE6: =+AD6 -> 0.57150705 | AF6: =IF(AF7=0,0,AF8/AF7) -> 0.65431034 | AG6: =IF(AG7=0,0,AG8/AG7) -> 0.63095887 | AH6: =IF(AH7=0,0,AH8/AH7) -> 0.57207506 | AI6: =+AH6 -> 0.57207506 | AJ6: =IF(AJ7=0,0,AJ8/AJ7) -> 0.54026775 | AK6: =IF(AK7=0,0,AK8/AK7) -> 0.58487143 | AL6: =IF(AL7=0,0,AL8/AL7) -> 0.58597137 | AM6: =+AL6 -> 0.58597137 | AN6: =IF(AN7=0,0,AN8/AN7) -> 0.61704801 | AO6: =IF(AO7=0,0,AO8/AO7) -> 0.60526826 | AP6: =IF(AP7=0,0,AP8/AP7) -> 0.57645971 | AQ6: =+AP6 -> 0.57645971 | AR6: =IF(AR7=0,0,AR8/AR7) -> 0.58074928 | AS6: =IF(AS7=0,0,AS8/AS7) -> 0.55070816 | AT6: =IF(AT7=0,0,AT8/AT7) -> 0.56415317 | AU6: =+AT6 -> 0.56415317 | AV6: =IF(AV7=0,0,AV8/AV7) -> 0.62587059 | AW6: =IF(AW7=0,0,AW8/AW7) -> 0.58140954 | AX6: =IF(AX7=0,0,AX8/AX7) -> 0.60185974 | AY6: =+AX6 -> 0.60185974 | AZ6: =IF(AZ7=0,0,AZ8/AZ7) -> 0.61390409 | BA6: =IF(BA7=0,0,BA8/BA7) -> 0 | BB6: =IF(BB7=0,0,BB8/BB7) -> 0.64142922 | BC6: =+BB6 -> 0.64142922 | BD6: =IF(BD7=0,0,BD8/BD7) -> 0 | BE6: =IF(BE7=0,0,BE8/BE7) -> 0.64149683 | BF6: =IF(BF7=0,0,BF8/BF7) -> 0.52892235 | BG6: =+BF6 -> 0.52892235 | BH6: =IF(BH7=0,0,BH8/BH7) -> 0 | BI6: =IF(BI7=0,0,BI8/BI7) -> 0 | BJ6: =IF(BJ7=0,0,BJ8/BJ7) -> 0 | BK6: =+BJ6 -> 0 | BL6: =IF(BL7=0,0,BL8/BL7) -> 0 | BM6: =IF(BM7=0,0,BM8/BM7) -> 0 | BN6: =IF(BN7=0,0,BN8/BN7) -> 0 | BO6: =+BN6 -> 0 | BP6: =IF(BP7=0,0,BP8/BP7) -> 0 | BQ6: =IF(BQ7=0,0,BQ8/BQ7) -> 0 | BR6: =IF(BR7=0,0,BR8/BR7) -> 0 | BS6: =+BR6 -> 0
C7: Allocated TB | H7: 206.49445 | I7: 200.59121 | J7: 205.11616 | K7: =J7 -> 205.11616 | L7: 233.98753 | M7: 351.78475 | N7: 332.21064 | O7: =N7 -> 332.21064 | P7: 373.96406 | Q7: 365.26232 | R7: 463.31601 | S7: =R7 -> 463.31601 | T7: 479.19202 | U7: 428.88477 | V7: 488.23855 | W7: =V7 -> 488.23855 | X7: 484.5257 | Y7: 452.52985 | Z7: 471.06486 | AA7: =+Z7 -> 471.06486 | AB7: 1201.23 | AC7: 1680.9067 | AD7: 1598.9284 | AE7: =+AD7 -> 1598.9284 | AF7: 1605.3634 | AG7: 1622.5272 | AH7: 1879.5837 | AI7: =+AH7 -> 1879.5837 | AJ7: 2084.6098 | AK7: 2050.8871 | AL7: 2151.5767 | AM7: =+AL7 -> 2151.5767 | AN7: 2253.2265 | AO7: 2296.0504 | AP7: 2401.9974 | AQ7: =+AP7 -> 2401.9974 | AR7: 2475.6079 | AS7: 2582.1406 | AT7: 2424.0271 | AU7: =+AT7 -> 2424.0271 | AV7: 2348.4198 | AW7: 2351.2279 | AX7: 2485.2418 | AY7: =+AX7 -> 2485.2418 | AZ7: 2510.2603 | BB7: 2993.2373 | BC7: =+BB7 -> 2993.2373 | BE7: 2993 | BF7: 1753.0687 | BG7: =+BF7 -> 1753.0687 | BK7: =+BJ7 -> 0 | BO7: =+BN7 -> 0 | BS7: =+BR7 -> 0
C8: Used TB | H8: 90.806349 | I8: 87.390562 | J8: 81.821605 | K8: =J8 -> 81.821605 | L8: 117.52669 | M8: 205.69723 | N8: 196.40407 | O8: =N8 -> 196.40407 | P8: 228.19532 | Q8: 219.99125 | R8: 267.44884 | S8: =R8 -> 267.44884 | T8: 282.50156 | U8: 233.69066 | V8: 268.30054 | W8: =V8 -> 268.30054 | X8: 254.01967 | Y8: 223.66579 | Z8: 264.99744 | AA8: =+Z8 -> 264.99744 | AB8: 689.63252 | AC8: 873.95843 | AD8: 913.79884 | AE8: =+AD8 -> 913.79884 | AF8: 1050.4059 | AG8: 1023.7479 | AH8: 1075.263 | AI8: =+AH8 -> 1075.263 | AJ8: 1126.2475 | AK8: 1199.5053 | AL8: 1260.7624 | AM8: =+AL8 -> 1260.7624 | AN8: 1390.3489 | AO8: 1389.7264 | AP8: 1384.6547 | AQ8: =+AP8 -> 1384.6547 | AR8: 1437.7075 | AS8: 1422.0059 | AT8: 1367.5226 | AU8: =+AT8 -> 1367.5226 | AV8: 1469.8069 | AW8: 1367.0264 | AX8: 1495.767 | AY8: =+AX8 -> 1495.767 | AZ8: 1541.0591 | BB8: 1919.9499 | BC8: =+BB8 -> 1919.9499 | BE8: 1920 | BF8: 927.23719 | BG8: =+BF8 -> 927.23719 | BK8: =+BJ8 -> 0 | BO8: =+BN8 -> 0 | BS8: =+BR8 -> 0
C9: Available TB | H9: 115.68811 | I9: 113.20065 | J9: 123.29455 | K9: =J9 -> 123.29455 | L9: 116.46084 | M9: 146.08752 | N9: 135.80658 | O9: =N9 -> 135.80658 | P9: 145.76875 | Q9: 145.27107 | R9: 195.86717 | S9: =R9 -> 195.86717 | T9: 196.69046 | U9: 195.19411 | V9: 219.93802 | W9: =V9 -> 219.93802 | X9: 230.50604 | Y9: 228.86406 | Z9: 206.06742 | AA9: =+Z9 -> 206.06742 | AB9: =AB7-AB8 -> 511.59752 | AC9: =AC7-AC8 -> 806.94822 | AD9: =AD7-AD8 -> 685.12955 | AE9: =+AD9 -> 685.12955 | AF9: =AF7-AF8 -> 554.95752 | AG9: =AG7-AG8 -> 598.77926 | AH9: =AH7-AH8 -> 804.32075 | AI9: =+AH9 -> 804.32075 | AJ9: =AJ7-AJ8 -> 958.36236 | AK9: =AK7-AK8 -> 851.38184 | AL9: =AL7-AL8 -> 890.81438 | AM9: =+AL9 -> 890.81438 | AN9: =AN7-AN8 -> 862.87755 | AO9: =AO7-AO8 -> 906.32397 | AP9: =AP7-AP8 -> 1017.3427 | AQ9: =+AP9 -> 1017.3427 | AR9: =AR7-AR8 -> 1037.9004 | AS9: =AS7-AS8 -> 1160.1347 | AT9: =AT7-AT8 -> 1056.5045 | AU9: =+AT9 -> 1056.5045 | AV9: =AV7-AV8 -> 878.61291 | AW9: =AW7-AW8 -> 984.20158 | AX9: =AX7-AX8 -> 989.4748 | AY9: =+AX9 -> 989.4748 | AZ9: =AZ7-AZ8 -> 969.20124 | BA9: =BA7-BA8 -> 0 | BB9: =BB7-BB8 -> 1073.2874 | BC9: =+BB9 -> 1073.2874 | BD9: =BD7-BD8 -> 0 | BE9: 1073 | BF9: 825.83147 | BG9: =+BF9 -> 825.83147 | BK9: =+BJ9 -> 0 | BO9: =+BN9 -> 0 | BS9: =+BR9 -> 0
B10: ICG | C10: % Optimized | H10: 0.095660319 | I10: 0.080765626 | J10: 0.069852525 | K10: =J10 -> 0.069852525 | L10: 0.08973895 | M10: 0.098898134 | N10: 0.099170339 | O10: =N10 -> 0.099170339 | P10: 0.08881392 | Q10: 0.079099689 | R10: 0.06249388 | S10: =R10 -> 0.06249388 | T10: 0.016958201 | U10: 0.073931125 | V10: 0.015111274 | W10: =V10 -> 0.015111274 | X10: 0.012715439 | Y10: 0.014507535 | Z10: 0.045805451 | AA10: =+Z10 -> 0.045805451 | AB10: 0.042452296 | AC10: 0.042452296 | AD10: 0.010524247 | AE10: =+AD10 -> 0.010524247 | AF10: 0.0073633982 | AG10: 0.0081906148 | AH10: 0.039444794 | AI10: =+AH10 -> 0.039444794 | AJ10: 0.27192879 | AK10: 0.36829694 | AL10: 0.37687993 | AM10: =+AL10 -> 0.37687993 | AN10: 0.29112288 | AO10: 0.28037824 | AP10: 0.29208522 | AQ10: =+AP10 -> 0.29208522 | AR10: 0.27049508 | AS10: 0.24624588 | AT10: 0.21556588 | AU10: =+AT10 -> 0.21556588 | AV10: 0.30810695 | AW10: 0.29677958 | AX10: 0.31366683 | AY10: =+AX10 -> 0.31366683 | AZ10: 0.29357963 | BB10: 0.31485684 | BC10: =+BB10 -> 0.31485684 | BE10: 0.31 | BF10: 0.3176 | BG10: =+BF10 -> 0.3176 | BK10: =+BJ10 -> 0 | BO10: =+BN10 -> 0 | BS10: =+BR10 -> 0
C11: % Virtualized | K11: =J11 -> 0 | O11: =N11 -> 0 | P11: 0.019673299 | Q11: 0.0044361387 | R11: 0.0043057865 | S11: =R11 -> 0.0043057865 | T11: 0.014538501 | U11: 0.1978419 | V11: 0.19362741 | W11: =V11 -> 0.19362741 | X11: 0.19284701 | Y11: 0.18357256 | Z11: 0.18713749 | AA11: =+Z11 -> 0.18713749 | AB11: 0.1941497 | AC11: 0.5371171 | AD11: 0.55498098 | AE11: =+AD11 -> 0.55498098 | AF11: 0.56770204 | AG11: 0.57095101 | AH11: 0.58028743 | AI11: =+AH11 -> 0.58028743 | AJ11: 0.62474829 | AK11: 0.6446905 | AL11: 0.62670453 | AM11: =+AL11 -> 0.62670453 | AN11: 0.63421245 | AO11: 0.67438397 | AP11: 0.66714821 | AQ11: =+AP11 -> 0.66714821 | AR11: 0.67679319 | AS11: 0.67903397 | AT11: 0.64992435 | AU11: =+AT11 -> 0.64992435 | AV11: 0.64616531 | AW11: 0.64658487 | AX11: 0.64628528 | AY11: =+AX11 -> 0.64628528 | AZ11: 0.73740064 | BB11: 0.5959433 | BC11: =+BB11 -> 0.5959433 | BE11: 0.6 | BF11: 0.67 | BG11: =+BF11 -> 0.67 | BK11: =+BJ11 -> 0 | BO11: =+BN11 -> 0 | BS11: =+BR11 -> 0
C12: Avg Utilization | D12: =IF(D13=0,0,D14/D13) -> 0 | E12: =IF(E13=0,0,E14/E13) -> 0 | F12: =IF(F13=0,0,F14/F13) -> 0 | G12: =IF(G13=0,0,G14/G13) -> 0 | H12: =IF(H13=0,0,H14/H13) -> 0.58700362 | I12: =IF(I13=0,0,I14/I13) -> 0.57229618 | J12: =IF(J13=0,0,J14/J13) -> 0.61632658 | K12: =J12 -> 0.61632658 | L12: =IF(L13=0,0,L14/L13) -> 0.6024099 | M12: =IF(M13=0,0,M14/M13) -> 0.58035426 | N12: =IF(N13=0,0,N14/N13) -> 0.58589341 | O12: =N12 -> 0.58589341 | P12: =IF(P13=0,0,P14/P13) -> 0.58128924 | Q12: =IF(Q13=0,0,Q14/Q13) -> 0.57601478 | R12: =IF(R13=0,0,R14/R13) -> 0.57205059 | S12: =R12 -> 0.57205059 | T12: =IF(T13=0,0,T14/T13) -> 0.60239692 | U12: =IF(U13=0,0,U14/U13) -> 0.58970685 | V12: =IF(V13=0,0,V14/V13) -> 0.54326119 | W12: =V12 -> 0.54326119 | X12: =IF(X13=0,0,X14/X13) -> 0.54121981 | Y12: =IF(Y13=0,0,Y14/Y13) -> 0.54973686 | Z12: =IF(Z13=0,0,Z14/Z13) -> 0.56195884 | AA12: =+Z12 -> 0.56195884 | AB12: =IF(AB13=0,0,AB14/AB13) -> 0.5515982 | AC12: =IF(AC13=0,0,AC14/AC13) -> 0.54280516 | AD12: =IF(AD13=0,0,AD14/AD13) -> 0.5414926 | AE12: =+AD12 -> 0.5414926 | AF12: =IF(AF13=0,0,AF14/AF13) -> 0.61722348 | AG12: =IF(AG13=0,0,AG14/AG13) -> 0.63954057 | AH12: =IF(AH13=0,0,AH14/AH13) -> 0.60158168 | AI12: =+AH12 -> 0.60158168 | AJ12: =IF(AJ13=0,0,AJ14/AJ13) -> 0.70752963 | AK12: =IF(AK13=0,0,AK14/AK13) -> 0.75368142 | AL12: =IF(AL13=0,0,AL14/AL13) -> 0.75836847 | AM12: =+AL12 -> 0.75836847 | AN12: =IF(AN13=0,0,AN14/AN13) -> 0.7204538 | AO12: =IF(AO13=0,0,AO14/AO13) -> 0.73569846 | AP12: =IF(AP13=0,0,AP14/AP13) -> 0.73264836 | AQ12: =+AP12 -> 0.73264836 | AR12: =IF(AR13=0,0,AR14/AR13) -> 0.72083819 | AS12: =IF(AS13=0,0,AS14/AS13) -> 0.67898041 | AT12: =IF(AT13=0,0,AT14/AT13) -> 0.65760777 | AU12: =+AT12 -> 0.65760777 | AV12: =IF(AV13=0,0,AV14/AV13) -> 0.78850401 | AW12: =IF(AW13=0,0,AW14/AW13) -> 0.74785364 | AX12: =IF(AX13=0,0,AX14/AX13) -> 0.77425405 | AY12: =+AX12 -> 0.77425405 | AZ12: =IF(AZ13=0,0,AZ14/AZ13) -> 0.83091571 | BA12: =IF(BA13=0,0,BA14/BA13) -> 0 | BB12: =IF(BB13=0,0,BB14/BB13) -> 0.83502908 | BC12: =+BB12 -> 0.83502908 | BD12: =IF(BD13=0,0,BD14/BD13) -> 0 | BE12: =IF(BE13=0,0,BE14/BE13) -> 0.83488372 | BF12: =IF(BF13=0,0,BF14/BF13) -> 0.71663129 | BG12: =+BF12 -> 0.71663129 | BH12: =IF(BH13=0,0,BH14/BH13) -> 0 | BI12: =IF(BI13=0,0,BI14/BI13) -> 0 | BJ12: =IF(BJ13=0,0,BJ14/BJ13) -> 0 | BK12: =+BJ12 -> 0 | BL12: =IF(BL13=0,0,BL14/BL13) -> 0 | BM12: =IF(BM13=0,0,BM14/BM13) -> 0 | BN12: =IF(BN13=0,0,BN14/BN13) -> 0 | BO12: =+BN12 -> 0 | BP12: =IF(BP13=0,0,BP14/BP13) -> 0 | BQ12: =IF(BQ13=0,0,BQ14/BQ13) -> 0 | BR12: =IF(BR13=0,0,BR14/BR13) -> 0 | BS12: =+BR12 -> 0
C13: Allocated TB | H13: 671.5356 | I13: 675.46382 | J13: 683.75303 | K13: =J13 -> 683.75303 | L13: 706.46392 | M13: 1320.1036 | N13: 1332.496 | O13: =N13 -> 1332.496 | P13: 1346.5814 | Q13: 1339.8587 | R13: 1380.936 | S13: =R13 -> 1380.936 | T13: 1395.3178 | U13: 824.15246 | V13: 818.62967 | W13: =V13 -> 818.62967 | X13: 825.40991 | Y13: 829.57585 | Z13: 845.4072 | AA13: =+Z13 -> 845.4072 | AB13: 827.08393 | AC13: 1006.2263 | AD13: 904.84869 | AE13: =+AD13 -> 904.84869 | AF13: 904.77343 | AG13: 923.66816 | AH13: 1016.2134 | AI13: =+AH13 -> 1016.2134 | AJ13: 1142.0592 | AK13: 1217.8177 | AL13: 1147.7503 | AM13: =+AL13 -> 1147.7503 | AN13: 1167.9134 | AO13: 1310.1881 | AP13: 1286.2113 | AQ13: =+AP13 -> 1286.2113 | AR13: 1324.5937 | AS13: 1292.6733 | AT13: 1145.8368 | AU13: =+AT13 -> 1145.8368 | AV13: 1141.64 | AW13: 1141.1986 | AX13: 1131.0694 | AY13: =+AX13 -> 1131.0694 | AZ13: 976.64513 | BB13: 1289.7907 | BC13: =+BB13 -> 1289.7907 | BE13: 1290 | BF13: 1099.5279 | BG13: =+BF13 -> 1099.5279 | BK13: =+BJ13 -> 0 | BO13: =+BN13 -> 0 | BS13: =+BR13 -> 0
C14: Used TB | H14: 394.19383 | I14: 386.56537 | J14: 421.41517 | K14: =J14 -> 421.41517 | L14: 425.58086 | M14: 766.12775 | N14: 780.70063 | O14: =N14 -> 780.70063 | P14: 782.7533 | Q14: 771.77838 | R14: 789.96526 | S14: =R14 -> 789.96526 | T14: 840.53517 | U14: 486.00835 | V14: 444.72973 | W14: =V14 -> 444.72973 | X14: 446.72819 | Y14: 456.04842 | Z14: 475.08405 | AA14: =+Z14 -> 475.08405 | AB14: 456.218 | AC14: 546.18482 | AD14: 489.96887 | AE14: =+AD14 -> 489.96887 | AF14: 558.44741 | AG14: 590.72326 | AH14: 611.33534 | AI14: =+AH14 -> 611.33534 | AJ14: 808.04074 | AK14: 917.84661 | AL14: 870.41763 | AM14: =+AL14 -> 870.41763 | AN14: 841.42764 | AO14: 963.90338 | AP14: 942.34056 | AQ14: =+AP14 -> 942.34056 | AR14: 954.81775 | AS14: 877.69987 | AT14: 753.51117 | AU14: =+AT14 -> 753.51117 | AV14: 900.1877 | AW14: 853.44952 | AX14: 875.73508 | AY14: =+AX14 -> 875.73508 | AZ14: 811.50978 | BB14: 1077.0128 | BC14: =+BB14 -> 1077.0128 | BE14: 1077 | BF14: 787.95608 | BG14: =+BF14 -> 787.95608 | BK14: =+BJ14 -> 0 | BO14: =+BN14 -> 0 | BS14: =+BR14 -> 0
C15: Available TB | H15: 277.34177 | I15: 288.89845 | J15: 262.33786 | K15: =J15 -> 262.33786 | L15: 280.88306 | M15: 553.97585 | N15: 551.79539 | O15: =N15 -> 551.79539 | P15: 563.82814 | Q15: 568.08027 | R15: 590.97075 | S15: =R15 -> 590.97075 | T15: 554.78266 | U15: 338.14411 | V15: 373.89994 | W15: =V15 -> 373.89994 | X15: 378.68172 | Y15: 373.52743 | Z15: 370.32315 | AA15: =+Z15 -> 370.32315 | AB15: =AB13-AB14 -> 370.86592 | AC15: =AC13-AC14 -> 460.04147 | AD15: =AD13-AD14 -> 414.87982 | AE15: =+AD15 -> 414.87982 | AF15: =AF13-AF14 -> 346.32602 | AG15: =AG13-AG14 -> 332.9449 | AH15: =AH13-AH14 -> 404.87802 | AI15: =+AH15 -> 404.87802 | AJ15: =AJ13-AJ14 -> 334.01848 | AK15: =AK13-AK14 -> 299.97113 | AL15: =AL13-AL14 -> 277.33266 | AM15: =+AL15 -> 277.33266 | AN15: =AN13-AN14 -> 326.48575 | AO15: =AO13-AO14 -> 346.28474 | AP15: =AP13-AP14 -> 343.87069 | AQ15: =+AP15 -> 343.87069 | AR15: =AR13-AR14 -> 369.77598 | AS15: =AS13-AS14 -> 414.97346 | AT15: =AT13-AT14 -> 392.32561 | AU15: =+AT15 -> 392.32561 | AV15: =AV13-AV14 -> 241.45228 | AW15: =AW13-AW14 -> 287.74907 | AX15: =AX13-AX14 -> 255.33434 | AY15: =+AX15 -> 255.33434 | AZ15: =AZ13-AZ14 -> 165.13535 | BA15: =BA13-BA14 -> 0 | BB15: =BB13-BB14 -> 212.77796 | BC15: =+BB15 -> 212.77796 | BD15: =BD13-BD14 -> 0 | BE15: 213 | BF15: 311.5718 | BG15: =+BF15 -> 311.5718 | BK15: =+BJ15 -> 0 | BO15: =+BN15 -> 0 | BS15: =+BR15 -> 0
B16: GCG | C16: % Optimized | H16: 0.031999282 | I16: 0.037799643 | J16: 0.033435547 | K16: =J16 -> 0.033435547 | L16: 0.33593336 | M16: 0.36437414 | N16: 0.3643592 | O16: =N16 -> 0.3643592 | P16: 0.02943433 | Q16: 0.029165647 | R16: 0.0030859794 | S16: =R16 -> 0.0030859794 | T16: 0.30737765 | U16: 0.0069573877 | V16: 0.0025662458 | W16: =V16 -> 0.0025662458 | X16: 0.0025708497 | Y16: 0.0026013549 | Z16: 0.0023604856 | AA16: =+Z16 -> 0.0023604856 | AB16: 0.0023604856 | AC16: 0.0023604856 | AD16: 0.0016291895 | AE16: =+AD16 -> 0.0016291895 | AF16: 0.0016858749 | AG16: 0.00056704224 | AH16: 0.0016962889 | AI16: =+AH16 -> 0.0016962889 | AJ16: 0.57559353 | AK16: 0.6220403 | AL16: 0.665131 | AM16: =+AL16 -> 0.665131 | AN16: 0.57455224 | AO16: 0.36443638 | AP16: 0.34297906 | AQ16: =+AP16 -> 0.34297906 | AR16: 0.3418314 | AS16: 0.23893753 | AT16: 0.16992163 | AU16: =+AT16 -> 0.16992163 | AV16: 0.30982259 | AW16: 0.3106521 | AX16: 0.3169076 | AY16: =+AX16 -> 0.3169076 | AZ16: 0.32348731 | BB16: 0.32269768 | BC16: =+BB16 -> 0.32269768 | BE16: 0.32 | BF16: 0.3009 | BG16: =+BF16 -> 0.3009 | BK16: =+BJ16 -> 0 | BO16: =+BN16 -> 0 | BS16: =+BR16 -> 0
C17: % Virtualized | K17: =J17 -> 0 | O17: =N17 -> 0 | P17: 0 | Q17: 0 | R17: 0 | S17: =R17 -> 0 | T17: 0.019561116 | U17: 0.085227888 | V17: 0.032023234 | W17: =V17 -> 0.032023234 | X17: 0.032079733 | Y17: 0.032460385 | Z17: 0.035955576 | AA17: =+Z17 -> 0.035955576 | AB17: 0.035955576 | AC17: 0.52118538 | AD17: 0.59817582 | AE17: =+AD17 -> 0.59817582 | AF17: 0.62368615 | AG17: 0.84981939 | AH17: 0.84113852 | AI17: =+AH17 -> 0.84113852 | AJ17: 0.91608205 | AK17: 0.92324474 | AL17: 0.93605337 | AM17: =+AL17 -> 0.93605337 | AN17: 0.93338583 | AO17: 0.95067147 | AP17: 0.95519556 | AQ17: =+AP17 -> 0.95519556 | AR17: 0.96345632 | AS17: 0.96776427 | AT17: 0.90702906 | AU17: =+AT17 -> 0.90702906 | AV17: 0.90484171 | AW17: 0.90775807 | AX17: 0.92555917 | AY17: =+AX17 -> 0.92555917 | AZ17: 0.94173284 | BB17: 0.95978035 | BC17: =+BB17 -> 0.95978035 | BE17: 0.96 | BF17: 0.96 | BG17: =+BF17 -> 0.96 | BK17: =+BJ17 -> 0 | BO17: =+BN17 -> 0 | BS17: =+BR17 -> 0
C18: Avg Utilization | D18: =IF(D19=0,0,D20/D19) -> 0 | E18: =IF(E19=0,0,E20/E19) -> 0 | F18: =IF(F19=0,0,F20/F19) -> 0 | G18: =IF(G19=0,0,G20/G19) -> 0 | H18: =IF(H19=0,0,H20/H19) -> 0.62957182 | I18: =IF(I19=0,0,I20/I19) -> 0.52564009 | J18: =IF(J19=0,0,J20/J19) -> 0.53275951 | K18: =J18 -> 0.53275951 | L18: =IF(L19=0,0,L20/L19) -> 0.75669537 | M18: =IF(M19=0,0,M20/M19) -> 0.75597547 | N18: =IF(N19=0,0,N20/N19) -> 0.77296614 | O18: =N18 -> 0.77296614 | P18: =IF(P19=0,0,P20/P19) -> 0.48335128 | Q18: =IF(Q19=0,0,Q20/Q19) -> 0.48452517 | R18: =IF(R19=0,0,R20/R19) -> 0.33504583 | S18: =R18 -> 0.33504583 | T18: =IF(T19=0,0,T20/T19) -> 0.6425144 | U18: =IF(U19=0,0,U20/U19) -> 0.50044041 | V18: =IF(V19=0,0,V20/V19) -> 0.53334498 | W18: =V18 -> 0.53334498 | X18: =IF(X19=0,0,X20/X19) -> 0.5373002 | Y18: =IF(Y19=0,0,Y20/Y19) -> 0.52144221 | Z18: =IF(Z19=0,0,Z20/Z19) -> 0.70927754 | AA18: =+Z18 -> 0.70927754 | AB18: =IF(AB19=0,0,AB20/AB19) -> 0.72293928 | AC18: =IF(AC19=0,0,AC20/AC19) -> 0.56040055 | AD18: =IF(AD19=0,0,AD20/AD19) -> 0.41333351 | AE18: =+AD18 -> 0.41333351 | AF18: =IF(AF19=0,0,AF20/AF19) -> 0.51375855 | AG18: =IF(AG19=0,0,AG20/AG19) -> 0.5186975 | AH18: =IF(AH19=0,0,AH20/AH19) -> 0.7377284 | AI18: =+AH18 -> 0.7377284 | AJ18: =IF(AJ19=0,0,AJ20/AJ19) -> 0.72694988 | AK18: =IF(AK19=0,0,AK20/AK19) -> 0.67795221 | AL18: =IF(AL19=0,0,AL20/AL19) -> 0.76232911 | AM18: =+AL18 -> 0.76232911 | AN18: =IF(AN19=0,0,AN20/AN19) -> 0.76988534 | AO18: =IF(AO19=0,0,AO20/AO19) -> 0.86265511 | AP18: =IF(AP19=0,0,AP20/AP19) -> 0.70609463 | AQ18: =+AP18 -> 0.70609463 | AR18: =IF(AR19=0,0,AR20/AR19) -> 0.61824109 | AS18: =IF(AS19=0,0,AS20/AS19) -> 0.65982574 | AT18: =IF(AT19=0,0,AT20/AT19) -> 0.56318359 | AU18: =+AT18 -> 0.56318359 | AV18: =IF(AV19=0,0,AV20/AV19) -> 0.60771863 | AW18: =IF(AW19=0,0,AW20/AW19) -> 0.57870154 | AX18: =IF(AX19=0,0,AX20/AX19) -> 0.5724944 | AY18: =+AX18 -> 0.5724944 | AZ18: =IF(AZ19=0,0,AZ20/AZ19) -> 0.62074437 | BA18: =IF(BA19=0,0,BA20/BA19) -> 0 | BB18: =IF(BB19=0,0,BB20/BB19) -> 0.65616524 | BC18: =+BB18 -> 0.65616524 | BD18: =IF(BD19=0,0,BD20/BD19) -> 0 | BE18: =IF(BE19=0,0,BE20/BE19) -> 0.65612648 | BF18: =IF(BF19=0,0,BF20/BF19) -> 0.52850116 | BG18: =+BF18 -> 0.52850116 | BH18: =IF(BH19=0,0,BH20/BH19) -> 0 | BI18: =IF(BI19=0,0,BI20/BI19) -> 0 | BJ18: =IF(BJ19=0,0,BJ20/BJ19) -> 0 | BK18: =+BJ18 -> 0 | BL18: =IF(BL19=0,0,BL20/BL19) -> 0 | BM18: =IF(BM19=0,0,BM20/BM19) -> 0 | BN18: =IF(BN19=0,0,BN20/BN19) -> 0 | BO18: =+BN18 -> 0 | BP18: =IF(BP19=0,0,BP20/BP19) -> 0 | BQ18: =IF(BQ19=0,0,BQ20/BQ19) -> 0 | BR18: =IF(BR19=0,0,BR20/BR19) -> 0 | BS18: =+BR18 -> 0
C19: Allocated TB | H19: 47.42028 | I19: 40.143631 | J19: 39.749042 | K19: =J19 -> 39.749042 | L19: 70.267563 | M19: 74.927363 | N19: 68.917305 | O19: =N19 -> 68.917305 | P19: 62.382646 | Q19: 62.967715 | R19: 66.467451 | S19: =R19 -> 66.467451 | T19: 76.950332 | U19: 47.326379 | V19: 128.30711 | W19: =V19 -> 128.30711 | X19: 128.08113 | Y19: 126.57917 | Z19: 139.4956 | AA19: =+Z19 -> 139.4956 | AB19: 139.4956 | AC19: 195.82217 | AD19: 202.10515 | AE19: =+AD19 -> 202.10515 | AF19: 195.30962 | AG19: 184.15664 | AH19: 194.11056 | AI19: =+AH19 -> 194.11056 | AJ19: 127.7256 | AK19: 139.64477 | AL19: 131.37642 | AM19: =+AL19 -> 131.37642 | AN19: 126.1155 | AO19: 186.31204 | AP19: 211.02215 | AQ19: =+AP19 -> 211.02215 | AR19: 258.72405 | AS19: 287.40502 | AT19: 457.53058 | AU19: =+AT19 -> 457.53058 | AV19: 447.01356 | AW19: 445.23623 | AX19: 554.44485 | AY19: =+AX19 -> 554.44485 | AZ19: 516.01585 | BB19: 505.66731 | BC19: =+BB19 -> 505.66731 | BE19: 506 | BF19: 522.73953 | BG19: =+BF19 -> 522.73953 | BK19: =+BJ19 -> 0 | BO19: =+BN19 -> 0 | BS19: =+BR19 -> 0
C20: Used TB | H20: 29.854472 | I20: 21.101102 | J20: 21.17668 | K20: =J20 -> 21.17668 | L20: 53.171139 | M20: 56.643249 | N20: 53.270743 | O20: =N20 -> 53.270743 | P20: 30.152732 | Q20: 30.509443 | R20: 22.269642 | S20: =R20 -> 22.269642 | T20: 49.441696 | U20: 23.684033 | V20: 68.431953 | W20: =V20 -> 68.431953 | X20: 68.818018 | Y20: 66.003723 | Z20: 98.941093 | AA20: =+Z20 -> 98.941093 | AB20: 100.84685 | AC20: 109.73886 | AD20: 83.536829 | AE20: =+AD20 -> 83.536829 | AF20: 100.34199 | AG20: 95.52159 | AH20: 143.20087 | AI20: =+AH20 -> 143.20087 | AJ20: 92.850109 | AK20: 94.672479 | AL20: 100.15207 | AM20: =+AL20 -> 100.15207 | AN20: 97.094473 | AO20: 160.72303 | AP20: 149.00161 | AQ20: =+AP20 -> 149.00161 | AR20: 159.95384 | AS20: 189.63723 | AT20: 257.67371 | AU20: =+AT20 -> 257.67371 | AV20: 271.65847 | AW20: 257.65889 | AX20: 317.41657 | AY20: =+AX20 -> 317.41657 | AZ20: 320.31394 | BB20: 331.80131 | BC20: =+BB20 -> 331.80131 | BE20: 332 | BF20: 276.26845 | BG20: =+BF20 -> 276.26845 | BK20: =+BJ20 -> 0 | BO20: =+BN20 -> 0 | BS20: =+BR20 -> 0
C21: Available TB | H21: 17.565808 | I21: 19.042529 | J21: 18.572362 | K21: =J21 -> 18.572362 | L21: 17.096424 | M21: 18.284115 | N21: 15.646562 | O21: =N21 -> 15.646562 | P21: 32.229914 | Q21: 32.458272 | R21: 44.197809 | S21: =R21 -> 44.197809 | T21: 27.508636 | U21: 23.642346 | V21: 59.875156 | W21: =V21 -> 59.875156 | X21: 59.263115 | Y21: 60.575447 | Z21: 40.554502 | AA21: =+Z21 -> 40.554502 | AB21: =AB19-AB20 -> 38.64875 | AC21: =AC19-AC20 -> 86.08332 | AD21: =AD19-AD20 -> 118.56832 | AE21: =+AD21 -> 118.56832 | AF21: =AF19-AF20 -> 94.967632 | AG21: =AG19-AG20 -> 88.635051 | AH21: =AH19-AH20 -> 50.909687 | AI21: =+AH21 -> 50.909687 | AJ21: =AJ19-AJ20 -> 34.87549 | AK21: =AK19-AK20 -> 44.972288 | AL21: =AL19-AL20 -> 31.224351 | AM21: =+AL21 -> 31.224351 | AN21: =AN19-AN20 -> 29.021025 | AO21: =AO19-AO20 -> 25.589007 | AP21: =AP19-AP20 -> 62.020543 | AQ21: =+AP21 -> 62.020543 | AR21: =AR19-AR20 -> 98.77021 | AS21: =AS19-AS20 -> 97.767788 | AT21: =AT19-AT20 -> 199.85687 | AU21: =+AT21 -> 199.85687 | AV21: =AV19-AV20 -> 175.35509 | AW21: =AW19-AW20 -> 187.57734 | AX21: =AX19-AX20 -> 237.02828 | AY21: =+AX21 -> 237.02828 | AZ21: =AZ19-AZ20 -> 195.70192 | BA21: =BA19-BA20 -> 0 | BB21: =BB19-BB20 -> 173.866 | BC21: =+BB21 -> 173.866 | BE21: 174 | BF21: 246.47109 | BG21: =+BF21 -> 246.47109 | BK21: =+BJ21 -> 0 | BO21: =+BN21 -> 0 | BS21: =+BR21 -> 0
B22: OTHER | C22: % Optimized | H22: 0.022013903 | I22: 0.021543212 | J22: 0.02197793 | K22: =J22 -> 0.02197793 | L22: 0.03946991 | M22: 0.030841387 | N22: 0.032985973 | O22: =N22 -> 0.032985973 | P22: 0.066343477 | Q22: 0.00049977587 | R22: 0.13782221 | S22: =R22 -> 0.13782221 | T22: 0 | U22: 0 | V22: 0 | W22: =V22 -> 0 | X22: 0.00075739169 | Y22: 0 | Z22: 0 | AA22: =+Z22 -> 0 | AB22: 0 | AC22: 0 | AD22: 0 | AE22: =+AD22 -> 0 | AF22: 0 | AG22: 0 | AH22: 0.0032638586 | AI22: =+AH22 -> 0.0032638586 | AJ22: 0.22977424 | AK22: 0.43845671 | AL22: 0.45281428 | AM22: =+AL22 -> 0.45281428 | AN22: 0.15081655 | AO22: 0 | AP22: 0.26555524 | AQ22: =+AP22 -> 0.26555524 | AR22: 0.41994396 | AS22: 0 | AT22: 0.31936967 | AU22: =+AT22 -> 0.31936967 | AV22: 0.42365722 | AW22: 0.40414755 | AX22: 0.39824051 | AY22: =+AX22 -> 0.39824051 | AZ22: 0.72355068 | BB22: 0.37313555 | BC22: =+BB22 -> 0.37313555 | BE22: 0.37 | BF22: 0.4294 | BG22: =+BF22 -> 0.4294 | BK22: =+BJ22 -> 0 | BO22: =+BN22 -> 0 | BS22: =+BR22 -> 0
C23: % Virtualized | K23: =J23 -> 0 | N23: 0.36259542 | O23: =N23 -> 0.36259542 | P23: 0.16791168 | Q23: 0.18146448 | R23: 0.16798533 | S23: =R23 -> 0.16798533 | T23: 0.14356273 | U23: 0.21820089 | V23: 0.36439688 | W23: =V23 -> 0.36439688 | X23: 0.33033377 | Y23: 0.4158485 | Z23: 0.42528326 | AA23: =+Z23 -> 0.42528326 | AB23: 0.42792258 | AC23: 0.23469434 | AD23: 0.30749475 | AE23: =+AD23 -> 0.30749475 | AF23: 0.30874509 | AG23: 0.4645536 | AH23: 0.42528198 | AI23: =+AH23 -> 0.42528198 | AJ23: 0.70528168 | AK23: 0.75190051 | AL23: 0.78311591 | AM23: =+AL23 -> 0.78311591 | AN23: 0.82551129 | AO23: 0 | AP23: 0.71569317 | AQ23: =+AP23 -> 0.71569317 | AR23: 0.52610817 | AS23: 0 | AT23: 0.37808787 | AU23: =+AT23 -> 0.37808787 | AV23: 0.38336507 | AW23: 0.37889542 | AX23: 0.35641949 | AY23: =+AX23 -> 0.35641949 | AZ23: 0.39479946 | BB23: 0.55433141 | BC23: =+BB23 -> 0.55433141 | BE23: 0.55 | BF23: 0.72 | BG23: =+BF23 -> 0.72 | BK23: =+BJ23 -> 0 | BO23: =+BN23 -> 0 | BS23: =+BR23 -> 0
C24: Avg Utilization | D24: =IF(D25=0,0,D26/D25) -> 0 | E24: =IF(E25=0,0,E26/E25) -> 0 | F24: =IF(F25=0,0,F26/F25) -> 0 | G24: =IF(G25=0,0,G26/G25) -> 0 | H24: =IF(H25=0,0,H26/H25) -> 0.66831987 | I24: =IF(I25=0,0,I26/I25) -> 0.60122967 | J24: =IF(J25=0,0,J26/J25) -> 0.61449525 | K24: =J24 -> 0.61449525 | L24: =IF(L25=0,0,L26/L25) -> 0.65470836 | M24: =IF(M25=0,0,M26/M25) -> 0.64119164 | N24: =IF(N25=0,0,N26/N25) -> 0.6463078 | O24: =N24 -> 0.6463078 | P24: =IF(P25=0,0,P26/P25) -> 0.78426981 | Q24: =IF(Q25=0,0,Q26/Q25) -> 0.43677572 | R24: =IF(R25=0,0,R26/R25) -> 0.52111476 | S24: =R24 -> 0.52111476 | T24: =IF(T25=0,0,T26/T25) -> 0.55445552 | U24: =IF(U25=0,0,U26/U25) -> 0.59993349 | V24: =IF(V25=0,0,V26/V25) -> 0.58274689 | W24: =V24 -> 0.58274689 | X24: =IF(X25=0,0,X26/X25) -> 0.54356233 | Y24: =IF(Y25=0,0,Y26/Y25) -> 0.5685353 | Z24: =IF(Z25=0,0,Z26/Z25) -> 0.53990018 | AA24: =+Z24 -> 0.53990018 | AB24: =IF(AB25=0,0,AB26/AB25) -> 0.57826074 | AC24: =IF(AC25=0,0,AC26/AC25) -> 0.40428105 | AD24: =IF(AD25=0,0,AD26/AD25) -> 0.54965605 | AE24: =+AD24 -> 0.54965605 | AF24: =IF(AF25=0,0,AF26/AF25) -> 0.6317609 | AG24: =IF(AG25=0,0,AG26/AG25) -> 0.62629023 | AH24: =IF(AH25=0,0,AH26/AH25) -> 0.59218572 | AI24: =+AH24 -> 0.59218572 | AJ24: =IF(AJ25=0,0,AJ26/AJ25) -> 0.60432314 | AK24: =IF(AK25=0,0,AK26/AK25) -> 0.6490016 | AL24: =IF(AL25=0,0,AL26/AL25) -> 0.65040074 | AM24: =+AL24 -> 0.65040074 | AN24: =IF(AN25=0,0,AN26/AN25) -> 0.65652759 | AO24: =IF(AO25=0,0,AO26/AO25) -> 0 | AP24: =IF(AP25=0,0,AP26/AP25) -> 0.63499624 | AQ24: =+AP24 -> 0.63499624 | AR24: =IF(AR25=0,0,AR26/AR25) -> 0.62885583 | AS24: =IF(AS25=0,0,AS26/AS25) -> 0 | AT24: =IF(AT25=0,0,AT26/AT25) -> 0.59063186 | AU24: =+AT24 -> 0.59063186 | AV24: =IF(AV25=0,0,AV26/AV25) -> 0.67096872 | AW24: =IF(AW25=0,0,AW26/AW25) -> 0.62934155 | AX24: =IF(AX25=0,0,AX26/AX25) -> 0.64470772 | AY24: =+AX24 -> 0.64470772 | AZ24: =IF(AZ25=0,0,AZ26/AZ25) -> 0.66773303 | BA24: =IF(BA25=0,0,BA26/BA25) -> 0 | BB24: =IF(BB25=0,0,BB26/BB25) -> 0.69512961 | BC24: =+BB24 -> 0.69512961 | BD24: =IF(BD25=0,0,BD26/BD25) -> 0 | BE24: =IF(BE25=0,0,BE26/BE25) -> 0.69449378 | BF24: =IF(BF25=0,0,BF26/BF25) -> 0.48810643 | BG24: =+BF24 -> 0.48810643 | BH24: =IF(BH25=0,0,BH26/BH25) -> 0 | BI24: =IF(BI25=0,0,BI26/BI25) -> 0 | BJ24: =IF(BJ25=0,0,BJ26/BJ25) -> 0 | BK24: =+BJ24 -> 0 | BL24: =IF(BL25=0,0,BL26/BL25) -> 0 | BM24: =IF(BM25=0,0,BM26/BM25) -> 0 | BN24: =IF(BN25=0,0,BN26/BN25) -> 0 | BO24: =+BN24 -> 0 | BP24: =IF(BP25=0,0,BP26/BP25) -> 0 | BQ24: =IF(BQ25=0,0,BQ26/BQ25) -> 0 | BR24: =IF(BR25=0,0,BR26/BR25) -> 0 | BS24: =+BR24 -> 0
C25: Allocated TB | H25: 1475.5594 | I25: 1522.0187 | J25: 1472.2935 | K25: =J25 -> 1472.2935 | L25: 1165.9337 | M25: 518.53799 | N25: 713.56569 | O25: =N25 -> 713.56569 | P25: 891.95359 | Q25: 1058.0545 | R25: 960.70277 | S25: =R25 -> 960.70277 | T25: 968.49535 | U25: 1528.8682 | V25: 1562.6206 | W25: =V25 -> 1562.6206 | X25: 1651.2235 | Y25: 1819.1234 | Z25: 1880.5234 | AA25: =+Z25 -> 1880.5234 | AB25: 1180.6688 | AC25: 582.44189 | AD25: 665.3262 | AE25: =+AD25 -> 665.3262 | AF25: 744.08343 | AG25: 753.10152 | AH25: 464.9923 | AI25: =+AH25 -> 464.9923 | AJ25: 285.34504 | AK25: 266.28299 | AL25: 274.82543 | AM25: =+AL25 -> 274.82543 | AN25: 142.50278 | AO25: 0 | AP25: 79.359728 | AQ25: =+AP25 -> 79.359728 | AR25: 60.089098 | AS25: 0 | AT25: 243.95433 | AU25: =+AT25 -> 243.95433 | AV25: 694.17515 | AW25: 705.30371 | AX25: 669.49793 | AY25: =+AX25 -> 669.49793 | AZ25: 1348.4102 | BB25: 562.63607 | BC25: =+BB25 -> 562.63607 | BE25: 563 | BF25: 137.932 | BG25: =+BF25 -> 137.932 | BK25: =+BJ25 -> 0 | BO25: =+BN25 -> 0 | BS25: =+BR25 -> 0
C26: Used TB | H26: 986.14569 | I26: 915.08278 | J26: 904.71734 | K26: =J26 -> 904.71734 | L26: 763.34651 | M26: 332.48222 | N26: 461.18307 | O26: =N26 -> 461.18307 | P26: 699.53227 | Q26: 462.13253 | R26: 500.63639 | S26: =R26 -> 500.63639 | T26: 536.98759 | U26: 917.21924 | V26: 910.61228 | W26: =V26 -> 910.61228 | X26: 897.54289 | Y26: 1034.2358 | Z26: 1015.2949 | AA26: =+Z26 -> 1015.2949 | AB26: 682.73442 | AC26: 235.47022 | AD26: 365.70057 | AE26: =+AD26 -> 365.70057 | AF26: 470.08281 | AG26: 471.66013 | AH26: 275.3618 | AI26: =+AH26 -> 275.3618 | AJ26: 172.44061 | AK26: 172.81809 | AL26: 178.74667 | AM26: =+AL26 -> 178.74667 | AN26: 93.557005 | AO26: 0 | AP26: 50.393128 | AQ26: =+AP26 -> 50.393128 | AR26: 37.78738 | AS26: 0 | AT26: 144.0872 | AU26: =+AT26 -> 144.0872 | AV26: 465.76981 | AW26: 443.87693 | AX26: 431.63048 | AY26: =+AX26 -> 431.63048 | AZ26: 900.37801 | BB26: 391.105 | BC26: =+BB26 -> 391.105 | BE26: 391 | BF26: 67.325498 | BG26: =+BF26 -> 67.325498 | BK26: =+BJ26 -> 0 | BO26: =+BN26 -> 0 | BS26: =+BR26 -> 0
C27: Available TB | H27: =H25-H26 -> 489.41374 | I27: =I25-I26 -> 606.93589 | J27: =J25-J26 -> 567.57613 | K27: =J27 -> 567.57613 | L27: =L25-L26 -> 402.58714 | M27: =M25-M26 -> 186.05577 | N27: =N25-N26 -> 252.38262 | O27: =N27 -> 252.38262 | P27: =P25-P26 -> 192.42132 | Q27: =Q25-Q26 -> 595.92199 | R27: =R25-R26 -> 460.06637 | S27: =R27 -> 460.06637 | T27: =T25-T26 -> 431.50776 | U27: =U25-U26 -> 611.64898 | V27: =V25-V26 -> 652.00831 | W27: =V27 -> 652.00831 | X27: =X25-X26 -> 753.6806 | Y27: =Y25-Y26 -> 784.88753 | Z27: =Z25-Z26 -> 865.22846 | AA27: =+Z27 -> 865.22846 | AB27: =AB25-AB26 -> 497.93439 | AC27: =AC25-AC26 -> 346.97167 | AD27: =AD25-AD26 -> 299.62563 | AE27: =+AD27 -> 299.62563 | AF27: =AF25-AF26 -> 274.00061 | AG27: =AG25-AG26 -> 281.44139 | AH27: =AH25-AH26 -> 189.6305 | AI27: =+AH27 -> 189.6305 | AJ27: =AJ25-AJ26 -> 112.90443 | AK27: =AK25-AK26 -> 93.464903 | AL27: =AL25-AL26 -> 96.078768 | AM27: =+AL27 -> 96.078768 | AN27: =AN25-AN26 -> 48.945771 | AO27: =AO25-AO26 -> 0 | AP27: =AP25-AP26 -> 28.966599 | AQ27: =+AP27 -> 28.966599 | AR27: =AR25-AR26 -> 22.301718 | AS27: =AS25-AS26 -> 0 | AT27: =AT25-AT26 -> 99.867133 | AU27: =+AT27 -> 99.867133 | AV27: =AV25-AV26 -> 228.40534 | AW27: =AW25-AW26 -> 261.42678 | AX27: =AX25-AX26 -> 237.86745 | AY27: =+AX27 -> 237.86745 | AZ27: =AZ25-AZ26 -> 448.03215 | BA27: =BA25-BA26 -> 0 | BB27: =BB25-BB26 -> 171.53108 | BC27: =+BB27 -> 171.53108 | BE27: 172 | BF27: 70.606506 | BG27: =+BF27 -> 70.606506 | BK27: =+BJ27 -> 0 | BO27: =+BN27 -> 0 | BS27: =+BR27 -> 0
B28: TOTAL | C28: % Optimized | H28: 0.057237497 | I28: 0.050015485 | J28: 0.043737163 | K28: =J28 -> 0.043737163 | L28: 0.073505796 | M28: 0.077738266 | N28: 0.078514176 | O28: =N28 -> 0.078514176 | P28: 0.068801675 | Q28: 0.04674288 | R28: 0.034926467 | S28: =R28 -> 0.034926467 | T28: 0.018445247 | U28: 0.06949043 | V28: 0.013908842 | W28: =V28 -> 0.013908842 | X28: 0.0061182965 | Y28: 0.014543965 | Z28: 0.020654409 | AA28: =+Z28 -> 0.020654409 | AB28: 0.0190354 | AC28: 0.0190354 | AD28: 0.0051119423 | AE28: =+AD28 -> 0.0051119423 | AF28: 0.0037206779 | AG28: 0.0070495463 | AH28: 0.017426118 | AI28: =+AH28 -> 0.017426118 | AJ28: 0.22975971 | AK28: 0.29305204 | AL28: 0.29617872 | AM28: =+AL28 -> 0.29617872 | AN28: 0.22710541 | AO28: 0.23396888 | AP28: 0.23486756 | AQ28: =+AP28 -> 0.23486756 | AR28: 0.20918501 | AS28: 0.17655841 | AT28: 0.15824686 | AU28: =+AT28 -> 0.15824686 | AV28: 0.22545351 | AW28: 0.22085042 | AX28: 0.22132692 | AY28: =+AX28 -> 0.22132692 | AZ28: 0.21782287 | BB28: 0.20748938 | BC28: =+BB28 -> 0.20748938 | BE28: 0.21 | BF28: 0.21 | BG28: =+BF28 -> 0.21 | BK28: =+BJ28 -> 0 | BO28: =+BN28 -> 0 | BS28: =+BR28 -> 0
C29: % Virtualized | K29: =J29 -> 0 | O29: =N29 -> 0 | P29: 0.070741531 | Q29: 0.06603897 | R29: 0.061145727 | S29: =R29 -> 0.061145727 | T29: 0.061062858 | U29: 0.25238473 | V29: 0.27227273 | W29: =V29 -> 0.27227273 | X29: 0.26761228 | Y29: 0.26951 | Z29: 0.27156361 | AA29: =+Z29 -> 0.27156361 | AB29: 0.27739253 | AC29: 0.53190471 | AD29: 0.31802434 | AE29: =+AD29 -> 0.31802434 | AF29: 0.56556595 | AG29: 0.58767742 | AH29: 0.5875645 | AI29: =+AH29 -> 0.5875645 | AJ29: 0.59509479 | AK29: 0.60833634 | AL29: 0.6120542 | AM29: =+AL29 -> 0.6120542 | AN29: 0.62763491 | AO29: 0.63267425 | AP29: 0.63675475 | AQ29: =+AP29 -> 0.63675475 | AR29: 0.64225619 | AS29: 0.65802195 | AT29: 0.63344924 | AU29: =+AT29 -> 0.63344924 | AV29: 0.62340578 | AW29: 0.62371216 | AX29: 0.63773461 | AY29: =+AX29 -> 0.63773461 | AZ29: 0.65785918 | BB29: 0.58962644 | BC29: =+BB29 -> 0.58962644 | BE29: 0.59 | BF29: 0.64 | BG29: =+BF29 -> 0.64 | BK29: =+BJ29 -> 0 | BO29: =+BN29 -> 0 | BS29: =+BR29 -> 0
C30: Avg Utilization | D30: =IF(D32=0,0,D33/D32) -> 0 | E30: =IF(E32=0,0,E33/E32) -> 0 | F30: =IF(F32=0,0,F33/F32) -> 0 | G30: =IF(G32=0,0,G33/G32) -> 0 | H30: =IF(H32=0,0,H33/H32) -> 0.62515378 | I30: =IF(I32=0,0,I33/I32) -> 0.57834869 | J30: =IF(J32=0,0,J33/J32) -> 0.59524504 | K30: =J30 -> 0.59524504 | L30: =IF(L32=0,0,L33/L32) -> 0.6246404 | M30: =IF(M32=0,0,M33/M32) -> 0.60076731 | N30: =IF(N32=0,0,N33/N32) -> 0.60949853 | O30: =N30 -> 0.60949853 | P30: =IF(P32=0,0,P33/P32) -> 0.65073293 | Q30: =IF(Q32=0,0,Q33/Q32) -> 0.52524288 | R30: =IF(R32=0,0,R33/R32) -> 0.55036146 | S30: =R30 -> 0.55036146 | T30: =IF(T32=0,0,T33/T32) -> 0.58544248 | U30: =IF(U32=0,0,U33/U32) -> 0.58694458 | V30: =IF(V32=0,0,V33/V32) -> 0.56443952 | W30: =V30 -> 0.56443952 | X30: =IF(X32=0,0,X33/X32) -> 0.53965009 | Y30: =IF(Y32=0,0,Y33/Y32) -> 0.55144347 | Z30: =IF(Z32=0,0,Z33/Z32) -> 0.55576876 | AA30: =+Z30 -> 0.55576876 | AB30: =IF(AB32=0,0,AB33/AB32) -> 0.57621151 | AC30: =IF(AC32=0,0,AC33/AC32) -> 0.50942282 | AD30: =IF(AD32=0,0,AD33/AD32) -> 0.54965605 | AE30: =+AD30 -> 0.54965605 | AF30: =IF(AF32=0,0,AF33/AF32) -> 0.6317609 | AG30: =IF(AG32=0,0,AG33/AG32) -> 0.62629023 | AH30: =IF(AH32=0,0,AH33/AH32) -> 0.59218572 | AI30: =+AH30 -> 0.59218572 | AJ30: =IF(AJ32=0,0,AJ33/AJ32) -> 0.60432314 | AK30: =IF(AK32=0,0,AK33/AK32) -> 0.6490016 | AL30: =IF(AL32=0,0,AL33/AL32) -> 0.65040074 | AM30: =+AL30 -> 0.65040074 | AN30: =IF(AN32=0,0,AN33/AN32) -> 0.65652759 | AO30: =IF(AO32=0,0,AO33/AO32) -> 0.66297148 | AP30: =IF(AP32=0,0,AP33/AP32) -> 0.63499624 | AQ30: =+AP30 -> 0.63499624 | AR30: =IF(AR32=0,0,AR33/AR32) -> 0.62885583 | AS30: =IF(AS32=0,0,AS33/AS32) -> 0.59808074 | AT30: =IF(AT32=0,0,AT33/AT32) -> 0.59063186 | AU30: =+AT30 -> 0.59063186 | AV30: =IF(AV32=0,0,AV33/AV32) -> 0.67096872 | AW30: =IF(AW32=0,0,AW33/AW32) -> 0.62934155 | AX30: =IF(AX32=0,0,AX33/AX32) -> 0.64470772 | AY30: =+AX30 -> 0.64470772 | AZ30: =IF(AZ32=0,0,AZ33/AZ32) -> 0.66773303 | BA30: =IF(BA32=0,0,BA33/BA32) -> 0 | BB30: =IF(BB32=0,0,BB33/BB32) -> 0.69512961 | BC30: =+BB30 -> 0.69512961 | BD30: =IF(BD32=0,0,BD33/BD32) -> 0 | BE30: =IF(BE32=0,0,BE33/BE32) -> 0.69506726 | BF30: =IF(BF32=0,0,BF33/BF32) -> 0.58600345 | BG30: =+BF30 -> 0.58600345 | BH30: =IF(BH32=0,0,BH33/BH32) -> 0 | BI30: =IF(BI32=0,0,BI33/BI32) -> 0 | BJ30: =IF(BJ32=0,0,BJ33/BJ32) -> 0 | BK30: =+BJ30 -> 0 | BL30: =IF(BL32=0,0,BL33/BL32) -> 0 | BM30: =IF(BM32=0,0,BM33/BM32) -> 0 | BN30: =IF(BN32=0,0,BN33/BN32) -> 0 | BO30: =+BN30 -> 0 | BP30: =IF(BP32=0,0,BP33/BP32) -> 0 | BQ30: =IF(BQ32=0,0,BQ33/BQ32) -> 0 | BR30: =IF(BR32=0,0,BR33/BR32) -> 0 | BS30: =+BR30 -> 0
C31: Installed TB | H31: 3619.0741 | I31: 3700.7479 | J31: 3700.7479 | K31: =J31 -> 3700.7479 | L31: 4220.839 | M31: 4221.2939 | N31: 4064.5078 | O31: =N31 -> 4064.5078 | P31: 4079.5175 | Q31: 4196.7515 | R31: 4196.882 | S31: =R31 -> 4196.882 | T31: 4355.051 | U31: 4307.3321 | V31: 4328.2527 | W31: =V31 -> 4328.2527 | X31: 4333.5562 | Y31: 4389.3226 | Z31: 4687.8827 | AA31: =+Z31 -> 4687.8827 | AB31: 4687.8827 | AC31: 4687.8827 | AD31: 4328.5625 | AE31: =+AD31 -> 4328.5625 | AF31: 4328.5625 | AG31: 4541.9839 | AH31: 4688.3466 | AI31: =+AH31 -> 4688.3466 | AJ31: 4936.3026 | AK31: 4936.3026 | AL31: 4716.8634 | AM31: =+AL31 -> 4716.8634 | AN31: 4804.1918 | AO31: 4804.6465 | AP31: 5269.4314 | AQ31: =+AP31 -> 5269.4314 | AR31: 5346.2462 | AS31: 5830.9706 | AT31: 6122.7356 | AU31: =+AT31 -> 6122.7356 | AV31: 6042.5005 | AW31: 6338.416 | AX31: 6338.5569 | AY31: =+AX31 -> 6338.5569 | AZ31: 6366.0445 | BC31: =+BB31 -> 0 | BG31: =+BF31 -> 0 | BK31: =+BJ31 -> 0 | BO31: =+BN31 -> 0 | BS31: =+BR31 -> 0
C32: Allocated TB | D32: =SUM(D25,D19,D13,D7) -> 0 | E32: =SUM(E25,E19,E13,E7) -> 0 | F32: =SUM(F25,F19,F13,F7) -> 0 | G32: =SUM(G25,G19,G13,G7) -> 0 | H32: =SUM(H25,H19,H13,H7) -> 2401.0098 | I32: =SUM(I25,I19,I13,I7) -> 2438.2173 | J32: =SUM(J25,J19,J13,J7) -> 2400.9117 | K32: =J32 -> 2400.9117 | L32: =SUM(L25,L19,L13,L7) -> 2176.6527 | M32: =SUM(M25,M19,M13,M7) -> 2265.3537 | N32: =SUM(N25,N19,N13,N7) -> 2447.1897 | O32: =N32 -> 2447.1897 | P32: =SUM(P25,P19,P13,P7) -> 2674.8817 | Q32: =SUM(Q25,Q19,Q13,Q7) -> 2826.1432 | R32: =SUM(R25,R19,R13,R7) -> 2871.4222 | S32: =R32 -> 2871.4222 | T32: =SUM(T25,T19,T13,T7) -> 2919.9555 | U32: =SUM(U25,U19,U13,U7) -> 2829.2318 | V32: =SUM(V25,V19,V13,V7) -> 2997.7959 | W32: =V32 -> 2997.7959 | X32: =SUM(X25,X19,X13,X7) -> 3089.2402 | Y32: =SUM(Y25,Y19,Y13,Y7) -> 3227.8082 | Z32: =SUM(Z25,Z19,Z13,Z7) -> 3336.491 | AA32: =+Z32 -> 3336.491 | AB32: =SUM(AB25,AB19,AB13,AB7) -> 3348.4784 | AC32: =SUM(AC25,AC19,AC13,AC7) -> 3465.397 | AD32: =SUM(AD25,AD19,AD13,AD7) -> 3371.2084 | AE32: =+AD32 -> 3371.2084 | AF32: =SUM(AF25,AF19,AF13,AF7) -> 3449.5299 | AG32: =SUM(AG25,AG19,AG13,AG7) -> 3483.4535 | AH32: =SUM(AH25,AH19,AH13,AH7) -> 3554.8999 | AI32: =+AH32 -> 3554.8999 | AJ32: =SUM(AJ25,AJ19,AJ13,AJ7) -> 3639.7397 | AK32: =SUM(AK25,AK19,AK13,AK7) -> 3674.6326 | AL32: =SUM(AL25,AL19,AL13,AL7) -> 3705.5289 | AM32: =+AL32 -> 3705.5289 | AN32: =SUM(AN25,AN19,AN13,AN7) -> 3689.7581 | AO32: =SUM(AO25,AO19,AO13,AO7) -> 3792.5506 | AP32: =SUM(AP25,AP19,AP13,AP7) -> 3978.5905 | AQ32: =+AP32 -> 3978.5905 | AR32: =SUM(AR25,AR19,AR13,AR7) -> 4119.0148 | AS32: =SUM(AS25,AS19,AS13,AS7) -> 4162.219 | AT32: =SUM(AT25,AT19,AT13,AT7) -> 4271.3488 | AU32: =+AT32 -> 4271.3488 | AV32: =SUM(AV25,AV19,AV13,AV7) -> 4631.2485 | AW32: =SUM(AW25,AW19,AW13,AW7) -> 4642.9665 | AX32: =SUM(AX25,AX19,AX13,AX7) -> 4840.254 | AY32: =+AX32 -> 4840.254 | AZ32: =SUM(AZ25,AZ19,AZ13,AZ7) -> 5351.3315 | BA32: =SUM(BA25,BA19,BA13,BA7) -> 0 | BB32: =SUM(BB25,BB19,BB13,BB7) -> 5351.3315 | BC32: =+BB32 -> 5351.3315 | BD32: =SUM(BD25,BD19,BD13,BD7) -> 0 | BE32: =SUM(BE25,BE19,BE13,BE7) -> 5352 | BF32: =SUM(BF25,BF19,BF13,BF7) -> 3513.2681 | BG32: =+BF32 -> 3513.2681 | BH32: =SUM(BH25,BH19,BH13,BH7) -> 0 | BI32: =SUM(BI25,BI19,BI13,BI7) -> 0 | BJ32: =SUM(BJ25,BJ19,BJ13,BJ7) -> 0 | BK32: =+BJ32 -> 0 | BL32: =SUM(BL25,BL19,BL13,BL7) -> 0 | BM32: =SUM(BM25,BM19,BM13,BM7) -> 0 | BN32: =SUM(BN25,BN19,BN13,BN7) -> 0 | BO32: =+BN32 -> 0 | BP32: =SUM(BP25,BP19,BP13,BP7) -> 0 | BQ32: =SUM(BQ25,BQ19,BQ13,BQ7) -> 0 | BR32: =SUM(BR25,BR19,BR13,BR7) -> 0 | BS32: =+BR32 -> 0
C33: Used TB | D33: =SUM(D26,D20,D14,D8) -> 0 | E33: =SUM(E26,E20,E14,E8) -> 0 | F33: =SUM(F26,F20,F14,F8) -> 0 | G33: =SUM(G26,G20,G14,G8) -> 0 | H33: =SUM(H26,H20,H14,H8) -> 1501.0003 | I33: =SUM(I26,I20,I14,I8) -> 1410.1398 | J33: =SUM(J26,J20,J14,J8) -> 1429.1308 | K33: =J33 -> 1429.1308 | L33: =SUM(L26,L20,L14,L8) -> 1359.6252 | M33: =SUM(M26,M20,M14,M8) -> 1360.9504 | N33: =SUM(N26,N20,N14,N8) -> 1491.5585 | O33: =N33 -> 1491.5585 | P33: =SUM(P26,P20,P14,P8) -> 1740.6336 | Q33: =SUM(Q26,Q20,Q14,Q8) -> 1484.4116 | R33: =SUM(R26,R20,R14,R8) -> 1580.3201 | S33: =R33 -> 1580.3201 | T33: =SUM(T26,T20,T14,T8) -> 1709.466 | U33: =SUM(U26,U20,U14,U8) -> 1660.6023 | V33: =SUM(V26,V20,V14,V8) -> 1692.0745 | W33: =V33 -> 1692.0745 | X33: =SUM(X26,X20,X14,X8) -> 1667.1088 | Y33: =SUM(Y26,Y20,Y14,Y8) -> 1779.9538 | Z33: =SUM(Z26,Z20,Z14,Z8) -> 1854.3175 | AA33: =+Z33 -> 1854.3175 | AB33: =SUM(AB26,AB20,AB14,AB8) -> 1929.4318 | AC33: =SUM(AC26,AC20,AC14,AC8) -> 1765.3523 | AD33: =SUM(AD26,AD20,AD14,AD8) -> 1853.0051 | AE33: =+AD33 -> 1853.0051 | AF33: =SUM(AF26,AF20,AF14,AF8) -> 2179.2781 | AG33: =SUM(AG26,AG20,AG14,AG8) -> 2181.6529 | AH33: =SUM(AH26,AH20,AH14,AH8) -> 2105.161 | AI33: =+AH33 -> 2105.161 | AJ33: =SUM(AJ26,AJ20,AJ14,AJ8) -> 2199.5789 | AK33: =SUM(AK26,AK20,AK14,AK8) -> 2384.8424 | AL33: =SUM(AL26,AL20,AL14,AL8) -> 2410.0787 | AM33: =+AL33 -> 2410.0787 | AN33: =SUM(AN26,AN20,AN14,AN8) -> 2422.428 | AO33: =SUM(AO26,AO20,AO14,AO8) -> 2514.3529 | AP33: =SUM(AP26,AP20,AP14,AP8) -> 2526.39 | AQ33: =+AP33 -> 2526.39 | AR33: =SUM(AR26,AR20,AR14,AR8) -> 2590.2665 | AS33: =SUM(AS26,AS20,AS14,AS8) -> 2489.343 | AT33: =SUM(AT26,AT20,AT14,AT8) -> 2522.7947 | AU33: =+AT33 -> 2522.7947 | AV33: =SUM(AV26,AV20,AV14,AV8) -> 3107.4229 | AW33: =SUM(AW26,AW20,AW14,AW8) -> 2922.0117 | AX33: =SUM(AX26,AX20,AX14,AX8) -> 3120.5491 | AY33: =+AX33 -> 3120.5491 | AZ33: =SUM(AZ26,AZ20,AZ14,AZ8) -> 3573.2608 | BA33: =SUM(BA26,BA20,BA14,BA8) -> 0 | BB33: =SUM(BB26,BB20,BB14,BB8) -> 3719.869 | BC33: =+BB33 -> 3719.869 | BD33: =SUM(BD26,BD20,BD14,BD8) -> 0 | BE33: =SUM(BE26,BE20,BE14,BE8) -> 3720 | BF33: =SUM(BF26,BF20,BF14,BF8) -> 2058.7872 | BG33: =+BF33 -> 2058.7872 | BH33: =SUM(BH26,BH20,BH14,BH8) -> 0 | BI33: =SUM(BI26,BI20,BI14,BI8) -> 0 | BJ33: =SUM(BJ26,BJ20,BJ14,BJ8) -> 0 | BK33: =+BJ33 -> 0 | BL33: =SUM(BL26,BL20,BL14,BL8) -> 0 | BM33: =SUM(BM26,BM20,BM14,BM8) -> 0 | BN33: =SUM(BN26,BN20,BN14,BN8) -> 0 | BO33: =+BN33 -> 0 | BP33: =SUM(BP26,BP20,BP14,BP8) -> 0 | BQ33: =SUM(BQ26,BQ20,BQ14,BQ8) -> 0 | BR33: =SUM(BR26,BR20,BR14,BR8) -> 0 | BS33: =+BR33 -> 0
C34: Available TB | D34: =SUM(D27,D21,D15,D9) -> 0 | E34: =SUM(E27,E21,E15,E9) -> 0 | F34: =SUM(F27,F21,F15,F9) -> 0 | G34: =SUM(G27,G21,G15,G9) -> 0 | H34: =SUM(H27,H21,H15,H9) -> 900.00942 | I34: =SUM(I27,I21,I15,I9) -> 1028.0775 | J34: =SUM(J27,J21,J15,J9) -> 971.78091 | K34: =J34 -> 971.78091 | L34: =SUM(L27,L21,L15,L9) -> 817.02747 | M34: =SUM(M27,M21,M15,M9) -> 904.40325 | N34: =SUM(N27,N21,N15,N9) -> 955.63115 | O34: =N34 -> 955.63115 | P34: =SUM(P27,P21,P15,P9) -> 934.24811 | Q34: =SUM(Q27,Q21,Q15,Q9) -> 1341.7316 | R34: =SUM(R27,R21,R15,R9) -> 1291.1021 | S34: =R34 -> 1291.1021 | T34: =SUM(T27,T21,T15,T9) -> 1210.4895 | U34: =SUM(U27,U21,U15,U9) -> 1168.6295 | V34: =SUM(V27,V21,V15,V9) -> 1305.7214 | W34: =V34 -> 1305.7214 | X34: =SUM(X27,X21,X15,X9) -> 1422.1315 | Y34: =SUM(Y27,Y21,Y15,Y9) -> 1447.8545 | Z34: =SUM(Z27,Z21,Z15,Z9) -> 1482.1735 | AA34: =+Z34 -> 1482.1735 | AB34: =SUM(AB27,AB21,AB15,AB9) -> 1419.0466 | AC34: =SUM(AC27,AC21,AC15,AC9) -> 1700.0447 | AD34: =SUM(AD27,AD21,AD15,AD9) -> 1518.2033 | AE34: =+AD34 -> 1518.2033 | AF34: =SUM(AF27,AF21,AF15,AF9) -> 1270.2518 | AG34: =SUM(AG27,AG21,AG15,AG9) -> 1301.8006 | AH34: =SUM(AH27,AH21,AH15,AH9) -> 1449.739 | AI34: =+AH34 -> 1449.739 | AJ34: =SUM(AJ27,AJ21,AJ15,AJ9) -> 1440.1608 | AK34: =SUM(AK27,AK21,AK15,AK9) -> 1289.7902 | AL34: =SUM(AL27,AL21,AL15,AL9) -> 1295.4502 | AM34: =+AL34 -> 1295.4502 | AN34: =SUM(AN27,AN21,AN15,AN9) -> 1267.3301 | AO34: =SUM(AO27,AO21,AO15,AO9) -> 1278.1977 | AP34: =SUM(AP27,AP21,AP15,AP9) -> 1452.2005 | AQ34: =+AP34 -> 1452.2005 | AR34: =SUM(AR27,AR21,AR15,AR9) -> 1528.7483 | AS34: =SUM(AS27,AS21,AS15,AS9) -> 1672.8759 | AT34: =SUM(AT27,AT21,AT15,AT9) -> 1748.5541 | AU34: =+AT34 -> 1748.5541 | AV34: =SUM(AV27,AV21,AV15,AV9) -> 1523.8256 | AW34: =SUM(AW27,AW21,AW15,AW9) -> 1720.9548 | AX34: =SUM(AX27,AX21,AX15,AX9) -> 1719.7049 | AY34: =+AX34 -> 1719.7049 | AZ34: =SUM(AZ27,AZ21,AZ15,AZ9) -> 1778.0707 | BA34: =SUM(BA27,BA21,BA15,BA9) -> 0 | BB34: =SUM(BB27,BB21,BB15,BB9) -> 1631.4625 | BC34: =+BB34 -> 1631.4625 | BD34: =SUM(BD27,BD21,BD15,BD9) -> 0 | BE34: =SUM(BE27,BE21,BE15,BE9) -> 1632 | BF34: =SUM(BF27,BF21,BF15,BF9) -> 1454.4809 | BG34: =+BF34 -> 1454.4809 | BH34: =SUM(BH27,BH21,BH15,BH9) -> 0 | BI34: =SUM(BI27,BI21,BI15,BI9) -> 0 | BJ34: =SUM(BJ27,BJ21,BJ15,BJ9) -> 0 | BK34: =+BJ34 -> 0 | BL34: =SUM(BL27,BL21,BL15,BL9) -> 0 | BM34: =SUM(BM27,BM21,BM15,BM9) -> 0 | BN34: =SUM(BN27,BN21,BN15,BN9) -> 0 | BO34: =+BN34 -> 0 | BP34: =SUM(BP27,BP21,BP15,BP9) -> 0 | BQ34: =SUM(BQ27,BQ21,BQ15,BQ9) -> 0 | BR34: =SUM(BR27,BR21,BR15,BR9) -> 0 | BS34: =+BR34 -> 0
C35: Tech Refesh TB | H35: 0 | I35: 0 | J35: 0 | K35: =J35 -> 0 | L35: 12 | M35: 47 | N35: 59 | O35: =N35 -> 59 | P35: 97 | Q35: 195 | R35: 205 | S35: =R35 -> 205 | T35: 193 | U35: 143.14606 | V35: 144.43019 | W35: =V35 -> 144.43019 | X35: 173.97711 | Y35: 127.6492 | Z35: 129.62206 | AA35: =+Z35 -> 129.62206 | AB35: 175.32176 | AC35: 179.96415 | AD35: 182.01177 | AE35: =+AD35 -> 182.01177 | AF35: 190.90192 | AG35: 174.80073 | AH35: 188.16316 | AI35: =+AH35 -> 188.16316 | AJ35: 188 | AK35: 233.97627 | AL35: 212.40101 | AM35: =+AL35 -> 212.40101 | AN35: 252.5466 | AO35: 258.599 | AP35: 290.90623 | AQ35: =+AP35 -> 290.90623 | AR35: 179.33235 | AS35: 285.97925 | AT35: 183.12015 | AU35: =+AT35 -> 183.12015 | AV35: 168.39994 | AW35: 169.15725 | AX35: 251.78281 | AY35: =+AX35 -> 251.78281 | AZ35: 255.48185 | BB35: 255.48185 | BC35: =+BB35 -> 255.48185 | BE35: 255 | BF35: 255 | BG35: =+BF35 -> 255 | BK35: =+BJ35 -> 0 | BO35: =+BN35 -> 0 | BS35: =+BR35 -> 0
C36: FTE | H36: 14.5 | I36: 14.5 | J36: 14.5 | K36: =J36 -> 14.5 | L36: 14.5 | M36: 14.5 | N36: 13.5 | O36: =N36 -> 13.5 | P36: 13.5 | Q36: 13.5 | R36: 15.5 | S36: =R36 -> 15.5 | T36: 16.5 | U36: 16.5 | V36: 15.5 | W36: =V36 -> 15.5 | X36: 16.5 | Y36: 16.5 | Z36: 16.5 | AA36: =+Z36 -> 16.5 | AB36: =+AA36 -> 16.5 | AC36: 13.5 | AD36: 13.5 | AE36: =+AD36 -> 13.5 | AF36: 12.5 | AG36: 12.5 | AH36: 11.5 | AI36: =+AH36 -> 11.5 | AJ36: 11.5 | AK36: 11.5 | AL36: 11.5 | AM36: =+AL36 -> 11.5 | AN36: 12.5 | AO36: 12.5 | AP36: 12.5 | AQ36: =+AP36 -> 12.5 | AR36: =+AQ36 -> 12.5 | AS36: =+AR36 -> 12.5 | AT36: =+AS36 -> 12.5 | AU36: =+AT36 -> 12.5 | AV36: =+AU36 -> 12.5 | AW36: 12.5 | AX36: 12.5 | AY36: =+AX36 -> 12.5 | AZ36: =+AY36 -> 12.5 | BA36: =+AZ36 -> 12.5 | BB36: =+BA36 -> 12.5 | BC36: =+BB36 -> 12.5 | BE36: 12 | BF36: 10 | BG36: =+BF36 -> 10 | BK36: =+BJ36 -> 0 | BO36: =+BN36 -> 0 | BS36: =+BR36 -> 0
C40: RAID 5 % | H40: 0.68307496 | I40: 0.59562253 | J40: 0.61731319 | K40: =J40 -> 0.61731319 | L40: 0.63324071 | M40: 0.65598762 | N40: 0.68358593 | O40: =N40 -> 0.68358593 | P40: 0.69730472 | Q40: 0.73220127 | R40: 0.73703238 | S40: =R40 -> 0.73703238 | T40: 0.74286741 | U40: 0.75674561 | V40: 0.77141858 | W40: =V40 -> 0.77141858 | X40: 0.77362737 | Y40: 0.78649912 | Z40: 0.7909842 | AA40: =Z40 -> 0.7909842 | AB40: 0.79492857 | AC40: 0.80215 | AD40: 0.83707146 | AE40: =AD40 -> 0.83707146 | AF40: 0.84102933 | AG40: 0.84132737 | AH40: 0.8452937 | AI40: =AH40 -> 0.8452937 | AJ40: 0.85 | AK40: 0.86366545 | AL40: 0.89466445 | AM40: =AL40 -> 0.89466445 | AN40: 0.89379055 | AO40: 0.89651532 | AP40: 0.90434286 | AQ40: =AP40 -> 0.90434286 | AR40: 0.9074467 | AS40: 0.90673727 | AT40: 0.90859839 | AU40: =AT40 -> 0.90859839 | AV40: 0.90859839 | AW40: 0.92059822 | AX40: 0.92317726 | AY40: =AX40 -> 0.92317726 | AZ40: 0.91378907 | BB40: 0.92084275 | BC40: =BB40 -> 0.92084275 | BE40: 0.91 | BF40: 0.8037 | BG40: =BF40 -> 0.8037 | BK40: =BJ40 -> 0 | BO40: =BN40 -> 0 | BS40: =BR40 -> 0
B43: Note | C43: * The installed TB figures include the DMX, VMAX, HDS and Clariion arrays in UK, Germany, Russia and Turkey
C44: * The installed TB figures include the HP/HDS arrays in Poland
C45: * The installed TB figures include the Centera arrays across EMEA.
C47: * The allocated TB, used TB and available TB figures include the capacities on the accessible servers on the DMX, VMAX and HDS arrays in UK and Germany
C48: * The allocated TB, used TB and available TB figures now include the HP/HDS arrays in Poland
C49: * The allocated TB, used TB and available TB figures now include the Clariion arrays in UK, Germany, Russia and Turkey
C50: * The allocated TB, used TB and available TB figures now include the Centera arrays across EMEA.
C52: * The data is based on the FMO report that is produced daily.
C53: * The source of the FMO report is the EMC ControlCenter (ECC) SAN management applications, as well as other sources such as TAS.
C54: * The ECC instances requires agents to be installed on the servers, which gather information on the File System usage on the servers.
C55: * If agents are either stopped or not installed, then ECC cannot retrieve any File System information
C56: * The utilisation figures for servers which do have File System information are used to calculate the approximate utilisation for those with no File System information
C57: * The Allocated TB figures for the 'Other' category have been adjusted to include any storage that is not reported on by the FMO report
... C62: * The RAID 5 % excludes the Centera arrrays

Sheet EMEA SAN CIOC
A1: Month | B1: Location | C1: Type (SAN, NAS or MF) | D1: Installed Raw(TB) | E1: Allocated (TB) | F1: Not Allocated /Free(TB) | G1: Subsystems Frames/Filers | H1: Tech Refresh (TB) | I1: Tech Refresh Subsystems Frames/Filers | J1: % Allocated (calculated) | K1: SAN Switch Capacity (#ports) | L1: Used Ports | M1: Free Ports | N1: Ports Not Installed | O1: SAN Switch Count
A2: 40179 | B2: Frankfurt | C2: SAN | D2: 686.70882 | E2: 548 | F2: =D2-E2 -> 138.70882 | G2: 16 | J2: =E2/D2 -> 0.79800927
A3: 40179 | B3: London (RDC) | C3: SAN | D3: 1554.1152 | E3: 1098 | F3: =D3-E3 -> 456.11524 | G3: 32 | J3: =E3/D3 -> 0.70651131
A4: 40179 | B4: CGC | C4: SAN | D4: 686.39941 | E4: 259 | F4: =D4-E4 -> 427.39941 | G4: 14 | J4: =E4/D4 -> 0.37733132
A5: 40179 | B5: IX Europe | C5: SAN | D5: 178.17578 | E5: 166 | F5: =D5-E5 -> 12.175781 | G5: 6 | J5: =E5/D5 -> 0.93166422
A6: 40179 | B6: Meerbusch | C6: SAN | D6: 253.62109 | E6: 188.00977 | F6: =D6-E6 -> 65.611328 | G6: 5 | J6: =E6/D6 -> 0.74130177
A7: 40179 | B7: Senatorska | C7: SAN | D7: 82.728516 | E7: 45 | F7: =D7-E7 -> 37.728516 | G7: 3 | J7: =E7/D7 -> 0.54394787
A8: 40179 | B8: Goleszowska | C8: SAN | D8: 76.945312 | E8: 42 | F8: =D8-E8 -> 34.945312 | G8: 3 | J8: =E8/D8 -> 0.54584222
A9: 40179 | B9: Welle | C9: SAN | D9: 14.849609 | E9: 4 | F9: =D9-E9 -> 10.849609 | G9: 1 | J9: =E9/D9 -> 0.26936735
A10: 40179 | B10: Turkey | C10: SAN | D10: 53.144531 | E10: 36 | F10: =D10-E10 -> 17.144531 | G10: 2 | J10: =E10/D10 -> 0.67739802
A11: 40179 | B11: Switzerland | C11: SAN | D11: 32.385742 | E11: 15 | F11: =D11-E11 -> 17.385742 | G11: 2 | J11: =E11/D11 -> 0.46316678
A12: 40179 | B12: Russia | C12: SAN | D12: 0 | E12: 0 | F12: =D12-E12 -> 0 | G12: 0 | J12: 0
A13: 40210 | B13: Frankfurt | C13: SAN | D13: 738.04085 | E13: 574.29725 | F13: =D13-E13 -> 163.7436 | G13: 16 | J13: =E13/D13 -> 0.77813748
A14: 40210 | B14: London (RDC) | C14: SAN | D14: 1569.8721 | E14: 1103.617 | F14: =D14-E14 -> 466.25511 | G14: 32 | J14: =E14/D14 -> 0.70299802
A15: 40210 | B15: CGC | C15: SAN | D15: 686.39941 | E15: 256.33203 | F15: =D15-E15 -> 430.06738 | G15: 14 | J15: =E15/D15 -> 0.37344442
A16: 40210 | B16: IX Europe | C16: SAN | D16: 178.17578 | E16: 165.8584 | F16: =D16-E16 -> 12.317383 | G16: 6 | J16: =E16/D16 -> 0.93086949
A17: 40210 | B17: Meerbusch | C17: SAN | D17: 268.20605 | E17: 190.84082 | F17: =D17-E17 -> 77.365234 | G17: 6 | J17: =E17/D17 -> 0.71154553
A18: 40210 | B18: Senatorska | C18: SAN | D18: 82.728516 | E18: 47.337738 | F18: =D18-E18 -> 35.390778 | G18: 3 | J18: =E18/D18 -> 0.57220582
A19: 40210 | B19: Goleszowska | C19: SAN | D19: 76.945312 | E19: 43.624554 | F19: =D19-E19 -> 33.320758 | G19: 3 | J19: =E19/D19 -> 0.56695532
A20: 40210 | B20: Welle | C20: SAN | D20: 14.849609 | E20: 3.9599609 | F20: =D20-E20 -> 10.889648 | G20: 1 | J20: =E20/D20 -> 0.26667105
A21: 40210 | B21: Turkey | C21: SAN | D21: 53.144531 | E21: 37.527344 | F21: =D21-E21 -> 15.617188 | G21: 2 | J21: =E21/D21 -> 0.70613745
A22: 40210 | B22: Switzerland | C22: SAN | D22: 32.385742 | E22: 14.822266 | F22: =D22-E22 -> 17.563477 | G22: 2 | J22: =E22/D22 -> 0.45767874
A23: 40210 | B23: Russia | C23: SAN | D23: 0 | E23: 0 | F23: =D23-E23 -> 0 | G23: 0 | J23: 0
A24: 40238 | B24: Frankfurt | C24: SAN | D24: 738.04085 | E24: 513.07859 | F24: =D24-E24 -> 224.96225 | G24: 16 | H24: 0 | I24: 0 | J24: =E24/D24 -> 0.69518997 | K24: 2812 | L24: 1917 | M24: =K24-L24 -> 895 | O24: 20
A25: 40238 | B25: London (RDC) | C25: SAN | D25: 1569.8721 | E25: 1131.487 | F25: =D25-E25 -> 438.38506 | G25: 32 | H25: 0 | I25: 0 | J25: =E25/D25 -> 0.7207511 | K25: 6013 | L25: 3594 | M25: =K25-L25 -> 2419 | O25: 49
A26: 40238 | B26: CGC | C26: SAN | D26: 686.39941 | E26: 249.22949 | F26: =D26-E26 -> 437.16992 | G26: 14 | H26: 0 | I26: 0 | J26: =E26/D26 -> 0.36309689 | K26: 3637 | L26: 1494 | M26: =K26-L26 -> 2143 | O26: 36
A27: 40238 | B27: IX Europe | C27: SAN | D27: 178.17578 | E27: 166.25781 | F27: =D27-E27 -> 11.917969 | G27: 6 | J27: =E27/D27 -> 0.93311117
A28: 40238 | B28: Meerbusch | C28: SAN | D28: 268.20605 | E28: 191.30762 | F28: =D28-E28 -> 76.898438 | G28: 6 | J28: =E28/D28 -> 0.71328597
A29: 40238 | B29: Senatorska | C29: SAN | D29: 82.728516 | E29: 49.246918 | F29: =D29-E29 -> 33.481598 | G29: 3 | J29: =E29/D29 -> 0.59528347
A30: 40238 | B30: Goleszowska | C30: SAN | D30: 76.945312 | E30: 43.723187 | F30: =D30-E30 -> 33.222125 | G30: 3 | J30: =E30/D30 -> 0.56823718
A31: 40238 | B31: Welle | C31: SAN | D31: 14.849609 | E31: 3.9599609 | F31: =D31-E31 -> 10.889648 | G31: 1 | J31: =E31/D31 -> 0.26667105 | K31: 96 | L31: 84 | M31: 12 | O31: 2
A32: 40238 | B32: Turkey | C32: SAN | D32: 53.144531 | E32: 37.723633 | F32: =D32-E32 -> 15.420898 | G32: 2 | J32: =E32/D32 -> 0.70983094
A33: 40238 | B33: Switzerland | C33: SAN | D33: 32.385742 | E33: 14.897461 | F33: =D33-E33 -> 17.488281 | G33: 2 | J33: =E33/D33 -> 0.4600006
A34: 40238 | B34: Russia | C34: SAN | D34: 0 | E34: 0 | F34: =D34-E34 -> 0 | G34: 0 | J34: 0
A35: 40269 | B35: Frankfurt | C35: SAN | D35: 906.84268 | E35: 473.28713 | F35: =D35-E35 -> 433.55554 | G35: 17 | H35: 1.6467773 | I35: 1 | J35: =E35/D35 -> 0.52190655 | K35: 2991 | L35: 2147 | M35: =K35-L35 -> 844 | O35: 22
A36: 40269 | B36: London (RDC) | C36: SAN | D36: 1718.9492 | E36: 1005.1803 | F36: =D36-E36 -> 713.76895 | G36: 34 | H36: 8.4720703 | I36: 2 | J36: =E36/D36 -> 0.58476438 | K36: 6015 | L36: 3623 | M36: =K36-L36 -> 2392 | O36: 49
A37: 40269 | B37: CGC | C37: SAN | D37: 886.5902 | E37: 210.44049 | F37: =D37-E37 -> 676.14971 | G37: 16 | H37: 1.6851562 | I37: 2 | J37: =E37/D37 -> 0.23735937 | K37: 3637 | L37: 1561 | M37: =K37-L37 -> 2076 | O37: 36
A38: 40269 | B38: IX Europe | C38: SAN | D38: 178.19944 | E38: 174.96191 | F38: =D38-E38 -> 3.2375261 | G38: 6 | J38: =E38/D38 -> 0.98183201
A39: 40269 | B39: Meerbusch | C39: SAN | D39: 268.20506 | E39: 161.8017 | F39: =D39-E39 -> 106.40336 | G39: 6 | J39: =E39/D39 -> 0.6032761
A40: 40269 | B40: Senatorska | C40: SAN | D40: 84.728371 | E40: 47.977153 | F40: =D40-E40 -> 36.751219 | G40: 3 | J40: =E40/D40 -> 0.56624661
A41: 40269 | B41: Goleszowska | C41: SAN | D41: 76.945306 | E41: 45.07049 | F41: =D41-E41 -> 31.874816 | G41: 3 | J41: =E41/D41 -> 0.5857471
A42: 40269 | B42: Welle | C42: SAN | D42: 14.84977 | E42: 4.3496094 | F42: =D42-E42 -> 10.50016 | G42: 1 | J42: =E42/D42 -> 0.29290753 | K42: 96 | L42: 84 | M42: 12 | O42: 2
A43: 40269 | B43: Turkey | C43: SAN | D43: 53.144095 | E43: 38.637934 | F43: =D43-E43 -> 14.506161 | G43: 2 | J43: =E43/D43 -> 0.72704096
A44: 40269 | B44: Switzerland | C44: SAN | D44: 32.384846 | E44: 14.945938 | F44: =D44-E44 -> 17.438909 | G44: 2 | J44: =E44/D44 -> 0.46151023
A45: 40269 | B45: Russia | C45: SAN | D45: 0 | E45: 0 | F45: =D45-E45 -> 0 | G45: 0 | J45: 0
A46: 40299 | B46: Frankfurt | C46: SAN | D46: 906.84268 | E46: 496.89416 | F46: =D46-E46 -> 409.94851 | G46: 17 | H46: 5.8367188 | I46: 1 | J46: =E46/D46 -> 0.54793866 | K46: 2991 | L46: 2159 | M46: =K46-L46 -> 832 | O46: 22
A47: 40299 | B47: London (RDC) | C47: SAN | D47: 1718.9492 | E47: 1046.7751 | F47: =D47-E47 -> 672.1741 | G47: 34 | H47: 25.701897 | I47: 2 | J47: =E47/D47 -> 0.60896222 | K47: 5921 | L47: 3688 | M47: =K47-L47 -> 2233 | O47: 49
A48: 40299 | B48: CGC | C48: SAN | D48: 886.5902 | E48: 228.05948 | F48: =D48-E48 -> 658.53073 | G48: 16 | H48: 15.865179 | I48: 2 | J48: =E48/D48 -> 0.25723212 | K48: 3637 | L48: 1555 | M48: =K48-L48 -> 2082 | O48: 36
A49: 40299 | B49: IX Europe | C49: SAN | D49: 178.19944 | E49: 175.9502 | F49: =D49-E49 -> 2.2492448 | G49: 6 | J49: =E49/D49 -> 0.98737794
A50: 40299 | B50: Meerbusch | C50: SAN | D50: 268.6599 | E50: 166.40992 | F50: =D50-E50 -> 102.24997 | G50: 6 | J50: =E50/D50 -> 0.61940738
A51: 40299 | B51: Senatorska | C51: SAN | D51: 84.728371 | E51: 48.821901 | F51: =D51-E51 -> 35.90647 | G51: 3 | J51: =E51/D51 -> 0.57621668
A52: 40299 | B52: Goleszowska | C52: SAN | D52: 76.945306 | E52: 44.761814 | F52: =D52-E52 -> 32.183492 | G52: 3 | J52: =E52/D52 -> 0.58173547
A53: 40299 | B53: Welle | C53: SAN | D53: 14.84977 | E53: 3.0185547 | F53: =D53-E53 -> 11.831215 | G53: 1 | J53: =E53/D53 -> 0.20327283 | K53: 96 | L53: 84 | M53: 12 | O53: 2
A54: 40299 | B54: Turkey | C54: SAN | D54: 53.144095 | E54: 39.843931 | F54: =D54-E54 -> 13.300164 | G54: 2 | J54: =E54/D54 -> 0.74973393
A55: 40299 | B55: Switzerland | C55: SAN | D55: 32.384846 | E55: 14.818589 | F55: =D55-E55 -> 17.566257 | G55: 2 | J55: =E55/D55 -> 0.45757788
A56: 40299 | B56: Russia | C56: SAN | D56: 0 | E56: 0 | F56: =D56-E56 -> 0 | G56: 0 | J56: 0
A57: 40330 | B57: Frankfurt | C57: SAN | D57: 906.84268 | E57: 556.02107 | F57: =D57-E57 -> 350.8216 | G57: 17 | H57: 6.7229911 | I57: 1 | J57: =E57/D57 -> 0.61313951 | K57: 2991 | L57: 2188 | M57: =K57-L57 -> 803 | O57: 22
A58: 40330 | B58: London (RDC) | C58: SAN | D58: 1643.6691 | E58: 1152.4703 | F58: =D58-E58 -> 491.19874 | G58: 32 | H58: 31.363393 | I58: 2 | J58: =E58/D58 -> 0.70115715 | K58: 5901 | L58: 3788 | M58: =K58-L58 -> 2113 | O58: 49
A59: 40330 | B59: CGC | C59: SAN | D59: 819.66893 | E59: 237.54541 | F59: =D59-E59 -> 582.12353 | G59: 14 | H59: 21.40067 | I59: 2 | J59: =E59/D59 -> 0.28980653 | K59: 3639 | L59: 1558 | M59: =K59-L59 -> 2081 | O59: 36
A60: 40330 | B60: IX Europe | C60: SAN | D60: 178.19944 | E60: 175.9707 | F60: =D60-E60 -> 2.228737 | G60: 7 | J60: =E60/D60 -> 0.98749302
A61: 40330 | B61: Meerbusch | C61: SAN | D61: 254.0753 | E61: 170.81235 | F61: =D61-E61 -> 83.262953 | G61: 5 | J61: =E61/D61 -> 0.67229025
A62: 40330 | B62: Senatorska | C62: SAN | D62: 84.728371 | E62: 49.474711 | F62: =D62-E62 -> 35.25366 | G62: 3 | J62: =E62/D62 -> 0.58392142 | K62: 96 | L62: 42 | M62: 54 | O62: 6
A63: 40330 | B63: Goleszowska | C63: SAN | D63: 76.945306 | E63: 45.366592 | F63: =D63-E63 -> 31.578714 | G63: 3 | J63: =E63/D63 -> 0.58959531 | K63: 136 | L63: 69 | M63: 67 | O63: 6
A64: 40330 | B64: Welle | C64: SAN | D64: 14.84977 | E64: 3.8300781 | F64: =D64-E64 -> 11.019692 | G64: 1 | J64: =E64/D64 -> 0.25792172 | K64: 96 | L64: 84 | M64: 12 | O64: 2
A65: 40330 | B65: Turkey | C65: SAN | D65: 53.144095 | E65: 40.837009 | F65: =D65-E65 -> 12.307086 | G65: 2 | J65: =E65/D65 -> 0.76842044
A66: 40330 | B66: Switzerland | C66: SAN | D66: 32.384846 | E66: 14.861411 | F66: =D66-E66 -> 17.523435 | G66: 2 | J66: =E66/D66 -> 0.45890017
A67: 40330 | B67: Russia | C67: SAN | D67: 0 | E67: 0 | F67: =D67-E67 -> 0 | G67: 0 | J67: 0
A68: 40360 | B68: Frankfurt | C68: SAN | D68: 906.84268 | E68: 709.75236 | F68: =D68-E68 -> 197.09032 | G68: 17 | H68: 13.697532 | I68: 1 | J68: =E68/D68 -> 0.78266317 | K68: 2991 | L68: 2224 | M68: =K68-L68 -> 767 | O68: 22
A69: 40360 | B69: London (RDC) | C69: SAN | D69: 1643.6691 | E69: 1210.5634 | F69: =D69-E69 -> 433.10566 | G69: 32 | H69: 54.870045 | I69: 2 | J69: =E69/D69 -> 0.73650069 | K69: 5829 | L69: 3869 | M69: =K69-L69 -> 1960 | O69: 49
A70: 40360 | B70: CGC | C70: SAN | D70: 819.66893 | E70: 249.72397 | F70: =D70-E70 -> 569.94496 | G70: 14 | H70: 27.996983 | I70: 2 | J70: =E70/D70 -> 0.30466443 | K70: 3794 | L70: 1557 | M70: =K70-L70 -> 2237 | O70: 36
A71: 40360 | B71: IX Europe | C71: SAN | D71: 178.19944 | E71: 176.55176 | F71: =D71-E71 -> 1.6476823 | G71: 7 | J71: =E71/D71 -> 0.99075372
A72: 40360 | B72: Meerbusch | C72: SAN | D72: 254.53014 | E72: 171.50651 | F72: =D72-E72 -> 83.023631 | G72: 5 | J72: =E72/D72 -> 0.67381611
A73: 40360 | B73: Senatorska | C73: SAN | D73: 84.728371 | E73: 50.24113 | F73: =D73-E73 -> 34.487241 | G73: 3 | J73: =E73/D73 -> 0.59296702 | K73: 96 | L73: 42 | M73: 54 | O73: 6
A74: 40360 | B74: Goleszowska | C74: SAN | D74: 76.945306 | E74: 45.907302 | F74: =D74-E74 -> 31.038004 | G74: 3 | J74: =E74/D74 -> 0.59662251 | K74: 136 | L74: 69 | M74: 67 | O74: 6
A75: 40360 | B75: Welle | C75: SAN | D75: 14.84977 | E75: 3.8671875 | F75: =D75-E75 -> 10.982582 | G75: 1 | J75: =E75/D75 -> 0.2604207 | K75: 96 | L75: 84 | M75: 12 | O75: 2
A76: 40360 | B76: Turkey | C76: SAN | D76: 67.698991 | E76: 41.590204 | F76: =D76-E76 -> 26.108788 | G76: 2 | J76: =E76/D76 -> 0.61434008
A77: 40360 | B77: Switzerland | C77: SAN | D77: 32.384846 | E77: 15.17791 | F77: =D77-E77 -> 17.206936 | G77: 2 | J77: =E77/D77 -> 0.46867323
A78: 40360 | B78: Russia | C78: SAN | D78: 0 | E78: 0 | F78: =D78-E78 -> 0 | G78: 0 | J78: 0
A79: 40391 | B79: Frankfurt | C79: SAN | D79: 957.95479 | E79: 737.82432 | F79: =D79-E79 -> 220.13047 | G79: 17 | H79: 47.379421 | I79: 1 | J79: =E79/D79 -> 0.77020787 | K79: 2992 | L79: 2234 | M79: =K79-L79 -> 758 | O79: 22
A80: 40391 | B80: London (RDC) | C80: SAN | D80: 1709.3361 | E80: 1279.4482 | F80: =D80-E80 -> 429.88791 | G80: 32 | H80: 97.611215 | I80: 2 | J80: =E80/D80 -> 0.74850591 | K80: 5829 | L80: 3867 | M80: =K80-L80 -> 1962 | O80: 49
A81: 40391 | B81: CGC | C81: SAN | D81: 819.66893 | E81: 298.36691 | F81: =D81-E81 -> 521.30202 | G81: 14 | H81: 50.206092 | I81: 2 | J81: =E81/D81 -> 0.36400906 | K81: 4427 | L81: 1527 | M81: =K81-L81 -> 2900 | O81: 39
A82: 40391 | B82: IX Europe | C82: SAN | D82: 178.19944 | E82: 157.48828 | F82: =D82-E82 -> 20.711159 | G82: 7 | J82: =E82/D82 -> 0.8837754
A83: 40391 | B83: Meerbusch | C83: SAN | D83: 254.53014 | E83: 193.46794 | F83: =D83-E83 -> 61.062203 | G83: 5 | J83: =E83/D83 -> 0.76009834
A84: 40391 | B84: Senatorska | C84: SAN | D84: 84.728371 | E84: 51.03091 | F84: =D84-E84 -> 33.697461 | G84: 3 | J84: =E84/D84 -> 0.60228834 | K84: 96 | L84: 42 | M84: 54 | O84: 6
A85: 40391 | B85: Goleszowska | C85: SAN | D85: 76.945306 | E85: 46.510135 | F85: =D85-E85 -> 30.435171 | G85: 3 | J85: =E85/D85 -> 0.60445708 | K85: 136 | L85: 69 | M85: 67 | O85: 6
A86: 40391 | B86: Welle | C86: SAN | D86: 14.84977 | E86: 4.6337891 | F86: =D86-E86 -> 10.215981 | G86: 1 | J86: =E86/D86 -> 0.31204451 | K86: 96 | L86: 84 | M86: 12 | O86: 2
A87: 40391 | B87: Turkey | C87: SAN | D87: 68.153827 | E87: 42.419744 | F87: =D87-E87 -> 25.734083 | G87: 2 | J87: =E87/D87 -> 0.62241176
A88: 40391 | B88: Switzerland | C88: SAN | D88: 32.384846 | E88: 14.953015 | F88: =D88-E88 -> 17.431831 | G88: 2 | J88: =E88/D88 -> 0.46172877
A89: 40391 | B89: Russia | C89: SAN | D89: 0 | E89: 0 | F89: =D89-E89 -> 0 | G89: 0 | J89: 0
A90: 40422 | B90: Frankfurt | C90: SAN | D90: 958.08534 | E90: 750.38602 | F90: =D90-E90 -> 207.69932 | G90: 17 | H90: 72.143316 | I90: 1 | J90: =E90/D90 -> 0.78321418 | K90: 2991 | L90: 2237 | M90: =K90-L90 -> 754 | O90: 22
A91: 40422 | B91: London (RDC) | C91: SAN | D91: 1709.3361 | E91: 1304.5693 | F91: =D91-E91 -> 404.76675 | G91: 32 | H91: 105.24868 | I91: 2 | J91: =E91/D91 -> 0.76320236 | K91: 5873 | L91: 3875 | M91: =K91-L91 -> 1998 | O91: 49
A92: 40422 | B92: CGC | C92: SAN | D92: 819.66893 | E92: 305.11737 | F92: =D92-E92 -> 514.55156 | G92: 14 | H92: 27.496173 | I92: 2 | J92: =E92/D92 -> 0.37224465 | K92: 4550 | L92: 1635 | M92: =K92-L92 -> 2915 | O92: 41
A93: 40422 | B93: IX Europe | C93: SAN | D93: 178.19944 | E93: 157.35547 | F93: =D93-E93 -> 20.843971 | G93: 7 | J93: =E93/D93 -> 0.8830301
A94: 40422 | B94: Meerbusch | C94: SAN | D94: 254.53014 | E94: 193.6652 | F94: =D94-E94 -> 60.864937 | G94: 5 | J94: =E94/D94 -> 0.76087336
A95: 40422 | B95: Senatorska | C95: SAN | D95: 84.728371 | E95: 51.03091 | F95: =D95-E95 -> 33.697461 | G95: 3 | J95: =E95/D95 -> 0.60228834 | K95: 96 | L95: 42 | M95: 54 | O95: 6
A96: 40422 | B96: Goleszowska | C96: SAN | D96: 76.945306 | E96: 47.291385 | F96: =D96-E96 -> 29.653921 | G96: 3 | J96: =E96/D96 -> 0.61461039 | K96: 136 | L96: 69 | M96: 67 | O96: 6
A97: 40422 | B97: Welle | C97: SAN | D97: 14.84977 | E97: 4.6337891 | F97: =D97-E97 -> 10.215981 | G97: 1 | J97: =E97/D97 -> 0.31204451 | K97: 96 | L97: 84 | M97: 12 | O97: 2
A98: 40422 | B98: Turkey | C98: SAN | D98: 68.153827 | E98: 42.419744 | F98: =D98-E98 -> 25.734083 | G98: 2 | J98: =E98/D98 -> 0.62241176
A99: 40422 | B99: Switzerland | C99: SAN | D99: 32.384846 | E99: 14.953015 | F99: =D99-E99 -> 17.431831 | G99: 2 | J99: =E99/D99 -> 0.46172877
A100: 40422 | B100: Russia | C100: SAN | D100: 0 | E100: 0 | F100: =D100-E100 -> 0 | G100: 0 | J100: 0
...

Sheet Comments
A2: Installations
A3: 40544 | B3: VMAX array added to Welle
A4: 40575 | B4: Disks added to VMAX arrays in RDC & CGC
A5: 40603 | B5: VMAX arrays added to FDC & EDC (Meerbuch). Disks added to Centera arrays in RDC and EDC (Meerbuch). Clariion array added to FDC
A6: 40634 | B6: No changes
A7: 40664 | B7: No changes
A8: 40695 | B8: 2 DMX arrays decommissioned in RDC, 2 DMX arrays decommissioned in FDC, 1 DMX array decommissioned in CGC, 6 DMX arrays decommissioned in IXE
A9: 40725 | B9: No changes
A10: 40756 | B10: 1 DMX decommissioned in RDC, 1 new VMAX in RDC, 1 New Clariion in RDC, 1 new Clariion in FDC, disk added to Centera in EDC, disk added to Centera in RDC
A11: 40787 | B11: Disks added to VMAX FDC, to Centera in Goleszoswka, to DMX in Meerbuch
A12: 40827 | B12: 1 new VMAX in RDC, 1 new VMAX in FDC
A13: 40848 | B13: 1 new VMAX in RDC, 1 new VMAX in FDC
A14: 40878 | B14: 1 DMX decommissioned in CGC, 1 DMX decommissioned in RDC, 3 DMX decommissioned in EDC
... A22: 41122 | B22: CGC Disks added to VMAX, Frankfurt Disks added to VMAX, Goleszowska Disk added to Centera, IX Europe , London (RDC) Disks added to VMAX, Meerbusch , Russia , Senatorska Disk added to Centera, Switzerland , Turkey , Welle
A26: Allocations
A27: 40544 | B27: 5TB Centera allocations in EDC (Meerbuch). 21TB VMAX in FDC, 4TB VMAX in Welle. 23TB HDS in FDC, 38TB HDS in RDC
A28: 40575 | B28: 6TB Centera allocations in EDC (Meerbuch). 3TB VMAX in FDC, 11TB VMAX in RDC. 52TB HDS in FDC, 54TB HDS in RDC
A29: 40603 | B29: 3TB Centera allocations in EDC (Meerbuch). 60TB VMAX in CGC, 8TB VMAX in FDC, 15TB VMAX in RDC, 21TB in EDC (Meerbuch). 17TB HDS in RDC
A30: 40634 | B30: 9TB Centera allocations in EDC (Meerbuch), 6TB Centera in RDC, 3TB Centera in Turkey, 7TB VMAX in FDC, 6TB VMAX in RDC, 3TB HDS in FDC, 13TB HDS in RDC
A31: 40664 | B31: 8TB Centera allocations in EDC (Meerbuch), 4TB Centera in RDC, 2TB Centera in Turkey, 1TB Centera in Senatorska, 12TB VMAX in CGC, 35TB in RDC, 6TB in EDC, 6TB HDS in FDC, 4TB HDS in RDC
A32: 40695 | B32: 5TB Centera allocations in EDC (Meerbuch), 6TB Centera in RDC, 1TB Centera in Senatorska, 4TB VMAX in CGC, 19TB VMAX in RDC, 3TB VMAX in EDC, -7TB VMAX, 6TB Clariion in RDC in FDC
A33: 40725 | B33: 1TB Centera allocations in EDC (Meerbuch), 1TB Centera in RDC, 3TB VMAX in CGC, 33TB VMAX in FDC, 32TB VMAX in RDC, HDS 2TB in FDC
A34: 40756 | B34: 12 TB Centera allocations in RDC, 9TB Centera in EDC, 1TB Centera in Senatorska, 3TB Centera in Turkey, 7TB VMAX in CGC, 16TB VMAX in FDC, 6TB VMAX in RDC, 14TB HDS in FDC, 3TB HDS in RDC, 4TB Clariion in FDC, 4TB Clariion in RDC,
A35: 40787 | B35: 4TB Centera allocations in Goleszowska, 4TB Centra in RDC, 4TB Centera in Meerbuch, 1TB Centra in Senatorska, 4TB HDS in CGC, 5TB HDS in RDC, 1TB HDS in FDC, 3TB VAMX in FDC, 10TB VMAX in RDC, 4TB DMX in Welle
A36: 40827
A37: 40848 | B37: 3TB VMAX in CGC, 82TB VMAX in RDC, -31TB VMAX in FDC, -16TB in EDC, 16TB HDS in FDC, 13TB HDS in RDC, -4TB DMX in RDC, -42TB DMX in RDC
A38: 40878 | B38: VMAX 24TB, HDS 1TB in FDC, Centera 3TB in Goleszowska, Centera 3TB in Senatorska, Centera 6TB in Switzerland, Centera 4TB in Turkey, VMAX 29TB, HDS 1TB, DMX -4TB, Centera 2TB in RDC, DMX -92TB, Centera -6TB in Meerbusch
A39: 40909 | B39: VMAX -1TB in CGC, -1TB in FDC, HDS 23TB in FDC, -2TB in RDC, Centera 4TB in RDC, 4TB in Meerbuch, iTB in Turkey, 1TB in Switzerland, 1TB in Goleszowska, 1TB in Senatorska
A40: 40940 | B40: VMAX 7TB in CGC, 14TB FDC, 52TB RDC, HDS 6TB in FDC, 3TB RDC, Centera 1TB Goleszowska, 5TB RDC, 6TB Meerbuch, 1TB Turkey
A41: 40969 | B41: Centera 3TB in RDC, 9TB in EDC (Meerbuch), 1TB in Switzerland 1TB in Turkey, HDS 9TB in FDC, DMX 3TB in FDC, VMAX 74TB in FDC, 97TB in RDC 16TB in EDC (Meerbuch), HP/HDS -8TB in Goleszowska, -12TB in Senatorska
A42: 41000 | B42: Centera 1TB in Goleszowska, 10TB in RDC, 6TB in EDC (Meerbuch), 1TB in Switzerland, 2TB in Turkey, HDS 2TB in FDC, 5TB in RDC, DMX 10TB in RDC, 1TB in CGC, VMAX 1TB in CGC, 48TB in FDC, 1TB in EDC (Meerbuch), 62TB in RDC
A43: 41030 | B43: Centera 1TB in Goleszowska, 1TB in Turkey, 2TB in (EDC) Meerbuch, HDS 4TB in RDC, DMX -13TB in CGC, -1TB in FDC, -1TB in EDC (Meerbuch), VMAX -4TB in CGC, 11TB in FDC, 35TB in RDC, Clariion 8TB in Russia
A44: 41061 | B44: Centera 1TB in Switzerland, 1TB in Turkey, 6TB in (EDC) Meerbuch, 4TB in RDC. HDS -2TB in RDC, 3TB in FDC, DMX -8TB in RDC, VMAX -4TB in CGC, 62TB in FDC, 50TB in RDC
A45: 41091 | B45: CGC VMAX 13TB, Frankfurt VMAX 154TB, DMX 3TB, HDS 1TB, Goleszowska Centera 1TB, IX Europe , London (RDC) VMAX 182TB, DMX 1TB, HDS 1TB, Centera 3TB, Meerbusch Centera 5TB, Russia , Senatorska , Switzerland Centera 1TB, Turkey Centera 1TB, Welle
A46: 41122 | B46: CGC VMAX 27TB, Frankfurt VMAX 17TB, HDS -15TB, Centera 10TB, Goleszowska Centera 1TB, IX Europe , London (RDC) VMAX 13TB, HDS -5TB, Centera 1TB, Meerbusch Centera 2TB, Russia , Senatorska Centera 4TB, Switzerland , Turkey Center 1TB, Welle DMX -15TB

Sheet Notes
A1: Calculated Tables | AF1: Ignoring measured 'Other' Used | AI1: If 'Other' is negative, adjust Sectors proportionally | AR1: Adjusted Proportionally if Others is negative
B2: Month | C2: Installed Raw(TB) | D2: Adjusted 'Total' Allocated TB* | E2: Not Allocated /Free(TB) | G2: FMO Allocated | I2: Clariion CORP Allocated Storage | J2: Centera CORP Allocated Storage | K2: CORP Allocated | L2: Adjusted CORP Allocated | M2: CORP Avg Utilisation | N2: Adjusted 'CORP' Used TB | P2: Difference [Adjusted 'Total' Allocated - (FMO + Clariion + Centera)] | Q2: Other Allocated | R2: Adjusted 'Other' Allocated TB | S2: Other Avg Utilisation | T2: Adjusted 'Other' Used TB | V2: Adjusted 'Total' Used TB | W2: Adjusted Total Avg Utilisation | Y2: Adjusted CORP Used | Z2: ICG Used | AA2: GCG Used | AB2: Allocated excluding 'Other' | AC2: Utilisation % (excluding Other) - to be applied to 'Other' where it is zero | AD2: Readjusted 'Other' Used TB | AF2: Adjusted 'Total' Used TB | AG2: Adjusted Total Avg Utilisation | AI2: CORP - Allocated | AJ2: CORP - Used | AK2: ICG - Allocated | AL2: ICG - Used | AM2: GCG - Allocated | AN2: GCG - Used | AO2: Other - Allocated | AP2: Other - Used | AR2: Total (All Sectors) | AS2: Total (excl Other) | AT2: Proportion | AU2: Final Adjusted CORP - Allocated | AV2: Final Adjusted CORP - Used | AW2: Final Adjusted ICG - Allocated | AX2: Final Adjusted ICG - Used | AY2: Final Adjusted GCG - Allocated | AZ2: Final Adjusted GCG - Used | BA2: Final Adjusted Other - Allocated | BB2: Final Adjusted Other - Used
B3: 40179 | C3: =SUMIF('EMEA SAN CIOC'!$A$2:$A$409,Notes!$B3,'EMEA SAN CIOC'!$D$2:$D$409) -> 3619.0741 | D3: =SUMIF('EMEA SAN CIOC'!$A$2:$A$409,Notes!$B3,'EMEA SAN CIOC'!$E$2:$E$409) -> 2401.0098 | E3: =SUMIF('EMEA SAN CIOC'!$A$2:$A$405,Notes!$B3,'EMEA SAN CIOC'!$F$2:$F$405) -> 1218.0643 | G3: =SUMIF($B$47:$B$84,$B3,$O$47:$O$84) -> 1329.4397 | K3: =SUMIF($B$47:$B$84,$B3,$C$47:$C$84) -> 206.49445 | L3: =I3+J3+K3 -> 206.49445 | M3: =SUMIF($B$47:$B$84,$B3,$D$47:$D$84)/SUMIF($B$47:$B$84,$B3,$C$47:$C$84) -> 0.439752 | N3: =L3*M3 -> 90.806349 | P3: =D3-G3-I3-J3 -> 1071.5701 | Q3: =SUMIF($B$47:$B$84,$B3,$L$47:$L$84) -> 403.98937 | R3: =P3+Q3 -> 1475.5594 | S3: =SUMIF($B$47:$B$84,$B3,$M$47:$M$84)/SUMIF($B$47:$B$84,$B3,$L$47:$L$84) -> 0.66831987 | T3: =R3*S3 -> 986.14569 | V3: =IF(N3="",SUMIF($B$47:$B$84,$B3,$D$47:$D$84),N3)+SUMIF($B$47:$B$84,$B3,$G$47:$G$84)+SUMIF($B$47:$B$84,$B3,$J$47:$J$84)+IF(T3="",SUMIF($B$47:$B$84,$B3,$M$47:$M$84),T3) -> 1501.0003 | W3: =V3/D3 -> 0.62515378 | Y3: =N3 -> 90.806349 | Z3: =G47 -> 394.19383 | AA3: =J47 -> 29.854472 | AB3: =D3-R3 -> 925.45034 | AC3: =SUM(Y3:AA3)/AB3 -> 0.55632877 | AD3: =R3*AC3 -> 820.89617 | AF3: =SUM(Y3:AA3,AD3) -> 1335.7508 | AG3: =AF3/D3 -> 0.55632877 | AI3: =L3 -> 206.49445 | AJ3: =N3 -> 90.806349 | AK3: =SUMIF($B$47:$B$84,$B3,F$47:$F$84) -> 671.5356 | AL3: =SUMIF($B$47:$B$84,$B3,$G$47:G$84) -> 394.19383 | AM3: =SUMIF($B$47:$B$84,$B3,$I$47:I$84) -> 47.42028 | AN3: =SUMIF($B$47:$B$84,$B3,$J$47:J$84) -> 29.854472 | AO3: =R3 -> 1475.5594 | AP3: =AD3 -> 820.89617 | AR3: =SUM(AI3,AK3,AM3,AO3) -> 2401.0098 | AS3: =SUM(AI3,AK3,AM3) -> 925.45034 | AT3: =IF(AS3>AR3,AR3/AS3,1) -> 1 | AU3: =AI3*$AT3 -> 206.49445 | AV3: =AJ3*$AT3 -> 90.806349 | AW3: =AK3*$AT3 -> 671.5356 | AX3: =AL3*$AT3 -> 394.19383 | AY3: =AM3*$AT3 -> 47.42028 | AZ3: =AN3*$AT3 -> 29.854472 | BA3: =IF(AO3<0,0,AO3) -> 1475.5594 | BB3: =IF(AP3<0,0,AP3) -> 820.89617
B4: 40210 | C4: =SUMIF('EMEA SAN CIOC'!$A$2:$A$409,Notes!$B4,'EMEA SAN CIOC'!$D$2:$D$409) -> 3700.7479 | D4: =SUMIF('EMEA SAN CIOC'!$A$2:$A$409,Notes!$B4,'EMEA SAN CIOC'!$E$2:$E$409) -> 2438.2173 | E4: =SUMIF('EMEA SAN CIOC'!$A$2:$A$405,Notes!$B4,'EMEA SAN CIOC'!$F$2:$F$405) -> 1262.5306 | G4: =SUMIF($B$47:$B$84,$B4,$O$47:$O$84) -> 1313.5845 | K4: =SUMIF($B$47:$B$84,$B4,$C$47:$C$84) -> 200.59121 | L4: =I4+J4+K4 -> 200.59121 | M4: =SUMIF($B$47:$B$84,$B4,$D$47:$D$84)/SUMIF($B$47:$B$84,$B4,$C$47:$C$84) -> 0.43566497 | N4: =L4*M4 -> 87.390562 | P4: =D4-G4-I4-J4 -> 1124.6328 | Q4: =SUMIF($B$47:$B$84,$B4,$L$47:$L$84) -> 397.38584 | R4: =P4+Q4 -> 1522.0187 | S4: =SUMIF($B$47:$B$84,$B4,$M$47:$M$84)/SUMIF($B$47:$B$84,$B4,$L$47:$L$84) -> 0.60122967 | T4: =R4*S4 -> 915.08278 | V4: =IF(N4="",SUMIF($B$47:$B$84,$B4,$D$47:$D$84),N4)+SUMIF($B$47:$B$84,$B4,$G$47:$G$84)+SUMIF($B$47:$B$84,$B4,$J$47:$J$84)+IF(T4="",SUMIF($B$47:$B$84,$B4,$M$47:$M$84),T4) -> 1410.1398 | W4: =V4/D4 -> 0.57834869 | Y4: =N4 -> 87.390562 | Z4: =G48 -> 386.56537 | AA4: =J48 -> 21.101102 | AB4: =D4-R4 -> 916.19866 | AC4: =SUM(Y4:AA4)/AB4 -> 0.54033809 | AD4: =R4*AC4 -> 822.40466 | AF4: =SUM(Y4:AA4,AD4) -> 1317.4617 | AG4: =AF4/D4 -> 0.54033809 | AI4: =L4 -> 200.59121 | AJ4: =N4 -> 87.390562 | AK4: =SUMIF($B$47:$B$84,$B4,F$47:$F$84) -> 675.46382 | AL4: =SUMIF($B$47:$B$84,$B4,$G$47:G$84) -> 386.56537 | AM4: =SUMIF($B$47:$B$84,$B4,$I$47:I$84) -> 40.143631 | AN4: =SUMIF($B$47:$B$84,$B4,$J$47:J$84) -> 21.101102 | AO4: =R4 -> 1522.0187 | AP4: =AD4 -> 822.40466 | AR4: =SUM(AI4,AK4,AM4,AO4) -> 2438.2173 | AS4: =SUM(AI4,AK4,AM4) -> 916.19866 | AT4: =IF(AS4>AR4,AR4/AS4,1) -> 1 | AU4: =AI4*$AT4 -> 200.59121 | AV4: =AJ4*$AT4 -> 87.390562 | AW4: =AK4*$AT4 -> 675.46382 | AX4: =AL4*$AT4 -> 386.56537 | AY4: =AM4*$AT4 -> 40.143631 | AZ4: =AN4*$AT4 -> 21.101102 | BA4: =IF(AO4<0,0,AO4) -> 1522.0187 | BB4: =IF(AP4<0,0,AP4) -> 822.40466
B5: 40238 | C5: =SUMIF('EMEA SAN CIOC'!$A$2:$A$409,Notes!$B5,'EMEA SAN CIOC'!$D$2:$D$409) -> 3700.7479 | D5: =SUMIF('EMEA SAN CIOC'!$A$2:$A$409,Notes!$B5,'EMEA SAN CIOC'!$E$2:$E$409) -> 2400.9117 | E5: =SUMIF('EMEA SAN CIOC'!$A$2:$A$405,Notes!$B5,'EMEA SAN CIOC'!$F$2:$F$405) -> 1299.8362 | G5: =SUMIF($B$47:$B$84,$B5,$O$47:$O$84) -> 1318.1439 | K5: =SUMIF($B$47:$B$84,$B5,$C$47:$C$84) -> 205.11616 | L5: =I5+J5+K5 -> 205.11616 | M5: =SUMIF($B$47:$B$84,$B5,$D$47:$D$84)/SUMIF($B$47:$B$84,$B5,$C$47:$C$84) -> 0.39890375 | N5: =L5*M5 -> 81.821605 | P5: =D5-G5-I5-J5 -> 1082.7678 | Q5: =SUMIF($B$47:$B$84,$B5,$L$47:$L$84) -> 389.52566 | R5: =P5+Q5 -> 1472.2935 | S5: =SUMIF($B$47:$B$84,$B5,$M$47:$M$84)/SUMIF($B$47:$B$84,$B5,$L$47:$L$84) -> 0.61449525 | T5: =R5*S5 -> 904.71734 | V5: =IF(N5="",SUMIF($B$47:$B$84,$B5,$D$47:$D$84),N5)+SUMIF($B$47:$B$84,$B5,$G$47:$G$84)+SUMIF($B$47:$B$84,$B5,$J$47:$J$84)+IF(T5="",SUMIF($B$47:$B$84,$B5,$M$47:$M$84),T5) -> 1429.1308 | W5: =V5/D5 -> 0.59524504 | Y5: =N5 -> 81.821605 | Z5: =G49 -> 421.41517 | AA5: =J49 -> 21.17668 | AB5: =D5-R5 -> 928.61823 | AC5: =SUM(Y5:AA5)/AB5 -> 0.56472448 | AD5: =R5*AC5 -> 831.44017 | AF5: =SUM(Y5:AA5,AD5) -> 1355.8536 | AG5: =AF5/D5 -> 0.56472448 | AI5: =L5 -> 205.11616 | AJ5: =N5 -> 81.821605 | AK5: =SUMIF($B$47:$B$84,$B5,F$47:$F$84) -> 683.75303 | AL5: =SUMIF($B$47:$B$84,$B5,$G$47:G$84) -> 421.41517 | AM5: =SUMIF($B$47:$B$84,$B5,$I$47:I$84) -> 39.749042 | AN5: =SUMIF($B$47:$B$84,$B5,$J$47:J$84) -> 21.17668 | AO5: =R5 -> 1472.2935 | AP5: =AD5 -> 831.44017 | AR5: =SUM(AI5,AK5,AM5,AO5) -> 2400.9117 | AS5: =SUM(AI5,AK5,AM5) -> 928.61823 | AT5: =IF(AS5>AR5,AR5/AS5,1) -> 1 | AU5: =AI5*$AT5 -> 205.11616 | AV5: =AJ5*$AT5 -> 81.821605 | AW5: =AK5*$AT5 -> 683.75303 | AX5: =AL5*$AT5 -> 421.41517 | AY5: =AM5*$AT5 -> 39.749042 | AZ5: =AN5*$AT5 -> 21.17668 | BA5: =IF(AO5<0,0,AO5) -> 1472.2935 | BB5: =IF(AP5<0,0,AP5) -> 831.44017
B6: 40269 | C6: =SUMIF('EMEA SAN CIOC'!$A$2:$A$409,Notes!$B6,'EMEA SAN CIOC'!$D$2:$D$409) -> 4220.839 | D6: =SUMIF('EMEA SAN CIOC'!$A$2:$A$409,Notes!$B6,'EMEA SAN CIOC'!$E$2:$E$409) -> 2176.6527 | E6: =SUMIF('EMEA SAN CIOC'!$A$2:$A$405,Notes!$B6,'EMEA SAN CIOC'!$F$2:$F$405) -> 2044.1864 | G6: =SUMIF($B$47:$B$84,$B6,$O$47:$O$84) -> 1399.6998 | K6: =SUMIF($B$47:$B$84,$B6,$C$47:$C$84) -> 233.98753 | L6: =I6+J6+K6 -> 233.98753 | M6: =SUMIF($B$47:$B$84,$B6,$D$47:$D$84)/SUMIF($B$47:$B$84,$B6,$C$47:$C$84) -> 0.50227756 | N6: =L6*M6 -> 117.52669 | P6: =D6-G6-I6-J6 -> 776.95291 | Q6: =SUMIF($B$47:$B$84,$B6,$L$47:$L$84) -> 388.98074 | R6: =P6+Q6 -> 1165.9337 | S6: =SUMIF($B$47:$B$84,$B6,$M$47:$M$84)/SUMIF($B$47:$B$84,$B6,$L$47:$L$84) -> 0.65470836 | T6: =R6*S6 -> 763.34651 | V6: =IF(N6="",SUMIF($B$47:$B$84,$B6,$D$47:$D$84),N6)+SUMIF($B$47:$B$84,$B6,$G$47:$G$84)+SUMIF($B$47:$B$84,$B6,$J$47:$J$84)+IF(T6="",SUMIF($B$47:$B$84,$B6,$M$47:$M$84),T6) -> 1359.6252 | W6: =V6/D6 -> 0.6246404 | Y6: =N6 -> 117.52669 | Z6: =G50 -> 425.58086 | AA6: =J50 -> 53.171139 | AB6: =D6-R6 -> 1010.719 | AC6: =SUM(Y6:AA6)/AB6 -> 0.58995495 | AD6: =R6*AC6 -> 687.84832 | AF6: =SUM(Y6:AA6,AD6) -> 1284.127 | AG6: =AF6/D6 -> 0.58995495 | AI6: =L6 -> 233.98753 | AJ6: =N6 -> 117.52669 | AK6: =SUMIF($B$47:$B$84,$B6,F$47:$F$84) -> 706.46392 | AL6: =SUMIF($B$47:$B$84,$B6,$G$47:G$84) -> 425.58086 | AM6: =SUMIF($B$47:$B$84,$B6,$I$47:I$84) -> 70.267563 | AN6: =SUMIF($B$47:$B$84,$B6,$J$47:J$84) -> 53.171139 | AO6: =R6 -> 1165.9337 | AP6: =AD6 -> 687.84832 | AR6: =SUM(AI6,AK6,AM6,AO6) -> 2176.6527 | AS6: =SUM(AI6,AK6,AM6) -> 1010.719 | AT6: =IF(AS6>AR6,AR6/AS6,1) -> 1 | AU6: =AI6*$AT6 -> 233.98753 | AV6: =AJ6*$AT6 -> 117.52669 | AW6: =AK6*$AT6 -> 706.46392 | AX6: =AL6*$AT6 -> 425.58086 | AY6: =AM6*$AT6 -> 70.267563 | AZ6: =AN6*$AT6 -> 53.171139 | BA6: =IF(AO6<0,0,AO6) -> 1165.9337 | BB6: =IF(AP6<0,0,AP6) -> 687.84832
B7: 40299 | C7: =SUMIF('EMEA SAN CIOC'!$A$2:$A$409,Notes!$B7,'EMEA SAN CIOC'!$D$2:$D$409) -> 4221.2939 | D7: =SUMIF('EMEA SAN CIOC'!$A$2:$A$409,Notes!$B7,'EMEA SAN CIOC'!$E$2:$E$409) -> 2265.3537 | E7: =SUMIF('EMEA SAN CIOC'!$A$2:$A$405,Notes!$B7,'EMEA SAN CIOC'!$F$2:$F$405) -> 1955.9402 | G7: =SUMIF($B$47:$B$84,$B7,$O$47:$O$84) -> 2263.7454 | K7: =SUMIF($B$47:$B$84,$B7,$C$47:$C$84) -> 351.78475 | L7: =I7+J7+K7 -> 351.78475 | M7: =SUMIF($B$47:$B$84,$B7,$D$47:$D$84)/SUMIF($B$47:$B$84,$B7,$C$47:$C$84) -> 0.58472469 | N7: =L7*M7 -> 205.69723 | P7: =D7-G7-I7-J7 -> 1.6083106 | Q7: =SUMIF($B$47:$B$84,$B7,$L$47:$L$84) -> 516.92968 | R7: =P7+Q7 -> 518.53799 | S7: =SUMIF($B$47:$B$84,$B7,$M$47:$M$84)/SUMIF($B$47:$B$84,$B7,$L$47:$L$84) -> 0.64119164 | T7: =R7*S7 -> 332.48222 | V7: =IF(N7="",SUMIF($B$47:$B$84,$B7,$D$47:$D$84),N7)+SUMIF($B$47:$B$84,$B7,$G$47:$G$84)+SUMIF($B$47:$B$84,$B7,$J$47:$J$84)+IF(T7="",SUMIF($B$47:$B$84,$B7,$M$47:$M$84),T7) -> 1360.9504 | W7: =V7/D7 -> 0.60076731 | Y7: =N7 -> 205.69723 | Z7: =G51 -> 766.12775 | AA7: =J51 -> 56.643249 | AB7: =D7-R7 -> 1746.8157 | AC7: =SUM(Y7:AA7)/AB7 -> 0.58876745 | AD7: =R7*AC7 -> 305.29829 | AF7: =SUM(Y7:AA7,AD7) -> 1333.7665 | AG7: =AF7/D7 -> 0.58876745 | AI7: =L7 -> 351.78475 | AJ7: =N7 -> 205.69723 | AK7: =SUMIF($B$47:$B$84,$B7,F$47:$F$84) -> 1320.1036 | AL7: =SUMIF($B$47:$B$84,$B7,$G$47:G$84) -> 766.12775 | AM7: =SUMIF($B$47:$B$84,$B7,$I$47:I$84) -> 74.927363 | AN7: =SUMIF($B$47:$B$84,$B7,$J$47:J$84) -> 56.643249 | AO7: =R7 -> 518.53799 | AP7: =AD7 -> 305.29829 | AR7: =SUM(AI7,AK7,AM7,AO7) -> 2265.3537 | AS7: =SUM(AI7,AK7,AM7) -> 1746.8157 | AT7: =IF(AS7>AR7,AR7/AS7,1) -> 1 | AU7: =AI7*$AT7 -> 351.78475 | AV7: =AJ7*$AT7 -> 205.69723 | AW7: =AK7*$AT7 -> 1320.1036 | AX7: =AL7*$AT7 -> 766.12775 | AY7: =AM7*$AT7 -> 74.927363 | AZ7: =AN7*$AT7 -> 56.643249 | BA7: =IF(AO7<0,0,AO7) -> 518.53799 | BB7: =IF(AP7<0,0,AP7) -> 305.29829
B8: 40330 | C8: =SUMIF('EMEA SAN CIOC'!$A$2:$A$409,Notes!$B8,'EMEA SAN CIOC'!$D$2:$D$409) -> 4064.5078 | D8: =SUMIF('EMEA SAN CIOC'!$A$2:$A$409,Notes!$B8,'EMEA SAN CIOC'!$E$2:$E$409) -> 2447.1897 | E8: =SUMIF('EMEA SAN CIOC'!$A$2:$A$405,Notes!$B8,'EMEA SAN CIOC'!$F$2:$F$405) -> 1617.3181 | G8: =SUMIF($B$47:$B$84,$B8,$O$47:$O$84) -> 2257.5677 | K8: =SUMIF($B$47:$B$84,$B8,$C$47:$C$84) -> 332.21064 | L8: =I8+J8+K8 -> 332.21064 | M8: =SUMIF($B$47:$B$84,$B8,$D$47:$D$84)/SUMIF($B$47:$B$84,$B8,$C$47:$C$84) -> 0.59120341 | N8: =L8*M8 -> 196.40407 | P8: =D8-G8-I8-J8 -> 189.62199 | Q8: =SUMIF($B$47:$B$84,$B8,$L$47:$L$84) -> 523.9437 | R8: =P8+Q8 -> 713.56569 | S8: =SUMIF($B$47:$B$84,$B8,$M$47:$M$84)/SUMIF($B$47:$B$84,$B8,$L$47:$L$84) -> 0.6463078 | T8: =R8*S8 -> 461.18307 | V8: =IF(N8="",SUMIF($B$47:$B$84,$B8,$D$47:$D$84),N8)+SUMIF($B$47:$B$84,$B8,$G$47:$G$84)+SUMIF($B$47:$B$84,$B8,$J$47:$J$84)+IF(T8="",SUMIF($B$47:$B$84,$B8,$M$47:$M$84),T8) -> 1491.5585 | W8: =V8/D8 -> 0.60949853 | Y8: =N8 -> 196.40407 | Z8: =G52 -> 780.70063 | AA8: =J52 -> 53.270743 | AB8: =D8-R8 -> 1733.624 | AC8: =SUM(Y8:AA8)/AB8 -> 0.59434771 | AD8: =R8*AC8 -> 424.10614 | AF8: =SUM(Y8:AA8,AD8) -> 1454.4816 | AG8: =AF8/D8 -> 0.59434771 | AI8: =L8 -> 332.21064 | AJ8: =N8 -> 196.40407 | AK8: =SUMIF($B$47:$B$84,$B8,F$47:$F$84) -> 1332.496 | AL8: =SUMIF($B$47:$B$84,$B8,$G$47:G$84) -> 780.70063 | AM8: =SUMIF($B$47:$B$84,$B8,$I$47:I$84) -> 68.917305 | AN8: =SUMIF($B$47:$B$84,$B8,$J$47:J$84) -> 53.270743 | AO8: =R8 -> 713.56569 | AP8: =AD8 -> 424.10614 | AR8: =SUM(AI8,AK8,AM8,AO8) -> 2447.1897 | AS8: =SUM(AI8,AK8,AM8) -> 1733.624 | AT8: =IF(AS8>AR8,AR8/AS8,1) -> 1 | AU8: =AI8*$AT8 -> 332.21064 | AV8: =AJ8*$AT8 -> 196.40407 | AW8: =AK8*$AT8 -> 1332.496 | AX8: =AL8*$AT8 -> 780.70063 | AY8: =AM8*$AT8 -> 68.917305 | AZ8: =AN8*$AT8 -> 53.270743 | BA8: =IF(AO8<0,0,AO8) -> 713.56569 | BB8: =IF(AP8<0,0,AP8) -> 424.10614
B9: 40360 | C9: =SUMIF('EMEA SAN CIOC'!$A$2:$A$409,Notes!$B9,'EMEA SAN CIOC'!$D$2:$D$409) -> 4079.5175 | D9: =SUMIF('EMEA SAN CIOC'!$A$2:$A$409,Notes!$B9,'EMEA SAN CIOC'!$E$2:$E$409) -> 2674.8817 | E9: =SUMIF('EMEA SAN CIOC'!$A$2:$A$405,Notes!$B9,'EMEA SAN CIOC'!$F$2:$F$405) -> 1404.6358 | G9: =SUMIF($B$47:$B$84,$B9,$O$47:$O$84) -> 2384.2424 | K9: =SUMIF($B$47:$B$84,$B9,$C$47:$C$84) -> 373.96406 | L9: =I9+J9+K9 -> 373.96406 | M9: =SUMIF($B$47:$B$84,$B9,$D$47:$D$84)/SUMIF($B$47:$B$84,$B9,$C$47:$C$84) -> 0.61020654 | N9: =L9*M9 -> 228.19532 | P9: =D9-G9-I9-J9 -> 290.63929 | Q9: =SUMIF($B$47:$B$84,$B9,$L$47:$L$84) -> 601.3143 | R9: =P9+Q9 -> 891.95359 | S9: =SUMIF($B$47:$B$84,$B9,$M$47:$M$84)/SUMIF($B$47:$B$84,$B9,$L$47:$L$84) -> 0.78426981 | T9: =R9*S9 -> 699.53227 | V9: =IF(N9="",SUMIF($B$47:$B$84,$B9,$D$47:$D$84),N9)+SUMIF($B$47:$B$84,$B9,$G$47:$G$84)+SUMIF($B$47:$B$84,$B9,$J$47:$J$84)+IF(T9="",SUMIF($B$47:$B$84,$B9,$M$47:$M$84),T9) -> 1740.6336 | W9: =V9/D9 -> 0.65073293 | Y9: =N9 -> 228.19532 | Z9: =G53 -> 782.7533 | AA9: =J53 -> 30.152732 | AB9: =D9-R9 -> 1782.9281 | AC9: =SUM(Y9:AA9)/AB9 -> 0.58392782 | AD9: =R9*AC9 -> 520.83652 | AF9: =SUM(Y9:AA9,AD9) -> 1561.9379 | AG9: =AF9/D9 -> 0.58392782 | AI9: =L9 -> 373.96406 | AJ9: =N9 -> 228.19532 | AK9: =SUMIF($B$47:$B$84,$B9,F$47:$F$84) -> 1346.5814 | AL9: =SUMIF($B$47:$B$84,$B9,$G$47:G$84) -> 782.7533 | AM9: =SUMIF($B$47:$B$84,$B9,$I$47:I$84) -> 62.382646 | AN9: =SUMIF($B$47:$B$84,$B9,$J$47:J$84) -> 30.152732 | AO9: =R9 -> 891.95359 | AP9: =AD9 -> 520.83652 | AR9: =SUM(AI9,AK9,AM9,AO9) -> 2674.8817 | AS9: =SUM(AI9,AK9,AM9) -> 1782.9281 | AT9: =IF(AS9>AR9,AR9/AS9,1) -> 1 | AU9: =AI9*$AT9 -> 373.96406 | AV9: =AJ9*$AT9 -> 228.19532 | AW9: =AK9*$AT9 -> 1346.5814 | AX9: =AL9*$AT9 -> 782.7533 | AY9: =AM9*$AT9 -> 62.382646 | AZ9: =AN9*$AT9 -> 30.152732 | BA9: =IF(AO9<0,0,AO9) -> 891.95359 | BB9: =IF(AP9<0,0,AP9) -> 520.83652
B10: 40391 | C10: =SUMIF('EMEA SAN CIOC'!$A$2:$A$409,Notes!$B10,'EMEA SAN CIOC'!$D$2:$D$409) -> 4196.7515 | D10: =SUMIF('EMEA SAN CIOC'!$A$2:$A$409,Notes!$B10,'EMEA SAN CIOC'!$E$2:$E$409) -> 2826.1432 | E10: =SUMIF('EMEA SAN CIOC'!$A$2:$A$405,Notes!$B10,'EMEA SAN CIOC'!$F$2:$F$405) -> 1370.6083 | G10: =SUMIF($B$47:$B$84,$B10,$O$47:$O$84) -> 2371.1911 | K10: =SUMIF($B$47:$B$84,$B10,$C$47:$C$84) -> 365.26232 | L10: =I10+J10+K10 -> 365.26232 | M10: =SUMIF($B$47:$B$84,$B10,$D$47:$D$84)/SUMIF($B$47:$B$84,$B10,$C$47:$C$84) -> 0.6022829 | N10: =L10*M10 -> 219.99125 | P10: =D10-G10-I10-J10 -> 454.95214 | Q10: =SUMIF($B$47:$B$84,$B10,$L$47:$L$84) -> 603.10238 | R10: =P10+Q10 -> 1058.0545 | S10: =SUMIF($B$47:$B$84,$B10,$M$47:$M$84)/SUMIF($B$47:$B$84,$B10,$L$47:$L$84) -> 0.43677572 | T10: =R10*S10 -> 462.13253 | V10: =IF(N10="",SUMIF($B$47:$B$84,$B10,$D$47:$D$84),N10)+SUMIF($B$47:$B$84,$B10,$G$47:$G$84)+SUMIF($B$47:$B$84,$B10,$J$47:$J$84)+IF(T10="",SUMIF($B$47:$B$84,$B10,$M$47:$M$84),T10) -> 1484.4116 | W10: =V10/D10 -> 0.52524288 | Y10: =N10 -> 219.99125 | Z10: =G54 -> 771.77838 | AA10: =J54 -> 30.509443 | AB10: =D10-R10 -> 1768.0887 | AC10: =SUM(Y10:AA10)/AB10 -> 0.57818314 | AD10: =R10*AC10 -> 611.74929 | AF10: =SUM(Y10:AA10,AD10) -> 1634.0284 | AG10: =AF10/D10 -> 0.57818314 | AI10: =L10 -> 365.26232 | AJ10: =N10 -> 219.99125 | AK10: =SUMIF($B$47:$B$84,$B10,F$47:$F$84) -> 1339.8587 | AL10: =SUMIF($B$47:$B$84,$B10,$G$47:G$84) -> 771.77838 | AM10: =SUMIF($B$47:$B$84,$B10,$I$47:I$84) -> 62.967715 | AN10: =SUMIF($B$47:$B$84,$B10,$J$47:J$84) -> 30.509443 | AO10: =R10 -> 1058.0545 | AP10: =AD10 -> 611.74929 | AR10: =SUM(AI10,AK10,AM10,AO10) -> 2826.1432 | AS10: =SUM(AI10,AK10,AM10) -> 1768.0887 | AT10: =IF(AS10>AR10,AR10/AS10,1) -> 1 | AU10: =AI10*$AT10 -> 365.26232 | AV10: =AJ10*$AT10 -> 219.99125 | AW10: =AK10*$AT10 -> 1339.8587 | AX10: =AL10*$AT10 -> 771.77838 | AY10: =AM10*$AT10 -> 62.967715 | AZ10: =AN10*$AT10 -> 30.509443 | BA10: =IF(AO10<0,0,AO10) -> 1058.0545 | BB10: =IF(AP10<0,0,AP10) -> 611.74929
B11: 40422 | C11: =SUMIF('EMEA SAN CIOC'!$A$2:$A$409,Notes!$B11,'EMEA SAN CIOC'!$D$2:$D$409) -> 4196.882 | D11: =SUMIF('EMEA SAN CIOC'!$A$2:$A$409,Notes!$B11,'EMEA SAN CIOC'!$E$2:$E$409) -> 2871.4222 | E11: =SUMIF('EMEA SAN CIOC'!$A$2:$A$405,Notes!$B11,'EMEA SAN CIOC'!$F$2:$F$405) -> 1325.4598 | G11: =SUMIF($B$47:$B$84,$B11,$O$47:$O$84) -> 2562.2148 | K11: =SUMIF($B$47:$B$84,$B11,$C$47:$C$84) -> 463.31601 | L11: =I11+J11+K11 -> 463.31601 | M11: =SUMIF($B$47:$B$84,$B11,$D$47:$D$84)/SUMIF($B$47:$B$84,$B11,$C$47:$C$84) -> 0.57724929 | N11: =L11*M11 -> 267.44884 | P11: =D11-G11-I11-J11 -> 309.20743 | Q11: =SUMIF($B$47:$B$84,$B11,$L$47:$L$84) -> 651.49533 | R11: =P11+Q11 -> 960.70277 | S11: =SUMIF($B$47:$B$84,$B11,$M$47:$M$84)/SUMIF($B$47:$B$84,$B11,$L$47:$L$84) -> 0.52111476 | T11: =R11*S11 -> 500.63639 | V11: =IF(N11="",SUMIF($B$47:$B$84,$B11,$D$47:$D$84),N11)+SUMIF($B$47:$B$84,$B11,$G$47:$G$84)+SUMIF($B$47:$B$84,$B11,$J$47:$J$84)+IF(T11="",SUMIF($B$47:$B$84,$B11,$M$47:$M$84),T11) -> 1580.3201 | W11: =V11/D11 -> 0.55036146 | Y11: =N11 -> 267.44884 | Z11: =G55 -> 789.96526 | AA11: =J55 -> 22.269642 | AB11: =D11-R11 -> 1910.7195 | AC11: =SUM(Y11:AA11)/AB11 -> 0.56506659 | AD11: =R11*AC11 -> 542.86104 | AF11: =SUM(Y11:AA11,AD11) -> 1622.5448 | AG11: =AF11/D11 -> 0.56506659 | AI11: =L11 -> 463.31601 | AJ11: =N11 -> 267.44884 | AK11: =SUMIF($B$47:$B$84,$B11,F$47:$F$84) -> 1380.936 | AL11: =SUMIF($B$47:$B$84,$B11,$G$47:G$84) -> 789.96526 | AM11: =SUMIF($B$47:$B$84,$B11,$I$47:I$84) -> 66.467451 | AN11: =SUMIF($B$47:$B$84,$B11,$J$47:J$84) -> 22.269642 | AO11: =R11 -> 960.70277 | AP11: =AD11 -> 542.86104 | AR11: =SUM(AI11,AK11,AM11,AO11) -> 2871.4222 | AS11: =SUM(AI11,AK11,AM11) -> 1910.7195 | AT11: =IF(AS11>AR11,AR11/AS11,1) -> 1 | AU11: =AI11*$AT11 -> 463.31601 | AV11: =AJ11*$AT11 -> 267.44884 | AW11: =AK11*$AT11 -> 1380.936 | AX11: =AL11*$AT11 -> 789.96526 | AY11: =AM11*$AT11 -> 66.467451 | AZ11: =AN11*$AT11 -> 22.269642 | BA11: =IF(AO11<0,0,AO11) -> 960.70277 | BB11: =IF(AP11<0,0,AP11) -> 542.86104
B12: 40452 | C12: =SUMIF('EMEA SAN CIOC'!$A$2:$A$409,Notes!$B12,'EMEA SAN CIOC'!$D$2:$D$409) -> 4355.051 | D12: =SUMIF('EMEA SAN CIOC'!$A$2:$A$409,Notes!$B12,'EMEA SAN CIOC'!$E$2:$E$409) -> 2919.9555 | E12: =SUMIF('EMEA SAN CIOC'!$A$2:$A$405,Notes!$B12,'EMEA SAN CIOC'!$F$2:$F$405) -> 1435.0954 | G12: =SUMIF($B$47:$B$84,$B12,$O$47:$O$84) -> 2565.656 | K12: =SUMIF($B$47:$B$84,$B12,$C$47:$C$84) -> 479.19202 | L12: =I12+J12+K12 -> 479.19202 | M12: =SUMIF($B$47:$B$84,$B12,$D$47:$D$84)/SUMIF($B$47:$B$84,$B12,$C$47:$C$84) -> 0.58953728 | N12: =L12*M12 -> 282.50156 | P12: =D12-G12-I12-J12 -> 354.2995 | Q12: =SUMIF($B$47:$B$84,$B12,$L$47:$L$84) -> 614.19585 | R12: =P12+Q12 -> 968.49535 | S12: =SUMIF($B$47:$B$84,$B12,$M$47:$M$84)/SUMIF($B$47:$B$84,$B12,$L$47:$L$84) -> 0.55445552 | T12: =R12*S12 -> 536.98759 | V12: =IF(N12="",SUMIF($B$47:$B$84,$B12,$D$47:$D$84),N12)+SUMIF($B$47:$B$84,$B12,$G$47:$G$84)+SUMIF($B$47:$B$84,$B12,$J$47:$J$84)+IF(T12="",SUMIF($B$47:$B$84,$B12,$M$47:$M$84),T12) -> 1709.466 | W12: =V12/D12 -> 0.58544248 | Y12: =N12 -> 282.50156 | Z12: =G56 -> 840.53517 | AA12: =J56 -> 49.441696 | AB12: =D12-R12 -> 1951.4602 | AC12: =SUM(Y12:AA12)/AB12 -> 0.60082109 | AD12: =R12*AC12 -> 581.89243 | AF12: =SUM(Y12:AA12,AD12) -> 1754.3709 | AG12: =AF12/D12 -> 0.60082109 | AI12: =L12 -> 479.19202 | AJ12: =N12 -> 282.50156 | AK12: =SUMIF($B$47:$B$84,$B12,F$47:$F$84) -> 1395.3178 | AL12: =SUMIF($B$47:$B$84,$B12,$G$47:G$84) -> 840.53517 | AM12: =SUMIF($B$47:$B$84,$B12,$I$47:I$84) -> 76.950332 | AN12: =SUMIF($B$47:$B$84,$B12,$J$47:J$84) -> 49.441696 | AO12: =R12 -> 968.49535 | AP12: =AD12 -> 581.89243 | AR12: =SUM(AI12,AK12,AM12,AO12) -> 2919.9555 | AS12: =SUM(AI12,AK12,AM12) -> 1951.4602 | AT12: =IF(AS12>AR12,AR12/AS12,1) -> 1 | AU12: =AI12*$AT12 -> 479.19202 | AV12: =AJ12*$AT12 -> 282.50156 | AW12: =AK12*$AT12 -> 1395.3178 | AX12: =AL12*$AT12 -> 840.53517 | AY12: =AM12*$AT12 -> 76.950332 | AZ12: =AN12*$AT12 -> 49.441696 | BA12: =IF(AO12<0,0,AO12) -> 968.49535 | BB12: =IF(AP12<0,0,AP12) -> 581.89243
B13: 40483 | C13: =SUMIF('EMEA SAN CIOC'!$A$2:$A$409,Notes!$B13,'EMEA SAN CIOC'!$D$2:$D$409) -> 4307.3321 | D13: =SUMIF('EMEA SAN CIOC'!$A$2:$A$409,Notes!$B13,'EMEA SAN CIOC'!$E$2:$E$409) -> 2829.2318 | E13: =SUMIF('EMEA SAN CIOC'!$A$2:$A$405,Notes!$B13,'EMEA SAN CIOC'!$F$2:$F$405) -> 1478.1003 | G13: =SUMIF($B$47:$B$84,$B13,$O$47:$O$84) -> 1783.2727 | K13: =SUMIF($B$47:$B$84,$B13,$C$47:$C$84) -> 428.88477 | L13: =I13+J13+K13 -> 428.88477 | M13: =SUMIF($B$47:$B$84,$B13,$D$47:$D$84)/SUMIF($B$47:$B$84,$B13,$C$47:$C$84) -> 0.54487984 | N13: =L13*M13 -> 233.69066 | P13: =D13-G13-I13-J13 -> 1045.9591 | Q13: =SUMIF($B$47:$B$84,$B13,$L$47:$L$84) -> 482.90912 | R13: =P13+Q13 -> 1528.8682 | S13: =SUMIF($B$47:$B$84,$B13,$M$47:$M$84)/SUMIF($B$47:$B$84,$B13,$L$47:$L$84) -> 0.59993349 | T13: =R13*S13 -> 917.21924 | V13: =IF(N13="",SUMIF($B$47:$B$84,$B13,$D$47:$D$84),N13)+SUMIF($B$47:$B$84,$B13,$G$47:$G$84)+SUMIF($B$47:$B$84,$B13,$J$47:$J$84)+IF(T13="",SUMIF($B$47:$B$84,$B13,$M$47:$M$84),T13) -> 1660.6023 | W13: =V13/D13 -> 0.58694458 | Y13: =N13 -> 233.69066 | Z13: =G57 -> 486.00835 | AA13: =J57 -> 23.684033 | AB13: =D13-R13 -> 1300.3636 | AC13: =SUM(Y13:AA13)/AB13 -> 0.57167322 | AD13: =R13*AC13 -> 874.01302 | AF13: =SUM(Y13:AA13,AD13) -> 1617.3961 | AG13: =AF13/D13 -> 0.57167322 | AI13: =L13 -> 428.88477 | AJ13: =N13 -> 233.69066 | AK13: =SUMIF($B$47:$B$84,$B13,F$47:$F$84) -> 824.15246 | AL13: =SUMIF($B$47:$B$84,$B13,$G$47:G$84) -> 486.00835 | AM13: =SUMIF($B$47:$B$84,$B13,$I$47:I$84) -> 47.326379 | AN13: =SUMIF($B$47:$B$84,$B13,$J$47:J$84) -> 23.684033 | AO13: =R13 -> 1528.8682 | AP13: =AD13 -> 874.01302 | AR13: =SUM(AI13,AK13,AM13,AO13) -> 2829.2318 | AS13: =SUM(AI13,AK13,AM13) -> 1300.3636 | AT13: =IF(AS13>AR13,AR13/AS13,1) -> 1 | AU13: =AI13*$AT13 -> 428.88477 | AV13: =AJ13*$AT13 -> 233.69066 | AW13: =AK13*$AT13 -> 824.15246 | AX13: =AL13*$AT13 -> 486.00835 | AY13: =AM13*$AT13 -> 47.326379 | AZ13: =AN13*$AT13 -> 23.684033 | BA13: =IF(AO13<0,0,AO13) -> 1528.8682 | BB13: =IF(AP13<0,0,AP13) -> 874.01302
B14: 40513 | C14: =SUMIF('EMEA SAN CIOC'!$A$2:$A$409,Notes!$B14,'EMEA SAN CIOC'!$D$2:$D$409) -> 4328.2527 | D14: =SUMIF('EMEA SAN CIOC'!$A$2:$A$409,Notes!$B14,'EMEA SAN CIOC'!$E$2:$E$409) -> 2997.7959 | E14: =SUMIF('EMEA SAN CIOC'!$A$2:$A$405,Notes!$B14,'EMEA SAN CIOC'!$F$2:$F$405) -> 1330.4568 | G14: =SUMIF($B$47:$B$84,$B14,$O$47:$O$84) -> 1879.4447 | K14: =SUMIF($B$47:$B$84,$B14,$C$47:$C$84) -> 488.23855 | L14: =I14+J14+K14 -> 488.23855 | M14: =SUMIF($B$47:$B$84,$B14,$D$47:$D$84)/SUMIF($B$47:$B$84,$B14,$C$47:$C$84) -> 0.54952755 | N14: =L14*M14 -> 268.30054 | P14: =D14-G14-I14-J14 -> 1118.3512 | Q14: =SUMIF($B$47:$B$84,$B14,$L$47:$L$84) -> 444.26937 | R14: =P14+Q14 -> 1562.6206 | S14: =SUMIF($B$47:$B$84,$B14,$M$47:$M$84)/SUMIF($B$47:$B$84,$B14,$L$47:$L$84) -> 0.58274689 | T14: =R14*S14 -> 910.61228 | V14: =IF(N14="",SUMIF($B$47:$B$84,$B14,$D$47:$D$84),N14)+SUMIF($B$47:$B$84,$B14,$G$47:$G$84)+SUMIF($B$47:$B$84,$B14,$J$47:$J$84)+IF(T14="",SUMIF($B$47:$B$84,$B14,$M$47:$M$84),T14) -> 1692.0745 | W14: =V14/D14 -> 0.56443952 | Y14: =N14 -> 268.30054 | Z14: =G58 -> 444.72973 | AA14: =J58 -> 68.431953 | AB14: =D14-R14 -> 1435.1753 | AC14: =SUM(Y14:AA14)/AB14 -> 0.54450645 | AD14: =R14*AC14 -> 850.85698 | AF14: =SUM(Y14:AA14,AD14) -> 1632.3192 | AG14: =AF14/D14 -> 0.54450645 | AI14: =L14 -> 488.23855 | AJ14: =N14 -> 268.30054 | AK14: =SUMIF($B$47:$B$84,$B14,F$47:$F$84) -> 818.62967 | AL14: =SUMIF($B$47:$B$84,$B14,$G$47:G$84) -> 444.72973 | AM14: =SUMIF($B$47:$B$84,$B14,$I$47:I$84) -> 128.30711 | AN14: =SUMIF($B$47:$B$84,$B14,$J$47:J$84) -> 68.431953 | AO14: =R14 -> 1562.6206 | AP14: =AD14 -> 850.85698 | AR14: =SUM(AI14,AK14,AM14,AO14) -> 2997.7959 | AS14: =SUM(AI14,AK14,AM14) -> 1435.1753 | AT14: =IF(AS14>AR14,AR14/AS14,1) -> 1 | AU14: =AI14*$AT14 -> 488.23855 | AV14: =AJ14*$AT14 -> 268.30054 | AW14: =AK14*$AT14 -> 818.62967 | AX14: =AL14*$AT14 -> 444.72973 | AY14: =AM14*$AT14 -> 128.30711 | AZ14: =AN14*$AT14 -> 68.431953 | BA14: =IF(AO14<0,0,AO14) -> 1562.6206 | BB14: =IF(AP14<0,0,AP14) -> 850.85698
... B17: 40603 | C17: =SUMIF('EMEA SAN CIOC'!$A$2:$A$409,Notes!$B17,'EMEA SAN CIOC'!$D$2:$D$409) -> 4687.8827 | D17: =SUMIF('EMEA SAN CIOC'!$A$2:$A$409,Notes!$B17,'EMEA SAN CIOC'!$E$2:$E$409) -> 3336.491 | E17: =SUMIF('EMEA SAN CIOC'!$A$2:$A$405,Notes!$B17,'EMEA SAN CIOC'!$F$2:$F$405) -> 1351.3917 | G17: =SUMIF($B$47:$B$84,$B17,$O$47:$O$84) -> 1909.1892 | K17: =SUMIF($B$47:$B$84,$B17,$C$47:$C$84) -> 471.06486 | L17: =I17+J17+K17 -> 471.06486 | M17: =SUMIF($B$47:$B$84,$B17,$D$47:$D$84)/SUMIF($B$47:$B$84,$B17,$C$47:$C$84) -> 0.56254979 | N17: =L17*M17 -> 264.99744 | P17: =D17-G17-I17-J17 -> 1427.3018 | Q17: =SUMIF($B$47:$B$84,$B17,$L$47:$L$84) -> 453.22155 | R17: =P17+Q17 -> 1880.5234 | S17: =SUMIF($B$47:$B$84,$B17,$M$47:$M$84)/SUMIF($B$47:$B$84,$B17,$L$47:$L$84) -> 0.53990018 | T17: =R17*S17 -> 1015.2949 | V17: =IF(N17="",SUMIF($B$47:$B$84,$B17,$D$47:$D$84),N17)+SUMIF($B$47:$B$84,$B17,$G$47:$G$84)+SUMIF($B$47:$B$84,$B17,$J$47:$J$84)+IF(T17="",SUMIF($B$47:$B$84,$B17,$M$47:$M$84),T17) -> 1854.3175 | W17: =V17/D17 -> 0.55576876 | Y17: =N17 -> 264.99744 | Z17: =G61 -> 475.08405 | AA17: =J61 -> 98.941093 | AB17: =D17-R17 -> 1455.9677 | AC17: =SUM(Y17:AA17)/AB17 -> 0.57626458 | AD17: =R17*AC17 -> 1083.679 | AF17: =SUM(Y17:AA17,AD17) -> 1922.7016 | AG17: =AF17/D17 -> 0.57626458 | AI17: =L17 -> 471.06486 | AJ17: =N17 -> 264.99744 | AK17: =SUMIF($B$47:$B$84,$B17,F$47:$F$84) -> 845.4072 | AL17: =SUMIF($B$47:$B$84,$B17,$G$47:G$84) -> 475.08405 | AM17: =SUMIF($B$47:$B$84,$B17,$I$47:I$84) -> 139.4956 | AN17: =SUMIF($B$47:$B$84,$B17,$J$47:J$84) -> 98.941093 | AO17: =R17 -> 1880.5234 | AP17: =AD17 -> 1083.679 | AR17: =SUM(AI17,AK17,AM17,AO17) -> 3336.491 | AS17: =SUM(AI17,AK17,AM17) -> 1455.9677 | AT17: =IF(AS17>AR17,AR17/AS17,1) -> 1 | AU17: =AI17*$AT17 -> 471.06486 | AV17: =AJ17*$AT17 -> 264.99744 | AW17: =AK17*$AT17 -> 845.4072 | AX17: =AL17*$AT17 -> 475.08405 | AY17: =AM17*$AT17 -> 139.4956 | AZ17: =AN17*$AT17 -> 98.941093 | BA17: =IF(AO17<0,0,AO17) -> 1880.5234 | BB17: =IF(AP17<0,0,AP17) -> 1083.679
B18: 40634 | C18: =SUMIF('EMEA SAN CIOC'!$A$2:$A$409,Notes!$B18,'EMEA SAN CIOC'!$D$2:$D$409) -> 4687.8827 | D18: =SUMIF('EMEA SAN CIOC'!$A$2:$A$409,Notes!$B18,'EMEA SAN CIOC'!$E$2:$E$409) -> 3348.4784 | E18: =SUMIF('EMEA SAN CIOC'!$A$2:$A$405,Notes!$B18,'EMEA SAN CIOC'!$F$2:$F$405) -> 1339.4043 | G18: =SUMIF($B$47:$B$84,$B18,$O$47:$O$84) -> 1875.8538 | I18: 322.43837 | J18: 419.41598 | K18: =SUMIF($B$47:$B$84,$B18,$C$47:$C$84) -> 459.37568 | L18: =I18+J18+K18 -> 1201.23 | M18: =SUMIF($B$47:$B$84,$B18,$D$47:$D$84)/SUMIF($B$47:$B$84,$B18,$C$47:$C$84) -> 0.57410529 | N18: =L18*M18 -> 689.63252 | P18: =D18-G18-I18-J18 -> 730.77023 | Q18: =SUMIF($B$47:$B$84,$B18,$L$47:$L$84) -> 449.89857 | R18: =P18+Q18 -> 1180.6688 | S18: =SUMIF($B$47:$B$84,$B18,$M$47:$M$84)/SUMIF($B$47:$B$84,$B18,$L$47:$L$84) -> 0.57826074 | T18: =R18*S18 -> 682.73442 | V18: =IF(N18="",SUMIF($B$47:$B$84,$B18,$D$47:$D$84),N18)+SUMIF($B$47:$B$84,$B18,$G$47:$G$84)+SUMIF($B$47:$B$84,$B18,$J$47:$J$84)+IF(T18="",SUMIF($B$47:$B$84,$B18,$M$47:$M$84),T18) -> 1929.4318 | W18: =V18/D18 -> 0.57621151 | Y18: =N18 -> 689.63252 | Z18: =G62 -> 456.218 | AA18: =J62 -> 100.84685 | AB18: =D18-R18 -> 2167.8096 | AC18: =SUM(Y18:AA18)/AB18 -> 0.57509543 | AD18: =R18*AC18 -> 678.99723 | AF18: =SUM(Y18:AA18,AD18) -> 1925.6946 | AG18: =AF18/D18 -> 0.57509543 | AI18: =L18 -> 1201.23 | AJ18: =N18 -> 689.63252 | AK18: =SUMIF($B$47:$B$84,$B18,F$47:$F$84) -> 827.08393 | AL18: =SUMIF($B$47:$B$84,$B18,$G$47:G$84) -> 456.218 | AM18: =SUMIF($B$47:$B$84,$B18,$I$47:I$84) -> 139.4956 | AN18: =SUMIF($B$47:$B$84,$B18,$J$47:J$84) -> 100.84685 | AO18: =R18 -> 1180.6688 | AP18: =AD18 -> 678.99723 | AR18: =SUM(AI18,AK18,AM18,AO18) -> 3348.4784 | AS18: =SUM(AI18,AK18,AM18) -> 2167.8096 | AT18: =IF(AS18>AR18,AR18/AS18,1) -> 1 | AU18: =AI18*$AT18 -> 1201.23 | AV18: =AJ18*$AT18 -> 689.63252 | AW18: =AK18*$AT18 -> 827.08393 | AX18: =AL18*$AT18 -> 456.218 | AY18: =AM18*$AT18 -> 139.4956 | AZ18: =AN18*$AT18 -> 100.84685 | BA18: =IF(AO18<0,0,AO18) -> 1180.6688 | BB18: =IF(AP18<0,0,AP18) -> 678.99723
B19: 40664 | C19: =SUMIF('EMEA SAN CIOC'!$A$2:$A$409,Notes!$B19,'EMEA SAN CIOC'!$D$2:$D$409) -> 4687.8827 | D19: =SUMIF('EMEA SAN CIOC'!$A$2:$A$409,Notes!$B19,'EMEA SAN CIOC'!$E$2:$E$409) -> 3465.397 | E19: =SUMIF('EMEA SAN CIOC'!$A$2:$A$405,Notes!$B19,'EMEA SAN CIOC'!$F$2:$F$405) -> 1222.4857 | G19: =SUMIF($B$47:$B$84,$B19,$O$47:$O$84) -> 2513.9487 | J19: 433.53301 | K19: =SUMIF($B$47:$B$84,$B19,$C$47:$C$84) -> 1247.3736 | L19: =I19+J19+K19 -> 1680.9067 | M19: =SUMIF($B$47:$B$84,$B19,$D$47:$D$84)/SUMIF($B$47:$B$84,$B19,$C$47:$C$84) -> 0.51993276 | N19: =L19*M19 -> 873.95843 | P19: =D19-G19-I19-J19 -> 517.91534 | Q19: =SUMIF($B$47:$B$84,$B19,$L$47:$L$84) -> 64.526553 | R19: =P19+Q19 -> 582.44189 | S19: =SUMIF($B$47:$B$84,$B19,$M$47:$M$84)/SUMIF($B$47:$B$84,$B19,$L$47:$L$84) -> 0.40428105 | T19: =R19*S19 -> 235.47022 | V19: =IF(N19="",SUMIF($B$47:$B$84,$B19,$D$47:$D$84),N19)+SUMIF($B$47:$B$84,$B19,$G$47:$G$84)+SUMIF($B$47:$B$84,$B19,$J$47:$J$84)+IF(T19="",SUMIF($B$47:$B$84,$B19,$M$47:$M$84),T19) -> 1765.3523 | W19: =V19/D19 -> 0.50942282 | Y19: =N19 -> 873.95843 | Z19: =G63 -> 546.18482 | AA19: =J63 -> 109.73886 | AB19: =D19-R19 -> 2882.9551 | AC19: =SUM(Y19:AA19)/AB19 -> 0.53066456 | AD19: =R19*AC19 -> 309.08127 | AF19: =SUM(Y19:AA19,AD19) -> 1838.9634 | AG19: =AF19/D19 -> 0.53066456 | AI19: =L19 -> 1680.9067 | AJ19: =N19 -> 873.95843 | AK19: =SUMIF($B$47:$B$84,$B19,F$47:$F$84) -> 1006.2263 | AL19: =SUMIF($B$47:$B$84,$B19,$G$47:G$84) -> 546.18482 | AM19: =SUMIF($B$47:$B$84,$B19,$I$47:I$84) -> 195.82217 | AN19: =SUMIF($B$47:$B$84,$B19,$J$47:J$84) -> 109.73886 | AO19: =R19 -> 582.44189 | AP19: =AD19 -> 309.08127 | AR19: =SUM(AI19,AK19,AM19,AO19) -> 3465.397 | AS19: =SUM(AI19,AK19,AM19) -> 2882.9551 | AT19: =IF(AS19>AR19,AR19/AS19,1) -> 1 | AU19: =AI19*$AT19 -> 1680.9067 | AV19: =AJ19*$AT19 -> 873.95843 | AW19: =AK19*$AT19 -> 1006.2263 | AX19: =AL19*$AT19 -> 546.18482 | AY19: =AM19*$AT19 -> 195.82217 | AZ19: =AN19*$AT19 -> 109.73886 | BA19: =IF(AO19<0,0,AO19) -> 582.44189 | BB19: =IF(AP19<0,0,AP19) -> 309.08127
B20: 40695 | C20: =SUMIF('EMEA SAN CIOC'!$A$2:$A$409,Notes!$B20,'EMEA SAN CIOC'!$D$2:$D$409) -> 4328.5625 | D20: =SUMIF('EMEA SAN CIOC'!$A$2:$A$409,Notes!$B20,'EMEA SAN CIOC'!$E$2:$E$409) -> 3371.2084 | E20: =SUMIF('EMEA SAN CIOC'!$A$2:$A$405,Notes!$B20,'EMEA SAN CIOC'!$F$2:$F$405) -> 957.35404 | G20: =SUMIF($B$47:$B$84,$B20,$O$47:$O$84) -> 2046.8996 | I20: 328.27431 | J20: 446.46311 | K20: =SUMIF($B$47:$B$84,$B20,$C$47:$C$84) -> 824.19098 | L20: =I20+J20+K20 -> 1598.9284 | M20: =SUMIF($B$47:$B$84,$B20,$D$47:$D$84)/SUMIF($B$47:$B$84,$B20,$C$47:$C$84) -> 0.57150705 | N20: =L20*M20 -> 913.79884 | P20: =D20-G20-I20-J20 -> 549.57139 | Q20: =SUMIF($B$47:$B$84,$B20,$L$47:$L$84) -> 115.7548 | R20: =P20+Q20 -> 665.3262 | S20: =SUMIF($B$47:$B$84,$B20,$M$47:$M$84)/SUMIF($B$47:$B$84,$B20,$L$47:$L$84) -> 0 | T20: =R20*S20 -> 0 | V20: =IF(N20="",SUMIF($B$47:$B$84,$B20,$D$47:$D$84),N20)+SUMIF($B$47:$B$84,$B20,$G$47:$G$84)+SUMIF($B$47:$B$84,$B20,$J$47:$J$84)+IF(T20="",SUMIF($B$47:$B$84,$B20,$M$47:$M$84),T20) -> 1487.3045 | W20: =V20/D20 -> 0.44117846 | Y20: =N20 -> 913.79884 | Z20: =G64 -> 489.96887 | AA20: =J64 -> 83.536829 | AB20: =D20-R20 -> 2705.8822 | AC20: =SUM(Y20:AA20)/AB20 -> 0.54965605 | AD20: =R20*AC20 -> 365.70057 | AF20: =SUM(Y20:AA20,AD20) -> 1853.0051 | AG20: =AF20/D20 -> 0.54965605 | AI20: =L20 -> 1598.9284 | AJ20: =N20 -> 913.79884 | AK20: =SUMIF($B$47:$B$84,$B20,F$47:$F$84) -> 904.84869 | AL20: =SUMIF($B$47:$B$84,$B20,$G$47:G$84) -> 489.96887 | AM20: =SUMIF($B$47:$B$84,$B20,$I$47:I$84) -> 202.10515 | AN20: =SUMIF($B$47:$B$84,$B20,$J$47:J$84) -> 83.536829 | AO20: =R20 -> 665.3262 | AP20: =AD20 -> 365.70057 | AR20: =SUM(AI20,AK20,AM20,AO20) -> 3371.2084 | AS20: =SUM(AI20,AK20,AM20) -> 2705.8822 | AT20: =IF(AS20>AR20,AR20/AS20,1) -> 1 | AU20: =AI20*$AT20 -> 1598.9284 | AV20: =AJ20*$AT20 -> 913.79884 | AW20: =AK20*$AT20 -> 904.84869 | AX20: =AL20*$AT20 -> 489.96887 | AY20: =AM20*$AT20 -> 202.10515 | AZ20: =AN20*$AT20 -> 83.536829 | BA20: =IF(AO20<0,0,AO20) -> 665.3262 | BB20: =IF(AP20<0,0,AP20) -> 365.70057
B21: 40725 | C21: =SUMIF('EMEA SAN CIOC'!$A$2:$A$409,Notes!$B21,'EMEA SAN CIOC'!$D$2:$D$409) -> 4328.5625 | D21: =SUMIF('EMEA SAN CIOC'!$A$2:$A$409,Notes!$B21,'EMEA SAN CIOC'!$E$2:$E$409) -> 3449.5299 | E21: =SUMIF('EMEA SAN CIOC'!$A$2:$A$405,Notes!$B21,'EMEA SAN CIOC'!$F$2:$F$405) -> 879.03258 | G21: =SUMIF($B$47:$B$84,$B21,$O$47:$O$84) -> 2043.4417 | I21: 328.27431 | J21: 450.07796 | K21: =SUMIF($B$47:$B$84,$B21,$C$47:$C$84) -> 827.01114 | L21: =I21+J21+K21 -> 1605.3634 | M21: =SUMIF($B$47:$B$84,$B21,$D$47:$D$84)/SUMIF($B$47:$B$84,$B21,$C$47:$C$84) -> 0.65431034 | N21: =L21*M21 -> 1050.4059 | P21: =D21-G21-I21-J21 -> 627.73594 | Q21: =SUMIF($B$47:$B$84,$B21,$L$47:$L$84) -> 116.34749 | R21: =P21+Q21 -> 744.08343 | S21: =SUMIF($B$47:$B$84,$B21,$M$47:$M$84)/SUMIF($B$47:$B$84,$B21,$L$47:$L$84) -> 0 | T21: =R21*S21 -> 0 | V21: =IF(N21="",SUMIF($B$47:$B$84,$B21,$D$47:$D$84),N21)+SUMIF($B$47:$B$84,$B21,$G$47:$G$84)+SUMIF($B$47:$B$84,$B21,$J$47:$J$84)+IF(T21="",SUMIF($B$47:$B$84,$B21,$M$47:$M$84),T21) -> 1709.1953 | W21: =V21/D21 -> 0.49548644 | Y21: =N21 -> 1050.4059 | Z21: =G65 -> 558.44741 | AA21: =J65 -> 100.34199 | AB21: =D21-R21 -> 2705.4465 | AC21: =SUM(Y21:AA21)/AB21 -> 0.6317609 | AD21: =R21*AC21 -> 470.08281 | AF21: =SUM(Y21:AA21,AD21) -> 2179.2781 | AG21: =AF21/D21 -> 0.6317609 | AI21: =L21 -> 1605.3634 | AJ21: =N21 -> 1050.4059 | AK21: =SUMIF($B$47:$B$84,$B21,F$47:$F$84) -> 904.77343 | AL21: =SUMIF($B$47:$B$84,$B21,$G$47:G$84) -> 558.44741 | AM21: =SUMIF($B$47:$B$84,$B21,$I$47:I$84) -> 195.30962 | AN21: =SUMIF($B$47:$B$84,$B21,$J$47:J$84) -> 100.34199 | AO21: =R21 -> 744.08343 | AP21: =AD21 -> 470.08281 | AR21: =SUM(AI21,AK21,AM21,AO21) -> 3449.5299 | AS21: =SUM(AI21,AK21,AM21) -> 2705.4465 | AT21: =IF(AS21>AR21,AR21/AS21,1) -> 1 | AU21: =AI21*$AT21 -> 1605.3634 | AV21: =AJ21*$AT21 -> 1050.4059 | AW21: =AK21*$AT21 -> 904.77343 | AX21: =AL21*$AT21 -> 558.44741 | AY21: =AM21*$AT21 -> 195.30962 | AZ21: =AN21*$AT21 -> 100.34199 | BA21: =IF(AO21<0,0,AO21) -> 744.08343 | BB21: =IF(AP21<0,0,AP21) -> 470.08281
B22: 40756 | C22: =SUMIF('EMEA SAN CIOC'!$A$2:$A$409,Notes!$B22,'EMEA SAN CIOC'!$D$2:$D$409) -> 4541.9839 | D22: =SUMIF('EMEA SAN CIOC'!$A$2:$A$409,Notes!$B22,'EMEA SAN CIOC'!$E$2:$E$409) -> 3483.4535 | E22: =SUMIF('EMEA SAN CIOC'!$A$2:$A$405,Notes!$B22,'EMEA SAN CIOC'!$F$2:$F$405) -> 1058.5304 | G22: =SUMIF($B$47:$B$84,$B22,$O$47:$O$84) -> 2039.7499 | I22: 336.06821 | J22: 473.50972 | K22: =SUMIF($B$47:$B$84,$B22,$C$47:$C$84) -> 812.94925 | L22: =I22+J22+K22 -> 1622.5272 | M22: =SUMIF($B$47:$B$84,$B22,$D$47:$D$84)/SUMIF($B$47:$B$84,$B22,$C$47:$C$84) -> 0.63095887 | N22: =L22*M22 -> 1023.7479 | P22: =D22-G22-I22-J22 -> 634.12563 | Q22: =SUMIF($B$47:$B$84,$B22,$L$47:$L$84) -> 118.97589 | R22: =P22+Q22 -> 753.10152 | S22: =SUMIF($B$47:$B$84,$B22,$M$47:$M$84)/SUMIF($B$47:$B$84,$B22,$L$47:$L$84) -> 0 | T22: =R22*S22 -> 0 | V22: =IF(N22="",SUMIF($B$47:$B$84,$B22,$D$47:$D$84),N22)+SUMIF($B$47:$B$84,$B22,$G$47:$G$84)+SUMIF($B$47:$B$84,$B22,$J$47:$J$84)+IF(T22="",SUMIF($B$47:$B$84,$B22,$M$47:$M$84),T22) -> 1709.9928 | W22: =V22/D22 -> 0.49089008 | Y22: =N22 -> 1023.7479 | Z22: =G66 -> 590.72326 | AA22: =J66 -> 95.52159 | AB22: =D22-R22 -> 2730.352 | AC22: =SUM(Y22:AA22)/AB22 -> 0.62629023 | AD22: =R22*AC22 -> 471.66013 | AF22: =SUM(Y22:AA22,AD22) -> 2181.6529 | AG22: =AF22/D22 -> 0.62629023 | AI22: =L22 -> 1622.5272 | AJ22: =N22 -> 1023.7479 | AK22: =SUMIF($B$47:$B$84,$B22,F$47:$F$84) -> 923.66816 | AL22: =SUMIF($B$47:$B$84,$B22,$G$47:G$84) -> 590.72326 | AM22: =SUMIF($B$47:$B$84,$B22,$I$47:I$84) -> 184.15664 | AN22: =SUMIF($B$47:$B$84,$B22,$J$47:J$84) -> 95.52159 | AO22: =R22 -> 753.10152 | AP22: =AD22 -> 471.66013 | AR22: =SUM(AI22,AK22,AM22,AO22) -> 3483.4535 | AS22: =SUM(AI22,AK22,AM22) -> 2730.352 | AT22: =IF(AS22>AR22,AR22/AS22,1) -> 1 | AU22: =AI22*$AT22 -> 1622.5272 | AV22: =AJ22*$AT22 -> 1023.7479 | AW22: =AK22*$AT22 -> 923.66816 | AX22: =AL22*$AT22 -> 590.72326 | AY22: =AM22*$AT22 -> 184.15664 | AZ22: =AN22*$AT22 -> 95.52159 | BA22: =IF(AO22<0,0,AO22) -> 753.10152 | BB22: =IF(AP22<0,0,AP22) -> 471.66013
B23: 40787 | C23: =SUMIF('EMEA SAN CIOC'!$A$2:$A$409,Notes!$B23,'EMEA SAN CIOC'!$D$2:$D$409) -> 4688.3466 | D23: =SUMIF('EMEA SAN CIOC'!$A$2:$A$409,Notes!$B23,'EMEA SAN CIOC'!$E$2:$E$409) -> 3554.8999 | E23: =SUMIF('EMEA SAN CIOC'!$A$2:$A$405,Notes!$B23,'EMEA SAN CIOC'!$F$2:$F$405) -> 1133.4467 | G23: =SUMIF($B$47:$B$84,$B23,$O$47:$O$84) -> 2393.1487 | I23: 335.51668 | J23: 488.22186 | K23: =SUMIF($B$47:$B$84,$B23,$C$47:$C$84) -> 1055.8452 | L23: =I23+J23+K23 -> 1879.5837 | M23: =SUMIF($B$47:$B$84,$B23,$D$47:$D$84)/SUMIF($B$47:$B$84,$B23,$C$47:$C$84) -> 0.57207506 | N23: =L23*M23 -> 1075.263 | P23: =D23-G23-I23-J23 -> 338.01273 | Q23: =SUMIF($B$47:$B$84,$B23,$L$47:$L$84) -> 126.97957 | R23: =P23+Q23 -> 464.9923 | S23: =SUMIF($B$47:$B$84,$B23,$M$47:$M$84)/SUMIF($B$47:$B$84,$B23,$L$47:$L$84) -> 0.60044448 | T23: =R23*S23 -> 279.20206 | V23: =IF(N23="",SUMIF($B$47:$B$84,$B23,$D$47:$D$84),N23)+SUMIF($B$47:$B$84,$B23,$G$47:$G$84)+SUMIF($B$47:$B$84,$B23,$J$47:$J$84)+IF(T23="",SUMIF($B$47:$B$84,$B23,$M$47:$M$84),T23) -> 2109.0012 | W23: =V23/D23 -> 0.59326599 | Y23: =N23 -> 1075.263 | Z23: =G67 -> 611.33534 | AA23: =J67 -> 143.20087 | AB23: =D23-R23 -> 3089.9076 | AC23: =SUM(Y23:AA23)/AB23 -> 0.59218572 | AD23: =R23*AC23 -> 275.3618 | AF23: =SUM(Y23:AA23,AD23) -> 2105.161 | AG23: =AF23/D23 -> 0.59218572 | AI23: =L23 -> 1879.5837 | AJ23: =N23 -> 1075.263 | AK23: =SUMIF($B$47:$B$84,$B23,F$47:$F$84) -> 1016.2134 | AL23: =SUMIF($B$47:$B$84,$B23,$G$47:G$84) -> 611.33534 | AM23: =SUMIF($B$47:$B$84,$B23,$I$47:I$84) -> 194.11056 | AN23: =SUMIF($B$47:$B$84,$B23,$J$47:J$84) -> 143.20087 | AO23: =R23 -> 464.9923 | AP23: =AD23 -> 275.3618 | AR23: =SUM(AI23,AK23,AM23,AO23) -> 3554.8999 | AS23: =SUM(AI23,AK23,AM23) -> 3089.9076 | AT23: =IF(AS23>AR23,AR23/AS23,1) -> 1 | AU23: =AI23*$AT23 -> 1879.5837 | AV23: =AJ23*$AT23 -> 1075.263 | AW23: =AK23*$AT23 -> 1016.2134 | AX23: =AL23*$AT23 -> 611.33534 | AY23: =AM23*$AT23 -> 194.11056 | AZ23: =AN23*$AT23 -> 143.20087 | BA23: =IF(AO23<0,0,AO23) -> 464.9923 | BB23: =IF(AP23<0,0,AP23) -> 275.3618
B24: 40817 | C24: =SUMIF('EMEA SAN CIOC'!$A$2:$A$409,Notes!$B24,'EMEA SAN CIOC'!$D$2:$D$409) -> 4936.3026 | D24: =SUMIF('EMEA SAN CIOC'!$A$2:$A$409,Notes!$B24,'EMEA SAN CIOC'!$E$2:$E$409) -> 3639.7397 | E24: =SUMIF('EMEA SAN CIOC'!$A$2:$A$405,Notes!$B24,'EMEA SAN CIOC'!$F$2:$F$405) -> 1296.5629 | G24: =SUMIF($B$47:$B$84,$B24,$O$47:$O$84) -> 2755.6954 | I24: 335.51668 | J24: 488.22186 | K24: =SUMIF($B$47:$B$84,$B24,$C$47:$C$84) -> 1260.8713 | L24: =I24+J24+K24 -> 2084.6098 | M24: =SUMIF($B$47:$B$84,$B24,$D$47:$D$84)/SUMIF($B$47:$B$84,$B24,$C$47:$C$84) -> 0.54026775 | N24: =L24*M24 -> 1126.2475 | P24: =D24-G24-I24-J24 -> 60.305749 | Q24: =SUMIF($B$47:$B$84,$B24,$L$47:$L$84) -> 225.03929 | R24: =P24+Q24 -> 285.34504 | S24: =SUMIF($B$47:$B$84,$B24,$M$47:$M$84)/SUMIF($B$47:$B$84,$B24,$L$47:$L$84) -> 0.5986491 | T24: =R24*S24 -> 170.82155 | V24: =IF(N24="",SUMIF($B$47:$B$84,$B24,$D$47:$D$84),N24)+SUMIF($B$47:$B$84,$B24,$G$47:$G$84)+SUMIF($B$47:$B$84,$B24,$J$47:$J$84)+IF(T24="",SUMIF($B$47:$B$84,$B24,$M$47:$M$84),T24) -> 2197.9598 | W24: =V24/D24 -> 0.60387831 | Y24: =N24 -> 1126.2475 | Z24: =G68 -> 808.04074 | AA24: =J68 -> 92.850109 | AB24: =D24-R24 -> 3354.3946 | AC24: =SUM(Y24:AA24)/AB24 -> 0.60432314 | AD24: =R24*AC24 -> 172.44061 | AF24: =SUM(Y24:AA24,AD24) -> 2199.5789 | AG24: =AF24/D24 -> 0.60432314 | AI24: =L24 -> 2084.6098 | AJ24: =N24 -> 1126.2475 | AK24: =SUMIF($B$47:$B$84,$B24,F$47:$F$84) -> 1142.0592 | AL24: =SUMIF($B$47:$B$84,$B24,$G$47:G$84) -> 808.04074 | AM24: =SUMIF($B$47:$B$84,$B24,$I$47:I$84) -> 127.7256 | AN24: =SUMIF($B$47:$B$84,$B24,$J$47:J$84) -> 92.850109 | AO24: =R24 -> 285.34504 | AP24: =AD24 -> 172.44061 | AR24: =SUM(AI24,AK24,AM24,AO24) -> 3639.7397 | AS24: =SUM(AI24,AK24,AM24) -> 3354.3946 | AT24: =IF(AS24>AR24,AR24/AS24,1) -> 1 | AU24: =AI24*$AT24 -> 2084.6098 | AV24: =AJ24*$AT24 -> 1126.2475 | AW24: =AK24*$AT24 -> 1142.0592 | AX24: =AL24*$AT24 -> 808.04074 | AY24: =AM24*$AT24 -> 127.7256 | AZ24: =AN24*$AT24 -> 92.850109 | BA24: =IF(AO24<0,0,AO24) -> 285.34504 | BB24: =IF(AP24<0,0,AP24) -> 172.44061
B25: 40848 | C25: =SUMIF('EMEA SAN CIOC'!$A$2:$A$409,Notes!$B25,'EMEA SAN CIOC'!$D$2:$D$409) -> 4936.3026 | D25: =SUMIF('EMEA SAN CIOC'!$A$2:$A$409,Notes!$B25,'EMEA SAN CIOC'!$E$2:$E$409) -> 3674.6326 | E25: =SUMIF('EMEA SAN CIOC'!$A$2:$A$405,Notes!$B25,'EMEA SAN CIOC'!$F$2:$F$405) -> 1261.67 | G25: =SUMIF($B$47:$B$84,$B25,$O$47:$O$84) -> 2820.7635 | I25: 335.77849 | J25: 488.22186 | K25: =SUMIF($B$47:$B$84,$B25,$C$47:$C$84) -> 1226.8868 | L25: =I25+J25+K25 -> 2050.8871 | M25: =SUMIF($B$47:$B$84,$B25,$D$47:$D$84)/SUMIF($B$47:$B$84,$B25,$C$47:$C$84) -> 0.58487143 | N25: =L25*M25 -> 1199.5053 | P25: =D25-G25-I25-J25 -> 29.868781 | Q25: =SUMIF($B$47:$B$84,$B25,$L$47:$L$84) -> 236.41421 | R25: =P25+Q25 -> 266.28299 | S25: =SUMIF($B$47:$B$84,$B25,$M$47:$M$84)/SUMIF($B$47:$B$84,$B25,$L$47:$L$84) -> 0.68840588 | T25: =R25*S25 -> 183.31078 | V25: =IF(N25="",SUMIF($B$47:$B$84,$B25,$D$47:$D$84),N25)+SUMIF($B$47:$B$84,$B25,$G$47:$G$84)+SUMIF($B$47:$B$84,$B25,$J$47:$J$84)+IF(T25="",SUMIF($B$47:$B$84,$B25,$M$47:$M$84),T25) -> 2395.3351 | W25: =V25/D25 -> 0.65185704 | Y25: =N25 -> 1199.5053 | Z25: =G69 -> 917.84661 | AA25: =J69 -> 94.672479 | AB25: =D25-R25 -> 3408.3496 | AC25: =SUM(Y25:AA25)/AB25 -> 0.6490016 | AD25: =R25*AC25 -> 172.81809 | AF25: =SUM(Y25:AA25,AD25) -> 2384.8424 | AG25: =AF25/D25 -> 0.6490016 | AI25: =L25 -> 2050.8871 | AJ25: =N25 -> 1199.5053 | AK25: =SUMIF($B$47:$B$84,$B25,F$47:$F$84) -> 1217.8177 | AL25: =SUMIF($B$47:$B$84,$B25,$G$47:G$84) -> 917.84661 | AM25: =SUMIF($B$47:$B$84,$B25,$I$47:I$84) -> 139.64477 | AN25: =SUMIF($B$47:$B$84,$B25,$J$47:J$84) -> 94.672479 | AO25: =R25 -> 266.28299 | AP25: =AD25 -> 172.81809 | AR25: =SUM(AI25,AK25,AM25,AO25) -> 3674.6326 | AS25: =SUM(AI25,AK25,AM25) -> 3408.3496 | AT25: =IF(AS25>AR25,AR25/AS25,1) -> 1 | AU25: =AI25*$AT25 -> 2050.8871 | AV25: =AJ25*$AT25 -> 1199.5053 | AW25: =AK25*$AT25 -> 1217.8177 | AX25: =AL25*$AT25 -> 917.84661 | AY25: =AM25*$AT25 -> 139.64477 | AZ25: =AN25*$AT25 -> 94.672479 | BA25: =IF(AO25<0,0,AO25) -> 266.28299 | BB25: =IF(AP25<0,0,AP25) -> 172.81809
B26: 40878 | C26: =SUMIF('EMEA SAN CIOC'!$A$2:$A$409,Notes!$B26,'EMEA SAN CIOC'!$D$2:$D$409) -> 4716.8634 | D26: =SUMIF('EMEA SAN CIOC'!$A$2:$A$409,Notes!$B26,'EMEA SAN CIOC'!$E$2:$E$409) -> 3705.5289 | E26: =SUMIF('EMEA SAN CIOC'!$A$2:$A$405,Notes!$B26,'EMEA SAN CIOC'!$F$2:$F$405) -> 1011.3345 | G26: =SUMIF($B$47:$B$84,$B26,$O$47:$O$84) -> 2842.2962 | I26: 335.77849 | J26: 497.64648 | K26: =SUMIF($B$47:$B$84,$B26,$C$47:$C$84) -> 1318.1518 | L26: =I26+J26+K26 -> 2151.5767 | M26: =SUMIF($B$47:$B$84,$B26,$D$47:$D$84)/SUMIF($B$47:$B$84,$B26,$C$47:$C$84) -> 0.58597137 | N26: =L26*M26 -> 1260.7624 | P26: =D26-G26-I26-J26 -> 29.807752 | Q26: =SUMIF($B$47:$B$84,$B26,$L$47:$L$84) -> 245.01768 | R26: =P26+Q26 -> 274.82543 | S26: =SUMIF($B$47:$B$84,$B26,$M$47:$M$84)/SUMIF($B$47:$B$84,$B26,$L$47:$L$84) -> 0.70817978 | T26: =R26*S26 -> 194.62582 | V26: =IF(N26="",SUMIF($B$47:$B$84,$B26,$D$47:$D$84),N26)+SUMIF($B$47:$B$84,$B26,$G$47:$G$84)+SUMIF($B$47:$B$84,$B26,$J$47:$J$84)+IF(T26="",SUMIF($B$47:$B$84,$B26,$M$47:$M$84),T26) -> 2425.9579 | W26: =V26/D26 -> 0.654686 | Y26: =N26 -> 1260.7624 | Z26: =G70 -> 870.41763 | AA26: =J70 -> 100.15207 | AB26: =D26-R26 -> 3430.7035 | AC26: =SUM(Y26:AA26)/AB26 -> 0.65040074 | AD26: =R26*AC26 -> 178.74667 | AF26: =SUM(Y26:AA26,AD26) -> 2410.0787 | AG26: =AF26/D26 -> 0.65040074 | AI26: =L26 -> 2151.5767 | AJ26: =N26 -> 1260.7624 | AK26: =SUMIF($B$47:$B$84,$B26,F$47:$F$84) -> 1147.7503 | AL26: =SUMIF($B$47:$B$84,$B26,$G$47:G$84) -> 870.41763 | AM26: =SUMIF($B$47:$B$84,$B26,$I$47:I$84) -> 131.37642 | AN26: =SUMIF($B$47:$B$84,$B26,$J$47:J$84) -> 100.15207 | AO26: =R26 -> 274.82543 | AP26: =AD26 -> 178.74667 | AR26: =SUM(AI26,AK26,AM26,AO26) -> 3705.5289 | AS26: =SUM(AI26,AK26,AM26) -> 3430.7035 | AT26: =IF(AS26>AR26,AR26/AS26,1) -> 1 | AU26: =AI26*$AT26 -> 2151.5767 | AV26: =AJ26*$AT26 -> 1260.7624 | AW26: =AK26*$AT26 -> 1147.7503 | AX26: =AL26*$AT26 -> 870.41763 | AY26: =AM26*$AT26 -> 131.37642 | AZ26: =AN26*$AT26 -> 100.15207 | BA26: =IF(AO26<0,0,AO26) -> 274.82543 | BB26: =IF(AP26<0,0,AP26) -> 178.74667
B27: 40909 | C27: =SUMIF('EMEA SAN CIOC'!$A$2:$A$409,Notes!$B27,'EMEA SAN CIOC'!$D$2:$D$409) -> 4804.1918 | D27: =SUMIF('EMEA SAN CIOC'!$A$2:$A$409,Notes!$B27,'EMEA SAN CIOC'!$E$2:$E$409) -> 3689.7581 | E27: =SUMIF('EMEA SAN CIOC'!$A$2:$A$405,Notes!$B27,'EMEA SAN CIOC'!$F$2:$F$405) -> 1114.4337 | G27: =SUMIF($B$47:$B$84,$B27,$O$47:$O$84) -> 3014.8726 | I27: 335.77849 | J27: 508.27051 | K27: =SUMIF($B$47:$B$84,$B27,$C$47:$C$84) -> 1409.1775 | L27: =I27+J27+K27 -> 2253.2265 | M27: =SUMIF($B$47:$B$84,$B27,$D$47:$D$84)/SUMIF($B$47:$B$84,$B27,$C$47:$C$84) -> 0.61704801 | N27: =L27*M27 -> 1390.3489 | P27: =D27-G27-I27-J27 -> -169.16345 | Q27: =SUMIF($B$47:$B$84,$B27,$L$47:$L$84) -> 311.66623 | R27: =P27+Q27 -> 142.50278 | S27: =SUMIF($B$47:$B$84,$B27,$M$47:$M$84)/SUMIF($B$47:$B$84,$B27,$L$47:$L$84) -> 0.64731472 | T27: =R27*S27 -> 92.244144 | V27: =IF(N27="",SUMIF($B$47:$B$84,$B27,$D$47:$D$84),N27)+SUMIF($B$47:$B$84,$B27,$G$47:$G$84)+SUMIF($B$47:$B$84,$B27,$J$47:$J$84)+IF(T27="",SUMIF($B$47:$B$84,$B27,$M$47:$M$84),T27) -> 2421.1152 | W27: =V27/D27 -> 0.65617178 | Y27: =N27 -> 1390.3489 | Z27: =G71 -> 841.42764 | AA27: =J71 -> 97.094473 | AB27: =D27-R27 -> 3547.2553 | AC27: =SUM(Y27:AA27)/AB27 -> 0.65652759 | AD27: =R27*AC27 -> 93.557005 | AF27: =SUM(Y27:AA27,AD27) -> 2422.428 | AG27: =AF27/D27 -> 0.65652759 | AI27: =L27 -> 2253.2265 | AJ27: =N27 -> 1390.3489 | AK27: =SUMIF($B$47:$B$84,$B27,F$47:$F$84) -> 1167.9134 | AL27: =SUMIF($B$47:$B$84,$B27,$G$47:G$84) -> 841.42764 | AM27: =SUMIF($B$47:$B$84,$B27,$I$47:I$84) -> 126.1155 | AN27: =SUMIF($B$47:$B$84,$B27,$J$47:J$84) -> 97.094473 | AO27: =R27 -> 142.50278 | AP27: =AD27 -> 93.557005 | AR27: =SUM(AI27,AK27,AM27,AO27) -> 3689.7581 | AS27: =SUM(AI27,AK27,AM27) -> 3547.2553 | AT27: =IF(AS27>AR27,AR27/AS27,1) -> 1 | AU27: =AI27*$AT27 -> 2253.2265 | AV27: =AJ27*$AT27 -> 1390.3489 | AW27: =AK27*$AT27 -> 1167.9134 | AX27: =AL27*$AT27 -> 841.42764 | AY27: =AM27*$AT27 -> 126.1155 | AZ27: =AN27*$AT27 -> 97.094473 | BA27: =IF(AO27<0,0,AO27) -> 142.50278 | BB27: =IF(AP27<0,0,AP27) -> 93.557005
B28: 40940 | C28: =SUMIF('EMEA SAN CIOC'!$A$2:$A$409,Notes!$B28,'EMEA SAN CIOC'!$D$2:$D$409) -> 4804.6465 | D28: =SUMIF('EMEA SAN CIOC'!$A$2:$A$409,Notes!$B28,'EMEA SAN CIOC'!$E$2:$E$409) -> 3792.5506 | E28: =SUMIF('EMEA SAN CIOC'!$A$2:$A$405,Notes!$B28,'EMEA SAN CIOC'!$F$2:$F$405) -> 1012.0959 | G28: =SUMIF($B$47:$B$84,$B28,$O$47:$O$84) -> 3069.2316 | I28: 335.77849 | J28: 523.41797 | K28: =SUMIF($B$47:$B$84,$B28,$C$47:$C$84) -> 1455.8604 | L28: =I28+J28+K28 -> 2315.0568 | M28: =SUMIF($B$47:$B$84,$B28,$D$47:$D$84)/SUMIF($B$47:$B$84,$B28,$C$47:$C$84) -> 0.60526826 | N28: =L28*M28 -> 1401.2304 | P28: =D28-G28-I28-J28 -> -135.87752 | Q28: =SUMIF($B$47:$B$84,$B28,$L$47:$L$84) -> 104.48325 | R28: =P28+Q28 -> -31.394274 | S28: =SUMIF($B$47:$B$84,$B28,$M$47:$M$84)/SUMIF($B$47:$B$84,$B28,$L$47:$L$84) -> 0.52081546 | T28: =R28*S28 -> -16.350623 | V28: =IF(N28="",SUMIF($B$47:$B$84,$B28,$D$47:$D$84),N28)+SUMIF($B$47:$B$84,$B28,$G$47:$G$84)+SUMIF($B$47:$B$84,$B28,$J$47:$J$84)+IF(T28="",SUMIF($B$47:$B$84,$B28,$M$47:$M$84),T28) -> 2518.8157 | W28: =V28/D28 -> 0.66414823 | Y28: =N28 -> 1401.2304 | Z28: =G72 -> 971.88246 | AA28: =J72 -> 162.05348 | AB28: =D28-R28 -> 3823.9449 | AC28: =SUM(Y28:AA28)/AB28 -> 0.66297148 | AD28: =R28*AC28 -> -20.813508 | AF28: =SUM(Y28:AA28,AD28) -> 2514.3529 | AG28: =AF28/D28 -> 0.66297148 | AI28: =L28 -> 2315.0568 | AJ28: =N28 -> 1401.2304 | AK28: =SUMIF($B$47:$B$84,$B28,F$47:$F$84) -> 1321.0337 | AL28: =SUMIF($B$47:$B$84,$B28,$G$47:G$84) -> 971.88246 | AM28: =SUMIF($B$47:$B$84,$B28,$I$47:I$84) -> 187.85431 | AN28: =SUMIF($B$47:$B$84,$B28,$J$47:J$84) -> 162.05348 | AO28: =R28 -> -31.394274 | AP28: =AD28 -> -20.813508 | AR28: =SUM(AI28,AK28,AM28,AO28) -> 3792.5506 | AS28: =SUM(AI28,AK28,AM28) -> 3823.9449 | AT28: =IF(AS28>AR28,AR28/AS28,1) -> 0.99179008 | AU28: =AI28*$AT28 -> 2296.0504 | AV28: =AJ28*$AT28 -> 1389.7264 | AW28: =AK28*$AT28 -> 1310.1881 | AX28: =AL28*$AT28 -> 963.90338 | AY28: =AM28*$AT28 -> 186.31204 | AZ28: =AN28*$AT28 -> 160.72303 | BA28: =IF(AO28<0,0,AO28) -> 0 | BB28: =IF(AP28<0,0,AP28) -> 0
B29: 40969 | C29: =SUMIF('EMEA SAN CIOC'!$A$2:$A$409,Notes!$B29,'EMEA SAN CIOC'!$D$2:$D$409) -> 5269.4314 | D29: =SUMIF('EMEA SAN CIOC'!$A$2:$A$409,Notes!$B29,'EMEA SAN CIOC'!$E$2:$E$409) -> 3978.5905 | E29: =SUMIF('EMEA SAN CIOC'!$A$2:$A$405,Notes!$B29,'EMEA SAN CIOC'!$F$2:$F$405) -> 1290.841 | G29: =SUMIF($B$47:$B$84,$B29,$O$47:$O$84) -> 3123.5303 | I29: 335.77849 | J29: 537.58887 | K29: =SUMIF($B$47:$B$84,$B29,$C$47:$C$84) -> 1528.63 | L29: =I29+J29+K29 -> 2401.9974 | M29: =SUMIF($B$47:$B$84,$B29,$D$47:$D$84)/SUMIF($B$47:$B$84,$B29,$C$47:$C$84) -> 0.57645971 | N29: =L29*M29 -> 1384.6547 | P29: =D29-G29-I29-J29 -> -18.307151 | Q29: =SUMIF($B$47:$B$84,$B29,$L$47:$L$84) -> 97.666879 | R29: =P29+Q29 -> 79.359728 | S29: =SUMIF($B$47:$B$84,$B29,$M$47:$M$84)/SUMIF($B$47:$B$84,$B29,$L$47:$L$84) -> 0.55330436 | T29: =R29*S29 -> 43.910083 | V29: =IF(N29="",SUMIF($B$47:$B$84,$B29,$D$47:$D$84),N29)+SUMIF($B$47:$B$84,$B29,$G$47:$G$84)+SUMIF($B$47:$B$84,$B29,$J$47:$J$84)+IF(T29="",SUMIF($B$47:$B$84,$B29,$M$47:$M$84),T29) -> 2519.907 | W29: =V29/D29 -> 0.63336676 | Y29: =N29 -> 1384.6547 | Z29: =G73 -> 942.34056 | AA29: =J73 -> 149.00161 | AB29: =D29-R29 -> 3899.2308 | AC29: =SUM(Y29:AA29)/AB29 -> 0.63499624 | AD29: =R29*AC29 -> 50.393128 | AF29: =SUM(Y29:AA29,AD29) -> 2526.39 | AG29: =AF29/D29 -> 0.63499624 | AI29: =L29 -> 2401.9974 | AJ29: =N29 -> 1384.6547 | AK29: =SUMIF($B$47:$B$84,$B29,F$47:$F$84) -> 1286.2113 | AL29: =SUMIF($B$47:$B$84,$B29,$G$47:G$84) -> 942.34056 | AM29: =SUMIF($B$47:$B$84,$B29,$I$47:I$84) -> 211.02215 | AN29: =SUMIF($B$47:$B$84,$B29,$J$47:J$84) -> 149.00161 | AO29: =R29 -> 79.359728 | AP29: =AD29 -> 50.393128 | AR29: =SUM(AI29,AK29,AM29,AO29) -> 3978.5905 | AS29: =SUM(AI29,AK29,AM29) -> 3899.2308 | AT29: =IF(AS29>AR29,AR29/AS29,1) -> 1 | AU29: =AI29*$AT29 -> 2401.9974 | AV29: =AJ29*$AT29 -> 1384.6547 | AW29: =AK29*$AT29 -> 1286.2113 | AX29: =AL29*$AT29 -> 942.34056 | AY29: =AM29*$AT29 -> 211.02215 | AZ29: =AN29*$AT29 -> 149.00161 | BA29: =IF(AO29<0,0,AO29) -> 79.359728 | BB29: =IF(AP29<0,0,AP29) -> 50.393128
B30: 41000 | C30: =SUMIF('EMEA SAN CIOC'!$A$2:$A$409,Notes!$B30,'EMEA SAN CIOC'!$D$2:$D$409) -> 5346.2462 | D30: =SUMIF('EMEA SAN CIOC'!$A$2:$A$409,Notes!$B30,'EMEA SAN CIOC'!$E$2:$E$409) -> 4119.0148 | E30: =SUMIF('EMEA SAN CIOC'!$A$2:$A$405,Notes!$B30,'EMEA SAN CIOC'!$F$2:$F$405) -> 1227.2314 | G30: =SUMIF($B$47:$B$84,$B30,$O$47:$O$84) -> 3221.0695 | I30: 335.77849 | J30: 557.45605 | K30: =SUMIF($B$47:$B$84,$B30,$C$47:$C$84) -> 1582.3734 | L30: =I30+J30+K30 -> 2475.6079 | M30: =SUMIF($B$47:$B$84,$B30,$D$47:$D$84)/SUMIF($B$47:$B$84,$B30,$C$47:$C$84) -> 0.58074928 | N30: =L30*M30 -> 1437.7075 | P30: =D30-G30-I30-J30 -> 4.7108023 | Q30: =SUMIF($B$47:$B$84,$B30,$L$47:$L$84) -> 55.378296 | R30: =P30+Q30 -> 60.089098 | S30: =SUMIF($B$47:$B$84,$B30,$M$47:$M$84)/SUMIF($B$47:$B$84,$B30,$L$47:$L$84) -> 0.69321221 | T30: =R30*S30 -> 41.654496 | V30: =IF(N30="",SUMIF($B$47:$B$84,$B30,$D$47:$D$84),N30)+SUMIF($B$47:$B$84,$B30,$G$47:$G$84)+SUMIF($B$47:$B$84,$B30,$J$47:$J$84)+IF(T30="",SUMIF($B$47:$B$84,$B30,$M$47:$M$84),T30) -> 2594.1336 | W30: =V30/D30 -> 0.62979468 | Y30: =N30 -> 1437.7075 | Z30: =G74 -> 954.81775 | AA30: =J74 -> 159.95384 | AB30: =D30-R30 -> 4058.9257 | AC30: =SUM(Y30:AA30)/AB30 -> 0.62885583 | AD30: =R30*AC30 -> 37.78738 | AF30: =SUM(Y30:AA30,AD30) -> 2590.2665 | AG30: =AF30/D30 -> 0.62885583 | AI30: =L30 -> 2475.6079 | AJ30: =N30 -> 1437.7075 | AK30: =SUMIF($B$47:$B$84,$B30,F$47:$F$84) -> 1324.5937 | AL30: =SUMIF($B$47:$B$84,$B30,$G$47:G$84) -> 954.81775 | AM30: =SUMIF($B$47:$B$84,$B30,$I$47:I$84) -> 258.72405 | AN30: =SUMIF($B$47:$B$84,$B30,$J$47:J$84) -> 159.95384 | AO30: =R30 -> 60.089098 | AP30: =AD30 -> 37.78738 | AR30: =SUM(AI30,AK30,AM30,AO30) -> 4119.0148 | AS30: =SUM(AI30,AK30,AM30) -> 4058.9257 | AT30: =IF(AS30>AR30,AR30/AS30,1) -> 1 | AU30: =AI30*$AT30 -> 2475.6079 | AV30: =AJ30*$AT30 -> 1437.7075 | AW30: =AK30*$AT30 -> 1324.5937 | AX30: =AL30*$AT30 -> 954.81775 | AY30: =AM30*$AT30 -> 258.72405 | AZ30: =AN30*$AT30 -> 159.95384 | BA30: =IF(AO30<0,0,AO30) -> 60.089098 | BB30: =IF(AP30<0,0,AP30) -> 37.78738
B31: 41030 | C31: =SUMIF('EMEA SAN CIOC'!$A$2:$A$409,Notes!$B31,'EMEA SAN CIOC'!$D$2:$D$409) -> 5830.9706 | D31: =SUMIF('EMEA SAN CIOC'!$A$2:$A$409,Notes!$B31,'EMEA SAN CIOC'!$E$2:$E$409) -> 4162.219 | E31: =SUMIF('EMEA SAN CIOC'!$A$2:$A$405,Notes!$B31,'EMEA SAN CIOC'!$F$2:$F$405) -> 1668.7516 | G31: =SUMIF($B$47:$B$84,$B31,$O$47:$O$84) -> 3441.5392 | I31: 343.63286 | J31: 557.45605 | K31: =SUMIF($B$47:$B$84,$B31,$C$47:$C$84) -> 1734.0115 | L31: =I31+J31+K31 -> 2635.1004 | M31: =SUMIF($B$47:$B$84,$B31,$D$47:$D$84)/SUMIF($B$47:$B$84,$B31,$C$47:$C$84) -> 0.55070816 | N31: =L31*M31 -> 1451.1713 | P31: =D31-G31-I31-J31 -> -180.4092 | Q31: =SUMIF($B$47:$B$84,$B31,$L$47:$L$84) -> 95.041964 | R31: =P31+Q31 -> -85.367236 | S31: =SUMIF($B$47:$B$84,$B31,$M$47:$M$84)/SUMIF($B$47:$B$84,$B31,$L$47:$L$84) -> 0.38028083 | T31: =R31*S31 -> -32.463523 | V31: =IF(N31="",SUMIF($B$47:$B$84,$B31,$D$47:$D$84),N31)+SUMIF($B$47:$B$84,$B31,$G$47:$G$84)+SUMIF($B$47:$B$84,$B31,$J$47:$J$84)+IF(T31="",SUMIF($B$47:$B$84,$B31,$M$47:$M$84),T31) -> 2507.936 | W31: =V31/D31 -> 0.60254783 | Y31: =N31 -> 1451.1713 | Z31: =G75 -> 895.70152 | AA31: =J75 -> 193.52669 | AB31: =D31-R31 -> 4247.5862 | AC31: =SUM(Y31:AA31)/AB31 -> 0.59808074 | AD31: =R31*AC31 -> -51.0565 | AF31: =SUM(Y31:AA31,AD31) -> 2489.343 | AG31: =AF31/D31 -> 0.59808074 | AI31: =L31 -> 2635.1004 | AJ31: =N31 -> 1451.1713 | AK31: =SUMIF($B$47:$B$84,$B31,F$47:$F$84) -> 1319.1861 | AL31: =SUMIF($B$47:$B$84,$B31,$G$47:G$84) -> 895.70152 | AM31: =SUMIF($B$47:$B$84,$B31,$I$47:I$84) -> 293.2997 | AN31: =SUMIF($B$47:$B$84,$B31,$J$47:J$84) -> 193.52669 | AO31: =R31 -> -85.367236 | AP31: =AD31 -> -51.0565 | AR31: =SUM(AI31,AK31,AM31,AO31) -> 4162.219 | AS31: =SUM(AI31,AK31,AM31) -> 4247.5862 | AT31: =IF(AS31>AR31,AR31/AS31,1) -> 0.97990218 | AU31: =AI31*$AT31 -> 2582.1406 | AV31: =AJ31*$AT31 -> 1422.0059 | AW31: =AK31*$AT31 -> 1292.6733 | AX31: =AL31*$AT31 -> 877.69987 | AY31: =AM31*$AT31 -> 287.40502 | AZ31: =AN31*$AT31 -> 189.63723 | BA31: =IF(AO31<0,0,AO31) -> 0 | BB31: =IF(AP31<0,0,AP31) -> 0
... B38: 41334 | C38: =SUMIF('EMEA SAN CIOC'!$A$2:$A$409,Notes!$B38,'EMEA SAN CIOC'!$D$2:$D$409) -> 6366.0445 | D38: =SUMIF('EMEA SAN CIOC'!$A$2:$A$409,Notes!$B38,'EMEA SAN CIOC'!$E$2:$E$409) -> 5351.3315 | E38: =SUMIF('EMEA SAN CIOC'!$A$2:$A$405,Notes!$B38,'EMEA SAN CIOC'!$F$2:$F$405) -> 1014.7131 | G38: =SUMIF($B$47:$B$84,$B38,$O$47:$O$84) -> 3513 | I38: 227 | J38: 685 | K38: =SUMIF($B$47:$B$84,$B38,$C$47:$C$84) -> 1753 | L38: =I38+J38+K38 -> 2665 | M38: =SUMIF($B$47:$B$84,$B38,$D$47:$D$84)/SUMIF($B$47:$B$84,$B38,$C$47:$C$84) -> 0.52880776 | N38: =L38*M38 -> 1409.2727 | P38: =D38-G38-I38-J38 -> 926.33145 | Q38: =SUMIF($B$47:$B$84,$B38,$L$47:$L$84) -> 138 | R38: =P38+Q38 -> 1064.3315 | S38: =SUMIF($B$47:$B$84,$B38,$M$47:$M$84)/SUMIF($B$47:$B$84,$B38,$L$47:$L$84) -> 0.48550725 | T38: =R38*S38 -> 516.74063 | V38: =IF(N38="",SUMIF($B$47:$B$84,$B38,$D$47:$D$84),N38)+SUMIF($B$47:$B$84,$B38,$G$47:$G$84)+SUMIF($B$47:$B$84,$B38,$J$47:$J$84)+IF(T38="",SUMIF($B$47:$B$84,$B38,$M$47:$M$84),T38) -> 2990.0133 | W38: =V38/D38 -> 0.55874194 | Y38: =N38 -> 1409.2727 | Z38: =G82 -> 788 | AA38: =J82 -> 276 | AB38: =D38-R38 -> 4287 | AC38: =SUM(Y38:AA38)/AB38 -> 0.57692388 | AD38: =R38*AC38 -> 614.03823 | AF38: =SUM(Y38:AA38,AD38) -> 3087.3109 | AG38: =AF38/D38 -> 0.57692388 | AI38: =L38 -> 2665 | AJ38: =N38 -> 1409.2727 | AK38: =SUMIF($B$47:$B$84,$B38,F$47:$F$84) -> 1099 | AL38: =SUMIF($B$47:$B$84,$B38,$G$47:G$84) -> 788 | AM38: =SUMIF($B$47:$B$84,$B38,$I$47:I$84) -> 523 | AN38: =SUMIF($B$47:$B$84,$B38,$J$47:J$84) -> 276 | AO38: =R38 -> 1064.3315 | AP38: =AD38 -> 614.03823 | AR38: =SUM(AI38,AK38,AM38,AO38) -> 5351.3315 | AS38: =SUM(AI38,AK38,AM38) -> 4287 | AT38: =IF(AS38>AR38,AR38/AS38,1) -> 1 | AU38: =AI38*$AT38 -> 2665 | AV38: =AJ38*$AT38 -> 1409.2727 | AW38: =AK38*$AT38 -> 1099 | AX38: =AL38*$AT38 -> 788 | AY38: =AM38*$AT38 -> 523 | AZ38: =AN38*$AT38 -> 276 | BA38: =IF(AO38<0,0,AO38) -> 1064.3315 | BB38: =IF(AP38<0,0,AP38) -> 614.03823
C40: 0 | D40: =SUMIF('EMEA SAN CIOC'!$A$2:$A$409,Notes!$B40,'EMEA SAN CIOC'!$E$2:$E$409) -> 0 | E40: 0 | G40: =SUMIF($B$47:$B$84,$B40,$O$47:$O$84) -> 0 | K40: =SUMIF($B$47:$B$84,$B40,$C$47:$C$84) -> 0 | L40: =I40+J40+K40 -> 0 | M40: =SUMIF($B$47:$B$84,$B40,$D$47:$D$84)/SUMIF($B$47:$B$84,$B40,$C$47:$C$84) -> #DIV/0! | N40: =L40*M40 -> #DIV/0! | P40: =D40-G40-I40-J40 -> 0 | Q40: =SUMIF($B$47:$B$84,$B40,$L$47:$L$84) -> 0 | R40: =P40+Q40 -> 0 | S40: =SUMIF($B$47:$B$84,$B40,$M$47:$M$84)/SUMIF($B$47:$B$84,$B40,$L$47:$L$84) -> #DIV/0! | T40: =R40*S40 -> #DIV/0! | V40: =IF(N40="",SUMIF($B$47:$B$84,$B40,$D$47:$D$84),N40)+SUMIF($B$47:$B$84,$B40,$G$47:$G$84)+SUMIF($B$47:$B$84,$B40,$J$47:$J$84)+IF(T40="",SUMIF($B$47:$B$84,$B40,$M$47:$M$84),T40) -> #DIV/0! | W40: =V40/D40 -> #DIV/0! | Y40: =N40 -> #DIV/0! | Z40: =G84 -> 0 | AA40: =J84 -> 0 | AF40: =IF(X40="",SUMIF($B$47:$B$84,$B40,$D$47:$D$84),X40)+SUMIF($B$47:$B$84,$B40,$G$47:$G$84)+SUMIF($B$47:$B$84,$B40,$J$47:$J$84)+IF(AD40="",SUMIF($B$47:$B$84,$B40,$M$47:$M$84),AD40) -> 0 | AG40: =AF40/N40 -> #DIV/0!
A42: * Source: manual
AR43: Latest
A44: Data Tables | AR44: 41244 | AS44: CORP | AT44: Allocated | AU44: =VLOOKUP($AR$44,$B$3:$BB$40,COLUMN()-1,FALSE) -> 2993.2373
C45: CORP | F45: ICG | I45: GCG | L45: Other | O45: Total | R45: Total | AT45: Used | AU45: =VLOOKUP($AR$44,$B$3:$BB$40,COLUMN(),FALSE) -> 1919.9499
B46: Month | C46: Allocated TB | D46: Used TB | E46: Available TB | F46: Allocated TB | G46: Used TB | H46: Available TB | I46: Allocated TB | J46: Used TB | K46: Available TB | L46: Allocated TB | M46: Used TB | N46: Available TB | O46: Allocated TB | P46: Used TB | Q46: Available TB | R46: Installed TB | AS46: ICG | AT46: Allocated | AU46: =VLOOKUP($AR$44,$B$3:$BB$40,COLUMN()+1,FALSE) -> 1289.7907
B47: 40179 | C47: 206.49445 | D47: 90.806349 | E47: 115.68811 | F47: 671.5356 | G47: 394.19383 | H47: 277.34177 | I47: 47.42028 | J47: 29.854472 | K47: 17.565808 | L47: 403.98937 | M47: 269.99412 | N47: 133.99524 | O47: 1329.4397 | P47: 784.84877 | Q47: 544.59093 | R47: =SUMIF('EMEA SAN CIOC'!$A$2:$A$409,Notes!$B47,'EMEA SAN CIOC'!$D$2:$D$409) -> 3619.0741 | AT47: Used | AU47: =VLOOKUP($AR$44,$B$3:$BB$40,COLUMN()+2,FALSE) -> 1077.0128
B48: 40210 | C48: 200.59121 | D48: 87.390562 | E48: 113.20065 | F48: 675.46382 | G48: 386.56537 | H48: 288.89845 | I48: 40.143631 | J48: 21.101102 | K48: 19.042529 | L48: 397.38584 | M48: 238.92015 | N48: 158.46568 | O48: 1313.5845 | P48: 733.97719 | Q48: 579.60731 | R48: =SUMIF('EMEA SAN CIOC'!$A$2:$A$409,Notes!$B48,'EMEA SAN CIOC'!$D$2:$D$409) -> 3700.7479 | AS48: GCG | AT48: Allocated | AU48: =VLOOKUP($AR$44,$B$3:$BB$40,COLUMN()+3,FALSE) -> 505.66731
B49: 40238 | C49: 205.11616 | D49: 81.821605 | E49: 123.29455 | F49: 683.75303 | G49: 421.41517 | H49: 262.33786 | I49: 39.749042 | J49: 21.17668 | K49: 18.572362 | L49: 389.52566 | M49: 239.36166 | N49: 150.16399 | O49: 1318.1439 | P49: 763.77512 | Q49: 554.36877 | R49: =SUMIF('EMEA SAN CIOC'!$A$2:$A$409,Notes!$B49,'EMEA SAN CIOC'!$D$2:$D$409) -> 3700.7479 | AT49: Used | AU49: =VLOOKUP($AR$44,$B$3:$BB$40,COLUMN()+4,FALSE) -> 331.80131
B50: 40269 | C50: 233.98753 | D50: 117.52669 | E50: 116.46084 | F50: 706.46392 | G50: 425.58086 | H50: 280.88306 | I50: 70.267563 | J50: 53.171139 | K50: 17.096424 | L50: 388.98074 | M50: 254.66895 | N50: 134.3118 | O50: =SUM(C50,F50,I50,L50) -> 1399.6998 | P50: =SUM(D50,G50,J50,M50) -> 850.94763 | Q50: =SUM(E50,H50,K50,N50) -> 548.75213 | R50: =SUMIF('EMEA SAN CIOC'!$A$2:$A$409,Notes!$B50,'EMEA SAN CIOC'!$D$2:$D$409) -> 4220.839 | AS50: Other | AT50: Allocated | AU50: =VLOOKUP($AR$44,$B$3:$BB$40,COLUMN()+5,FALSE) -> 562.63607
B51: 40299 | C51: 351.78475 | D51: 205.69723 | E51: 146.08752 | F51: 1320.1036 | G51: 766.12775 | H51: 553.97585 | I51: 74.927363 | J51: 56.643249 | K51: 18.284115 | L51: 516.92968 | M51: 331.45099 | N51: 185.47869 | O51: =SUM(C51,F51,I51,L51) -> 2263.7454 | P51: =SUM(D51,G51,J51,M51) -> 1359.9192 | Q51: =SUM(E51,H51,K51,N51) -> 903.82617 | R51: =SUMIF('EMEA SAN CIOC'!$A$2:$A$409,Notes!$B51,'EMEA SAN CIOC'!$D$2:$D$409) -> 4221.2939 | AT51: Used | AU51: =VLOOKUP($AR$44,$B$3:$BB$40,COLUMN()+6,FALSE) -> 391.105
B52: 40330 | C52: 332.21064 | D52: 196.40407 | E52: 135.80658 | F52: 1332.496 | G52: 780.70063 | H52: 551.79539 | I52: 68.917305 | J52: 53.270743 | K52: 15.646562 | L52: 523.9437 | M52: 338.6289 | N52: 185.3148 | O52: =SUM(C52,F52,I52,L52) -> 2257.5677 | P52: =SUM(D52,G52,J52,M52) -> 1369.0043 | Q52: =SUM(E52,H52,K52,N52) -> 888.56333 | R52: =SUMIF('EMEA SAN CIOC'!$A$2:$A$409,Notes!$B52,'EMEA SAN CIOC'!$D$2:$D$409) -> 4064.5078 | AS52: Total | AT52: Allocated | AU52: =SUM(AU44,AU46,AU48,AU50) -> 5351.3315
B53: 40360 | C53: 373.96406 | D53: 228.19532 | E53: 145.76875 | F53: 1346.5814 | G53: 782.7533 | H53: 563.82814 | I53: 62.382646 | J53: 30.152732 | K53: 32.229914 | L53: 601.3143 | M53: 471.59265 | N53: 129.72165 | O53: =SUM(C53,F53,I53,L53) -> 2384.2424 | P53: =SUM(D53,G53,J53,M53) -> 1512.694 | Q53: =SUM(E53,H53,K53,N53) -> 871.54844 | R53: =SUMIF('EMEA SAN CIOC'!$A$2:$A$409,Notes!$B53,'EMEA SAN CIOC'!$D$2:$D$409) -> 4079.5175 | AT53: Used | AU53: =SUM(AU45,AU47,AU49,AU51) -> 3719.869
B54: 40391 | C54: 365.26232 | D54: 219.99125 | E54: 145.27107 | F54: 1339.8587 | G54: 771.77838 | H54: 568.08027 | I54: 62.967715 | J54: 30.509443 | K54: 32.458272 | L54: 603.10238 | M54: 263.42048 | N54: 339.6819 | O54: =SUM(C54,F54,I54,L54) -> 2371.1911 | P54: =SUM(D54,G54,J54,M54) -> 1285.6996 | Q54: =SUM(E54,H54,K54,N54) -> 1085.4915 | R54: =SUMIF('EMEA SAN CIOC'!$A$2:$A$409,Notes!$B54,'EMEA SAN CIOC'!$D$2:$D$409) -> 4196.7515
B55: 40422 | C55: 463.31601 | D55: 267.44884 | E55: 195.86717 | F55: 1380.936 | G55: 789.96526 | H55: 590.97075 | I55: 66.467451 | J55: 22.269642 | K55: 44.197809 | L55: 651.49533 | M55: 339.50384 | N55: 311.9915 | O55: =SUM(C55,F55,I55,L55) -> 2562.2148 | P55: =SUM(D55,G55,J55,M55) -> 1419.1876 | Q55: =SUM(E55,H55,K55,N55) -> 1143.0272 | R55: =SUMIF('EMEA SAN CIOC'!$A$2:$A$409,Notes!$B55,'EMEA SAN CIOC'!$D$2:$D$409) -> 4196.882
B56: 40452 | C56: 479.19202 | D56: 282.50156 | E56: 196.69046 | F56: 1395.3178 | G56: 840.53517 | H56: 554.78266 | I56: 76.950332 | J56: 49.441696 | K56: 27.508636 | L56: 614.19585 | M56: 340.54428 | N56: 273.65157 | O56: =SUM(C56,F56,I56,L56) -> 2565.656 | P56: =SUM(D56,G56,J56,M56) -> 1513.0227 | Q56: =SUM(E56,H56,K56,N56) -> 1052.6333 | R56: =SUMIF('EMEA SAN CIOC'!$A$2:$A$409,Notes!$B56,'EMEA SAN CIOC'!$D$2:$D$409) -> 4355.051
B57: 40483 | C57: 428.88477 | D57: 233.69066 | E57: 195.19411 | F57: 824.15246 | G57: 486.00835 | H57: 338.14411 | I57: 47.326379 | J57: 23.684033 | K57: 23.642346 | L57: 482.90912 | M57: 289.71335 | N57: 193.19577 | O57: =SUM(C57,F57,I57,L57) -> 1783.2727 | P57: =SUM(D57,G57,J57,M57) -> 1033.0964 | Q57: =SUM(E57,H57,K57,N57) -> 750.17632 | R57: =SUMIF('EMEA SAN CIOC'!$A$2:$A$409,Notes!$B57,'EMEA SAN CIOC'!$D$2:$D$409) -> 4307.3321
B58: 40513 | C58: 488.23855 | D58: 268.30054 | E58: 219.93802 | F58: 818.62967 | G58: 444.72973 | H58: 373.89994 | I58: 128.30711 | J58: 68.431953 | K58: 59.875156 | L58: 444.26937 | M58: 258.89659 | N58: 185.37278 | O58: =SUM(C58,F58,I58,L58) -> 1879.4447 | P58: =SUM(D58,G58,J58,M58) -> 1040.3588 | Q58: =SUM(E58,H58,K58,N58) -> 839.08589 | R58: =SUMIF('EMEA SAN CIOC'!$A$2:$A$409,Notes!$B58,'EMEA SAN CIOC'!$D$2:$D$409) -> 4328.2527
B59: 40544 | C59: 484.5257 | D59: 254.01967 | E59: 230.50604 | F59: 825.40991 | G59: 446.72819 | H59: 378.68172 | I59: 128.08113 | J59: 68.818018 | K59: 59.263115 | L59: 755.07759 | M59: 410.43173 | N59: 344.64585 | O59: =SUM(C59,F59,I59,L59) -> 2193.0943 | P59: =SUM(D59,G59,J59,M59) -> 1179.9976 | Q59: =SUM(E59,H59,K59,N59) -> 1013.0967 | R59: =SUMIF('EMEA SAN CIOC'!$A$2:$A$409,Notes!$B59,'EMEA SAN CIOC'!$D$2:$D$409) -> 4333.5562
B60: 40575 | C60: 452.52985 | D60: 223.66579 | E60: 228.86406 | F60: 829.57585 | G60: 456.04842 | H60: 373.52743 | I60: 126.57917 | J60: 66.003723 | K60: 60.575447 | L60: 463.59469 | M60: 263.56994 | N60: 200.02474 | O60: =SUM(C60,F60,I60,L60) -> 1872.2796 | P60: =SUM(D60,G60,J60,M60) -> 1009.2879 | Q60: =SUM(E60,H60,K60,N60) -> 862.99168 | R60: =SUMIF('EMEA SAN CIOC'!$A$2:$A$409,Notes!$B60,'EMEA SAN CIOC'!$D$2:$D$409) -> 4389.3226
B61: 40603 | C61: 471.06486 | D61: 264.99744 | E61: 206.06742 | F61: 845.4072 | G61: 475.08405 | H61: 370.32315 | I61: 139.4956 | J61: 98.941093 | K61: 40.554502 | L61: 453.22155 | M61: 244.6944 | N61: 208.52716 | O61: =SUM(C61,F61,I61,L61) -> 1909.1892 | P61: =SUM(D61,G61,J61,M61) -> 1083.717 | Q61: =SUM(E61,H61,K61,N61) -> 825.47223 | R61: =SUMIF('EMEA SAN CIOC'!$A$2:$A$409,Notes!$B61,'EMEA SAN CIOC'!$D$2:$D$409) -> 4687.8827
B62: 40634 | C62: 459.37568 | D62: 263.73001 | E62: 195.64567 | F62: 827.08393 | G62: 456.218 | H62: 370.86592 | I62: 139.4956 | J62: 100.84685 | K62: 38.64875 | L62: 449.89857 | M62: 260.15868 | N62: 189.73989 | O62: =SUM(C62,F62,I62,L62) -> 1875.8538 | P62: =SUM(D62,G62,J62,M62) -> 1080.9535 | Q62: =SUM(E62,H62,K62,N62) -> 794.90024 | R62: =SUMIF('EMEA SAN CIOC'!$A$2:$A$409,Notes!$B62,'EMEA SAN CIOC'!$D$2:$D$409) -> 4687.8827
B63: 40664 | C63: 1247.3736 | D63: 648.55042 | E63: 598.82322 | F63: 1006.2263 | G63: 546.18482 | H63: 460.04147 | I63: 195.82217 | J63: 109.73886 | K63: 86.08332 | L63: 64.526553 | M63: 26.086863 | N63: 38.43969 | O63: =SUM(C63,F63,I63,L63) -> 2513.9487 | P63: =SUM(D63,G63,J63,M63) -> 1330.561 | Q63: =SUM(E63,H63,K63,N63) -> 1183.3877 | R63: =SUMIF('EMEA SAN CIOC'!$A$2:$A$409,Notes!$B63,'EMEA SAN CIOC'!$D$2:$D$409) -> 4687.8827
B64: 40695 | C64: 824.19098 | D64: 471.03095 | E64: 353.16003 | F64: 904.84869 | G64: 489.96887 | H64: 414.87982 | I64: 202.10515 | J64: 83.536829 | K64: 118.56832 | L64: 115.7548 | M64: 0 | N64: 115.7548 | O64: =SUM(C64,F64,I64,L64) -> 2046.8996 | P64: =SUM(D64,G64,J64,M64) -> 1044.5367 | Q64: =SUM(E64,H64,K64,N64) -> 1002.363 | R64: =SUMIF('EMEA SAN CIOC'!$A$2:$A$409,Notes!$B64,'EMEA SAN CIOC'!$D$2:$D$409) -> 4328.5625
B65: 40725 | C65: 827.01114 | D65: 541.12195 | E65: 285.8892 | F65: 904.77343 | G65: 558.44741 | H65: 346.32602 | I65: 195.30962 | J65: 100.34199 | K65: 94.967632 | L65: 116.34749 | M65: 0 | N65: 116.34749 | O65: =SUM(C65,F65,I65,L65) -> 2043.4417 | P65: =SUM(D65,G65,J65,M65) -> 1199.9113 | Q65: =SUM(E65,H65,K65,N65) -> 843.53034 | R65: =SUMIF('EMEA SAN CIOC'!$A$2:$A$409,Notes!$B65,'EMEA SAN CIOC'!$D$2:$D$409) -> 4328.5625
B66: 40756 | C66: 812.94925 | D66: 512.93754 | E66: 300.01171 | F66: 923.66816 | G66: 590.72326 | H66: 332.9449 | I66: 184.15664 | J66: 95.52159 | K66: 88.635051 | L66: 118.97589 | M66: 0 | N66: 118.97589 | O66: =SUM(C66,F66,I66,L66) -> 2039.7499 | P66: =SUM(D66,G66,J66,M66) -> 1199.1824 | Q66: =SUM(E66,H66,K66,N66) -> 840.56754 | R66: =SUMIF('EMEA SAN CIOC'!$A$2:$A$409,Notes!$B66,'EMEA SAN CIOC'!$D$2:$D$409) -> 4541.9839
B67: 40787 | C67: 1055.8452 | D67: 604.02269 | E67: =C67-D67 -> 451.82248 | F67: 1016.2134 | G67: 611.33534 | H67: 404.87802 | I67: 194.11056 | J67: 143.20087 | K67: 50.909687 | L67: 126.97957 | M67: 76.244183 | N67: 50.735388 | O67: =SUM(C67,F67,I67,L67) -> 2393.1487 | P67: =SUM(D67,G67,J67,M67) -> 1434.8031 | Q67: =SUM(E67,H67,K67,N67) -> 958.34557 | R67: =SUMIF('EMEA SAN CIOC'!$A$2:$A$409,Notes!$B67,'EMEA SAN CIOC'!$D$2:$D$409) -> 4688.3466
B68: 40817 | C68: 1260.8713 | D68: 681.20808 | E68: 579.66319 | F68: 1142.0592 | G68: 808.04074 | H68: 334.01848 | I68: 127.7256 | J68: 92.850109 | K68: 34.87549 | L68: 225.03929 | M68: 134.71957 | N68: 90.319722 | O68: =SUM(C68,F68,I68,L68) -> 2755.6954 | P68: =SUM(D68,G68,J68,M68) -> 1716.8185 | Q68: =SUM(E68,H68,K68,N68) -> 1038.8769 | R68: =SUMIF('EMEA SAN CIOC'!$A$2:$A$409,Notes!$B68,'EMEA SAN CIOC'!$D$2:$D$409) -> 4936.3026
B69: 40848 | C69: 1226.8868 | D69: 717.57101 | E69: 509.31575 | F69: 1217.8177 | G69: 917.84661 | H69: 299.97113 | I69: 139.64477 | J69: 94.672479 | K69: 44.972288 | L69: 236.41421 | M69: 162.74893 | N69: 73.665276 | O69: =SUM(C69,F69,I69,L69) -> 2820.7635 | P69: =SUM(D69,G69,J69,M69) -> 1892.839 | Q69: =SUM(E69,H69,K69,N69) -> 927.92445 | R69: =SUMIF('EMEA SAN CIOC'!$A$2:$A$409,Notes!$B69,'EMEA SAN CIOC'!$D$2:$D$409) -> 4936.3026
B70: 40878 | C70: 1318.1518 | D70: 772.39919 | E70: 545.75257 | F70: 1147.7503 | G70: 870.41763 | H70: 277.33266 | I70: 131.37642 | J70: 100.15207 | K70: 31.224351 | L70: 245.01768 | M70: 173.51657 | N70: 71.501114 | O70: =SUM(C70,F70,I70,L70) -> 2842.2962 | P70: =SUM(D70,G70,J70,M70) -> 1916.4855 | Q70: =SUM(E70,H70,K70,N70) -> 925.8107 | R70: =SUMIF('EMEA SAN CIOC'!$A$2:$A$409,Notes!$B70,'EMEA SAN CIOC'!$D$2:$D$409) -> 4716.8634
B71: 40909 | C71: 1409.1775 | D71: 869.53014 | E71: 539.64731 | F71: 1167.9134 | G71: 841.42764 | H71: 326.48575 | I71: 126.1155 | J71: 97.094473 | K71: 29.021025 | L71: 311.66623 | M71: 201.74614 | N71: 109.92009 | O71: =SUM(C71,F71,I71,L71) -> 3014.8726 | P71: =SUM(D71,G71,J71,M71) -> 2009.7984 | Q71: =SUM(E71,H71,K71,N71) -> 1005.0742 | R71: =SUMIF('EMEA SAN CIOC'!$A$2:$A$409,Notes!$B71,'EMEA SAN CIOC'!$D$2:$D$409) -> 4804.1918
B72: 40940 | C72: 1455.8604 | D72: 881.18608 | E72: 574.6743 | F72: 1321.0337 | G72: 971.88246 | H72: 349.15124 | I72: 187.85431 | J72: 162.05348 | K72: 25.80083 | L72: 104.48325 | M72: 54.41649 | N72: 50.066757 | O72: =SUM(C72,F72,I72,L72) -> 3069.2316 | P72: =SUM(D72,G72,J72,M72) -> 2069.5385 | Q72: =SUM(E72,H72,K72,N72) -> 999.69313 | R72: =SUMIF('EMEA SAN CIOC'!$A$2:$A$409,Notes!$B72,'EMEA SAN CIOC'!$D$2:$D$409) -> 4804.6465
B73: 40969 | C73: 1528.63 | D73: 881.1936 | E73: 647.4364 | F73: 1286.2113 | G73: 942.34056 | H73: 343.87069 | I73: 211.02215 | J73: 149.00161 | K73: 62.020543 | L73: 97.666879 | M73: 54.03951 | N73: 43.627369 | O73: =SUM(C73,F73,I73,L73) -> 3123.5303 | P73: =SUM(D73,G73,J73,M73) -> 2026.5753 | Q73: =SUM(E73,H73,K73,N73) -> 1096.955 | R73: =SUMIF('EMEA SAN CIOC'!$A$2:$A$409,Notes!$B73,'EMEA SAN CIOC'!$D$2:$D$409) -> 5269.4314
B74: 41000 | C74: 1582.3734 | D74: 918.96221 | E74: 663.41118 | F74: 1324.5937 | G74: 954.81775 | H74: 369.77598 | I74: 258.72405 | J74: 159.95384 | K74: 98.77021 | L74: 55.378296 | M74: 38.388911 | N74: 16.989385 | O74: =SUM(C74,F74,I74,L74) -> 3221.0695 | P74: =SUM(D74,G74,J74,M74) -> 2072.1227 | Q74: =SUM(E74,H74,K74,N74) -> 1148.9468 | R74: =SUMIF('EMEA SAN CIOC'!$A$2:$A$409,Notes!$B74,'EMEA SAN CIOC'!$D$2:$D$409) -> 5346.2462
B75: 41030 | C75: 1734.0115 | D75: 954.93428 | E75: 779.0772 | F75: 1319.1861 | G75: 895.70152 | H75: 423.48458 | I75: 293.2997 | J75: 193.52669 | K75: 99.773008 | L75: 95.041964 | M75: 36.142637 | N75: 58.899327 | O75: =SUM(C75,F75,I75,L75) -> 3441.5392 | P75: =SUM(D75,G75,J75,M75) -> 2080.3051 | Q75: =SUM(E75,H75,K75,N75) -> 1361.2341 | R75: =SUMIF('EMEA SAN CIOC'!$A$2:$A$409,Notes!$B75,'EMEA SAN CIOC'!$D$2:$D$409) -> 5830.9706
B76: 41061 | C76: 1507.3943 | D76: 850.40127 | E76: 656.99301 | F76: 1145.8368 | G76: 753.51117 | H76: 392.32561 | I76: 457.53058 | J76: 257.67371 | K76: 199.85687 | L76: 42.165986 | M76: 20.349511 | N76: 21.816475 | O76: =SUM(C76,F76,I76,L76) -> 3152.9276 | P76: =SUM(D76,G76,J76,M76) -> 1881.9357 | Q76: =SUM(E76,H76,K76,N76) -> 1270.992 | R76: =SUMIF('EMEA SAN CIOC'!$A$2:$A$409,Notes!$B76,'EMEA SAN CIOC'!$D$2:$D$409) -> 6122.7356
B77: 41091 | C77: 1420.9021 | D77: 889.30084 | E77: 531.60126 | F77: 1141.64 | G77: 900.1877 | H77: 241.45228 | I77: 447.01356 | J77: 271.65847 | K77: 175.35509 | L77: 41.291074 | M77: 20.821607 | N77: 20.469467 | O77: =SUM(C77,F77,I77,L77) -> 3050.8467 | P77: =SUM(D77,G77,J77,M77) -> 2081.9686 | Q77: =SUM(E77,H77,K77,N77) -> 968.87811 | R77: =SUMIF('EMEA SAN CIOC'!$A$2:$A$409,Notes!$B77,'EMEA SAN CIOC'!$D$2:$D$409) -> 6042.5005
B78: 41122 | C78: 1423.7102 | D78: 827.75872 | E78: 595.95152 | F78: 1141.1986 | G78: 853.44952 | H78: 287.74907 | I78: 445.23623 | J78: 257.65889 | K78: 187.57734 | L78: 42.493449 | M78: 20.094754 | N78: 22.398694 | O78: =SUM(C78,F78,I78,L78) -> 3052.6385 | P78: =SUM(D78,G78,J78,M78) -> 1958.9619 | Q78: =SUM(E78,H78,K78,N78) -> 1093.6766 | R78: =SUMIF('EMEA SAN CIOC'!$A$2:$A$409,Notes!$B78,'EMEA SAN CIOC'!$D$2:$D$409) -> 6338.416
B79: 41153 | C79: 1529.7852 | D79: 920.71613 | E79: 609.06908 | F79: 1131.0694 | G79: 875.73508 | H79: 255.33434 | I79: 554.44485 | J79: 317.41657 | K79: 237.02828 | L79: 42.705078 | M79: 20.278291 | N79: 22.426787 | O79: =SUM(C79,F79,I79,L79) -> 3258.0046 | P79: =SUM(D79,G79,J79,M79) -> 2134.1461 | Q79: =SUM(E79,H79,K79,N79) -> 1123.8585 | R79: =SUMIF('EMEA SAN CIOC'!$A$2:$A$409,Notes!$B79,'EMEA SAN CIOC'!$D$2:$D$409) -> 6338.5569
... B82: 41334 | C82: 1753 | D82: 927 | E82: 825 | F82: 1099 | G82: 788 | H82: 312 | I82: 523 | J82: 276 | K82: 246 | L82: 138 | M82: 67 | N82: 70 | O82: =SUM(C82,F82,I82,L82) -> 3513 | P82: =SUM(D82,G82,J82,M82) -> 2058 | Q82: =SUM(E82,H82,K82,N82) -> 1453 | R82: =SUMIF('EMEA SAN CIOC'!$A$2:$A$409,Notes!$B82,'EMEA SAN CIOC'!$D$2:$D$409) -> 6366.0445
B86: Note | C86: Due to incomplete utilisation data, all allocated storage that is not accounted for in any of the sectors is placed within the 'Other' category. The 'Used' value for the 'Other' category is then recalulated using the 'Other' utilisation percentage
C87: Clariion & Centera arrays to add to CORP
A88: Summary Tables | C88: 40634 | D88: Sector | E88: Alloc TB | F88: Used TB | G88: Available TB | H88: Avg Utilization | L88: Sector | M88: CORP | N88: CORP
D89: CORP | E89: 459.37568 | F89: 263.73001 | G89: 195.64567 | H89: =F89/E89 -> 0.57410529 | L89: Allocated (TB) | M89: Clariion | N89: Centera
D90: GCG | E90: 139.4956 | F90: 100.84685 | G90: 38.64875 | H90: =F90/E90 -> 0.72293928 | L90: 40198 | M90: 249.6384 | N90: 275.54004
D91: ICG | E91: 827.08393 | F91: 456.218 | G91: 370.86592 | H91: =F91/E91 -> 0.5515982 | L91: 40229 | M91: 249.6384 | N91: 289.95703
D92: Other | E92: 449.89857 | F92: 260.15868 | G92: 189.73989 | H92: =F92/E92 -> 0.57826074 | L92: 40257 | M92: 249.6384 | N92: 291.15723
D93: Total | E93: 1875.8538 | F93: 1080.9535 | G93: 794.90024 | H93: =F93/E93 -> 0.57624616 | L93: 40288 | M93: 249.43653 | N93: 297.14743
C94: 40664 | D94: Organisation | E94: Alloc TB | F94: Used TB | G94: Available TB | H94: Avg Utilization | L94: 40318 | M94: 249.24068 | N94: 308.89868
D95: CORP | E95: 1247.3736 | F95: 648.55042 | G95: 598.82322 | H95: =F95/E95 -> 0.51993276 | L95: 40349 | M95: 249.24068 | N95: 319.40223
D96: GCG | E96: 195.82217 | F96: 109.73886 | G96: 86.08332 | H96: =F96/E96 -> 0.56040055 | L96: 40379 | M96: 249.24068 | N96: 325.17041
D97: ICG | E97: 1006.2263 | F97: 546.18482 | G97: 460.04147 | H97: =F97/E97 -> 0.54280516 | L97: 40410 | M97: 249.24068 | N97: 334.00415
D98: Other | E98: 64.526553 | F98: 26.086863 | G98: 38.43969 | H98: =F98/E98 -> 0.40428105 | L98: 40441 | M98: 249.24068 | N98: 334.00415
D99: Total | E99: 2513.9487 | F99: 1330.561 | G99: 1183.3877 | H99: =F99/E99 -> 0.52927133 | L99: 40471 | M99: 309.74033 | N99: 339.10201
C100: 40695 | D100: Organisation | E100: Alloc TB | F100: Used TB | G100: Available TB | H100: Avg Utilization | L100: 40502 | M100: 309.74033 | N100: 342.48984
D101: CORP | E101: 824.19098 | F101: 471.03095 | G101: 353.16003 | H101: =F101/E101 -> 0.57150705 | L101: 40532 | M101: 309.74033 | N101: 373.86933
D102: GCG | E102: 202.10515 | F102: 83.536829 | G102: 118.56832 | H102: =F102/E102 -> 0.41333351 | L102: 40563 | M102: 309.74033 | N102: 379.76055
D103: ICG | E103: 904.84869 | F103: 489.96887 | G103: 414.87982 | H103: =F103/E103 -> 0.5414926 | L103: 40594 | M103: 322.43837 | N103: 395.36
D104: Other | E104: 115.7548 | F104: 0 | G104: 115.7548 | H104: =F104/E104 -> 0 | L104: 40622 | M104: 322.43837 | N104: 400.00015
D105: Total | E105: 2046.8996 | F105: 1044.5367 | G105: 1002.363 | H105: =F105/E105 -> 0.51030185 | L105: 40651 | M105: 322.43837 | N105: 419.41598
C106: 40725 | D106: Organisation | E106: Alloc TB | F106: Used TB | G106: Available TB | H106: Avg Utilization | L106: 40686 | M106: 322.43837 | N106: 433.53301
D107: CORP | E107: 827.01114 | F107: 541.12195 | G107: 285.8892 | H107: =F107/E107 -> 0.65431034 | L107: 40714 | M107: 328.27431 | N107: 446.46311
D108: GCG | E108: 195.30962 | F108: 100.34199 | G108: 94.967632 | H108: =F108/E108 -> 0.51375855 | L108: 40744 | M108: 328.27431 | N108: 450.07796
D109: ICG | E109: 904.77343 | F109: 558.44741 | G109: 346.32602 | H109: =F109/E109 -> 0.61722348 | L109: 40775 | M109: 336.06821 | N109: =484873.957149506/1024 -> 473.50972
D110: Other | E110: 116.34749 | F110: 0 | G110: 116.34749 | H110: =F110/E110 -> 0 | L110: 40806 | M110: 335.51668 | N110: 488.22186
D111: Total | E111: 2043.4417 | F111: 1199.9113 | G111: 843.53034 | H111: =F111/E111 -> 0.58720117 | L111: 40836 | M111: 335.77849 | N111: 488.22186
C112: 40756 | D112: Organisation | E112: Alloc TB | F112: Used TB | G112: Available TB | H112: Avg Utilization | L112: 40867 | M112: 335.77849 | N112: 488.22186
D113: CORP | E113: 812.94925 | F113: 512.93754 | G113: 300.01171 | H113: =F113/E113 -> 0.63095887 | L113: 40889 | M113: 335.77849 | N113: 497.64648
D114: GCG | E114: 184.15664 | F114: 95.52159 | G114: 88.635051 | H114: =F114/E114 -> 0.5186975 | L114: 40917 | M114: 335.77849 | N114: 508.27051
D115: ICG | E115: 923.66816 | F115: 590.72326 | G115: 332.9449 | H115: =F115/E115 -> 0.63954057 | L115: 40948 | M115: 335.77849 | N115: 523.41797
...

Sheet Pivottables
B3: Installed TB | P3: Allocated TB
B4: Installed Raw (TB) | C4: Column Labels | P4: Allocated(TB) | Q4: Column Labels
B5: Row Labels | C5: CGC | D5: Frankfurt | E5: Goleszowska | F5: IX Europe | G5: London (RDC) | H5: Meerbusch | I5: Russia | J5: Senatorska | K5: Switzerland | L5: Turkey | M5: Welle | N5: Grand Total | P5: Row Labels | Q5: CGC | R5: Frankfurt | S5: Goleszowska | T5: IX Europe | U5: London (RDC) | V5: Meerbusch | W5: Russia | X5: Senatorska | Y5: Switzerland | Z5: Turkey | AA5: Welle | AB5: Grand Total
B6: 41153 | C6: 628.28797 | D6: 2097.1066 | E6: 151.28711 | F6: 0 | G6: 2718.5466 | H6: 331.33643 | I6: 38.916078 | J6: 171.62891 | K6: 43.992188 | L6: 131.9606 | M6: 25.494392 | N6: 6338.5569 | P6: 41153 | Q6: 357.18811 | R6: 1642.9441 | S6: 59.983259 | T6: 0 | U6: 2350.3929 | V6: 226.3379 | W6: 37.175988 | X6: 60.257673 | Y6: 27.957031 | Z6: 74.141087 | AA6: 3.8759787 | AB6: 4840.254
B7: 41183 | C7: 628.28797 | D7: 2127.2135 | E7: 151.41146 | F7: 0 | G7: 2734.0118 | H7: 332.89014 | I7: 38.916078 | J7: 172.05728 | K7: 43.992188 | L7: 131.9606 | M7: 5.3034973 | N7: 6366.0445 | P7: 41183 | Q7: 357.37628 | R7: 2048.4106 | S7: 78.81754 | T7: 0 | U7: 2410.1924 | V7: 228.90011 | W7: 37.175988 | X7: 82.647522 | Y7: 28.563477 | Z7: 75.371556 | AA7: 3.8759787 | AB7: 5351.3315
B8: 41244 | C8: 628.28797 | D8: 2127.2135 | E8: 151.41146 | F8: 0 | G8: 2734.0118 | H8: 332.89014 | I8: 38.916078 | J8: 172.05728 | K8: 43.992188 | L8: 131.9606 | M8: 5.3034973 | N8: 6366.0445 | P8: 41244 | Q8: 357.37628 | R8: 2048.4106 | S8: 78.81754 | T8: 0 | U8: 2410.1924 | V8: 228.90011 | W8: 37.175988 | X8: 82.647522 | Y8: 28.563477 | Z8: 75.371556 | AA8: 3.8759787 | AB8: 5351.3315
B9: 41334 | C9: 628.28797 | D9: 2127.2135 | E9: 151.41146 | F9: 0 | G9: 2734.0118 | H9: 332.89014 | I9: 38.916078 | J9: 172.05728 | K9: 43.992188 | L9: 131.9606 | M9: 5.3034973 | N9: 6366.0445 | P9: 41334 | Q9: 357.37628 | R9: 2048.4106 | S9: 78.81754 | T9: 0 | U9: 2410.1924 | V9: 228.90011 | W9: 37.175988 | X9: 82.647522 | Y9: 28.563477 | Z9: 75.371556 | AA9: 3.8759787 | AB9: 5351.3315
B44: Installed Raw | P44: Allocated Raw
B45: 40179 | P45: 40179
B46: 40210 | D46: Migration | G46: Migration | H46: Migration | P46: 40210
B47: 40238 | P47: 40238
B48: 40269 | C48: VMAX managed | D48: Disk added to HDS array | G48: Migration | J48: Disk added to HP/HDS array | P48: 40269
B49: 40299 | P49: 40299
B50: 40330 | C50: Migration | G50: Migration | H50: Migration | P50: 40330
B51: 40360 | L51: Disk added to Centera | P51: 40360
B52: 40391 | D52: Disk added to VMAX array | G52: Disk added to Centera. Disk added to VMAX | P52: 40391
B53: 40422 | P53: 40422
B54: 40452 | C54: Disk added to VMAX | D54: Clariion array added | G54: Clariion array added | H54: Disk added to Centera | I54: Clariion array managed | L54: Clariion array managed | P54: 40452
B55: 40483 | C55: Migration | D55: Disk added to HDS array | G55: HDS array added. Disk added to VMAX | P55: 40483
B56: 40513 | H56: Migration | P56: 40513
B57: 40544 | M57: VMAX array added | P57: 40544 | Q57: DMX -8TB | R57: HDS 23TB, VMAX 21TB | U57: HDS 38TB, DMX 3TB | V57: Centera 5TB | AA57: VMAX 4TB
B58: 40575 | C58: Disk added to VMAX | G58: Disk added to VMAX | P58: 40575 | Q58: DMX -4TB | R58: HDS 52TB, VMAX 3TB | U58: HDS 54TB, VMAX 11TB | V58: Centera 6TB
B59: 40603 | D59: Clariion array added. VMAX array added | G59: Disk added to Centera | H59: Disk added to Centera. VMAX array added | P59: 40603 | Q59: VMAX 60TB, DMX -1TB | R59: VMAX 8TB, DMX 16TB | U59: HDS 17TB, VMAX 15TB, DMX -34 | V59: Centera 3TB, VMAX 21TB
B60: 40634 | P60: 40634 | Q60: VMAX -4TB, DMX -1TB | R60: HDS 3TB, VMAX 7TB, VMAX 31TB, DMX 4TB | S60: Centera 1TB | U60: Centera 6TB, HDS 13TB, VMAX 6TB, DMX -28TB | V60: Centera 9TB, VMAX -14TB, EDC 3TB | X60: Centera 1TB | Z60: Centera 3TB | AA60: DMX 5TB
B61: 40664 | P61: 40664 | Q61: VMAX 12TB | R61: HDS 6TB | U61: Centera 4TB, HDS 4TB, VMAX 35TB, DMX -4TB | V61: Centera 8TB, VMAX 6TB | X61: Centera 1TB | Z61: Centera 2TB
B62: 40695 | C62: 1 array decommissioned | D62: 2 arrays decommissioned | F62: IXE Arrays decommissioned | G62: 2 arrays decommissioned | P62: 40695 | Q62: VMAX 4TB, DMX -1TB | R62: VMAX -7TB, HDS 1TB | T62: DMX -129TB | U62: VMAX 19TB, Clariion 6TB, HDS 1TB, Centera 6TB, DMX -2TB | V62: VMAX 3TB, Centera 5TB | X62: Centera 1TB
B63: 40725 | P63: 40725 | Q63: VMAX 3TB, DMX 2TB | R63: VMAX 33TB, HDS 2TB | U63: VMAX 32TB, Center 1TB | V63: Centera 1TB
B64: 40756 | D64: 1 new Clariion | G64: 1 DMX array decommissioned, 1 new VMAX, 1 new Clariion, disk added to Centera | H64: Disk added to Centera | P64: 40756 | Q64: VMAX 7TB | R64: VMAX 16TB, HDS FDC 14TB, Clariion 4TB | U64: DMX -44TB, VMAX 6TB, HDS 3TB, Clariion 4TB, Centera 12TB | V64: Centera 9TB | X64: Centera 1TB | Z64: Centera 3TB
B65: 40787 | D65: Disk added to VMAX | E65: Disk added to Centera | H65: Disk added to DMX | P65: 40787 | Q65: VMAX 4TB | R65: HDS 1TB, VMAX 31TB | S65: Centera 4TB | U65: Centera 4TB, HDS 5TB, VMAX 10TB | V65: Centera 4TB | X65: Centera 1TB | AA65: DMX 4TB
B66: 40817 | D66: 1 new VMAX array | G66: 1 new VMAX array | P66: 40817
B67: 40848 | D67: 1 new VMAX array | G67: 1 new VMAX array | P67: 40848 | Q67: VMAX 3TB, DMX -4TB | R67: VMAX -31TB, HDC 16TB | U67: VMAX 82TB, DMX -42TB, HDS 13TB | V67: VMAX -16TB
B68: 40878 | C68: 1 DMX decommissioned | G68: 1 DMX decommissioned | H68: 3 DMX decommissioned | P68: 40878 | R68: VMAX 24TB, HDS 1TB | S68: Centera 3TB | U68: VMAX 29TB, HDS 1TB, DMX -4TB, Centera 2TB | V68: DMX -92TB, Centera -6TB | X68: Centera 3TB | Y68: Centera 6TB | Z68: Centera 4TB
B69: 40909 | D69: 1 new Centera | G69: 1 new Centera | P69: 40909 | Q69: VMAX -1TB | R69: HDS -23TB, VMAX -1TB | S69: Centera 1TB | U69: HDS -2TB, Centera 4TB | V69: Centera 4TB | X69: Centera 1TB | Y69: Centera 1TB | Z69: Centera 1TB
B70: 40940 | P70: 40940 | Q70: VMAX 7TB | R70: HDS 6TB, VMAX 14TB | S70: Centera 1TB | U70: Centera 5TB, HDS 3TB, VMAX 53TB | V70: Centera 6TB | Z70: Centera 1TB
B71: 40969 | C71: Disk added to VMAX | G71: Disk added to VMAX & HDS | H71: Disk added to Centera | P71: 40969 | R71: HDS 9TB, DMX 3TB, VMAX 74TB | S71: HP/HDS -8TB | U71: Centera 3TB, DMX 3TB, VMAX 97TB | V71: Centera 9TB, VMAX 16TB | X71: HP/HDS -12TB | Y71: Centera 1TB | Z71: Centera 1TB
B72: 41000 | D72: Disks added to HDS | P72: 41000 | Q72: DMX 1TB, VMAX 1TB | R72: HDS 2TB, VMAX 48TB | S72: Centera 1TB | U72: Centera 10TB, HDS 5TB, DMX 1TB, VMAX 62TB | V72: Centera 6TB, VMAX 1TB | Y72: Centera 1TB | Z72: Centera 2TB
B73: 41030 | D73: Disks added to VMAX | G73: Disks added to VMAX & Centera | H73: Disk added to Centera | I73: New Clariion Array | P73: 41030 | Q73: DMX -13TB, VMAX -4TB | R73: DMX -1TB,VMAX 11TB | S73: Centera 1TB | U73: HDS 4TB, VMAX 35TB | V73: Centera 2TB, DMX -1TB | W73: Clariion 8TB | Z73: Centera 1TB
B74: 41061 | C74: Disks added to VMAX | D74: Disks added to VMAX | G74: Disks added to VMAX | P74: 41061 | Q74: VMAX -4TB | R74: VMAX 62TB, HDS 3TB | U74: VMAX 50TB, HDS -2TB, DMX -8TB, Centera 4TB | V74: Centera 6TB | Y74: Centera 1TB | Z74: Centera 1TB
B75: 41091 | P75: 41091 | Q75: VMAX 13TB | R75: VMAX 154TB, DMX 3TB, HDS 1TB | S75: Centera 1TB | U75: VMAX 182TB, DMX 1TB, HDS 1TB, Centera 3TB | V75: Centera 5TB | Y75: Centera 1TB | Z75: Centera 1TB
B76: 41122 | C76: Disks added to VMAX | D76: Disks added to VMAX | E76: Disk added to Centera | G76: Disks added to VMAX | J76: Disk added to Centera | P76: 41122 | Q76: VMAX 27TB | R76: VMAX 17TB, HDS -15TB, Centera 10TB | S76: Centera 1TB | U76: VMAX 13TB, HDS -5TB, Centera 1TB | V76: Centera 2TB | X76: Centera 4TB | Z76: Center 1TB | AA76: DMX -15TB
B78: Note:In raw | P78: Note:In raw
B79: =CONCATENATE(C79,D79,E79,F79,G79,H79,I79,J79,K79,L79,M79,N79) -> CGC , Frankfurt , Goleszowska , IX Europe , London (RDC) , Meerbusch , Russia , Senatorska , Switzerland , Turkey , Welle | C79: =CONCATENATE(C$5," ",C75,", ") -> CGC , | D79: =CONCATENATE(D$5," ",D75,", ") -> Frankfurt , | E79: =CONCATENATE(E$5," ",E75,", ") -> Goleszowska , | F79: =CONCATENATE(F$5," ",F75,", ") -> IX Europe , | G79: =CONCATENATE(G$5," ",G75,", ") -> London (RDC) , | H79: =CONCATENATE(H$5," ",H75,", ") -> Meerbusch , | I79: =CONCATENATE(I$5," ",I75,", ") -> Russia , | J79: =CONCATENATE(J$5," ",J75,", ") -> Senatorska , | ... L79: =CONCATENATE(L$5," ",L75,", ") -> Turkey , | M79: =CONCATENATE(M$5," ",M75) -> Welle | P79: =CONCATENATE(Q79,R79,S79,T79,U79,V79,W79,X79,Y79,Z79,AA79,AB79) -> CGC VMAX 13TB, Frankfurt VMAX 154TB, DMX 3TB, HDS 1TB, Goleszowska Centera 1TB, IX Europe , London (RDC) VMAX 182TB, DMX 1TB, HDS 1TB, Centera 3TB, Meerbusch Centera 5TB, Russia , Senatorska , Switzerland Centera 1TB, Turkey Centera 1TB, Welle | Q79: =CONCATENATE(Q$5," ",Q75,", ") -> CGC VMAX 13TB, | R79: =CONCATENATE(R$5," ",R75,", ") -> Frankfurt VMAX 154TB, DMX 3TB, HDS 1TB, | S79: =CONCATENATE(S$5," ",S75,", ") -> Goleszowska Centera 1TB, | T79: =CONCATENATE(T$5," ",T75,", ") -> IX Europe , | U79: =CONCATENATE(U$5," ",U75,", ") -> London (RDC) VMAX 182TB, DMX 1TB, HDS 1TB, Centera 3TB, | V79: =CONCATENATE(V$5," ",V75,", ") -> Meerbusch Centera 5TB, | W79: =CONCATENATE(W$5," ",W75,", ") -> Russia , | X79: =CONCATENATE(X$5," ",X75,", ") -> Senatorska , | ... Z79: =CONCATENATE(Z$5," ",Z75,", ") -> Turkey Centera 1TB, | AA79: =CONCATENATE(AA$5," ",AA75) -> Welle
B80: =CONCATENATE(C80,D80,E80,F80,G80,H80,I80,J80,K80,L80,M80,N80) -> CGC Disks added to VMAX, Frankfurt Disks added to VMAX, Goleszowska Disk added to Centera, IX Europe , London (RDC) Disks added to VMAX, Meerbusch , Russia , Senatorska Disk added to Centera, Switzerland , Turkey , Welle | C80: =CONCATENATE(C$5," ",C76,", ") -> CGC Disks added to VMAX, | D80: =CONCATENATE(D$5," ",D76,", ") -> Frankfurt Disks added to VMAX, | E80: =CONCATENATE(E$5," ",E76,", ") -> Goleszowska Disk added to Centera, | F80: =CONCATENATE(F$5," ",F76,", ") -> IX Europe , | G80: =CONCATENATE(G$5," ",G76,", ") -> London (RDC) Disks added to VMAX, | H80: =CONCATENATE(H$5," ",H76,", ") -> Meerbusch , | I80: =CONCATENATE(I$5," ",I76,", ") -> Russia , | J80: =CONCATENATE(J$5," ",J76,", ") -> Senatorska Disk added to Centera, | ... L80: =CONCATENATE(L$5," ",L76,", ") -> Turkey , | M80: =CONCATENATE(M$5," ",M76) -> Welle | P80: =CONCATENATE(Q80,R80,S80,T80,U80,V80,W80,X80,Y80,Z80,AA80,AB80) -> CGC VMAX 27TB, Frankfurt VMAX 17TB, HDS -15TB, Centera 10TB, Goleszowska Centera 1TB, IX Europe , London (RDC) VMAX 13TB, HDS -5TB, Centera 1TB, Meerbusch Centera 2TB, Russia , Senatorska Centera 4TB, Switzerland , Turkey Center 1TB, Welle DMX -15TB | Q80: =CONCATENATE(Q$5," ",Q76,", ") -> CGC VMAX 27TB, | R80: =CONCATENATE(R$5," ",R76,", ") -> Frankfurt VMAX 17TB, HDS -15TB, Centera 10TB, | S80: =CONCATENATE(S$5," ",S76,", ") -> Goleszowska Centera 1TB, | T80: =CONCATENATE(T$5," ",T76,", ") -> IX Europe , | U80: =CONCATENATE(U$5," ",U76,", ") -> London (RDC) VMAX 13TB, HDS -5TB, Centera 1TB, | V80: =CONCATENATE(V$5," ",V76,", ") -> Meerbusch Centera 2TB, | W80: =CONCATENATE(W$5," ",W76,", ") -> Russia , | X80: =CONCATENATE(X$5," ",X76,", ") -> Senatorska Centera 4TB, | ... Z80: =CONCATENATE(Z$5," ",Z76,", ") -> Turkey Center 1TB, | AA80: =CONCATENATE(AA$5," ",AA76) -> Welle DMX -15TB
