Workbook

Sheet Summary
C1: All Sheets
A3: Sheet Name | B3: Market Standard | C3: Formatted | D3: format Lost | E3: Physical total | F3: Parity Lost | G3: Pool Usable | H3: Pool Used | I3: Pool Free | J3: Spare | K3: %Used | L3: Host Allocations | M3: %Allocated
A4: Final MOR | B4: =SUMIF('Final MOR'!B:B,"Total",'Final MOR'!D:D) -> 12539192 | C4: =SUMIF('Final MOR'!B:B,"Total",'Final MOR'!E:E) -> 11479720 | D4: =SUMIF('Final MOR'!B:B,"Total",'Final MOR'!F:F) -> 1059471.9 | E4: =SUMIF('Final MOR'!B:B,"Total",'Final MOR'!G:G) -> 10614217 | F4: =SUMIF('Final MOR'!B:B,"Total",'Final MOR'!H:H) -> 3980756.8 | G4: =SUMIF('Final MOR'!B:B,"Total",'Final MOR'!I:I) -> 6633460.6 | H4: =SUMIF('Final MOR'!B:B,"Total",'Final MOR'!J:J) -> 3576296.6 | I4: =SUMIF('Final MOR'!B:B,"Total",'Final MOR'!K:K) -> 3216279.7 | J4: =SUMIF('Final MOR'!B:B,"Total",'Final MOR'!L:L) -> 302084.41 | K4: =SUMIF('Final MOR'!B:B,"Total",'Final MOR'!M:M) -> 0.53912985 | L4: =SUMIF('Final MOR'!B:B,"Total",'Final MOR'!N:N) -> 5859431.2 | M4: =SUMIF('Final MOR'!B:B,"Total",'Final MOR'!O:O) -> 0.88331439
A5: Tech-Refresh | B5: =SUMIF('Tech-Refresh'!B:B,"Total",'Tech-Refresh'!D:D) -> 934711.97 | C5: =SUMIF('Tech-Refresh'!B:B,"Total",'Tech-Refresh'!E:E) -> 845337.27 | D5: =SUMIF('Tech-Refresh'!B:B,"Total",'Tech-Refresh'!F:F) -> 89374.698 | E5: =SUMIF('Tech-Refresh'!B:B,"Total",'Tech-Refresh'!G:G) -> 794972.55 | F5: =SUMIF('Tech-Refresh'!B:B,"Total",'Tech-Refresh'!H:H) -> 99371.568 | G5: =SUMIF('Tech-Refresh'!B:B,"Total",'Tech-Refresh'!I:I) -> 695600.98 | H5: =SUMIF('Tech-Refresh'!B:B,"Total",'Tech-Refresh'!J:J) -> 159115.74 | I5: =SUMIF('Tech-Refresh'!B:B,"Total",'Tech-Refresh'!K:K) -> 536485.24 | J5: =SUMIF('Tech-Refresh'!B:B,"Total",'Tech-Refresh'!L:L) -> 23822.541 | K5: =SUMIF('Tech-Refresh'!B:B,"Total",'Tech-Refresh'!M:M) -> 0.22874571 | L5: =SUMIF('Tech-Refresh'!B:B,"Total",'Tech-Refresh'!N:N) -> 206455.15 | M5: =SUMIF('Tech-Refresh'!B:B,"Total",'Tech-Refresh'!O:O) -> 0.29680112
A6: New Installs | B6: =SUMIF('New Installs'!B:B,"Total",'New Installs'!D:D) -> 0 | C6: =SUMIF('New Installs'!B:B,"Total",'New Installs'!E:E) -> 0 | D6: =SUMIF('New Installs'!B:B,"Total",'New Installs'!F:F) -> 0 | E6: =SUMIF('New Installs'!B:B,"Total",'New Installs'!G:G) -> 0 | F6: =SUMIF('New Installs'!B:B,"Total",'New Installs'!H:H) -> 0 | G6: =SUMIF('New Installs'!B:B,"Total",'New Installs'!I:I) -> 0 | H6: =SUMIF('New Installs'!B:B,"Total",'New Installs'!J:J) -> 0 | I6: =SUMIF('New Installs'!B:B,"Total",'New Installs'!K:K) -> 0 | J6: =SUMIF('New Installs'!B:B,"Total",'New Installs'!L:L) -> 0 | K6: =SUMIF('New Installs'!B:B,"Total",'New Installs'!M:M) -> 0 | L6: =SUMIF('New Installs'!B:B,"Total",'New Installs'!N:N) -> 0 | M6: =SUMIF('New Installs'!B:B,"Total",'New Installs'!O:O) -> 0
A7: Unable to Report | B7: =SUMIF('Unable to Report'!B:B,"Total",'Unable to Report'!D:D) -> 0 | C7: =SUMIF('Unable to Report'!B:B,"Total",'Unable to Report'!E:E) -> 0 | D7: =SUMIF('Unable to Report'!B:B,"Total",'Unable to Report'!F:F) -> 0 | E7: =SUMIF('Unable to Report'!B:B,"Total",'Unable to Report'!G:G) -> 0 | F7: =SUMIF('Unable to Report'!B:B,"Total",'Unable to Report'!H:H) -> 0 | G7: =SUMIF('Unable to Report'!B:B,"Total",'Unable to Report'!I:I) -> 0 | H7: =SUMIF('Unable to Report'!B:B,"Total",'Unable to Report'!J:J) -> 0 | I7: =SUMIF('Unable to Report'!B:B,"Total",'Unable to Report'!K:K) -> 0 | J7: =SUMIF('Unable to Report'!B:B,"Total",'Unable to Report'!L:L) -> 0 | K7: 0 | L7: =SUMIF('Unable to Report'!B:B,"Total",'Unable to Report'!N:N) -> 0 | M7: 0
A8: Exchange | B8: =SUMIF(Exchange!B:B,"Total",Exchange!D:D) -> 3028284.7 | C8: =SUMIF(Exchange!B:B,"Total",Exchange!E:E) -> 2754595.1 | D8: =SUMIF(Exchange!B:B,"Total",Exchange!F:F) -> 273689.6 | E8: =SUMIF(Exchange!B:B,"Total",Exchange!G:G) -> 2385834.9 | F8: =SUMIF(Exchange!B:B,"Total",Exchange!H:H) -> 959187.18 | G8: =SUMIF(Exchange!B:B,"Total",Exchange!I:I) -> 1426647.7 | H8: =SUMIF(Exchange!B:B,"Total",Exchange!J:J) -> 1322747.2 | I8: =SUMIF(Exchange!B:B,"Total",Exchange!K:K) -> 103900.48 | J8: =SUMIF(Exchange!B:B,"Total",Exchange!L:L) -> 2659.3696 | K8: =SUMIF(Exchange!B:B,"Total",Exchange!M:M) -> 0.92717159 | L8: =SUMIF(Exchange!B:B,"Total",Exchange!N:N) -> 1322747.2 | M8: =SUMIF(Exchange!B:B,"Total",Exchange!O:O) -> 0.92717159
A9: Total(GB) | B9: =SUM(B4:B8) -> 16502189 | C9: =SUM(C4:C8) -> 15079652 | D9: =SUM(D4:D8) -> 1422536.2 | E9: =SUM(E4:E8) -> 13795025 | F9: =SUM(F4:F8) -> 5039315.6 | G9: =SUM(G4:G8) -> 8755709.2 | H9: =SUM(H4:H8) -> 5058159.5 | I9: =SUM(I4:I8) -> 3856665.4 | J9: =SUM(J4:J8) -> 328566.32 | K9: =H9/G9 -> 0.57769843 | L9: =SUM(L4:L8) -> 7388633.5 | M9: =L9/G9 -> 0.84386465
A10: Total(TB) | B10: =B9/1024 -> 16115.419 | C10: =C9/1024 -> 14726.223 | D10: =D9/1024 -> 1389.1955 | E10: =E9/1024 -> 13471.704 | F10: =F9/1024 -> 4921.2066 | G10: =G9/1024 -> 8550.4973 | H10: =H9/1024 -> 4939.6089 | I10: =I9/1024 -> 3766.2748 | J10: =J9/1024 -> 320.86555 | K10: =H10/G10 -> 0.57769843 | L10: =L9/1024 -> 7215.4624 | M10: =L10/G10 -> 0.84386465
A11: Total(PB) | B11: =B10/1024 -> 15.737713 | C11: =C10/1024 -> 14.381077 | D11: =D10/1024 -> 1.3566362 | E11: =E10/1024 -> 13.155961 | F11: =F10/1024 -> 4.8058658 | G11: =G10/1024 -> 8.350095 | H11: =H10/1024 -> 4.8238368 | I11: =I10/1024 -> 3.6780028 | J11: =J10/1024 -> 0.31334526 | K11: =H11/G11 -> 0.57769843 | L11: =L10/1024 -> 7.04635 | M11: =L11/G11 -> 0.84386465
C13: Exclude the below Sheets from the final MOR Report
A15: Sheet Name | B15: Market Standard | C15: Formatted | D15: format Lost | E15: Physical total | F15: Parity Lost | G15: Pool Usable | H15: Pool Used | I15: Pool Free | J15: Spare | K15: %Used | L15: Host Allocations | M15: %Allocated
A16: Tech-Refresh | B16: =B5 -> 934711.97 | C16: =C5 -> 845337.27 | D16: =D5 -> 89374.698 | E16: =E5 -> 794972.55 | F16: =F5 -> 99371.568 | G16: =G5 -> 695600.98 | H16: =H5 -> 159115.74 | I16: =I5 -> 536485.24 | ... M16: =M5 -> 0.29680112
A17: New Installs | B17: =B6 -> 0 | C17: =C6 -> 0 | D17: =D6 -> 0 | E17: =E6 -> 0 | F17: =F6 -> 0 | G17: =G6 -> 0 | H17: =H6 -> 0 | I17: =I6 -> 0 | ... M17: =M6 -> 0
A18: Unable to Report | B18: =B7 -> 0 | C18: =C7 -> 0 | D18: =D7 -> 0 | E18: =E7 -> 0 | F18: =F7 -> 0 | G18: =G7 -> 0 | H18: =H7 -> 0 | I18: =I7 -> 0 | ... M18: =M7 -> 0
A19: Exchange | B19: =B8 -> 3028284.7 | C19: =C8 -> 2754595.1 | D19: =D8 -> 273689.6 | E19: =E8 -> 2385834.9 | F19: =F8 -> 959187.18 | G19: =G8 -> 1426647.7 | H19: =H8 -> 1322747.2 | I19: =I8 -> 103900.48 | ... M19: =M8 -> 0.92717159
A20: Total(GB) | B20: =SUM(B16:B19) -> 3962996.7 | C20: =SUM(C16:C19) -> 3599932.4 | D20: =SUM(D16:D19) -> 363064.3 | E20: =SUM(E16:E19) -> 3180807.4 | F20: =SUM(F16:F19) -> 1058558.8 | G20: =SUM(G16:G19) -> 2122248.6 | H20: =SUM(H16:H19) -> 1481862.9 | I20: =SUM(I16:I19) -> 640385.72 | J20: =SUM(J16:J19) -> 26481.911 | K20: =H20/G20 -> 0.69825133 | L20: =SUM(L16:L19) -> 1529202.3 | M20: =L20/G20 -> 0.72055758
A21: Total(TB) | B21: =B20/1024 -> 3870.1139 | C21: =C20/1024 -> 3515.5589 | D21: =D20/1024 -> 354.55498 | E21: =E20/1024 -> 3106.2572 | F21: =F20/1024 -> 1033.7488 | G21: =G20/1024 -> 2072.5084 | H21: =H20/1024 -> 1447.1318 | I21: =I20/1024 -> 625.37668 | J21: =J20/1024 -> 25.861241 | K21: =H21/G21 -> 0.69825133 | L21: =L20/1024 -> 1493.3617 | M21: =L21/G21 -> 0.72055758
A22: Total(PB) | B22: =B21/1024 -> 3.7794081 | C22: =C21/1024 -> 3.433163 | D22: =D21/1024 -> 0.3462451 | E22: =E21/1024 -> 3.0334543 | F22: =F21/1024 -> 1.0095203 | G22: =G21/1024 -> 2.023934 | H22: =H21/1024 -> 1.4132146 | I22: =I21/1024 -> 0.61071941 | J22: =J21/1024 -> 0.025255118 | K22: =H22/G22 -> 0.69825133 | L22: =L21/1024 -> 1.458361 | M22: =L22/G22 -> 0.72055758
C24: Final MOR Report
A26: Sheet Name | B26: Market Standard | C26: Formatted | D26: format Lost | E26: Physical total | F26: Parity Lost | G26: Pool Usable | H26: Pool Used | I26: Pool Free | J26: Spare | K26: %Used | L26: Host Allocations | M26: %Allocated
A27: Final MOR | B27: =B9-B20 -> 12539192 | C27: =C9-C20 -> 11479720 | D27: =D9-D20 -> 1059471.9 | E27: =E9-E20 -> 10614217 | F27: =F9-F20 -> 3980756.8 | G27: =G9-G20 -> 6633460.6 | H27: =H9-H20 -> 3576296.6 | I27: =I9-I20 -> 3216279.7 | J27: =J9-J20 -> 302084.41 | K27: =H27/G27 -> 0.53912985 | L27: =L9-L20 -> 5859431.2 | M27: =L27/G27 -> 0.88331439
A28: Total(TB) | B28: =B27/1024 -> 12245.305 | C28: =C27/1024 -> 11210.664 | D28: =D27/1024 -> 1034.6405 | E28: =E27/1024 -> 10365.447 | F28: =F27/1024 -> 3887.4578 | G28: =G27/1024 -> 6477.9888 | H28: =H27/1024 -> 3492.4771 | I28: =I27/1024 -> 3140.8982 | J28: =J27/1024 -> 295.0043 | K28: =H28/G28 -> 0.53912985 | L28: =L27/1024 -> 5722.1007 | M28: =L28/G28 -> 0.88331439
A29: Total(PB) | B29: =B28/1024 -> 11.958305 | C29: =C28/1024 -> 10.947914 | D29: =D28/1024 -> 1.0103911 | E29: =E28/1024 -> 10.122506 | F29: =F28/1024 -> 3.7963455 | G29: =G28/1024 -> 6.326161 | H29: =H28/1024 -> 3.4106222 | I29: =I28/1024 -> 3.0672834 | J29: =J28/1024 -> 0.28809014 | K29: =H29/G29 -> 0.53912985 | L29: =L28/1024 -> 5.587989 | M29: =L29/G29 -> 0.88331439

Sheet Summary-NoTRSource
C1: All Sheets
A3: Sheet Name | B3: Market Standard | C3: Formatted | D3: format Lost | E3: Physical total | F3: Parity Lost | G3: Pool Usable | H3: Pool Used | I3: Pool Free | J3: Spare | K3: %Used | L3: Host Allocations | M3: %Allocated
A4: Final MOR | B4: =SUMIF('Final MOR-no-MOR'!B:B,"Total",'Final MOR-no-MOR'!D:D) -> 31023716 | C4: =SUMIF('Final MOR-no-MOR'!B:B,"Total",'Final MOR-no-MOR'!E:E) -> 28354433 | D4: =SUMIF('Final MOR-no-MOR'!B:B,"Total",'Final MOR-no-MOR'!F:F) -> 2669283 | E4: =SUMIF('Final MOR-no-MOR'!B:B,"Total",'Final MOR-no-MOR'!G:G) -> 25865717 | F4: =SUMIF('Final MOR-no-MOR'!B:B,"Total",'Final MOR-no-MOR'!H:H) -> 9236931.4 | G4: =SUMIF('Final MOR-no-MOR'!B:B,"Total",'Final MOR-no-MOR'!I:I) -> 16628786 | H4: =SUMIF('Final MOR-no-MOR'!B:B,"Total",'Final MOR-no-MOR'!J:J) -> 9445597.8 | I4: =SUMIF('Final MOR-no-MOR'!B:B,"Total",'Final MOR-no-MOR'!K:K) -> 7183188.1 | J4: =SUMIF('Final MOR-no-MOR'!B:B,"Total",'Final MOR-no-MOR'!L:L) -> 619792.4 | K4: =SUMIF('Final MOR-no-MOR'!B:B,"Total",'Final MOR-no-MOR'!M:M) -> 1.7021517 | L4: =SUMIF('Final MOR-no-MOR'!B:B,"Total",'Final MOR-no-MOR'!N:N) -> 13567020 | M4: =SUMIF('Final MOR-no-MOR'!B:B,"Total",'Final MOR-no-MOR'!O:O) -> 2.2899858
A5: Tech-Refresh | B5: =SUMIF('Tech-Refresh'!B:B,"Total",'Tech-Refresh'!D:D) -> 934711.97 | C5: =SUMIF('Tech-Refresh'!B:B,"Total",'Tech-Refresh'!E:E) -> 845337.27 | D5: =SUMIF('Tech-Refresh'!B:B,"Total",'Tech-Refresh'!F:F) -> 89374.698 | E5: =SUMIF('Tech-Refresh'!B:B,"Total",'Tech-Refresh'!G:G) -> 794972.55 | F5: =SUMIF('Tech-Refresh'!B:B,"Total",'Tech-Refresh'!H:H) -> 99371.568 | G5: =SUMIF('Tech-Refresh'!B:B,"Total",'Tech-Refresh'!I:I) -> 695600.98 | H5: =SUMIF('Tech-Refresh'!B:B,"Total",'Tech-Refresh'!J:J) -> 159115.74 | I5: =SUMIF('Tech-Refresh'!B:B,"Total",'Tech-Refresh'!K:K) -> 536485.24 | J5: =SUMIF('Tech-Refresh'!B:B,"Total",'Tech-Refresh'!L:L) -> 23822.541 | K5: =SUMIF('Tech-Refresh'!B:B,"Total",'Tech-Refresh'!M:M) -> 0.22874571 | L5: =SUMIF('Tech-Refresh'!B:B,"Total",'Tech-Refresh'!N:N) -> 206455.15 | M5: =SUMIF('Tech-Refresh'!B:B,"Total",'Tech-Refresh'!O:O) -> 0.29680112
A6: New Installs | B6: =SUMIF('New Installs'!B:B,"Total",'New Installs'!D:D) -> 0 | C6: =SUMIF('New Installs'!B:B,"Total",'New Installs'!E:E) -> 0 | D6: =SUMIF('New Installs'!B:B,"Total",'New Installs'!F:F) -> 0 | E6: =SUMIF('New Installs'!B:B,"Total",'New Installs'!G:G) -> 0 | F6: =SUMIF('New Installs'!B:B,"Total",'New Installs'!H:H) -> 0 | G6: =SUMIF('New Installs'!B:B,"Total",'New Installs'!I:I) -> 0 | H6: =SUMIF('New Installs'!B:B,"Total",'New Installs'!J:J) -> 0 | I6: =SUMIF('New Installs'!B:B,"Total",'New Installs'!K:K) -> 0 | J6: =SUMIF('New Installs'!B:B,"Total",'New Installs'!L:L) -> 0 | K6: =SUMIF('New Installs'!B:B,"Total",'New Installs'!M:M) -> 0 | L6: =SUMIF('New Installs'!B:B,"Total",'New Installs'!N:N) -> 0 | M6: =SUMIF('New Installs'!B:B,"Total",'New Installs'!O:O) -> 0
A7: Unable to Report | B7: =SUMIF('Unable to Report'!B:B,"Total",'Unable to Report'!D:D) -> 0 | C7: =SUMIF('Unable to Report'!B:B,"Total",'Unable to Report'!E:E) -> 0 | D7: =SUMIF('Unable to Report'!B:B,"Total",'Unable to Report'!F:F) -> 0 | E7: =SUMIF('Unable to Report'!B:B,"Total",'Unable to Report'!G:G) -> 0 | F7: =SUMIF('Unable to Report'!B:B,"Total",'Unable to Report'!H:H) -> 0 | G7: =SUMIF('Unable to Report'!B:B,"Total",'Unable to Report'!I:I) -> 0 | H7: =SUMIF('Unable to Report'!B:B,"Total",'Unable to Report'!J:J) -> 0 | I7: =SUMIF('Unable to Report'!B:B,"Total",'Unable to Report'!K:K) -> 0 | J7: =SUMIF('Unable to Report'!B:B,"Total",'Unable to Report'!L:L) -> 0 | K7: =SUMIF('Unable to Report'!B:B,"Total",'Unable to Report'!M:M) -> #DIV/0! | L7: =SUMIF('Unable to Report'!B:B,"Total",'Unable to Report'!N:N) -> 0 | M7: =SUMIF('Unable to Report'!B:B,"Total",'Unable to Report'!O:O) -> #DIV/0!
A8: Exchange | B8: =SUMIF(Exchange!B:B,"Total",Exchange!D:D) -> 3028284.7 | C8: =SUMIF(Exchange!B:B,"Total",Exchange!E:E) -> 2754595.1 | D8: =SUMIF(Exchange!B:B,"Total",Exchange!F:F) -> 273689.6 | E8: =SUMIF(Exchange!B:B,"Total",Exchange!G:G) -> 2385834.9 | F8: =SUMIF(Exchange!B:B,"Total",Exchange!H:H) -> 959187.18 | G8: =SUMIF(Exchange!B:B,"Total",Exchange!I:I) -> 1426647.7 | H8: =SUMIF(Exchange!B:B,"Total",Exchange!J:J) -> 1322747.2 | I8: =SUMIF(Exchange!B:B,"Total",Exchange!K:K) -> 103900.48 | J8: =SUMIF(Exchange!B:B,"Total",Exchange!L:L) -> 2659.3696 | K8: =SUMIF(Exchange!B:B,"Total",Exchange!M:M) -> 0.92717159 | L8: =SUMIF(Exchange!B:B,"Total",Exchange!N:N) -> 1322747.2 | M8: =SUMIF(Exchange!B:B,"Total",Exchange!O:O) -> 0.92717159
A9: Total(GB) | B9: =SUM(B4:B8) -> 34986713 | C9: =SUM(C4:C8) -> 31954366 | D9: =SUM(D4:D8) -> 3032347.3 | E9: =SUM(E4:E8) -> 29046525 | F9: =SUM(F4:F8) -> 10295490 | G9: =SUM(G4:G8) -> 18751035 | H9: =SUM(H4:H8) -> 10927461 | I9: =SUM(I4:I8) -> 7823573.8 | J9: =SUM(J4:J8) -> 646274.31 | K9: =H9/G9 -> 0.58276575 | L9: =SUM(L4:L8) -> 15096223 | M9: =L9/G9 -> 0.80508746
A10: Total(TB) | B10: =B9/1024 -> 34166.712 | C10: =C9/1024 -> 31205.435 | D10: =D9/1024 -> 2961.2766 | E10: =E9/1024 -> 28365.747 | F10: =F9/1024 -> 10054.19 | G10: =G9/1024 -> 18311.557 | H10: =H9/1024 -> 10671.348 | I10: =I9/1024 -> 7640.2088 | J10: =J9/1024 -> 631.12725 | K10: =H10/G10 -> 0.58276575 | L10: =L9/1024 -> 14742.405 | M10: =L10/G10 -> 0.80508746
A11: Total(PB) | B11: =B10/1024 -> 33.36593 | C11: =C10/1024 -> 30.474058 | D11: =D10/1024 -> 2.8918717 | E11: =E10/1024 -> 27.700925 | F11: =F10/1024 -> 9.8185445 | G11: =G10/1024 -> 17.88238 | H11: =H10/1024 -> 10.421239 | I11: =I10/1024 -> 7.4611414 | J11: =J10/1024 -> 0.61633521 | K11: =H11/G11 -> 0.58276575 | L11: =L10/1024 -> 14.39688 | M11: =L11/G11 -> 0.80508746
C13: Exclude the below Sheets from the final MOR Report
A15: Sheet Name | B15: Market Standard | C15: Formatted | D15: format Lost | E15: Physical total | F15: Parity Lost | G15: Pool Usable | H15: Pool Used | I15: Pool Free | J15: Spare | K15: %Used | L15: Host Allocations | M15: %Allocated
A16: Tech-Refresh | B16: =B5 -> 934711.97 | C16: =C5 -> 845337.27 | D16: =D5 -> 89374.698 | E16: =E5 -> 794972.55 | F16: =F5 -> 99371.568 | G16: =G5 -> 695600.98 | H16: =H5 -> 159115.74 | I16: =I5 -> 536485.24 | ... M16: =M5 -> 0.29680112
A17: New Installs | B17: =B6 -> 0 | C17: =C6 -> 0 | D17: =D6 -> 0 | E17: =E6 -> 0 | F17: =F6 -> 0 | G17: =G6 -> 0 | H17: =H6 -> 0 | I17: =I6 -> 0 | ... M17: =M6 -> 0
A18: Unable to Report | B18: =B7 -> 0 | C18: =C7 -> 0 | D18: =D7 -> 0 | E18: =E7 -> 0 | F18: =F7 -> 0 | G18: =G7 -> 0 | H18: =H7 -> 0 | I18: =I7 -> 0 | ... M18: =M7 -> #DIV/0!
A19: Exchange | B19: =B8 -> 3028284.7 | C19: =C8 -> 2754595.1 | D19: =D8 -> 273689.6 | E19: =E8 -> 2385834.9 | F19: =F8 -> 959187.18 | G19: =G8 -> 1426647.7 | H19: =H8 -> 1322747.2 | I19: =I8 -> 103900.48 | ... M19: =M8 -> 0.92717159
A20: Total(GB) | B20: =SUM(B16:B19) -> 3962996.7 | C20: =SUM(C16:C19) -> 3599932.4 | D20: =SUM(D16:D19) -> 363064.3 | E20: =SUM(E16:E19) -> 3180807.4 | F20: =SUM(F16:F19) -> 1058558.8 | G20: =SUM(G16:G19) -> 2122248.6 | H20: =SUM(H16:H19) -> 1481862.9 | I20: =SUM(I16:I19) -> 640385.72 | J20: =SUM(J16:J19) -> 26481.911 | K20: =H20/G20 -> 0.69825133 | L20: =SUM(L16:L19) -> 1529202.3 | M20: =L20/G20 -> 0.72055758
A21: Total(TB) | B21: =B20/1024 -> 3870.1139 | C21: =C20/1024 -> 3515.5589 | D21: =D20/1024 -> 354.55498 | E21: =E20/1024 -> 3106.2572 | F21: =F20/1024 -> 1033.7488 | G21: =G20/1024 -> 2072.5084 | H21: =H20/1024 -> 1447.1318 | I21: =I20/1024 -> 625.37668 | J21: =J20/1024 -> 25.861241 | K21: =H21/G21 -> 0.69825133 | L21: =L20/1024 -> 1493.3617 | M21: =L21/G21 -> 0.72055758
A22: Total(PB) | B22: =B21/1024 -> 3.7794081 | C22: =C21/1024 -> 3.433163 | D22: =D21/1024 -> 0.3462451 | E22: =E21/1024 -> 3.0334543 | F22: =F21/1024 -> 1.0095203 | G22: =G21/1024 -> 2.023934 | H22: =H21/1024 -> 1.4132146 | I22: =I21/1024 -> 0.61071941 | J22: =J21/1024 -> 0.025255118 | K22: =H22/G22 -> 0.69825133 | L22: =L21/1024 -> 1.458361 | M22: =L22/G22 -> 0.72055758
C24: Final MOR Report
A26: Sheet Name | B26: Market Standard | C26: Formatted | D26: format Lost | E26: Physical total | F26: Parity Lost | G26: Pool Usable | H26: Pool Used | I26: Pool Free | J26: Spare | K26: %Used | L26: Host Allocations | M26: %Allocated
A27: Final MOR | B27: =B9-B20 -> 31023716 | C27: =C9-C20 -> 28354433 | D27: =D9-D20 -> 2669283 | E27: =E9-E20 -> 25865717 | F27: =F9-F20 -> 9236931.4 | G27: =G9-G20 -> 16628786 | H27: =H9-H20 -> 9445597.8 | I27: =I9-I20 -> 7183188.1 | J27: =J9-J20 -> 619792.4 | K27: =H27/G27 -> 0.56802691 | L27: =L9-L20 -> 13567020 | M27: =L27/G27 -> 0.81587558
A28: Total(TB) | B28: =B27/1024 -> 30296.598 | C28: =C27/1024 -> 27689.876 | D28: =D27/1024 -> 2606.7216 | E28: =E27/1024 -> 25259.489 | F28: =F27/1024 -> 9020.4408 | G28: =G27/1024 -> 16239.049 | H28: =H27/1024 -> 9224.2166 | I28: =I27/1024 -> 7014.8321 | J28: =J27/1024 -> 605.26601 | K28: =H28/G28 -> 0.56802691 | L28: =L27/1024 -> 13249.043 | M28: =L28/G28 -> 0.81587558
A29: Total(PB) | B29: =B28/1024 -> 29.586521 | C29: =C28/1024 -> 27.040895 | D29: =D28/1024 -> 2.5456266 | E29: =E28/1024 -> 24.66747 | F29: =F28/1024 -> 8.8090242 | G29: =G28/1024 -> 15.858446 | H29: =H28/1024 -> 9.008024 | I29: =I28/1024 -> 6.850422 | J29: =J28/1024 -> 0.59108009 | K29: =H29/G29 -> 0.56802691 | L29: =L28/1024 -> 12.938519 | M29: =L29/G29 -> 0.81587558

Sheet Final MOR
A1: Loc | B1: Type | C1: Array | D1: Market Standard | E1: Formatted | F1: format Lost | G1: Physical total | H1: Parity Lost | I1: Pool Usable | J1: Pool Used | K1: Pool Free | L1: Spare | M1: %Used | N1: Host Allocations | O1: %Allocated | P1: %Parity | Q1: ParityGB | R1: Allocated RAW
A2: =VLOOKUP(C:C,ALL_Pivot_new!B:D,2,FALSE) -> Swiss | B2: =VLOOKUP(C:C,ALL_Pivot_new!B:D,3,FALSE) -> Vmax | C2: 377 | D2: =SUMIF(ALL_Pivot_new!B:B,C:C,ALL_Pivot_new!F:F) -> 46800 | E2: =SUMIF(ALL_Pivot_new!B:B,C:C,ALL_Pivot_new!G:G) -> 42525 | F2: =SUMIF(ALL_Pivot_new!B:B,C:C,ALL_Pivot_new!H:H) -> 4275 | G2: =SUMIF(ALL_Pivot_new!B:B,C:C,ALL_Pivot_new!I:I) -> 37817.714 | H2: =SUMIF(ALL_Pivot_new!B:B,C:C,ALL_Pivot_new!J:J) -> 4727.2143 | I2: =SUMIF(ALL_Pivot_new!B:B,C:C,ALL_Pivot_new!K:K) -> 33090.5 | J2: =SUMIF(ALL_Pivot_new!B:B,C:C,ALL_Pivot_new!L:L) -> 14757.2 | K2: =SUMIF(ALL_Pivot_new!B:B,C:C,ALL_Pivot_new!M:M) -> 18333.3 | L2: =SUMIF(ALL_Pivot_new!B:B,C:C,ALL_Pivot_new!N:N) -> 3271 | M2: =J2/I2 -> 0.44596485 | N2: =SUMIF(ALL_Pivot_new!B:B,C:C,ALL_Pivot_new!O:O) -> 42854.1 | O2: =N2/I2 -> 1.2950575 | P2: =H2/G2 -> 0.125 | Q2: =N2*P2 -> 5356.7625 | R2: =N2+Q2 -> 48210.862
A3: =VLOOKUP(C:C,ALL_Pivot_new!B:D,2,FALSE) -> RDC | B3: =VLOOKUP(C:C,ALL_Pivot_new!B:D,3,FALSE) -> Vmax | C3: 0347 | D3: =SUMIF(ALL_Pivot_new!B:B,C:C,ALL_Pivot_new!F:F) -> 588456 | E3: =SUMIF(ALL_Pivot_new!B:B,C:C,ALL_Pivot_new!G:G) -> 535316.42 | F3: =SUMIF(ALL_Pivot_new!B:B,C:C,ALL_Pivot_new!H:H) -> 53139.582 | G3: =SUMIF(ALL_Pivot_new!B:B,C:C,ALL_Pivot_new!I:I) -> 354223.61 | H3: =SUMIF(ALL_Pivot_new!B:B,C:C,ALL_Pivot_new!J:J) -> 130153.4 | I3: =SUMIF(ALL_Pivot_new!B:B,C:C,ALL_Pivot_new!K:K) -> 224070.22 | J3: =SUMIF(ALL_Pivot_new!B:B,C:C,ALL_Pivot_new!L:L) -> 103721.79 | K3: =SUMIF(ALL_Pivot_new!B:B,C:C,ALL_Pivot_new!M:M) -> 120348.42 | L3: =SUMIF(ALL_Pivot_new!B:B,C:C,ALL_Pivot_new!N:N) -> 10868.48 | M3: =J3/I3 -> 0.46289861 | N3: =SUMIF(ALL_Pivot_new!B:B,C:C,ALL_Pivot_new!O:O) -> 189680 | O3: =N3/I3 -> 0.84652036 | P3: =H3/G3 -> 0.36743287 | Q3: =N3*P3 -> 69694.666 | R3: =N3+Q3 -> 259374.67
A4: =VLOOKUP(C:C,ALL_Pivot_new!B:D,2,FALSE) -> FDC | B4: =VLOOKUP(C:C,ALL_Pivot_new!B:D,3,FALSE) -> Vmax | C4: 0349 | D4: =SUMIF(ALL_Pivot_new!B:B,C:C,ALL_Pivot_new!F:F) -> 588456 | E4: =SUMIF(ALL_Pivot_new!B:B,C:C,ALL_Pivot_new!G:G) -> 535316.42 | F4: =SUMIF(ALL_Pivot_new!B:B,C:C,ALL_Pivot_new!H:H) -> 53139.582 | G4: =SUMIF(ALL_Pivot_new!B:B,C:C,ALL_Pivot_new!I:I) -> 427723.02 | H4: =SUMIF(ALL_Pivot_new!B:B,C:C,ALL_Pivot_new!J:J) -> 165435.64 | I4: =SUMIF(ALL_Pivot_new!B:B,C:C,ALL_Pivot_new!K:K) -> 262287.38 | J4: =SUMIF(ALL_Pivot_new!B:B,C:C,ALL_Pivot_new!L:L) -> 172491.32 | K4: =SUMIF(ALL_Pivot_new!B:B,C:C,ALL_Pivot_new!M:M) -> 89796.051 | L4: =SUMIF(ALL_Pivot_new!B:B,C:C,ALL_Pivot_new!N:N) -> 10868.48 | M4: =J4/I4 -> 0.6576425 | N4: =SUMIF(ALL_Pivot_new!B:B,C:C,ALL_Pivot_new!O:O) -> 294710 | O4: =N4/I4 -> 1.1236149 | P4: =H4/G4 -> 0.38678218 | Q4: =N4*P4 -> 113988.58 | R4: =N4+Q4 -> 408698.58
A5: =VLOOKUP(C:C,ALL_Pivot_new!B:D,2,FALSE) -> FDC | B5: =VLOOKUP(C:C,ALL_Pivot_new!B:D,3,FALSE) -> Vmax | C5: 2804 | D5: =SUMIF(ALL_Pivot_new!B:B,C:C,ALL_Pivot_new!F:F) -> 118400 | E5: =SUMIF(ALL_Pivot_new!B:B,C:C,ALL_Pivot_new!G:G) -> 107740.89 | F5: =SUMIF(ALL_Pivot_new!B:B,C:C,ALL_Pivot_new!H:H) -> 10659.113 | G5: =SUMIF(ALL_Pivot_new!B:B,C:C,ALL_Pivot_new!I:I) -> 95168.675 | H5: =SUMIF(ALL_Pivot_new!B:B,C:C,ALL_Pivot_new!J:J) -> 12130.234 | I5: =SUMIF(ALL_Pivot_new!B:B,C:C,ALL_Pivot_new!K:K) -> 83038.44 | J5: =SUMIF(ALL_Pivot_new!B:B,C:C,ALL_Pivot_new!L:L) -> 59851.012 | K5: =SUMIF(ALL_Pivot_new!B:B,C:C,ALL_Pivot_new!M:M) -> 23187.429 | L5: =SUMIF(ALL_Pivot_new!B:B,C:C,ALL_Pivot_new!N:N) -> 3643.793 | M5: =J5/I5 -> 0.72076272 | N5: =SUMIF(ALL_Pivot_new!B:B,C:C,ALL_Pivot_new!O:O) -> 108532 | O5: =N5/I5 -> 1.3070091 | P5: =H5/G5 -> 0.12746037 | Q5: =N5*P5 -> 13833.529 | R5: =N5+Q5 -> 122365.53
A6: =VLOOKUP(C:C,ALL_Pivot_new!B:D,2,FALSE) -> FDC | B6: =VLOOKUP(C:C,ALL_Pivot_new!B:D,3,FALSE) -> Vmax | C6: 3004 | D6: =SUMIF(ALL_Pivot_new!B:B,C:C,ALL_Pivot_new!F:F) -> 597408 | E6: =SUMIF(ALL_Pivot_new!B:B,C:C,ALL_Pivot_new!G:G) -> 527587.59 | F6: =SUMIF(ALL_Pivot_new!B:B,C:C,ALL_Pivot_new!H:H) -> 69820.406 | G6: =SUMIF(ALL_Pivot_new!B:B,C:C,ALL_Pivot_new!I:I) -> 500822.19 | H6: =SUMIF(ALL_Pivot_new!B:B,C:C,ALL_Pivot_new!J:J) -> 62602.774 | I6: =SUMIF(ALL_Pivot_new!B:B,C:C,ALL_Pivot_new!K:K) -> 438219.42 | J6: =SUMIF(ALL_Pivot_new!B:B,C:C,ALL_Pivot_new!L:L) -> 211688.28 | K6: =SUMIF(ALL_Pivot_new!B:B,C:C,ALL_Pivot_new!M:M) -> 226531.14 | L6: =SUMIF(ALL_Pivot_new!B:B,C:C,ALL_Pivot_new!N:N) -> 10767.094 | M6: =J6/I6 -> 0.48306457 | N6: =SUMIF(ALL_Pivot_new!B:B,C:C,ALL_Pivot_new!O:O) -> 374596 | O6: =N6/I6 -> 0.85481378 | P6: =H6/G6 -> 0.125 | Q6: =N6*P6 -> 46824.5 | R6: =N6+Q6 -> 421420.5
A7: =VLOOKUP(C:C,ALL_Pivot_new!B:D,2,FALSE) -> RDC | B7: =VLOOKUP(C:C,ALL_Pivot_new!B:D,3,FALSE) -> Vmax | C7: 3073 | D7: =SUMIF(ALL_Pivot_new!B:B,C:C,ALL_Pivot_new!F:F) -> 531872 | E7: =SUMIF(ALL_Pivot_new!B:B,C:C,ALL_Pivot_new!G:G) -> 470601.19 | F7: =SUMIF(ALL_Pivot_new!B:B,C:C,ALL_Pivot_new!H:H) -> 61270.812 | G7: =SUMIF(ALL_Pivot_new!B:B,C:C,ALL_Pivot_new!I:I) -> 445146.03 | H7: =SUMIF(ALL_Pivot_new!B:B,C:C,ALL_Pivot_new!J:J) -> 55643.254 | I7: =SUMIF(ALL_Pivot_new!B:B,C:C,ALL_Pivot_new!K:K) -> 389502.78 | J7: =SUMIF(ALL_Pivot_new!B:B,C:C,ALL_Pivot_new!L:L) -> 215487.47 | K7: =SUMIF(ALL_Pivot_new!B:B,C:C,ALL_Pivot_new!M:M) -> 174015.3 | L7: =SUMIF(ALL_Pivot_new!B:B,C:C,ALL_Pivot_new!N:N) -> 10767.094 | M7: =J7/I7 -> 0.55323733 | N7: =SUMIF(ALL_Pivot_new!B:B,C:C,ALL_Pivot_new!O:O) -> 327291 | O7: =N7/I7 -> 0.84027899 | P7: =H7/G7 -> 0.125 | Q7: =N7*P7 -> 40911.375 | R7: =N7+Q7 -> 368202.38
A8: =VLOOKUP(C:C,ALL_Pivot_new!B:D,2,FALSE) -> RDC | B8: =VLOOKUP(C:C,ALL_Pivot_new!B:D,3,FALSE) -> Vmax | C8: 3286 | D8: =SUMIF(ALL_Pivot_new!B:B,C:C,ALL_Pivot_new!F:F) -> 227300 | E8: =SUMIF(ALL_Pivot_new!B:B,C:C,ALL_Pivot_new!G:G) -> 206693.84 | F8: =SUMIF(ALL_Pivot_new!B:B,C:C,ALL_Pivot_new!H:H) -> 20606.164 | G8: =SUMIF(ALL_Pivot_new!B:B,C:C,ALL_Pivot_new!I:I) -> 189713.02 | H8: =SUMIF(ALL_Pivot_new!B:B,C:C,ALL_Pivot_new!J:J) -> 23948.278 | I8: =SUMIF(ALL_Pivot_new!B:B,C:C,ALL_Pivot_new!K:K) -> 165764.74 | J8: =SUMIF(ALL_Pivot_new!B:B,C:C,ALL_Pivot_new!L:L) -> 118754.41 | K8: =SUMIF(ALL_Pivot_new!B:B,C:C,ALL_Pivot_new!M:M) -> 47010.337 | L8: =SUMIF(ALL_Pivot_new!B:B,C:C,ALL_Pivot_new!N:N) -> 4461.5859 | M8: =J8/I8 -> 0.71640328 | N8: =SUMIF(ALL_Pivot_new!B:B,C:C,ALL_Pivot_new!O:O) -> 231128.4 | O8: =N8/I8 -> 1.3943158 | P8: =H8/G8 -> 0.12623423 | Q8: =N8*P8 -> 29176.316 | R8: =N8+Q8 -> 260304.72
A9: =VLOOKUP(C:C,ALL_Pivot_new!B:D,2,FALSE) -> RDC | B9: =VLOOKUP(C:C,ALL_Pivot_new!B:D,3,FALSE) -> Vmax | C9: 3696 | D9: =SUMIF(ALL_Pivot_new!B:B,C:C,ALL_Pivot_new!F:F) -> 227100 | E9: =SUMIF(ALL_Pivot_new!B:B,C:C,ALL_Pivot_new!G:G) -> 206507.53 | F9: =SUMIF(ALL_Pivot_new!B:B,C:C,ALL_Pivot_new!H:H) -> 20592.475 | G9: =SUMIF(ALL_Pivot_new!B:B,C:C,ALL_Pivot_new!I:I) -> 190337.62 | H9: =SUMIF(ALL_Pivot_new!B:B,C:C,ALL_Pivot_new!J:J) -> 24260.578 | I9: =SUMIF(ALL_Pivot_new!B:B,C:C,ALL_Pivot_new!K:K) -> 166077.05 | J9: =SUMIF(ALL_Pivot_new!B:B,C:C,ALL_Pivot_new!L:L) -> 30136.719 | K9: =SUMIF(ALL_Pivot_new!B:B,C:C,ALL_Pivot_new!M:M) -> 135940.33 | L9: =SUMIF(ALL_Pivot_new!B:B,C:C,ALL_Pivot_new!N:N) -> 4275.2754 | M9: =J9/I9 -> 0.18146227 | N9: =SUMIF(ALL_Pivot_new!B:B,C:C,ALL_Pivot_new!O:O) -> 173040.4 | O9: =N9/I9 -> 1.0419284 | P9: =H9/G9 -> 0.12746076 | Q9: =N9*P9 -> 22055.861 | R9: =N9+Q9 -> 195096.26
A10: =VLOOKUP(C:C,ALL_Pivot_new!B:D,2,FALSE) -> FDC | B10: =VLOOKUP(C:C,ALL_Pivot_new!B:D,3,FALSE) -> Vmax | C10: 3875 | D10: =SUMIF(ALL_Pivot_new!B:B,C:C,ALL_Pivot_new!F:F) -> 118400 | E10: =SUMIF(ALL_Pivot_new!B:B,C:C,ALL_Pivot_new!G:G) -> 107740.89 | F10: =SUMIF(ALL_Pivot_new!B:B,C:C,ALL_Pivot_new!H:H) -> 10659.113 | G10: =SUMIF(ALL_Pivot_new!B:B,C:C,ALL_Pivot_new!I:I) -> 95793.317 | H10: =SUMIF(ALL_Pivot_new!B:B,C:C,ALL_Pivot_new!J:J) -> 12442.54 | I10: =SUMIF(ALL_Pivot_new!B:B,C:C,ALL_Pivot_new!K:K) -> 83350.777 | J10: =SUMIF(ALL_Pivot_new!B:B,C:C,ALL_Pivot_new!L:L) -> 16076.605 | K10: =SUMIF(ALL_Pivot_new!B:B,C:C,ALL_Pivot_new!M:M) -> 67274.172 | L10: =SUMIF(ALL_Pivot_new!B:B,C:C,ALL_Pivot_new!N:N) -> 3643.793 | M10: =J10/I10 -> 0.19287889 | N10: =SUMIF(ALL_Pivot_new!B:B,C:C,ALL_Pivot_new!O:O) -> 33121.5 | O10: =N10/I10 -> 0.39737482 | P10: =H10/G10 -> 0.12988943 | Q10: =N10*P10 -> 4302.1329 | R10: =N10+Q10 -> 37423.633
A11: =VLOOKUP(C:C,ALL_Pivot_new!B:D,2,FALSE) -> RDC | B11: =VLOOKUP(C:C,ALL_Pivot_new!B:D,3,FALSE) -> Vmax | C11: 4330 | D11: =SUMIF(ALL_Pivot_new!B:B,C:C,ALL_Pivot_new!F:F) -> 287100 | E11: =SUMIF(ALL_Pivot_new!B:B,C:C,ALL_Pivot_new!G:G) -> 260875.96 | F11: =SUMIF(ALL_Pivot_new!B:B,C:C,ALL_Pivot_new!H:H) -> 26224.043 | G11: =SUMIF(ALL_Pivot_new!B:B,C:C,ALL_Pivot_new!I:I) -> 248032.04 | H11: =SUMIF(ALL_Pivot_new!B:B,C:C,ALL_Pivot_new!J:J) -> 124016.02 | I11: =SUMIF(ALL_Pivot_new!B:B,C:C,ALL_Pivot_new!K:K) -> 124016.02 | J11: =SUMIF(ALL_Pivot_new!B:B,C:C,ALL_Pivot_new!L:L) -> 91360.07 | K11: =SUMIF(ALL_Pivot_new!B:B,C:C,ALL_Pivot_new!M:M) -> 32655.947 | L11: =SUMIF(ALL_Pivot_new!B:B,C:C,ALL_Pivot_new!N:N) -> 5724.5508 | M11: =J11/I11 -> 0.7366796 | N11: =SUMIF(ALL_Pivot_new!B:B,C:C,ALL_Pivot_new!O:O) -> 171812 | O11: =N11/I11 -> 1.3854017 | P11: =H11/G11 -> 0.5 | Q11: =N11*P11 -> 85906 | R11: =N11+Q11 -> 257718
A12: =VLOOKUP(C:C,ALL_Pivot_new!B:D,2,FALSE) -> FDC | B12: =VLOOKUP(C:C,ALL_Pivot_new!B:D,3,FALSE) -> Vmax | C12: 4652 | D12: =SUMIF(ALL_Pivot_new!B:B,C:C,ALL_Pivot_new!F:F) -> 441000 | E12: =SUMIF(ALL_Pivot_new!B:B,C:C,ALL_Pivot_new!G:G) -> 400718.55 | F12: =SUMIF(ALL_Pivot_new!B:B,C:C,ALL_Pivot_new!H:H) -> 40281.445 | G12: =SUMIF(ALL_Pivot_new!B:B,C:C,ALL_Pivot_new!I:I) -> 383226.21 | H12: =SUMIF(ALL_Pivot_new!B:B,C:C,ALL_Pivot_new!J:J) -> 191613.11 | I12: =SUMIF(ALL_Pivot_new!B:B,C:C,ALL_Pivot_new!K:K) -> 191613.11 | J12: =SUMIF(ALL_Pivot_new!B:B,C:C,ALL_Pivot_new!L:L) -> 149523.89 | K12: =SUMIF(ALL_Pivot_new!B:B,C:C,ALL_Pivot_new!M:M) -> 42089.215 | L12: =SUMIF(ALL_Pivot_new!B:B,C:C,ALL_Pivot_new!N:N) -> 8177.9297 | M12: =J12/I12 -> 0.78034271 | N12: =SUMIF(ALL_Pivot_new!B:B,C:C,ALL_Pivot_new!O:O) -> 277419 | O12: =N12/I12 -> 1.4478081 | P12: =H12/G12 -> 0.5 | Q12: =N12*P12 -> 138709.5 | R12: =N12+Q12 -> 416128.5
A13: =VLOOKUP(C:C,ALL_Pivot_new!B:D,2,FALSE) -> FDC | B13: =VLOOKUP(C:C,ALL_Pivot_new!B:D,3,FALSE) -> Vmax | C13: 667 | D13: =SUMIF(ALL_Pivot_new!B:B,C:C,ALL_Pivot_new!F:F) -> 235200 | E13: =SUMIF(ALL_Pivot_new!B:B,C:C,ALL_Pivot_new!G:G) -> 213716.56 | F13: =SUMIF(ALL_Pivot_new!B:B,C:C,ALL_Pivot_new!H:H) -> 21483.438 | G13: =SUMIF(ALL_Pivot_new!B:B,C:C,ALL_Pivot_new!I:I) -> 200645.34 | H13: =SUMIF(ALL_Pivot_new!B:B,C:C,ALL_Pivot_new!J:J) -> 98451.168 | I13: =SUMIF(ALL_Pivot_new!B:B,C:C,ALL_Pivot_new!K:K) -> 102194.17 | J13: =SUMIF(ALL_Pivot_new!B:B,C:C,ALL_Pivot_new!L:L) -> 22019.473 | K13: =SUMIF(ALL_Pivot_new!B:B,C:C,ALL_Pivot_new!M:M) -> 80174.695 | L13: =SUMIF(ALL_Pivot_new!B:B,C:C,ALL_Pivot_new!N:N) -> 4361.5625 | M13: =J13/I13 -> 0.21546702 | N13: =SUMIF(ALL_Pivot_new!B:B,C:C,ALL_Pivot_new!O:O) -> 55807.8 | O13: =N13/I13 -> 0.54609574 | P13: =H13/G13 -> 0.4906726 | Q13: =N13*P13 -> 27383.358 | R13: =N13+Q13 -> 83191.158
A14: =VLOOKUP(C:C,ALL_Pivot_new!B:D,2,FALSE) -> RDC | B14: =VLOOKUP(C:C,ALL_Pivot_new!B:D,3,FALSE) -> Vmax | C14: 671 | D14: =SUMIF(ALL_Pivot_new!B:B,C:C,ALL_Pivot_new!F:F) -> 480000 | E14: =SUMIF(ALL_Pivot_new!B:B,C:C,ALL_Pivot_new!G:G) -> 436156.25 | F14: =SUMIF(ALL_Pivot_new!B:B,C:C,ALL_Pivot_new!H:H) -> 43843.75 | G14: =SUMIF(ALL_Pivot_new!B:B,C:C,ALL_Pivot_new!I:I) -> 415238.64 | H14: =SUMIF(ALL_Pivot_new!B:B,C:C,ALL_Pivot_new!J:J) -> 205747.82 | I14: =SUMIF(ALL_Pivot_new!B:B,C:C,ALL_Pivot_new!K:K) -> 209490.82 | J14: =SUMIF(ALL_Pivot_new!B:B,C:C,ALL_Pivot_new!L:L) -> 44542.258 | K14: =SUMIF(ALL_Pivot_new!B:B,C:C,ALL_Pivot_new!M:M) -> 164948.56 | L14: =SUMIF(ALL_Pivot_new!B:B,C:C,ALL_Pivot_new!N:N) -> 8723.125 | M14: =J14/I14 -> 0.21262153 | N14: =SUMIF(ALL_Pivot_new!B:B,C:C,ALL_Pivot_new!O:O) -> 152240.1 | O14: =N14/I14 -> 0.7267149 | P14: =H14/G14 -> 0.49549295 | Q14: =N14*P14 -> 75433.897 | R14: =N14+Q14 -> 227674
A15: =VLOOKUP(C:C,ALL_Pivot_new!B:D,2,FALSE) -> FDC | B15: =VLOOKUP(C:C,ALL_Pivot_new!B:D,3,FALSE) -> Vmax | C15: 710 | D15: =SUMIF(ALL_Pivot_new!B:B,C:C,ALL_Pivot_new!F:F) -> 480000 | E15: =SUMIF(ALL_Pivot_new!B:B,C:C,ALL_Pivot_new!G:G) -> 436156.25 | F15: =SUMIF(ALL_Pivot_new!B:B,C:C,ALL_Pivot_new!H:H) -> 43843.75 | G15: =SUMIF(ALL_Pivot_new!B:B,C:C,ALL_Pivot_new!I:I) -> 415238.92 | H15: =SUMIF(ALL_Pivot_new!B:B,C:C,ALL_Pivot_new!J:J) -> 205747.96 | I15: =SUMIF(ALL_Pivot_new!B:B,C:C,ALL_Pivot_new!K:K) -> 209490.96 | J15: =SUMIF(ALL_Pivot_new!B:B,C:C,ALL_Pivot_new!L:L) -> 150025.34 | K15: =SUMIF(ALL_Pivot_new!B:B,C:C,ALL_Pivot_new!M:M) -> 59465.617 | L15: =SUMIF(ALL_Pivot_new!B:B,C:C,ALL_Pivot_new!N:N) -> 8723.125 | M15: =J15/I15 -> 0.71614232 | N15: =SUMIF(ALL_Pivot_new!B:B,C:C,ALL_Pivot_new!O:O) -> 244329 | O15: =N15/I15 -> 1.1662985 | P15: =H15/G15 -> 0.49549296 | Q15: =N15*P15 -> 121063.3 | R15: =N15+Q15 -> 365392.3
A16: =VLOOKUP(C:C,ALL_Pivot_new!B:D,2,FALSE) -> RDC | B16: =VLOOKUP(C:C,ALL_Pivot_new!B:D,3,FALSE) -> Vmax | C16: 689 | D16: =SUMIF(ALL_Pivot_new!B:B,C:C,ALL_Pivot_new!F:F) -> 235200 | E16: =SUMIF(ALL_Pivot_new!B:B,C:C,ALL_Pivot_new!G:G) -> 213716.56 | F16: =SUMIF(ALL_Pivot_new!B:B,C:C,ALL_Pivot_new!H:H) -> 21483.438 | G16: =SUMIF(ALL_Pivot_new!B:B,C:C,ALL_Pivot_new!I:I) -> 200645.38 | H16: =SUMIF(ALL_Pivot_new!B:B,C:C,ALL_Pivot_new!J:J) -> 98451.188 | I16: =SUMIF(ALL_Pivot_new!B:B,C:C,ALL_Pivot_new!K:K) -> 102194.19 | J16: =SUMIF(ALL_Pivot_new!B:B,C:C,ALL_Pivot_new!L:L) -> 75884.211 | K16: =SUMIF(ALL_Pivot_new!B:B,C:C,ALL_Pivot_new!M:M) -> 26309.977 | L16: =SUMIF(ALL_Pivot_new!B:B,C:C,ALL_Pivot_new!N:N) -> 4361.5625 | M16: =J16/I16 -> 0.74254919 | N16: =SUMIF(ALL_Pivot_new!B:B,C:C,ALL_Pivot_new!O:O) -> 109520 | O16: =N16/I16 -> 1.0716852 | P16: =H16/G16 -> 0.4906726 | Q16: =N16*P16 -> 53738.463 | R16: =N16+Q16 -> 163258.46
A17: =VLOOKUP(C:C,ALL_Pivot_new!B:D,2,FALSE) -> FDC | B17: =VLOOKUP(C:C,ALL_Pivot_new!B:D,3,FALSE) -> Vmax | C17: 712 | D17: =SUMIF(ALL_Pivot_new!B:B,C:C,ALL_Pivot_new!F:F) -> 480000 | E17: =SUMIF(ALL_Pivot_new!B:B,C:C,ALL_Pivot_new!G:G) -> 436156.25 | F17: =SUMIF(ALL_Pivot_new!B:B,C:C,ALL_Pivot_new!H:H) -> 43843.75 | G17: =SUMIF(ALL_Pivot_new!B:B,C:C,ALL_Pivot_new!I:I) -> 415238.64 | H17: =SUMIF(ALL_Pivot_new!B:B,C:C,ALL_Pivot_new!J:J) -> 205747.82 | I17: =SUMIF(ALL_Pivot_new!B:B,C:C,ALL_Pivot_new!K:K) -> 209490.82 | J17: =SUMIF(ALL_Pivot_new!B:B,C:C,ALL_Pivot_new!L:L) -> 135018 | K17: =SUMIF(ALL_Pivot_new!B:B,C:C,ALL_Pivot_new!M:M) -> 74472.82 | L17: =SUMIF(ALL_Pivot_new!B:B,C:C,ALL_Pivot_new!N:N) -> 8723.125 | M17: =J17/I17 -> 0.64450557 | N17: =SUMIF(ALL_Pivot_new!B:B,C:C,ALL_Pivot_new!O:O) -> 254516 | O17: =N17/I17 -> 1.2149267 | P17: =H17/G17 -> 0.49549295 | Q17: =N17*P17 -> 126110.88 | R17: =N17+Q17 -> 380626.88
A18: =VLOOKUP(C:C,ALL_Pivot_new!B:D,2,FALSE) -> RDC | B18: =VLOOKUP(C:C,ALL_Pivot_new!B:D,3,FALSE) -> Vmax | C18: 706 | D18: =SUMIF(ALL_Pivot_new!B:B,C:C,ALL_Pivot_new!F:F) -> 235200 | E18: =SUMIF(ALL_Pivot_new!B:B,C:C,ALL_Pivot_new!G:G) -> 213716.56 | F18: =SUMIF(ALL_Pivot_new!B:B,C:C,ALL_Pivot_new!H:H) -> 21483.438 | G18: =SUMIF(ALL_Pivot_new!B:B,C:C,ALL_Pivot_new!I:I) -> 200645.15 | H18: =SUMIF(ALL_Pivot_new!B:B,C:C,ALL_Pivot_new!J:J) -> 98451.076 | I18: =SUMIF(ALL_Pivot_new!B:B,C:C,ALL_Pivot_new!K:K) -> 102194.08 | J18: =SUMIF(ALL_Pivot_new!B:B,C:C,ALL_Pivot_new!L:L) -> 70487.531 | K18: =SUMIF(ALL_Pivot_new!B:B,C:C,ALL_Pivot_new!M:M) -> 31706.545 | L18: =SUMIF(ALL_Pivot_new!B:B,C:C,ALL_Pivot_new!N:N) -> 4361.5625 | M18: =J18/I18 -> 0.68974185 | N18: =SUMIF(ALL_Pivot_new!B:B,C:C,ALL_Pivot_new!O:O) -> 127434 | O18: =N18/I18 -> 1.2469803 | P18: =H18/G18 -> 0.49067259 | Q18: =N18*P18 -> 62528.371 | R18: =N18+Q18 -> 189962.37
A19: =VLOOKUP(C:C,ALL_Pivot_new!B:D,2,FALSE) -> CGC | B19: =VLOOKUP(C:C,ALL_Pivot_new!B:D,3,FALSE) -> HDS | C19: CGCHDS10 | D19: =SUMIF(ALL_Pivot_new!B:B,C:C,ALL_Pivot_new!F:F) -> 102000 | E19: =SUMIF(ALL_Pivot_new!B:B,C:C,ALL_Pivot_new!G:G) -> 92820 | F19: =SUMIF(ALL_Pivot_new!B:B,C:C,ALL_Pivot_new!H:H) -> 9180 | G19: =SUMIF(ALL_Pivot_new!B:B,C:C,ALL_Pivot_new!I:I) -> 85486.606 | H19: =SUMIF(ALL_Pivot_new!B:B,C:C,ALL_Pivot_new!J:J) -> 10685.826 | I19: =SUMIF(ALL_Pivot_new!B:B,C:C,ALL_Pivot_new!K:K) -> 74800.78 | J19: =SUMIF(ALL_Pivot_new!B:B,C:C,ALL_Pivot_new!L:L) -> 63958 | K19: =SUMIF(ALL_Pivot_new!B:B,C:C,ALL_Pivot_new!M:M) -> 10842.78 | L19: =SUMIF(ALL_Pivot_new!B:B,C:C,ALL_Pivot_new!N:N) -> 5460 | M19: =J19/I19 -> 0.85504456 | N19: =SUMIF(ALL_Pivot_new!B:B,C:C,ALL_Pivot_new!O:O) -> 63958 | O19: =N19/I19 -> 0.85504456 | P19: =H19/G19 -> 0.125 | Q19: =N19*P19 -> 7994.75 | R19: =N19+Q19 -> 71952.75
A20: =VLOOKUP(C:C,ALL_Pivot_new!B:D,2,FALSE) -> FDC | B20: =VLOOKUP(C:C,ALL_Pivot_new!B:D,3,FALSE) -> HDS | C20: FDCHDS04 | D20: =SUMIF(ALL_Pivot_new!B:B,C:C,ALL_Pivot_new!F:F) -> 270000 | E20: =SUMIF(ALL_Pivot_new!B:B,C:C,ALL_Pivot_new!G:G) -> 245700 | F20: =SUMIF(ALL_Pivot_new!B:B,C:C,ALL_Pivot_new!H:H) -> 24300 | G20: =SUMIF(ALL_Pivot_new!B:B,C:C,ALL_Pivot_new!I:I) -> 240489.37 | H20: =SUMIF(ALL_Pivot_new!B:B,C:C,ALL_Pivot_new!J:J) -> 30061.171 | I20: =SUMIF(ALL_Pivot_new!B:B,C:C,ALL_Pivot_new!K:K) -> 210428.2 | J20: =SUMIF(ALL_Pivot_new!B:B,C:C,ALL_Pivot_new!L:L) -> 114180.98 | K20: =SUMIF(ALL_Pivot_new!B:B,C:C,ALL_Pivot_new!M:M) -> 96247.22 | L20: =SUMIF(ALL_Pivot_new!B:B,C:C,ALL_Pivot_new!N:N) -> 1092 | M20: =J20/I20 -> 0.54261254 | N20: =SUMIF(ALL_Pivot_new!B:B,C:C,ALL_Pivot_new!O:O) -> 114180.98 | O20: =N20/I20 -> 0.54261254 | P20: =H20/G20 -> 0.125 | Q20: =N20*P20 -> 14272.622 | R20: =N20+Q20 -> 128453.6
A21: =VLOOKUP(C:C,ALL_Pivot_new!B:D,2,FALSE) -> FDC | B21: =VLOOKUP(C:C,ALL_Pivot_new!B:D,3,FALSE) -> HDS | C21: FDCHDS05 | D21: =SUMIF(ALL_Pivot_new!B:B,C:C,ALL_Pivot_new!F:F) -> 260400 | E21: =SUMIF(ALL_Pivot_new!B:B,C:C,ALL_Pivot_new!G:G) -> 236964 | F21: =SUMIF(ALL_Pivot_new!B:B,C:C,ALL_Pivot_new!H:H) -> 23436 | G21: =SUMIF(ALL_Pivot_new!B:B,C:C,ALL_Pivot_new!I:I) -> 231894.87 | H21: =SUMIF(ALL_Pivot_new!B:B,C:C,ALL_Pivot_new!J:J) -> 28986.859 | I21: =SUMIF(ALL_Pivot_new!B:B,C:C,ALL_Pivot_new!K:K) -> 202908.01 | J21: =SUMIF(ALL_Pivot_new!B:B,C:C,ALL_Pivot_new!L:L) -> 124398.34 | K21: =SUMIF(ALL_Pivot_new!B:B,C:C,ALL_Pivot_new!M:M) -> 78509.67 | L21: =SUMIF(ALL_Pivot_new!B:B,C:C,ALL_Pivot_new!N:N) -> 1092 | M21: =J21/I21 -> 0.61307752 | N21: =SUMIF(ALL_Pivot_new!B:B,C:C,ALL_Pivot_new!O:O) -> 124398.34 | O21: =N21/I21 -> 0.61307752 | P21: =H21/G21 -> 0.125 | Q21: =N21*P21 -> 15549.792 | R21: =N21+Q21 -> 139948.13
A22: =VLOOKUP(C:C,ALL_Pivot_new!B:D,2,FALSE) -> RDC | B22: =VLOOKUP(C:C,ALL_Pivot_new!B:D,3,FALSE) -> HDS | C22: RDCHDS10 | D22: =SUMIF(ALL_Pivot_new!B:B,C:C,ALL_Pivot_new!F:F) -> 58800 | E22: =SUMIF(ALL_Pivot_new!B:B,C:C,ALL_Pivot_new!G:G) -> 53508 | F22: =SUMIF(ALL_Pivot_new!B:B,C:C,ALL_Pivot_new!H:H) -> 5292 | G22: =SUMIF(ALL_Pivot_new!B:B,C:C,ALL_Pivot_new!I:I) -> 51533.533 | H22: =SUMIF(ALL_Pivot_new!B:B,C:C,ALL_Pivot_new!J:J) -> 12883.383 | I22: =SUMIF(ALL_Pivot_new!B:B,C:C,ALL_Pivot_new!K:K) -> 38650.15 | J22: =SUMIF(ALL_Pivot_new!B:B,C:C,ALL_Pivot_new!L:L) -> 31157 | K22: =SUMIF(ALL_Pivot_new!B:B,C:C,ALL_Pivot_new!M:M) -> 7493.15 | L22: =SUMIF(ALL_Pivot_new!B:B,C:C,ALL_Pivot_new!N:N) -> 1092 | M22: =J22/I22 -> 0.80612882 | N22: =SUMIF(ALL_Pivot_new!B:B,C:C,ALL_Pivot_new!O:O) -> 31157 | O22: =N22/I22 -> 0.80612882 | P22: =H22/G22 -> 0.25 | Q22: =N22*P22 -> 7789.25 | R22: =N22+Q22 -> 38946.25
A23: =VLOOKUP(C:C,ALL_Pivot_new!B:D,2,FALSE) -> RDC | B23: =VLOOKUP(C:C,ALL_Pivot_new!B:D,3,FALSE) -> HDS | C23: RDCHDS05 | D23: =SUMIF(ALL_Pivot_new!B:B,C:C,ALL_Pivot_new!F:F) -> 324000 | E23: =SUMIF(ALL_Pivot_new!B:B,C:C,ALL_Pivot_new!G:G) -> 294840 | F23: =SUMIF(ALL_Pivot_new!B:B,C:C,ALL_Pivot_new!H:H) -> 29160 | G23: =SUMIF(ALL_Pivot_new!B:B,C:C,ALL_Pivot_new!I:I) -> 285077.29 | H23: =SUMIF(ALL_Pivot_new!B:B,C:C,ALL_Pivot_new!J:J) -> 35634.661 | I23: =SUMIF(ALL_Pivot_new!B:B,C:C,ALL_Pivot_new!K:K) -> 249442.63 | J23: =SUMIF(ALL_Pivot_new!B:B,C:C,ALL_Pivot_new!L:L) -> 151545 | K23: =SUMIF(ALL_Pivot_new!B:B,C:C,ALL_Pivot_new!M:M) -> 97897.63 | L23: =SUMIF(ALL_Pivot_new!B:B,C:C,ALL_Pivot_new!N:N) -> 6552 | M23: =J23/I23 -> 0.60753449 | N23: =SUMIF(ALL_Pivot_new!B:B,C:C,ALL_Pivot_new!O:O) -> 151545 | O23: =N23/I23 -> 0.60753449 | P23: =H23/G23 -> 0.125 | Q23: =N23*P23 -> 18943.125 | R23: =N23+Q23 -> 170488.12
A24: =VLOOKUP(C:C,ALL_Pivot_new!B:D,2,FALSE) -> RDC | B24: =VLOOKUP(C:C,ALL_Pivot_new!B:D,3,FALSE) -> HDS | C24: RDCHDS06 | D24: =SUMIF(ALL_Pivot_new!B:B,C:C,ALL_Pivot_new!F:F) -> 221700 | E24: =SUMIF(ALL_Pivot_new!B:B,C:C,ALL_Pivot_new!G:G) -> 201747 | F24: =SUMIF(ALL_Pivot_new!B:B,C:C,ALL_Pivot_new!H:H) -> 19953 | G24: =SUMIF(ALL_Pivot_new!B:B,C:C,ALL_Pivot_new!I:I) -> 197544.85 | H24: =SUMIF(ALL_Pivot_new!B:B,C:C,ALL_Pivot_new!J:J) -> 24693.106 | I24: =SUMIF(ALL_Pivot_new!B:B,C:C,ALL_Pivot_new!K:K) -> 172851.74 | J24: =SUMIF(ALL_Pivot_new!B:B,C:C,ALL_Pivot_new!L:L) -> 105953 | K24: =SUMIF(ALL_Pivot_new!B:B,C:C,ALL_Pivot_new!M:M) -> 66898.74 | L24: =SUMIF(ALL_Pivot_new!B:B,C:C,ALL_Pivot_new!N:N) -> 819 | M24: =J24/I24 -> 0.6129704 | N24: =SUMIF(ALL_Pivot_new!B:B,C:C,ALL_Pivot_new!O:O) -> 105953 | O24: =N24/I24 -> 0.6129704 | P24: =H24/G24 -> 0.125 | Q24: =N24*P24 -> 13244.125 | R24: =N24+Q24 -> 119197.12
A25: =VLOOKUP(C:C,ALL_Pivot_new!B:D,2,FALSE) -> FDC | B25: =VLOOKUP(C:C,ALL_Pivot_new!B:D,3,FALSE) -> HDS | C25: FDCHDS10 | D25: =SUMIF(ALL_Pivot_new!B:B,C:C,ALL_Pivot_new!F:F) -> 58800 | E25: =SUMIF(ALL_Pivot_new!B:B,C:C,ALL_Pivot_new!G:G) -> 53508 | F25: =SUMIF(ALL_Pivot_new!B:B,C:C,ALL_Pivot_new!H:H) -> 5292 | G25: =SUMIF(ALL_Pivot_new!B:B,C:C,ALL_Pivot_new!I:I) -> 51533.533 | H25: =SUMIF(ALL_Pivot_new!B:B,C:C,ALL_Pivot_new!J:J) -> 12883.383 | I25: =SUMIF(ALL_Pivot_new!B:B,C:C,ALL_Pivot_new!K:K) -> 38650.15 | J25: =SUMIF(ALL_Pivot_new!B:B,C:C,ALL_Pivot_new!L:L) -> 13705.29 | K25: =SUMIF(ALL_Pivot_new!B:B,C:C,ALL_Pivot_new!M:M) -> 24944.86 | L25: =SUMIF(ALL_Pivot_new!B:B,C:C,ALL_Pivot_new!N:N) -> 1092 | M25: =J25/I25 -> 0.35459862 | N25: =SUMIF(ALL_Pivot_new!B:B,C:C,ALL_Pivot_new!O:O) -> 13705.29 | O25: =N25/I25 -> 0.35459862 | P25: =H25/G25 -> 0.25 | Q25: =N25*P25 -> 3426.3225 | R25: =N25+Q25 -> 17131.612
A26: =VLOOKUP(C:C,ALL_Pivot_new!B:D,2,FALSE) -> FDC | B26: =VLOOKUP(C:C,ALL_Pivot_new!B:D,3,FALSE) -> Vmax | C26: 709 | D26: =SUMIF(ALL_Pivot_new!B:B,C:C,ALL_Pivot_new!F:F) -> 587800 | E26: =SUMIF(ALL_Pivot_new!B:B,C:C,ALL_Pivot_new!G:G) -> 541278.67 | F26: =SUMIF(ALL_Pivot_new!B:B,C:C,ALL_Pivot_new!H:H) -> 46521.332 | G26: =SUMIF(ALL_Pivot_new!B:B,C:C,ALL_Pivot_new!I:I) -> 516507.97 | H26: =SUMIF(ALL_Pivot_new!B:B,C:C,ALL_Pivot_new!J:J) -> 187816.4 | I26: =SUMIF(ALL_Pivot_new!B:B,C:C,ALL_Pivot_new!K:K) -> 328691.57 | J26: =SUMIF(ALL_Pivot_new!B:B,C:C,ALL_Pivot_new!L:L) -> 205981.37 | K26: =SUMIF(ALL_Pivot_new!B:B,C:C,ALL_Pivot_new!M:M) -> 122710.2 | L26: =SUMIF(ALL_Pivot_new!B:B,C:C,ALL_Pivot_new!N:N) -> 10868.48 | M26: =J26/I26 -> 0.62667069 | N26: =SUMIF(ALL_Pivot_new!B:B,C:C,ALL_Pivot_new!O:O) -> 323143 | O26: =N26/I26 -> 0.98311922 | P26: =H26/G26 -> 0.3636273 | Q26: =N26*P26 -> 117503.62 | R26: =N26+Q26 -> 440646.62
A27: =VLOOKUP(C:C,ALL_Pivot_new!B:D,2,FALSE) -> RDC | B27: =VLOOKUP(C:C,ALL_Pivot_new!B:D,3,FALSE) -> Vmax | C27: 704 | D27: =SUMIF(ALL_Pivot_new!B:B,C:C,ALL_Pivot_new!F:F) -> 405400 | E27: =SUMIF(ALL_Pivot_new!B:B,C:C,ALL_Pivot_new!G:G) -> 373152.69 | F27: =SUMIF(ALL_Pivot_new!B:B,C:C,ALL_Pivot_new!H:H) -> 32247.312 | G27: =SUMIF(ALL_Pivot_new!B:B,C:C,ALL_Pivot_new!I:I) -> 354223.71 | H27: =SUMIF(ALL_Pivot_new!B:B,C:C,ALL_Pivot_new!J:J) -> 130153.47 | I27: =SUMIF(ALL_Pivot_new!B:B,C:C,ALL_Pivot_new!K:K) -> 224070.24 | J27: =SUMIF(ALL_Pivot_new!B:B,C:C,ALL_Pivot_new!L:L) -> 115441.51 | K27: =SUMIF(ALL_Pivot_new!B:B,C:C,ALL_Pivot_new!M:M) -> 108628.73 | L27: =SUMIF(ALL_Pivot_new!B:B,C:C,ALL_Pivot_new!N:N) -> 7915.0625 | M27: =J27/I27 -> 0.51520232 | N27: =SUMIF(ALL_Pivot_new!B:B,C:C,ALL_Pivot_new!O:O) -> 241478 | O27: =N27/I27 -> 1.0776888 | P27: =H27/G27 -> 0.36743296 | Q27: =N27*P27 -> 88726.977 | R27: =N27+Q27 -> 330204.98
A28: =VLOOKUP(C:C,ALL_Pivot_new!B:D,2,FALSE) -> CGC | B28: =VLOOKUP(C:C,ALL_Pivot_new!B:D,3,FALSE) -> Vmax | C28: 703 | D28: =SUMIF(ALL_Pivot_new!B:B,C:C,ALL_Pivot_new!F:F) -> 405400 | E28: =SUMIF(ALL_Pivot_new!B:B,C:C,ALL_Pivot_new!G:G) -> 373152.69 | F28: =SUMIF(ALL_Pivot_new!B:B,C:C,ALL_Pivot_new!H:H) -> 32247.312 | G28: =SUMIF(ALL_Pivot_new!B:B,C:C,ALL_Pivot_new!I:I) -> 354223.68 | H28: =SUMIF(ALL_Pivot_new!B:B,C:C,ALL_Pivot_new!J:J) -> 130153.43 | I28: =SUMIF(ALL_Pivot_new!B:B,C:C,ALL_Pivot_new!K:K) -> 224070.25 | J28: =SUMIF(ALL_Pivot_new!B:B,C:C,ALL_Pivot_new!L:L) -> 105417.4 | K28: =SUMIF(ALL_Pivot_new!B:B,C:C,ALL_Pivot_new!M:M) -> 118652.85 | L28: =SUMIF(ALL_Pivot_new!B:B,C:C,ALL_Pivot_new!N:N) -> 7915.0625 | M28: =J28/I28 -> 0.47046585 | N28: =SUMIF(ALL_Pivot_new!B:B,C:C,ALL_Pivot_new!O:O) -> 182630 | O28: =N28/I28 -> 0.8150569 | P28: =H28/G28 -> 0.36743289 | Q28: =N28*P28 -> 67104.27 | R28: =N28+Q28 -> 249734.27
A29: =VLOOKUP(C:C,ALL_Pivot_new!B:D,2,FALSE) -> RDC | B29: =VLOOKUP(C:C,ALL_Pivot_new!B:D,3,FALSE) -> Vmax | C29: 688 | D29: =SUMIF(ALL_Pivot_new!B:B,C:C,ALL_Pivot_new!F:F) -> 362400 | E29: =SUMIF(ALL_Pivot_new!B:B,C:C,ALL_Pivot_new!G:G) -> 329297.97 | F29: =SUMIF(ALL_Pivot_new!B:B,C:C,ALL_Pivot_new!H:H) -> 33102.031 | G29: =SUMIF(ALL_Pivot_new!B:B,C:C,ALL_Pivot_new!I:I) -> 312383.52 | H29: =SUMIF(ALL_Pivot_new!B:B,C:C,ALL_Pivot_new!J:J) -> 156191.76 | I29: =SUMIF(ALL_Pivot_new!B:B,C:C,ALL_Pivot_new!K:K) -> 156191.76 | J29: =SUMIF(ALL_Pivot_new!B:B,C:C,ALL_Pivot_new!L:L) -> 40292.566 | K29: =SUMIF(ALL_Pivot_new!B:B,C:C,ALL_Pivot_new!M:M) -> 115899.2 | L29: =SUMIF(ALL_Pivot_new!B:B,C:C,ALL_Pivot_new!N:N) -> 6542.3438 | M29: =J29/I29 -> 0.25796858 | N29: =SUMIF(ALL_Pivot_new!B:B,C:C,ALL_Pivot_new!O:O) -> 55880.3 | O29: =N29/I29 -> 0.35776727 | P29: =H29/G29 -> 0.5 | Q29: =N29*P29 -> 27940.15 | R29: =N29+Q29 -> 83820.45
A30: =VLOOKUP(C:C,ALL_Pivot_new!B:D,2,FALSE) -> CGC | B30: =VLOOKUP(C:C,ALL_Pivot_new!B:D,3,FALSE) -> Vmax | C30: 705 | D30: =SUMIF(ALL_Pivot_new!B:B,C:C,ALL_Pivot_new!F:F) -> 362400 | E30: =SUMIF(ALL_Pivot_new!B:B,C:C,ALL_Pivot_new!G:G) -> 329297.97 | F30: =SUMIF(ALL_Pivot_new!B:B,C:C,ALL_Pivot_new!H:H) -> 33102.031 | G30: =SUMIF(ALL_Pivot_new!B:B,C:C,ALL_Pivot_new!I:I) -> 312383.77 | H30: =SUMIF(ALL_Pivot_new!B:B,C:C,ALL_Pivot_new!J:J) -> 156191.88 | I30: =SUMIF(ALL_Pivot_new!B:B,C:C,ALL_Pivot_new!K:K) -> 156191.88 | J30: =SUMIF(ALL_Pivot_new!B:B,C:C,ALL_Pivot_new!L:L) -> 40268.312 | K30: =SUMIF(ALL_Pivot_new!B:B,C:C,ALL_Pivot_new!M:M) -> 115923.57 | L30: =SUMIF(ALL_Pivot_new!B:B,C:C,ALL_Pivot_new!N:N) -> 6542.3438 | M30: =J30/I30 -> 0.25781309 | N30: =SUMIF(ALL_Pivot_new!B:B,C:C,ALL_Pivot_new!O:O) -> 55866.6 | O30: =N30/I30 -> 0.35767928 | P30: =H30/G30 -> 0.5 | Q30: =N30*P30 -> 27933.3 | R30: =N30+Q30 -> 83799.9
A31: =VLOOKUP(C:C,ALL_Pivot_new!B:D,2,FALSE) -> RDC | B31: =VLOOKUP(C:C,ALL_Pivot_new!B:D,3,FALSE) -> Vmax | C31: 699 | D31: =SUMIF(ALL_Pivot_new!B:B,C:C,ALL_Pivot_new!F:F) -> 405400 | E31: =SUMIF(ALL_Pivot_new!B:B,C:C,ALL_Pivot_new!G:G) -> 373152.69 | F31: =SUMIF(ALL_Pivot_new!B:B,C:C,ALL_Pivot_new!H:H) -> 32247.312 | G31: =SUMIF(ALL_Pivot_new!B:B,C:C,ALL_Pivot_new!I:I) -> 354223.7 | H31: =SUMIF(ALL_Pivot_new!B:B,C:C,ALL_Pivot_new!J:J) -> 130153.45 | I31: =SUMIF(ALL_Pivot_new!B:B,C:C,ALL_Pivot_new!K:K) -> 224070.25 | J31: =SUMIF(ALL_Pivot_new!B:B,C:C,ALL_Pivot_new!L:L) -> 78598.721 | K31: =SUMIF(ALL_Pivot_new!B:B,C:C,ALL_Pivot_new!M:M) -> 145471.53 | L31: =SUMIF(ALL_Pivot_new!B:B,C:C,ALL_Pivot_new!N:N) -> 7915.0625 | M31: =J31/I31 -> 0.35077714 | N31: =SUMIF(ALL_Pivot_new!B:B,C:C,ALL_Pivot_new!O:O) -> 171470 | O31: =N31/I31 -> 0.76525107 | P31: =H31/G31 -> 0.36743292 | Q31: =N31*P31 -> 63003.722 | R31: =N31+Q31 -> 234473.72
A32: =VLOOKUP(C:C,ALL_Pivot_new!B:D,2,FALSE) -> Swiss | B32: =VLOOKUP(C:C,ALL_Pivot_new!B:D,3,FALSE) -> Vmax | C32: 1383 | D32: =SUMIF(ALL_Pivot_new!B:B,C:C,ALL_Pivot_new!F:F) -> 137400 | E32: =SUMIF(ALL_Pivot_new!B:B,C:C,ALL_Pivot_new!G:G) -> 124849.73 | F32: =SUMIF(ALL_Pivot_new!B:B,C:C,ALL_Pivot_new!H:H) -> 12550.273 | G32: =SUMIF(ALL_Pivot_new!B:B,C:C,ALL_Pivot_new!I:I) -> 119445.8 | H32: =SUMIF(ALL_Pivot_new!B:B,C:C,ALL_Pivot_new!J:J) -> 59722.9 | I32: =SUMIF(ALL_Pivot_new!B:B,C:C,ALL_Pivot_new!K:K) -> 59722.9 | J32: =SUMIF(ALL_Pivot_new!B:B,C:C,ALL_Pivot_new!L:L) -> 19595.9 | K32: =SUMIF(ALL_Pivot_new!B:B,C:C,ALL_Pivot_new!M:M) -> 40127 | L32: =SUMIF(ALL_Pivot_new!B:B,C:C,ALL_Pivot_new!N:N) -> 2725.9766 | M32: =J32/I32 -> 0.32811367 | N32: =SUMIF(ALL_Pivot_new!B:B,C:C,ALL_Pivot_new!O:O) -> 61297.2 | O32: =N32/I32 -> 1.0263601 | P32: =H32/G32 -> 0.5 | Q32: =N32*P32 -> 30648.6 | R32: =N32+Q32 -> 91945.8
A33: =VLOOKUP(C:C,ALL_Pivot_new!B:D,2,FALSE) -> FDC | B33: =VLOOKUP(C:C,ALL_Pivot_new!B:D,3,FALSE) -> Vmax | C33: 713 | D33: =SUMIF(ALL_Pivot_new!B:B,C:C,ALL_Pivot_new!F:F) -> 431200 | E33: =SUMIF(ALL_Pivot_new!B:B,C:C,ALL_Pivot_new!G:G) -> 392263.38 | F33: =SUMIF(ALL_Pivot_new!B:B,C:C,ALL_Pivot_new!H:H) -> 38936.625 | G33: =SUMIF(ALL_Pivot_new!B:B,C:C,ALL_Pivot_new!I:I) -> 372932.82 | H33: =SUMIF(ALL_Pivot_new!B:B,C:C,ALL_Pivot_new!J:J) -> 182064.02 | I33: =SUMIF(ALL_Pivot_new!B:B,C:C,ALL_Pivot_new!K:K) -> 190868.79 | J33: =SUMIF(ALL_Pivot_new!B:B,C:C,ALL_Pivot_new!L:L) -> 64651.576 | K33: =SUMIF(ALL_Pivot_new!B:B,C:C,ALL_Pivot_new!M:M) -> 126217.22 | L33: =SUMIF(ALL_Pivot_new!B:B,C:C,ALL_Pivot_new!N:N) -> 8005.375 | M33: =J33/I33 -> 0.33872261 | N33: =SUMIF(ALL_Pivot_new!B:B,C:C,ALL_Pivot_new!O:O) -> 198313 | O33: =N33/I33 -> 1.0390017 | P33: =H33/G33 -> 0.48819524 | Q33: =N33*P33 -> 96815.462 | R33: =N33+Q33 -> 295128.46
A34: =VLOOKUP(C:C,ALL_Pivot_new!B:D,2,FALSE) -> RDC | B34: =VLOOKUP(C:C,ALL_Pivot_new!B:D,3,FALSE) -> Vmax | C34: 485 | D34: =SUMIF(ALL_Pivot_new!B:B,C:C,ALL_Pivot_new!F:F) -> 431200 | E34: =SUMIF(ALL_Pivot_new!B:B,C:C,ALL_Pivot_new!G:G) -> 392263.38 | F34: =SUMIF(ALL_Pivot_new!B:B,C:C,ALL_Pivot_new!H:H) -> 38936.625 | G34: =SUMIF(ALL_Pivot_new!B:B,C:C,ALL_Pivot_new!I:I) -> 372932.86 | H34: =SUMIF(ALL_Pivot_new!B:B,C:C,ALL_Pivot_new!J:J) -> 182064.05 | I34: =SUMIF(ALL_Pivot_new!B:B,C:C,ALL_Pivot_new!K:K) -> 190868.82 | J34: =SUMIF(ALL_Pivot_new!B:B,C:C,ALL_Pivot_new!L:L) -> 53031.108 | K34: =SUMIF(ALL_Pivot_new!B:B,C:C,ALL_Pivot_new!M:M) -> 137837.71 | L34: =SUMIF(ALL_Pivot_new!B:B,C:C,ALL_Pivot_new!N:N) -> 8005.375 | M34: =J34/I34 -> 0.27784061 | N34: =SUMIF(ALL_Pivot_new!B:B,C:C,ALL_Pivot_new!O:O) -> 141793 | O34: =N34/I34 -> 0.74288196 | P34: =H34/G34 -> 0.48819523 | Q34: =N34*P34 -> 69222.667 | R34: =N34+Q34 -> 211015.67
A35: =VLOOKUP(C:C,ALL_Pivot_new!B:D,2,FALSE) -> FDC | B35: =VLOOKUP(C:C,ALL_Pivot_new!B:D,3,FALSE) -> XIV | C35: 61188 | D35: =SUMIF(ALL_Pivot_new!B:B,C:C,ALL_Pivot_new!F:F) -> 540000 | E35: =SUMIF(ALL_Pivot_new!B:B,C:C,ALL_Pivot_new!G:G) -> 534615 | F35: =SUMIF(ALL_Pivot_new!B:B,C:C,ALL_Pivot_new!H:H) -> 5385 | G35: =SUMIF(ALL_Pivot_new!B:B,C:C,ALL_Pivot_new!I:I) -> 486785.03 | H35: =SUMIF(ALL_Pivot_new!B:B,C:C,ALL_Pivot_new!J:J) -> 243392.52 | I35: =SUMIF(ALL_Pivot_new!B:B,C:C,ALL_Pivot_new!K:K) -> 243392.52 | J35: =SUMIF(ALL_Pivot_new!B:B,C:C,ALL_Pivot_new!L:L) -> 214069.77 | K35: =SUMIF(ALL_Pivot_new!B:B,C:C,ALL_Pivot_new!M:M) -> 29322.75 | L35: =SUMIF(ALL_Pivot_new!B:B,C:C,ALL_Pivot_new!N:N) -> 44551.25 | M35: =J35/I35 -> 0.87952485 | N35: =SUMIF(ALL_Pivot_new!B:B,C:C,ALL_Pivot_new!O:O) -> 214069.77 | O35: =N35/I35 -> 0.87952485 | P35: =H35/G35 -> 0.5 | Q35: =N35*P35 -> 107034.88 | R35: =N35+Q35 -> 321104.65
A36: =VLOOKUP(C:C,ALL_Pivot_new!B:D,2,FALSE) -> RDC | B36: =VLOOKUP(C:C,ALL_Pivot_new!B:D,3,FALSE) -> XIV | C36: 61239 | D36: =SUMIF(ALL_Pivot_new!B:B,C:C,ALL_Pivot_new!F:F) -> 540000 | E36: =SUMIF(ALL_Pivot_new!B:B,C:C,ALL_Pivot_new!G:G) -> 534615 | F36: =SUMIF(ALL_Pivot_new!B:B,C:C,ALL_Pivot_new!H:H) -> 5385 | G36: =SUMIF(ALL_Pivot_new!B:B,C:C,ALL_Pivot_new!I:I) -> 481966.75 | H36: =SUMIF(ALL_Pivot_new!B:B,C:C,ALL_Pivot_new!J:J) -> 240983.38 | I36: =SUMIF(ALL_Pivot_new!B:B,C:C,ALL_Pivot_new!K:K) -> 240983.38 | J36: =SUMIF(ALL_Pivot_new!B:B,C:C,ALL_Pivot_new!L:L) -> 130093.84 | K36: =SUMIF(ALL_Pivot_new!B:B,C:C,ALL_Pivot_new!M:M) -> 110889.53 | L36: =SUMIF(ALL_Pivot_new!B:B,C:C,ALL_Pivot_new!N:N) -> 44551.25 | M36: =J36/I36 -> 0.53984572 | N36: =SUMIF(ALL_Pivot_new!B:B,C:C,ALL_Pivot_new!O:O) -> 130093.84 | O36: =N36/I36 -> 0.53984572 | P36: =H36/G36 -> 0.5 | Q36: =N36*P36 -> 65046.922 | R36: =N36+Q36 -> 195140.77
A37: =VLOOKUP(C:C,ALL_Pivot_new!B:D,2,FALSE) -> RDC | B37: =VLOOKUP(C:C,ALL_Pivot_new!B:D,3,FALSE) -> Vmax | C37: 1144 | D37: =SUMIF(ALL_Pivot_new!B:B,C:C,ALL_Pivot_new!F:F) -> 235200 | E37: =SUMIF(ALL_Pivot_new!B:B,C:C,ALL_Pivot_new!G:G) -> 213716.56 | F37: =SUMIF(ALL_Pivot_new!B:B,C:C,ALL_Pivot_new!H:H) -> 21483.438 | G37: =SUMIF(ALL_Pivot_new!B:B,C:C,ALL_Pivot_new!I:I) -> 200645.2 | H37: =SUMIF(ALL_Pivot_new!B:B,C:C,ALL_Pivot_new!J:J) -> 100322.6 | I37: =SUMIF(ALL_Pivot_new!B:B,C:C,ALL_Pivot_new!K:K) -> 100322.6 | J37: =SUMIF(ALL_Pivot_new!B:B,C:C,ALL_Pivot_new!L:L) -> 21904.506 | K37: =SUMIF(ALL_Pivot_new!B:B,C:C,ALL_Pivot_new!M:M) -> 78418.094 | L37: =SUMIF(ALL_Pivot_new!B:B,C:C,ALL_Pivot_new!N:N) -> 4361.5625 | M37: =J37/I37 -> 0.21834069 | N37: =SUMIF(ALL_Pivot_new!B:B,C:C,ALL_Pivot_new!O:O) -> 49951.6 | O37: =N37/I37 -> 0.49790974 | P37: =H37/G37 -> 0.5 | Q37: =N37*P37 -> 24975.8 | R37: =N37+Q37 -> 74927.4
... A39: =VLOOKUP(C:C,ALL_Pivot_new!B:D,2,FALSE) -> welle | B39: =VLOOKUP(C:C,ALL_Pivot_new!B:D,3,FALSE) -> Vmax | C39: 877 | D39: =SUMIF(ALL_Pivot_new!B:B,C:C,ALL_Pivot_new!F:F) -> 6600 | E39: =SUMIF(ALL_Pivot_new!B:B,C:C,ALL_Pivot_new!G:G) -> 5940 | F39: =SUMIF(ALL_Pivot_new!B:B,C:C,ALL_Pivot_new!H:H) -> 660 | G39: =SUMIF(ALL_Pivot_new!B:B,C:C,ALL_Pivot_new!I:I) -> 5400 | H39: =SUMIF(ALL_Pivot_new!B:B,C:C,ALL_Pivot_new!J:J) -> 675 | I39: =SUMIF(ALL_Pivot_new!B:B,C:C,ALL_Pivot_new!K:K) -> 4725 | J39: =SUMIF(ALL_Pivot_new!B:B,C:C,ALL_Pivot_new!L:L) -> 4282 | K39: =SUMIF(ALL_Pivot_new!B:B,C:C,ALL_Pivot_new!M:M) -> 443 | L39: =SUMIF(ALL_Pivot_new!B:B,C:C,ALL_Pivot_new!N:N) -> 540 | M39: =J39/I39 -> 0.90624339 | N39: =SUMIF(ALL_Pivot_new!B:B,C:C,ALL_Pivot_new!O:O) -> 4282 | O39: =N39/I39 -> 0.90624339 | P39: =H39/G39 -> 0.125 | Q39: =N39*P39 -> 535.25 | R39: =N39+Q39 -> 4817.25
A40: =VLOOKUP(C:C,ALL_Pivot_new!B:D,2,FALSE) -> FDC | B40: =VLOOKUP(C:C,ALL_Pivot_new!B:D,3,FALSE) -> DMX | C40: 5349 | J40: =SUMIF(ALL_Pivot_new!B:B,C:C,ALL_Pivot_new!L:L) -> 10018.175 | N40: =SUMIF(ALL_Pivot_new!B:B,C:C,ALL_Pivot_new!O:O) -> 10018.175
A41: =VLOOKUP(C:C,ALL_Pivot_new!B:D,2,FALSE) -> RDC | B41: =VLOOKUP(C:C,ALL_Pivot_new!B:D,3,FALSE) -> DMX | C41: 5373 | J41: =SUMIF(ALL_Pivot_new!B:B,C:C,ALL_Pivot_new!L:L) -> 1943.0361 | N41: =SUMIF(ALL_Pivot_new!B:B,C:C,ALL_Pivot_new!O:O) -> 3886.0723
...

Sheet Final MOR-no-MOR
A1: Loc | B1: Type | C1: Array | D1: Market Standard | E1: Formatted | F1: format Lost | G1: Physical total | H1: Parity Lost | I1: Pool Usable | J1: Pool Used | K1: Pool Free | L1: Spare | M1: %Used | N1: Host Allocations | O1: %Allocated | P1: %Parity | Q1: ParityGB | R1: Allocated RAW
A2: =VLOOKUP(C:C,ALL_Pivot_new!B:D,2,FALSE) -> Swiss | B2: =VLOOKUP(C:C,ALL_Pivot_new!B:D,3,FALSE) -> Vmax | C2: 377 | D2: =SUMIF(ALL_Pivot_new!B:B,C:C,ALL_Pivot_new!F:F) -> 46800 | E2: =SUMIF(ALL_Pivot_new!B:B,C:C,ALL_Pivot_new!G:G) -> 42525 | F2: =SUMIF(ALL_Pivot_new!B:B,C:C,ALL_Pivot_new!H:H) -> 4275 | G2: =SUMIF(ALL_Pivot_new!B:B,C:C,ALL_Pivot_new!I:I) -> 37817.714 | H2: =SUMIF(ALL_Pivot_new!B:B,C:C,ALL_Pivot_new!J:J) -> 4727.2143 | I2: =SUMIF(ALL_Pivot_new!B:B,C:C,ALL_Pivot_new!K:K) -> 33090.5 | J2: =SUMIF(ALL_Pivot_new!B:B,C:C,ALL_Pivot_new!L:L) -> 14757.2 | K2: =SUMIF(ALL_Pivot_new!B:B,C:C,ALL_Pivot_new!M:M) -> 18333.3 | L2: =SUMIF(ALL_Pivot_new!B:B,C:C,ALL_Pivot_new!N:N) -> 3271 | M2: =J2/I2 -> 0.44596485 | N2: =SUMIF(ALL_Pivot_new!B:B,C:C,ALL_Pivot_new!O:O) -> 42854.1 | O2: =N2/I2 -> 1.2950575 | P2: =H2/G2 -> 0.125 | Q2: =N2*P2 -> 5356.7625 | R2: =N2+Q2 -> 48210.862
A3: =VLOOKUP(C:C,ALL_Pivot_new!B:D,2,FALSE) -> RDC | B3: =VLOOKUP(C:C,ALL_Pivot_new!B:D,3,FALSE) -> Vmax | C3: 0347 | D3: =SUMIF(ALL_Pivot_new!B:B,C:C,ALL_Pivot_new!F:F) -> 588456 | E3: =SUMIF(ALL_Pivot_new!B:B,C:C,ALL_Pivot_new!G:G) -> 535316.42 | F3: =SUMIF(ALL_Pivot_new!B:B,C:C,ALL_Pivot_new!H:H) -> 53139.582 | G3: =SUMIF(ALL_Pivot_new!B:B,C:C,ALL_Pivot_new!I:I) -> 354223.61 | H3: =SUMIF(ALL_Pivot_new!B:B,C:C,ALL_Pivot_new!J:J) -> 130153.4 | I3: =SUMIF(ALL_Pivot_new!B:B,C:C,ALL_Pivot_new!K:K) -> 224070.22 | J3: =SUMIF(ALL_Pivot_new!B:B,C:C,ALL_Pivot_new!L:L) -> 103721.79 | K3: =SUMIF(ALL_Pivot_new!B:B,C:C,ALL_Pivot_new!M:M) -> 120348.42 | L3: =SUMIF(ALL_Pivot_new!B:B,C:C,ALL_Pivot_new!N:N) -> 10868.48 | M3: =J3/I3 -> 0.46289861 | N3: =SUMIF(ALL_Pivot_new!B:B,C:C,ALL_Pivot_new!O:O) -> 189680 | O3: =N3/I3 -> 0.84652036 | P3: =H3/G3 -> 0.36743287 | Q3: =N3*P3 -> 69694.666 | R3: =N3+Q3 -> 259374.67
A4: =VLOOKUP(C:C,ALL_Pivot_new!B:D,2,FALSE) -> FDC | B4: =VLOOKUP(C:C,ALL_Pivot_new!B:D,3,FALSE) -> Vmax | C4: 0349 | D4: =SUMIF(ALL_Pivot_new!B:B,C:C,ALL_Pivot_new!F:F) -> 588456 | E4: =SUMIF(ALL_Pivot_new!B:B,C:C,ALL_Pivot_new!G:G) -> 535316.42 | F4: =SUMIF(ALL_Pivot_new!B:B,C:C,ALL_Pivot_new!H:H) -> 53139.582 | G4: =SUMIF(ALL_Pivot_new!B:B,C:C,ALL_Pivot_new!I:I) -> 427723.02 | H4: =SUMIF(ALL_Pivot_new!B:B,C:C,ALL_Pivot_new!J:J) -> 165435.64 | I4: =SUMIF(ALL_Pivot_new!B:B,C:C,ALL_Pivot_new!K:K) -> 262287.38 | J4: =SUMIF(ALL_Pivot_new!B:B,C:C,ALL_Pivot_new!L:L) -> 172491.32 | K4: =SUMIF(ALL_Pivot_new!B:B,C:C,ALL_Pivot_new!M:M) -> 89796.051 | L4: =SUMIF(ALL_Pivot_new!B:B,C:C,ALL_Pivot_new!N:N) -> 10868.48 | M4: =J4/I4 -> 0.6576425 | N4: =SUMIF(ALL_Pivot_new!B:B,C:C,ALL_Pivot_new!O:O) -> 294710 | O4: =N4/I4 -> 1.1236149 | P4: =H4/G4 -> 0.38678218 | Q4: =N4*P4 -> 113988.58 | R4: =N4+Q4 -> 408698.58
A5: =VLOOKUP(C:C,ALL_Pivot_new!B:D,2,FALSE) -> FDC | B5: =VLOOKUP(C:C,ALL_Pivot_new!B:D,3,FALSE) -> Vmax | C5: 2804 | D5: =SUMIF(ALL_Pivot_new!B:B,C:C,ALL_Pivot_new!F:F) -> 118400 | E5: =SUMIF(ALL_Pivot_new!B:B,C:C,ALL_Pivot_new!G:G) -> 107740.89 | F5: =SUMIF(ALL_Pivot_new!B:B,C:C,ALL_Pivot_new!H:H) -> 10659.113 | G5: =SUMIF(ALL_Pivot_new!B:B,C:C,ALL_Pivot_new!I:I) -> 95168.675 | H5: =SUMIF(ALL_Pivot_new!B:B,C:C,ALL_Pivot_new!J:J) -> 12130.234 | I5: =SUMIF(ALL_Pivot_new!B:B,C:C,ALL_Pivot_new!K:K) -> 83038.44 | J5: =SUMIF(ALL_Pivot_new!B:B,C:C,ALL_Pivot_new!L:L) -> 59851.012 | K5: =SUMIF(ALL_Pivot_new!B:B,C:C,ALL_Pivot_new!M:M) -> 23187.429 | L5: =SUMIF(ALL_Pivot_new!B:B,C:C,ALL_Pivot_new!N:N) -> 3643.793 | M5: =J5/I5 -> 0.72076272 | N5: =SUMIF(ALL_Pivot_new!B:B,C:C,ALL_Pivot_new!O:O) -> 108532 | O5: =N5/I5 -> 1.3070091 | P5: =H5/G5 -> 0.12746037 | Q5: =N5*P5 -> 13833.529 | R5: =N5+Q5 -> 122365.53
A6: =VLOOKUP(C:C,ALL_Pivot_new!B:D,2,FALSE) -> FDC | B6: =VLOOKUP(C:C,ALL_Pivot_new!B:D,3,FALSE) -> Vmax | C6: 3004 | D6: =SUMIF(ALL_Pivot_new!B:B,C:C,ALL_Pivot_new!F:F) -> 597408 | E6: =SUMIF(ALL_Pivot_new!B:B,C:C,ALL_Pivot_new!G:G) -> 527587.59 | F6: =SUMIF(ALL_Pivot_new!B:B,C:C,ALL_Pivot_new!H:H) -> 69820.406 | G6: =SUMIF(ALL_Pivot_new!B:B,C:C,ALL_Pivot_new!I:I) -> 500822.19 | H6: =SUMIF(ALL_Pivot_new!B:B,C:C,ALL_Pivot_new!J:J) -> 62602.774 | I6: =SUMIF(ALL_Pivot_new!B:B,C:C,ALL_Pivot_new!K:K) -> 438219.42 | J6: =SUMIF(ALL_Pivot_new!B:B,C:C,ALL_Pivot_new!L:L) -> 211688.28 | K6: =SUMIF(ALL_Pivot_new!B:B,C:C,ALL_Pivot_new!M:M) -> 226531.14 | L6: =SUMIF(ALL_Pivot_new!B:B,C:C,ALL_Pivot_new!N:N) -> 10767.094 | M6: =J6/I6 -> 0.48306457 | N6: =SUMIF(ALL_Pivot_new!B:B,C:C,ALL_Pivot_new!O:O) -> 374596 | O6: =N6/I6 -> 0.85481378 | P6: =H6/G6 -> 0.125 | Q6: =N6*P6 -> 46824.5 | R6: =N6+Q6 -> 421420.5
A7: =VLOOKUP(C:C,ALL_Pivot_new!B:D,2,FALSE) -> RDC | B7: =VLOOKUP(C:C,ALL_Pivot_new!B:D,3,FALSE) -> Vmax | C7: 3073 | D7: =SUMIF(ALL_Pivot_new!B:B,C:C,ALL_Pivot_new!F:F) -> 531872 | E7: =SUMIF(ALL_Pivot_new!B:B,C:C,ALL_Pivot_new!G:G) -> 470601.19 | F7: =SUMIF(ALL_Pivot_new!B:B,C:C,ALL_Pivot_new!H:H) -> 61270.812 | G7: =SUMIF(ALL_Pivot_new!B:B,C:C,ALL_Pivot_new!I:I) -> 445146.03 | H7: =SUMIF(ALL_Pivot_new!B:B,C:C,ALL_Pivot_new!J:J) -> 55643.254 | I7: =SUMIF(ALL_Pivot_new!B:B,C:C,ALL_Pivot_new!K:K) -> 389502.78 | J7: =SUMIF(ALL_Pivot_new!B:B,C:C,ALL_Pivot_new!L:L) -> 215487.47 | K7: =SUMIF(ALL_Pivot_new!B:B,C:C,ALL_Pivot_new!M:M) -> 174015.3 | L7: =SUMIF(ALL_Pivot_new!B:B,C:C,ALL_Pivot_new!N:N) -> 10767.094 | M7: =J7/I7 -> 0.55323733 | N7: =SUMIF(ALL_Pivot_new!B:B,C:C,ALL_Pivot_new!O:O) -> 327291 | O7: =N7/I7 -> 0.84027899 | P7: =H7/G7 -> 0.125 | Q7: =N7*P7 -> 40911.375 | R7: =N7+Q7 -> 368202.38
