Workbook

Sheet Summary
C1: All Sheets
A3: Sheet Name | B3: Market Standard | C3: Formatted | D3: format Lost | E3: Physical total | F3: Parity Lost | G3: Pool Usable | H3: Pool Used | I3: Pool Free | J3: Spare | K3: %Used | L3: Host Allocations | M3: %Allocated
A4: Final MOR | B4: =SUMIF('Final MOR'!B:B,"Total",'Final MOR'!D:D) -> 12539192 | C4: =SUMIF('Final MOR'!B:B,"Total",'Final MOR'!E:E) -> 11479720 | D4: =SUMIF('Final MOR'!B:B,"Total",'Final MOR'!F:F) -> 1059471.9 | E4: =SUMIF('Final MOR'!B:B,"Total",'Final MOR'!G:G) -> 10614217 | F4: =SUMIF('Final MOR'!B:B,"Total",'Final MOR'!H:H) -> 3980756.8 | G4: =SUMIF('Final MOR'!B:B,"Total",'Final MOR'!I:I) -> 6633460.6 | H4: =SUMIF('Final MOR'!B:B,"Total",'Final MOR'!J:J) -> 3576296.6 | I4: =SUMIF('Final MOR'!B:B,"Total",'Final MOR'!K:K) -> 3216279.7 | J4: =SUMIF('Final MOR'!B:B,"Total",'Final MOR'!L:L) -> 302084.41 | K4: =SUMIF('Final MOR'!B:B,"Total",'Final MOR'!M:M) -> 0.53912985 | L4: =SUMIF('Final MOR'!B:B,"Total",'Final MOR'!N:N) -> 5859431.2 | M4: =SUMIF('Final MOR'!B:B,"Total",'Final MOR'!O:O) -> 0.88331439
A5: Tech-Refresh | B5: =SUMIF('Tech-Refresh'!B:B,"Total",'Tech-Refresh'!D:D) -> 934711.97 | C5: =SUMIF('Tech-Refresh'!B:B,"Total",'Tech-Refresh'!E:E) -> 845337.27 | D5: =SUMIF('Tech-Refresh'!B:B,"Total",'Tech-Refresh'!F:F) -> 89374.698 | E5: =SUMIF('Tech-Refresh'!B:B,"Total",'Tech-Refresh'!G:G) -> 794972.55 | F5: =SUMIF('Tech-Refresh'!B:B,"Total",'Tech-Refresh'!H:H) -> 99371.568 | G5: =SUMIF('Tech-Refresh'!B:B,"Total",'Tech-Refresh'!I:I) -> 695600.98 | H5: =SUMIF('Tech-Refresh'!B:B,"Total",'Tech-Refresh'!J:J) -> 159115.74 | I5: =SUMIF('Tech-Refresh'!B:B,"Total",'Tech-Refresh'!K:K) -> 536485.24 | J5: =SUMIF('Tech-Refresh'!B:B,"Total",'Tech-Refresh'!L:L) -> 23822.541 | K5: =SUMIF('Tech-Refresh'!B:B,"Total",'Tech-Refresh'!M:M) -> 0.22874571 | L5: =SUMIF('Tech-Refresh'!B:B,"Total",'Tech-Refresh'!N:N) -> 206455.15 | M5: =SUMIF('Tech-Refresh'!B:B,"Total",'Tech-Refresh'!O:O) -> 0.29680112
A6: New Installs | B6: =SUMIF('New Installs'!B:B,"Total",'New Installs'!D:D) -> 0 | C6: =SUMIF('New Installs'!B:B,"Total",'New Installs'!E:E) -> 0 | D6: =SUMIF('New Installs'!B:B,"Total",'New Installs'!F:F) -> 0 | E6: =SUMIF('New Installs'!B:B,"Total",'New Installs'!G:G) -> 0 | F6: =SUMIF('New Installs'!B:B,"Total",'New Installs'!H:H) -> 0 | G6: =SUMIF('New Installs'!B:B,"Total",'New Installs'!I:I) -> 0 | H6: =SUMIF('New Installs'!B:B,"Total",'New Installs'!J:J) -> 0 | I6: =SUMIF('New Installs'!B:B,"Total",'New Installs'!K:K) -> 0 | J6: =SUMIF('New Installs'!B:B,"Total",'New Installs'!L:L) -> 0 | K6: =SUMIF('New Installs'!B:B,"Total",'New Installs'!M:M) -> 0 | L6: =SUMIF('New Installs'!B:B,"Total",'New Installs'!N:N) -> 0 | M6: =SUMIF('New Installs'!B:B,"Total",'New Installs'!O:O) -> 0
A7: Unable to Report | B7: =SUMIF('Unable to Report'!B:B,"Total",'Unable to Report'!D:D) -> 0 | C7: =SUMIF('Unable to Report'!B:B,"Total",'Unable to Report'!E:E) -> 0 | D7: =SUMIF('Unable to Report'!B:B,"Total",'Unable to Report'!F:F) -> 0 | E7: =SUMIF('Unable to Report'!B:B,"Total",'Unable to Report'!G:G) -> 0 | F7: =SUMIF('Unable to Report'!B:B,"Total",'Unable to Report'!H:H) -> 0 | G7: =SUMIF('Unable to Report'!B:B,"Total",'Unable to Report'!I:I) -> 0 | H7: =SUMIF('Unable to Report'!B:B,"Total",'Unable to Report'!J:J) -> 0 | I7: =SUMIF('Unable to Report'!B:B,"Total",'Unable to Report'!K:K) -> 0 | J7: =SUMIF('Unable to Report'!B:B,"Total",'Unable to Report'!L:L) -> 0 | K7: 0 | L7: =SUMIF('Unable to Report'!B:B,"Total",'Unable to Report'!N:N) -> 0 | M7: 0
A8: Exchange | B8: =SUMIF(Exchange!B:B,"Total",Exchange!D:D) -> 3028284.7 | C8: =SUMIF(Exchange!B:B,"Total",Exchange!E:E) -> 2754595.1 | D8: =SUMIF(Exchange!B:B,"Total",Exchange!F:F) -> 273689.6 | E8: =SUMIF(Exchange!B:B,"Total",Exchange!G:G) -> 2385834.9 | F8: =SUMIF(Exchange!B:B,"Total",Exchange!H:H) -> 959187.18 | G8: =SUMIF(Exchange!B:B,"Total",Exchange!I:I) -> 1426647.7 | H8: =SUMIF(Exchange!B:B,"Total",Exchange!J:J) -> 1322747.2 | I8: =SUMIF(Exchange!B:B,"Total",Exchange!K:K) -> 103900.48 | J8: =SUMIF(Exchange!B:B,"Total",Exchange!L:L) -> 2659.3696 | K8: =SUMIF(Exchange!B:B,"Total",Exchange!M:M) -> 0.92717159 | L8: =SUMIF(Exchange!B:B,"Total",Exchange!N:N) -> 1322747.2 | M8: =SUMIF(Exchange!B:B,"Total",Exchange!O:O) -> 0.92717159
A9: Total(GB) | B9: =SUM(B4:B8) -> 16502189 | C9: =SUM(C4:C8) -> 15079652 | D9: =SUM(D4:D8) -> 1422536.2 | E9: =SUM(E4:E8) -> 13795025 | F9: =SUM(F4:F8) -> 5039315.6 | G9: =SUM(G4:G8) -> 8755709.2 | H9: =SUM(H4:H8) -> 5058159.5 | I9: =SUM(I4:I8) -> 3856665.4 | J9: =SUM(J4:J8) -> 328566.32 | K9: =H9/G9 -> 0.57769843 | L9: =SUM(L4:L8) -> 7388633.5 | M9: =L9/G9 -> 0.84386465
A10: Total(TB) | B10: =B9/1024 -> 16115.419 | C10: =C9/1024 -> 14726.223 | D10: =D9/1024 -> 1389.1955 | E10: =E9/1024 -> 13471.704 | F10: =F9/1024 -> 4921.2066 | G10: =G9/1024 -> 8550.4973 | H10: =H9/1024 -> 4939.6089 | I10: =I9/1024 -> 3766.2748 | J10: =J9/1024 -> 320.86555 | K10: =H10/G10 -> 0.57769843 | L10: =L9/1024 -> 7215.4624 | M10: =L10/G10 -> 0.84386465
A11: Total(PB) | B11: =B10/1024 -> 15.737713 | C11: =C10/1024 -> 14.381077 | D11: =D10/1024 -> 1.3566362 | E11: =E10/1024 -> 13.155961 | F11: =F10/1024 -> 4.8058658 | G11: =G10/1024 -> 8.350095 | H11: =H10/1024 -> 4.8238368 | I11: =I10/1024 -> 3.6780028 | J11: =J10/1024 -> 0.31334526 | K11: =H11/G11 -> 0.57769843 | L11: =L10/1024 -> 7.04635 | M11: =L11/G11 -> 0.84386465
C13: Exclude the below Sheets from the final MOR Report
A15: Sheet Name | B15: Market Standard | C15: Formatted | D15: format Lost | E15: Physical total | F15: Parity Lost | G15: Pool Usable | H15: Pool Used | I15: Pool Free | J15: Spare | K15: %Used | L15: Host Allocations | M15: %Allocated
A16: Tech-Refresh | B16: =B5 -> 934711.97 | C16: =C5 -> 845337.27 | D16: =D5 -> 89374.698 | E16: =E5 -> 794972.55 | F16: =F5 -> 99371.568 | G16: =G5 -> 695600.98 | H16: =H5 -> 159115.74 | I16: =I5 -> 536485.24 | ... M16: =M5 -> 0.29680112
A17: New Installs | B17: =B6 -> 0 | C17: =C6 -> 0 | D17: =D6 -> 0 | E17: =E6 -> 0 | F17: =F6 -> 0 | G17: =G6 -> 0 | H17: =H6 -> 0 | I17: =I6 -> 0 | ... M17: =M6 -> 0
A18: Unable to Report | B18: =B7 -> 0 | C18: =C7 -> 0 | D18: =D7 -> 0 | E18: =E7 -> 0 | F18: =F7 -> 0 | G18: =G7 -> 0 | H18: =H7 -> 0 | I18: =I7 -> 0 | ... M18: =M7 -> 0
A19: Exchange | B19: =B8 -> 3028284.7 | C19: =C8 -> 2754595.1 | D19: =D8 -> 273689.6 | E19: =E8 -> 2385834.9 | F19: =F8 -> 959187.18 | G19: =G8 -> 1426647.7 | H19: =H8 -> 1322747.2 | I19: =I8 -> 103900.48 | ... M19: =M8 -> 0.92717159
A20: Total(GB) | B20: =SUM(B16:B19) -> 3962996.7 | C20: =SUM(C16:C19) -> 3599932.4 | D20: =SUM(D16:D19) -> 363064.3 | E20: =SUM(E16:E19) -> 3180807.4 | F20: =SUM(F16:F19) -> 1058558.8 | G20: =SUM(G16:G19) -> 2122248.6 | H20: =SUM(H16:H19) -> 1481862.9 | I20: =SUM(I16:I19) -> 640385.72 | J20: =SUM(J16:J19) -> 26481.911 | K20: =H20/G20 -> 0.69825133 | L20: =SUM(L16:L19) -> 1529202.3 | M20: =L20/G20 -> 0.72055758
A21: Total(TB) | B21: =B20/1024 -> 3870.1139 | C21: =C20/1024 -> 3515.5589 | D21: =D20/1024 -> 354.55498 | E21: =E20/1024 -> 3106.2572 | F21: =F20/1024 -> 1033.7488 | G21: =G20/1024 -> 2072.5084 | H21: =H20/1024 -> 1447.1318 | I21: =I20/1024 -> 625.37668 | J21: =J20/1024 -> 25.861241 | K21: =H21/G21 -> 0.69825133 | L21: =L20/1024 -> 1493.3617 | M21: =L21/G21 -> 0.72055758
A22: Total(PB) | B22: =B21/1024 -> 3.7794081 | C22: =C21/1024 -> 3.433163 | D22: =D21/1024 -> 0.3462451 | E22: =E21/1024 -> 3.0334543 | F22: =F21/1024 -> 1.0095203 | G22: =G21/1024 -> 2.023934 | H22: =H21/1024 -> 1.4132146 | I22: =I21/1024 -> 0.61071941 | J22: =J21/1024 -> 0.025255118 | K22: =H22/G22 -> 0.69825133 | L22: =L21/1024 -> 1.458361 | M22: =L22/G22 -> 0.72055758
C24: Final MOR Report
A26: Sheet Name | B26: Market Standard | C26: Formatted | D26: format Lost | E26: Physical total | F26: Parity Lost | G26: Pool Usable | H26: Pool Used | I26: Pool Free | J26: Spare | K26: %Used | L26: Host Allocations | M26: %Allocated
A27: Final MOR | B27: =B9-B20 -> 12539192 | C27: =C9-C20 -> 11479720 | D27: =D9-D20 -> 1059471.9 | E27: =E9-E20 -> 10614217 | F27: =F9-F20 -> 3980756.8 | G27: =G9-G20 -> 6633460.6 | H27: =H9-H20 -> 3576296.6 | I27: =I9-I20 -> 3216279.7 | J27: =J9-J20 -> 302084.41 | K27: =H27/G27 -> 0.53912985 | L27: =L9-L20 -> 5859431.2 | M27: =L27/G27 -> 0.88331439
A28: Total(TB) | B28: =B27/1024 -> 12245.305 | C28: =C27/1024 -> 11210.664 | D28: =D27/1024 -> 1034.6405 | E28: =E27/1024 -> 10365.447 | F28: =F27/1024 -> 3887.4578 | G28: =G27/1024 -> 6477.9888 | H28: =H27/1024 -> 3492.4771 | I28: =I27/1024 -> 3140.8982 | J28: =J27/1024 -> 295.0043 | K28: =H28/G28 -> 0.53912985 | L28: =L27/1024 -> 5722.1007 | M28: =L28/G28 -> 0.88331439
A29: Total(PB) | B29: =B28/1024 -> 11.958305 | C29: =C28/1024 -> 10.947914 | D29: =D28/1024 -> 1.0103911 | E29: =E28/1024 -> 10.122506 | F29: =F28/1024 -> 3.7963455 | G29: =G28/1024 -> 6.326161 | H29: =H28/1024 -> 3.4106222 | I29: =I28/1024 -> 3.0672834 | J29: =J28/1024 -> 0.28809014 | K29: =H29/G29 -> 0.53912985 | L29: =L28/1024 -> 5.587989 | M29: =L29/G29 -> 0.88331439

Sheet Summary-NoTRSource
C1: All Sheets
A3: Sheet Name | B3: Market Standard | C3: Formatted | D3: format Lost | E3: Physical total | F3: Parity Lost | G3: Pool Usable | H3: Pool Used | I3: Pool Free | J3: Spare | K3: %Used | L3: Host Allocations | M3: %Allocated
A4: Final MOR | B4: =SUMIF('Final MOR-no-MOR'!B:B,"Total",'Final MOR-no-MOR'!D:D) -> 31023716 | C4: =SUMIF('Final MOR-no-MOR'!B:B,"Total",'Final MOR-no-MOR'!E:E) -> 28354433 | D4: =SUMIF('Final MOR-no-MOR'!B:B,"Total",'Final MOR-no-MOR'!F:F) -> 2669283 | E4: =SUMIF('Final MOR-no-MOR'!B:B,"Total",'Final MOR-no-MOR'!G:G) -> 25865717 | F4: =SUMIF('Final MOR-no-MOR'!B:B,"Total",'Final MOR-no-MOR'!H:H) -> 9236931.4 | G4: =SUMIF('Final MOR-no-MOR'!B:B,"Total",'Final MOR-no-MOR'!I:I) -> 16628786 | H4: =SUMIF('Final MOR-no-MOR'!B:B,"Total",'Final MOR-no-MOR'!J:J) -> 9445597.8 | I4: =SUMIF('Final MOR-no-MOR'!B:B,"Total",'Final MOR-no-MOR'!K:K) -> 7183188.1 | J4: =SUMIF('Final MOR-no-MOR'!B:B,"Total",'Final MOR-no-MOR'!L:L) -> 619792.4 | K4: =SUMIF('Final MOR-no-MOR'!B:B,"Total",'Final MOR-no-MOR'!M:M) -> 1.7021517 | L4: =SUMIF('Final MOR-no-MOR'!B:B,"Total",'Final MOR-no-MOR'!N:N) -> 13567020 | M4: =SUMIF('Final MOR-no-MOR'!B:B,"Total",'Final MOR-no-MOR'!O:O) -> 2.2899858
A5: Tech-Refresh | B5: =SUMIF('Tech-Refresh'!B:B,"Total",'Tech-Refresh'!D:D) -> 934711.97 | C5: =SUMIF('Tech-Refresh'!B:B,"Total",'Tech-Refresh'!E:E) -> 845337.27 | D5: =SUMIF('Tech-Refresh'!B:B,"Total",'Tech-Refresh'!F:F) -> 89374.698 | E5: =SUMIF('Tech-Refresh'!B:B,"Total",'Tech-Refresh'!G:G) -> 794972.55 | F5: =SUMIF('Tech-Refresh'!B:B,"Total",'Tech-Refresh'!H:H) -> 99371.568 | G5: =SUMIF('Tech-Refresh'!B:B,"Total",'Tech-Refresh'!I:I) -> 695600.98 | H5: =SUMIF('Tech-Refresh'!B:B,"Total",'Tech-Refresh'!J:J) -> 159115.74 | I5: =SUMIF('Tech-Refresh'!B:B,"Total",'Tech-Refresh'!K:K) -> 536485.24 | J5: =SUMIF('Tech-Refresh'!B:B,"Total",'Tech-Refresh'!L:L) -> 23822.541 | K5: =SUMIF('Tech-Refresh'!B:B,"Total",'Tech-Refresh'!M:M) -> 0.22874571 | L5: =SUMIF('Tech-Refresh'!B:B,"Total",'Tech-Refresh'!N:N) -> 206455.15 | M5: =SUMIF('Tech-Refresh'!B:B,"Total",'Tech-Refresh'!O:O) -> 0.29680112
A6: New Installs | B6: =SUMIF('New Installs'!B:B,"Total",'New Installs'!D:D) -> 0 | C6: =SUMIF('New Installs'!B:B,"Total",'New Installs'!E:E) -> 0 | D6: =SUMIF('New Installs'!B:B,"Total",'New Installs'!F:F) -> 0 | E6: =SUMIF('New Installs'!B:B,"Total",'New Installs'!G:G) -> 0 | F6: =SUMIF('New Installs'!B:B,"Total",'New Installs'!H:H) -> 0 | G6: =SUMIF('New Installs'!B:B,"Total",'New Installs'!I:I) -> 0 | H6: =SUMIF('New Installs'!B:B,"Total",'New Installs'!J:J) -> 0 | I6: =SUMIF('New Installs'!B:B,"Total",'New Installs'!K:K) -> 0 | J6: =SUMIF('New Installs'!B:B,"Total",'New Installs'!L:L) -> 0 | K6: =SUMIF('New Installs'!B:B,"Total",'New Installs'!M:M) -> 0 | L6: =SUMIF('New Installs'!B:B,"Total",'New Installs'!N:N) -> 0 | M6: =SUMIF('New Installs'!B:B,"Total",'New Installs'!O:O) -> 0
A7: Unable to Report | B7: =SUMIF('Unable to Report'!B:B,"Total",'Unable to Report'!D:D) -> 0 | C7: =SUMIF('Unable to Report'!B:B,"Total",'Unable to Report'!E:E) -> 0 | D7: =SUMIF('Unable to Report'!B:B,"Total",'Unable to Report'!F:F) -> 0 | E7: =SUMIF('Unable to Report'!B:B,"Total",'Unable to Report'!G:G) -> 0 | F7: =SUMIF('Unable to Report'!B:B,"Total",'Unable to Report'!H:H) -> 0 | G7: =SUMIF('Unable to Report'!B:B,"Total",'Unable to Report'!I:I) -> 0 | H7: =SUMIF('Unable to Report'!B:B,"Total",'Unable to Report'!J:J) -> 0 | I7: =SUMIF('Unable to Report'!B:B,"Total",'Unable to Report'!K:K) -> 0 | J7: =SUMIF('Unable to Report'!B:B,"Total",'Unable to Report'!L:L) -> 0 | K7: =SUMIF('Unable to Report'!B:B,"Total",'Unable to Report'!M:M) -> #DIV/0! | L7: =SUMIF('Unable to Report'!B:B,"Total",'Unable to Report'!N:N) -> 0 | M7: =SUMIF('Unable to Report'!B:B,"Total",'Unable to Report'!O:O) -> #DIV/0!
A8: Exchange | B8: =SUMIF(Exchange!B:B,"Total",Exchange!D:D) -> 3028284.7 | C8: =SUMIF(Exchange!B:B,"Total",Exchange!E:E) -> 2754595.1 | D8: =SUMIF(Exchange!B:B,"Total",Exchange!F:F) -> 273689.6 | E8: =SUMIF(Exchange!B:B,"Total",Exchange!G:G) -> 2385834.9 | F8: =SUMIF(Exchange!B:B,"Total",Exchange!H:H) -> 959187.18 | G8: =SUMIF(Exchange!B:B,"Total",Exchange!I:I) -> 1426647.7 | H8: =SUMIF(Exchange!B:B,"Total",Exchange!J:J) -> 1322747.2 | I8: =SUMIF(Exchange!B:B,"Total",Exchange!K:K) -> 103900.48 | J8: =SUMIF(Exchange!B:B,"Total",Exchange!L:L) -> 2659.3696 | K8: =SUMIF(Exchange!B:B,"Total",Exchange!M:M) -> 0.92717159 | L8: =SUMIF(Exchange!B:B,"Total",Exchange!N:N) -> 1322747.2 | M8: =SUMIF(Exchange!B:B,"Total",Exchange!O:O) -> 0.92717159
A9: Total(GB) | B9: =SUM(B4:B8) -> 34986713 | C9: =SUM(C4:C8) -> 31954366 | D9: =SUM(D4:D8) -> 3032347.3 | E9: =SUM(E4:E8) -> 29046525 | F9: =SUM(F4:F8) -> 10295490 | G9: =SUM(G4:G8) -> 18751035 | H9: =SUM(H4:H8) -> 10927461 | I9: =SUM(I4:I8) -> 7823573.8 | J9: =SUM(J4:J8) -> 646274.31 | K9: =H9/G9 -> 0.58276575 | L9: =SUM(L4:L8) -> 15096223 | M9: =L9/G9 -> 0.80508746
A10: Total(TB) | B10: =B9/1024 -> 34166.712 | C10: =C9/1024 -> 31205.435 | D10: =D9/1024 -> 2961.2766 | E10: =E9/1024 -> 28365.747 | F10: =F9/1024 -> 10054.19 | G10: =G9/1024 -> 18311.557 | H10: =H9/1024 -> 10671.348 | I10: =I9/1024 -> 7640.2088 | J10: =J9/1024 -> 631.12725 | K10: =H10/G10 -> 0.58276575 | L10: =L9/1024 -> 14742.405 | M10: =L10/G10 -> 0.80508746
A11: Total(PB) | B11: =B10/1024 -> 33.36593 | C11: =C10/1024 -> 30.474058 | D11: =D10/1024 -> 2.8918717 | E11: =E10/1024 -> 27.700925 | F11: =F10/1024 -> 9.8185445 | G11: =G10/1024 -> 17.88238 | H11: =H10/1024 -> 10.421239 | I11: =I10/1024 -> 7.4611414 | J11: =J10/1024 -> 0.61633521 | K11: =H11/G11 -> 0.58276575 | L11: =L10/1024 -> 14.39688 | M11: =L11/G11 -> 0.80508746
C13: Exclude the below Sheets from the final MOR Report
A15: Sheet Name | B15: Market Standard | C15: Formatted | D15: format Lost | E15: Physical total | F15: Parity Lost | G15: Pool Usable | H15: Pool Used | I15: Pool Free | J15: Spare | K15: %Used | L15: Host Allocations | M15: %Allocated
A16: Tech-Refresh | B16: =B5 -> 934711.97 | C16: =C5 -> 845337.27 | D16: =D5 -> 89374.698 | E16: =E5 -> 794972.55 | F16: =F5 -> 99371.568 | G16: =G5 -> 695600.98 | H16: =H5 -> 159115.74 | I16: =I5 -> 536485.24 | ... M16: =M5 -> 0.29680112
A17: New Installs | B17: =B6 -> 0 | C17: =C6 -> 0 | D17: =D6 -> 0 | E17: =E6 -> 0 | F17: =F6 -> 0 | G17: =G6 -> 0 | H17: =H6 -> 0 | I17: =I6 -> 0 | ... M17: =M6 -> 0
A18: Unable to Report | B18: =B7 -> 0 | C18: =C7 -> 0 | D18: =D7 -> 0 | E18: =E7 -> 0 | F18: =F7 -> 0 | G18: =G7 -> 0 | H18: =H7 -> 0 | I18: =I7 -> 0 | ... M18: =M7 -> #DIV/0!
A19: Exchange | B19: =B8 -> 3028284.7 | C19: =C8 -> 2754595.1 | D19: =D8 -> 273689.6 | E19: =E8 -> 2385834.9 | F19: =F8 -> 959187.18 | G19: =G8 -> 1426647.7 | H19: =H8 -> 1322747.2 | I19: =I8 -> 103900.48 | ... M19: =M8 -> 0.92717159
A20: Total(GB) | B20: =SUM(B16:B19) -> 3962996.7 | C20: =SUM(C16:C19) -> 3599932.4 | D20: =SUM(D16:D19) -> 363064.3 | E20: =SUM(E16:E19) -> 3180807.4 | F20: =SUM(F16:F19) -> 1058558.8 | G20: =SUM(G16:G19) -> 2122248.6 | H20: =SUM(H16:H19) -> 1481862.9 | I20: =SUM(I16:I19) -> 640385.72 | J20: =SUM(J16:J19) -> 26481.911 | K20: =H20/G20 -> 0.69825133 | L20: =SUM(L16:L19) -> 1529202.3 | M20: =L20/G20 -> 0.72055758
A21: Total(TB) | B21: =B20/1024 -> 3870.1139 | C21: =C20/1024 -> 3515.5589 | D21: =D20/1024 -> 354.55498 | E21: =E20/1024 -> 3106.2572 | F21: =F20/1024 -> 1033.7488 | G21: =G20/1024 -> 2072.5084 | H21: =H20/1024 -> 1447.1318 | I21: =I20/1024 -> 625.37668 | J21: =J20/1024 -> 25.861241 | K21: =H21/G21 -> 0.69825133 | L21: =L20/1024 -> 1493.3617 | M21: =L21/G21 -> 0.72055758
A22: Total(PB) | B22: =B21/1024 -> 3.7794081 | C22: =C21/1024 -> 3.433163 | D22: =D21/1024 -> 0.3462451 | E22: =E21/1024 -> 3.0334543 | F22: =F21/1024 -> 1.0095203 | G22: =G21/1024 -> 2.023934 | H22: =H21/1024 -> 1.4132146 | I22: =I21/1024 -> 0.61071941 | J22: =J21/1024 -> 0.025255118 | K22: =H22/G22 -> 0.69825133 | L22: =L21/1024 -> 1.458361 | M22: =L22/G22 -> 0.72055758
C24: Final MOR Report
A26: Sheet Name | B26: Market Standard | C26: Formatted | D26: format Lost | E26: Physical total | F26: Parity Lost | G26: Pool Usable | H26: Pool Used | I26: Pool Free | J26: Spare | K26: %Used | L26: Host Allocations | M26: %Allocated
A27: Final MOR | B27: =B9-B20 -> 31023716 | C27: =C9-C20 -> 28354433 | D27: =D9-D20 -> 2669283 | E27: =E9-E20 -> 25865717 | F27: =F9-F20 -> 9236931.4 | G27: =G9-G20 -> 16628786 | H27: =H9-H20 -> 9445597.8 | I27: =I9-I20 -> 7183188.1 | J27: =J9-J20 -> 619792.4 | K27: =H27/G27 -> 0.56802691 | L27: =L9-L20 -> 13567020 | M27: =L27/G27 -> 0.81587558
A28: Total(TB) | B28: =B27/1024 -> 30296.598 | C28: =C27/1024 -> 27689.876 | D28: =D27/1024 -> 2606.7216 | E28: =E27/1024 -> 25259.489 | F28: =F27/1024 -> 9020.4408 | G28: =G27/1024 -> 16239.049 | H28: =H27/1024 -> 9224.2166 | I28: =I27/1024 -> 7014.8321 | J28: =J27/1024 -> 605.26601 | K28: =H28/G28 -> 0.56802691 | L28: =L27/1024 -> 13249.043 | M28: =L28/G28 -> 0.81587558
A29: Total(PB) | B29: =B28/1024 -> 29.586521 | C29: =C28/1024 -> 27.040895 | D29: =D28/1024 -> 2.5456266 | E29: =E28/1024 -> 24.66747 | F29: =F28/1024 -> 8.8090242 | G29: =G28/1024 -> 15.858446 | H29: =H28/1024 -> 9.008024 | I29: =I28/1024 -> 6.850422 | J29: =J28/1024 -> 0.59108009 | K29: =H29/G29 -> 0.56802691 | L29: =L28/1024 -> 12.938519 | M29: =L29/G29 -> 0.81587558

Sheet Final MOR
A1: Loc | B1: Type | C1: Array | D1: Market Standard | E1: Formatted | F1: format Lost | G1: Physical total | H1: Parity Lost | I1: Pool Usable | J1: Pool Used | K1: Pool Free | L1: Spare | M1: %Used | N1: Host Allocations | O1: %Allocated | P1: %Parity | Q1: ParityGB | R1: Allocated RAW
A2: =VLOOKUP(C:C,ALL_Pivot_new!B:D,2,FALSE) -> Swiss | B2: =VLOOKUP(C:C,ALL_Pivot_new!B:D,3,FALSE) -> Vmax | C2: 377 | D2: =SUMIF(ALL_Pivot_new!B:B,C:C,ALL_Pivot_new!F:F) -> 46800 | E2: =SUMIF(ALL_Pivot_new!B:B,C:C,ALL_Pivot_new!G:G) -> 42525 | F2: =SUMIF(ALL_Pivot_new!B:B,C:C,ALL_Pivot_new!H:H) -> 4275 | G2: =SUMIF(ALL_Pivot_new!B:B,C:C,ALL_Pivot_new!I:I) -> 37817.714 | H2: =SUMIF(ALL_Pivot_new!B:B,C:C,ALL_Pivot_new!J:J) -> 4727.2143 | I2: =SUMIF(ALL_Pivot_new!B:B,C:C,ALL_Pivot_new!K:K) -> 33090.5 | J2: =SUMIF(ALL_Pivot_new!B:B,C:C,ALL_Pivot_new!L:L) -> 14757.2 | K2: =SUMIF(ALL_Pivot_new!B:B,C:C,ALL_Pivot_new!M:M) -> 18333.3 | L2: =SUMIF(ALL_Pivot_new!B:B,C:C,ALL_Pivot_new!N:N) -> 3271 | M2: =J2/I2 -> 0.44596485 | N2: =SUMIF(ALL_Pivot_new!B:B,C:C,ALL_Pivot_new!O:O) -> 42854.1 | O2: =N2/I2 -> 1.2950575 | P2: =H2/G2 -> 0.125 | Q2: =N2*P2 -> 5356.7625 | R2: =N2+Q2 -> 48210.862
A3: =VLOOKUP(C:C,ALL_Pivot_new!B:D,2,FALSE) -> RDC | B3: =VLOOKUP(C:C,ALL_Pivot_new!B:D,3,FALSE) -> Vmax | C3: 0347 | D3: =SUMIF(ALL_Pivot_new!B:B,C:C,ALL_Pivot_new!F:F) -> 588456 | E3: =SUMIF(ALL_Pivot_new!B:B,C:C,ALL_Pivot_new!G:G) -> 535316.42 | F3: =SUMIF(ALL_Pivot_new!B:B,C:C,ALL_Pivot_new!H:H) -> 53139.582 | G3: =SUMIF(ALL_Pivot_new!B:B,C:C,ALL_Pivot_new!I:I) -> 354223.61 | H3: =SUMIF(ALL_Pivot_new!B:B,C:C,ALL_Pivot_new!J:J) -> 130153.4 | I3: =SUMIF(ALL_Pivot_new!B:B,C:C,ALL_Pivot_new!K:K) -> 224070.22 | J3: =SUMIF(ALL_Pivot_new!B:B,C:C,ALL_Pivot_new!L:L) -> 103721.79 | K3: =SUMIF(ALL_Pivot_new!B:B,C:C,ALL_Pivot_new!M:M) -> 120348.42 | L3: =SUMIF(ALL_Pivot_new!B:B,C:C,ALL_Pivot_new!N:N) -> 10868.48 | M3: =J3/I3 -> 0.46289861 | N3: =SUMIF(ALL_Pivot_new!B:B,C:C,ALL_Pivot_new!O:O) -> 189680 | O3: =N3/I3 -> 0.84652036 | P3: =H3/G3 -> 0.36743287 | Q3: =N3*P3 -> 69694.666 | R3: =N3+Q3 -> 259374.67
A4: =VLOOKUP(C:C,ALL_Pivot_new!B:D,2,FALSE) -> FDC | B4: =VLOOKUP(C:C,ALL_Pivot_new!B:D,3,FALSE) -> Vmax | C4: 0349 | D4: =SUMIF(ALL_Pivot_new!B:B,C:C,ALL_Pivot_new!F:F) -> 588456 | E4: =SUMIF(ALL_Pivot_new!B:B,C:C,ALL_Pivot_new!G:G) -> 535316.42 | F4: =SUMIF(ALL_Pivot_new!B:B,C:C,ALL_Pivot_new!H:H) -> 53139.582 | G4: =SUMIF(ALL_Pivot_new!B:B,C:C,ALL_Pivot_new!I:I) -> 427723.02 | H4: =SUMIF(ALL_Pivot_new!B:B,C:C,ALL_Pivot_new!J:J) -> 165435.64 | I4: =SUMIF(ALL_Pivot_new!B:B,C:C,ALL_Pivot_new!K:K) -> 262287.38 | J4: =SUMIF(ALL_Pivot_new!B:B,C:C,ALL_Pivot_new!L:L) -> 172491.32 | K4: =SUMIF(ALL_Pivot_new!B:B,C:C,ALL_Pivot_new!M:M) -> 89796.051 | L4: =SUMIF(ALL_Pivot_new!B:B,C:C,ALL_Pivot_new!N:N) -> 10868.48 | M4: =J4/I4 -> 0.6576425 | N4: =SUMIF(ALL_Pivot_new!B:B,C:C,ALL_Pivot_new!O:O) -> 294710 | O4: =N4/I4 -> 1.1236149 | P4: =H4/G4 -> 0.38678218 | Q4: =N4*P4 -> 113988.58 | R4: =N4+Q4 -> 408698.58
A5: =VLOOKUP(C:C,ALL_Pivot_new!B:D,2,FALSE) -> FDC | B5: =VLOOKUP(C:C,ALL_Pivot_new!B:D,3,FALSE) -> Vmax | C5: 2804 | D5: =SUMIF(ALL_Pivot_new!B:B,C:C,ALL_Pivot_new!F:F) -> 118400 | E5: =SUMIF(ALL_Pivot_new!B:B,C:C,ALL_Pivot_new!G:G) -> 107740.89 | F5: =SUMIF(ALL_Pivot_new!B:B,C:C,ALL_Pivot_new!H:H) -> 10659.113 | G5: =SUMIF(ALL_Pivot_new!B:B,C:C,ALL_Pivot_new!I:I) -> 95168.675 | H5: =SUMIF(ALL_Pivot_new!B:B,C:C,ALL_Pivot_new!J:J) -> 12130.234 | I5: =SUMIF(ALL_Pivot_new!B:B,C:C,ALL_Pivot_new!K:K) -> 83038.44 | J5: =SUMIF(ALL_Pivot_new!B:B,C:C,ALL_Pivot_new!L:L) -> 59851.012 | K5: =SUMIF(ALL_Pivot_new!B:B,C:C,ALL_Pivot_new!M:M) -> 23187.429 | L5: =SUMIF(ALL_Pivot_new!B:B,C:C,ALL_Pivot_new!N:N) -> 3643.793 | M5: =J5/I5 -> 0.72076272 | N5: =SUMIF(ALL_Pivot_new!B:B,C:C,ALL_Pivot_new!O:O) -> 108532 | O5: =N5/I5 -> 1.3070091 | P5: =H5/G5 -> 0.12746037 | Q5: =N5*P5 -> 13833.529 | R5: =N5+Q5 -> 122365.53
A6: =VLOOKUP(C:C,ALL_Pivot_new!B:D,2,FALSE) -> FDC | B6: =VLOOKUP(C:C,ALL_Pivot_new!B:D,3,FALSE) -> Vmax | C6: 3004 | D6: =SUMIF(ALL_Pivot_new!B:B,C:C,ALL_Pivot_new!F:F) -> 597408 | E6: =SUMIF(ALL_Pivot_new!B:B,C:C,ALL_Pivot_new!G:G) -> 527587.59 | F6: =SUMIF(ALL_Pivot_new!B:B,C:C,ALL_Pivot_new!H:H) -> 69820.406 | G6: =SUMIF(ALL_Pivot_new!B:B,C:C,ALL_Pivot_new!I:I) -> 500822.19 | H6: =SUMIF(ALL_Pivot_new!B:B,C:C,ALL_Pivot_new!J:J) -> 62602.774 | I6: =SUMIF(ALL_Pivot_new!B:B,C:C,ALL_Pivot_new!K:K) -> 438219.42 | J6: =SUMIF(ALL_Pivot_new!B:B,C:C,ALL_Pivot_new!L:L) -> 211688.28 | K6: =SUMIF(ALL_Pivot_new!B:B,C:C,ALL_Pivot_new!M:M) -> 226531.14 | L6: =SUMIF(ALL_Pivot_new!B:B,C:C,ALL_Pivot_new!N:N) -> 10767.094 | M6: =J6/I6 -> 0.48306457 | N6: =SUMIF(ALL_Pivot_new!B:B,C:C,ALL_Pivot_new!O:O) -> 374596 | O6: =N6/I6 -> 0.85481378 | P6: =H6/G6 -> 0.125 | Q6: =N6*P6 -> 46824.5 | R6: =N6+Q6 -> 421420.5
A7: =VLOOKUP(C:C,ALL_Pivot_new!B:D,2,FALSE) -> RDC | B7: =VLOOKUP(C:C,ALL_Pivot_new!B:D,3,FALSE) -> Vmax | C7: 3073 | D7: =SUMIF(ALL_Pivot_new!B:B,C:C,ALL_Pivot_new!F:F) -> 531872 | E7: =SUMIF(ALL_Pivot_new!B:B,C:C,ALL_Pivot_new!G:G) -> 470601.19 | F7: =SUMIF(ALL_Pivot_new!B:B,C:C,ALL_Pivot_new!H:H) -> 61270.812 | G7: =SUMIF(ALL_Pivot_new!B:B,C:C,ALL_Pivot_new!I:I) -> 445146.03 | H7: =SUMIF(ALL_Pivot_new!B:B,C:C,ALL_Pivot_new!J:J) -> 55643.254 | I7: =SUMIF(ALL_Pivot_new!B:B,C:C,ALL_Pivot_new!K:K) -> 389502.78 | J7: =SUMIF(ALL_Pivot_new!B:B,C:C,ALL_Pivot_new!L:L) -> 215487.47 | K7: =SUMIF(ALL_Pivot_new!B:B,C:C,ALL_Pivot_new!M:M) -> 174015.3 | L7: =SUMIF(ALL_Pivot_new!B:B,C:C,ALL_Pivot_new!N:N) -> 10767.094 | M7: =J7/I7 -> 0.55323733 | N7: =SUMIF(ALL_Pivot_new!B:B,C:C,ALL_Pivot_new!O:O) -> 327291 | O7: =N7/I7 -> 0.84027899 | P7: =H7/G7 -> 0.125 | Q7: =N7*P7 -> 40911.375 | R7: =N7+Q7 -> 368202.38
A8: =VLOOKUP(C:C,ALL_Pivot_new!B:D,2,FALSE) -> RDC | B8: =VLOOKUP(C:C,ALL_Pivot_new!B:D,3,FALSE) -> Vmax | C8: 3286 | D8: =SUMIF(ALL_Pivot_new!B:B,C:C,ALL_Pivot_new!F:F) -> 227300 | E8: =SUMIF(ALL_Pivot_new!B:B,C:C,ALL_Pivot_new!G:G) -> 206693.84 | F8: =SUMIF(ALL_Pivot_new!B:B,C:C,ALL_Pivot_new!H:H) -> 20606.164 | G8: =SUMIF(ALL_Pivot_new!B:B,C:C,ALL_Pivot_new!I:I) -> 189713.02 | H8: =SUMIF(ALL_Pivot_new!B:B,C:C,ALL_Pivot_new!J:J) -> 23948.278 | I8: =SUMIF(ALL_Pivot_new!B:B,C:C,ALL_Pivot_new!K:K) -> 165764.74 | J8: =SUMIF(ALL_Pivot_new!B:B,C:C,ALL_Pivot_new!L:L) -> 118754.41 | K8: =SUMIF(ALL_Pivot_new!B:B,C:C,ALL_Pivot_new!M:M) -> 47010.337 | L8: =SUMIF(ALL_Pivot_new!B:B,C:C,ALL_Pivot_new!N:N) -> 4461.5859 | M8: =J8/I8 -> 0.71640328 | N8: =SUMIF(ALL_Pivot_new!B:B,C:C,ALL_Pivot_new!O:O) -> 231128.4 | O8: =N8/I8 -> 1.3943158 | P8: =H8/G8 -> 0.12623423 | Q8: =N8*P8 -> 29176.316 | R8: =N8+Q8 -> 260304.72
A9: =VLOOKUP(C:C,ALL_Pivot_new!B:D,2,FALSE) -> RDC | B9: =VLOOKUP(C:C,ALL_Pivot_new!B:D,3,FALSE) -> Vmax | C9: 3696 | D9: =SUMIF(ALL_Pivot_new!B:B,C:C,ALL_Pivot_new!F:F) -> 227100 | E9: =SUMIF(ALL_Pivot_new!B:B,C:C,ALL_Pivot_new!G:G) -> 206507.53 | F9: =SUMIF(ALL_Pivot_new!B:B,C:C,ALL_Pivot_new!H:H) -> 20592.475 | G9: =SUMIF(ALL_Pivot_new!B:B,C:C,ALL_Pivot_new!I:I) -> 190337.62 | H9: =SUMIF(ALL_Pivot_new!B:B,C:C,ALL_Pivot_new!J:J) -> 24260.578 | I9: =SUMIF(ALL_Pivot_new!B:B,C:C,ALL_Pivot_new!K:K) -> 166077.05 | J9: =SUMIF(ALL_Pivot_new!B:B,C:C,ALL_Pivot_new!L:L) -> 30136.719 | K9: =SUMIF(ALL_Pivot_new!B:B,C:C,ALL_Pivot_new!M:M) -> 135940.33 | L9: =SUMIF(ALL_Pivot_new!B:B,C:C,ALL_Pivot_new!N:N) -> 4275.2754 | M9: =J9/I9 -> 0.18146227 | N9: =SUMIF(ALL_Pivot_new!B:B,C:C,ALL_Pivot_new!O:O) -> 173040.4 | O9: =N9/I9 -> 1.0419284 | P9: =H9/G9 -> 0.12746076 | Q9: =N9*P9 -> 22055.861 | R9: =N9+Q9 -> 195096.26
A10: =VLOOKUP(C:C,ALL_Pivot_new!B:D,2,FALSE) -> FDC | B10: =VLOOKUP(C:C,ALL_Pivot_new!B:D,3,FALSE) -> Vmax | C10: 3875 | D10: =SUMIF(ALL_Pivot_new!B:B,C:C,ALL_Pivot_new!F:F) -> 118400 | E10: =SUMIF(ALL_Pivot_new!B:B,C:C,ALL_Pivot_new!G:G) -> 107740.89 | F10: =SUMIF(ALL_Pivot_new!B:B,C:C,ALL_Pivot_new!H:H) -> 10659.113 | G10: =SUMIF(ALL_Pivot_new!B:B,C:C,ALL_Pivot_new!I:I) -> 95793.317 | H10: =SUMIF(ALL_Pivot_new!B:B,C:C,ALL_Pivot_new!J:J) -> 12442.54 | I10: =SUMIF(ALL_Pivot_new!B:B,C:C,ALL_Pivot_new!K:K) -> 83350.777 | J10: =SUMIF(ALL_Pivot_new!B:B,C:C,ALL_Pivot_new!L:L) -> 16076.605 | K10: =SUMIF(ALL_Pivot_new!B:B,C:C,ALL_Pivot_new!M:M) -> 67274.172 | L10: =SUMIF(ALL_Pivot_new!B:B,C:C,ALL_Pivot_new!N:N) -> 3643.793 | M10: =J10/I10 -> 0.19287889 | N10: =SUMIF(ALL_Pivot_new!B:B,C:C,ALL_Pivot_new!O:O) -> 33121.5 | O10: =N10/I10 -> 0.39737482 | P10: =H10/G10 -> 0.12988943 | Q10: =N10*P10 -> 4302.1329 | R10: =N10+Q10 -> 37423.633
A11: =VLOOKUP(C:C,ALL_Pivot_new!B:D,2,FALSE) -> RDC | B11: =VLOOKUP(C:C,ALL_Pivot_new!B:D,3,FALSE) -> Vmax | C11: 4330 | D11: =SUMIF(ALL_Pivot_new!B:B,C:C,ALL_Pivot_new!F:F) -> 287100 | E11: =SUMIF(ALL_Pivot_new!B:B,C:C,ALL_Pivot_new!G:G) -> 260875.96 | F11: =SUMIF(ALL_Pivot_new!B:B,C:C,ALL_Pivot_new!H:H) -> 26224.043 | G11: =SUMIF(ALL_Pivot_new!B:B,C:C,ALL_Pivot_new!I:I) -> 248032.04 | H11: =SUMIF(ALL_Pivot_new!B:B,C:C,ALL_Pivot_new!J:J) -> 124016.02 | I11: =SUMIF(ALL_Pivot_new!B:B,C:C,ALL_Pivot_new!K:K) -> 124016.02 | J11: =SUMIF(ALL_Pivot_new!B:B,C:C,ALL_Pivot_new!L:L) -> 91360.07 | K11: =SUMIF(ALL_Pivot_new!B:B,C:C,ALL_Pivot_new!M:M) -> 32655.947 | L11: =SUMIF(ALL_Pivot_new!B:B,C:C,ALL_Pivot_new!N:N) -> 5724.5508 | M11: =J11/I11 -> 0.7366796 | N11: =SUMIF(ALL_Pivot_new!B:B,C:C,ALL_Pivot_new!O:O) -> 171812 | O11: =N11/I11 -> 1.3854017 | P11: =H11/G11 -> 0.5 | Q11: =N11*P11 -> 85906 | R11: =N11+Q11 -> 257718
A12: =VLOOKUP(C:C,ALL_Pivot_new!B:D,2,FALSE) -> FDC | B12: =VLOOKUP(C:C,ALL_Pivot_new!B:D,3,FALSE) -> Vmax | C12: 4652 | D12: =SUMIF(ALL_Pivot_new!B:B,C:C,ALL_Pivot_new!F:F) -> 441000 | E12: =SUMIF(ALL_Pivot_new!B:B,C:C,ALL_Pivot_new!G:G) -> 400718.55 | F12: =SUMIF(ALL_Pivot_new!B:B,C:C,ALL_Pivot_new!H:H) -> 40281.445 | G12: =SUMIF(ALL_Pivot_new!B:B,C:C,ALL_Pivot_new!I:I) -> 383226.21 | H12: =SUMIF(ALL_Pivot_new!B:B,C:C,ALL_Pivot_new!J:J) -> 191613.11 | I12: =SUMIF(ALL_Pivot_new!B:B,C:C,ALL_Pivot_new!K:K) -> 191613.11 | J12: =SUMIF(ALL_Pivot_new!B:B,C:C,ALL_Pivot_new!L:L) -> 149523.89 | K12: =SUMIF(ALL_Pivot_new!B:B,C:C,ALL_Pivot_new!M:M) -> 42089.215 | L12: =SUMIF(ALL_Pivot_new!B:B,C:C,ALL_Pivot_new!N:N) -> 8177.9297 | M12: =J12/I12 -> 0.78034271 | N12: =SUMIF(ALL_Pivot_new!B:B,C:C,ALL_Pivot_new!O:O) -> 277419 | O12: =N12/I12 -> 1.4478081 | P12: =H12/G12 -> 0.5 | Q12: =N12*P12 -> 138709.5 | R12: =N12+Q12 -> 416128.5
A13: =VLOOKUP(C:C,ALL_Pivot_new!B:D,2,FALSE) -> FDC | B13: =VLOOKUP(C:C,ALL_Pivot_new!B:D,3,FALSE) -> Vmax | C13: 667 | D13: =SUMIF(ALL_Pivot_new!B:B,C:C,ALL_Pivot_new!F:F) -> 235200 | E13: =SUMIF(ALL_Pivot_new!B:B,C:C,ALL_Pivot_new!G:G) -> 213716.56 | F13: =SUMIF(ALL_Pivot_new!B:B,C:C,ALL_Pivot_new!H:H) -> 21483.438 | G13: =SUMIF(ALL_Pivot_new!B:B,C:C,ALL_Pivot_new!I:I) -> 200645.34 | H13: =SUMIF(ALL_Pivot_new!B:B,C:C,ALL_Pivot_new!J:J) -> 98451.168 | I13: =SUMIF(ALL_Pivot_new!B:B,C:C,ALL_Pivot_new!K:K) -> 102194.17 | J13: =SUMIF(ALL_Pivot_new!B:B,C:C,ALL_Pivot_new!L:L) -> 22019.473 | K13: =SUMIF(ALL_Pivot_new!B:B,C:C,ALL_Pivot_new!M:M) -> 80174.695 | L13: =SUMIF(ALL_Pivot_new!B:B,C:C,ALL_Pivot_new!N:N) -> 4361.5625 | M13: =J13/I13 -> 0.21546702 | N13: =SUMIF(ALL_Pivot_new!B:B,C:C,ALL_Pivot_new!O:O) -> 55807.8 | O13: =N13/I13 -> 0.54609574 | P13: =H13/G13 -> 0.4906726 | Q13: =N13*P13 -> 27383.358 | R13: =N13+Q13 -> 83191.158
A14: =VLOOKUP(C:C,ALL_Pivot_new!B:D,2,FALSE) -> RDC | B14: =VLOOKUP(C:C,ALL_Pivot_new!B:D,3,FALSE) -> Vmax | C14: 671 | D14: =SUMIF(ALL_Pivot_new!B:B,C:C,ALL_Pivot_new!F:F) -> 480000 | E14: =SUMIF(ALL_Pivot_new!B:B,C:C,ALL_Pivot_new!G:G) -> 436156.25 | F14: =SUMIF(ALL_Pivot_new!B:B,C:C,ALL_Pivot_new!H:H) -> 43843.75 | G14: =SUMIF(ALL_Pivot_new!B:B,C:C,ALL_Pivot_new!I:I) -> 415238.64 | H14: =SUMIF(ALL_Pivot_new!B:B,C:C,ALL_Pivot_new!J:J) -> 205747.82 | I14: =SUMIF(ALL_Pivot_new!B:B,C:C,ALL_Pivot_new!K:K) -> 209490.82 | J14: =SUMIF(ALL_Pivot_new!B:B,C:C,ALL_Pivot_new!L:L) -> 44542.258 | K14: =SUMIF(ALL_Pivot_new!B:B,C:C,ALL_Pivot_new!M:M) -> 164948.56 | L14: =SUMIF(ALL_Pivot_new!B:B,C:C,ALL_Pivot_new!N:N) -> 8723.125 | M14: =J14/I14 -> 0.21262153 | N14: =SUMIF(ALL_Pivot_new!B:B,C:C,ALL_Pivot_new!O:O) -> 152240.1 | O14: =N14/I14 -> 0.7267149 | P14: =H14/G14 -> 0.49549295 | Q14: =N14*P14 -> 75433.897 | R14: =N14+Q14 -> 227674
A15: =VLOOKUP(C:C,ALL_Pivot_new!B:D,2,FALSE) -> FDC | B15: =VLOOKUP(C:C,ALL_Pivot_new!B:D,3,FALSE) -> Vmax | C15: 710 | D15: =SUMIF(ALL_Pivot_new!B:B,C:C,ALL_Pivot_new!F:F) -> 480000 | E15: =SUMIF(ALL_Pivot_new!B:B,C:C,ALL_Pivot_new!G:G) -> 436156.25 | F15: =SUMIF(ALL_Pivot_new!B:B,C:C,ALL_Pivot_new!H:H) -> 43843.75 | G15: =SUMIF(ALL_Pivot_new!B:B,C:C,ALL_Pivot_new!I:I) -> 415238.92 | H15: =SUMIF(ALL_Pivot_new!B:B,C:C,ALL_Pivot_new!J:J) -> 205747.96 | I15: =SUMIF(ALL_Pivot_new!B:B,C:C,ALL_Pivot_new!K:K) -> 209490.96 | J15: =SUMIF(ALL_Pivot_new!B:B,C:C,ALL_Pivot_new!L:L) -> 150025.34 | K15: =SUMIF(ALL_Pivot_new!B:B,C:C,ALL_Pivot_new!M:M) -> 59465.617 | L15: =SUMIF(ALL_Pivot_new!B:B,C:C,ALL_Pivot_new!N:N) -> 8723.125 | M15: =J15/I15 -> 0.71614232 | N15: =SUMIF(ALL_Pivot_new!B:B,C:C,ALL_Pivot_new!O:O) -> 244329 | O15: =N15/I15 -> 1.1662985 | P15: =H15/G15 -> 0.49549296 | Q15: =N15*P15 -> 121063.3 | R15: =N15+Q15 -> 365392.3
A16: =VLOOKUP(C:C,ALL_Pivot_new!B:D,2,FALSE) -> RDC | B16: =VLOOKUP(C:C,ALL_Pivot_new!B:D,3,FALSE) -> Vmax | C16: 689 | D16: =SUMIF(ALL_Pivot_new!B:B,C:C,ALL_Pivot_new!F:F) -> 235200 | E16: =SUMIF(ALL_Pivot_new!B:B,C:C,ALL_Pivot_new!G:G) -> 213716.56 | F16: =SUMIF(ALL_Pivot_new!B:B,C:C,ALL_Pivot_new!H:H) -> 21483.438 | G16: =SUMIF(ALL_Pivot_new!B:B,C:C,ALL_Pivot_new!I:I) -> 200645.38 | H16: =SUMIF(ALL_Pivot_new!B:B,C:C,ALL_Pivot_new!J:J) -> 98451.188 | I16: =SUMIF(ALL_Pivot_new!B:B,C:C,ALL_Pivot_new!K:K) -> 102194.19 | J16: =SUMIF(ALL_Pivot_new!B:B,C:C,ALL_Pivot_new!L:L) -> 75884.211 | K16: =SUMIF(ALL_Pivot_new!B:B,C:C,ALL_Pivot_new!M:M) -> 26309.977 | L16: =SUMIF(ALL_Pivot_new!B:B,C:C,ALL_Pivot_new!N:N) -> 4361.5625 | M16: =J16/I16 -> 0.74254919 | N16: =SUMIF(ALL_Pivot_new!B:B,C:C,ALL_Pivot_new!O:O) -> 109520 | O16: =N16/I16 -> 1.0716852 | P16: =H16/G16 -> 0.4906726 | Q16: =N16*P16 -> 53738.463 | R16: =N16+Q16 -> 163258.46
A17: =VLOOKUP(C:C,ALL_Pivot_new!B:D,2,FALSE) -> FDC | B17: =VLOOKUP(C:C,ALL_Pivot_new!B:D,3,FALSE) -> Vmax | C17: 712 | D17: =SUMIF(ALL_Pivot_new!B:B,C:C,ALL_Pivot_new!F:F) -> 480000 | E17: =SUMIF(ALL_Pivot_new!B:B,C:C,ALL_Pivot_new!G:G) -> 436156.25 | F17: =SUMIF(ALL_Pivot_new!B:B,C:C,ALL_Pivot_new!H:H) -> 43843.75 | G17: =SUMIF(ALL_Pivot_new!B:B,C:C,ALL_Pivot_new!I:I) -> 415238.64 | H17: =SUMIF(ALL_Pivot_new!B:B,C:C,ALL_Pivot_new!J:J) -> 205747.82 | I17: =SUMIF(ALL_Pivot_new!B:B,C:C,ALL_Pivot_new!K:K) -> 209490.82 | J17: =SUMIF(ALL_Pivot_new!B:B,C:C,ALL_Pivot_new!L:L) -> 135018 | K17: =SUMIF(ALL_Pivot_new!B:B,C:C,ALL_Pivot_new!M:M) -> 74472.82 | L17: =SUMIF(ALL_Pivot_new!B:B,C:C,ALL_Pivot_new!N:N) -> 8723.125 | M17: =J17/I17 -> 0.64450557 | N17: =SUMIF(ALL_Pivot_new!B:B,C:C,ALL_Pivot_new!O:O) -> 254516 | O17: =N17/I17 -> 1.2149267 | P17: =H17/G17 -> 0.49549295 | Q17: =N17*P17 -> 126110.88 | R17: =N17+Q17 -> 380626.88
A18: =VLOOKUP(C:C,ALL_Pivot_new!B:D,2,FALSE) -> RDC | B18: =VLOOKUP(C:C,ALL_Pivot_new!B:D,3,FALSE) -> Vmax | C18: 706 | D18: =SUMIF(ALL_Pivot_new!B:B,C:C,ALL_Pivot_new!F:F) -> 235200 | E18: =SUMIF(ALL_Pivot_new!B:B,C:C,ALL_Pivot_new!G:G) -> 213716.56 | F18: =SUMIF(ALL_Pivot_new!B:B,C:C,ALL_Pivot_new!H:H) -> 21483.438 | G18: =SUMIF(ALL_Pivot_new!B:B,C:C,ALL_Pivot_new!I:I) -> 200645.15 | H18: =SUMIF(ALL_Pivot_new!B:B,C:C,ALL_Pivot_new!J:J) -> 98451.076 | I18: =SUMIF(ALL_Pivot_new!B:B,C:C,ALL_Pivot_new!K:K) -> 102194.08 | J18: =SUMIF(ALL_Pivot_new!B:B,C:C,ALL_Pivot_new!L:L) -> 70487.531 | K18: =SUMIF(ALL_Pivot_new!B:B,C:C,ALL_Pivot_new!M:M) -> 31706.545 | L18: =SUMIF(ALL_Pivot_new!B:B,C:C,ALL_Pivot_new!N:N) -> 4361.5625 | M18: =J18/I18 -> 0.68974185 | N18: =SUMIF(ALL_Pivot_new!B:B,C:C,ALL_Pivot_new!O:O) -> 127434 | O18: =N18/I18 -> 1.2469803 | P18: =H18/G18 -> 0.49067259 | Q18: =N18*P18 -> 62528.371 | R18: =N18+Q18 -> 189962.37
A19: =VLOOKUP(C:C,ALL_Pivot_new!B:D,2,FALSE) -> CGC | B19: =VLOOKUP(C:C,ALL_Pivot_new!B:D,3,FALSE) -> HDS | C19: CGCHDS10 | D19: =SUMIF(ALL_Pivot_new!B:B,C:C,ALL_Pivot_new!F:F) -> 102000 | E19: =SUMIF(ALL_Pivot_new!B:B,C:C,ALL_Pivot_new!G:G) -> 92820 | F19: =SUMIF(ALL_Pivot_new!B:B,C:C,ALL_Pivot_new!H:H) -> 9180 | G19: =SUMIF(ALL_Pivot_new!B:B,C:C,ALL_Pivot_new!I:I) -> 85486.606 | H19: =SUMIF(ALL_Pivot_new!B:B,C:C,ALL_Pivot_new!J:J) -> 10685.826 | I19: =SUMIF(ALL_Pivot_new!B:B,C:C,ALL_Pivot_new!K:K) -> 74800.78 | J19: =SUMIF(ALL_Pivot_new!B:B,C:C,ALL_Pivot_new!L:L) -> 63958 | K19: =SUMIF(ALL_Pivot_new!B:B,C:C,ALL_Pivot_new!M:M) -> 10842.78 | L19: =SUMIF(ALL_Pivot_new!B:B,C:C,ALL_Pivot_new!N:N) -> 5460 | M19: =J19/I19 -> 0.85504456 | N19: =SUMIF(ALL_Pivot_new!B:B,C:C,ALL_Pivot_new!O:O) -> 63958 | O19: =N19/I19 -> 0.85504456 | P19: =H19/G19 -> 0.125 | Q19: =N19*P19 -> 7994.75 | R19: =N19+Q19 -> 71952.75
A20: =VLOOKUP(C:C,ALL_Pivot_new!B:D,2,FALSE) -> FDC | B20: =VLOOKUP(C:C,ALL_Pivot_new!B:D,3,FALSE) -> HDS | C20: FDCHDS04 | D20: =SUMIF(ALL_Pivot_new!B:B,C:C,ALL_Pivot_new!F:F) -> 270000 | E20: =SUMIF(ALL_Pivot_new!B:B,C:C,ALL_Pivot_new!G:G) -> 245700 | F20: =SUMIF(ALL_Pivot_new!B:B,C:C,ALL_Pivot_new!H:H) -> 24300 | G20: =SUMIF(ALL_Pivot_new!B:B,C:C,ALL_Pivot_new!I:I) -> 240489.37 | H20: =SUMIF(ALL_Pivot_new!B:B,C:C,ALL_Pivot_new!J:J) -> 30061.171 | I20: =SUMIF(ALL_Pivot_new!B:B,C:C,ALL_Pivot_new!K:K) -> 210428.2 | J20: =SUMIF(ALL_Pivot_new!B:B,C:C,ALL_Pivot_new!L:L) -> 114180.98 | K20: =SUMIF(ALL_Pivot_new!B:B,C:C,ALL_Pivot_new!M:M) -> 96247.22 | L20: =SUMIF(ALL_Pivot_new!B:B,C:C,ALL_Pivot_new!N:N) -> 1092 | M20: =J20/I20 -> 0.54261254 | N20: =SUMIF(ALL_Pivot_new!B:B,C:C,ALL_Pivot_new!O:O) -> 114180.98 | O20: =N20/I20 -> 0.54261254 | P20: =H20/G20 -> 0.125 | Q20: =N20*P20 -> 14272.622 | R20: =N20+Q20 -> 128453.6
A21: =VLOOKUP(C:C,ALL_Pivot_new!B:D,2,FALSE) -> FDC | B21: =VLOOKUP(C:C,ALL_Pivot_new!B:D,3,FALSE) -> HDS | C21: FDCHDS05 | D21: =SUMIF(ALL_Pivot_new!B:B,C:C,ALL_Pivot_new!F:F) -> 260400 | E21: =SUMIF(ALL_Pivot_new!B:B,C:C,ALL_Pivot_new!G:G) -> 236964 | F21: =SUMIF(ALL_Pivot_new!B:B,C:C,ALL_Pivot_new!H:H) -> 23436 | G21: =SUMIF(ALL_Pivot_new!B:B,C:C,ALL_Pivot_new!I:I) -> 231894.87 | H21: =SUMIF(ALL_Pivot_new!B:B,C:C,ALL_Pivot_new!J:J) -> 28986.859 | I21: =SUMIF(ALL_Pivot_new!B:B,C:C,ALL_Pivot_new!K:K) -> 202908.01 | J21: =SUMIF(ALL_Pivot_new!B:B,C:C,ALL_Pivot_new!L:L) -> 124398.34 | K21: =SUMIF(ALL_Pivot_new!B:B,C:C,ALL_Pivot_new!M:M) -> 78509.67 | L21: =SUMIF(ALL_Pivot_new!B:B,C:C,ALL_Pivot_new!N:N) -> 1092 | M21: =J21/I21 -> 0.61307752 | N21: =SUMIF(ALL_Pivot_new!B:B,C:C,ALL_Pivot_new!O:O) -> 124398.34 | O21: =N21/I21 -> 0.61307752 | P21: =H21/G21 -> 0.125 | Q21: =N21*P21 -> 15549.792 | R21: =N21+Q21 -> 139948.13
A22: =VLOOKUP(C:C,ALL_Pivot_new!B:D,2,FALSE) -> RDC | B22: =VLOOKUP(C:C,ALL_Pivot_new!B:D,3,FALSE) -> HDS | C22: RDCHDS10 | D22: =SUMIF(ALL_Pivot_new!B:B,C:C,ALL_Pivot_new!F:F) -> 58800 | E22: =SUMIF(ALL_Pivot_new!B:B,C:C,ALL_Pivot_new!G:G) -> 53508 | F22: =SUMIF(ALL_Pivot_new!B:B,C:C,ALL_Pivot_new!H:H) -> 5292 | G22: =SUMIF(ALL_Pivot_new!B:B,C:C,ALL_Pivot_new!I:I) -> 51533.533 | H22: =SUMIF(ALL_Pivot_new!B:B,C:C,ALL_Pivot_new!J:J) -> 12883.383 | I22: =SUMIF(ALL_Pivot_new!B:B,C:C,ALL_Pivot_new!K:K) -> 38650.15 | J22: =SUMIF(ALL_Pivot_new!B:B,C:C,ALL_Pivot_new!L:L) -> 31157 | K22: =SUMIF(ALL_Pivot_new!B:B,C:C,ALL_Pivot_new!M:M) -> 7493.15 | L22: =SUMIF(ALL_Pivot_new!B:B,C:C,ALL_Pivot_new!N:N) -> 1092 | M22: =J22/I22 -> 0.80612882 | N22: =SUMIF(ALL_Pivot_new!B:B,C:C,ALL_Pivot_new!O:O) -> 31157 | O22: =N22/I22 -> 0.80612882 | P22: =H22/G22 -> 0.25 | Q22: =N22*P22 -> 7789.25 | R22: =N22+Q22 -> 38946.25
A23: =VLOOKUP(C:C,ALL_Pivot_new!B:D,2,FALSE) -> RDC | B23: =VLOOKUP(C:C,ALL_Pivot_new!B:D,3,FALSE) -> HDS | C23: RDCHDS05 | D23: =SUMIF(ALL_Pivot_new!B:B,C:C,ALL_Pivot_new!F:F) -> 324000 | E23: =SUMIF(ALL_Pivot_new!B:B,C:C,ALL_Pivot_new!G:G) -> 294840 | F23: =SUMIF(ALL_Pivot_new!B:B,C:C,ALL_Pivot_new!H:H) -> 29160 | G23: =SUMIF(ALL_Pivot_new!B:B,C:C,ALL_Pivot_new!I:I) -> 285077.29 | H23: =SUMIF(ALL_Pivot_new!B:B,C:C,ALL_Pivot_new!J:J) -> 35634.661 | I23: =SUMIF(ALL_Pivot_new!B:B,C:C,ALL_Pivot_new!K:K) -> 249442.63 | J23: =SUMIF(ALL_Pivot_new!B:B,C:C,ALL_Pivot_new!L:L) -> 151545 | K23: =SUMIF(ALL_Pivot_new!B:B,C:C,ALL_Pivot_new!M:M) -> 97897.63 | L23: =SUMIF(ALL_Pivot_new!B:B,C:C,ALL_Pivot_new!N:N) -> 6552 | M23: =J23/I23 -> 0.60753449 | N23: =SUMIF(ALL_Pivot_new!B:B,C:C,ALL_Pivot_new!O:O) -> 151545 | O23: =N23/I23 -> 0.60753449 | P23: =H23/G23 -> 0.125 | Q23: =N23*P23 -> 18943.125 | R23: =N23+Q23 -> 170488.12
A24: =VLOOKUP(C:C,ALL_Pivot_new!B:D,2,FALSE) -> RDC | B24: =VLOOKUP(C:C,ALL_Pivot_new!B:D,3,FALSE) -> HDS | C24: RDCHDS06 | D24: =SUMIF(ALL_Pivot_new!B:B,C:C,ALL_Pivot_new!F:F) -> 221700 | E24: =SUMIF(ALL_Pivot_new!B:B,C:C,ALL_Pivot_new!G:G) -> 201747 | F24: =SUMIF(ALL_Pivot_new!B:B,C:C,ALL_Pivot_new!H:H) -> 19953 | G24: =SUMIF(ALL_Pivot_new!B:B,C:C,ALL_Pivot_new!I:I) -> 197544.85 | H24: =SUMIF(ALL_Pivot_new!B:B,C:C,ALL_Pivot_new!J:J) -> 24693.106 | I24: =SUMIF(ALL_Pivot_new!B:B,C:C,ALL_Pivot_new!K:K) -> 172851.74 | J24: =SUMIF(ALL_Pivot_new!B:B,C:C,ALL_Pivot_new!L:L) -> 105953 | K24: =SUMIF(ALL_Pivot_new!B:B,C:C,ALL_Pivot_new!M:M) -> 66898.74 | L24: =SUMIF(ALL_Pivot_new!B:B,C:C,ALL_Pivot_new!N:N) -> 819 | M24: =J24/I24 -> 0.6129704 | N24: =SUMIF(ALL_Pivot_new!B:B,C:C,ALL_Pivot_new!O:O) -> 105953 | O24: =N24/I24 -> 0.6129704 | P24: =H24/G24 -> 0.125 | Q24: =N24*P24 -> 13244.125 | R24: =N24+Q24 -> 119197.12
A25: =VLOOKUP(C:C,ALL_Pivot_new!B:D,2,FALSE) -> FDC | B25: =VLOOKUP(C:C,ALL_Pivot_new!B:D,3,FALSE) -> HDS | C25: FDCHDS10 | D25: =SUMIF(ALL_Pivot_new!B:B,C:C,ALL_Pivot_new!F:F) -> 58800 | E25: =SUMIF(ALL_Pivot_new!B:B,C:C,ALL_Pivot_new!G:G) -> 53508 | F25: =SUMIF(ALL_Pivot_new!B:B,C:C,ALL_Pivot_new!H:H) -> 5292 | G25: =SUMIF(ALL_Pivot_new!B:B,C:C,ALL_Pivot_new!I:I) -> 51533.533 | H25: =SUMIF(ALL_Pivot_new!B:B,C:C,ALL_Pivot_new!J:J) -> 12883.383 | I25: =SUMIF(ALL_Pivot_new!B:B,C:C,ALL_Pivot_new!K:K) -> 38650.15 | J25: =SUMIF(ALL_Pivot_new!B:B,C:C,ALL_Pivot_new!L:L) -> 13705.29 | K25: =SUMIF(ALL_Pivot_new!B:B,C:C,ALL_Pivot_new!M:M) -> 24944.86 | L25: =SUMIF(ALL_Pivot_new!B:B,C:C,ALL_Pivot_new!N:N) -> 1092 | M25: =J25/I25 -> 0.35459862 | N25: =SUMIF(ALL_Pivot_new!B:B,C:C,ALL_Pivot_new!O:O) -> 13705.29 | O25: =N25/I25 -> 0.35459862 | P25: =H25/G25 -> 0.25 | Q25: =N25*P25 -> 3426.3225 | R25: =N25+Q25 -> 17131.612
A26: =VLOOKUP(C:C,ALL_Pivot_new!B:D,2,FALSE) -> FDC | B26: =VLOOKUP(C:C,ALL_Pivot_new!B:D,3,FALSE) -> Vmax | C26: 709 | D26: =SUMIF(ALL_Pivot_new!B:B,C:C,ALL_Pivot_new!F:F) -> 587800 | E26: =SUMIF(ALL_Pivot_new!B:B,C:C,ALL_Pivot_new!G:G) -> 541278.67 | F26: =SUMIF(ALL_Pivot_new!B:B,C:C,ALL_Pivot_new!H:H) -> 46521.332 | G26: =SUMIF(ALL_Pivot_new!B:B,C:C,ALL_Pivot_new!I:I) -> 516507.97 | H26: =SUMIF(ALL_Pivot_new!B:B,C:C,ALL_Pivot_new!J:J) -> 187816.4 | I26: =SUMIF(ALL_Pivot_new!B:B,C:C,ALL_Pivot_new!K:K) -> 328691.57 | J26: =SUMIF(ALL_Pivot_new!B:B,C:C,ALL_Pivot_new!L:L) -> 205981.37 | K26: =SUMIF(ALL_Pivot_new!B:B,C:C,ALL_Pivot_new!M:M) -> 122710.2 | L26: =SUMIF(ALL_Pivot_new!B:B,C:C,ALL_Pivot_new!N:N) -> 10868.48 | M26: =J26/I26 -> 0.62667069 | N26: =SUMIF(ALL_Pivot_new!B:B,C:C,ALL_Pivot_new!O:O) -> 323143 | O26: =N26/I26 -> 0.98311922 | P26: =H26/G26 -> 0.3636273 | Q26: =N26*P26 -> 117503.62 | R26: =N26+Q26 -> 440646.62
A27: =VLOOKUP(C:C,ALL_Pivot_new!B:D,2,FALSE) -> RDC | B27: =VLOOKUP(C:C,ALL_Pivot_new!B:D,3,FALSE) -> Vmax | C27: 704 | D27: =SUMIF(ALL_Pivot_new!B:B,C:C,ALL_Pivot_new!F:F) -> 405400 | E27: =SUMIF(ALL_Pivot_new!B:B,C:C,ALL_Pivot_new!G:G) -> 373152.69 | F27: =SUMIF(ALL_Pivot_new!B:B,C:C,ALL_Pivot_new!H:H) -> 32247.312 | G27: =SUMIF(ALL_Pivot_new!B:B,C:C,ALL_Pivot_new!I:I) -> 354223.71 | H27: =SUMIF(ALL_Pivot_new!B:B,C:C,ALL_Pivot_new!J:J) -> 130153.47 | I27: =SUMIF(ALL_Pivot_new!B:B,C:C,ALL_Pivot_new!K:K) -> 224070.24 | J27: =SUMIF(ALL_Pivot_new!B:B,C:C,ALL_Pivot_new!L:L) -> 115441.51 | K27: =SUMIF(ALL_Pivot_new!B:B,C:C,ALL_Pivot_new!M:M) -> 108628.73 | L27: =SUMIF(ALL_Pivot_new!B:B,C:C,ALL_Pivot_new!N:N) -> 7915.0625 | M27: =J27/I27 -> 0.51520232 | N27: =SUMIF(ALL_Pivot_new!B:B,C:C,ALL_Pivot_new!O:O) -> 241478 | O27: =N27/I27 -> 1.0776888 | P27: =H27/G27 -> 0.36743296 | Q27: =N27*P27 -> 88726.977 | R27: =N27+Q27 -> 330204.98
A28: =VLOOKUP(C:C,ALL_Pivot_new!B:D,2,FALSE) -> CGC | B28: =VLOOKUP(C:C,ALL_Pivot_new!B:D,3,FALSE) -> Vmax | C28: 703 | D28: =SUMIF(ALL_Pivot_new!B:B,C:C,ALL_Pivot_new!F:F) -> 405400 | E28: =SUMIF(ALL_Pivot_new!B:B,C:C,ALL_Pivot_new!G:G) -> 373152.69 | F28: =SUMIF(ALL_Pivot_new!B:B,C:C,ALL_Pivot_new!H:H) -> 32247.312 | G28: =SUMIF(ALL_Pivot_new!B:B,C:C,ALL_Pivot_new!I:I) -> 354223.68 | H28: =SUMIF(ALL_Pivot_new!B:B,C:C,ALL_Pivot_new!J:J) -> 130153.43 | I28: =SUMIF(ALL_Pivot_new!B:B,C:C,ALL_Pivot_new!K:K) -> 224070.25 | J28: =SUMIF(ALL_Pivot_new!B:B,C:C,ALL_Pivot_new!L:L) -> 105417.4 | K28: =SUMIF(ALL_Pivot_new!B:B,C:C,ALL_Pivot_new!M:M) -> 118652.85 | L28: =SUMIF(ALL_Pivot_new!B:B,C:C,ALL_Pivot_new!N:N) -> 7915.0625 | M28: =J28/I28 -> 0.47046585 | N28: =SUMIF(ALL_Pivot_new!B:B,C:C,ALL_Pivot_new!O:O) -> 182630 | O28: =N28/I28 -> 0.8150569 | P28: =H28/G28 -> 0.36743289 | Q28: =N28*P28 -> 67104.27 | R28: =N28+Q28 -> 249734.27
A29: =VLOOKUP(C:C,ALL_Pivot_new!B:D,2,FALSE) -> RDC | B29: =VLOOKUP(C:C,ALL_Pivot_new!B:D,3,FALSE) -> Vmax | C29: 688 | D29: =SUMIF(ALL_Pivot_new!B:B,C:C,ALL_Pivot_new!F:F) -> 362400 | E29: =SUMIF(ALL_Pivot_new!B:B,C:C,ALL_Pivot_new!G:G) -> 329297.97 | F29: =SUMIF(ALL_Pivot_new!B:B,C:C,ALL_Pivot_new!H:H) -> 33102.031 | G29: =SUMIF(ALL_Pivot_new!B:B,C:C,ALL_Pivot_new!I:I) -> 312383.52 | H29: =SUMIF(ALL_Pivot_new!B:B,C:C,ALL_Pivot_new!J:J) -> 156191.76 | I29: =SUMIF(ALL_Pivot_new!B:B,C:C,ALL_Pivot_new!K:K) -> 156191.76 | J29: =SUMIF(ALL_Pivot_new!B:B,C:C,ALL_Pivot_new!L:L) -> 40292.566 | K29: =SUMIF(ALL_Pivot_new!B:B,C:C,ALL_Pivot_new!M:M) -> 115899.2 | L29: =SUMIF(ALL_Pivot_new!B:B,C:C,ALL_Pivot_new!N:N) -> 6542.3438 | M29: =J29/I29 -> 0.25796858 | N29: =SUMIF(ALL_Pivot_new!B:B,C:C,ALL_Pivot_new!O:O) -> 55880.3 | O29: =N29/I29 -> 0.35776727 | P29: =H29/G29 -> 0.5 | Q29: =N29*P29 -> 27940.15 | R29: =N29+Q29 -> 83820.45
A30: =VLOOKUP(C:C,ALL_Pivot_new!B:D,2,FALSE) -> CGC | B30: =VLOOKUP(C:C,ALL_Pivot_new!B:D,3,FALSE) -> Vmax | C30: 705 | D30: =SUMIF(ALL_Pivot_new!B:B,C:C,ALL_Pivot_new!F:F) -> 362400 | E30: =SUMIF(ALL_Pivot_new!B:B,C:C,ALL_Pivot_new!G:G) -> 329297.97 | F30: =SUMIF(ALL_Pivot_new!B:B,C:C,ALL_Pivot_new!H:H) -> 33102.031 | G30: =SUMIF(ALL_Pivot_new!B:B,C:C,ALL_Pivot_new!I:I) -> 312383.77 | H30: =SUMIF(ALL_Pivot_new!B:B,C:C,ALL_Pivot_new!J:J) -> 156191.88 | I30: =SUMIF(ALL_Pivot_new!B:B,C:C,ALL_Pivot_new!K:K) -> 156191.88 | J30: =SUMIF(ALL_Pivot_new!B:B,C:C,ALL_Pivot_new!L:L) -> 40268.312 | K30: =SUMIF(ALL_Pivot_new!B:B,C:C,ALL_Pivot_new!M:M) -> 115923.57 | L30: =SUMIF(ALL_Pivot_new!B:B,C:C,ALL_Pivot_new!N:N) -> 6542.3438 | M30: =J30/I30 -> 0.25781309 | N30: =SUMIF(ALL_Pivot_new!B:B,C:C,ALL_Pivot_new!O:O) -> 55866.6 | O30: =N30/I30 -> 0.35767928 | P30: =H30/G30 -> 0.5 | Q30: =N30*P30 -> 27933.3 | R30: =N30+Q30 -> 83799.9
A31: =VLOOKUP(C:C,ALL_Pivot_new!B:D,2,FALSE) -> RDC | B31: =VLOOKUP(C:C,ALL_Pivot_new!B:D,3,FALSE) -> Vmax | C31: 699 | D31: =SUMIF(ALL_Pivot_new!B:B,C:C,ALL_Pivot_new!F:F) -> 405400 | E31: =SUMIF(ALL_Pivot_new!B:B,C:C,ALL_Pivot_new!G:G) -> 373152.69 | F31: =SUMIF(ALL_Pivot_new!B:B,C:C,ALL_Pivot_new!H:H) -> 32247.312 | G31: =SUMIF(ALL_Pivot_new!B:B,C:C,ALL_Pivot_new!I:I) -> 354223.7 | H31: =SUMIF(ALL_Pivot_new!B:B,C:C,ALL_Pivot_new!J:J) -> 130153.45 | I31: =SUMIF(ALL_Pivot_new!B:B,C:C,ALL_Pivot_new!K:K) -> 224070.25 | J31: =SUMIF(ALL_Pivot_new!B:B,C:C,ALL_Pivot_new!L:L) -> 78598.721 | K31: =SUMIF(ALL_Pivot_new!B:B,C:C,ALL_Pivot_new!M:M) -> 145471.53 | L31: =SUMIF(ALL_Pivot_new!B:B,C:C,ALL_Pivot_new!N:N) -> 7915.0625 | M31: =J31/I31 -> 0.35077714 | N31: =SUMIF(ALL_Pivot_new!B:B,C:C,ALL_Pivot_new!O:O) -> 171470 | O31: =N31/I31 -> 0.76525107 | P31: =H31/G31 -> 0.36743292 | Q31: =N31*P31 -> 63003.722 | R31: =N31+Q31 -> 234473.72
A32: =VLOOKUP(C:C,ALL_Pivot_new!B:D,2,FALSE) -> Swiss | B32: =VLOOKUP(C:C,ALL_Pivot_new!B:D,3,FALSE) -> Vmax | C32: 1383 | D32: =SUMIF(ALL_Pivot_new!B:B,C:C,ALL_Pivot_new!F:F) -> 137400 | E32: =SUMIF(ALL_Pivot_new!B:B,C:C,ALL_Pivot_new!G:G) -> 124849.73 | F32: =SUMIF(ALL_Pivot_new!B:B,C:C,ALL_Pivot_new!H:H) -> 12550.273 | G32: =SUMIF(ALL_Pivot_new!B:B,C:C,ALL_Pivot_new!I:I) -> 119445.8 | H32: =SUMIF(ALL_Pivot_new!B:B,C:C,ALL_Pivot_new!J:J) -> 59722.9 | I32: =SUMIF(ALL_Pivot_new!B:B,C:C,ALL_Pivot_new!K:K) -> 59722.9 | J32: =SUMIF(ALL_Pivot_new!B:B,C:C,ALL_Pivot_new!L:L) -> 19595.9 | K32: =SUMIF(ALL_Pivot_new!B:B,C:C,ALL_Pivot_new!M:M) -> 40127 | L32: =SUMIF(ALL_Pivot_new!B:B,C:C,ALL_Pivot_new!N:N) -> 2725.9766 | M32: =J32/I32 -> 0.32811367 | N32: =SUMIF(ALL_Pivot_new!B:B,C:C,ALL_Pivot_new!O:O) -> 61297.2 | O32: =N32/I32 -> 1.0263601 | P32: =H32/G32 -> 0.5 | Q32: =N32*P32 -> 30648.6 | R32: =N32+Q32 -> 91945.8
A33: =VLOOKUP(C:C,ALL_Pivot_new!B:D,2,FALSE) -> FDC | B33: =VLOOKUP(C:C,ALL_Pivot_new!B:D,3,FALSE) -> Vmax | C33: 713 | D33: =SUMIF(ALL_Pivot_new!B:B,C:C,ALL_Pivot_new!F:F) -> 431200 | E33: =SUMIF(ALL_Pivot_new!B:B,C:C,ALL_Pivot_new!G:G) -> 392263.38 | F33: =SUMIF(ALL_Pivot_new!B:B,C:C,ALL_Pivot_new!H:H) -> 38936.625 | G33: =SUMIF(ALL_Pivot_new!B:B,C:C,ALL_Pivot_new!I:I) -> 372932.82 | H33: =SUMIF(ALL_Pivot_new!B:B,C:C,ALL_Pivot_new!J:J) -> 182064.02 | I33: =SUMIF(ALL_Pivot_new!B:B,C:C,ALL_Pivot_new!K:K) -> 190868.79 | J33: =SUMIF(ALL_Pivot_new!B:B,C:C,ALL_Pivot_new!L:L) -> 64651.576 | K33: =SUMIF(ALL_Pivot_new!B:B,C:C,ALL_Pivot_new!M:M) -> 126217.22 | L33: =SUMIF(ALL_Pivot_new!B:B,C:C,ALL_Pivot_new!N:N) -> 8005.375 | M33: =J33/I33 -> 0.33872261 | N33: =SUMIF(ALL_Pivot_new!B:B,C:C,ALL_Pivot_new!O:O) -> 198313 | O33: =N33/I33 -> 1.0390017 | P33: =H33/G33 -> 0.48819524 | Q33: =N33*P33 -> 96815.462 | R33: =N33+Q33 -> 295128.46
A34: =VLOOKUP(C:C,ALL_Pivot_new!B:D,2,FALSE) -> RDC | B34: =VLOOKUP(C:C,ALL_Pivot_new!B:D,3,FALSE) -> Vmax | C34: 485 | D34: =SUMIF(ALL_Pivot_new!B:B,C:C,ALL_Pivot_new!F:F) -> 431200 | E34: =SUMIF(ALL_Pivot_new!B:B,C:C,ALL_Pivot_new!G:G) -> 392263.38 | F34: =SUMIF(ALL_Pivot_new!B:B,C:C,ALL_Pivot_new!H:H) -> 38936.625 | G34: =SUMIF(ALL_Pivot_new!B:B,C:C,ALL_Pivot_new!I:I) -> 372932.86 | H34: =SUMIF(ALL_Pivot_new!B:B,C:C,ALL_Pivot_new!J:J) -> 182064.05 | I34: =SUMIF(ALL_Pivot_new!B:B,C:C,ALL_Pivot_new!K:K) -> 190868.82 | J34: =SUMIF(ALL_Pivot_new!B:B,C:C,ALL_Pivot_new!L:L) -> 53031.108 | K34: =SUMIF(ALL_Pivot_new!B:B,C:C,ALL_Pivot_new!M:M) -> 137837.71 | L34: =SUMIF(ALL_Pivot_new!B:B,C:C,ALL_Pivot_new!N:N) -> 8005.375 | M34: =J34/I34 -> 0.27784061 | N34: =SUMIF(ALL_Pivot_new!B:B,C:C,ALL_Pivot_new!O:O) -> 141793 | O34: =N34/I34 -> 0.74288196 | P34: =H34/G34 -> 0.48819523 | Q34: =N34*P34 -> 69222.667 | R34: =N34+Q34 -> 211015.67
A35: =VLOOKUP(C:C,ALL_Pivot_new!B:D,2,FALSE) -> FDC | B35: =VLOOKUP(C:C,ALL_Pivot_new!B:D,3,FALSE) -> XIV | C35: 61188 | D35: =SUMIF(ALL_Pivot_new!B:B,C:C,ALL_Pivot_new!F:F) -> 540000 | E35: =SUMIF(ALL_Pivot_new!B:B,C:C,ALL_Pivot_new!G:G) -> 534615 | F35: =SUMIF(ALL_Pivot_new!B:B,C:C,ALL_Pivot_new!H:H) -> 5385 | G35: =SUMIF(ALL_Pivot_new!B:B,C:C,ALL_Pivot_new!I:I) -> 486785.03 | H35: =SUMIF(ALL_Pivot_new!B:B,C:C,ALL_Pivot_new!J:J) -> 243392.52 | I35: =SUMIF(ALL_Pivot_new!B:B,C:C,ALL_Pivot_new!K:K) -> 243392.52 | J35: =SUMIF(ALL_Pivot_new!B:B,C:C,ALL_Pivot_new!L:L) -> 214069.77 | K35: =SUMIF(ALL_Pivot_new!B:B,C:C,ALL_Pivot_new!M:M) -> 29322.75 | L35: =SUMIF(ALL_Pivot_new!B:B,C:C,ALL_Pivot_new!N:N) -> 44551.25 | M35: =J35/I35 -> 0.87952485 | N35: =SUMIF(ALL_Pivot_new!B:B,C:C,ALL_Pivot_new!O:O) -> 214069.77 | O35: =N35/I35 -> 0.87952485 | P35: =H35/G35 -> 0.5 | Q35: =N35*P35 -> 107034.88 | R35: =N35+Q35 -> 321104.65
A36: =VLOOKUP(C:C,ALL_Pivot_new!B:D,2,FALSE) -> RDC | B36: =VLOOKUP(C:C,ALL_Pivot_new!B:D,3,FALSE) -> XIV | C36: 61239 | D36: =SUMIF(ALL_Pivot_new!B:B,C:C,ALL_Pivot_new!F:F) -> 540000 | E36: =SUMIF(ALL_Pivot_new!B:B,C:C,ALL_Pivot_new!G:G) -> 534615 | F36: =SUMIF(ALL_Pivot_new!B:B,C:C,ALL_Pivot_new!H:H) -> 5385 | G36: =SUMIF(ALL_Pivot_new!B:B,C:C,ALL_Pivot_new!I:I) -> 481966.75 | H36: =SUMIF(ALL_Pivot_new!B:B,C:C,ALL_Pivot_new!J:J) -> 240983.38 | I36: =SUMIF(ALL_Pivot_new!B:B,C:C,ALL_Pivot_new!K:K) -> 240983.38 | J36: =SUMIF(ALL_Pivot_new!B:B,C:C,ALL_Pivot_new!L:L) -> 130093.84 | K36: =SUMIF(ALL_Pivot_new!B:B,C:C,ALL_Pivot_new!M:M) -> 110889.53 | L36: =SUMIF(ALL_Pivot_new!B:B,C:C,ALL_Pivot_new!N:N) -> 44551.25 | M36: =J36/I36 -> 0.53984572 | N36: =SUMIF(ALL_Pivot_new!B:B,C:C,ALL_Pivot_new!O:O) -> 130093.84 | O36: =N36/I36 -> 0.53984572 | P36: =H36/G36 -> 0.5 | Q36: =N36*P36 -> 65046.922 | R36: =N36+Q36 -> 195140.77
A37: =VLOOKUP(C:C,ALL_Pivot_new!B:D,2,FALSE) -> RDC | B37: =VLOOKUP(C:C,ALL_Pivot_new!B:D,3,FALSE) -> Vmax | C37: 1144 | D37: =SUMIF(ALL_Pivot_new!B:B,C:C,ALL_Pivot_new!F:F) -> 235200 | E37: =SUMIF(ALL_Pivot_new!B:B,C:C,ALL_Pivot_new!G:G) -> 213716.56 | F37: =SUMIF(ALL_Pivot_new!B:B,C:C,ALL_Pivot_new!H:H) -> 21483.438 | G37: =SUMIF(ALL_Pivot_new!B:B,C:C,ALL_Pivot_new!I:I) -> 200645.2 | H37: =SUMIF(ALL_Pivot_new!B:B,C:C,ALL_Pivot_new!J:J) -> 100322.6 | I37: =SUMIF(ALL_Pivot_new!B:B,C:C,ALL_Pivot_new!K:K) -> 100322.6 | J37: =SUMIF(ALL_Pivot_new!B:B,C:C,ALL_Pivot_new!L:L) -> 21904.506 | K37: =SUMIF(ALL_Pivot_new!B:B,C:C,ALL_Pivot_new!M:M) -> 78418.094 | L37: =SUMIF(ALL_Pivot_new!B:B,C:C,ALL_Pivot_new!N:N) -> 4361.5625 | M37: =J37/I37 -> 0.21834069 | N37: =SUMIF(ALL_Pivot_new!B:B,C:C,ALL_Pivot_new!O:O) -> 49951.6 | O37: =N37/I37 -> 0.49790974 | P37: =H37/G37 -> 0.5 | Q37: =N37*P37 -> 24975.8 | R37: =N37+Q37 -> 74927.4
... A39: =VLOOKUP(C:C,ALL_Pivot_new!B:D,2,FALSE) -> welle | B39: =VLOOKUP(C:C,ALL_Pivot_new!B:D,3,FALSE) -> Vmax | C39: 877 | D39: =SUMIF(ALL_Pivot_new!B:B,C:C,ALL_Pivot_new!F:F) -> 6600 | E39: =SUMIF(ALL_Pivot_new!B:B,C:C,ALL_Pivot_new!G:G) -> 5940 | F39: =SUMIF(ALL_Pivot_new!B:B,C:C,ALL_Pivot_new!H:H) -> 660 | G39: =SUMIF(ALL_Pivot_new!B:B,C:C,ALL_Pivot_new!I:I) -> 5400 | H39: =SUMIF(ALL_Pivot_new!B:B,C:C,ALL_Pivot_new!J:J) -> 675 | I39: =SUMIF(ALL_Pivot_new!B:B,C:C,ALL_Pivot_new!K:K) -> 4725 | J39: =SUMIF(ALL_Pivot_new!B:B,C:C,ALL_Pivot_new!L:L) -> 4282 | K39: =SUMIF(ALL_Pivot_new!B:B,C:C,ALL_Pivot_new!M:M) -> 443 | L39: =SUMIF(ALL_Pivot_new!B:B,C:C,ALL_Pivot_new!N:N) -> 540 | M39: =J39/I39 -> 0.90624339 | N39: =SUMIF(ALL_Pivot_new!B:B,C:C,ALL_Pivot_new!O:O) -> 4282 | O39: =N39/I39 -> 0.90624339 | P39: =H39/G39 -> 0.125 | Q39: =N39*P39 -> 535.25 | R39: =N39+Q39 -> 4817.25
A40: =VLOOKUP(C:C,ALL_Pivot_new!B:D,2,FALSE) -> FDC | B40: =VLOOKUP(C:C,ALL_Pivot_new!B:D,3,FALSE) -> DMX | C40: 5349 | J40: =SUMIF(ALL_Pivot_new!B:B,C:C,ALL_Pivot_new!L:L) -> 10018.175 | N40: =SUMIF(ALL_Pivot_new!B:B,C:C,ALL_Pivot_new!O:O) -> 10018.175
A41: =VLOOKUP(C:C,ALL_Pivot_new!B:D,2,FALSE) -> RDC | B41: =VLOOKUP(C:C,ALL_Pivot_new!B:D,3,FALSE) -> DMX | C41: 5373 | J41: =SUMIF(ALL_Pivot_new!B:B,C:C,ALL_Pivot_new!L:L) -> 1943.0361 | N41: =SUMIF(ALL_Pivot_new!B:B,C:C,ALL_Pivot_new!O:O) -> 3886.0723
A42: =VLOOKUP(C:C,ALL_Pivot_new!B:D,2,FALSE) -> CGC | B42: =VLOOKUP(C:C,ALL_Pivot_new!B:D,3,FALSE) -> Vmax | C42: 0623 | J42: =SUMIF(ALL_Pivot_new!B:B,C:C,ALL_Pivot_new!L:L) -> 18007.641 | N42: =SUMIF(ALL_Pivot_new!B:B,C:C,ALL_Pivot_new!O:O) -> 25322.4
A43: =VLOOKUP(C:C,ALL_Pivot_new!B:D,2,FALSE) -> RDC | B43: =VLOOKUP(C:C,ALL_Pivot_new!B:D,3,FALSE) -> Vmax | C43: 0678 | J43: =SUMIF(ALL_Pivot_new!B:B,C:C,ALL_Pivot_new!L:L) -> 103227.91 | N43: =SUMIF(ALL_Pivot_new!B:B,C:C,ALL_Pivot_new!O:O) -> 94562.4
A44: =VLOOKUP(C:C,ALL_Pivot_new!B:D,2,FALSE) -> FDC | B44: =VLOOKUP(C:C,ALL_Pivot_new!B:D,3,FALSE) -> Vmax | C44: 0879 | J44: =SUMIF(ALL_Pivot_new!B:B,C:C,ALL_Pivot_new!L:L) -> 25918.98 | N44: =SUMIF(ALL_Pivot_new!B:B,C:C,ALL_Pivot_new!O:O) -> 72666.1
A45: =VLOOKUP(C:C,ALL_Pivot_new!B:D,2,FALSE) -> #N/A | B45: =VLOOKUP(C:C,ALL_Pivot_new!B:D,3,FALSE) -> #N/A | C45: 2230 | J45: =SUMIF(ALL_Pivot_new!B:B,C:C,ALL_Pivot_new!L:L) -> 0 | N45: =SUMIF(ALL_Pivot_new!B:B,C:C,ALL_Pivot_new!O:O) -> 0
A46: =VLOOKUP(C:C,ALL_Pivot_new!B:D,2,FALSE) -> #N/A | B46: =VLOOKUP(C:C,ALL_Pivot_new!B:D,3,FALSE) -> #N/A | C46: 2231 | J46: =SUMIF(ALL_Pivot_new!B:B,C:C,ALL_Pivot_new!L:L) -> 0 | N46: =SUMIF(ALL_Pivot_new!B:B,C:C,ALL_Pivot_new!O:O) -> 0
B47: Total | D47: =SUM(D2:D46) -> 12539192 | E47: =SUM(E2:E46) -> 11479720 | F47: =SUM(F2:F46) -> 1059471.9 | G47: =SUM(G2:G46) -> 10614217 | H47: =SUM(H2:H46) -> 3980756.8 | I47: =SUM(I2:I46) -> 6633460.6 | J47: =SUM(J2:J46) -> 3576296.6 | K47: =SUM(K2:K46) -> 3216279.7 | L47: =SUM(L2:L46) -> 302084.41 | M47: =J47/I47 -> 0.53912985 | N47: =SUM(N2:N46) -> 5859431.2 | O47: =N47/I47 -> 0.88331439 | P47: =H47/G47 -> 0.37504007 | Q47: =N47*P47 -> 2197521.5 | R47: =N47+Q47 -> 8056952.6
B48: TotalTB | D48: =D47/1024 -> 12245.305 | E48: =E47/1024 -> 11210.664 | F48: =F47/1024 -> 1034.6405 | G48: =G47/1024 -> 10365.447 | H48: =H47/1024 -> 3887.4578 | I48: =I47/1024 -> 6477.9888 | J48: =J47/1024 -> 3492.4771 | K48: =K47/1024 -> 3140.8982 | L48: =L47/1024 -> 295.0043 | M48: =J48/I48 -> 0.53912985 | N48: =N47/1024 -> 5722.1007 | O48: =N48/I48 -> 0.88331439 | P48: =H48/G48 -> 0.37504007 | Q48: =Q47/1024 -> 2146.0171 | R48: =R47/1024 -> 7868.1178
B49: TotalPB | D49: =D48/1024 -> 11.958305 | E49: =E48/1024 -> 10.947914 | F49: =F48/1024 -> 1.0103911 | G49: =G48/1024 -> 10.122506 | H49: =H48/1024 -> 3.7963455 | I49: =I48/1024 -> 6.326161 | J49: =J48/1024 -> 3.4106222 | K49: =K48/1024 -> 3.0672834 | L49: =L48/1024 -> 0.28809014 | M49: =J49/I49 -> 0.53912985 | N49: =N48/1024 -> 5.587989 | O49: =N49/I49 -> 0.88331439 | P49: =H49/G49 -> 0.37504007 | Q49: =Q48/1024 -> 2.0957198 | R49: =R48/1024 -> 7.6837088
M51: Bcvs | N51: 589
N52: =N48-N51 -> 5133.1007
M53: host alloc | N53: 4681
G54: =G32/1024 -> 116.64629 | I54: =I32/1024 -> 58.323145
G59: Row Labels | H59: Sum of Physical total | I59: Sum of Market Standard | J59: Sum of Pool Usable | K59: Sum of Pool Used | L59: Sum of Allocated RAW
G60: CGC | H60: 752094.34 | I60: 869800 | J60: 455063.08 | K60: 225973.2 | L60: 405486.91
G61: FDC | H61: 5580069.7 | I61: 6744618.2 | J61: 3476278 | K61: 2091241 | L61: 4042481.4
G62: RDC | H62: 6394325.9 | I62: 7640928 | J62: 3976376 | K62: 2379883.5 | L62: 4598824.6
G63: Swiss | H63: 157263.51 | I63: 184200 | J63: 92813.4 | K63: 34353.1 | L63: 140156.66
G64: Grand Total | H64: 12883753 | I64: 15439546 | J64: 8000530.5 | K64: 4731450.8 | L64: 9186949.5
G66: CGC | H66: =H60/1024 -> 734.46713 | I66: =I60/1024 -> 849.41406 | J66: =J60/1024 -> 444.39754 | K66: =K60/1024 -> 220.67695 | L66: =L60/1024 -> 395.98331
G67: FDC | H67: =H61/1024 -> 5449.2868 | I67: =I61/1024 -> 6586.5412 | J67: =J61/1024 -> 3394.8027 | K67: =K61/1024 -> 2042.2275 | L67: =L61/1024 -> 3947.7357
G68: RDC | H68: =H62/1024 -> 6244.4589 | I68: =I62/1024 -> 7461.8438 | J68: =J62/1024 -> 3883.1797 | K68: =K62/1024 -> 2324.105 | L68: =L62/1024 -> 4491.0396
G69: Swiss | H69: =H63/1024 -> 153.57765 | I69: =I63/1024 -> 179.88281 | J69: =J63/1024 -> 90.638086 | K69: =K63/1024 -> 33.547949 | L69: =L63/1024 -> 136.87174
G70: Grand Total | H70: =H64/1024 -> 12581.79 | I70: =I64/1024 -> 15077.682 | J70: =J64/1024 -> 7813.018 | K70: =K64/1024 -> 4620.5574 | L70: =L64/1024 -> 8971.6304 | M70: =K70/J70 -> 0.59139213

Sheet Final MOR-no-MOR
A1: Loc | B1: Type | C1: Array | D1: Market Standard | E1: Formatted | F1: format Lost | G1: Physical total | H1: Parity Lost | I1: Pool Usable | J1: Pool Used | K1: Pool Free | L1: Spare | M1: %Used | N1: Host Allocations | O1: %Allocated | P1: %Parity | Q1: ParityGB | R1: Allocated RAW
A2: =VLOOKUP(C:C,ALL_Pivot_new!B:D,2,FALSE) -> Swiss | B2: =VLOOKUP(C:C,ALL_Pivot_new!B:D,3,FALSE) -> Vmax | C2: 377 | D2: =SUMIF(ALL_Pivot_new!B:B,C:C,ALL_Pivot_new!F:F) -> 46800 | E2: =SUMIF(ALL_Pivot_new!B:B,C:C,ALL_Pivot_new!G:G) -> 42525 | F2: =SUMIF(ALL_Pivot_new!B:B,C:C,ALL_Pivot_new!H:H) -> 4275 | G2: =SUMIF(ALL_Pivot_new!B:B,C:C,ALL_Pivot_new!I:I) -> 37817.714 | H2: =SUMIF(ALL_Pivot_new!B:B,C:C,ALL_Pivot_new!J:J) -> 4727.2143 | I2: =SUMIF(ALL_Pivot_new!B:B,C:C,ALL_Pivot_new!K:K) -> 33090.5 | J2: =SUMIF(ALL_Pivot_new!B:B,C:C,ALL_Pivot_new!L:L) -> 14757.2 | K2: =SUMIF(ALL_Pivot_new!B:B,C:C,ALL_Pivot_new!M:M) -> 18333.3 | L2: =SUMIF(ALL_Pivot_new!B:B,C:C,ALL_Pivot_new!N:N) -> 3271 | M2: =J2/I2 -> 0.44596485 | N2: =SUMIF(ALL_Pivot_new!B:B,C:C,ALL_Pivot_new!O:O) -> 42854.1 | O2: =N2/I2 -> 1.2950575 | P2: =H2/G2 -> 0.125 | Q2: =N2*P2 -> 5356.7625 | R2: =N2+Q2 -> 48210.862
A3: =VLOOKUP(C:C,ALL_Pivot_new!B:D,2,FALSE) -> RDC | B3: =VLOOKUP(C:C,ALL_Pivot_new!B:D,3,FALSE) -> Vmax | C3: 0347 | D3: =SUMIF(ALL_Pivot_new!B:B,C:C,ALL_Pivot_new!F:F) -> 588456 | E3: =SUMIF(ALL_Pivot_new!B:B,C:C,ALL_Pivot_new!G:G) -> 535316.42 | F3: =SUMIF(ALL_Pivot_new!B:B,C:C,ALL_Pivot_new!H:H) -> 53139.582 | G3: =SUMIF(ALL_Pivot_new!B:B,C:C,ALL_Pivot_new!I:I) -> 354223.61 | H3: =SUMIF(ALL_Pivot_new!B:B,C:C,ALL_Pivot_new!J:J) -> 130153.4 | I3: =SUMIF(ALL_Pivot_new!B:B,C:C,ALL_Pivot_new!K:K) -> 224070.22 | J3: =SUMIF(ALL_Pivot_new!B:B,C:C,ALL_Pivot_new!L:L) -> 103721.79 | K3: =SUMIF(ALL_Pivot_new!B:B,C:C,ALL_Pivot_new!M:M) -> 120348.42 | L3: =SUMIF(ALL_Pivot_new!B:B,C:C,ALL_Pivot_new!N:N) -> 10868.48 | M3: =J3/I3 -> 0.46289861 | N3: =SUMIF(ALL_Pivot_new!B:B,C:C,ALL_Pivot_new!O:O) -> 189680 | O3: =N3/I3 -> 0.84652036 | P3: =H3/G3 -> 0.36743287 | Q3: =N3*P3 -> 69694.666 | R3: =N3+Q3 -> 259374.67
A4: =VLOOKUP(C:C,ALL_Pivot_new!B:D,2,FALSE) -> FDC | B4: =VLOOKUP(C:C,ALL_Pivot_new!B:D,3,FALSE) -> Vmax | C4: 0349 | D4: =SUMIF(ALL_Pivot_new!B:B,C:C,ALL_Pivot_new!F:F) -> 588456 | E4: =SUMIF(ALL_Pivot_new!B:B,C:C,ALL_Pivot_new!G:G) -> 535316.42 | F4: =SUMIF(ALL_Pivot_new!B:B,C:C,ALL_Pivot_new!H:H) -> 53139.582 | G4: =SUMIF(ALL_Pivot_new!B:B,C:C,ALL_Pivot_new!I:I) -> 427723.02 | H4: =SUMIF(ALL_Pivot_new!B:B,C:C,ALL_Pivot_new!J:J) -> 165435.64 | I4: =SUMIF(ALL_Pivot_new!B:B,C:C,ALL_Pivot_new!K:K) -> 262287.38 | J4: =SUMIF(ALL_Pivot_new!B:B,C:C,ALL_Pivot_new!L:L) -> 172491.32 | K4: =SUMIF(ALL_Pivot_new!B:B,C:C,ALL_Pivot_new!M:M) -> 89796.051 | L4: =SUMIF(ALL_Pivot_new!B:B,C:C,ALL_Pivot_new!N:N) -> 10868.48 | M4: =J4/I4 -> 0.6576425 | N4: =SUMIF(ALL_Pivot_new!B:B,C:C,ALL_Pivot_new!O:O) -> 294710 | O4: =N4/I4 -> 1.1236149 | P4: =H4/G4 -> 0.38678218 | Q4: =N4*P4 -> 113988.58 | R4: =N4+Q4 -> 408698.58
A5: =VLOOKUP(C:C,ALL_Pivot_new!B:D,2,FALSE) -> FDC | B5: =VLOOKUP(C:C,ALL_Pivot_new!B:D,3,FALSE) -> Vmax | C5: 2804 | D5: =SUMIF(ALL_Pivot_new!B:B,C:C,ALL_Pivot_new!F:F) -> 118400 | E5: =SUMIF(ALL_Pivot_new!B:B,C:C,ALL_Pivot_new!G:G) -> 107740.89 | F5: =SUMIF(ALL_Pivot_new!B:B,C:C,ALL_Pivot_new!H:H) -> 10659.113 | G5: =SUMIF(ALL_Pivot_new!B:B,C:C,ALL_Pivot_new!I:I) -> 95168.675 | H5: =SUMIF(ALL_Pivot_new!B:B,C:C,ALL_Pivot_new!J:J) -> 12130.234 | I5: =SUMIF(ALL_Pivot_new!B:B,C:C,ALL_Pivot_new!K:K) -> 83038.44 | J5: =SUMIF(ALL_Pivot_new!B:B,C:C,ALL_Pivot_new!L:L) -> 59851.012 | K5: =SUMIF(ALL_Pivot_new!B:B,C:C,ALL_Pivot_new!M:M) -> 23187.429 | L5: =SUMIF(ALL_Pivot_new!B:B,C:C,ALL_Pivot_new!N:N) -> 3643.793 | M5: =J5/I5 -> 0.72076272 | N5: =SUMIF(ALL_Pivot_new!B:B,C:C,ALL_Pivot_new!O:O) -> 108532 | O5: =N5/I5 -> 1.3070091 | P5: =H5/G5 -> 0.12746037 | Q5: =N5*P5 -> 13833.529 | R5: =N5+Q5 -> 122365.53
A6: =VLOOKUP(C:C,ALL_Pivot_new!B:D,2,FALSE) -> FDC | B6: =VLOOKUP(C:C,ALL_Pivot_new!B:D,3,FALSE) -> Vmax | C6: 3004 | D6: =SUMIF(ALL_Pivot_new!B:B,C:C,ALL_Pivot_new!F:F) -> 597408 | E6: =SUMIF(ALL_Pivot_new!B:B,C:C,ALL_Pivot_new!G:G) -> 527587.59 | F6: =SUMIF(ALL_Pivot_new!B:B,C:C,ALL_Pivot_new!H:H) -> 69820.406 | G6: =SUMIF(ALL_Pivot_new!B:B,C:C,ALL_Pivot_new!I:I) -> 500822.19 | H6: =SUMIF(ALL_Pivot_new!B:B,C:C,ALL_Pivot_new!J:J) -> 62602.774 | I6: =SUMIF(ALL_Pivot_new!B:B,C:C,ALL_Pivot_new!K:K) -> 438219.42 | J6: =SUMIF(ALL_Pivot_new!B:B,C:C,ALL_Pivot_new!L:L) -> 211688.28 | K6: =SUMIF(ALL_Pivot_new!B:B,C:C,ALL_Pivot_new!M:M) -> 226531.14 | L6: =SUMIF(ALL_Pivot_new!B:B,C:C,ALL_Pivot_new!N:N) -> 10767.094 | M6: =J6/I6 -> 0.48306457 | N6: =SUMIF(ALL_Pivot_new!B:B,C:C,ALL_Pivot_new!O:O) -> 374596 | O6: =N6/I6 -> 0.85481378 | P6: =H6/G6 -> 0.125 | Q6: =N6*P6 -> 46824.5 | R6: =N6+Q6 -> 421420.5
A7: =VLOOKUP(C:C,ALL_Pivot_new!B:D,2,FALSE) -> RDC | B7: =VLOOKUP(C:C,ALL_Pivot_new!B:D,3,FALSE) -> Vmax | C7: 3073 | D7: =SUMIF(ALL_Pivot_new!B:B,C:C,ALL_Pivot_new!F:F) -> 531872 | E7: =SUMIF(ALL_Pivot_new!B:B,C:C,ALL_Pivot_new!G:G) -> 470601.19 | F7: =SUMIF(ALL_Pivot_new!B:B,C:C,ALL_Pivot_new!H:H) -> 61270.812 | G7: =SUMIF(ALL_Pivot_new!B:B,C:C,ALL_Pivot_new!I:I) -> 445146.03 | H7: =SUMIF(ALL_Pivot_new!B:B,C:C,ALL_Pivot_new!J:J) -> 55643.254 | I7: =SUMIF(ALL_Pivot_new!B:B,C:C,ALL_Pivot_new!K:K) -> 389502.78 | J7: =SUMIF(ALL_Pivot_new!B:B,C:C,ALL_Pivot_new!L:L) -> 215487.47 | K7: =SUMIF(ALL_Pivot_new!B:B,C:C,ALL_Pivot_new!M:M) -> 174015.3 | L7: =SUMIF(ALL_Pivot_new!B:B,C:C,ALL_Pivot_new!N:N) -> 10767.094 | M7: =J7/I7 -> 0.55323733 | N7: =SUMIF(ALL_Pivot_new!B:B,C:C,ALL_Pivot_new!O:O) -> 327291 | O7: =N7/I7 -> 0.84027899 | P7: =H7/G7 -> 0.125 | Q7: =N7*P7 -> 40911.375 | R7: =N7+Q7 -> 368202.38
A8: =VLOOKUP(C:C,ALL_Pivot_new!B:D,2,FALSE) -> RDC | B8: =VLOOKUP(C:C,ALL_Pivot_new!B:D,3,FALSE) -> Vmax | C8: 3286 | D8: =SUMIF(ALL_Pivot_new!B:B,C:C,ALL_Pivot_new!F:F) -> 227300 | E8: =SUMIF(ALL_Pivot_new!B:B,C:C,ALL_Pivot_new!G:G) -> 206693.84 | F8: =SUMIF(ALL_Pivot_new!B:B,C:C,ALL_Pivot_new!H:H) -> 20606.164 | G8: =SUMIF(ALL_Pivot_new!B:B,C:C,ALL_Pivot_new!I:I) -> 189713.02 | H8: =SUMIF(ALL_Pivot_new!B:B,C:C,ALL_Pivot_new!J:J) -> 23948.278 | I8: =SUMIF(ALL_Pivot_new!B:B,C:C,ALL_Pivot_new!K:K) -> 165764.74 | J8: =SUMIF(ALL_Pivot_new!B:B,C:C,ALL_Pivot_new!L:L) -> 118754.41 | K8: =SUMIF(ALL_Pivot_new!B:B,C:C,ALL_Pivot_new!M:M) -> 47010.337 | L8: =SUMIF(ALL_Pivot_new!B:B,C:C,ALL_Pivot_new!N:N) -> 4461.5859 | M8: =J8/I8 -> 0.71640328 | N8: =SUMIF(ALL_Pivot_new!B:B,C:C,ALL_Pivot_new!O:O) -> 231128.4 | O8: =N8/I8 -> 1.3943158 | P8: =H8/G8 -> 0.12623423 | Q8: =N8*P8 -> 29176.316 | R8: =N8+Q8 -> 260304.72
A9: =VLOOKUP(C:C,ALL_Pivot_new!B:D,2,FALSE) -> RDC | B9: =VLOOKUP(C:C,ALL_Pivot_new!B:D,3,FALSE) -> Vmax | C9: 3696 | D9: =SUMIF(ALL_Pivot_new!B:B,C:C,ALL_Pivot_new!F:F) -> 227100 | E9: =SUMIF(ALL_Pivot_new!B:B,C:C,ALL_Pivot_new!G:G) -> 206507.53 | F9: =SUMIF(ALL_Pivot_new!B:B,C:C,ALL_Pivot_new!H:H) -> 20592.475 | G9: =SUMIF(ALL_Pivot_new!B:B,C:C,ALL_Pivot_new!I:I) -> 190337.62 | H9: =SUMIF(ALL_Pivot_new!B:B,C:C,ALL_Pivot_new!J:J) -> 24260.578 | I9: =SUMIF(ALL_Pivot_new!B:B,C:C,ALL_Pivot_new!K:K) -> 166077.05 | J9: =SUMIF(ALL_Pivot_new!B:B,C:C,ALL_Pivot_new!L:L) -> 30136.719 | K9: =SUMIF(ALL_Pivot_new!B:B,C:C,ALL_Pivot_new!M:M) -> 135940.33 | L9: =SUMIF(ALL_Pivot_new!B:B,C:C,ALL_Pivot_new!N:N) -> 4275.2754 | M9: =J9/I9 -> 0.18146227 | N9: =SUMIF(ALL_Pivot_new!B:B,C:C,ALL_Pivot_new!O:O) -> 173040.4 | O9: =N9/I9 -> 1.0419284 | P9: =H9/G9 -> 0.12746076 | Q9: =N9*P9 -> 22055.861 | R9: =N9+Q9 -> 195096.26
A10: =VLOOKUP(C:C,ALL_Pivot_new!B:D,2,FALSE) -> FDC | B10: =VLOOKUP(C:C,ALL_Pivot_new!B:D,3,FALSE) -> Vmax | C10: 3875 | D10: =SUMIF(ALL_Pivot_new!B:B,C:C,ALL_Pivot_new!F:F) -> 118400 | E10: =SUMIF(ALL_Pivot_new!B:B,C:C,ALL_Pivot_new!G:G) -> 107740.89 | F10: =SUMIF(ALL_Pivot_new!B:B,C:C,ALL_Pivot_new!H:H) -> 10659.113 | G10: =SUMIF(ALL_Pivot_new!B:B,C:C,ALL_Pivot_new!I:I) -> 95793.317 | H10: =SUMIF(ALL_Pivot_new!B:B,C:C,ALL_Pivot_new!J:J) -> 12442.54 | I10: =SUMIF(ALL_Pivot_new!B:B,C:C,ALL_Pivot_new!K:K) -> 83350.777 | J10: =SUMIF(ALL_Pivot_new!B:B,C:C,ALL_Pivot_new!L:L) -> 16076.605 | K10: =SUMIF(ALL_Pivot_new!B:B,C:C,ALL_Pivot_new!M:M) -> 67274.172 | L10: =SUMIF(ALL_Pivot_new!B:B,C:C,ALL_Pivot_new!N:N) -> 3643.793 | M10: =J10/I10 -> 0.19287889 | N10: =SUMIF(ALL_Pivot_new!B:B,C:C,ALL_Pivot_new!O:O) -> 33121.5 | O10: =N10/I10 -> 0.39737482 | P10: =H10/G10 -> 0.12988943 | Q10: =N10*P10 -> 4302.1329 | R10: =N10+Q10 -> 37423.633
A11: =VLOOKUP(C:C,ALL_Pivot_new!B:D,2,FALSE) -> RDC | B11: =VLOOKUP(C:C,ALL_Pivot_new!B:D,3,FALSE) -> Vmax | C11: 4330 | D11: =SUMIF(ALL_Pivot_new!B:B,C:C,ALL_Pivot_new!F:F) -> 287100 | E11: =SUMIF(ALL_Pivot_new!B:B,C:C,ALL_Pivot_new!G:G) -> 260875.96 | F11: =SUMIF(ALL_Pivot_new!B:B,C:C,ALL_Pivot_new!H:H) -> 26224.043 | G11: =SUMIF(ALL_Pivot_new!B:B,C:C,ALL_Pivot_new!I:I) -> 248032.04 | H11: =SUMIF(ALL_Pivot_new!B:B,C:C,ALL_Pivot_new!J:J) -> 124016.02 | I11: =SUMIF(ALL_Pivot_new!B:B,C:C,ALL_Pivot_new!K:K) -> 124016.02 | J11: =SUMIF(ALL_Pivot_new!B:B,C:C,ALL_Pivot_new!L:L) -> 91360.07 | K11: =SUMIF(ALL_Pivot_new!B:B,C:C,ALL_Pivot_new!M:M) -> 32655.947 | L11: =SUMIF(ALL_Pivot_new!B:B,C:C,ALL_Pivot_new!N:N) -> 5724.5508 | M11: =J11/I11 -> 0.7366796 | N11: =SUMIF(ALL_Pivot_new!B:B,C:C,ALL_Pivot_new!O:O) -> 171812 | O11: =N11/I11 -> 1.3854017 | P11: =H11/G11 -> 0.5 | Q11: =N11*P11 -> 85906 | R11: =N11+Q11 -> 257718
A12: =VLOOKUP(C:C,ALL_Pivot_new!B:D,2,FALSE) -> FDC | B12: =VLOOKUP(C:C,ALL_Pivot_new!B:D,3,FALSE) -> Vmax | C12: 4652 | D12: =SUMIF(ALL_Pivot_new!B:B,C:C,ALL_Pivot_new!F:F) -> 441000 | E12: =SUMIF(ALL_Pivot_new!B:B,C:C,ALL_Pivot_new!G:G) -> 400718.55 | F12: =SUMIF(ALL_Pivot_new!B:B,C:C,ALL_Pivot_new!H:H) -> 40281.445 | G12: =SUMIF(ALL_Pivot_new!B:B,C:C,ALL_Pivot_new!I:I) -> 383226.21 | H12: =SUMIF(ALL_Pivot_new!B:B,C:C,ALL_Pivot_new!J:J) -> 191613.11 | I12: =SUMIF(ALL_Pivot_new!B:B,C:C,ALL_Pivot_new!K:K) -> 191613.11 | J12: =SUMIF(ALL_Pivot_new!B:B,C:C,ALL_Pivot_new!L:L) -> 149523.89 | K12: =SUMIF(ALL_Pivot_new!B:B,C:C,ALL_Pivot_new!M:M) -> 42089.215 | L12: =SUMIF(ALL_Pivot_new!B:B,C:C,ALL_Pivot_new!N:N) -> 8177.9297 | M12: =J12/I12 -> 0.78034271 | N12: =SUMIF(ALL_Pivot_new!B:B,C:C,ALL_Pivot_new!O:O) -> 277419 | O12: =N12/I12 -> 1.4478081 | P12: =H12/G12 -> 0.5 | Q12: =N12*P12 -> 138709.5 | R12: =N12+Q12 -> 416128.5
A13: =VLOOKUP(C:C,ALL_Pivot_new!B:D,2,FALSE) -> FDC | B13: =VLOOKUP(C:C,ALL_Pivot_new!B:D,3,FALSE) -> Vmax | C13: 667 | D13: =SUMIF(ALL_Pivot_new!B:B,C:C,ALL_Pivot_new!F:F) -> 235200 | E13: =SUMIF(ALL_Pivot_new!B:B,C:C,ALL_Pivot_new!G:G) -> 213716.56 | F13: =SUMIF(ALL_Pivot_new!B:B,C:C,ALL_Pivot_new!H:H) -> 21483.438 | G13: =SUMIF(ALL_Pivot_new!B:B,C:C,ALL_Pivot_new!I:I) -> 200645.34 | H13: =SUMIF(ALL_Pivot_new!B:B,C:C,ALL_Pivot_new!J:J) -> 98451.168 | I13: =SUMIF(ALL_Pivot_new!B:B,C:C,ALL_Pivot_new!K:K) -> 102194.17 | J13: =SUMIF(ALL_Pivot_new!B:B,C:C,ALL_Pivot_new!L:L) -> 22019.473 | K13: =SUMIF(ALL_Pivot_new!B:B,C:C,ALL_Pivot_new!M:M) -> 80174.695 | L13: =SUMIF(ALL_Pivot_new!B:B,C:C,ALL_Pivot_new!N:N) -> 4361.5625 | M13: =J13/I13 -> 0.21546702 | N13: =SUMIF(ALL_Pivot_new!B:B,C:C,ALL_Pivot_new!O:O) -> 55807.8 | O13: =N13/I13 -> 0.54609574 | P13: =H13/G13 -> 0.4906726 | Q13: =N13*P13 -> 27383.358 | R13: =N13+Q13 -> 83191.158
A14: =VLOOKUP(C:C,ALL_Pivot_new!B:D,2,FALSE) -> RDC | B14: =VLOOKUP(C:C,ALL_Pivot_new!B:D,3,FALSE) -> Vmax | C14: 671 | D14: =SUMIF(ALL_Pivot_new!B:B,C:C,ALL_Pivot_new!F:F) -> 480000 | E14: =SUMIF(ALL_Pivot_new!B:B,C:C,ALL_Pivot_new!G:G) -> 436156.25 | F14: =SUMIF(ALL_Pivot_new!B:B,C:C,ALL_Pivot_new!H:H) -> 43843.75 | G14: =SUMIF(ALL_Pivot_new!B:B,C:C,ALL_Pivot_new!I:I) -> 415238.64 | H14: =SUMIF(ALL_Pivot_new!B:B,C:C,ALL_Pivot_new!J:J) -> 205747.82 | I14: =SUMIF(ALL_Pivot_new!B:B,C:C,ALL_Pivot_new!K:K) -> 209490.82 | J14: =SUMIF(ALL_Pivot_new!B:B,C:C,ALL_Pivot_new!L:L) -> 44542.258 | K14: =SUMIF(ALL_Pivot_new!B:B,C:C,ALL_Pivot_new!M:M) -> 164948.56 | L14: =SUMIF(ALL_Pivot_new!B:B,C:C,ALL_Pivot_new!N:N) -> 8723.125 | M14: =J14/I14 -> 0.21262153 | N14: =SUMIF(ALL_Pivot_new!B:B,C:C,ALL_Pivot_new!O:O) -> 152240.1 | O14: =N14/I14 -> 0.7267149 | P14: =H14/G14 -> 0.49549295 | Q14: =N14*P14 -> 75433.897 | R14: =N14+Q14 -> 227674
A15: =VLOOKUP(C:C,ALL_Pivot_new!B:D,2,FALSE) -> FDC | B15: =VLOOKUP(C:C,ALL_Pivot_new!B:D,3,FALSE) -> Vmax | C15: 710 | D15: =SUMIF(ALL_Pivot_new!B:B,C:C,ALL_Pivot_new!F:F) -> 480000 | E15: =SUMIF(ALL_Pivot_new!B:B,C:C,ALL_Pivot_new!G:G) -> 436156.25 | F15: =SUMIF(ALL_Pivot_new!B:B,C:C,ALL_Pivot_new!H:H) -> 43843.75 | G15: =SUMIF(ALL_Pivot_new!B:B,C:C,ALL_Pivot_new!I:I) -> 415238.92 | H15: =SUMIF(ALL_Pivot_new!B:B,C:C,ALL_Pivot_new!J:J) -> 205747.96 | I15: =SUMIF(ALL_Pivot_new!B:B,C:C,ALL_Pivot_new!K:K) -> 209490.96 | J15: =SUMIF(ALL_Pivot_new!B:B,C:C,ALL_Pivot_new!L:L) -> 150025.34 | K15: =SUMIF(ALL_Pivot_new!B:B,C:C,ALL_Pivot_new!M:M) -> 59465.617 | L15: =SUMIF(ALL_Pivot_new!B:B,C:C,ALL_Pivot_new!N:N) -> 8723.125 | M15: =J15/I15 -> 0.71614232 | N15: =SUMIF(ALL_Pivot_new!B:B,C:C,ALL_Pivot_new!O:O) -> 244329 | O15: =N15/I15 -> 1.1662985 | P15: =H15/G15 -> 0.49549296 | Q15: =N15*P15 -> 121063.3 | R15: =N15+Q15 -> 365392.3
A16: =VLOOKUP(C:C,ALL_Pivot_new!B:D,2,FALSE) -> RDC | B16: =VLOOKUP(C:C,ALL_Pivot_new!B:D,3,FALSE) -> Vmax | C16: 689 | D16: =SUMIF(ALL_Pivot_new!B:B,C:C,ALL_Pivot_new!F:F) -> 235200 | E16: =SUMIF(ALL_Pivot_new!B:B,C:C,ALL_Pivot_new!G:G) -> 213716.56 | F16: =SUMIF(ALL_Pivot_new!B:B,C:C,ALL_Pivot_new!H:H) -> 21483.438 | G16: =SUMIF(ALL_Pivot_new!B:B,C:C,ALL_Pivot_new!I:I) -> 200645.38 | H16: =SUMIF(ALL_Pivot_new!B:B,C:C,ALL_Pivot_new!J:J) -> 98451.188 | I16: =SUMIF(ALL_Pivot_new!B:B,C:C,ALL_Pivot_new!K:K) -> 102194.19 | J16: =SUMIF(ALL_Pivot_new!B:B,C:C,ALL_Pivot_new!L:L) -> 75884.211 | K16: =SUMIF(ALL_Pivot_new!B:B,C:C,ALL_Pivot_new!M:M) -> 26309.977 | L16: =SUMIF(ALL_Pivot_new!B:B,C:C,ALL_Pivot_new!N:N) -> 4361.5625 | M16: =J16/I16 -> 0.74254919 | N16: =SUMIF(ALL_Pivot_new!B:B,C:C,ALL_Pivot_new!O:O) -> 109520 | O16: =N16/I16 -> 1.0716852 | P16: =H16/G16 -> 0.4906726 | Q16: =N16*P16 -> 53738.463 | R16: =N16+Q16 -> 163258.46
A17: =VLOOKUP(C:C,ALL_Pivot_new!B:D,2,FALSE) -> FDC | B17: =VLOOKUP(C:C,ALL_Pivot_new!B:D,3,FALSE) -> Vmax | C17: 712 | D17: =SUMIF(ALL_Pivot_new!B:B,C:C,ALL_Pivot_new!F:F) -> 480000 | E17: =SUMIF(ALL_Pivot_new!B:B,C:C,ALL_Pivot_new!G:G) -> 436156.25 | F17: =SUMIF(ALL_Pivot_new!B:B,C:C,ALL_Pivot_new!H:H) -> 43843.75 | G17: =SUMIF(ALL_Pivot_new!B:B,C:C,ALL_Pivot_new!I:I) -> 415238.64 | H17: =SUMIF(ALL_Pivot_new!B:B,C:C,ALL_Pivot_new!J:J) -> 205747.82 | I17: =SUMIF(ALL_Pivot_new!B:B,C:C,ALL_Pivot_new!K:K) -> 209490.82 | J17: =SUMIF(ALL_Pivot_new!B:B,C:C,ALL_Pivot_new!L:L) -> 135018 | K17: =SUMIF(ALL_Pivot_new!B:B,C:C,ALL_Pivot_new!M:M) -> 74472.82 | L17: =SUMIF(ALL_Pivot_new!B:B,C:C,ALL_Pivot_new!N:N) -> 8723.125 | M17: =J17/I17 -> 0.64450557 | N17: =SUMIF(ALL_Pivot_new!B:B,C:C,ALL_Pivot_new!O:O) -> 254516 | O17: =N17/I17 -> 1.2149267 | P17: =H17/G17 -> 0.49549295 | Q17: =N17*P17 -> 126110.88 | R17: =N17+Q17 -> 380626.88
A18: =VLOOKUP(C:C,ALL_Pivot_new!B:D,2,FALSE) -> RDC | B18: =VLOOKUP(C:C,ALL_Pivot_new!B:D,3,FALSE) -> Vmax | C18: 706 | D18: =SUMIF(ALL_Pivot_new!B:B,C:C,ALL_Pivot_new!F:F) -> 235200 | E18: =SUMIF(ALL_Pivot_new!B:B,C:C,ALL_Pivot_new!G:G) -> 213716.56 | F18: =SUMIF(ALL_Pivot_new!B:B,C:C,ALL_Pivot_new!H:H) -> 21483.438 | G18: =SUMIF(ALL_Pivot_new!B:B,C:C,ALL_Pivot_new!I:I) -> 200645.15 | H18: =SUMIF(ALL_Pivot_new!B:B,C:C,ALL_Pivot_new!J:J) -> 98451.076 | I18: =SUMIF(ALL_Pivot_new!B:B,C:C,ALL_Pivot_new!K:K) -> 102194.08 | J18: =SUMIF(ALL_Pivot_new!B:B,C:C,ALL_Pivot_new!L:L) -> 70487.531 | K18: =SUMIF(ALL_Pivot_new!B:B,C:C,ALL_Pivot_new!M:M) -> 31706.545 | L18: =SUMIF(ALL_Pivot_new!B:B,C:C,ALL_Pivot_new!N:N) -> 4361.5625 | M18: =J18/I18 -> 0.68974185 | N18: =SUMIF(ALL_Pivot_new!B:B,C:C,ALL_Pivot_new!O:O) -> 127434 | O18: =N18/I18 -> 1.2469803 | P18: =H18/G18 -> 0.49067259 | Q18: =N18*P18 -> 62528.371 | R18: =N18+Q18 -> 189962.37
A19: =VLOOKUP(C:C,ALL_Pivot_new!B:D,2,FALSE) -> Swiss | B19: =VLOOKUP(C:C,ALL_Pivot_new!B:D,3,FALSE) -> Vmax | C19: 1383 | D19: =SUMIF(ALL_Pivot_new!B:B,C:C,ALL_Pivot_new!F:F) -> 137400 | E19: =SUMIF(ALL_Pivot_new!B:B,C:C,ALL_Pivot_new!G:G) -> 124849.73 | F19: =SUMIF(ALL_Pivot_new!B:B,C:C,ALL_Pivot_new!H:H) -> 12550.273 | G19: =SUMIF(ALL_Pivot_new!B:B,C:C,ALL_Pivot_new!I:I) -> 119445.8 | H19: =SUMIF(ALL_Pivot_new!B:B,C:C,ALL_Pivot_new!J:J) -> 59722.9 | I19: =SUMIF(ALL_Pivot_new!B:B,C:C,ALL_Pivot_new!K:K) -> 59722.9 | J19: =SUMIF(ALL_Pivot_new!B:B,C:C,ALL_Pivot_new!L:L) -> 19595.9 | K19: =SUMIF(ALL_Pivot_new!B:B,C:C,ALL_Pivot_new!M:M) -> 40127 | L19: =SUMIF(ALL_Pivot_new!B:B,C:C,ALL_Pivot_new!N:N) -> 2725.9766 | M19: =J19/I19 -> 0.32811367 | N19: =SUMIF(ALL_Pivot_new!B:B,C:C,ALL_Pivot_new!O:O) -> 61297.2 | O19: =N19/I19 -> 1.0263601 | P19: =H19/G19 -> 0.5 | Q19: =N19*P19 -> 30648.6 | R19: =N19+Q19 -> 91945.8
A20: =VLOOKUP(C:C,ALL_Pivot_new!B:D,2,FALSE) -> CGC | B20: =VLOOKUP(C:C,ALL_Pivot_new!B:D,3,FALSE) -> HDS | C20: CGCHDS10 | D20: =SUMIF(ALL_Pivot_new!B:B,C:C,ALL_Pivot_new!F:F) -> 102000 | E20: =SUMIF(ALL_Pivot_new!B:B,C:C,ALL_Pivot_new!G:G) -> 92820 | F20: =SUMIF(ALL_Pivot_new!B:B,C:C,ALL_Pivot_new!H:H) -> 9180 | G20: =SUMIF(ALL_Pivot_new!B:B,C:C,ALL_Pivot_new!I:I) -> 85486.606 | H20: =SUMIF(ALL_Pivot_new!B:B,C:C,ALL_Pivot_new!J:J) -> 10685.826 | I20: =SUMIF(ALL_Pivot_new!B:B,C:C,ALL_Pivot_new!K:K) -> 74800.78 | J20: =SUMIF(ALL_Pivot_new!B:B,C:C,ALL_Pivot_new!L:L) -> 63958 | K20: =SUMIF(ALL_Pivot_new!B:B,C:C,ALL_Pivot_new!M:M) -> 10842.78 | L20: =SUMIF(ALL_Pivot_new!B:B,C:C,ALL_Pivot_new!N:N) -> 5460 | M20: =J20/I20 -> 0.85504456 | N20: =SUMIF(ALL_Pivot_new!B:B,C:C,ALL_Pivot_new!O:O) -> 63958 | O20: =N20/I20 -> 0.85504456 | P20: =H20/G20 -> 0.125 | Q20: =N20*P20 -> 7994.75 | R20: =N20+Q20 -> 71952.75
A21: =VLOOKUP(C:C,ALL_Pivot_new!B:D,2,FALSE) -> FDC | B21: =VLOOKUP(C:C,ALL_Pivot_new!B:D,3,FALSE) -> HDS | C21: FDCHDS04 | D21: =SUMIF(ALL_Pivot_new!B:B,C:C,ALL_Pivot_new!F:F) -> 270000 | E21: =SUMIF(ALL_Pivot_new!B:B,C:C,ALL_Pivot_new!G:G) -> 245700 | F21: =SUMIF(ALL_Pivot_new!B:B,C:C,ALL_Pivot_new!H:H) -> 24300 | G21: =SUMIF(ALL_Pivot_new!B:B,C:C,ALL_Pivot_new!I:I) -> 240489.37 | H21: =SUMIF(ALL_Pivot_new!B:B,C:C,ALL_Pivot_new!J:J) -> 30061.171 | I21: =SUMIF(ALL_Pivot_new!B:B,C:C,ALL_Pivot_new!K:K) -> 210428.2 | J21: =SUMIF(ALL_Pivot_new!B:B,C:C,ALL_Pivot_new!L:L) -> 114180.98 | K21: =SUMIF(ALL_Pivot_new!B:B,C:C,ALL_Pivot_new!M:M) -> 96247.22 | L21: =SUMIF(ALL_Pivot_new!B:B,C:C,ALL_Pivot_new!N:N) -> 1092 | M21: =J21/I21 -> 0.54261254 | N21: =SUMIF(ALL_Pivot_new!B:B,C:C,ALL_Pivot_new!O:O) -> 114180.98 | O21: =N21/I21 -> 0.54261254 | P21: =H21/G21 -> 0.125 | Q21: =N21*P21 -> 14272.622 | R21: =N21+Q21 -> 128453.6
A22: =VLOOKUP(C:C,ALL_Pivot_new!B:D,2,FALSE) -> FDC | B22: =VLOOKUP(C:C,ALL_Pivot_new!B:D,3,FALSE) -> HDS | C22: FDCHDS05 | D22: =SUMIF(ALL_Pivot_new!B:B,C:C,ALL_Pivot_new!F:F) -> 260400 | E22: =SUMIF(ALL_Pivot_new!B:B,C:C,ALL_Pivot_new!G:G) -> 236964 | F22: =SUMIF(ALL_Pivot_new!B:B,C:C,ALL_Pivot_new!H:H) -> 23436 | G22: =SUMIF(ALL_Pivot_new!B:B,C:C,ALL_Pivot_new!I:I) -> 231894.87 | H22: =SUMIF(ALL_Pivot_new!B:B,C:C,ALL_Pivot_new!J:J) -> 28986.859 | I22: =SUMIF(ALL_Pivot_new!B:B,C:C,ALL_Pivot_new!K:K) -> 202908.01 | J22: =SUMIF(ALL_Pivot_new!B:B,C:C,ALL_Pivot_new!L:L) -> 124398.34 | K22: =SUMIF(ALL_Pivot_new!B:B,C:C,ALL_Pivot_new!M:M) -> 78509.67 | L22: =SUMIF(ALL_Pivot_new!B:B,C:C,ALL_Pivot_new!N:N) -> 1092 | M22: =J22/I22 -> 0.61307752 | N22: =SUMIF(ALL_Pivot_new!B:B,C:C,ALL_Pivot_new!O:O) -> 124398.34 | O22: =N22/I22 -> 0.61307752 | P22: =H22/G22 -> 0.125 | Q22: =N22*P22 -> 15549.792 | R22: =N22+Q22 -> 139948.13
A23: =VLOOKUP(C:C,ALL_Pivot_new!B:D,2,FALSE) -> RDC | B23: =VLOOKUP(C:C,ALL_Pivot_new!B:D,3,FALSE) -> HDS | C23: RDCHDS10 | D23: =SUMIF(ALL_Pivot_new!B:B,C:C,ALL_Pivot_new!F:F) -> 58800 | E23: =SUMIF(ALL_Pivot_new!B:B,C:C,ALL_Pivot_new!G:G) -> 53508 | F23: =SUMIF(ALL_Pivot_new!B:B,C:C,ALL_Pivot_new!H:H) -> 5292 | G23: =SUMIF(ALL_Pivot_new!B:B,C:C,ALL_Pivot_new!I:I) -> 51533.533 | H23: =SUMIF(ALL_Pivot_new!B:B,C:C,ALL_Pivot_new!J:J) -> 12883.383 | I23: =SUMIF(ALL_Pivot_new!B:B,C:C,ALL_Pivot_new!K:K) -> 38650.15 | J23: =SUMIF(ALL_Pivot_new!B:B,C:C,ALL_Pivot_new!L:L) -> 31157 | K23: =SUMIF(ALL_Pivot_new!B:B,C:C,ALL_Pivot_new!M:M) -> 7493.15 | L23: =SUMIF(ALL_Pivot_new!B:B,C:C,ALL_Pivot_new!N:N) -> 1092 | M23: =J23/I23 -> 0.80612882 | N23: =SUMIF(ALL_Pivot_new!B:B,C:C,ALL_Pivot_new!O:O) -> 31157 | O23: =N23/I23 -> 0.80612882 | P23: =H23/G23 -> 0.25 | Q23: =N23*P23 -> 7789.25 | R23: =N23+Q23 -> 38946.25
A24: =VLOOKUP(C:C,ALL_Pivot_new!B:D,2,FALSE) -> RDC | B24: =VLOOKUP(C:C,ALL_Pivot_new!B:D,3,FALSE) -> HDS | C24: RDCHDS05 | D24: =SUMIF(ALL_Pivot_new!B:B,C:C,ALL_Pivot_new!F:F) -> 324000 | E24: =SUMIF(ALL_Pivot_new!B:B,C:C,ALL_Pivot_new!G:G) -> 294840 | F24: =SUMIF(ALL_Pivot_new!B:B,C:C,ALL_Pivot_new!H:H) -> 29160 | G24: =SUMIF(ALL_Pivot_new!B:B,C:C,ALL_Pivot_new!I:I) -> 285077.29 | H24: =SUMIF(ALL_Pivot_new!B:B,C:C,ALL_Pivot_new!J:J) -> 35634.661 | I24: =SUMIF(ALL_Pivot_new!B:B,C:C,ALL_Pivot_new!K:K) -> 249442.63 | J24: =SUMIF(ALL_Pivot_new!B:B,C:C,ALL_Pivot_new!L:L) -> 151545 | K24: =SUMIF(ALL_Pivot_new!B:B,C:C,ALL_Pivot_new!M:M) -> 97897.63 | L24: =SUMIF(ALL_Pivot_new!B:B,C:C,ALL_Pivot_new!N:N) -> 6552 | M24: =J24/I24 -> 0.60753449 | N24: =SUMIF(ALL_Pivot_new!B:B,C:C,ALL_Pivot_new!O:O) -> 151545 | O24: =N24/I24 -> 0.60753449 | P24: =H24/G24 -> 0.125 | Q24: =N24*P24 -> 18943.125 | R24: =N24+Q24 -> 170488.12
A25: =VLOOKUP(C:C,ALL_Pivot_new!B:D,2,FALSE) -> RDC | B25: =VLOOKUP(C:C,ALL_Pivot_new!B:D,3,FALSE) -> HDS | C25: RDCHDS06 | D25: =SUMIF(ALL_Pivot_new!B:B,C:C,ALL_Pivot_new!F:F) -> 221700 | E25: =SUMIF(ALL_Pivot_new!B:B,C:C,ALL_Pivot_new!G:G) -> 201747 | F25: =SUMIF(ALL_Pivot_new!B:B,C:C,ALL_Pivot_new!H:H) -> 19953 | G25: =SUMIF(ALL_Pivot_new!B:B,C:C,ALL_Pivot_new!I:I) -> 197544.85 | H25: =SUMIF(ALL_Pivot_new!B:B,C:C,ALL_Pivot_new!J:J) -> 24693.106 | I25: =SUMIF(ALL_Pivot_new!B:B,C:C,ALL_Pivot_new!K:K) -> 172851.74 | J25: =SUMIF(ALL_Pivot_new!B:B,C:C,ALL_Pivot_new!L:L) -> 105953 | K25: =SUMIF(ALL_Pivot_new!B:B,C:C,ALL_Pivot_new!M:M) -> 66898.74 | L25: =SUMIF(ALL_Pivot_new!B:B,C:C,ALL_Pivot_new!N:N) -> 819 | M25: =J25/I25 -> 0.6129704 | N25: =SUMIF(ALL_Pivot_new!B:B,C:C,ALL_Pivot_new!O:O) -> 105953 | O25: =N25/I25 -> 0.6129704 | P25: =H25/G25 -> 0.125 | Q25: =N25*P25 -> 13244.125 | R25: =N25+Q25 -> 119197.12
A26: =VLOOKUP(C:C,ALL_Pivot_new!B:D,2,FALSE) -> FDC | B26: =VLOOKUP(C:C,ALL_Pivot_new!B:D,3,FALSE) -> HDS | C26: FDCHDS10 | D26: =SUMIF(ALL_Pivot_new!B:B,C:C,ALL_Pivot_new!F:F) -> 58800 | E26: =SUMIF(ALL_Pivot_new!B:B,C:C,ALL_Pivot_new!G:G) -> 53508 | F26: =SUMIF(ALL_Pivot_new!B:B,C:C,ALL_Pivot_new!H:H) -> 5292 | G26: =SUMIF(ALL_Pivot_new!B:B,C:C,ALL_Pivot_new!I:I) -> 51533.533 | H26: =SUMIF(ALL_Pivot_new!B:B,C:C,ALL_Pivot_new!J:J) -> 12883.383 | I26: =SUMIF(ALL_Pivot_new!B:B,C:C,ALL_Pivot_new!K:K) -> 38650.15 | J26: =SUMIF(ALL_Pivot_new!B:B,C:C,ALL_Pivot_new!L:L) -> 13705.29 | K26: =SUMIF(ALL_Pivot_new!B:B,C:C,ALL_Pivot_new!M:M) -> 24944.86 | L26: =SUMIF(ALL_Pivot_new!B:B,C:C,ALL_Pivot_new!N:N) -> 1092 | M26: =J26/I26 -> 0.35459862 | N26: =SUMIF(ALL_Pivot_new!B:B,C:C,ALL_Pivot_new!O:O) -> 13705.29 | O26: =N26/I26 -> 0.35459862 | P26: =H26/G26 -> 0.25 | Q26: =N26*P26 -> 3426.3225 | R26: =N26+Q26 -> 17131.612
A27: =VLOOKUP(C:C,ALL_Pivot_new!B:D,2,FALSE) -> FDC | B27: =VLOOKUP(C:C,ALL_Pivot_new!B:D,3,FALSE) -> Vmax | C27: 709 | D27: =SUMIF(ALL_Pivot_new!B:B,C:C,ALL_Pivot_new!F:F) -> 587800 | E27: =SUMIF(ALL_Pivot_new!B:B,C:C,ALL_Pivot_new!G:G) -> 541278.67 | F27: =SUMIF(ALL_Pivot_new!B:B,C:C,ALL_Pivot_new!H:H) -> 46521.332 | G27: =SUMIF(ALL_Pivot_new!B:B,C:C,ALL_Pivot_new!I:I) -> 516507.97 | H27: =SUMIF(ALL_Pivot_new!B:B,C:C,ALL_Pivot_new!J:J) -> 187816.4 | I27: =SUMIF(ALL_Pivot_new!B:B,C:C,ALL_Pivot_new!K:K) -> 328691.57 | J27: =SUMIF(ALL_Pivot_new!B:B,C:C,ALL_Pivot_new!L:L) -> 205981.37 | K27: =SUMIF(ALL_Pivot_new!B:B,C:C,ALL_Pivot_new!M:M) -> 122710.2 | L27: =SUMIF(ALL_Pivot_new!B:B,C:C,ALL_Pivot_new!N:N) -> 10868.48 | M27: =J27/I27 -> 0.62667069 | N27: =SUMIF(ALL_Pivot_new!B:B,C:C,ALL_Pivot_new!O:O) -> 323143 | O27: =N27/I27 -> 0.98311922 | P27: =H27/G27 -> 0.3636273 | Q27: =N27*P27 -> 117503.62 | R27: =N27+Q27 -> 440646.62
A28: =VLOOKUP(C:C,ALL_Pivot_new!B:D,2,FALSE) -> RDC | B28: =VLOOKUP(C:C,ALL_Pivot_new!B:D,3,FALSE) -> Vmax | C28: 704 | D28: =SUMIF(ALL_Pivot_new!B:B,C:C,ALL_Pivot_new!F:F) -> 405400 | E28: =SUMIF(ALL_Pivot_new!B:B,C:C,ALL_Pivot_new!G:G) -> 373152.69 | F28: =SUMIF(ALL_Pivot_new!B:B,C:C,ALL_Pivot_new!H:H) -> 32247.312 | G28: =SUMIF(ALL_Pivot_new!B:B,C:C,ALL_Pivot_new!I:I) -> 354223.71 | H28: =SUMIF(ALL_Pivot_new!B:B,C:C,ALL_Pivot_new!J:J) -> 130153.47 | I28: =SUMIF(ALL_Pivot_new!B:B,C:C,ALL_Pivot_new!K:K) -> 224070.24 | J28: =SUMIF(ALL_Pivot_new!B:B,C:C,ALL_Pivot_new!L:L) -> 115441.51 | K28: =SUMIF(ALL_Pivot_new!B:B,C:C,ALL_Pivot_new!M:M) -> 108628.73 | L28: =SUMIF(ALL_Pivot_new!B:B,C:C,ALL_Pivot_new!N:N) -> 7915.0625 | M28: =J28/I28 -> 0.51520232 | N28: =SUMIF(ALL_Pivot_new!B:B,C:C,ALL_Pivot_new!O:O) -> 241478 | O28: =N28/I28 -> 1.0776888 | P28: =H28/G28 -> 0.36743296 | Q28: =N28*P28 -> 88726.977 | R28: =N28+Q28 -> 330204.98
A29: =VLOOKUP(C:C,ALL_Pivot_new!B:D,2,FALSE) -> CGC | B29: =VLOOKUP(C:C,ALL_Pivot_new!B:D,3,FALSE) -> Vmax | C29: 703 | D29: =SUMIF(ALL_Pivot_new!B:B,C:C,ALL_Pivot_new!F:F) -> 405400 | E29: =SUMIF(ALL_Pivot_new!B:B,C:C,ALL_Pivot_new!G:G) -> 373152.69 | F29: =SUMIF(ALL_Pivot_new!B:B,C:C,ALL_Pivot_new!H:H) -> 32247.312 | G29: =SUMIF(ALL_Pivot_new!B:B,C:C,ALL_Pivot_new!I:I) -> 354223.68 | H29: =SUMIF(ALL_Pivot_new!B:B,C:C,ALL_Pivot_new!J:J) -> 130153.43 | I29: =SUMIF(ALL_Pivot_new!B:B,C:C,ALL_Pivot_new!K:K) -> 224070.25 | J29: =SUMIF(ALL_Pivot_new!B:B,C:C,ALL_Pivot_new!L:L) -> 105417.4 | K29: =SUMIF(ALL_Pivot_new!B:B,C:C,ALL_Pivot_new!M:M) -> 118652.85 | L29: =SUMIF(ALL_Pivot_new!B:B,C:C,ALL_Pivot_new!N:N) -> 7915.0625 | M29: =J29/I29 -> 0.47046585 | N29: =SUMIF(ALL_Pivot_new!B:B,C:C,ALL_Pivot_new!O:O) -> 182630 | O29: =N29/I29 -> 0.8150569 | P29: =H29/G29 -> 0.36743289 | Q29: =N29*P29 -> 67104.27 | R29: =N29+Q29 -> 249734.27
A30: =VLOOKUP(C:C,ALL_Pivot_new!B:D,2,FALSE) -> RDC | B30: =VLOOKUP(C:C,ALL_Pivot_new!B:D,3,FALSE) -> Vmax | C30: 688 | D30: =SUMIF(ALL_Pivot_new!B:B,C:C,ALL_Pivot_new!F:F) -> 362400 | E30: =SUMIF(ALL_Pivot_new!B:B,C:C,ALL_Pivot_new!G:G) -> 329297.97 | F30: =SUMIF(ALL_Pivot_new!B:B,C:C,ALL_Pivot_new!H:H) -> 33102.031 | G30: =SUMIF(ALL_Pivot_new!B:B,C:C,ALL_Pivot_new!I:I) -> 312383.52 | H30: =SUMIF(ALL_Pivot_new!B:B,C:C,ALL_Pivot_new!J:J) -> 156191.76 | I30: =SUMIF(ALL_Pivot_new!B:B,C:C,ALL_Pivot_new!K:K) -> 156191.76 | J30: =SUMIF(ALL_Pivot_new!B:B,C:C,ALL_Pivot_new!L:L) -> 40292.566 | K30: =SUMIF(ALL_Pivot_new!B:B,C:C,ALL_Pivot_new!M:M) -> 115899.2 | L30: =SUMIF(ALL_Pivot_new!B:B,C:C,ALL_Pivot_new!N:N) -> 6542.3438 | M30: =J30/I30 -> 0.25796858 | N30: =SUMIF(ALL_Pivot_new!B:B,C:C,ALL_Pivot_new!O:O) -> 55880.3 | O30: =N30/I30 -> 0.35776727 | P30: =H30/G30 -> 0.5 | Q30: =N30*P30 -> 27940.15 | R30: =N30+Q30 -> 83820.45
A31: =VLOOKUP(C:C,ALL_Pivot_new!B:D,2,FALSE) -> CGC | B31: =VLOOKUP(C:C,ALL_Pivot_new!B:D,3,FALSE) -> Vmax | C31: 705 | D31: =SUMIF(ALL_Pivot_new!B:B,C:C,ALL_Pivot_new!F:F) -> 362400 | E31: =SUMIF(ALL_Pivot_new!B:B,C:C,ALL_Pivot_new!G:G) -> 329297.97 | F31: =SUMIF(ALL_Pivot_new!B:B,C:C,ALL_Pivot_new!H:H) -> 33102.031 | G31: =SUMIF(ALL_Pivot_new!B:B,C:C,ALL_Pivot_new!I:I) -> 312383.77 | H31: =SUMIF(ALL_Pivot_new!B:B,C:C,ALL_Pivot_new!J:J) -> 156191.88 | I31: =SUMIF(ALL_Pivot_new!B:B,C:C,ALL_Pivot_new!K:K) -> 156191.88 | J31: =SUMIF(ALL_Pivot_new!B:B,C:C,ALL_Pivot_new!L:L) -> 40268.312 | K31: =SUMIF(ALL_Pivot_new!B:B,C:C,ALL_Pivot_new!M:M) -> 115923.57 | L31: =SUMIF(ALL_Pivot_new!B:B,C:C,ALL_Pivot_new!N:N) -> 6542.3438 | M31: =J31/I31 -> 0.25781309 | N31: =SUMIF(ALL_Pivot_new!B:B,C:C,ALL_Pivot_new!O:O) -> 55866.6 | O31: =N31/I31 -> 0.35767928 | P31: =H31/G31 -> 0.5 | Q31: =N31*P31 -> 27933.3 | R31: =N31+Q31 -> 83799.9
A32: =VLOOKUP(C:C,ALL_Pivot_new!B:D,2,FALSE) -> RDC | B32: =VLOOKUP(C:C,ALL_Pivot_new!B:D,3,FALSE) -> Vmax | C32: 699 | D32: =SUMIF(ALL_Pivot_new!B:B,C:C,ALL_Pivot_new!F:F) -> 405400 | E32: =SUMIF(ALL_Pivot_new!B:B,C:C,ALL_Pivot_new!G:G) -> 373152.69 | F32: =SUMIF(ALL_Pivot_new!B:B,C:C,ALL_Pivot_new!H:H) -> 32247.312 | G32: =SUMIF(ALL_Pivot_new!B:B,C:C,ALL_Pivot_new!I:I) -> 354223.7 | H32: =SUMIF(ALL_Pivot_new!B:B,C:C,ALL_Pivot_new!J:J) -> 130153.45 | I32: =SUMIF(ALL_Pivot_new!B:B,C:C,ALL_Pivot_new!K:K) -> 224070.25 | J32: =SUMIF(ALL_Pivot_new!B:B,C:C,ALL_Pivot_new!L:L) -> 78598.721 | K32: =SUMIF(ALL_Pivot_new!B:B,C:C,ALL_Pivot_new!M:M) -> 145471.53 | L32: =SUMIF(ALL_Pivot_new!B:B,C:C,ALL_Pivot_new!N:N) -> 7915.0625 | M32: =J32/I32 -> 0.35077714 | N32: =SUMIF(ALL_Pivot_new!B:B,C:C,ALL_Pivot_new!O:O) -> 171470 | O32: =N32/I32 -> 0.76525107 | P32: =H32/G32 -> 0.36743292 | Q32: =N32*P32 -> 63003.722 | R32: =N32+Q32 -> 234473.72
A33: =VLOOKUP(C:C,ALL_Pivot_new!B:D,2,FALSE) -> FDC | B33: =VLOOKUP(C:C,ALL_Pivot_new!B:D,3,FALSE) -> XIV | C33: 61188 | D33: =SUMIF(ALL_Pivot_new!B:B,C:C,ALL_Pivot_new!F:F) -> 540000 | E33: =SUMIF(ALL_Pivot_new!B:B,C:C,ALL_Pivot_new!G:G) -> 534615 | F33: =SUMIF(ALL_Pivot_new!B:B,C:C,ALL_Pivot_new!H:H) -> 5385 | G33: =SUMIF(ALL_Pivot_new!B:B,C:C,ALL_Pivot_new!I:I) -> 486785.03 | H33: =SUMIF(ALL_Pivot_new!B:B,C:C,ALL_Pivot_new!J:J) -> 243392.52 | I33: =SUMIF(ALL_Pivot_new!B:B,C:C,ALL_Pivot_new!K:K) -> 243392.52 | J33: =SUMIF(ALL_Pivot_new!B:B,C:C,ALL_Pivot_new!L:L) -> 214069.77 | K33: =SUMIF(ALL_Pivot_new!B:B,C:C,ALL_Pivot_new!M:M) -> 29322.75 | L33: =SUMIF(ALL_Pivot_new!B:B,C:C,ALL_Pivot_new!N:N) -> 44551.25 | M33: =J33/I33 -> 0.87952485 | N33: =SUMIF(ALL_Pivot_new!B:B,C:C,ALL_Pivot_new!O:O) -> 214069.77 | O33: =N33/I33 -> 0.87952485 | P33: =H33/G33 -> 0.5 | Q33: =N33*P33 -> 107034.88 | R33: =N33+Q33 -> 321104.65
A34: =VLOOKUP(C:C,ALL_Pivot_new!B:D,2,FALSE) -> RDC | B34: =VLOOKUP(C:C,ALL_Pivot_new!B:D,3,FALSE) -> XIV | C34: 61239 | D34: =SUMIF(ALL_Pivot_new!B:B,C:C,ALL_Pivot_new!F:F) -> 540000 | E34: =SUMIF(ALL_Pivot_new!B:B,C:C,ALL_Pivot_new!G:G) -> 534615 | F34: =SUMIF(ALL_Pivot_new!B:B,C:C,ALL_Pivot_new!H:H) -> 5385 | G34: =SUMIF(ALL_Pivot_new!B:B,C:C,ALL_Pivot_new!I:I) -> 481966.75 | H34: =SUMIF(ALL_Pivot_new!B:B,C:C,ALL_Pivot_new!J:J) -> 240983.38 | I34: =SUMIF(ALL_Pivot_new!B:B,C:C,ALL_Pivot_new!K:K) -> 240983.38 | J34: =SUMIF(ALL_Pivot_new!B:B,C:C,ALL_Pivot_new!L:L) -> 130093.84 | K34: =SUMIF(ALL_Pivot_new!B:B,C:C,ALL_Pivot_new!M:M) -> 110889.53 | L34: =SUMIF(ALL_Pivot_new!B:B,C:C,ALL_Pivot_new!N:N) -> 44551.25 | M34: =J34/I34 -> 0.53984572 | N34: =SUMIF(ALL_Pivot_new!B:B,C:C,ALL_Pivot_new!O:O) -> 130093.84 | O34: =N34/I34 -> 0.53984572 | P34: =H34/G34 -> 0.5 | Q34: =N34*P34 -> 65046.922 | R34: =N34+Q34 -> 195140.77
A35: =VLOOKUP(C:C,ALL_Pivot_new!B:D,2,FALSE) -> RDC | B35: =VLOOKUP(C:C,ALL_Pivot_new!B:D,3,FALSE) -> Vmax | C35: 1144 | D35: =SUMIF(ALL_Pivot_new!B:B,C:C,ALL_Pivot_new!F:F) -> 235200 | E35: =SUMIF(ALL_Pivot_new!B:B,C:C,ALL_Pivot_new!G:G) -> 213716.56 | F35: =SUMIF(ALL_Pivot_new!B:B,C:C,ALL_Pivot_new!H:H) -> 21483.438 | G35: =SUMIF(ALL_Pivot_new!B:B,C:C,ALL_Pivot_new!I:I) -> 200645.2 | H35: =SUMIF(ALL_Pivot_new!B:B,C:C,ALL_Pivot_new!J:J) -> 100322.6 | I35: =SUMIF(ALL_Pivot_new!B:B,C:C,ALL_Pivot_new!K:K) -> 100322.6 | J35: =SUMIF(ALL_Pivot_new!B:B,C:C,ALL_Pivot_new!L:L) -> 21904.506 | K35: =SUMIF(ALL_Pivot_new!B:B,C:C,ALL_Pivot_new!M:M) -> 78418.094 | L35: =SUMIF(ALL_Pivot_new!B:B,C:C,ALL_Pivot_new!N:N) -> 4361.5625 | M35: =J35/I35 -> 0.21834069 | N35: =SUMIF(ALL_Pivot_new!B:B,C:C,ALL_Pivot_new!O:O) -> 49951.6 | O35: =N35/I35 -> 0.49790974 | P35: =H35/G35 -> 0.5 | Q35: =N35*P35 -> 24975.8 | R35: =N35+Q35 -> 74927.4
A36: =VLOOKUP(C:C,ALL_Pivot_new!B:D,2,FALSE) -> FDC | B36: =VLOOKUP(C:C,ALL_Pivot_new!B:D,3,FALSE) -> Vmax | C36: 1124 | D36: =SUMIF(ALL_Pivot_new!B:B,C:C,ALL_Pivot_new!F:F) -> 475200 | E36: =SUMIF(ALL_Pivot_new!B:B,C:C,ALL_Pivot_new!G:G) -> 431794.69 | F36: =SUMIF(ALL_Pivot_new!B:B,C:C,ALL_Pivot_new!H:H) -> 43405.312 | G36: =SUMIF(ALL_Pivot_new!B:B,C:C,ALL_Pivot_new!I:I) -> 410947 | H36: =SUMIF(ALL_Pivot_new!B:B,C:C,ALL_Pivot_new!J:J) -> 205473.5 | I36: =SUMIF(ALL_Pivot_new!B:B,C:C,ALL_Pivot_new!K:K) -> 205473.5 | J36: =SUMIF(ALL_Pivot_new!B:B,C:C,ALL_Pivot_new!L:L) -> 36829.062 | K36: =SUMIF(ALL_Pivot_new!B:B,C:C,ALL_Pivot_new!M:M) -> 168644.44 | L36: =SUMIF(ALL_Pivot_new!B:B,C:C,ALL_Pivot_new!N:N) -> 8723.125 | M36: =J36/I36 -> 0.17923996 | N36: =SUMIF(ALL_Pivot_new!B:B,C:C,ALL_Pivot_new!O:O) -> 49778.8 | O36: =N36/I36 -> 0.24226384 | P36: =H36/G36 -> 0.5 | Q36: =N36*P36 -> 24889.4 | R36: =N36+Q36 -> 74668.2
A37: =VLOOKUP(C:C,ALL_Pivot_new!B:D,2,FALSE) -> welle | B37: =VLOOKUP(C:C,ALL_Pivot_new!B:D,3,FALSE) -> Vmax | C37: 877 | D37: =SUMIF(ALL_Pivot_new!B:B,C:C,ALL_Pivot_new!F:F) -> 6600 | E37: =SUMIF(ALL_Pivot_new!B:B,C:C,ALL_Pivot_new!G:G) -> 5940 | F37: =SUMIF(ALL_Pivot_new!B:B,C:C,ALL_Pivot_new!H:H) -> 660 | G37: =SUMIF(ALL_Pivot_new!B:B,C:C,ALL_Pivot_new!I:I) -> 5400 | H37: =SUMIF(ALL_Pivot_new!B:B,C:C,ALL_Pivot_new!J:J) -> 675 | I37: =SUMIF(ALL_Pivot_new!B:B,C:C,ALL_Pivot_new!K:K) -> 4725 | J37: =SUMIF(ALL_Pivot_new!B:B,C:C,ALL_Pivot_new!L:L) -> 4282 | K37: =SUMIF(ALL_Pivot_new!B:B,C:C,ALL_Pivot_new!M:M) -> 443 | L37: =SUMIF(ALL_Pivot_new!B:B,C:C,ALL_Pivot_new!N:N) -> 540 | M37: =J37/I37 -> 0.90624339 | N37: =SUMIF(ALL_Pivot_new!B:B,C:C,ALL_Pivot_new!O:O) -> 4282 | O37: =N37/I37 -> 0.90624339 | P37: =H37/G37 -> 0.125 | Q37: =N37*P37 -> 535.25 | R37: =N37+Q37 -> 4817.25
A38: =VLOOKUP(C:C,ALL_Pivot_new!B:D,2,FALSE) -> RDC | B38: =VLOOKUP(C:C,ALL_Pivot_new!B:D,3,FALSE) -> VNX | C38: GBOKC001N1737 | D38: =SUMIF(ALL_Pivot_new!B:B,C:C,ALL_Pivot_new!F:F) -> 922300 | E38: =SUMIF(ALL_Pivot_new!B:B,C:C,ALL_Pivot_new!G:G) -> 838454.76 | F38: =SUMIF(ALL_Pivot_new!B:B,C:C,ALL_Pivot_new!H:H) -> 83845.239 | G38: =SUMIF(ALL_Pivot_new!B:B,C:C,ALL_Pivot_new!I:I) -> 769906 | H38: =SUMIF(ALL_Pivot_new!B:B,C:C,ALL_Pivot_new!J:J) -> 322099 | I38: =SUMIF(ALL_Pivot_new!B:B,C:C,ALL_Pivot_new!K:K) -> 447807 | J38: =SUMIF(ALL_Pivot_new!B:B,C:C,ALL_Pivot_new!L:L) -> 429728 | K38: =SUMIF(ALL_Pivot_new!B:B,C:C,ALL_Pivot_new!M:M) -> 18079 | L38: =SUMIF(ALL_Pivot_new!B:B,C:C,ALL_Pivot_new!N:N) -> 0 | M38: =J38/I38 -> 0.9596277 | N38: =SUMIF(ALL_Pivot_new!B:B,C:C,ALL_Pivot_new!O:O) -> 429728 | O38: =N38/I38 -> 0.9596277 | P38: =H38/G38 -> 0.41836146 | Q38: =N38*P38 -> 179781.63 | R38: =N38+Q38 -> 609509.63
A39: =VLOOKUP(C:C,ALL_Pivot_new!B:D,2,FALSE) -> RDC | B39: =VLOOKUP(C:C,ALL_Pivot_new!B:D,3,FALSE) -> VNX | C39: GBOKC002N0390 | D39: =SUMIF(ALL_Pivot_new!B:B,C:C,ALL_Pivot_new!F:F) -> 922300 | E39: =SUMIF(ALL_Pivot_new!B:B,C:C,ALL_Pivot_new!G:G) -> 838454.76 | F39: =SUMIF(ALL_Pivot_new!B:B,C:C,ALL_Pivot_new!H:H) -> 83845.239 | G39: =SUMIF(ALL_Pivot_new!B:B,C:C,ALL_Pivot_new!I:I) -> 769906 | H39: =SUMIF(ALL_Pivot_new!B:B,C:C,ALL_Pivot_new!J:J) -> 322099 | I39: =SUMIF(ALL_Pivot_new!B:B,C:C,ALL_Pivot_new!K:K) -> 447807 | J39: =SUMIF(ALL_Pivot_new!B:B,C:C,ALL_Pivot_new!L:L) -> 429728 | K39: =SUMIF(ALL_Pivot_new!B:B,C:C,ALL_Pivot_new!M:M) -> 18079 | L39: =SUMIF(ALL_Pivot_new!B:B,C:C,ALL_Pivot_new!N:N) -> 0 | M39: =J39/I39 -> 0.9596277 | N39: =SUMIF(ALL_Pivot_new!B:B,C:C,ALL_Pivot_new!O:O) -> 429728 | O39: =N39/I39 -> 0.9596277 | P39: =H39/G39 -> 0.41836146 | Q39: =N39*P39 -> 179781.63 | R39: =N39+Q39 -> 609509.63
A40: =VLOOKUP(C:C,ALL_Pivot_new!B:D,2,FALSE) -> FDC | B40: =VLOOKUP(C:C,ALL_Pivot_new!B:D,3,FALSE) -> VNX | C40: DEOLC001N0374 | D40: =SUMIF(ALL_Pivot_new!B:B,C:C,ALL_Pivot_new!F:F) -> 583722.2 | E40: =SUMIF(ALL_Pivot_new!B:B,C:C,ALL_Pivot_new!G:G) -> 530656.54 | F40: =SUMIF(ALL_Pivot_new!B:B,C:C,ALL_Pivot_new!H:H) -> 53065.654 | G40: =SUMIF(ALL_Pivot_new!B:B,C:C,ALL_Pivot_new!I:I) -> 436644.25 | H40: =SUMIF(ALL_Pivot_new!B:B,C:C,ALL_Pivot_new!J:J) -> 177936.25 | I40: =SUMIF(ALL_Pivot_new!B:B,C:C,ALL_Pivot_new!K:K) -> 258708 | J40: =SUMIF(ALL_Pivot_new!B:B,C:C,ALL_Pivot_new!L:L) -> 226561 | K40: =SUMIF(ALL_Pivot_new!B:B,C:C,ALL_Pivot_new!M:M) -> 32147 | L40: =SUMIF(ALL_Pivot_new!B:B,C:C,ALL_Pivot_new!N:N) -> 0 | M40: =J40/I40 -> 0.87574022 | N40: =SUMIF(ALL_Pivot_new!B:B,C:C,ALL_Pivot_new!O:O) -> 226561 | O40: =N40/I40 -> 0.87574022 | P40: =H40/G40 -> 0.40750852 | Q40: =N40*P40 -> 92325.537 | R40: =N40+Q40 -> 318886.54
A41: =VLOOKUP(C:C,ALL_Pivot_new!B:D,2,FALSE) -> FDC | B41: =VLOOKUP(C:C,ALL_Pivot_new!B:D,3,FALSE) -> VNX | C41: DEOLC002N0375 | D41: =SUMIF(ALL_Pivot_new!B:B,C:C,ALL_Pivot_new!F:F) -> 472031.98 | E41: =SUMIF(ALL_Pivot_new!B:B,C:C,ALL_Pivot_new!G:G) -> 429119.99 | F41: =SUMIF(ALL_Pivot_new!B:B,C:C,ALL_Pivot_new!H:H) -> 42911.999 | G41: =SUMIF(ALL_Pivot_new!B:B,C:C,ALL_Pivot_new!I:I) -> 293078.14 | H41: =SUMIF(ALL_Pivot_new!B:B,C:C,ALL_Pivot_new!J:J) -> 80331.139 | I41: =SUMIF(ALL_Pivot_new!B:B,C:C,ALL_Pivot_new!K:K) -> 212747 | J41: =SUMIF(ALL_Pivot_new!B:B,C:C,ALL_Pivot_new!L:L) -> 178168 | K41: =SUMIF(ALL_Pivot_new!B:B,C:C,ALL_Pivot_new!M:M) -> 34579 | L41: =SUMIF(ALL_Pivot_new!B:B,C:C,ALL_Pivot_new!N:N) -> 0 | M41: =J41/I41 -> 0.83746422 | N41: =SUMIF(ALL_Pivot_new!B:B,C:C,ALL_Pivot_new!O:O) -> 178168 | O41: =N41/I41 -> 0.83746422 | P41: =H41/G41 -> 0.27409461 | Q41: =N41*P41 -> 48834.889 | R41: =N41+Q41 -> 227002.89
A42: =VLOOKUP(C:C,ALL_Pivot_new!B:D,2,FALSE) -> FDC | B42: =VLOOKUP(C:C,ALL_Pivot_new!B:D,3,FALSE) -> DMX | C42: 5349 | D42: =SUMIF(ALL_Pivot_new!B:B,C:C,ALL_Pivot_new!F:F) -> 25193.97 | E42: =SUMIF(ALL_Pivot_new!B:B,C:C,ALL_Pivot_new!G:G) -> 22903.609 | F42: =SUMIF(ALL_Pivot_new!B:B,C:C,ALL_Pivot_new!H:H) -> 2290.3609 | G42: =SUMIF(ALL_Pivot_new!B:B,C:C,ALL_Pivot_new!I:I) -> 20426.211 | H42: =SUMIF(ALL_Pivot_new!B:B,C:C,ALL_Pivot_new!J:J) -> 2553.2764 | I42: =SUMIF(ALL_Pivot_new!B:B,C:C,ALL_Pivot_new!K:K) -> 17872.935 | J42: =SUMIF(ALL_Pivot_new!B:B,C:C,ALL_Pivot_new!L:L) -> 10018.175 | K42: =SUMIF(ALL_Pivot_new!B:B,C:C,ALL_Pivot_new!M:M) -> 7854.7598 | L42: =SUMIF(ALL_Pivot_new!B:B,C:C,ALL_Pivot_new!N:N) -> 2477.3984 | M42: =J42/I42 -> 0.5605221 | N42: =SUMIF(ALL_Pivot_new!B:B,C:C,ALL_Pivot_new!O:O) -> 10018.175 | O42: =N42/I42 -> 0.5605221 | P42: =H42/G42 -> 0.125 | Q42: =N42*P42 -> 1252.2719 | R42: =N42+Q42 -> 11270.447
A43: =VLOOKUP(C:C,ALL_Pivot_new!B:D,2,FALSE) -> RDC | B43: =VLOOKUP(C:C,ALL_Pivot_new!B:D,3,FALSE) -> DMX | C43: 5373 | D43: =SUMIF(ALL_Pivot_new!B:B,C:C,ALL_Pivot_new!F:F) -> 68850 | E43: =SUMIF(ALL_Pivot_new!B:B,C:C,ALL_Pivot_new!G:G) -> 63533.6 | F43: =SUMIF(ALL_Pivot_new!B:B,C:C,ALL_Pivot_new!H:H) -> 5316.4 | G43: =SUMIF(ALL_Pivot_new!B:B,C:C,ALL_Pivot_new!I:I) -> 60211.52 | H43: =SUMIF(ALL_Pivot_new!B:B,C:C,ALL_Pivot_new!J:J) -> 7526.44 | I43: =SUMIF(ALL_Pivot_new!B:B,C:C,ALL_Pivot_new!K:K) -> 52685.08 | J43: =SUMIF(ALL_Pivot_new!B:B,C:C,ALL_Pivot_new!L:L) -> 1943.0361 | K43: =SUMIF(ALL_Pivot_new!B:B,C:C,ALL_Pivot_new!M:M) -> 50742.044 | L43: =SUMIF(ALL_Pivot_new!B:B,C:C,ALL_Pivot_new!N:N) -> 3322.08 | M43: =J43/I43 -> 0.036880197 | N43: =SUMIF(ALL_Pivot_new!B:B,C:C,ALL_Pivot_new!O:O) -> 3886.0723 | O43: =N43/I43 -> 0.073760394 | P43: =H43/G43 -> 0.125 | Q43: =N43*P43 -> 485.75903 | R43: =N43+Q43 -> 4371.8313
A44: =VLOOKUP(C:C,ALL_Pivot_new!B:D,2,FALSE) -> CGC | B44: =VLOOKUP(C:C,ALL_Pivot_new!B:D,3,FALSE) -> Vmax | C44: 0623 | D44: =SUMIF(ALL_Pivot_new!B:B,C:C,ALL_Pivot_new!F:F) -> 340268 | E44: =SUMIF(ALL_Pivot_new!B:B,C:C,ALL_Pivot_new!G:G) -> 304207.17 | F44: =SUMIF(ALL_Pivot_new!B:B,C:C,ALL_Pivot_new!H:H) -> 36060.828 | G44: =SUMIF(ALL_Pivot_new!B:B,C:C,ALL_Pivot_new!I:I) -> 285733.97 | H44: =SUMIF(ALL_Pivot_new!B:B,C:C,ALL_Pivot_new!J:J) -> 35716.746 | I44: =SUMIF(ALL_Pivot_new!B:B,C:C,ALL_Pivot_new!K:K) -> 250017.22 | J44: =SUMIF(ALL_Pivot_new!B:B,C:C,ALL_Pivot_new!L:L) -> 18007.641 | K44: =SUMIF(ALL_Pivot_new!B:B,C:C,ALL_Pivot_new!M:M) -> 232009.58 | L44: =SUMIF(ALL_Pivot_new!B:B,C:C,ALL_Pivot_new!N:N) -> 8209.5469 | M44: =J44/I44 -> 0.0720256 | N44: =SUMIF(ALL_Pivot_new!B:B,C:C,ALL_Pivot_new!O:O) -> 25322.4 | O44: =N44/I44 -> 0.10128262 | P44: =H44/G44 -> 0.125 | Q44: =N44*P44 -> 3165.3 | R44: =N44+Q44 -> 28487.7
A45: =VLOOKUP(C:C,ALL_Pivot_new!B:D,2,FALSE) -> RDC | B45: =VLOOKUP(C:C,ALL_Pivot_new!B:D,3,FALSE) -> Vmax | C45: 0678 | D45: =SUMIF(ALL_Pivot_new!B:B,C:C,ALL_Pivot_new!F:F) -> 243000 | E45: =SUMIF(ALL_Pivot_new!B:B,C:C,ALL_Pivot_new!G:G) -> 220804.1 | F45: =SUMIF(ALL_Pivot_new!B:B,C:C,ALL_Pivot_new!H:H) -> 22195.898 | G45: =SUMIF(ALL_Pivot_new!B:B,C:C,ALL_Pivot_new!I:I) -> 207997.4 | H45: =SUMIF(ALL_Pivot_new!B:B,C:C,ALL_Pivot_new!J:J) -> 25999.675 | I45: =SUMIF(ALL_Pivot_new!B:B,C:C,ALL_Pivot_new!K:K) -> 181997.73 | J45: =SUMIF(ALL_Pivot_new!B:B,C:C,ALL_Pivot_new!L:L) -> 103227.91 | K45: =SUMIF(ALL_Pivot_new!B:B,C:C,ALL_Pivot_new!M:M) -> 78769.82 | L45: =SUMIF(ALL_Pivot_new!B:B,C:C,ALL_Pivot_new!N:N) -> 4906.7578 | M45: =J45/I45 -> 0.56719338 | N45: =SUMIF(ALL_Pivot_new!B:B,C:C,ALL_Pivot_new!O:O) -> 94562.4 | O45: =N45/I45 -> 0.51958012 | P45: =H45/G45 -> 0.125 | Q45: =N45*P45 -> 11820.3 | R45: =N45+Q45 -> 106382.7
A46: =VLOOKUP(C:C,ALL_Pivot_new!B:D,2,FALSE) -> FDC | B46: =VLOOKUP(C:C,ALL_Pivot_new!B:D,3,FALSE) -> Vmax | C46: 0879 | D46: =SUMIF(ALL_Pivot_new!B:B,C:C,ALL_Pivot_new!F:F) -> 257400 | E46: =SUMIF(ALL_Pivot_new!B:B,C:C,ALL_Pivot_new!G:G) -> 233888.79 | F46: =SUMIF(ALL_Pivot_new!B:B,C:C,ALL_Pivot_new!H:H) -> 23511.211 | G46: =SUMIF(ALL_Pivot_new!B:B,C:C,ALL_Pivot_new!I:I) -> 220603.44 | H46: =SUMIF(ALL_Pivot_new!B:B,C:C,ALL_Pivot_new!J:J) -> 27575.43 | I46: =SUMIF(ALL_Pivot_new!B:B,C:C,ALL_Pivot_new!K:K) -> 193028.01 | J46: =SUMIF(ALL_Pivot_new!B:B,C:C,ALL_Pivot_new!L:L) -> 25918.98 | K46: =SUMIF(ALL_Pivot_new!B:B,C:C,ALL_Pivot_new!M:M) -> 167109.03 | L46: =SUMIF(ALL_Pivot_new!B:B,C:C,ALL_Pivot_new!N:N) -> 4906.7578 | M46: =J46/I46 -> 0.13427575 | N46: =SUMIF(ALL_Pivot_new!B:B,C:C,ALL_Pivot_new!O:O) -> 72666.1 | O46: =N46/I46 -> 0.37645365 | P46: =H46/G46 -> 0.125 | Q46: =N46*P46 -> 9083.2625 | R46: =N46+Q46 -> 81749.363
B47: Total | D47: =SUM(D2:D46) -> 15511858 | E47: =SUM(E2:E46) -> 14177217 | F47: =SUM(F2:F46) -> 1334641.5 | G47: =SUM(G2:G46) -> 12932859 | H47: =SUM(H2:H46) -> 4618465.7 | I47: =SUM(I2:I46) -> 8314392.9 | J47: =SUM(J2:J46) -> 4722798.9 | K47: =SUM(K2:K46) -> 3591594 | L47: =SUM(L2:L46) -> 309896.2 | M47: =J47/I47 -> 0.56802691 | N47: =SUM(N2:N46) -> 6783510.2 | O47: =N47/I47 -> 0.81587558 | P47: =H47/G47 -> 0.35711097 | Q47: =N47*P47 -> 2422465.9 | R47: =N47+Q47 -> 9205976.1
B48: TotalTB | D48: =D47/1024 -> 15148.299 | E48: =E47/1024 -> 13844.938 | F48: =F47/1024 -> 1303.3608 | G48: =G47/1024 -> 12629.745 | H48: =H47/1024 -> 4510.2204 | I48: =I47/1024 -> 8119.5243 | J48: =J47/1024 -> 4612.1083 | K48: =K47/1024 -> 3507.4161 | L48: =L47/1024 -> 302.63301 | M48: =J48/I48 -> 0.56802691 | N48: =N47/1024 -> 6624.5216 | O48: =N48/I48 -> 0.81587558 | P48: =H48/G48 -> 0.35711097 | Q48: =Q47/1024 -> 2365.6894 | R48: =R47/1024 -> 8990.211
B49: TotalPB | D49: =D48/1024 -> 14.793261 | E49: =E48/1024 -> 13.520447 | F49: =F48/1024 -> 1.2728133 | G49: =G48/1024 -> 12.333735 | H49: =H48/1024 -> 4.4045121 | I49: =I48/1024 -> 7.929223 | J49: =J48/1024 -> 4.504012 | K49: =K48/1024 -> 3.425211 | L49: =L48/1024 -> 0.29554005 | M49: =J49/I49 -> 0.56802691 | N49: =N48/1024 -> 6.4692594 | O49: =N49/I49 -> 0.81587558 | P49: =H49/G49 -> 0.35711097 | Q49: =Q48/1024 -> 2.3102435 | R49: =R48/1024 -> 8.7795029
A55: Loc | B55: Type | C55: Array | D55: Market Standard | E55: Formatted | F55: format Lost | G55: Physical total | H55: Parity Lost | I55: Pool Usable | J55: Pool Used | K55: Pool Free | L55: Spare | M55: %Used | N55: Host Allocations | O55: %Allocated | P55: %Parity | Q55: ParityGB | R55: Allocated RAW
A56: =VLOOKUP(C:C,ALL_Pivot_new!B:D,2,FALSE) -> RDC | B56: =VLOOKUP(C:C,ALL_Pivot_new!B:D,3,FALSE) -> Vmax | C56: 0347 | D56: =SUMIF(ALL_Pivot_new!B:B,C:C,ALL_Pivot_new!F:F) -> 588456 | E56: =SUMIF(ALL_Pivot_new!B:B,C:C,ALL_Pivot_new!G:G) -> 535316.42 | F56: =SUMIF(ALL_Pivot_new!B:B,C:C,ALL_Pivot_new!H:H) -> 53139.582 | G56: =SUMIF(ALL_Pivot_new!B:B,C:C,ALL_Pivot_new!I:I) -> 354223.61 | H56: =SUMIF(ALL_Pivot_new!B:B,C:C,ALL_Pivot_new!J:J) -> 130153.4 | I56: =SUMIF(ALL_Pivot_new!B:B,C:C,ALL_Pivot_new!K:K) -> 224070.22 | J56: =SUMIF(ALL_Pivot_new!B:B,C:C,ALL_Pivot_new!L:L) -> 103721.79 | K56: =SUMIF(ALL_Pivot_new!B:B,C:C,ALL_Pivot_new!M:M) -> 120348.42 | L56: =SUMIF(ALL_Pivot_new!B:B,C:C,ALL_Pivot_new!N:N) -> 10868.48 | M56: =J56/I56 -> 0.46289861 | N56: =SUMIF(ALL_Pivot_new!B:B,C:C,ALL_Pivot_new!O:O) -> 189680 | O56: =N56/I56 -> 0.84652036 | P56: =H56/G56 -> 0.36743287 | Q56: =N56*P56 -> 69694.666 | R56: =N56+Q56 -> 259374.67
A57: =VLOOKUP(C:C,ALL_Pivot_new!B:D,2,FALSE) -> FDC | B57: =VLOOKUP(C:C,ALL_Pivot_new!B:D,3,FALSE) -> Vmax | C57: 0349 | D57: =SUMIF(ALL_Pivot_new!B:B,C:C,ALL_Pivot_new!F:F) -> 588456 | E57: =SUMIF(ALL_Pivot_new!B:B,C:C,ALL_Pivot_new!G:G) -> 535316.42 | F57: =SUMIF(ALL_Pivot_new!B:B,C:C,ALL_Pivot_new!H:H) -> 53139.582 | G57: =SUMIF(ALL_Pivot_new!B:B,C:C,ALL_Pivot_new!I:I) -> 427723.02 | H57: =SUMIF(ALL_Pivot_new!B:B,C:C,ALL_Pivot_new!J:J) -> 165435.64 | I57: =SUMIF(ALL_Pivot_new!B:B,C:C,ALL_Pivot_new!K:K) -> 262287.38 | J57: =SUMIF(ALL_Pivot_new!B:B,C:C,ALL_Pivot_new!L:L) -> 172491.32 | K57: =SUMIF(ALL_Pivot_new!B:B,C:C,ALL_Pivot_new!M:M) -> 89796.051 | L57: =SUMIF(ALL_Pivot_new!B:B,C:C,ALL_Pivot_new!N:N) -> 10868.48 | M57: =J57/I57 -> 0.6576425 | N57: =SUMIF(ALL_Pivot_new!B:B,C:C,ALL_Pivot_new!O:O) -> 294710 | O57: =N57/I57 -> 1.1236149 | P57: =H57/G57 -> 0.38678218 | Q57: =N57*P57 -> 113988.58 | R57: =N57+Q57 -> 408698.58
A58: =VLOOKUP(C:C,ALL_Pivot_new!B:D,2,FALSE) -> FDC | B58: =VLOOKUP(C:C,ALL_Pivot_new!B:D,3,FALSE) -> Vmax | C58: 2804 | D58: =SUMIF(ALL_Pivot_new!B:B,C:C,ALL_Pivot_new!F:F) -> 118400 | E58: =SUMIF(ALL_Pivot_new!B:B,C:C,ALL_Pivot_new!G:G) -> 107740.89 | F58: =SUMIF(ALL_Pivot_new!B:B,C:C,ALL_Pivot_new!H:H) -> 10659.113 | G58: =SUMIF(ALL_Pivot_new!B:B,C:C,ALL_Pivot_new!I:I) -> 95168.675 | H58: =SUMIF(ALL_Pivot_new!B:B,C:C,ALL_Pivot_new!J:J) -> 12130.234 | I58: =SUMIF(ALL_Pivot_new!B:B,C:C,ALL_Pivot_new!K:K) -> 83038.44 | J58: =SUMIF(ALL_Pivot_new!B:B,C:C,ALL_Pivot_new!L:L) -> 59851.012 | K58: =SUMIF(ALL_Pivot_new!B:B,C:C,ALL_Pivot_new!M:M) -> 23187.429 | L58: =SUMIF(ALL_Pivot_new!B:B,C:C,ALL_Pivot_new!N:N) -> 3643.793 | M58: =J58/I58 -> 0.72076272 | N58: =SUMIF(ALL_Pivot_new!B:B,C:C,ALL_Pivot_new!O:O) -> 108532 | O58: =N58/I58 -> 1.3070091 | P58: =H58/G58 -> 0.12746037 | Q58: =N58*P58 -> 13833.529 | R58: =N58+Q58 -> 122365.53
A59: =VLOOKUP(C:C,ALL_Pivot_new!B:D,2,FALSE) -> FDC | B59: =VLOOKUP(C:C,ALL_Pivot_new!B:D,3,FALSE) -> Vmax | C59: 3004 | D59: =SUMIF(ALL_Pivot_new!B:B,C:C,ALL_Pivot_new!F:F) -> 597408 | E59: =SUMIF(ALL_Pivot_new!B:B,C:C,ALL_Pivot_new!G:G) -> 527587.59 | F59: =SUMIF(ALL_Pivot_new!B:B,C:C,ALL_Pivot_new!H:H) -> 69820.406 | G59: =SUMIF(ALL_Pivot_new!B:B,C:C,ALL_Pivot_new!I:I) -> 500822.19 | H59: =SUMIF(ALL_Pivot_new!B:B,C:C,ALL_Pivot_new!J:J) -> 62602.774 | I59: =SUMIF(ALL_Pivot_new!B:B,C:C,ALL_Pivot_new!K:K) -> 438219.42 | J59: =SUMIF(ALL_Pivot_new!B:B,C:C,ALL_Pivot_new!L:L) -> 211688.28 | K59: =SUMIF(ALL_Pivot_new!B:B,C:C,ALL_Pivot_new!M:M) -> 226531.14 | L59: =SUMIF(ALL_Pivot_new!B:B,C:C,ALL_Pivot_new!N:N) -> 10767.094 | M59: =J59/I59 -> 0.48306457 | N59: =SUMIF(ALL_Pivot_new!B:B,C:C,ALL_Pivot_new!O:O) -> 374596 | O59: =N59/I59 -> 0.85481378 | P59: =H59/G59 -> 0.125 | Q59: =N59*P59 -> 46824.5 | R59: =N59+Q59 -> 421420.5
A60: =VLOOKUP(C:C,ALL_Pivot_new!B:D,2,FALSE) -> RDC | B60: =VLOOKUP(C:C,ALL_Pivot_new!B:D,3,FALSE) -> Vmax | C60: 3073 | D60: =SUMIF(ALL_Pivot_new!B:B,C:C,ALL_Pivot_new!F:F) -> 531872 | E60: =SUMIF(ALL_Pivot_new!B:B,C:C,ALL_Pivot_new!G:G) -> 470601.19 | F60: =SUMIF(ALL_Pivot_new!B:B,C:C,ALL_Pivot_new!H:H) -> 61270.812 | G60: =SUMIF(ALL_Pivot_new!B:B,C:C,ALL_Pivot_new!I:I) -> 445146.03 | H60: =SUMIF(ALL_Pivot_new!B:B,C:C,ALL_Pivot_new!J:J) -> 55643.254 | I60: =SUMIF(ALL_Pivot_new!B:B,C:C,ALL_Pivot_new!K:K) -> 389502.78 | J60: =SUMIF(ALL_Pivot_new!B:B,C:C,ALL_Pivot_new!L:L) -> 215487.47 | K60: =SUMIF(ALL_Pivot_new!B:B,C:C,ALL_Pivot_new!M:M) -> 174015.3 | L60: =SUMIF(ALL_Pivot_new!B:B,C:C,ALL_Pivot_new!N:N) -> 10767.094 | M60: =J60/I60 -> 0.55323733 | N60: =SUMIF(ALL_Pivot_new!B:B,C:C,ALL_Pivot_new!O:O) -> 327291 | O60: =N60/I60 -> 0.84027899 | P60: =H60/G60 -> 0.125 | Q60: =N60*P60 -> 40911.375 | R60: =N60+Q60 -> 368202.38
A61: =VLOOKUP(C:C,ALL_Pivot_new!B:D,2,FALSE) -> RDC | B61: =VLOOKUP(C:C,ALL_Pivot_new!B:D,3,FALSE) -> Vmax | C61: 3286 | D61: =SUMIF(ALL_Pivot_new!B:B,C:C,ALL_Pivot_new!F:F) -> 227300 | E61: =SUMIF(ALL_Pivot_new!B:B,C:C,ALL_Pivot_new!G:G) -> 206693.84 | F61: =SUMIF(ALL_Pivot_new!B:B,C:C,ALL_Pivot_new!H:H) -> 20606.164 | G61: =SUMIF(ALL_Pivot_new!B:B,C:C,ALL_Pivot_new!I:I) -> 189713.02 | H61: =SUMIF(ALL_Pivot_new!B:B,C:C,ALL_Pivot_new!J:J) -> 23948.278 | I61: =SUMIF(ALL_Pivot_new!B:B,C:C,ALL_Pivot_new!K:K) -> 165764.74 | J61: =SUMIF(ALL_Pivot_new!B:B,C:C,ALL_Pivot_new!L:L) -> 118754.41 | K61: =SUMIF(ALL_Pivot_new!B:B,C:C,ALL_Pivot_new!M:M) -> 47010.337 | L61: =SUMIF(ALL_Pivot_new!B:B,C:C,ALL_Pivot_new!N:N) -> 4461.5859 | M61: =J61/I61 -> 0.71640328 | N61: =SUMIF(ALL_Pivot_new!B:B,C:C,ALL_Pivot_new!O:O) -> 231128.4 | O61: =N61/I61 -> 1.3943158 | P61: =H61/G61 -> 0.12623423 | Q61: =N61*P61 -> 29176.316 | R61: =N61+Q61 -> 260304.72
A62: =VLOOKUP(C:C,ALL_Pivot_new!B:D,2,FALSE) -> RDC | B62: =VLOOKUP(C:C,ALL_Pivot_new!B:D,3,FALSE) -> Vmax | C62: 3696 | D62: =SUMIF(ALL_Pivot_new!B:B,C:C,ALL_Pivot_new!F:F) -> 227100 | E62: =SUMIF(ALL_Pivot_new!B:B,C:C,ALL_Pivot_new!G:G) -> 206507.53 | F62: =SUMIF(ALL_Pivot_new!B:B,C:C,ALL_Pivot_new!H:H) -> 20592.475 | G62: =SUMIF(ALL_Pivot_new!B:B,C:C,ALL_Pivot_new!I:I) -> 190337.62 | H62: =SUMIF(ALL_Pivot_new!B:B,C:C,ALL_Pivot_new!J:J) -> 24260.578 | I62: =SUMIF(ALL_Pivot_new!B:B,C:C,ALL_Pivot_new!K:K) -> 166077.05 | J62: =SUMIF(ALL_Pivot_new!B:B,C:C,ALL_Pivot_new!L:L) -> 30136.719 | K62: =SUMIF(ALL_Pivot_new!B:B,C:C,ALL_Pivot_new!M:M) -> 135940.33 | L62: =SUMIF(ALL_Pivot_new!B:B,C:C,ALL_Pivot_new!N:N) -> 4275.2754 | M62: =J62/I62 -> 0.18146227 | N62: =SUMIF(ALL_Pivot_new!B:B,C:C,ALL_Pivot_new!O:O) -> 173040.4 | O62: =N62/I62 -> 1.0419284 | P62: =H62/G62 -> 0.12746076 | Q62: =N62*P62 -> 22055.861 | R62: =N62+Q62 -> 195096.26
A63: =VLOOKUP(C:C,ALL_Pivot_new!B:D,2,FALSE) -> FDC | B63: =VLOOKUP(C:C,ALL_Pivot_new!B:D,3,FALSE) -> Vmax | C63: 3875 | D63: =SUMIF(ALL_Pivot_new!B:B,C:C,ALL_Pivot_new!F:F) -> 118400 | E63: =SUMIF(ALL_Pivot_new!B:B,C:C,ALL_Pivot_new!G:G) -> 107740.89 | F63: =SUMIF(ALL_Pivot_new!B:B,C:C,ALL_Pivot_new!H:H) -> 10659.113 | G63: =SUMIF(ALL_Pivot_new!B:B,C:C,ALL_Pivot_new!I:I) -> 95793.317 | H63: =SUMIF(ALL_Pivot_new!B:B,C:C,ALL_Pivot_new!J:J) -> 12442.54 | I63: =SUMIF(ALL_Pivot_new!B:B,C:C,ALL_Pivot_new!K:K) -> 83350.777 | J63: =SUMIF(ALL_Pivot_new!B:B,C:C,ALL_Pivot_new!L:L) -> 16076.605 | K63: =SUMIF(ALL_Pivot_new!B:B,C:C,ALL_Pivot_new!M:M) -> 67274.172 | L63: =SUMIF(ALL_Pivot_new!B:B,C:C,ALL_Pivot_new!N:N) -> 3643.793 | M63: =J63/I63 -> 0.19287889 | N63: =SUMIF(ALL_Pivot_new!B:B,C:C,ALL_Pivot_new!O:O) -> 33121.5 | O63: =N63/I63 -> 0.39737482 | P63: =H63/G63 -> 0.12988943 | Q63: =N63*P63 -> 4302.1329 | R63: =N63+Q63 -> 37423.633
A64: =VLOOKUP(C:C,ALL_Pivot_new!B:D,2,FALSE) -> RDC | B64: =VLOOKUP(C:C,ALL_Pivot_new!B:D,3,FALSE) -> Vmax | C64: 4330 | D64: =SUMIF(ALL_Pivot_new!B:B,C:C,ALL_Pivot_new!F:F) -> 287100 | E64: =SUMIF(ALL_Pivot_new!B:B,C:C,ALL_Pivot_new!G:G) -> 260875.96 | F64: =SUMIF(ALL_Pivot_new!B:B,C:C,ALL_Pivot_new!H:H) -> 26224.043 | G64: =SUMIF(ALL_Pivot_new!B:B,C:C,ALL_Pivot_new!I:I) -> 248032.04 | H64: =SUMIF(ALL_Pivot_new!B:B,C:C,ALL_Pivot_new!J:J) -> 124016.02 | I64: =SUMIF(ALL_Pivot_new!B:B,C:C,ALL_Pivot_new!K:K) -> 124016.02 | J64: =SUMIF(ALL_Pivot_new!B:B,C:C,ALL_Pivot_new!L:L) -> 91360.07 | K64: =SUMIF(ALL_Pivot_new!B:B,C:C,ALL_Pivot_new!M:M) -> 32655.947 | L64: =SUMIF(ALL_Pivot_new!B:B,C:C,ALL_Pivot_new!N:N) -> 5724.5508 | M64: =J64/I64 -> 0.7366796 | N64: =SUMIF(ALL_Pivot_new!B:B,C:C,ALL_Pivot_new!O:O) -> 171812 | O64: =N64/I64 -> 1.3854017 | P64: =H64/G64 -> 0.5 | Q64: =N64*P64 -> 85906 | R64: =N64+Q64 -> 257718
A65: =VLOOKUP(C:C,ALL_Pivot_new!B:D,2,FALSE) -> FDC | B65: =VLOOKUP(C:C,ALL_Pivot_new!B:D,3,FALSE) -> Vmax | C65: 4652 | D65: =SUMIF(ALL_Pivot_new!B:B,C:C,ALL_Pivot_new!F:F) -> 441000 | E65: =SUMIF(ALL_Pivot_new!B:B,C:C,ALL_Pivot_new!G:G) -> 400718.55 | F65: =SUMIF(ALL_Pivot_new!B:B,C:C,ALL_Pivot_new!H:H) -> 40281.445 | G65: =SUMIF(ALL_Pivot_new!B:B,C:C,ALL_Pivot_new!I:I) -> 383226.21 | H65: =SUMIF(ALL_Pivot_new!B:B,C:C,ALL_Pivot_new!J:J) -> 191613.11 | I65: =SUMIF(ALL_Pivot_new!B:B,C:C,ALL_Pivot_new!K:K) -> 191613.11 | J65: =SUMIF(ALL_Pivot_new!B:B,C:C,ALL_Pivot_new!L:L) -> 149523.89 | K65: =SUMIF(ALL_Pivot_new!B:B,C:C,ALL_Pivot_new!M:M) -> 42089.215 | L65: =SUMIF(ALL_Pivot_new!B:B,C:C,ALL_Pivot_new!N:N) -> 8177.9297 | M65: =J65/I65 -> 0.78034271 | N65: =SUMIF(ALL_Pivot_new!B:B,C:C,ALL_Pivot_new!O:O) -> 277419 | O65: =N65/I65 -> 1.4478081 | P65: =H65/G65 -> 0.5 | Q65: =N65*P65 -> 138709.5 | R65: =N65+Q65 -> 416128.5
A66: =VLOOKUP(C:C,ALL_Pivot_new!B:D,2,FALSE) -> FDC | B66: =VLOOKUP(C:C,ALL_Pivot_new!B:D,3,FALSE) -> Vmax | C66: 667 | D66: =SUMIF(ALL_Pivot_new!B:B,C:C,ALL_Pivot_new!F:F) -> 235200 | E66: =SUMIF(ALL_Pivot_new!B:B,C:C,ALL_Pivot_new!G:G) -> 213716.56 | F66: =SUMIF(ALL_Pivot_new!B:B,C:C,ALL_Pivot_new!H:H) -> 21483.438 | G66: =SUMIF(ALL_Pivot_new!B:B,C:C,ALL_Pivot_new!I:I) -> 200645.34 | H66: =SUMIF(ALL_Pivot_new!B:B,C:C,ALL_Pivot_new!J:J) -> 98451.168 | I66: =SUMIF(ALL_Pivot_new!B:B,C:C,ALL_Pivot_new!K:K) -> 102194.17 | J66: =SUMIF(ALL_Pivot_new!B:B,C:C,ALL_Pivot_new!L:L) -> 22019.473 | K66: =SUMIF(ALL_Pivot_new!B:B,C:C,ALL_Pivot_new!M:M) -> 80174.695 | L66: =SUMIF(ALL_Pivot_new!B:B,C:C,ALL_Pivot_new!N:N) -> 4361.5625 | M66: =J66/I66 -> 0.21546702 | N66: =SUMIF(ALL_Pivot_new!B:B,C:C,ALL_Pivot_new!O:O) -> 55807.8 | O66: =N66/I66 -> 0.54609574 | P66: =H66/G66 -> 0.4906726 | Q66: =N66*P66 -> 27383.358 | R66: =N66+Q66 -> 83191.158
A67: =VLOOKUP(C:C,ALL_Pivot_new!B:D,2,FALSE) -> RDC | B67: =VLOOKUP(C:C,ALL_Pivot_new!B:D,3,FALSE) -> Vmax | C67: 671 | D67: =SUMIF(ALL_Pivot_new!B:B,C:C,ALL_Pivot_new!F:F) -> 480000 | E67: =SUMIF(ALL_Pivot_new!B:B,C:C,ALL_Pivot_new!G:G) -> 436156.25 | F67: =SUMIF(ALL_Pivot_new!B:B,C:C,ALL_Pivot_new!H:H) -> 43843.75 | G67: =SUMIF(ALL_Pivot_new!B:B,C:C,ALL_Pivot_new!I:I) -> 415238.64 | H67: =SUMIF(ALL_Pivot_new!B:B,C:C,ALL_Pivot_new!J:J) -> 205747.82 | I67: =SUMIF(ALL_Pivot_new!B:B,C:C,ALL_Pivot_new!K:K) -> 209490.82 | J67: =SUMIF(ALL_Pivot_new!B:B,C:C,ALL_Pivot_new!L:L) -> 44542.258 | K67: =SUMIF(ALL_Pivot_new!B:B,C:C,ALL_Pivot_new!M:M) -> 164948.56 | L67: =SUMIF(ALL_Pivot_new!B:B,C:C,ALL_Pivot_new!N:N) -> 8723.125 | M67: =J67/I67 -> 0.21262153 | N67: =SUMIF(ALL_Pivot_new!B:B,C:C,ALL_Pivot_new!O:O) -> 152240.1 | O67: =N67/I67 -> 0.7267149 | P67: =H67/G67 -> 0.49549295 | Q67: =N67*P67 -> 75433.897 | R67: =N67+Q67 -> 227674
A68: =VLOOKUP(C:C,ALL_Pivot_new!B:D,2,FALSE) -> FDC | B68: =VLOOKUP(C:C,ALL_Pivot_new!B:D,3,FALSE) -> Vmax | C68: 710 | D68: =SUMIF(ALL_Pivot_new!B:B,C:C,ALL_Pivot_new!F:F) -> 480000 | E68: =SUMIF(ALL_Pivot_new!B:B,C:C,ALL_Pivot_new!G:G) -> 436156.25 | F68: =SUMIF(ALL_Pivot_new!B:B,C:C,ALL_Pivot_new!H:H) -> 43843.75 | G68: =SUMIF(ALL_Pivot_new!B:B,C:C,ALL_Pivot_new!I:I) -> 415238.92 | H68: =SUMIF(ALL_Pivot_new!B:B,C:C,ALL_Pivot_new!J:J) -> 205747.96 | I68: =SUMIF(ALL_Pivot_new!B:B,C:C,ALL_Pivot_new!K:K) -> 209490.96 | J68: =SUMIF(ALL_Pivot_new!B:B,C:C,ALL_Pivot_new!L:L) -> 150025.34 | K68: =SUMIF(ALL_Pivot_new!B:B,C:C,ALL_Pivot_new!M:M) -> 59465.617 | L68: =SUMIF(ALL_Pivot_new!B:B,C:C,ALL_Pivot_new!N:N) -> 8723.125 | M68: =J68/I68 -> 0.71614232 | N68: =SUMIF(ALL_Pivot_new!B:B,C:C,ALL_Pivot_new!O:O) -> 244329 | O68: =N68/I68 -> 1.1662985 | P68: =H68/G68 -> 0.49549296 | Q68: =N68*P68 -> 121063.3 | R68: =N68+Q68 -> 365392.3 | T68: GBOKC001N1737
A69: =VLOOKUP(C:C,ALL_Pivot_new!B:D,2,FALSE) -> RDC | B69: =VLOOKUP(C:C,ALL_Pivot_new!B:D,3,FALSE) -> Vmax | C69: 689 | D69: =SUMIF(ALL_Pivot_new!B:B,C:C,ALL_Pivot_new!F:F) -> 235200 | E69: =SUMIF(ALL_Pivot_new!B:B,C:C,ALL_Pivot_new!G:G) -> 213716.56 | F69: =SUMIF(ALL_Pivot_new!B:B,C:C,ALL_Pivot_new!H:H) -> 21483.438 | G69: =SUMIF(ALL_Pivot_new!B:B,C:C,ALL_Pivot_new!I:I) -> 200645.38 | H69: =SUMIF(ALL_Pivot_new!B:B,C:C,ALL_Pivot_new!J:J) -> 98451.188 | I69: =SUMIF(ALL_Pivot_new!B:B,C:C,ALL_Pivot_new!K:K) -> 102194.19 | J69: =SUMIF(ALL_Pivot_new!B:B,C:C,ALL_Pivot_new!L:L) -> 75884.211 | K69: =SUMIF(ALL_Pivot_new!B:B,C:C,ALL_Pivot_new!M:M) -> 26309.977 | L69: =SUMIF(ALL_Pivot_new!B:B,C:C,ALL_Pivot_new!N:N) -> 4361.5625 | M69: =J69/I69 -> 0.74254919 | N69: =SUMIF(ALL_Pivot_new!B:B,C:C,ALL_Pivot_new!O:O) -> 109520 | O69: =N69/I69 -> 1.0716852 | P69: =H69/G69 -> 0.4906726 | Q69: =N69*P69 -> 53738.463 | R69: =N69+Q69 -> 163258.46 | T69: GBOKC002N0390
A70: =VLOOKUP(C:C,ALL_Pivot_new!B:D,2,FALSE) -> FDC | B70: =VLOOKUP(C:C,ALL_Pivot_new!B:D,3,FALSE) -> Vmax | C70: 712 | D70: =SUMIF(ALL_Pivot_new!B:B,C:C,ALL_Pivot_new!F:F) -> 480000 | E70: =SUMIF(ALL_Pivot_new!B:B,C:C,ALL_Pivot_new!G:G) -> 436156.25 | F70: =SUMIF(ALL_Pivot_new!B:B,C:C,ALL_Pivot_new!H:H) -> 43843.75 | G70: =SUMIF(ALL_Pivot_new!B:B,C:C,ALL_Pivot_new!I:I) -> 415238.64 | H70: =SUMIF(ALL_Pivot_new!B:B,C:C,ALL_Pivot_new!J:J) -> 205747.82 | I70: =SUMIF(ALL_Pivot_new!B:B,C:C,ALL_Pivot_new!K:K) -> 209490.82 | J70: =SUMIF(ALL_Pivot_new!B:B,C:C,ALL_Pivot_new!L:L) -> 135018 | K70: =SUMIF(ALL_Pivot_new!B:B,C:C,ALL_Pivot_new!M:M) -> 74472.82 | L70: =SUMIF(ALL_Pivot_new!B:B,C:C,ALL_Pivot_new!N:N) -> 8723.125 | M70: =J70/I70 -> 0.64450557 | N70: =SUMIF(ALL_Pivot_new!B:B,C:C,ALL_Pivot_new!O:O) -> 254516 | O70: =N70/I70 -> 1.2149267 | P70: =H70/G70 -> 0.49549295 | Q70: =N70*P70 -> 126110.88 | R70: =N70+Q70 -> 380626.88 | T70: DEOLC001N0374
A71: =VLOOKUP(C:C,ALL_Pivot_new!B:D,2,FALSE) -> RDC | B71: =VLOOKUP(C:C,ALL_Pivot_new!B:D,3,FALSE) -> Vmax | C71: 706 | D71: =SUMIF(ALL_Pivot_new!B:B,C:C,ALL_Pivot_new!F:F) -> 235200 | E71: =SUMIF(ALL_Pivot_new!B:B,C:C,ALL_Pivot_new!G:G) -> 213716.56 | F71: =SUMIF(ALL_Pivot_new!B:B,C:C,ALL_Pivot_new!H:H) -> 21483.438 | G71: =SUMIF(ALL_Pivot_new!B:B,C:C,ALL_Pivot_new!I:I) -> 200645.15 | H71: =SUMIF(ALL_Pivot_new!B:B,C:C,ALL_Pivot_new!J:J) -> 98451.076 | I71: =SUMIF(ALL_Pivot_new!B:B,C:C,ALL_Pivot_new!K:K) -> 102194.08 | J71: =SUMIF(ALL_Pivot_new!B:B,C:C,ALL_Pivot_new!L:L) -> 70487.531 | K71: =SUMIF(ALL_Pivot_new!B:B,C:C,ALL_Pivot_new!M:M) -> 31706.545 | L71: =SUMIF(ALL_Pivot_new!B:B,C:C,ALL_Pivot_new!N:N) -> 4361.5625 | M71: =J71/I71 -> 0.68974185 | N71: =SUMIF(ALL_Pivot_new!B:B,C:C,ALL_Pivot_new!O:O) -> 127434 | O71: =N71/I71 -> 1.2469803 | P71: =H71/G71 -> 0.49067259 | Q71: =N71*P71 -> 62528.371 | R71: =N71+Q71 -> 189962.37 | T71: DEOLC002N0375
A72: =VLOOKUP(C:C,ALL_Pivot_new!B:D,2,FALSE) -> FDC | B72: =VLOOKUP(C:C,ALL_Pivot_new!B:D,3,FALSE) -> Vmax | C72: 709 | D72: =SUMIF(ALL_Pivot_new!B:B,C:C,ALL_Pivot_new!F:F) -> 587800 | E72: =SUMIF(ALL_Pivot_new!B:B,C:C,ALL_Pivot_new!G:G) -> 541278.67 | F72: =SUMIF(ALL_Pivot_new!B:B,C:C,ALL_Pivot_new!H:H) -> 46521.332 | G72: =SUMIF(ALL_Pivot_new!B:B,C:C,ALL_Pivot_new!I:I) -> 516507.97 | H72: =SUMIF(ALL_Pivot_new!B:B,C:C,ALL_Pivot_new!J:J) -> 187816.4 | I72: =SUMIF(ALL_Pivot_new!B:B,C:C,ALL_Pivot_new!K:K) -> 328691.57 | J72: =SUMIF(ALL_Pivot_new!B:B,C:C,ALL_Pivot_new!L:L) -> 205981.37 | K72: =SUMIF(ALL_Pivot_new!B:B,C:C,ALL_Pivot_new!M:M) -> 122710.2 | L72: =SUMIF(ALL_Pivot_new!B:B,C:C,ALL_Pivot_new!N:N) -> 10868.48 | M72: =J72/I72 -> 0.62667069 | N72: =SUMIF(ALL_Pivot_new!B:B,C:C,ALL_Pivot_new!O:O) -> 323143 | O72: =N72/I72 -> 0.98311922 | P72: =H72/G72 -> 0.3636273 | Q72: =N72*P72 -> 117503.62 | R72: =N72+Q72 -> 440646.62
A73: =VLOOKUP(C:C,ALL_Pivot_new!B:D,2,FALSE) -> RDC | B73: =VLOOKUP(C:C,ALL_Pivot_new!B:D,3,FALSE) -> Vmax | C73: 704 | D73: =SUMIF(ALL_Pivot_new!B:B,C:C,ALL_Pivot_new!F:F) -> 405400 | E73: =SUMIF(ALL_Pivot_new!B:B,C:C,ALL_Pivot_new!G:G) -> 373152.69 | F73: =SUMIF(ALL_Pivot_new!B:B,C:C,ALL_Pivot_new!H:H) -> 32247.312 | G73: =SUMIF(ALL_Pivot_new!B:B,C:C,ALL_Pivot_new!I:I) -> 354223.71 | H73: =SUMIF(ALL_Pivot_new!B:B,C:C,ALL_Pivot_new!J:J) -> 130153.47 | I73: =SUMIF(ALL_Pivot_new!B:B,C:C,ALL_Pivot_new!K:K) -> 224070.24 | J73: =SUMIF(ALL_Pivot_new!B:B,C:C,ALL_Pivot_new!L:L) -> 115441.51 | K73: =SUMIF(ALL_Pivot_new!B:B,C:C,ALL_Pivot_new!M:M) -> 108628.73 | L73: =SUMIF(ALL_Pivot_new!B:B,C:C,ALL_Pivot_new!N:N) -> 7915.0625 | M73: =J73/I73 -> 0.51520232 | N73: =SUMIF(ALL_Pivot_new!B:B,C:C,ALL_Pivot_new!O:O) -> 241478 | O73: =N73/I73 -> 1.0776888 | P73: =H73/G73 -> 0.36743296 | Q73: =N73*P73 -> 88726.977 | R73: =N73+Q73 -> 330204.98
A74: =VLOOKUP(C:C,ALL_Pivot_new!B:D,2,FALSE) -> CGC | B74: =VLOOKUP(C:C,ALL_Pivot_new!B:D,3,FALSE) -> Vmax | C74: 703 | D74: =SUMIF(ALL_Pivot_new!B:B,C:C,ALL_Pivot_new!F:F) -> 405400 | E74: =SUMIF(ALL_Pivot_new!B:B,C:C,ALL_Pivot_new!G:G) -> 373152.69 | F74: =SUMIF(ALL_Pivot_new!B:B,C:C,ALL_Pivot_new!H:H) -> 32247.312 | G74: =SUMIF(ALL_Pivot_new!B:B,C:C,ALL_Pivot_new!I:I) -> 354223.68 | H74: =SUMIF(ALL_Pivot_new!B:B,C:C,ALL_Pivot_new!J:J) -> 130153.43 | I74: =SUMIF(ALL_Pivot_new!B:B,C:C,ALL_Pivot_new!K:K) -> 224070.25 | J74: =SUMIF(ALL_Pivot_new!B:B,C:C,ALL_Pivot_new!L:L) -> 105417.4 | K74: =SUMIF(ALL_Pivot_new!B:B,C:C,ALL_Pivot_new!M:M) -> 118652.85 | L74: =SUMIF(ALL_Pivot_new!B:B,C:C,ALL_Pivot_new!N:N) -> 7915.0625 | M74: =J74/I74 -> 0.47046585 | N74: =SUMIF(ALL_Pivot_new!B:B,C:C,ALL_Pivot_new!O:O) -> 182630 | O74: =N74/I74 -> 0.8150569 | P74: =H74/G74 -> 0.36743289 | Q74: =N74*P74 -> 67104.27 | R74: =N74+Q74 -> 249734.27
A75: =VLOOKUP(C:C,ALL_Pivot_new!B:D,2,FALSE) -> RDC | B75: =VLOOKUP(C:C,ALL_Pivot_new!B:D,3,FALSE) -> Vmax | C75: 688 | D75: =SUMIF(ALL_Pivot_new!B:B,C:C,ALL_Pivot_new!F:F) -> 362400 | E75: =SUMIF(ALL_Pivot_new!B:B,C:C,ALL_Pivot_new!G:G) -> 329297.97 | F75: =SUMIF(ALL_Pivot_new!B:B,C:C,ALL_Pivot_new!H:H) -> 33102.031 | G75: =SUMIF(ALL_Pivot_new!B:B,C:C,ALL_Pivot_new!I:I) -> 312383.52 | H75: =SUMIF(ALL_Pivot_new!B:B,C:C,ALL_Pivot_new!J:J) -> 156191.76 | I75: =SUMIF(ALL_Pivot_new!B:B,C:C,ALL_Pivot_new!K:K) -> 156191.76 | J75: =SUMIF(ALL_Pivot_new!B:B,C:C,ALL_Pivot_new!L:L) -> 40292.566 | K75: =SUMIF(ALL_Pivot_new!B:B,C:C,ALL_Pivot_new!M:M) -> 115899.2 | L75: =SUMIF(ALL_Pivot_new!B:B,C:C,ALL_Pivot_new!N:N) -> 6542.3438 | M75: =J75/I75 -> 0.25796858 | N75: =SUMIF(ALL_Pivot_new!B:B,C:C,ALL_Pivot_new!O:O) -> 55880.3 | O75: =N75/I75 -> 0.35776727 | P75: =H75/G75 -> 0.5 | Q75: =N75*P75 -> 27940.15 | R75: =N75+Q75 -> 83820.45
A76: =VLOOKUP(C:C,ALL_Pivot_new!B:D,2,FALSE) -> CGC | B76: =VLOOKUP(C:C,ALL_Pivot_new!B:D,3,FALSE) -> Vmax | C76: 705 | D76: =SUMIF(ALL_Pivot_new!B:B,C:C,ALL_Pivot_new!F:F) -> 362400 | E76: =SUMIF(ALL_Pivot_new!B:B,C:C,ALL_Pivot_new!G:G) -> 329297.97 | F76: =SUMIF(ALL_Pivot_new!B:B,C:C,ALL_Pivot_new!H:H) -> 33102.031 | G76: =SUMIF(ALL_Pivot_new!B:B,C:C,ALL_Pivot_new!I:I) -> 312383.77 | H76: =SUMIF(ALL_Pivot_new!B:B,C:C,ALL_Pivot_new!J:J) -> 156191.88 | I76: =SUMIF(ALL_Pivot_new!B:B,C:C,ALL_Pivot_new!K:K) -> 156191.88 | J76: =SUMIF(ALL_Pivot_new!B:B,C:C,ALL_Pivot_new!L:L) -> 40268.312 | K76: =SUMIF(ALL_Pivot_new!B:B,C:C,ALL_Pivot_new!M:M) -> 115923.57 | L76: =SUMIF(ALL_Pivot_new!B:B,C:C,ALL_Pivot_new!N:N) -> 6542.3438 | M76: =J76/I76 -> 0.25781309 | N76: =SUMIF(ALL_Pivot_new!B:B,C:C,ALL_Pivot_new!O:O) -> 55866.6 | O76: =N76/I76 -> 0.35767928 | P76: =H76/G76 -> 0.5 | Q76: =N76*P76 -> 27933.3 | R76: =N76+Q76 -> 83799.9 | T76: DEOLI001N1188
A77: =VLOOKUP(C:C,ALL_Pivot_new!B:D,2,FALSE) -> RDC | B77: =VLOOKUP(C:C,ALL_Pivot_new!B:D,3,FALSE) -> Vmax | C77: 699 | D77: =SUMIF(ALL_Pivot_new!B:B,C:C,ALL_Pivot_new!F:F) -> 405400 | E77: =SUMIF(ALL_Pivot_new!B:B,C:C,ALL_Pivot_new!G:G) -> 373152.69 | F77: =SUMIF(ALL_Pivot_new!B:B,C:C,ALL_Pivot_new!H:H) -> 32247.312 | G77: =SUMIF(ALL_Pivot_new!B:B,C:C,ALL_Pivot_new!I:I) -> 354223.7 | H77: =SUMIF(ALL_Pivot_new!B:B,C:C,ALL_Pivot_new!J:J) -> 130153.45 | I77: =SUMIF(ALL_Pivot_new!B:B,C:C,ALL_Pivot_new!K:K) -> 224070.25 | J77: =SUMIF(ALL_Pivot_new!B:B,C:C,ALL_Pivot_new!L:L) -> 78598.721 | K77: =SUMIF(ALL_Pivot_new!B:B,C:C,ALL_Pivot_new!M:M) -> 145471.53 | L77: =SUMIF(ALL_Pivot_new!B:B,C:C,ALL_Pivot_new!N:N) -> 7915.0625 | M77: =J77/I77 -> 0.35077714 | N77: =SUMIF(ALL_Pivot_new!B:B,C:C,ALL_Pivot_new!O:O) -> 171470 | O77: =N77/I77 -> 0.76525107 | P77: =H77/G77 -> 0.36743292 | Q77: =N77*P77 -> 63003.722 | R77: =N77+Q77 -> 234473.72 | T77: GBOKI001N1239
A78: =VLOOKUP(C:C,ALL_Pivot_new!B:D,2,FALSE) -> RDC | B78: =VLOOKUP(C:C,ALL_Pivot_new!B:D,3,FALSE) -> Vmax | C78: 1144 | D78: =SUMIF(ALL_Pivot_new!B:B,C:C,ALL_Pivot_new!F:F) -> 235200 | E78: =SUMIF(ALL_Pivot_new!B:B,C:C,ALL_Pivot_new!G:G) -> 213716.56 | F78: =SUMIF(ALL_Pivot_new!B:B,C:C,ALL_Pivot_new!H:H) -> 21483.438 | G78: =SUMIF(ALL_Pivot_new!B:B,C:C,ALL_Pivot_new!I:I) -> 200645.2 | H78: =SUMIF(ALL_Pivot_new!B:B,C:C,ALL_Pivot_new!J:J) -> 100322.6 | I78: =SUMIF(ALL_Pivot_new!B:B,C:C,ALL_Pivot_new!K:K) -> 100322.6 | J78: =SUMIF(ALL_Pivot_new!B:B,C:C,ALL_Pivot_new!L:L) -> 21904.506 | K78: =SUMIF(ALL_Pivot_new!B:B,C:C,ALL_Pivot_new!M:M) -> 78418.094 | L78: =SUMIF(ALL_Pivot_new!B:B,C:C,ALL_Pivot_new!N:N) -> 4361.5625 | M78: =J78/I78 -> 0.21834069 | N78: =SUMIF(ALL_Pivot_new!B:B,C:C,ALL_Pivot_new!O:O) -> 49951.6 | O78: =N78/I78 -> 0.49790974 | P78: =H78/G78 -> 0.5 | Q78: =N78*P78 -> 24975.8 | R78: =N78+Q78 -> 74927.4
A79: =VLOOKUP(C:C,ALL_Pivot_new!B:D,2,FALSE) -> FDC | B79: =VLOOKUP(C:C,ALL_Pivot_new!B:D,3,FALSE) -> Vmax | C79: 1124 | D79: =SUMIF(ALL_Pivot_new!B:B,C:C,ALL_Pivot_new!F:F) -> 475200 | E79: =SUMIF(ALL_Pivot_new!B:B,C:C,ALL_Pivot_new!G:G) -> 431794.69 | F79: =SUMIF(ALL_Pivot_new!B:B,C:C,ALL_Pivot_new!H:H) -> 43405.312 | G79: =SUMIF(ALL_Pivot_new!B:B,C:C,ALL_Pivot_new!I:I) -> 410947 | H79: =SUMIF(ALL_Pivot_new!B:B,C:C,ALL_Pivot_new!J:J) -> 205473.5 | I79: =SUMIF(ALL_Pivot_new!B:B,C:C,ALL_Pivot_new!K:K) -> 205473.5 | J79: =SUMIF(ALL_Pivot_new!B:B,C:C,ALL_Pivot_new!L:L) -> 36829.062 | K79: =SUMIF(ALL_Pivot_new!B:B,C:C,ALL_Pivot_new!M:M) -> 168644.44 | L79: =SUMIF(ALL_Pivot_new!B:B,C:C,ALL_Pivot_new!N:N) -> 8723.125 | M79: =J79/I79 -> 0.17923996 | N79: =SUMIF(ALL_Pivot_new!B:B,C:C,ALL_Pivot_new!O:O) -> 49778.8 | O79: =N79/I79 -> 0.24226384 | P79: =H79/G79 -> 0.5 | Q79: =N79*P79 -> 24889.4 | R79: =N79+Q79 -> 74668.2
A80: =VLOOKUP(C:C,ALL_Pivot_new!B:D,2,FALSE) -> welle | B80: =VLOOKUP(C:C,ALL_Pivot_new!B:D,3,FALSE) -> Vmax | C80: 877 | D80: =SUMIF(ALL_Pivot_new!B:B,C:C,ALL_Pivot_new!F:F) -> 6600 | E80: =SUMIF(ALL_Pivot_new!B:B,C:C,ALL_Pivot_new!G:G) -> 5940 | F80: =SUMIF(ALL_Pivot_new!B:B,C:C,ALL_Pivot_new!H:H) -> 660 | G80: =SUMIF(ALL_Pivot_new!B:B,C:C,ALL_Pivot_new!I:I) -> 5400 | H80: =SUMIF(ALL_Pivot_new!B:B,C:C,ALL_Pivot_new!J:J) -> 675 | I80: =SUMIF(ALL_Pivot_new!B:B,C:C,ALL_Pivot_new!K:K) -> 4725 | J80: =SUMIF(ALL_Pivot_new!B:B,C:C,ALL_Pivot_new!L:L) -> 4282 | K80: =SUMIF(ALL_Pivot_new!B:B,C:C,ALL_Pivot_new!M:M) -> 443 | L80: =SUMIF(ALL_Pivot_new!B:B,C:C,ALL_Pivot_new!N:N) -> 540 | M80: =J80/I80 -> 0.90624339 | N80: =SUMIF(ALL_Pivot_new!B:B,C:C,ALL_Pivot_new!O:O) -> 4282 | O80: =N80/I80 -> 0.90624339 | P80: =H80/G80 -> 0.125 | Q80: =N80*P80 -> 535.25 | R80: =N80+Q80 -> 4817.25
A81: =VLOOKUP(C:C,ALL_Pivot_new!B:D,2,FALSE) -> CGC | B81: =VLOOKUP(C:C,ALL_Pivot_new!B:D,3,FALSE) -> Vmax | C81: 0623 | D81: =SUMIF(ALL_Pivot_new!B:B,C:C,ALL_Pivot_new!F:F) -> 340268 | E81: =SUMIF(ALL_Pivot_new!B:B,C:C,ALL_Pivot_new!G:G) -> 304207.17 | F81: =SUMIF(ALL_Pivot_new!B:B,C:C,ALL_Pivot_new!H:H) -> 36060.828 | G81: =SUMIF(ALL_Pivot_new!B:B,C:C,ALL_Pivot_new!I:I) -> 285733.97 | H81: =SUMIF(ALL_Pivot_new!B:B,C:C,ALL_Pivot_new!J:J) -> 35716.746 | I81: =SUMIF(ALL_Pivot_new!B:B,C:C,ALL_Pivot_new!K:K) -> 250017.22 | J81: =SUMIF(ALL_Pivot_new!B:B,C:C,ALL_Pivot_new!L:L) -> 18007.641 | K81: =SUMIF(ALL_Pivot_new!B:B,C:C,ALL_Pivot_new!M:M) -> 232009.58 | L81: =SUMIF(ALL_Pivot_new!B:B,C:C,ALL_Pivot_new!N:N) -> 8209.5469 | M81: =J81/I81 -> 0.0720256 | N81: =SUMIF(ALL_Pivot_new!B:B,C:C,ALL_Pivot_new!O:O) -> 25322.4 | O81: =N81/I81 -> 0.10128262 | P81: =H81/G81 -> 0.125 | Q81: =N81*P81 -> 3165.3 | R81: =N81+Q81 -> 28487.7 | T81: 295700713
A82: =VLOOKUP(C:C,ALL_Pivot_new!B:D,2,FALSE) -> RDC | B82: =VLOOKUP(C:C,ALL_Pivot_new!B:D,3,FALSE) -> Vmax | C82: 0678 | D82: =SUMIF(ALL_Pivot_new!B:B,C:C,ALL_Pivot_new!F:F) -> 243000 | E82: =SUMIF(ALL_Pivot_new!B:B,C:C,ALL_Pivot_new!G:G) -> 220804.1 | F82: =SUMIF(ALL_Pivot_new!B:B,C:C,ALL_Pivot_new!H:H) -> 22195.898 | G82: =SUMIF(ALL_Pivot_new!B:B,C:C,ALL_Pivot_new!I:I) -> 207997.4 | H82: =SUMIF(ALL_Pivot_new!B:B,C:C,ALL_Pivot_new!J:J) -> 25999.675 | I82: =SUMIF(ALL_Pivot_new!B:B,C:C,ALL_Pivot_new!K:K) -> 181997.73 | J82: =SUMIF(ALL_Pivot_new!B:B,C:C,ALL_Pivot_new!L:L) -> 103227.91 | K82: =SUMIF(ALL_Pivot_new!B:B,C:C,ALL_Pivot_new!M:M) -> 78769.82 | L82: =SUMIF(ALL_Pivot_new!B:B,C:C,ALL_Pivot_new!N:N) -> 4906.7578 | M82: =J82/I82 -> 0.56719338 | N82: =SUMIF(ALL_Pivot_new!B:B,C:C,ALL_Pivot_new!O:O) -> 94562.4 | O82: =N82/I82 -> 0.51958012 | P82: =H82/G82 -> 0.125 | Q82: =N82*P82 -> 11820.3 | R82: =N82+Q82 -> 106382.7
A83: =VLOOKUP(C:C,ALL_Pivot_new!B:D,2,FALSE) -> FDC | B83: =VLOOKUP(C:C,ALL_Pivot_new!B:D,3,FALSE) -> Vmax | C83: 0879 | D83: =SUMIF(ALL_Pivot_new!B:B,C:C,ALL_Pivot_new!F:F) -> 257400 | E83: =SUMIF(ALL_Pivot_new!B:B,C:C,ALL_Pivot_new!G:G) -> 233888.79 | F83: =SUMIF(ALL_Pivot_new!B:B,C:C,ALL_Pivot_new!H:H) -> 23511.211 | G83: =SUMIF(ALL_Pivot_new!B:B,C:C,ALL_Pivot_new!I:I) -> 220603.44 | H83: =SUMIF(ALL_Pivot_new!B:B,C:C,ALL_Pivot_new!J:J) -> 27575.43 | I83: =SUMIF(ALL_Pivot_new!B:B,C:C,ALL_Pivot_new!K:K) -> 193028.01 | J83: =SUMIF(ALL_Pivot_new!B:B,C:C,ALL_Pivot_new!L:L) -> 25918.98 | K83: =SUMIF(ALL_Pivot_new!B:B,C:C,ALL_Pivot_new!M:M) -> 167109.03 | L83: =SUMIF(ALL_Pivot_new!B:B,C:C,ALL_Pivot_new!N:N) -> 4906.7578 | M83: =J83/I83 -> 0.13427575 | N83: =SUMIF(ALL_Pivot_new!B:B,C:C,ALL_Pivot_new!O:O) -> 72666.1 | O83: =N83/I83 -> 0.37645365 | P83: =H83/G83 -> 0.125 | Q83: =N83*P83 -> 9083.2625 | R83: =N83+Q83 -> 81749.363
A84: =VLOOKUP(C:C,ALL_Pivot_new!B:D,2,FALSE) -> RDC | B84: =VLOOKUP(C:C,ALL_Pivot_new!B:D,3,FALSE) -> VNX | C84: GBOKC001N1737 | D84: =SUMIF(ALL_Pivot_new!B:B,C:C,ALL_Pivot_new!F:F) -> 922300 | E84: =SUMIF(ALL_Pivot_new!B:B,C:C,ALL_Pivot_new!G:G) -> 838454.76 | F84: =SUMIF(ALL_Pivot_new!B:B,C:C,ALL_Pivot_new!H:H) -> 83845.239 | G84: =SUMIF(ALL_Pivot_new!B:B,C:C,ALL_Pivot_new!I:I) -> 769906 | H84: =SUMIF(ALL_Pivot_new!B:B,C:C,ALL_Pivot_new!J:J) -> 322099 | I84: =SUMIF(ALL_Pivot_new!B:B,C:C,ALL_Pivot_new!K:K) -> 447807 | J84: =SUMIF(ALL_Pivot_new!B:B,C:C,ALL_Pivot_new!L:L) -> 429728 | K84: =SUMIF(ALL_Pivot_new!B:B,C:C,ALL_Pivot_new!M:M) -> 18079 | L84: =SUMIF(ALL_Pivot_new!B:B,C:C,ALL_Pivot_new!N:N) -> 0 | M84: =J84/I84 -> 0.9596277 | N84: =SUMIF(ALL_Pivot_new!B:B,C:C,ALL_Pivot_new!O:O) -> 429728 | O84: =N84/I84 -> 0.9596277 | P84: =H84/G84 -> 0.41836146 | Q84: =N84*P84 -> 179781.63 | R84: =N84+Q84 -> 609509.63
A85: =VLOOKUP(C:C,ALL_Pivot_new!B:D,2,FALSE) -> RDC | B85: =VLOOKUP(C:C,ALL_Pivot_new!B:D,3,FALSE) -> VNX | C85: GBOKC002N0390 | D85: =SUMIF(ALL_Pivot_new!B:B,C:C,ALL_Pivot_new!F:F) -> 922300 | E85: =SUMIF(ALL_Pivot_new!B:B,C:C,ALL_Pivot_new!G:G) -> 838454.76 | F85: =SUMIF(ALL_Pivot_new!B:B,C:C,ALL_Pivot_new!H:H) -> 83845.239 | G85: =SUMIF(ALL_Pivot_new!B:B,C:C,ALL_Pivot_new!I:I) -> 769906 | H85: =SUMIF(ALL_Pivot_new!B:B,C:C,ALL_Pivot_new!J:J) -> 322099 | I85: =SUMIF(ALL_Pivot_new!B:B,C:C,ALL_Pivot_new!K:K) -> 447807 | J85: =SUMIF(ALL_Pivot_new!B:B,C:C,ALL_Pivot_new!L:L) -> 429728 | K85: =SUMIF(ALL_Pivot_new!B:B,C:C,ALL_Pivot_new!M:M) -> 18079 | L85: =SUMIF(ALL_Pivot_new!B:B,C:C,ALL_Pivot_new!N:N) -> 0 | M85: =J85/I85 -> 0.9596277 | N85: =SUMIF(ALL_Pivot_new!B:B,C:C,ALL_Pivot_new!O:O) -> 429728 | O85: =N85/I85 -> 0.9596277 | P85: =H85/G85 -> 0.41836146 | Q85: =N85*P85 -> 179781.63 | R85: =N85+Q85 -> 609509.63
A86: =VLOOKUP(C:C,ALL_Pivot_new!B:D,2,FALSE) -> FDC | B86: =VLOOKUP(C:C,ALL_Pivot_new!B:D,3,FALSE) -> VNX | C86: DEOLC001N0374 | D86: =SUMIF(ALL_Pivot_new!B:B,C:C,ALL_Pivot_new!F:F) -> 583722.2 | E86: =SUMIF(ALL_Pivot_new!B:B,C:C,ALL_Pivot_new!G:G) -> 530656.54 | F86: =SUMIF(ALL_Pivot_new!B:B,C:C,ALL_Pivot_new!H:H) -> 53065.654 | G86: =SUMIF(ALL_Pivot_new!B:B,C:C,ALL_Pivot_new!I:I) -> 436644.25 | H86: =SUMIF(ALL_Pivot_new!B:B,C:C,ALL_Pivot_new!J:J) -> 177936.25 | I86: =SUMIF(ALL_Pivot_new!B:B,C:C,ALL_Pivot_new!K:K) -> 258708 | J86: =SUMIF(ALL_Pivot_new!B:B,C:C,ALL_Pivot_new!L:L) -> 226561 | K86: =SUMIF(ALL_Pivot_new!B:B,C:C,ALL_Pivot_new!M:M) -> 32147 | L86: =SUMIF(ALL_Pivot_new!B:B,C:C,ALL_Pivot_new!N:N) -> 0 | M86: =J86/I86 -> 0.87574022 | N86: =SUMIF(ALL_Pivot_new!B:B,C:C,ALL_Pivot_new!O:O) -> 226561 | O86: =N86/I86 -> 0.87574022 | P86: =H86/G86 -> 0.40750852 | Q86: =N86*P86 -> 92325.537 | R86: =N86+Q86 -> 318886.54
A87: =VLOOKUP(C:C,ALL_Pivot_new!B:D,2,FALSE) -> FDC | B87: =VLOOKUP(C:C,ALL_Pivot_new!B:D,3,FALSE) -> VNX | C87: DEOLC002N0375 | D87: =SUMIF(ALL_Pivot_new!B:B,C:C,ALL_Pivot_new!F:F) -> 472031.98 | E87: =SUMIF(ALL_Pivot_new!B:B,C:C,ALL_Pivot_new!G:G) -> 429119.99 | F87: =SUMIF(ALL_Pivot_new!B:B,C:C,ALL_Pivot_new!H:H) -> 42911.999 | G87: =SUMIF(ALL_Pivot_new!B:B,C:C,ALL_Pivot_new!I:I) -> 293078.14 | H87: =SUMIF(ALL_Pivot_new!B:B,C:C,ALL_Pivot_new!J:J) -> 80331.139 | I87: =SUMIF(ALL_Pivot_new!B:B,C:C,ALL_Pivot_new!K:K) -> 212747 | J87: =SUMIF(ALL_Pivot_new!B:B,C:C,ALL_Pivot_new!L:L) -> 178168 | K87: =SUMIF(ALL_Pivot_new!B:B,C:C,ALL_Pivot_new!M:M) -> 34579 | L87: =SUMIF(ALL_Pivot_new!B:B,C:C,ALL_Pivot_new!N:N) -> 0 | M87: =J87/I87 -> 0.83746422 | N87: =SUMIF(ALL_Pivot_new!B:B,C:C,ALL_Pivot_new!O:O) -> 178168 | O87: =N87/I87 -> 0.83746422 | P87: =H87/G87 -> 0.27409461 | Q87: =N87*P87 -> 48834.889 | R87: =N87+Q87 -> 227002.89 | T87: 295700485
A88: =VLOOKUP(C:C,ALL_Pivot_new!B:D,2,FALSE) -> FDC | B88: =VLOOKUP(C:C,ALL_Pivot_new!B:D,3,FALSE) -> XIV | C88: 61188 | D88: =SUMIF(ALL_Pivot_new!B:B,C:C,ALL_Pivot_new!F:F) -> 540000 | E88: =SUMIF(ALL_Pivot_new!B:B,C:C,ALL_Pivot_new!G:G) -> 534615 | F88: =SUMIF(ALL_Pivot_new!B:B,C:C,ALL_Pivot_new!H:H) -> 5385 | G88: =SUMIF(ALL_Pivot_new!B:B,C:C,ALL_Pivot_new!I:I) -> 486785.03 | H88: =SUMIF(ALL_Pivot_new!B:B,C:C,ALL_Pivot_new!J:J) -> 243392.52 | I88: =SUMIF(ALL_Pivot_new!B:B,C:C,ALL_Pivot_new!K:K) -> 243392.52 | J88: =SUMIF(ALL_Pivot_new!B:B,C:C,ALL_Pivot_new!L:L) -> 214069.77 | K88: =SUMIF(ALL_Pivot_new!B:B,C:C,ALL_Pivot_new!M:M) -> 29322.75 | L88: =SUMIF(ALL_Pivot_new!B:B,C:C,ALL_Pivot_new!N:N) -> 44551.25 | M88: =J88/I88 -> 0.87952485 | N88: =SUMIF(ALL_Pivot_new!B:B,C:C,ALL_Pivot_new!O:O) -> 214069.77 | O88: =N88/I88 -> 0.87952485 | P88: =H88/G88 -> 0.5 | Q88: =N88*P88 -> 107034.88 | R88: =N88+Q88 -> 321104.65
A89: =VLOOKUP(C:C,ALL_Pivot_new!B:D,2,FALSE) -> RDC | B89: =VLOOKUP(C:C,ALL_Pivot_new!B:D,3,FALSE) -> XIV | C89: 61239 | D89: =SUMIF(ALL_Pivot_new!B:B,C:C,ALL_Pivot_new!F:F) -> 540000 | E89: =SUMIF(ALL_Pivot_new!B:B,C:C,ALL_Pivot_new!G:G) -> 534615 | F89: =SUMIF(ALL_Pivot_new!B:B,C:C,ALL_Pivot_new!H:H) -> 5385 | G89: =SUMIF(ALL_Pivot_new!B:B,C:C,ALL_Pivot_new!I:I) -> 481966.75 | H89: =SUMIF(ALL_Pivot_new!B:B,C:C,ALL_Pivot_new!J:J) -> 240983.38 | I89: =SUMIF(ALL_Pivot_new!B:B,C:C,ALL_Pivot_new!K:K) -> 240983.38 | J89: =SUMIF(ALL_Pivot_new!B:B,C:C,ALL_Pivot_new!L:L) -> 130093.84 | K89: =SUMIF(ALL_Pivot_new!B:B,C:C,ALL_Pivot_new!M:M) -> 110889.53 | L89: =SUMIF(ALL_Pivot_new!B:B,C:C,ALL_Pivot_new!N:N) -> 44551.25 | M89: =J89/I89 -> 0.53984572 | N89: =SUMIF(ALL_Pivot_new!B:B,C:C,ALL_Pivot_new!O:O) -> 130093.84 | O89: =N89/I89 -> 0.53984572 | P89: =H89/G89 -> 0.5 | Q89: =N89*P89 -> 65046.922 | R89: =N89+Q89 -> 195140.77
B90: Total | D90: =SUM(D56:D89) -> 13937914 | E90: =SUM(E56:E89) -> 12744318 | F90: =SUM(F56:F89) -> 1193596.4 | G90: =SUM(G56:G89) -> 11551397 | H90: =SUM(H56:H89) -> 4388107.5 | I90: =SUM(I56:I89) -> 7163289.9 | J90: =SUM(J56:J89) -> 4071587 | K90: =SUM(K56:K89) -> 3091702.9 | L90: =SUM(L56:L89) -> 280900.74 | M90: =J90/I90 -> 0.56839623 | N90: =SUM(N56:N89) -> 6060557 | O90: =N90/I90 -> 0.84605777 | P90: =H90/G90 -> 0.37987677 | Q90: =N90*P90 -> 2302264.8 | R90: =N90+Q90 -> 8362821.8
B91: TotalTB | D91: =D90/1024 -> 13611.244 | E91: =E90/1024 -> 12445.623 | F91: =F90/1024 -> 1165.6215 | G91: =G90/1024 -> 11280.661 | H91: =H90/1024 -> 4285.2612 | I91: =I90/1024 -> 6995.4003 | J91: =J90/1024 -> 3976.1592 | K91: =K90/1024 -> 3019.2411 | L91: =L90/1024 -> 274.31713 | M91: =J91/I91 -> 0.56839623 | N91: =N90/1024 -> 5918.5127 | O91: =N91/I91 -> 0.84605777 | P91: =H91/G91 -> 0.37987677 | Q91: =Q90/1024 -> 2248.3055 | R91: =R90/1024 -> 8166.8182
B92: TotalPB | D92: =D91/1024 -> 13.292231 | E92: =E91/1024 -> 12.153928 | F92: =F91/1024 -> 1.1383023 | G92: =G91/1024 -> 11.016271 | H92: =H91/1024 -> 4.1848254 | I92: =I91/1024 -> 6.8314456 | J92: =J91/1024 -> 3.8829679 | K92: =K91/1024 -> 2.9484776 | L92: =L91/1024 -> 0.26788783 | M92: =J92/I92 -> 0.56839623 | N92: =N91/1024 -> 5.7797976 | O92: =N92/I92 -> 0.84605777 | P92: =H92/G92 -> 0.37987677 | Q92: =Q91/1024 -> 2.1956108 | R92: =R91/1024 -> 7.9754084
A96: Loc | B96: Type | C96: Array | D96: Market Standard | E96: Formatted | F96: format Lost | G96: Physical total | H96: Parity Lost | I96: Pool Usable | J96: Pool Used | K96: Pool Free | L96: Spare | M96: %Used | N96: Host Allocations | O96: %Allocated | P96: %Parity | Q96: ParityGB | R96: Allocated RAW
A97: =VLOOKUP(C:C,ALL_Pivot_new!B:D,2,FALSE) -> Swiss | B97: =VLOOKUP(C:C,ALL_Pivot_new!B:D,3,FALSE) -> Vmax | C97: 377 | D97: =SUMIF(ALL_Pivot_new!B:B,C:C,ALL_Pivot_new!F:F) -> 46800 | E97: =SUMIF(ALL_Pivot_new!B:B,C:C,ALL_Pivot_new!G:G) -> 42525 | F97: =SUMIF(ALL_Pivot_new!B:B,C:C,ALL_Pivot_new!H:H) -> 4275 | G97: =SUMIF(ALL_Pivot_new!B:B,C:C,ALL_Pivot_new!I:I) -> 37817.714 | H97: =SUMIF(ALL_Pivot_new!B:B,C:C,ALL_Pivot_new!J:J) -> 4727.2143 | I97: =SUMIF(ALL_Pivot_new!B:B,C:C,ALL_Pivot_new!K:K) -> 33090.5 | J97: =SUMIF(ALL_Pivot_new!B:B,C:C,ALL_Pivot_new!L:L) -> 14757.2 | K97: =SUMIF(ALL_Pivot_new!B:B,C:C,ALL_Pivot_new!M:M) -> 18333.3 | L97: =SUMIF(ALL_Pivot_new!B:B,C:C,ALL_Pivot_new!N:N) -> 3271 | M97: =J97/I97 -> 0.44596485 | N97: =SUMIF(ALL_Pivot_new!B:B,C:C,ALL_Pivot_new!O:O) -> 42854.1 | O97: =N97/I97 -> 1.2950575 | P97: =H97/G97 -> 0.125 | Q97: =N97*P97 -> 5356.7625 | R97: =N97+Q97 -> 48210.862
A98: =VLOOKUP(C:C,ALL_Pivot_new!B:D,2,FALSE) -> Swiss | B98: =VLOOKUP(C:C,ALL_Pivot_new!B:D,3,FALSE) -> Vmax | C98: 1383 | D98: =SUMIF(ALL_Pivot_new!B:B,C:C,ALL_Pivot_new!F:F) -> 137400 | E98: =SUMIF(ALL_Pivot_new!B:B,C:C,ALL_Pivot_new!G:G) -> 124849.73 | F98: =SUMIF(ALL_Pivot_new!B:B,C:C,ALL_Pivot_new!H:H) -> 12550.273 | G98: =SUMIF(ALL_Pivot_new!B:B,C:C,ALL_Pivot_new!I:I) -> 119445.8 | H98: =SUMIF(ALL_Pivot_new!B:B,C:C,ALL_Pivot_new!J:J) -> 59722.9 | I98: =SUMIF(ALL_Pivot_new!B:B,C:C,ALL_Pivot_new!K:K) -> 59722.9 | J98: =SUMIF(ALL_Pivot_new!B:B,C:C,ALL_Pivot_new!L:L) -> 19595.9 | K98: =SUMIF(ALL_Pivot_new!B:B,C:C,ALL_Pivot_new!M:M) -> 40127 | L98: =SUMIF(ALL_Pivot_new!B:B,C:C,ALL_Pivot_new!N:N) -> 2725.9766 | M98: =J98/I98 -> 0.32811367 | N98: =SUMIF(ALL_Pivot_new!B:B,C:C,ALL_Pivot_new!O:O) -> 61297.2 | O98: =N98/I98 -> 1.0263601 | P98: =H98/G98 -> 0.5 | Q98: =N98*P98 -> 30648.6 | R98: =N98+Q98 -> 91945.8
A99: =VLOOKUP(C:C,ALL_Pivot_new!B:D,2,FALSE) -> CGC | B99: =VLOOKUP(C:C,ALL_Pivot_new!B:D,3,FALSE) -> HDS | C99: CGCHDS10 | D99: =SUMIF(ALL_Pivot_new!B:B,C:C,ALL_Pivot_new!F:F) -> 102000 | E99: =SUMIF(ALL_Pivot_new!B:B,C:C,ALL_Pivot_new!G:G) -> 92820 | F99: =SUMIF(ALL_Pivot_new!B:B,C:C,ALL_Pivot_new!H:H) -> 9180 | G99: =SUMIF(ALL_Pivot_new!B:B,C:C,ALL_Pivot_new!I:I) -> 85486.606 | H99: =SUMIF(ALL_Pivot_new!B:B,C:C,ALL_Pivot_new!J:J) -> 10685.826 | I99: =SUMIF(ALL_Pivot_new!B:B,C:C,ALL_Pivot_new!K:K) -> 74800.78 | J99: =SUMIF(ALL_Pivot_new!B:B,C:C,ALL_Pivot_new!L:L) -> 63958 | K99: =SUMIF(ALL_Pivot_new!B:B,C:C,ALL_Pivot_new!M:M) -> 10842.78 | L99: =SUMIF(ALL_Pivot_new!B:B,C:C,ALL_Pivot_new!N:N) -> 5460 | M99: =J99/I99 -> 0.85504456 | N99: =SUMIF(ALL_Pivot_new!B:B,C:C,ALL_Pivot_new!O:O) -> 63958 | O99: =N99/I99 -> 0.85504456 | P99: =H99/G99 -> 0.125 | Q99: =N99*P99 -> 7994.75 | R99: =N99+Q99 -> 71952.75
A100: =VLOOKUP(C:C,ALL_Pivot_new!B:D,2,FALSE) -> FDC | B100: =VLOOKUP(C:C,ALL_Pivot_new!B:D,3,FALSE) -> HDS | C100: FDCHDS04 | D100: =SUMIF(ALL_Pivot_new!B:B,C:C,ALL_Pivot_new!F:F) -> 270000 | E100: =SUMIF(ALL_Pivot_new!B:B,C:C,ALL_Pivot_new!G:G) -> 245700 | F100: =SUMIF(ALL_Pivot_new!B:B,C:C,ALL_Pivot_new!H:H) -> 24300 | G100: =SUMIF(ALL_Pivot_new!B:B,C:C,ALL_Pivot_new!I:I) -> 240489.37 | H100: =SUMIF(ALL_Pivot_new!B:B,C:C,ALL_Pivot_new!J:J) -> 30061.171 | I100: =SUMIF(ALL_Pivot_new!B:B,C:C,ALL_Pivot_new!K:K) -> 210428.2 | J100: =SUMIF(ALL_Pivot_new!B:B,C:C,ALL_Pivot_new!L:L) -> 114180.98 | K100: =SUMIF(ALL_Pivot_new!B:B,C:C,ALL_Pivot_new!M:M) -> 96247.22 | L100: =SUMIF(ALL_Pivot_new!B:B,C:C,ALL_Pivot_new!N:N) -> 1092 | M100: =J100/I100 -> 0.54261254 | N100: =SUMIF(ALL_Pivot_new!B:B,C:C,ALL_Pivot_new!O:O) -> 114180.98 | O100: =N100/I100 -> 0.54261254 | P100: =H100/G100 -> 0.125 | Q100: =N100*P100 -> 14272.622 | R100: =N100+Q100 -> 128453.6
A101: =VLOOKUP(C:C,ALL_Pivot_new!B:D,2,FALSE) -> FDC | B101: =VLOOKUP(C:C,ALL_Pivot_new!B:D,3,FALSE) -> HDS | C101: FDCHDS05 | D101: =SUMIF(ALL_Pivot_new!B:B,C:C,ALL_Pivot_new!F:F) -> 260400 | E101: =SUMIF(ALL_Pivot_new!B:B,C:C,ALL_Pivot_new!G:G) -> 236964 | F101: =SUMIF(ALL_Pivot_new!B:B,C:C,ALL_Pivot_new!H:H) -> 23436 | G101: =SUMIF(ALL_Pivot_new!B:B,C:C,ALL_Pivot_new!I:I) -> 231894.87 | H101: =SUMIF(ALL_Pivot_new!B:B,C:C,ALL_Pivot_new!J:J) -> 28986.859 | I101: =SUMIF(ALL_Pivot_new!B:B,C:C,ALL_Pivot_new!K:K) -> 202908.01 | J101: =SUMIF(ALL_Pivot_new!B:B,C:C,ALL_Pivot_new!L:L) -> 124398.34 | K101: =SUMIF(ALL_Pivot_new!B:B,C:C,ALL_Pivot_new!M:M) -> 78509.67 | L101: =SUMIF(ALL_Pivot_new!B:B,C:C,ALL_Pivot_new!N:N) -> 1092 | M101: =J101/I101 -> 0.61307752 | N101: =SUMIF(ALL_Pivot_new!B:B,C:C,ALL_Pivot_new!O:O) -> 124398.34 | O101: =N101/I101 -> 0.61307752 | P101: =H101/G101 -> 0.125 | Q101: =N101*P101 -> 15549.792 | R101: =N101+Q101 -> 139948.13
A102: =VLOOKUP(C:C,ALL_Pivot_new!B:D,2,FALSE) -> RDC | B102: =VLOOKUP(C:C,ALL_Pivot_new!B:D,3,FALSE) -> HDS | C102: RDCHDS10 | D102: =SUMIF(ALL_Pivot_new!B:B,C:C,ALL_Pivot_new!F:F) -> 58800 | E102: =SUMIF(ALL_Pivot_new!B:B,C:C,ALL_Pivot_new!G:G) -> 53508 | F102: =SUMIF(ALL_Pivot_new!B:B,C:C,ALL_Pivot_new!H:H) -> 5292 | G102: =SUMIF(ALL_Pivot_new!B:B,C:C,ALL_Pivot_new!I:I) -> 51533.533 | H102: =SUMIF(ALL_Pivot_new!B:B,C:C,ALL_Pivot_new!J:J) -> 12883.383 | I102: =SUMIF(ALL_Pivot_new!B:B,C:C,ALL_Pivot_new!K:K) -> 38650.15 | J102: =SUMIF(ALL_Pivot_new!B:B,C:C,ALL_Pivot_new!L:L) -> 31157 | K102: =SUMIF(ALL_Pivot_new!B:B,C:C,ALL_Pivot_new!M:M) -> 7493.15 | L102: =SUMIF(ALL_Pivot_new!B:B,C:C,ALL_Pivot_new!N:N) -> 1092 | M102: =J102/I102 -> 0.80612882 | N102: =SUMIF(ALL_Pivot_new!B:B,C:C,ALL_Pivot_new!O:O) -> 31157 | O102: =N102/I102 -> 0.80612882 | P102: =H102/G102 -> 0.25 | Q102: =N102*P102 -> 7789.25 | R102: =N102+Q102 -> 38946.25
A103: =VLOOKUP(C:C,ALL_Pivot_new!B:D,2,FALSE) -> RDC | B103: =VLOOKUP(C:C,ALL_Pivot_new!B:D,3,FALSE) -> HDS | C103: RDCHDS05 | D103: =SUMIF(ALL_Pivot_new!B:B,C:C,ALL_Pivot_new!F:F) -> 324000 | E103: =SUMIF(ALL_Pivot_new!B:B,C:C,ALL_Pivot_new!G:G) -> 294840 | F103: =SUMIF(ALL_Pivot_new!B:B,C:C,ALL_Pivot_new!H:H) -> 29160 | G103: =SUMIF(ALL_Pivot_new!B:B,C:C,ALL_Pivot_new!I:I) -> 285077.29 | H103: =SUMIF(ALL_Pivot_new!B:B,C:C,ALL_Pivot_new!J:J) -> 35634.661 | I103: =SUMIF(ALL_Pivot_new!B:B,C:C,ALL_Pivot_new!K:K) -> 249442.63 | J103: =SUMIF(ALL_Pivot_new!B:B,C:C,ALL_Pivot_new!L:L) -> 151545 | K103: =SUMIF(ALL_Pivot_new!B:B,C:C,ALL_Pivot_new!M:M) -> 97897.63 | L103: =SUMIF(ALL_Pivot_new!B:B,C:C,ALL_Pivot_new!N:N) -> 6552 | M103: =J103/I103 -> 0.60753449 | N103: =SUMIF(ALL_Pivot_new!B:B,C:C,ALL_Pivot_new!O:O) -> 151545 | O103: =N103/I103 -> 0.60753449 | P103: =H103/G103 -> 0.125 | Q103: =N103*P103 -> 18943.125 | R103: =N103+Q103 -> 170488.12
A104: =VLOOKUP(C:C,ALL_Pivot_new!B:D,2,FALSE) -> RDC | B104: =VLOOKUP(C:C,ALL_Pivot_new!B:D,3,FALSE) -> HDS | C104: RDCHDS06 | D104: =SUMIF(ALL_Pivot_new!B:B,C:C,ALL_Pivot_new!F:F) -> 221700 | E104: =SUMIF(ALL_Pivot_new!B:B,C:C,ALL_Pivot_new!G:G) -> 201747 | F104: =SUMIF(ALL_Pivot_new!B:B,C:C,ALL_Pivot_new!H:H) -> 19953 | G104: =SUMIF(ALL_Pivot_new!B:B,C:C,ALL_Pivot_new!I:I) -> 197544.85 | H104: =SUMIF(ALL_Pivot_new!B:B,C:C,ALL_Pivot_new!J:J) -> 24693.106 | I104: =SUMIF(ALL_Pivot_new!B:B,C:C,ALL_Pivot_new!K:K) -> 172851.74 | J104: =SUMIF(ALL_Pivot_new!B:B,C:C,ALL_Pivot_new!L:L) -> 105953 | K104: =SUMIF(ALL_Pivot_new!B:B,C:C,ALL_Pivot_new!M:M) -> 66898.74 | L104: =SUMIF(ALL_Pivot_new!B:B,C:C,ALL_Pivot_new!N:N) -> 819 | M104: =J104/I104 -> 0.6129704 | N104: =SUMIF(ALL_Pivot_new!B:B,C:C,ALL_Pivot_new!O:O) -> 105953 | O104: =N104/I104 -> 0.6129704 | P104: =H104/G104 -> 0.125 | Q104: =N104*P104 -> 13244.125 | R104: =N104+Q104 -> 119197.12
A105: =VLOOKUP(C:C,ALL_Pivot_new!B:D,2,FALSE) -> FDC | B105: =VLOOKUP(C:C,ALL_Pivot_new!B:D,3,FALSE) -> HDS | C105: FDCHDS10 | D105: =SUMIF(ALL_Pivot_new!B:B,C:C,ALL_Pivot_new!F:F) -> 58800 | E105: =SUMIF(ALL_Pivot_new!B:B,C:C,ALL_Pivot_new!G:G) -> 53508 | F105: =SUMIF(ALL_Pivot_new!B:B,C:C,ALL_Pivot_new!H:H) -> 5292 | G105: =SUMIF(ALL_Pivot_new!B:B,C:C,ALL_Pivot_new!I:I) -> 51533.533 | H105: =SUMIF(ALL_Pivot_new!B:B,C:C,ALL_Pivot_new!J:J) -> 12883.383 | I105: =SUMIF(ALL_Pivot_new!B:B,C:C,ALL_Pivot_new!K:K) -> 38650.15 | J105: =SUMIF(ALL_Pivot_new!B:B,C:C,ALL_Pivot_new!L:L) -> 13705.29 | K105: =SUMIF(ALL_Pivot_new!B:B,C:C,ALL_Pivot_new!M:M) -> 24944.86 | L105: =SUMIF(ALL_Pivot_new!B:B,C:C,ALL_Pivot_new!N:N) -> 1092 | M105: =J105/I105 -> 0.35459862 | N105: =SUMIF(ALL_Pivot_new!B:B,C:C,ALL_Pivot_new!O:O) -> 13705.29 | O105: =N105/I105 -> 0.35459862 | P105: =H105/G105 -> 0.25 | Q105: =N105*P105 -> 3426.3225 | R105: =N105+Q105 -> 17131.612
A106: =VLOOKUP(C:C,ALL_Pivot_new!B:D,2,FALSE) -> FDC | B106: =VLOOKUP(C:C,ALL_Pivot_new!B:D,3,FALSE) -> DMX | C106: 5349 | D106: =SUMIF(ALL_Pivot_new!B:B,C:C,ALL_Pivot_new!F:F) -> 25193.97 | E106: =SUMIF(ALL_Pivot_new!B:B,C:C,ALL_Pivot_new!G:G) -> 22903.609 | F106: =SUMIF(ALL_Pivot_new!B:B,C:C,ALL_Pivot_new!H:H) -> 2290.3609 | G106: =SUMIF(ALL_Pivot_new!B:B,C:C,ALL_Pivot_new!I:I) -> 20426.211 | H106: =SUMIF(ALL_Pivot_new!B:B,C:C,ALL_Pivot_new!J:J) -> 2553.2764 | I106: =SUMIF(ALL_Pivot_new!B:B,C:C,ALL_Pivot_new!K:K) -> 17872.935 | J106: =SUMIF(ALL_Pivot_new!B:B,C:C,ALL_Pivot_new!L:L) -> 10018.175 | K106: =SUMIF(ALL_Pivot_new!B:B,C:C,ALL_Pivot_new!M:M) -> 7854.7598 | L106: =SUMIF(ALL_Pivot_new!B:B,C:C,ALL_Pivot_new!N:N) -> 2477.3984 | M106: =J106/I106 -> 0.5605221 | N106: =SUMIF(ALL_Pivot_new!B:B,C:C,ALL_Pivot_new!O:O) -> 10018.175 | O106: =N106/I106 -> 0.5605221 | P106: =H106/G106 -> 0.125 | Q106: =N106*P106 -> 1252.2719 | R106: =N106+Q106 -> 11270.447
A107: =VLOOKUP(C:C,ALL_Pivot_new!B:D,2,FALSE) -> RDC | B107: =VLOOKUP(C:C,ALL_Pivot_new!B:D,3,FALSE) -> DMX | C107: 5373 | D107: =SUMIF(ALL_Pivot_new!B:B,C:C,ALL_Pivot_new!F:F) -> 68850 | E107: =SUMIF(ALL_Pivot_new!B:B,C:C,ALL_Pivot_new!G:G) -> 63533.6 | F107: =SUMIF(ALL_Pivot_new!B:B,C:C,ALL_Pivot_new!H:H) -> 5316.4 | G107: =SUMIF(ALL_Pivot_new!B:B,C:C,ALL_Pivot_new!I:I) -> 60211.52 | H107: =SUMIF(ALL_Pivot_new!B:B,C:C,ALL_Pivot_new!J:J) -> 7526.44 | I107: =SUMIF(ALL_Pivot_new!B:B,C:C,ALL_Pivot_new!K:K) -> 52685.08 | J107: =SUMIF(ALL_Pivot_new!B:B,C:C,ALL_Pivot_new!L:L) -> 1943.0361 | K107: =SUMIF(ALL_Pivot_new!B:B,C:C,ALL_Pivot_new!M:M) -> 50742.044 | L107: =SUMIF(ALL_Pivot_new!B:B,C:C,ALL_Pivot_new!N:N) -> 3322.08 | M107: =J107/I107 -> 0.036880197 | N107: =SUMIF(ALL_Pivot_new!B:B,C:C,ALL_Pivot_new!O:O) -> 3886.0723 | O107: =N107/I107 -> 0.073760394 | P107: =H107/G107 -> 0.125 | Q107: =N107*P107 -> 485.75903 | R107: =N107+Q107 -> 4371.8313
B108: Total | D108: =SUM(D97:D107) -> 1573944 | E108: =SUM(E97:E107) -> 1432898.9 | F108: =SUM(F97:F107) -> 141045.03 | G108: =SUM(G97:G107) -> 1381461.3 | H108: =SUM(H97:H107) -> 230358.22 | I108: =SUM(I97:I107) -> 1151103.1 | J108: =SUM(J97:J107) -> 651211.92 | K108: =SUM(K97:K107) -> 499891.15 | L108: =SUM(L97:L107) -> 28995.455 | M108: =J108/I108 -> 0.56572859 | N108: =SUM(N97:N107) -> 722953.16 | O108: =N108/I108 -> 0.62805249 | P108: =H108/G108 -> 0.16674967 | Q108: =N108*P108 -> 120552.2 | R108: =N108+Q108 -> 843505.36
...

Sheet Tech-Refresh
A1: Loc | B1: Type | C1: Array | D1: Market Standard | E1: Formatted | F1: format Lost | G1: Physical total | H1: Parity Lost | I1: Pool Usable | J1: Pool Used | K1: Pool Free | L1: Spare | M1: %Used | N1: Host Allocations | O1: %Allocated
A2: =VLOOKUP(C:C,ALL_Pivot_new!B:D,2,FALSE) -> FDC | B2: =VLOOKUP(C:C,ALL_Pivot_new!B:D,3,FALSE) -> DMX | C2: 5349 | D2: =SUMIF(ALL_Pivot_new!B:B,C:C,ALL_Pivot_new!F:F) -> 25193.97 | E2: =SUMIF(ALL_Pivot_new!B:B,C:C,ALL_Pivot_new!G:G) -> 22903.609 | F2: =SUMIF(ALL_Pivot_new!B:B,C:C,ALL_Pivot_new!H:H) -> 2290.3609 | G2: =SUMIF(ALL_Pivot_new!B:B,C:C,ALL_Pivot_new!I:I) -> 20426.211 | H2: =SUMIF(ALL_Pivot_new!B:B,C:C,ALL_Pivot_new!J:J) -> 2553.2764 | I2: =SUMIF(ALL_Pivot_new!B:B,C:C,ALL_Pivot_new!K:K) -> 17872.935 | J2: =SUMIF(ALL_Pivot_new!B:B,C:C,ALL_Pivot_new!L:L) -> 10018.175 | K2: =SUMIF(ALL_Pivot_new!B:B,C:C,ALL_Pivot_new!M:M) -> 7854.7598 | L2: =SUMIF(ALL_Pivot_new!B:B,C:C,ALL_Pivot_new!N:N) -> 2477.3984 | M2: =J2/I2 -> 0.5605221 | N2: =SUMIF(ALL_Pivot_new!B:B,C:C,ALL_Pivot_new!O:O) -> 10018.175 | O2: =N2/I2 -> 0.5605221
A3: =VLOOKUP(C:C,ALL_Pivot_new!B:D,2,FALSE) -> RDC | B3: =VLOOKUP(C:C,ALL_Pivot_new!B:D,3,FALSE) -> DMX | C3: 5373 | D3: =SUMIF(ALL_Pivot_new!B:B,C:C,ALL_Pivot_new!F:F) -> 68850 | E3: =SUMIF(ALL_Pivot_new!B:B,C:C,ALL_Pivot_new!G:G) -> 63533.6 | F3: =SUMIF(ALL_Pivot_new!B:B,C:C,ALL_Pivot_new!H:H) -> 5316.4 | G3: =SUMIF(ALL_Pivot_new!B:B,C:C,ALL_Pivot_new!I:I) -> 60211.52 | H3: =SUMIF(ALL_Pivot_new!B:B,C:C,ALL_Pivot_new!J:J) -> 7526.44 | I3: =SUMIF(ALL_Pivot_new!B:B,C:C,ALL_Pivot_new!K:K) -> 52685.08 | J3: =SUMIF(ALL_Pivot_new!B:B,C:C,ALL_Pivot_new!L:L) -> 1943.0361 | K3: =SUMIF(ALL_Pivot_new!B:B,C:C,ALL_Pivot_new!M:M) -> 50742.044 | L3: =SUMIF(ALL_Pivot_new!B:B,C:C,ALL_Pivot_new!N:N) -> 3322.08 | M3: =J3/I3 -> 0.036880197 | N3: =SUMIF(ALL_Pivot_new!B:B,C:C,ALL_Pivot_new!O:O) -> 3886.0723 | O3: =N3/I3 -> 0.073760394
A4: =VLOOKUP(C:C,ALL_Pivot_new!B:D,2,FALSE) -> CGC | B4: =VLOOKUP(C:C,ALL_Pivot_new!B:D,3,FALSE) -> Vmax | C4: 0623 | D4: =SUMIF(ALL_Pivot_new!B:B,C:C,ALL_Pivot_new!F:F) -> 340268 | E4: =SUMIF(ALL_Pivot_new!B:B,C:C,ALL_Pivot_new!G:G) -> 304207.17 | F4: =SUMIF(ALL_Pivot_new!B:B,C:C,ALL_Pivot_new!H:H) -> 36060.828 | G4: =SUMIF(ALL_Pivot_new!B:B,C:C,ALL_Pivot_new!I:I) -> 285733.97 | H4: =SUMIF(ALL_Pivot_new!B:B,C:C,ALL_Pivot_new!J:J) -> 35716.746 | I4: =SUMIF(ALL_Pivot_new!B:B,C:C,ALL_Pivot_new!K:K) -> 250017.22 | J4: =SUMIF(ALL_Pivot_new!B:B,C:C,ALL_Pivot_new!L:L) -> 18007.641 | K4: =SUMIF(ALL_Pivot_new!B:B,C:C,ALL_Pivot_new!M:M) -> 232009.58 | L4: =SUMIF(ALL_Pivot_new!B:B,C:C,ALL_Pivot_new!N:N) -> 8209.5469 | M4: =J4/I4 -> 0.0720256 | N4: =SUMIF(ALL_Pivot_new!B:B,C:C,ALL_Pivot_new!O:O) -> 25322.4 | O4: =N4/I4 -> 0.10128262
A5: =VLOOKUP(C:C,ALL_Pivot_new!B:D,2,FALSE) -> RDC | B5: =VLOOKUP(C:C,ALL_Pivot_new!B:D,3,FALSE) -> Vmax | C5: 0678 | D5: =SUMIF(ALL_Pivot_new!B:B,C:C,ALL_Pivot_new!F:F) -> 243000 | E5: =SUMIF(ALL_Pivot_new!B:B,C:C,ALL_Pivot_new!G:G) -> 220804.1 | F5: =SUMIF(ALL_Pivot_new!B:B,C:C,ALL_Pivot_new!H:H) -> 22195.898 | G5: =SUMIF(ALL_Pivot_new!B:B,C:C,ALL_Pivot_new!I:I) -> 207997.4 | H5: =SUMIF(ALL_Pivot_new!B:B,C:C,ALL_Pivot_new!J:J) -> 25999.675 | I5: =SUMIF(ALL_Pivot_new!B:B,C:C,ALL_Pivot_new!K:K) -> 181997.73 | J5: =SUMIF(ALL_Pivot_new!B:B,C:C,ALL_Pivot_new!L:L) -> 103227.91 | K5: =SUMIF(ALL_Pivot_new!B:B,C:C,ALL_Pivot_new!M:M) -> 78769.82 | L5: =SUMIF(ALL_Pivot_new!B:B,C:C,ALL_Pivot_new!N:N) -> 4906.7578 | M5: =J5/I5 -> 0.56719338 | N5: =SUMIF(ALL_Pivot_new!B:B,C:C,ALL_Pivot_new!O:O) -> 94562.4 | O5: =N5/I5 -> 0.51958012
A6: =VLOOKUP(C:C,ALL_Pivot_new!B:D,2,FALSE) -> FDC | B6: =VLOOKUP(C:C,ALL_Pivot_new!B:D,3,FALSE) -> Vmax | C6: 0879 | D6: =SUMIF(ALL_Pivot_new!B:B,C:C,ALL_Pivot_new!F:F) -> 257400 | E6: =SUMIF(ALL_Pivot_new!B:B,C:C,ALL_Pivot_new!G:G) -> 233888.79 | F6: =SUMIF(ALL_Pivot_new!B:B,C:C,ALL_Pivot_new!H:H) -> 23511.211 | G6: =SUMIF(ALL_Pivot_new!B:B,C:C,ALL_Pivot_new!I:I) -> 220603.44 | H6: =SUMIF(ALL_Pivot_new!B:B,C:C,ALL_Pivot_new!J:J) -> 27575.43 | I6: =SUMIF(ALL_Pivot_new!B:B,C:C,ALL_Pivot_new!K:K) -> 193028.01 | J6: =SUMIF(ALL_Pivot_new!B:B,C:C,ALL_Pivot_new!L:L) -> 25918.98 | K6: =SUMIF(ALL_Pivot_new!B:B,C:C,ALL_Pivot_new!M:M) -> 167109.03 | L6: =SUMIF(ALL_Pivot_new!B:B,C:C,ALL_Pivot_new!N:N) -> 4906.7578 | M6: =J6/I6 -> 0.13427575 | N6: =SUMIF(ALL_Pivot_new!B:B,C:C,ALL_Pivot_new!O:O) -> 72666.1 | O6: =N6/I6 -> 0.37645365
B7: Total | D7: =SUM(D2:D6) -> 934711.97 | E7: =SUM(E2:E6) -> 845337.27 | F7: =SUM(F2:F6) -> 89374.698 | G7: =SUM(G2:G6) -> 794972.55 | H7: =SUM(H2:H6) -> 99371.568 | I7: =SUM(I2:I6) -> 695600.98 | J7: =SUM(J2:J6) -> 159115.74 | K7: =SUM(K2:K6) -> 536485.24 | L7: =SUM(L2:L6) -> 23822.541 | M7: =J7/I7 -> 0.22874571 | N7: =SUM(N2:N6) -> 206455.15 | O7: =N7/I7 -> 0.29680112
G8: =G7/1024 -> 776.34038 | I8: =I7/1024 -> 679.29783
J12: Row Labels | K12: Sum of Physical total | L12: Sum of Pool Usable | M12: Sum of Pool Used | N12: Sum of Host Allocations | O12: No of Arrays
J13: CGC | K13: 285733.83 | L13: 250017.1 | M13: 17992.3 | N13: 25322.4 | O13: =COUNTIF(A:A,J13) -> 1
J14: FDC | K14: 556927.98 | L14: 487030.43 | M14: 148896.67 | N14: 149334.37 | O14: =COUNTIF(A:A,J14) -> 2
J15: RDC | K15: 465614.35 | L15: 406657.38 | M15: 169424.94 | N15: 156008.27 | O15: =COUNTIF(A:A,J15) -> 2
J16: Grand Total | K16: 1308276.2 | L16: 1143704.9 | M16: 336313.91 | N16: 330665.05 | O16: =COUNTIF(A:A,J16) -> 0
O17: =SUM(O13:O16) -> 5
J20: CGC | K20: =K13/1024 -> 279.03694 | L20: =L13/1024 -> 244.15732 | M20: =M13/1024 -> 17.570605 | N20: =N13/1024 -> 24.728906 | O20: =O13 -> 1
J21: FDC | K21: =K14/1024 -> 543.87498 | L21: =L14/1024 -> 475.61566 | M21: =M14/1024 -> 145.40691 | N21: =N14/1024 -> 145.83435 | O21: =O14 -> 2
J22: RDC | K22: =K15/1024 -> 454.70151 | L22: =L15/1024 -> 397.12635 | M22: =M15/1024 -> 165.45404 | N22: =N15/1024 -> 152.35183 | O22: =O15 -> 2
J23: Grand Total | K23: =K16/1024 -> 1277.6134 | L23: =L16/1024 -> 1116.8993 | M23: =M16/1024 -> 328.43155 | N23: =N16/1024 -> 322.91509 | O23: =O17 -> 5

Sheet New Installs
A1: Loc | B1: Type | C1: Array | D1: Market Standard | E1: Column1 | F1: Column2 | G1: Column3 | H1: Column4 | I1: Column5 | J1: Column6 | K1: Column7 | L1: Column8 | M1: Column9 | N1: Column10 | O1: Column11
G7: =G6/1024 -> 0 | I7: =I6/1024 -> 0
G9: =G3/1024 -> 0 | I9: =I3/1024 -> 0

Sheet Exchange
A1: Loc | B1: Type | C1: Array | D1: Market Standard | E1: Formatted | F1: format Lost | G1: Physical total | H1: Parity Lost | I1: Pool Usable | J1: Pool Used | K1: Pool Free | L1: Spare | M1: %Used | N1: Host Allocations | O1: %Allocated
A2: =VLOOKUP(C:C,ALL_Pivot_new!B:D,2,FALSE) -> FDC | B2: =VLOOKUP(C:C,ALL_Pivot_new!B:D,3,FALSE) -> Clariion | C2: fdc1a-ax4-0033 | D2: =SUMIF(ALL_Pivot_new!B:B,C:C,ALL_Pivot_new!F:F) -> 7862.9051 | E2: =SUMIF(ALL_Pivot_new!B:B,C:C,ALL_Pivot_new!G:G) -> 7416.191 | F2: =SUMIF(ALL_Pivot_new!B:B,C:C,ALL_Pivot_new!H:H) -> 446.71403 | G2: =SUMIF(ALL_Pivot_new!B:B,C:C,ALL_Pivot_new!I:I) -> 7148.0955 | H2: =SUMIF(ALL_Pivot_new!B:B,C:C,ALL_Pivot_new!J:J) -> 3440 | I2: =SUMIF(ALL_Pivot_new!B:B,C:C,ALL_Pivot_new!K:K) -> 3708.0955 | J2: =SUMIF(ALL_Pivot_new!B:B,C:C,ALL_Pivot_new!L:L) -> 3602 | K2: =SUMIF(ALL_Pivot_new!B:B,C:C,ALL_Pivot_new!M:M) -> 106.09552 | L2: =SUMIF(ALL_Pivot_new!B:B,C:C,ALL_Pivot_new!N:N) -> 268.09552 | M2: =J2/I2 -> 0.97138814 | N2: =SUMIF(ALL_Pivot_new!B:B,C:C,ALL_Pivot_new!O:O) -> 3602 | O2: =N2/I2 -> 0.97138814
A3: =VLOOKUP(C:C,ALL_Pivot_new!B:D,2,FALSE) -> FDC | B3: =VLOOKUP(C:C,ALL_Pivot_new!B:D,3,FALSE) -> Clariion | C3: fdc1a-ax4-0039 | D3: =SUMIF(ALL_Pivot_new!B:B,C:C,ALL_Pivot_new!F:F) -> 7862.9051 | E3: =SUMIF(ALL_Pivot_new!B:B,C:C,ALL_Pivot_new!G:G) -> 7416.191 | F3: =SUMIF(ALL_Pivot_new!B:B,C:C,ALL_Pivot_new!H:H) -> 446.71403 | G3: =SUMIF(ALL_Pivot_new!B:B,C:C,ALL_Pivot_new!I:I) -> 7148.0955 | H3: =SUMIF(ALL_Pivot_new!B:B,C:C,ALL_Pivot_new!J:J) -> 3440 | I3: =SUMIF(ALL_Pivot_new!B:B,C:C,ALL_Pivot_new!K:K) -> 3708.0955 | J3: =SUMIF(ALL_Pivot_new!B:B,C:C,ALL_Pivot_new!L:L) -> 3602 | K3: =SUMIF(ALL_Pivot_new!B:B,C:C,ALL_Pivot_new!M:M) -> 106.09552 | L3: =SUMIF(ALL_Pivot_new!B:B,C:C,ALL_Pivot_new!N:N) -> 268.09552 | M3: =J3/I3 -> 0.97138814 | N3: =SUMIF(ALL_Pivot_new!B:B,C:C,ALL_Pivot_new!O:O) -> 3602 | O3: =N3/I3 -> 0.97138814
A4: =VLOOKUP(C:C,ALL_Pivot_new!B:D,2,FALSE) -> RDC | B4: =VLOOKUP(C:C,ALL_Pivot_new!B:D,3,FALSE) -> Clariion | C4: rdc1-ax4-0082 | D4: =SUMIF(ALL_Pivot_new!B:B,C:C,ALL_Pivot_new!F:F) -> 4078.9051 | E4: =SUMIF(ALL_Pivot_new!B:B,C:C,ALL_Pivot_new!G:G) -> 3976.191 | F4: =SUMIF(ALL_Pivot_new!B:B,C:C,ALL_Pivot_new!H:H) -> 102.71403 | G4: =SUMIF(ALL_Pivot_new!B:B,C:C,ALL_Pivot_new!I:I) -> 3708.0955 | H4: =SUMIF(ALL_Pivot_new!B:B,C:C,ALL_Pivot_new!J:J) -> 1720 | I4: =SUMIF(ALL_Pivot_new!B:B,C:C,ALL_Pivot_new!K:K) -> 1988.0955 | J4: =SUMIF(ALL_Pivot_new!B:B,C:C,ALL_Pivot_new!L:L) -> 1720 | K4: =SUMIF(ALL_Pivot_new!B:B,C:C,ALL_Pivot_new!M:M) -> 268.09552 | L4: =SUMIF(ALL_Pivot_new!B:B,C:C,ALL_Pivot_new!N:N) -> 268.09552 | M4: =J4/I4 -> 0.86514958 | N4: =SUMIF(ALL_Pivot_new!B:B,C:C,ALL_Pivot_new!O:O) -> 1720 | O4: =N4/I4 -> 0.86514958
A5: =VLOOKUP(C:C,ALL_Pivot_new!B:D,2,FALSE) -> RDC | B5: =VLOOKUP(C:C,ALL_Pivot_new!B:D,3,FALSE) -> Clariion | C5: rdc4-ac4-0576 | D5: =SUMIF(ALL_Pivot_new!B:B,C:C,ALL_Pivot_new!F:F) -> 20876.676 | E5: =SUMIF(ALL_Pivot_new!B:B,C:C,ALL_Pivot_new!G:G) -> 18978.796 | F5: =SUMIF(ALL_Pivot_new!B:B,C:C,ALL_Pivot_new!H:H) -> 1897.8796 | G5: =SUMIF(ALL_Pivot_new!B:B,C:C,ALL_Pivot_new!I:I) -> 18978.796 | H5: =SUMIF(ALL_Pivot_new!B:B,C:C,ALL_Pivot_new!J:J) -> 8964 | I5: =SUMIF(ALL_Pivot_new!B:B,C:C,ALL_Pivot_new!K:K) -> 10014.796 | J5: =SUMIF(ALL_Pivot_new!B:B,C:C,ALL_Pivot_new!L:L) -> 10014.796 | K5: =SUMIF(ALL_Pivot_new!B:B,C:C,ALL_Pivot_new!M:M) -> 0 | L5: =SUMIF(ALL_Pivot_new!B:B,C:C,ALL_Pivot_new!N:N) -> 1050.7964 | M5: =J5/I5 -> 1 | N5: =SUMIF(ALL_Pivot_new!B:B,C:C,ALL_Pivot_new!O:O) -> 10014.796 | O5: =N5/I5 -> 1
A6: =VLOOKUP(C:C,ALL_Pivot_new!B:D,2,FALSE) -> RDC | B6: =VLOOKUP(C:C,ALL_Pivot_new!B:D,3,FALSE) -> Clariion | C6: rdc4-ax4-0006 | D6: =SUMIF(ALL_Pivot_new!B:B,C:C,ALL_Pivot_new!F:F) -> 7862.9051 | E6: =SUMIF(ALL_Pivot_new!B:B,C:C,ALL_Pivot_new!G:G) -> 7416.191 | F6: =SUMIF(ALL_Pivot_new!B:B,C:C,ALL_Pivot_new!H:H) -> 446.71403 | G6: =SUMIF(ALL_Pivot_new!B:B,C:C,ALL_Pivot_new!I:I) -> 7148.0955 | H6: =SUMIF(ALL_Pivot_new!B:B,C:C,ALL_Pivot_new!J:J) -> 3440 | I6: =SUMIF(ALL_Pivot_new!B:B,C:C,ALL_Pivot_new!K:K) -> 3708.0955 | J6: =SUMIF(ALL_Pivot_new!B:B,C:C,ALL_Pivot_new!L:L) -> 3440 | K6: =SUMIF(ALL_Pivot_new!B:B,C:C,ALL_Pivot_new!M:M) -> 268.09552 | L6: =SUMIF(ALL_Pivot_new!B:B,C:C,ALL_Pivot_new!N:N) -> 268.09552 | M6: =J6/I6 -> 0.92769994 | N6: =SUMIF(ALL_Pivot_new!B:B,C:C,ALL_Pivot_new!O:O) -> 3440 | O6: =N6/I6 -> 0.92769994
A7: =VLOOKUP(C:C,ALL_Pivot_new!B:D,2,FALSE) -> RDC | B7: =VLOOKUP(C:C,ALL_Pivot_new!B:D,3,FALSE) -> Clariion | C7: rdc4-ax4-0007 | D7: =SUMIF(ALL_Pivot_new!B:B,C:C,ALL_Pivot_new!F:F) -> 7645.6551 | E7: =SUMIF(ALL_Pivot_new!B:B,C:C,ALL_Pivot_new!G:G) -> 7218.691 | F7: =SUMIF(ALL_Pivot_new!B:B,C:C,ALL_Pivot_new!H:H) -> 426.96403 | G7: =SUMIF(ALL_Pivot_new!B:B,C:C,ALL_Pivot_new!I:I) -> 6950.5955 | H7: =SUMIF(ALL_Pivot_new!B:B,C:C,ALL_Pivot_new!J:J) -> 3242.5 | I7: =SUMIF(ALL_Pivot_new!B:B,C:C,ALL_Pivot_new!K:K) -> 3708.0955 | J7: =SUMIF(ALL_Pivot_new!B:B,C:C,ALL_Pivot_new!L:L) -> 3708.0955 | K7: =SUMIF(ALL_Pivot_new!B:B,C:C,ALL_Pivot_new!M:M) -> 0 | L7: =SUMIF(ALL_Pivot_new!B:B,C:C,ALL_Pivot_new!N:N) -> 268.09552 | M7: =J7/I7 -> 1 | N7: =SUMIF(ALL_Pivot_new!B:B,C:C,ALL_Pivot_new!O:O) -> 3708.0955 | O7: =N7/I7 -> 1
A8: =VLOOKUP(C:C,ALL_Pivot_new!B:D,2,FALSE) -> FDC | B8: =VLOOKUP(C:C,ALL_Pivot_new!B:D,3,FALSE) -> Clariion | C8: fdc1a-ax4-0069 | D8: =SUMIF(ALL_Pivot_new!B:B,C:C,ALL_Pivot_new!F:F) -> 4078.9051 | E8: =SUMIF(ALL_Pivot_new!B:B,C:C,ALL_Pivot_new!G:G) -> 3976.191 | F8: =SUMIF(ALL_Pivot_new!B:B,C:C,ALL_Pivot_new!H:H) -> 102.71403 | G8: =SUMIF(ALL_Pivot_new!B:B,C:C,ALL_Pivot_new!I:I) -> 3708.0955 | H8: =SUMIF(ALL_Pivot_new!B:B,C:C,ALL_Pivot_new!J:J) -> 1720 | I8: =SUMIF(ALL_Pivot_new!B:B,C:C,ALL_Pivot_new!K:K) -> 1988.0955 | J8: =SUMIF(ALL_Pivot_new!B:B,C:C,ALL_Pivot_new!L:L) -> 1720 | K8: =SUMIF(ALL_Pivot_new!B:B,C:C,ALL_Pivot_new!M:M) -> 268.09552 | L8: =SUMIF(ALL_Pivot_new!B:B,C:C,ALL_Pivot_new!N:N) -> 268.09552 | M8: =J8/I8 -> 0.86514958 | N8: =SUMIF(ALL_Pivot_new!B:B,C:C,ALL_Pivot_new!O:O) -> 1720 | O8: =N8/I8 -> 0.86514958
A9: =VLOOKUP(C:C,ALL_Pivot_new!B:D,2,FALSE) -> Turkey DC | B9: =VLOOKUP(C:C,ALL_Pivot_new!B:D,3,FALSE) -> Clariion | C9: Turkey_AX4_Mailbox | D9: =SUMIF(ALL_Pivot_new!B:B,C:C,ALL_Pivot_new!F:F) -> 3962.2 | E9: =SUMIF(ALL_Pivot_new!B:B,C:C,ALL_Pivot_new!G:G) -> 3602 | F9: =SUMIF(ALL_Pivot_new!B:B,C:C,ALL_Pivot_new!H:H) -> 360.2 | G9: =SUMIF(ALL_Pivot_new!B:B,C:C,ALL_Pivot_new!I:I) -> 3602 | H9: =SUMIF(ALL_Pivot_new!B:B,C:C,ALL_Pivot_new!J:J) -> 1801 | I9: =SUMIF(ALL_Pivot_new!B:B,C:C,ALL_Pivot_new!K:K) -> 1801 | J9: =SUMIF(ALL_Pivot_new!B:B,C:C,ALL_Pivot_new!L:L) -> 1801 | K9: =SUMIF(ALL_Pivot_new!B:B,C:C,ALL_Pivot_new!M:M) -> 0 | L9: =SUMIF(ALL_Pivot_new!B:B,C:C,ALL_Pivot_new!N:N) -> 0 | M9: =J9/I9 -> 1 | N9: =SUMIF(ALL_Pivot_new!B:B,C:C,ALL_Pivot_new!O:O) -> 1801 | O9: =N9/I9 -> 1
A10: =VLOOKUP(C:C,ALL_Pivot_new!B:D,2,FALSE) -> Russia DC | B10: =VLOOKUP(C:C,ALL_Pivot_new!B:D,3,FALSE) -> Clariion | C10: pres-ax4-0062 | D10: =SUMIF(ALL_Pivot_new!B:B,C:C,ALL_Pivot_new!F:F) -> 23002.583 | E10: =SUMIF(ALL_Pivot_new!B:B,C:C,ALL_Pivot_new!G:G) -> 20911.439 | F10: =SUMIF(ALL_Pivot_new!B:B,C:C,ALL_Pivot_new!H:H) -> 2091.1439 | G10: =SUMIF(ALL_Pivot_new!B:B,C:C,ALL_Pivot_new!I:I) -> 20911.439 | H10: =SUMIF(ALL_Pivot_new!B:B,C:C,ALL_Pivot_new!J:J) -> 10455.72 | I10: =SUMIF(ALL_Pivot_new!B:B,C:C,ALL_Pivot_new!K:K) -> 10455.72 | J10: =SUMIF(ALL_Pivot_new!B:B,C:C,ALL_Pivot_new!L:L) -> 10455.72 | K10: =SUMIF(ALL_Pivot_new!B:B,C:C,ALL_Pivot_new!M:M) -> 0 | L10: =SUMIF(ALL_Pivot_new!B:B,C:C,ALL_Pivot_new!N:N) -> 0 | M10: =J10/I10 -> 1 | N10: =SUMIF(ALL_Pivot_new!B:B,C:C,ALL_Pivot_new!O:O) -> 10455.72 | O10: =N10/I10 -> 1
A11: =VLOOKUP(C:C,ALL_Pivot_new!B:D,2,FALSE) -> Russia DC | B11: =VLOOKUP(C:C,ALL_Pivot_new!B:D,3,FALSE) -> Clariion | C11: prof-ax4-0054 | D11: =SUMIF(ALL_Pivot_new!B:B,C:C,ALL_Pivot_new!F:F) -> 23002.583 | E11: =SUMIF(ALL_Pivot_new!B:B,C:C,ALL_Pivot_new!G:G) -> 20911.439 | F11: =SUMIF(ALL_Pivot_new!B:B,C:C,ALL_Pivot_new!H:H) -> 2091.1439 | G11: =SUMIF(ALL_Pivot_new!B:B,C:C,ALL_Pivot_new!I:I) -> 20911.439 | H11: =SUMIF(ALL_Pivot_new!B:B,C:C,ALL_Pivot_new!J:J) -> 10455.72 | I11: =SUMIF(ALL_Pivot_new!B:B,C:C,ALL_Pivot_new!K:K) -> 10455.72 | J11: =SUMIF(ALL_Pivot_new!B:B,C:C,ALL_Pivot_new!L:L) -> 10455.72 | K11: =SUMIF(ALL_Pivot_new!B:B,C:C,ALL_Pivot_new!M:M) -> 0 | L11: =SUMIF(ALL_Pivot_new!B:B,C:C,ALL_Pivot_new!N:N) -> 0 | M11: =J11/I11 -> 1 | N11: =SUMIF(ALL_Pivot_new!B:B,C:C,ALL_Pivot_new!O:O) -> 10455.72 | O11: =N11/I11 -> 1
A12: =VLOOKUP(C:C,ALL_Pivot_new!B:D,2,FALSE) -> Russia DC | B12: =VLOOKUP(C:C,ALL_Pivot_new!B:D,3,FALSE) -> Clariion | C12: prof-ax4-0127 | D12: =SUMIF(ALL_Pivot_new!B:B,C:C,ALL_Pivot_new!F:F) -> 8847.1453 | E12: =SUMIF(ALL_Pivot_new!B:B,C:C,ALL_Pivot_new!G:G) -> 8042.8594 | F12: =SUMIF(ALL_Pivot_new!B:B,C:C,ALL_Pivot_new!H:H) -> 804.28594 | G12: =SUMIF(ALL_Pivot_new!B:B,C:C,ALL_Pivot_new!I:I) -> 8042.8594 | H12: =SUMIF(ALL_Pivot_new!B:B,C:C,ALL_Pivot_new!J:J) -> 4021.4297 | I12: =SUMIF(ALL_Pivot_new!B:B,C:C,ALL_Pivot_new!K:K) -> 4021.4297 | J12: =SUMIF(ALL_Pivot_new!B:B,C:C,ALL_Pivot_new!L:L) -> 4021.4297 | K12: =SUMIF(ALL_Pivot_new!B:B,C:C,ALL_Pivot_new!M:M) -> 0 | L12: =SUMIF(ALL_Pivot_new!B:B,C:C,ALL_Pivot_new!N:N) -> 0 | M12: =J12/I12 -> 1 | N12: =SUMIF(ALL_Pivot_new!B:B,C:C,ALL_Pivot_new!O:O) -> 4021.4297 | O12: =N12/I12 -> 1
A13: =VLOOKUP(C:C,ALL_Pivot_new!B:D,2,FALSE) -> Russia DC | B13: =VLOOKUP(C:C,ALL_Pivot_new!B:D,3,FALSE) -> Clariion | C13: prof-ax4-0103 | D13: =SUMIF(ALL_Pivot_new!B:B,C:C,ALL_Pivot_new!F:F) -> 8847.1453 | E13: =SUMIF(ALL_Pivot_new!B:B,C:C,ALL_Pivot_new!G:G) -> 8042.8594 | F13: =SUMIF(ALL_Pivot_new!B:B,C:C,ALL_Pivot_new!H:H) -> 804.28594 | G13: =SUMIF(ALL_Pivot_new!B:B,C:C,ALL_Pivot_new!I:I) -> 8042.8594 | H13: =SUMIF(ALL_Pivot_new!B:B,C:C,ALL_Pivot_new!J:J) -> 4021.4297 | I13: =SUMIF(ALL_Pivot_new!B:B,C:C,ALL_Pivot_new!K:K) -> 4021.4297 | J13: =SUMIF(ALL_Pivot_new!B:B,C:C,ALL_Pivot_new!L:L) -> 4021.4297 | K13: =SUMIF(ALL_Pivot_new!B:B,C:C,ALL_Pivot_new!M:M) -> 0 | L13: =SUMIF(ALL_Pivot_new!B:B,C:C,ALL_Pivot_new!N:N) -> 0 | M13: =J13/I13 -> 1 | N13: =SUMIF(ALL_Pivot_new!B:B,C:C,ALL_Pivot_new!O:O) -> 4021.4297 | O13: =N13/I13 -> 1
... A17: =VLOOKUP(C:C,ALL_Pivot_new!B:D,2,FALSE) -> FDC | B17: =VLOOKUP(C:C,ALL_Pivot_new!B:D,3,FALSE) -> VNX | C17: DEOLC002N0375 | D17: =SUMIF(ALL_Pivot_new!B:B,C:C,ALL_Pivot_new!F:F) -> 472031.98 | E17: =SUMIF(ALL_Pivot_new!B:B,C:C,ALL_Pivot_new!G:G) -> 429119.99 | F17: =SUMIF(ALL_Pivot_new!B:B,C:C,ALL_Pivot_new!H:H) -> 42911.999 | G17: =SUMIF(ALL_Pivot_new!B:B,C:C,ALL_Pivot_new!I:I) -> 293078.14 | H17: =SUMIF(ALL_Pivot_new!B:B,C:C,ALL_Pivot_new!J:J) -> 80331.139 | I17: =SUMIF(ALL_Pivot_new!B:B,C:C,ALL_Pivot_new!K:K) -> 212747 | J17: =SUMIF(ALL_Pivot_new!B:B,C:C,ALL_Pivot_new!L:L) -> 178168 | K17: =SUMIF(ALL_Pivot_new!B:B,C:C,ALL_Pivot_new!M:M) -> 34579 | L17: =SUMIF(ALL_Pivot_new!B:B,C:C,ALL_Pivot_new!N:N) -> 0 | M17: =J17/I17 -> 0.83746422 | N17: =SUMIF(ALL_Pivot_new!B:B,C:C,ALL_Pivot_new!O:O) -> 178168 | O17: =N17/I17 -> 0.83746422
B18: Total | D18: =SUM(D2:D17) -> 3028284.7 | E18: =SUM(E2:E17) -> 2754595.1 | F18: =SUM(F2:F17) -> 273689.6 | G18: =SUM(G2:G17) -> 2385834.9 | H18: =SUM(H2:H17) -> 959187.18 | I18: =SUM(I2:I17) -> 1426647.7 | J18: =SUM(J2:J17) -> 1322747.2 | K18: =SUM(K2:K17) -> 103900.48 | L18: =SUM(L2:L17) -> 2659.3696 | M18: =J18/I18 -> 0.92717159 | N18: =SUM(N2:N17) -> 1322747.2 | O18: =N18/I18 -> 0.92717159
G19: =G18/1024 -> 2329.9168 | I19: =I18/1024 -> 1393.2106

Sheet Unable to Report
A1: Loc | B1: Type | C1: Array | D1: Market Standard | E1: Formatted | F1: format Lost | G1: Physical total | H1: Parity Lost | I1: Pool Usable | J1: Pool Used | K1: Pool Free | L1: Spare | M1: %Used | N1: Host Allocations | O1: %Allocated
A2: =VLOOKUP(C:C,ALL_Pivot_new!B:D,2,FALSE) -> #N/A | B2: =VLOOKUP(C:C,ALL_Pivot_new!B:D,3,FALSE) -> #N/A | D2: =SUMIF(ALL_Pivot_new!B:B,C:C,ALL_Pivot_new!F:F) -> 0 | E2: =SUMIF(ALL_Pivot_new!B:B,C:C,ALL_Pivot_new!G:G) -> 0 | F2: =SUMIF(ALL_Pivot_new!B:B,C:C,ALL_Pivot_new!H:H) -> 0 | G2: =SUMIF(ALL_Pivot_new!B:B,C:C,ALL_Pivot_new!I:I) -> 0 | H2: =SUMIF(ALL_Pivot_new!B:B,C:C,ALL_Pivot_new!J:J) -> 0 | I2: =SUMIF(ALL_Pivot_new!B:B,C:C,ALL_Pivot_new!K:K) -> 0 | J2: =SUMIF(ALL_Pivot_new!B:B,C:C,ALL_Pivot_new!L:L) -> 0 | K2: =SUMIF(ALL_Pivot_new!B:B,C:C,ALL_Pivot_new!M:M) -> 0 | L2: =SUMIF(ALL_Pivot_new!B:B,C:C,ALL_Pivot_new!N:N) -> 0 | M2: =J2/I2 -> #DIV/0! | N2: =SUMIF(ALL_Pivot_new!B:B,C:C,ALL_Pivot_new!O:O) -> 0 | O2: =N2/I2 -> #DIV/0!
A3: =VLOOKUP(C:C,ALL_Pivot_new!B:D,2,FALSE) -> #N/A | B3: =VLOOKUP(C:C,ALL_Pivot_new!B:D,3,FALSE) -> #N/A | D3: =SUMIF(ALL_Pivot_new!B:B,C:C,ALL_Pivot_new!F:F) -> 0 | E3: =SUMIF(ALL_Pivot_new!B:B,C:C,ALL_Pivot_new!G:G) -> 0 | F3: =SUMIF(ALL_Pivot_new!B:B,C:C,ALL_Pivot_new!H:H) -> 0 | G3: =SUMIF(ALL_Pivot_new!B:B,C:C,ALL_Pivot_new!I:I) -> 0 | H3: =SUMIF(ALL_Pivot_new!B:B,C:C,ALL_Pivot_new!J:J) -> 0 | I3: =SUMIF(ALL_Pivot_new!B:B,C:C,ALL_Pivot_new!K:K) -> 0 | J3: =SUMIF(ALL_Pivot_new!B:B,C:C,ALL_Pivot_new!L:L) -> 0 | K3: =SUMIF(ALL_Pivot_new!B:B,C:C,ALL_Pivot_new!M:M) -> 0 | L3: =SUMIF(ALL_Pivot_new!B:B,C:C,ALL_Pivot_new!N:N) -> 0 | M3: =J3/I3 -> #DIV/0! | N3: =SUMIF(ALL_Pivot_new!B:B,C:C,ALL_Pivot_new!O:O) -> 0 | O3: =N3/I3 -> #DIV/0!
A4: =VLOOKUP(C:C,ALL_Pivot_new!B:D,2,FALSE) -> #N/A | B4: =VLOOKUP(C:C,ALL_Pivot_new!B:D,3,FALSE) -> #N/A | D4: =SUMIF(ALL_Pivot_new!B:B,C:C,ALL_Pivot_new!F:F) -> 0 | E4: =SUMIF(ALL_Pivot_new!B:B,C:C,ALL_Pivot_new!G:G) -> 0 | F4: =SUMIF(ALL_Pivot_new!B:B,C:C,ALL_Pivot_new!H:H) -> 0 | G4: =SUMIF(ALL_Pivot_new!B:B,C:C,ALL_Pivot_new!I:I) -> 0 | H4: =SUMIF(ALL_Pivot_new!B:B,C:C,ALL_Pivot_new!J:J) -> 0 | I4: =SUMIF(ALL_Pivot_new!B:B,C:C,ALL_Pivot_new!K:K) -> 0 | J4: =SUMIF(ALL_Pivot_new!B:B,C:C,ALL_Pivot_new!L:L) -> 0 | K4: =SUMIF(ALL_Pivot_new!B:B,C:C,ALL_Pivot_new!M:M) -> 0 | L4: =SUMIF(ALL_Pivot_new!B:B,C:C,ALL_Pivot_new!N:N) -> 0 | M4: =J4/I4 -> #DIV/0! | N4: =SUMIF(ALL_Pivot_new!B:B,C:C,ALL_Pivot_new!O:O) -> 0 | O4: =N4/I4 -> #DIV/0!
A5: =VLOOKUP(C:C,ALL_Pivot_new!B:D,2,FALSE) -> #N/A | B5: =VLOOKUP(C:C,ALL_Pivot_new!B:D,3,FALSE) -> #N/A | D5: =SUMIF(ALL_Pivot_new!B:B,C:C,ALL_Pivot_new!F:F) -> 0 | E5: =SUMIF(ALL_Pivot_new!B:B,C:C,ALL_Pivot_new!G:G) -> 0 | F5: =SUMIF(ALL_Pivot_new!B:B,C:C,ALL_Pivot_new!H:H) -> 0 | G5: =SUMIF(ALL_Pivot_new!B:B,C:C,ALL_Pivot_new!I:I) -> 0 | H5: =SUMIF(ALL_Pivot_new!B:B,C:C,ALL_Pivot_new!J:J) -> 0 | I5: =SUMIF(ALL_Pivot_new!B:B,C:C,ALL_Pivot_new!K:K) -> 0 | J5: =SUMIF(ALL_Pivot_new!B:B,C:C,ALL_Pivot_new!L:L) -> 0 | K5: =SUMIF(ALL_Pivot_new!B:B,C:C,ALL_Pivot_new!M:M) -> 0 | L5: =SUMIF(ALL_Pivot_new!B:B,C:C,ALL_Pivot_new!N:N) -> 0 | M5: =J5/I5 -> #DIV/0! | N5: =SUMIF(ALL_Pivot_new!B:B,C:C,ALL_Pivot_new!O:O) -> 0 | O5: =N5/I5 -> #DIV/0!
A6: =VLOOKUP(C:C,ALL_Pivot_new!B:D,2,FALSE) -> #N/A | B6: =VLOOKUP(C:C,ALL_Pivot_new!B:D,3,FALSE) -> #N/A | D6: =SUMIF(ALL_Pivot_new!B:B,C:C,ALL_Pivot_new!F:F) -> 0 | E6: =SUMIF(ALL_Pivot_new!B:B,C:C,ALL_Pivot_new!G:G) -> 0 | F6: =SUMIF(ALL_Pivot_new!B:B,C:C,ALL_Pivot_new!H:H) -> 0 | G6: =SUMIF(ALL_Pivot_new!B:B,C:C,ALL_Pivot_new!I:I) -> 0 | H6: =SUMIF(ALL_Pivot_new!B:B,C:C,ALL_Pivot_new!J:J) -> 0 | I6: =SUMIF(ALL_Pivot_new!B:B,C:C,ALL_Pivot_new!K:K) -> 0 | J6: =SUMIF(ALL_Pivot_new!B:B,C:C,ALL_Pivot_new!L:L) -> 0 | K6: =SUMIF(ALL_Pivot_new!B:B,C:C,ALL_Pivot_new!M:M) -> 0 | L6: =SUMIF(ALL_Pivot_new!B:B,C:C,ALL_Pivot_new!N:N) -> 0 | M6: =J6/I6 -> #DIV/0! | N6: =SUMIF(ALL_Pivot_new!B:B,C:C,ALL_Pivot_new!O:O) -> 0 | O6: =N6/I6 -> #DIV/0!
A7: =VLOOKUP(C:C,ALL_Pivot_new!B:D,2,FALSE) -> #N/A | B7: =VLOOKUP(C:C,ALL_Pivot_new!B:D,3,FALSE) -> #N/A | D7: =SUMIF(ALL_Pivot_new!B:B,C:C,ALL_Pivot_new!F:F) -> 0 | E7: =SUMIF(ALL_Pivot_new!B:B,C:C,ALL_Pivot_new!G:G) -> 0 | F7: =SUMIF(ALL_Pivot_new!B:B,C:C,ALL_Pivot_new!H:H) -> 0 | G7: =SUMIF(ALL_Pivot_new!B:B,C:C,ALL_Pivot_new!I:I) -> 0 | H7: =SUMIF(ALL_Pivot_new!B:B,C:C,ALL_Pivot_new!J:J) -> 0 | I7: =SUMIF(ALL_Pivot_new!B:B,C:C,ALL_Pivot_new!K:K) -> 0 | J7: =SUMIF(ALL_Pivot_new!B:B,C:C,ALL_Pivot_new!L:L) -> 0 | K7: =SUMIF(ALL_Pivot_new!B:B,C:C,ALL_Pivot_new!M:M) -> 0 | L7: =SUMIF(ALL_Pivot_new!B:B,C:C,ALL_Pivot_new!N:N) -> 0 | M7: =J7/I7 -> #DIV/0! | N7: =SUMIF(ALL_Pivot_new!B:B,C:C,ALL_Pivot_new!O:O) -> 0 | O7: =N7/I7 -> #DIV/0!
A8: =VLOOKUP(C:C,ALL_Pivot_new!B:D,2,FALSE) -> #N/A | B8: =VLOOKUP(C:C,ALL_Pivot_new!B:D,3,FALSE) -> #N/A | D8: =SUMIF(ALL_Pivot_new!B:B,C:C,ALL_Pivot_new!F:F) -> 0 | E8: =SUMIF(ALL_Pivot_new!B:B,C:C,ALL_Pivot_new!G:G) -> 0 | F8: =SUMIF(ALL_Pivot_new!B:B,C:C,ALL_Pivot_new!H:H) -> 0 | G8: =SUMIF(ALL_Pivot_new!B:B,C:C,ALL_Pivot_new!I:I) -> 0 | H8: =SUMIF(ALL_Pivot_new!B:B,C:C,ALL_Pivot_new!J:J) -> 0 | I8: =SUMIF(ALL_Pivot_new!B:B,C:C,ALL_Pivot_new!K:K) -> 0 | J8: =SUMIF(ALL_Pivot_new!B:B,C:C,ALL_Pivot_new!L:L) -> 0 | K8: =SUMIF(ALL_Pivot_new!B:B,C:C,ALL_Pivot_new!M:M) -> 0 | L8: =SUMIF(ALL_Pivot_new!B:B,C:C,ALL_Pivot_new!N:N) -> 0 | M8: =J8/I8 -> #DIV/0! | N8: =SUMIF(ALL_Pivot_new!B:B,C:C,ALL_Pivot_new!O:O) -> 0 | O8: =N8/I8 -> #DIV/0!
A9: =VLOOKUP(C:C,ALL_Pivot_new!B:D,2,FALSE) -> #N/A | B9: =VLOOKUP(C:C,ALL_Pivot_new!B:D,3,FALSE) -> #N/A | D9: =SUMIF(ALL_Pivot_new!B:B,C:C,ALL_Pivot_new!F:F) -> 0 | E9: =SUMIF(ALL_Pivot_new!B:B,C:C,ALL_Pivot_new!G:G) -> 0 | F9: =SUMIF(ALL_Pivot_new!B:B,C:C,ALL_Pivot_new!H:H) -> 0 | G9: =SUMIF(ALL_Pivot_new!B:B,C:C,ALL_Pivot_new!I:I) -> 0 | H9: =SUMIF(ALL_Pivot_new!B:B,C:C,ALL_Pivot_new!J:J) -> 0 | I9: =SUMIF(ALL_Pivot_new!B:B,C:C,ALL_Pivot_new!K:K) -> 0 | J9: =SUMIF(ALL_Pivot_new!B:B,C:C,ALL_Pivot_new!L:L) -> 0 | K9: =SUMIF(ALL_Pivot_new!B:B,C:C,ALL_Pivot_new!M:M) -> 0 | L9: =SUMIF(ALL_Pivot_new!B:B,C:C,ALL_Pivot_new!N:N) -> 0 | M9: =J9/I9 -> #DIV/0! | N9: =SUMIF(ALL_Pivot_new!B:B,C:C,ALL_Pivot_new!O:O) -> 0 | O9: =N9/I9 -> #DIV/0!
A10: =VLOOKUP(C:C,ALL_Pivot_new!B:D,2,FALSE) -> #N/A | B10: =VLOOKUP(C:C,ALL_Pivot_new!B:D,3,FALSE) -> #N/A | D10: =SUMIF(ALL_Pivot_new!B:B,C:C,ALL_Pivot_new!F:F) -> 0 | E10: =SUMIF(ALL_Pivot_new!B:B,C:C,ALL_Pivot_new!G:G) -> 0 | F10: =SUMIF(ALL_Pivot_new!B:B,C:C,ALL_Pivot_new!H:H) -> 0 | G10: =SUMIF(ALL_Pivot_new!B:B,C:C,ALL_Pivot_new!I:I) -> 0 | H10: =SUMIF(ALL_Pivot_new!B:B,C:C,ALL_Pivot_new!J:J) -> 0 | I10: =SUMIF(ALL_Pivot_new!B:B,C:C,ALL_Pivot_new!K:K) -> 0 | J10: =SUMIF(ALL_Pivot_new!B:B,C:C,ALL_Pivot_new!L:L) -> 0 | K10: =SUMIF(ALL_Pivot_new!B:B,C:C,ALL_Pivot_new!M:M) -> 0 | L10: =SUMIF(ALL_Pivot_new!B:B,C:C,ALL_Pivot_new!N:N) -> 0 | M10: =J10/I10 -> #DIV/0! | N10: =SUMIF(ALL_Pivot_new!B:B,C:C,ALL_Pivot_new!O:O) -> 0 | O10: =N10/I10 -> #DIV/0!
A11: =VLOOKUP(C:C,ALL_Pivot_new!B:D,2,FALSE) -> #N/A | B11: =VLOOKUP(C:C,ALL_Pivot_new!B:D,3,FALSE) -> #N/A | D11: =SUMIF(ALL_Pivot_new!B:B,C:C,ALL_Pivot_new!F:F) -> 0 | E11: =SUMIF(ALL_Pivot_new!B:B,C:C,ALL_Pivot_new!G:G) -> 0 | F11: =SUMIF(ALL_Pivot_new!B:B,C:C,ALL_Pivot_new!H:H) -> 0 | G11: =SUMIF(ALL_Pivot_new!B:B,C:C,ALL_Pivot_new!I:I) -> 0 | H11: =SUMIF(ALL_Pivot_new!B:B,C:C,ALL_Pivot_new!J:J) -> 0 | I11: =SUMIF(ALL_Pivot_new!B:B,C:C,ALL_Pivot_new!K:K) -> 0 | J11: =SUMIF(ALL_Pivot_new!B:B,C:C,ALL_Pivot_new!L:L) -> 0 | K11: =SUMIF(ALL_Pivot_new!B:B,C:C,ALL_Pivot_new!M:M) -> 0 | L11: =SUMIF(ALL_Pivot_new!B:B,C:C,ALL_Pivot_new!N:N) -> 0 | M11: =J11/I11 -> #DIV/0! | N11: =SUMIF(ALL_Pivot_new!B:B,C:C,ALL_Pivot_new!O:O) -> 0 | O11: =N11/I11 -> #DIV/0!
A12: =VLOOKUP(C:C,ALL_Pivot_new!B:D,2,FALSE) -> #N/A | B12: =VLOOKUP(C:C,ALL_Pivot_new!B:D,3,FALSE) -> #N/A | D12: =SUMIF(ALL_Pivot_new!B:B,C:C,ALL_Pivot_new!F:F) -> 0 | E12: =SUMIF(ALL_Pivot_new!B:B,C:C,ALL_Pivot_new!G:G) -> 0 | F12: =SUMIF(ALL_Pivot_new!B:B,C:C,ALL_Pivot_new!H:H) -> 0 | G12: =SUMIF(ALL_Pivot_new!B:B,C:C,ALL_Pivot_new!I:I) -> 0 | H12: =SUMIF(ALL_Pivot_new!B:B,C:C,ALL_Pivot_new!J:J) -> 0 | I12: =SUMIF(ALL_Pivot_new!B:B,C:C,ALL_Pivot_new!K:K) -> 0 | J12: =SUMIF(ALL_Pivot_new!B:B,C:C,ALL_Pivot_new!L:L) -> 0 | K12: =SUMIF(ALL_Pivot_new!B:B,C:C,ALL_Pivot_new!M:M) -> 0 | L12: =SUMIF(ALL_Pivot_new!B:B,C:C,ALL_Pivot_new!N:N) -> 0 | M12: =J12/I12 -> #DIV/0! | N12: =SUMIF(ALL_Pivot_new!B:B,C:C,ALL_Pivot_new!O:O) -> 0 | O12: =N12/I12 -> #DIV/0!
A13: =VLOOKUP(C:C,ALL_Pivot_new!B:D,2,FALSE) -> #N/A | B13: =VLOOKUP(C:C,ALL_Pivot_new!B:D,3,FALSE) -> #N/A | D13: =SUMIF(ALL_Pivot_new!B:B,C:C,ALL_Pivot_new!F:F) -> 0 | E13: =SUMIF(ALL_Pivot_new!B:B,C:C,ALL_Pivot_new!G:G) -> 0 | F13: =SUMIF(ALL_Pivot_new!B:B,C:C,ALL_Pivot_new!H:H) -> 0 | G13: =SUMIF(ALL_Pivot_new!B:B,C:C,ALL_Pivot_new!I:I) -> 0 | H13: =SUMIF(ALL_Pivot_new!B:B,C:C,ALL_Pivot_new!J:J) -> 0 | I13: =SUMIF(ALL_Pivot_new!B:B,C:C,ALL_Pivot_new!K:K) -> 0 | J13: =SUMIF(ALL_Pivot_new!B:B,C:C,ALL_Pivot_new!L:L) -> 0 | K13: =SUMIF(ALL_Pivot_new!B:B,C:C,ALL_Pivot_new!M:M) -> 0 | L13: =SUMIF(ALL_Pivot_new!B:B,C:C,ALL_Pivot_new!N:N) -> 0 | M13: =J13/I13 -> #DIV/0! | N13: =SUMIF(ALL_Pivot_new!B:B,C:C,ALL_Pivot_new!O:O) -> 0 | O13: =N13/I13 -> #DIV/0!
... A15: =VLOOKUP(C:C,ALL_Pivot_new!B:D,2,FALSE) -> #N/A | B15: =VLOOKUP(C:C,ALL_Pivot_new!B:D,3,FALSE) -> #N/A | D15: =SUMIF(ALL_Pivot_new!B:B,C:C,ALL_Pivot_new!F:F) -> 0 | E15: =SUMIF(ALL_Pivot_new!B:B,C:C,ALL_Pivot_new!G:G) -> 0 | F15: =SUMIF(ALL_Pivot_new!B:B,C:C,ALL_Pivot_new!H:H) -> 0 | G15: =SUMIF(ALL_Pivot_new!B:B,C:C,ALL_Pivot_new!I:I) -> 0 | H15: =SUMIF(ALL_Pivot_new!B:B,C:C,ALL_Pivot_new!J:J) -> 0 | I15: =SUMIF(ALL_Pivot_new!B:B,C:C,ALL_Pivot_new!K:K) -> 0 | J15: =SUMIF(ALL_Pivot_new!B:B,C:C,ALL_Pivot_new!L:L) -> 0 | K15: =SUMIF(ALL_Pivot_new!B:B,C:C,ALL_Pivot_new!M:M) -> 0 | L15: =SUMIF(ALL_Pivot_new!B:B,C:C,ALL_Pivot_new!N:N) -> 0 | M15: =J15/I15 -> #DIV/0! | N15: =SUMIF(ALL_Pivot_new!B:B,C:C,ALL_Pivot_new!O:O) -> 0 | O15: =N15/I15 -> #DIV/0!
B16: Total | D16: =SUM(D2:D15) -> 0 | E16: =SUM(E2:E15) -> 0 | F16: =SUM(F2:F15) -> 0 | G16: =SUM(G2:G15) -> 0 | H16: =SUM(H2:H15) -> 0 | I16: =SUM(I2:I15) -> 0 | J16: =SUM(J2:J15) -> 0 | K16: =SUM(K2:K15) -> 0 | L16: =SUM(L2:L15) -> 0 | M16: =J16/I16 -> #DIV/0! | N16: =SUM(N2:N15) -> 0 | O16: =N16/I16 -> #DIV/0!
G17: =G16/1024 -> 0 | I17: =I16/1024 -> 0

Sheet MOR Report Purpose
A1: Location | B1: Raw installed (TB) | C1: Usable Installed (TB) | D1: Used Installed (TB) | E1: Allocated (TB) | F1: Percent Allocated (Allocated Usable) | G1: Percent Used (Used/Usable | H1: No of Frames
A2: Swiss | B2: =SUMIF('Final MOR'!A:A,A2:A6,'Final MOR'!G:G)/1024 -> 153.57765 | C2: =SUMIF('Final MOR'!A:A,A2:A6,'Final MOR'!I:I)/1024 -> 90.638086 | D2: =SUMIF('Final MOR'!A:A,A2:A6,'Final MOR'!J:J)/1024 -> 33.547949 | E2: =SUMIF('Final MOR'!A:A,A2:A6,'Final MOR'!N:N)/1024 -> 101.71025 | F2: =E2/C2 -> 1.122158 | G2: =D2/C2 -> 0.37013082 | H2: =COUNTIF('Final MOR'!A:A,A:A) -> 2 | I2: =COUNTIF('Final MOR'!A1:A46,A1:A7) -> 2
A3: RDC | B3: =SUMIF('Final MOR'!A:A,A3:A7,'Final MOR'!G:G)/1024 -> 4740.7353 | C3: =SUMIF('Final MOR'!A:A,A3:A7,'Final MOR'!I:I)/1024 -> 3008.5561 | D3: =SUMIF('Final MOR'!A:A,A3:A7,'Final MOR'!J:J)/1024 -> 1546.4479 | E3: =SUMIF('Final MOR'!A:A,A3:A7,'Final MOR'!N:N)/1024 -> 2597.5743 | F3: =E3/C3 -> 0.86339568 | G3: =D3/C3 -> 0.51401664 | H3: =COUNTIF('Final MOR'!A:A,A:A) -> 19 | I3: =COUNTIF('Final MOR'!A1:A46,A1:A7) -> 19
A4: FDC | B4: =SUMIF('Final MOR'!A:A,A4:A8,'Final MOR'!G:G)/1024 -> 4731.3935 | C4: =SUMIF('Final MOR'!A:A,A4:A8,'Final MOR'!I:I)/1024 -> 2929.783 | D4: =SUMIF('Final MOR'!A:A,A4:A8,'Final MOR'!J:J)/1024 -> 1685.9839 | E4: =SUMIF('Final MOR'!A:A,A4:A8,'Final MOR'!N:N)/1024 -> 2698.5398 | F4: =E4/C4 -> 0.92107156 | G4: =D4/C4 -> 0.57546373 | H4: =COUNTIF('Final MOR'!A:A,A:A) -> 17 | I4: =COUNTIF('Final MOR'!A1:A46,A1:A7) -> 17
A5: cgc | B5: =SUMIF('Final MOR'!A:A,A5:A8,'Final MOR'!G:G)/1024 -> 734.46684 | C5: =SUMIF('Final MOR'!A:A,A5:A8,'Final MOR'!I:I)/1024 -> 444.39737 | D5: =SUMIF('Final MOR'!A:A,A5:A8,'Final MOR'!J:J)/1024 -> 222.31577 | E5: =SUMIF('Final MOR'!A:A,A5:A8,'Final MOR'!N:N)/1024 -> 320.09473 | F5: =E5/C5 -> 0.72028942 | G5: =D5/C5 -> 0.50026347 | H5: =COUNTIF('Final MOR'!A:A,A:A) -> 4 | I5: =COUNTIF('Final MOR'!A1:A46,A1:A7) -> 4
A6: welle | B6: =SUMIF('Final MOR'!A:A,A6:A9,'Final MOR'!G:G)/1024 -> 5.2734375 | C6: =SUMIF('Final MOR'!A:A,A6:A9,'Final MOR'!I:I)/1024 -> 4.6142578 | D6: =SUMIF('Final MOR'!A:A,A6:A9,'Final MOR'!J:J)/1024 -> 4.1816406 | E6: =SUMIF('Final MOR'!A:A,A6:A9,'Final MOR'!N:N)/1024 -> 4.1816406 | F6: =E6/C6 -> 0.90624339 | G6: =D6/C6 -> 0.90624339 | H6: =COUNTIF('Final MOR'!A:A,A:A) -> 1 | I6: =COUNTIF('Final MOR'!A1:A46,A1:A7) -> 1
A7: Total | B7: =SUM(B2:B6) -> 10365.447 | C7: =SUM(C2:C6) -> 6477.9888 | D7: =SUM(D2:D6) -> 3492.4771 | E7: =SUM(E2:E6) -> 5722.1007 | F7: =E7/C7 -> 0.88331439 | G7: =D7/C7 -> 0.53912985 | H7: =SUM(H2:H6) -> 43 | I7: =SUM(I2:I6) -> 43
A10: Location | B10: Raw installed (TB) | C10: Usable Installed (TB) | D10: Used Installed (TB) | E10: Allocated (TB) | F10: Percent Allocated (Allocated Usable) | G10: Percent Used (Used/Usable | H10: No of Frames
A11: vmax | B11: =SUMIF('Final MOR'!B:B,A:A,'Final MOR'!G:G)/1024 -> 8302.6421 | C11: =SUMIF('Final MOR'!B:B,A:A,'Final MOR'!I:I)/1024 -> 5040.3838 | D11: =SUMIF('Final MOR'!B:B,A:A,'Final MOR'!J:J)/1024 -> 2553.9787 | E11: =SUMIF('Final MOR'!B:B,A:A,'Final MOR'!N:N)/1024 -> 4781.7048 | F11: =E11/C11 -> 0.94867871 | G11: =D11/C11 -> 0.50670321 | H11: =COUNTIF('Final MOR'!B:B,A:A) -> 32
A12: HDS | B12: =SUMIF('Final MOR'!B:B,A:A,'Final MOR'!G:G)/1024 -> 1116.7579 | C12: =SUMIF('Final MOR'!B:B,A:A,'Final MOR'!I:I)/1024 -> 964.5817 | D12: =SUMIF('Final MOR'!B:B,A:A,'Final MOR'!J:J)/1024 -> 590.72032 | E12: =SUMIF('Final MOR'!B:B,A:A,'Final MOR'!N:N)/1024 -> 590.72032 | F12: =E12/C12 -> 0.61241087 | G12: =D12/C12 -> 0.61241087 | H12: =COUNTIF('Final MOR'!B:B,A:A) -> 7
A13: VNX | B13: =SUMIF('Final MOR'!B:B,A:A,'Final MOR'!G:G)/1024 -> 0 | C13: =SUMIF('Final MOR'!B:B,A:A,'Final MOR'!I:I)/1024 -> 0 | D13: =SUMIF('Final MOR'!B:B,A:A,'Final MOR'!J:J)/1024 -> 0 | E13: =SUMIF('Final MOR'!B:B,A:A,'Final MOR'!N:N)/1024 -> 0 | F13: =E13/C13 -> #DIV/0! | G13: =D13/C13 -> #DIV/0! | H13: =COUNTIF('Final MOR'!B:B,A:A) -> 0
A14: XIV | B14: =SUMIF('Final MOR'!B:B,A:A,'Final MOR'!G:G)/1024 -> 946.04666 | C14: =SUMIF('Final MOR'!B:B,A:A,'Final MOR'!I:I)/1024 -> 473.02333 | D14: =SUMIF('Final MOR'!B:B,A:A,'Final MOR'!J:J)/1024 -> 336.09727 | E14: =SUMIF('Final MOR'!B:B,A:A,'Final MOR'!N:N)/1024 -> 336.09727 | F14: =E14/C14 -> 0.71053002 | G14: =D14/C14 -> 0.71053002 | H14: =COUNTIF('Final MOR'!B:B,A:A) -> 2
A15: Total | B15: =SUM(B11:B14) -> 10365.447 | C15: =SUM(C11:C14) -> 6477.9888 | D15: =SUM(D11:D14) -> 3480.7963 | E15: =SUM(E11:E14) -> 5708.5224 | F15: =E15/C15 -> 0.88121831 | G15: =D15/C15 -> 0.53732668 | H15: =SUM(H11:H14) -> 41
L21: h

Sheet Tier Report
A2: Loc | B2: (All)
A4: Tier | B4: Market Standard (GB) | C4: formatted(S+D) (GB) | D4: physical/Raid Total (GB) | E4: Usable (GB) | F4: Used (GB) | G4: free (GB) | H4: Allocated (GB) | I4: % Allocated | J4: % Used
A5: Centera | B5: 1275146.4 | C5: 1159224 | D5: 816288 | E5: 714252 | F5: 714252 | G5: 0 | H5: 714252 | I5: =H5/E5 -> 1 | J5: =F5/E5 -> 1
A6: Clariion | B6: 127930.51 | C6: 117909.04 | D6: 116300.47 | E6: 59578.668 | F6: 58562.191 | G6: 1016.4776 | H6: 58562.191 | I6: =H6/E6 -> 0.9829389 | J6: =F6/E6 -> 0.9829389
A7: Non-Replication | B7: 7293160 | C7: 6619446.9 | D7: 6068118 | E7: 4402307.8 | F7: 1962149.5 | G7: 2440158.2 | H7: 3346703.8 | I7: =H7/E7 -> 0.76021578 | J7: =F7/E7 -> 0.4457093
A8: Replication | B8: 5689044 | C8: 5171001.6 | D8: 4880225.4 | E8: 2885757.7 | F8: 1263706.4 | G8: 1622051.3 | H8: 2288491.6 | I8: =H8/E8 -> 0.79302973 | J8: =F8/E8 -> 0.43791147
A9: VNX | B9: 2900354.2 | C9: 2636686 | D9: 2269534.4 | E9: 1367069 | F9: 1264185 | G9: 102884 | H9: 1264185 | I9: =H9/E9 -> 0.92474118 | J9: =F9/E9 -> 0.92474118
A10: XIV | B10: 1080000 | C10: 1069230 | D10: 968751.8 | E10: 484375.9 | F10: 237127.84 | G10: 247248.06 | H10: 237127.84 | I10: =H10/E10 -> 0.48955334 | J10: =F10/E10 -> 0.48955334
A11: Grand Total | B11: 18365635 | C11: 16773498 | D11: 15119218 | E11: 9913341 | F11: 5499983 | G11: 4413358.1 | H11: 7909322.5 | I11: =H11/E11 -> 0.7978463 | J11: =F11/E11 -> 0.55480619
A15: Tier | B15: Market Standard (TB) | C15: formatted(S+D) (TB) | D15: physical/Raid Total (TB) | E15: Usable (TB) | F15: Used (TB) | G15: free (TB) | H15: Allocated (TB) | I15: % Allocated | J15: % Used
A16: Centera | B16: =B5/1024 -> 1245.2602 | C16: =C5/1024 -> 1132.0547 | D16: =D5/1024 -> 797.15625 | E16: =E5/1024 -> 697.51172 | F16: =F5/1024 -> 697.51172 | G16: =G5/1024 -> 0 | H16: =H5/1024 -> 697.51172 | I16: =H16/E16 -> 1 | J16: =F16/E16 -> 1
A17: Clariion | B17: =B6/1024 -> 124.93214 | C17: =C6/1024 -> 115.14555 | D17: =D6/1024 -> 113.57468 | E17: =E6/1024 -> 58.182293 | F17: =F6/1024 -> 57.189639 | G17: =G6/1024 -> 0.99265391 | H17: =H6/1024 -> 57.189639 | I17: =H17/E17 -> 0.9829389 | J17: =F17/E17 -> 0.9829389
A18: Non-Replication | B18: =B7/1024 -> 7122.2266 | C18: =C7/1024 -> 6464.3036 | D18: =D7/1024 -> 5925.8965 | E18: =E7/1024 -> 4299.1287 | F18: =F7/1024 -> 1916.1616 | G18: =G7/1024 -> 2382.967 | H18: =H7/1024 -> 3268.2654 | I18: =H18/E18 -> 0.76021578 | J18: =F18/E18 -> 0.4457093
A19: Replication | B19: =B8/1024 -> 5555.707 | C19: =C8/1024 -> 5049.8063 | D19: =D8/1024 -> 4765.8451 | E19: =E8/1024 -> 2818.1228 | F19: =F8/1024 -> 1234.0883 | G19: =G8/1024 -> 1584.0345 | H19: =H8/1024 -> 2234.8551 | I19: =H19/E19 -> 0.79302973 | J19: =F19/E19 -> 0.43791147
A20: VNX | B20: =B9/1024 -> 2832.3771 | C20: =C9/1024 -> 2574.8887 | D20: =D9/1024 -> 2216.3422 | E20: =E9/1024 -> 1335.0283 | F20: =F9/1024 -> 1234.5557 | G20: =G9/1024 -> 100.47266 | H20: =H9/1024 -> 1234.5557 | I20: =H20/E20 -> 0.92474118 | J20: =F20/E20 -> 0.92474118
A21: XIV | B21: =B10/1024 -> 1054.6875 | C21: =C10/1024 -> 1044.1699 | D21: =D10/1024 -> 946.04668 | E21: =E10/1024 -> 473.02334 | F21: =F10/1024 -> 231.57016 | G21: =G10/1024 -> 241.45318 | H21: =H10/1024 -> 231.57016 | I21: =H21/E21 -> 0.48955334 | J21: =F21/E21 -> 0.48955334
A22: Grand Total | B22: =B11/1024 -> 17935.19 | C22: =C11/1024 -> 16380.369 | D22: =D11/1024 -> 14764.861 | E22: =E11/1024 -> 9680.9971 | F22: =F11/1024 -> 5371.0771 | G22: =G11/1024 -> 4309.92 | H22: =H11/1024 -> 7723.9477 | I22: =H22/E22 -> 0.7978463 | J22: =F22/E22 -> 0.55480619
A25: Tier | B25: Market Standard (TB) | C25: formatted(S+D) (TB) | D25: physical/Raid Total (TB) | E25: Usable (TB) | F25: Used (TB) | G25: free (TB) | H25: Allocated (TB) | I25: % Allocated | J25: % Used
A26: Replication | B26: =B19 -> 5555.707 | C26: =C19 -> 5049.8063 | D26: =D19 -> 4765.8451 | E26: =E19 -> 2818.1228 | F26: =F19 -> 1234.0883 | G26: =G19 -> 1584.0345 | H26: =H19 -> 2234.8551 | I26: =H26/E26 -> 0.79302973 | J26: =F26/E26 -> 0.43791147
A27: Non-Replication | B27: =B16+B17+B18+B20+B21 -> 12379.483 | C27: =C16+C17+C18+C20+C21 -> 11330.562 | D27: =D16+D17+D18+D20+D21 -> 9999.0163 | E27: =E16+E17+E18+E20+E21 -> 6862.8743 | F27: =F16+F17+F18+F20+F21 -> 4136.9888 | G27: =G16+G17+G18+G20+G21 -> 2725.8855 | H27: =H16+H17+H18+H20+H21 -> 5489.0926 | I27: =H27/E27 -> 0.79982415 | J27: =F27/E27 -> 0.60280702
A28: Grand Total | B28: =SUM(B26:B27) -> 17935.19 | C28: =SUM(C26:C27) -> 16380.369 | D28: =SUM(D26:D27) -> 14764.861 | E28: =SUM(E26:E27) -> 9680.9971 | F28: =SUM(F26:F27) -> 5371.0771 | G28: =SUM(G26:G27) -> 4309.92 | H28: =SUM(H26:H27) -> 7723.9477 | I28: =H28/E28 -> 0.7978463 | J28: =F28/E28 -> 0.55480619

Sheet ALL_Pivot_new
E1: Loc | F1: (All)
E2: Type | F2: (Multiple Items)
A4: Serial No | B4: Alias name | C4: Loc | D4: Type | E4: Array | F4: Market | G4: formatted(S+D) | H4: format lost | I4: physical/Raid Total | J4: Parity Lost | K4: Usable | L4: Used | M4: free | N4: spare formatted | O4: Allocated | P4: Not in pool | Q4: BCVs | R4: %Used | S4: %allocated | T4: %format | U4: %spare | V4: %parity | W4: sum(all) | X4: diff | Y4: %diff | Z4: Rep/Non-Rep | AB4: Market Raw
A5: 290105349 | B5: 5349 | C5: FDC | D5: DMX | E5: 290105349 | F5: 25193.97 | G5: 22903.609 | H5: 2290.3609 | I5: 20426.211 | J5: 2553.2764 | K5: 17872.935 | L5: 10018.175 | M5: 7854.7598 | N5: 2477.3984 | O5: 10018.175 | R5: =L5/K5 -> 0.5605221 | S5: =O5/K5 -> 0.5605221 | T5: =H5/$F5 -> 0.090909091 | U5: =N5/$F5 -> 0.09833299 | V5: =J5/$F5 -> 0.10134474 | W5: =H5+J5+K5+N5+P5 -> 25193.97 | X5: =F5-W5 -> 0 | Y5: =X5/F5 -> 0 | Z5: Replication | AB5: Installed Raw = Market - format lost - spare lost
A6: 492600377 | B6: 377 | C6: Swiss | D6: Vmax | E6: 492600377 | F6: 46800 | G6: 42525 | H6: 4275 | I6: 37817.714 | J6: 4727.2143 | K6: 33090.5 | L6: 14757.2 | M6: 18333.3 | N6: 3271 | O6: 42854.1 | R6: =L6/K6 -> 0.44596485 | S6: =O6/K6 -> 1.2950575 | T6: =H6/$F6 -> 0.091346154 | U6: =N6/$F6 -> 0.069893162 | V6: =J6/$F6 -> 0.10100885 | W6: =H6+J6+K6+N6+P6 -> 45363.714 | X6: =F6-W6 -> 1436.2857 | Y6: =X6/F6 -> 0.030689866 | Z6: Non-Replication | AB6: Install usable = Market - format lost - spare lost - parity
A7: 000290105373 | B7: 5373 | C7: RDC | D7: DMX | E7: 000290105373 | F7: 68850 | G7: 63533.6 | H7: 5316.4 | I7: 60211.52 | J7: 7526.44 | K7: 52685.08 | L7: 1943.0361 | M7: 50742.044 | N7: 3322.08 | O7: 3886.0723 | Q7: 1943.0361 | R7: =L7/K7 -> 0.036880197 | S7: =O7/K7 -> 0.073760394 | T7: =H7/$F7 -> 0.077217139 | U7: =N7/$F7 -> 0.04825098 | V7: =J7/$F7 -> 0.10931649 | W7: =H7+J7+K7+N7+P7 -> 68850 | X7: =F7-W7 -> 0 | Y7: =X7/F7 -> 0 | Z7: Replication
A8: 000292600623 | B8: 0623 | C8: CGC | D8: Vmax | E8: 000292600623 | F8: 340268 | G8: 304207.17 | H8: 36060.828 | I8: 285733.97 | J8: 35716.746 | K8: 250017.22 | L8: 18007.641 | M8: 232009.58 | N8: 8209.5469 | O8: 25322.4 | R8: =L8/K8 -> 0.0720256 | S8: =O8/K8 -> 0.10128262 | T8: =H8/$F8 -> 0.10597772 | U8: =N8/$F8 -> 0.024126709 | V8: =J8/$F8 -> 0.10496652 | W8: =H8+J8+K8+N8+P8 -> 330004.35 | X8: =F8-W8 -> 10263.654 | Y8: =X8/F8 -> 0.030163442 | Z8: Non-Replication
A9: 000292600678 | B9: 0678 | C9: RDC | D9: Vmax | E9: 000292600678 | F9: 243000 | G9: 220804.1 | H9: 22195.898 | I9: 207997.4 | J9: 25999.675 | K9: 181997.73 | L9: 103227.91 | M9: 78769.82 | N9: 4906.7578 | O9: 94562.4 | P9: 16.8438 | R9: =L9/K9 -> 0.56719338 | S9: =O9/K9 -> 0.51958012 | T9: =H9/$F9 -> 0.091341146 | U9: =N9/$F9 -> 0.020192419 | V9: =J9/$F9 -> 0.10699455 | W9: =H9+J9+K9+N9+P9 -> 235116.9 | X9: =F9-W9 -> 7883.0982 | Y9: =X9/F9 -> 0.032440733 | Z9: Non-Replication
A10: 000292600879 | B10: 0879 | C10: FDC | D10: Vmax | E10: 000292600879 | F10: 257400 | G10: 233888.79 | H10: 23511.211 | I10: 220603.44 | J10: 27575.43 | K10: 193028.01 | L10: 25918.98 | M10: 167109.03 | N10: 4906.7578 | O10: 72666.1 | P10: 16.8438 | R10: =L10/K10 -> 0.13427575 | S10: =O10/K10 -> 0.37645365 | T10: =H10/$F10 -> 0.091341146 | U10: =N10/$F10 -> 0.019062773 | V10: =J10/$F10 -> 0.10713065 | W10: =H10+J10+K10+N10+P10 -> 249038.25 | X10: =F10-W10 -> 8361.7455 | Y10: =X10/F10 -> 0.032485414 | Z10: Non-Replication
A11: 000292602804 | B11: 2804 | C11: FDC | D11: Vmax | E11: 000292602804 | F11: 118400 | G11: 107740.89 | H11: 10659.113 | I11: 95168.675 | J11: 12130.234 | K11: 83038.44 | L11: 59851.012 | M11: 23187.429 | N11: 3643.793 | O11: 108532 | P11: 4595.96 | Q11: 0 | R11: =L11/K11 -> 0.72076272 | S11: =O11/K11 -> 1.3070091 | T11: =H11/$F11 -> 0.090026295 | U11: =N11/$F11 -> 0.030775278 | V11: =J11/$F11 -> 0.1024513 | W11: =H11+J11+K11+N11+P11 -> 114067.54 | X11: =F11-W11 -> 4332.4592 | Y11: =X11/F11 -> 0.036591716 | Z11: Replication
A12: 000292603004 | B12: 3004 | C12: FDC | D12: Vmax | E12: 000292603004 | F12: 597408 | G12: 527587.59 | H12: 69820.406 | I12: 500822.19 | J12: 62602.774 | K12: 438219.42 | L12: 211688.28 | M12: 226531.14 | N12: 10767.094 | O12: 374596 | Q12: 0 | R12: =L12/K12 -> 0.48306457 | S12: =O12/K12 -> 0.85481378 | T12: =H12/$F12 -> 0.11687223 | U12: =N12/$F12 -> 0.018023016 | V12: =J12/$F12 -> 0.10479065 | W12: =H12+J12+K12+N12+P12 -> 581409.69 | X12: =F12-W12 -> 15998.306 | Y12: =X12/F12 -> 0.026779531 | Z12: Non-Replication
A13: 000292603073 | B13: 3073 | C13: RDC | D13: Vmax | E13: 000292603073 | F13: 531872 | G13: 470601.19 | H13: 61270.812 | I13: 445146.03 | J13: 55643.254 | K13: 389502.78 | L13: 215487.47 | M13: 174015.3 | N13: 10767.094 | O13: 327291 | Q13: 0 | R13: =L13/K13 -> 0.55323733 | S13: =O13/K13 -> 0.84027899 | T13: =H13/$F13 -> 0.11519842 | U13: =N13/$F13 -> 0.020243769 | V13: =J13/$F13 -> 0.10461775 | W13: =H13+J13+K13+N13+P13 -> 517183.94 | X13: =F13-W13 -> 14688.064 | Y13: =X13/F13 -> 0.027615787 | Z13: Non-Replication
A14: 000292603286 | B14: 3286 | C14: RDC | D14: Vmax | E14: 000292603286 | F14: 227300 | G14: 206693.84 | H14: 20606.164 | I14: 189713.02 | J14: 23948.278 | K14: 165764.74 | L14: 118754.41 | M14: 47010.337 | N14: 4461.5859 | O14: 231128.4 | P14: 4595.96 | Q14: 134002 | R14: =L14/K14 -> 0.71640328 | S14: =O14/K14 -> 1.3943158 | T14: =H14/$F14 -> 0.090656243 | U14: =N14/$F14 -> 0.019628623 | V14: =J14/$F14 -> 0.10535978 | W14: =H14+J14+K14+N14+P14 -> 219376.73 | X14: =F14-W14 -> 7923.2695 | Y14: =X14/F14 -> 0.034858203 | Z14: Replication
A15: 000292603696 | B15: 3696 | C15: RDC | D15: Vmax | E15: 000292603696 | F15: 227100 | G15: 206507.53 | H15: 20592.475 | I15: 190337.62 | J15: 24260.578 | K15: 166077.05 | L15: 30136.719 | M15: 135940.33 | N15: 4275.2754 | O15: 173040.4 | P15: 4595.96 | Q15: 137563 | R15: =L15/K15 -> 0.18146227 | S15: =O15/K15 -> 1.0419284 | T15: =H15/$F15 -> 0.090675802 | U15: =N15/$F15 -> 0.018825519 | V15: =J15/$F15 -> 0.10682773 | W15: =H15+J15+K15+N15+P15 -> 219801.33 | X15: =F15-W15 -> 7298.665 | Y15: =X15/F15 -> 0.032138551 | Z15: Replication
A16: 000292603875 | B16: 3875 | C16: FDC | D16: Vmax | E16: 000292603875 | F16: 118400 | G16: 107740.89 | H16: 10659.113 | I16: 95793.317 | J16: 12442.54 | K16: 83350.777 | L16: 16076.605 | M16: 67274.172 | N16: 3643.793 | O16: 33121.5 | P16: 4595.96 | Q16: 0 | R16: =L16/K16 -> 0.19287889 | S16: =O16/K16 -> 0.39737482 | T16: =H16/$F16 -> 0.090026295 | U16: =N16/$F16 -> 0.030775278 | V16: =J16/$F16 -> 0.10508902 | W16: =H16+J16+K16+N16+P16 -> 114692.18 | X16: =F16-W16 -> 3707.8168 | Y16: =X16/F16 -> 0.03131602 | Z16: Replication
A17: 000292604330 | B17: 4330 | C17: RDC | D17: Vmax | E17: 000292604330 | F17: 287100 | G17: 260875.96 | H17: 26224.043 | I17: 248032.04 | J17: 124016.02 | K17: 124016.02 | L17: 91360.07 | M17: 32655.947 | N17: 5724.5508 | O17: 171812 | Q17: 37070 | R17: =L17/K17 -> 0.7366796 | S17: =O17/K17 -> 1.3854017 | T17: =H17/$F17 -> 0.091341146 | U17: =N17/$F17 -> 0.019939223 | V17: =J17/$F17 -> 0.43196105 | W17: =H17+J17+K17+N17+P17 -> 279980.63 | X17: =F17-W17 -> 7119.3711 | Y17: =X17/F17 -> 0.024797531 | Z17: Replication
A18: 000292604652 | B18: 4652 | C18: FDC | D18: Vmax | E18: 000292604652 | F18: 441000 | G18: 400718.55 | H18: 40281.445 | I18: 383226.21 | J18: 191613.11 | K18: 191613.11 | L18: 149523.89 | M18: 42089.215 | N18: 8177.9297 | O18: 277419 | Q18: 144244 | R18: =L18/K18 -> 0.78034271 | S18: =O18/K18 -> 1.4478081 | T18: =H18/$F18 -> 0.091341146 | U18: =N18/$F18 -> 0.018544058 | V18: =J18/$F18 -> 0.43449684 | W18: =H18+J18+K18+N18+P18 -> 431685.59 | X18: =F18-W18 -> 9314.4141 | Y18: =X18/F18 -> 0.02112112 | Z18: Replication
A19: 000295700347 | B19: 0347 | C19: RDC | D19: Vmax | E19: 000295700347 | F19: 588456 | G19: 535316.42 | H19: 53139.582 | I19: 354223.61 | J19: 130153.4 | K19: 224070.22 | L19: 103721.79 | M19: 120348.42 | N19: 10868.48 | O19: 189680 | P19: 165000 | R19: =L19/K19 -> 0.46289861 | S19: =O19/K19 -> 0.84652036 | T19: =H19/$F19 -> 0.090303408 | U19: =N19/$F19 -> 0.018469487 | V19: =J19/$F19 -> 0.22117779 | W19: =H19+J19+K19+N19+P19 -> 583231.68 | X19: =F19-W19 -> 5224.3229 | Y19: =X19/F19 -> 0.0088780179 | Z19: Non-Replication
A20: 000295700349 | B20: 0349 | C20: FDC | D20: Vmax | E20: 000295700349 | F20: 588456 | G20: 535316.42 | H20: 53139.582 | I20: 427723.02 | J20: 165435.64 | K20: 262287.38 | L20: 172491.32 | M20: 89796.051 | N20: 10868.48 | O20: 294710 | P20: 165000 | R20: =L20/K20 -> 0.6576425 | S20: =O20/K20 -> 1.1236149 | T20: =H20/$F20 -> 0.090303408 | U20: =N20/$F20 -> 0.018469487 | V20: =J20/$F20 -> 0.28113511 | W20: =H20+J20+K20+N20+P20 -> 656731.08 | X20: =F20-W20 -> -68275.081 | Y20: =X20/F20 -> -0.1160241 | Z20: Non-Replication
A21: APM00120503066 | B21: centera_PL_02G | C21: Poland | D21: Centera | E21: APM00120503066 | F21: 44002.2 | G21: 40002 | H21: 4000.2 | I21: 16625.143 | J21: 2078.1429 | K21: 14547 | L21: 14547 | M21: 0 | O21: 14547 | R21: =L21/K21 -> 1 | S21: =O21/K21 -> 1 | T21: =H21/$F21 -> 0.090909091 | U21: =N21/$F21 -> 0 | V21: =J21/$F21 -> 0.047228158 | W21: =H21+J21+K21+N21+P21 -> 20625.343 | X21: =F21-W21 -> 23376.857 | Y21: =X21/F21 -> 0.53126564 | Z21: Centera
A22: APM00121102552 | B22: centera_PL_01G | C22: Poland | D22: Centera | E22: APM00121102552 | F22: 64930.8 | G22: 59028 | H22: 5902.8 | I22: 55448 | J22: 6931 | K22: 48517 | L22: 48517 | M22: 0 | O22: 48517 | R22: =L22/K22 -> 1 | S22: =O22/K22 -> 1 | T22: =H22/$F22 -> 0.090909091 | U22: =N22/$F22 -> 0 | V22: =J22/$F22 -> 0.10674441 | W22: =H22+J22+K22+N22+P22 -> 61350.8 | X22: =F22-W22 -> 3580 | Y22: =X22/F22 -> 0.055135621 | Z22: Centera
A23: APM00121204311 | B23: centera_PL_01S | C23: Poland | D23: Centera | E23: APM00121204311 | F23: 86168.5 | G23: 78335 | H23: 7833.5 | I23: 58121.143 | J23: 7265.1429 | K23: 50856 | L23: 50856 | M23: 0 | O23: 50856 | R23: =L23/K23 -> 1 | S23: =O23/K23 -> 1 | T23: =H23/$F23 -> 0.090909091 | U23: =N23/$F23 -> 0 | V23: =J23/$F23 -> 0.08431321 | W23: =H23+J23+K23+N23+P23 -> 65954.643 | X23: =F23-W23 -> 20213.857 | Y23: =X23/F23 -> 0.23458523 | Z23: Centera
A24: APM00121204573 | B24: centera_PL_02S | C24: Poland | D24: Centera | E24: APM00121204573 | F24: 44003.3 | G24: 40003 | H24: 4000.3 | I24: 16627.429 | J24: 2078.4286 | K24: 14549 | L24: 14549 | M24: 0 | O24: 14549 | R24: =L24/K24 -> 1 | S24: =O24/K24 -> 1 | T24: =H24/$F24 -> 0.090909091 | U24: =N24/$F24 -> 0 | V24: =J24/$F24 -> 0.04723347 | W24: =H24+J24+K24+N24+P24 -> 20627.729 | X24: =F24-W24 -> 23375.571 | Y24: =X24/F24 -> 0.53122315 | Z24: Centera
A25: CK200053010120 | B25: centera_CH_01E | C25: Swiss | D25: Centera | E25: CK200053010120 | F25: 50688 | G25: 46080 | H25: 4608 | I25: 15213.714 | J25: 1901.7143 | K25: 13312 | L25: 13312 | M25: 0 | O25: 13312 | R25: =L25/K25 -> 1 | S25: =O25/K25 -> 1 | T25: =H25/$F25 -> 0.090909091 | U25: =N25/$F25 -> 0 | V25: =J25/$F25 -> 0.037518038 | W25: =H25+J25+K25+N25+P25 -> 19821.714 | X25: =F25-W25 -> 30866.286 | Y25: =X25/F25 -> 0.60894661 | Z25: Centera
A26: CK200054900163 | B26: centera_CH_01R | C26: Swiss | D26: Centera | E26: CK200054900163 | F26: 50688 | G26: 46080 | H26: 4608 | I26: 19894.857 | J26: 2486.8571 | K26: 17408 | L26: 17408 | M26: 0 | O26: 17408 | R26: =L26/K26 -> 1 | S26: =O26/K26 -> 1 | T26: =H26/$F26 -> 0.090909091 | U26: =N26/$F26 -> 0 | V26: =J26/$F26 -> 0.049062049 | W26: =H26+J26+K26+N26+P26 -> 24502.857 | X26: =F26-W26 -> 26185.143 | Y26: =X26/F26 -> 0.51659452 | Z26: Centera
A27: CK200054900292 | B27: centera_TK_01T | C27: Turkey DC | D27: Centera | E27: CK200054900292 | F27: 55559.9 | G27: 50509 | H27: 5050.9 | I27: 54083.429 | J27: 6760.4286 | K27: 47323 | L27: 47323 | M27: 0 | O27: 47323 | R27: =L27/K27 -> 1 | S27: =O27/K27 -> 1 | T27: =H27/$F27 -> 0.090909091 | U27: =N27/$F27 -> 0 | V27: =J27/$F27 -> 0.1216782 | W27: =H27+J27+K27+N27+P27 -> 59134.329 | X27: =F27-W27 -> -3574.4286 | Y27: =X27/F27 -> -0.064334683 | Z27: Centera
A28: CK200054900294 | B28: centera_TK_01Y | C28: Turkey DC | D28: Centera | E28: CK200054900294 | F28: 54818.5 | G28: 49835 | H28: 4983.5 | I28: 46635.429 | J28: 5829.4286 | K28: 40806 | L28: 40806 | M28: 0 | O28: 40806 | R28: =L28/K28 -> 1 | S28: =O28/K28 -> 1 | T28: =H28/$F28 -> 0.090909091 | U28: =N28/$F28 -> 0 | V28: =J28/$F28 -> 0.10634053 | W28: =H28+J28+K28+N28+P28 -> 51618.929 | X28: =F28-W28 -> 3199.5714 | Y28: =X28/F28 -> 0.058366636 | Z28: Centera
A29: CK200061900265 | B29: centera_DE_01F | C29: FDC | D29: Centera | E29: CK200061900265 | F29: 272923.2 | G29: 248112 | H29: 24811.2 | I29: 176107.43 | J29: 22013.429 | K29: 154094 | L29: 154094 | M29: 0 | O29: 154094 | R29: =L29/K29 -> 1 | S29: =O29/K29 -> 1 | T29: =H29/$F29 -> 0.090909091 | U29: =N29/$F29 -> 0 | V29: =J29/$F29 -> 0.08065796 | W29: =H29+J29+K29+N29+P29 -> 200918.63 | X29: =F29-W29 -> 72004.571 | Y29: =X29/F29 -> 0.26382723 | Z29: Centera
A30: CK200061900567 | B30: centera_UK_01R | C30: RDC | D30: Centera | E30: CK200061900567 | F30: 269577 | G30: 245070 | H30: 24507 | I30: 176035.43 | J30: 22004.429 | K30: 154031 | L30: 154031 | M30: 0 | O30: 154031 | R30: =L30/K30 -> 1 | S30: =O30/K30 -> 1 | T30: =H30/$F30 -> 0.090909091 | U30: =N30/$F30 -> 0 | V30: =J30/$F30 -> 0.081625764 | W30: =H30+J30+K30+N30+P30 -> 200542.43 | X30: =F30-W30 -> 69034.571 | Y30: =X30/F30 -> 0.2560848 | Z30: Centera
A31: CK200062000592 | B31: centera_DE_02F | C31: FDC | D31: Centera | E31: CK200062000592 | F31: 109422.5 | G31: 99475 | H31: 9947.5 | I31: 82211.429 | J31: 10276.429 | K31: 71935 | L31: 71935 | M31: 0 | O31: 71935 | R31: =L31/K31 -> 1 | S31: =O31/K31 -> 1 | T31: =H31/$F31 -> 0.090909091 | U31: =N31/$F31 -> 0 | V31: =J31/$F31 -> 0.093915132 | W31: =H31+J31+K31+N31+P31 -> 92158.929 | X31: =F31-W31 -> 17263.571 | Y31: =X31/F31 -> 0.15776985 | Z31: Centera
A32: CK200062000593 | B32: centera_UK_02R | C32: RDC | D32: Centera | E32: CK200062000593 | F32: 116045.6 | G32: 105496 | H32: 10549.6 | I32: 85177.143 | J32: 10647.143 | K32: 74530 | L32: 74530 | M32: 0 | O32: 74530 | R32: =L32/K32 -> 1 | S32: =O32/K32 -> 1 | T32: =H32/$F32 -> 0.090909091 | U32: =N32/$F32 -> 0 | V32: =J32/$F32 -> 0.091749647 | W32: =H32+J32+K32+N32+P32 -> 95726.743 | X32: =F32-W32 -> 20318.857 | Y32: =X32/F32 -> 0.17509373 | Z32: Centera
... A34: CK200113804159 | B34: fdccentera01 | C34: FDC | D34: Centera | E34: CK200113804159 | F34: 28164.4 | G34: 25604 | H34: 2560.4 | I34: 9387.4286 | J34: 1173.4286 | K34: 8214 | L34: 8214 | M34: 0 | O34: 8214 | R34: =L34/K34 -> 1 | S34: =O34/K34 -> 1 | T34: =H34/$F34 -> 0.090909091 | U34: =N34/$F34 -> 0 | V34: =J34/$F34 -> 0.041663539 | W34: =H34+J34+K34+N34+P34 -> 11947.829 | X34: =F34-W34 -> 16216.571 | Y34: =X34/F34 -> 0.5757826 | Z34: Centera
A35: CKM00101000576 | B35: rdc4-ac4-0576 | C35: RDC | D35: Clariion | E35: CKM00101000576 | F35: 20876.676 | G35: 18978.796 | H35: 1897.8796 | I35: 18978.796 | J35: 8964 | K35: 10014.796 | L35: 10014.796 | M35: 0 | N35: 1050.7964 | O35: 10014.796 | R35: =L35/K35 -> 1 | S35: =O35/K35 -> 1 | T35: =H35/$F35 -> 0.090909091 | U35: =N35/$F35 -> 0.050333513 | V35: =J35/$F35 -> 0.4293787 | W35: =H35+J35+K35+N35+P35 -> 21927.473 | X35: =F35-W35 -> -1050.7964 | Y35: =X35/F35 -> -0.050333513 | Z35: Clariion
A36: CKM00121201737 | B36: GBOKC001N1737 | C36: RDC | D36: VNX | E36: CKM00121201737 | F36: 922300 | G36: 838454.76 | H36: 83845.239 | I36: 769906 | J36: 322099 | K36: 447807 | L36: 429728 | M36: 18079 | O36: 429728 | P36: 68548.764 | R36: =L36/K36 -> 0.9596277 | S36: =O36/K36 -> 0.9596277 | T36: =H36/$F36 -> 0.090908857 | U36: =N36/$F36 -> 0 | V36: =J36/$F36 -> 0.34923452 | W36: =H36+J36+K36+N36+P36 -> 922300 | X36: =F36-W36 -> 0 | Y36: =X36/F36 -> 0 | Z36: VNX
A37: CKM00121300390 | B37: GBOKC002N0390 | C37: RDC | D37: VNX | E37: CKM00121300390 | F37: 922300 | G37: 838454.76 | H37: 83845.239 | I37: 769906 | J37: 322099 | K37: 447807 | L37: 429728 | M37: 18079 | O37: 429728 | P37: 68548.764 | R37: =L37/K37 -> 0.9596277 | S37: =O37/K37 -> 0.9596277 | T37: =H37/$F37 -> 0.090908857 | U37: =N37/$F37 -> 0 | V37: =J37/$F37 -> 0.34923452 | W37: =H37+J37+K37+N37+P37 -> 922300 | X37: =F37-W37 -> 0 | Y37: =X37/F37 -> 0 | Z37: VNX
A38: CKM00121400374 | B38: DEOLC001N0374 | C38: FDC | D38: VNX | E38: CKM00121400374 | F38: 583722.2 | G38: 530656.54 | H38: 53065.654 | I38: 436644.25 | J38: 177936.25 | K38: 258708 | L38: 226561 | M38: 32147 | O38: 226561 | P38: 94010.275 | R38: =L38/K38 -> 0.87574022 | S38: =O38/K38 -> 0.87574022 | T38: =H38/$F38 -> 0.090909091 | U38: =N38/$F38 -> 0 | V38: =J38/$F38 -> 0.30483037 | W38: =H38+J38+K38+N38+P38 -> 583720.18 | X38: =F38-W38 -> 2.015 | Y38: =X38/F38 -> 3.4519846e-06 | Z38: VNX
