Workbook

Sheet Summary
C1: All Sheets
A3: Sheet Name | B3: Market Standard | C3: Formatted | D3: format Lost | E3: Physical total | F3: Parity Lost | G3: Pool Usable | H3: Pool Used | I3: Pool Free | J3: Spare | K3: %Used | L3: Host Allocations | M3: %Allocated
A4: Final MOR | B4: =SUMIF('Final MOR'!B:B,"Total",'Final MOR'!D:D) -> 12539192 | C4: =SUMIF('Final MOR'!B:B,"Total",'Final MOR'!E:E) -> 11479720 | D4: =SUMIF('Final MOR'!B:B,"Total",'Final MOR'!F:F) -> 1059471.9 | E4: =SUMIF('Final MOR'!B:B,"Total",'Final MOR'!G:G) -> 10614219 | F4: =SUMIF('Final MOR'!B:B,"Total",'Final MOR'!H:H) -> 3980757.6 | G4: =SUMIF('Final MOR'!B:B,"Total",'Final MOR'!I:I) -> 6633461.5 | H4: =SUMIF('Final MOR'!B:B,"Total",'Final MOR'!J:J) -> 3467265.8 | I4: =SUMIF('Final MOR'!B:B,"Total",'Final MOR'!K:K) -> 3502509.6 | J4: =SUMIF('Final MOR'!B:B,"Total",'Final MOR'!L:L) -> 302084.41 | K4: =SUMIF('Final MOR'!B:B,"Total",'Final MOR'!M:M) -> 0.52269328 | L4: =SUMIF('Final MOR'!B:B,"Total",'Final MOR'!N:N) -> 5876605.3 | M4: =SUMIF('Final MOR'!B:B,"Total",'Final MOR'!O:O) -> 0.88590328
A5: Tech-Refresh | B5: =SUMIF('Tech-Refresh'!B:B,"Total",'Tech-Refresh'!D:D) -> 1529612 | C5: =SUMIF('Tech-Refresh'!B:B,"Total",'Tech-Refresh'!E:E) -> 1385898.4 | D5: =SUMIF('Tech-Refresh'!B:B,"Total",'Tech-Refresh'!F:F) -> 143713.55 | E5: =SUMIF('Tech-Refresh'!B:B,"Total",'Tech-Refresh'!G:G) -> 1308276.2 | F5: =SUMIF('Tech-Refresh'!B:B,"Total",'Tech-Refresh'!H:H) -> 164571.24 | G5: =SUMIF('Tech-Refresh'!B:B,"Total",'Tech-Refresh'!I:I) -> 1143704.9 | H5: =SUMIF('Tech-Refresh'!B:B,"Total",'Tech-Refresh'!J:J) -> 336313.91 | I5: =SUMIF('Tech-Refresh'!B:B,"Total",'Tech-Refresh'!K:K) -> 807391 | J5: =SUMIF('Tech-Refresh'!B:B,"Total",'Tech-Refresh'!L:L) -> 34453.85 | K5: =SUMIF('Tech-Refresh'!B:B,"Total",'Tech-Refresh'!M:M) -> 0.29405654 | L5: =SUMIF('Tech-Refresh'!B:B,"Total",'Tech-Refresh'!N:N) -> 330665.05 | M5: =SUMIF('Tech-Refresh'!B:B,"Total",'Tech-Refresh'!O:O) -> 0.28911745
A6: New Installs | B6: =SUMIF('New Installs'!B:B,"Total",'New Installs'!D:D) -> 0 | C6: =SUMIF('New Installs'!B:B,"Total",'New Installs'!E:E) -> 0 | D6: =SUMIF('New Installs'!B:B,"Total",'New Installs'!F:F) -> 0 | E6: =SUMIF('New Installs'!B:B,"Total",'New Installs'!G:G) -> 0 | F6: =SUMIF('New Installs'!B:B,"Total",'New Installs'!H:H) -> 0 | G6: =SUMIF('New Installs'!B:B,"Total",'New Installs'!I:I) -> 0 | H6: =SUMIF('New Installs'!B:B,"Total",'New Installs'!J:J) -> 0 | I6: =SUMIF('New Installs'!B:B,"Total",'New Installs'!K:K) -> 0 | J6: =SUMIF('New Installs'!B:B,"Total",'New Installs'!L:L) -> 0 | K6: =SUMIF('New Installs'!B:B,"Total",'New Installs'!M:M) -> 0 | L6: =SUMIF('New Installs'!B:B,"Total",'New Installs'!N:N) -> 0 | M6: =SUMIF('New Installs'!B:B,"Total",'New Installs'!O:O) -> 0
A7: Unable to Report | B7: =SUMIF('Unable to Report'!B:B,"Total",'Unable to Report'!D:D) -> 0 | C7: =SUMIF('Unable to Report'!B:B,"Total",'Unable to Report'!E:E) -> 0 | D7: =SUMIF('Unable to Report'!B:B,"Total",'Unable to Report'!F:F) -> 0 | E7: =SUMIF('Unable to Report'!B:B,"Total",'Unable to Report'!G:G) -> 0 | F7: =SUMIF('Unable to Report'!B:B,"Total",'Unable to Report'!H:H) -> 0 | G7: =SUMIF('Unable to Report'!B:B,"Total",'Unable to Report'!I:I) -> 0 | H7: =SUMIF('Unable to Report'!B:B,"Total",'Unable to Report'!J:J) -> 0 | I7: =SUMIF('Unable to Report'!B:B,"Total",'Unable to Report'!K:K) -> 0 | J7: =SUMIF('Unable to Report'!B:B,"Total",'Unable to Report'!L:L) -> 0 | K7: 0 | L7: =SUMIF('Unable to Report'!B:B,"Total",'Unable to Report'!N:N) -> 0 | M7: 0
A8: Exchange | B8: =SUMIF(Exchange!B:B,"Total",Exchange!D:D) -> 3028284.7 | C8: =SUMIF(Exchange!B:B,"Total",Exchange!E:E) -> 2754595.1 | D8: =SUMIF(Exchange!B:B,"Total",Exchange!F:F) -> 273689.6 | E8: =SUMIF(Exchange!B:B,"Total",Exchange!G:G) -> 2385834.9 | F8: =SUMIF(Exchange!B:B,"Total",Exchange!H:H) -> 959187.18 | G8: =SUMIF(Exchange!B:B,"Total",Exchange!I:I) -> 1426647.7 | H8: =SUMIF(Exchange!B:B,"Total",Exchange!J:J) -> 1322747.2 | I8: =SUMIF(Exchange!B:B,"Total",Exchange!K:K) -> 103900.48 | J8: =SUMIF(Exchange!B:B,"Total",Exchange!L:L) -> 2659.3696 | K8: =SUMIF(Exchange!B:B,"Total",Exchange!M:M) -> 0.92717159 | L8: =SUMIF(Exchange!B:B,"Total",Exchange!N:N) -> 1322747.2 | M8: =SUMIF(Exchange!B:B,"Total",Exchange!O:O) -> 0.92717159
A9: Total(GB) | B9: =SUM(B4:B8) -> 17097089 | C9: =SUM(C4:C8) -> 15620214 | D9: =SUM(D4:D8) -> 1476875.1 | E9: =SUM(E4:E8) -> 14308330 | F9: =SUM(F4:F8) -> 5104516 | G9: =SUM(G4:G8) -> 9203814 | H9: =SUM(H4:H8) -> 5126326.9 | I9: =SUM(I4:I8) -> 4413801.1 | J9: =SUM(J4:J8) -> 339197.63 | K9: =H9/G9 -> 0.55697854 | L9: =SUM(L4:L8) -> 7530017.5 | M9: =L9/G9 -> 0.81814099
A10: Total(TB) | B10: =B9/1024 -> 16696.376 | C10: =C9/1024 -> 15254.115 | D10: =D9/1024 -> 1442.2608 | E10: =E9/1024 -> 13972.979 | F10: =F9/1024 -> 4984.8789 | G10: =G9/1024 -> 8988.0997 | H10: =H9/1024 -> 5006.1786 | I10: =I9/1024 -> 4310.3526 | J10: =J9/1024 -> 331.24768 | K10: =H10/G10 -> 0.55697854 | L10: =L9/1024 -> 7353.5327 | M10: =L10/G10 -> 0.81814099
A11: Total(PB) | B11: =B10/1024 -> 16.305054 | C11: =C10/1024 -> 14.896597 | D11: =D10/1024 -> 1.4084578 | E11: =E10/1024 -> 13.645487 | F11: =F10/1024 -> 4.8680458 | G11: =G10/1024 -> 8.7774411 | H11: =H10/1024 -> 4.8888463 | I11: =I10/1024 -> 4.2093287 | J11: =J10/1024 -> 0.32348407 | K11: =H11/G11 -> 0.55697854 | L11: =L10/1024 -> 7.1811843 | M11: =L11/G11 -> 0.81814099
C13: Exclude the below Sheets from the final MOR Report
A15: Sheet Name | B15: Market Standard | C15: Formatted | D15: format Lost | E15: Physical total | F15: Parity Lost | G15: Pool Usable | H15: Pool Used | I15: Pool Free | J15: Spare | K15: %Used | L15: Host Allocations | M15: %Allocated
A16: Tech-Refresh | B16: =B5 -> 1529612 | C16: =C5 -> 1385898.4 | D16: =D5 -> 143713.55 | E16: =E5 -> 1308276.2 | F16: =F5 -> 164571.24 | G16: =G5 -> 1143704.9 | H16: =H5 -> 336313.91 | I16: =I5 -> 807391 | ... M16: =M5 -> 0.28911745
A17: New Installs | B17: =B6 -> 0 | C17: =C6 -> 0 | D17: =D6 -> 0 | E17: =E6 -> 0 | F17: =F6 -> 0 | G17: =G6 -> 0 | H17: =H6 -> 0 | I17: =I6 -> 0 | ... M17: =M6 -> 0
A18: Unable to Report | B18: =B7 -> 0 | C18: =C7 -> 0 | D18: =D7 -> 0 | E18: =E7 -> 0 | F18: =F7 -> 0 | G18: =G7 -> 0 | H18: =H7 -> 0 | I18: =I7 -> 0 | ... M18: =M7 -> 0
A19: Exchange | B19: =B8 -> 3028284.7 | C19: =C8 -> 2754595.1 | D19: =D8 -> 273689.6 | E19: =E8 -> 2385834.9 | F19: =F8 -> 959187.18 | G19: =G8 -> 1426647.7 | H19: =H8 -> 1322747.2 | I19: =I8 -> 103900.48 | ... M19: =M8 -> 0.92717159
A20: Total(GB) | B20: =SUM(B16:B19) -> 4557896.7 | C20: =SUM(C16:C19) -> 4140493.5 | D20: =SUM(D16:D19) -> 417403.15 | E20: =SUM(E16:E19) -> 3694111 | F20: =SUM(F16:F19) -> 1123758.4 | G20: =SUM(G16:G19) -> 2570352.6 | H20: =SUM(H16:H19) -> 1659061.1 | I20: =SUM(I16:I19) -> 911291.48 | J20: =SUM(J16:J19) -> 37113.219 | K20: =H20/G20 -> 0.64546051 | L20: =SUM(L16:L19) -> 1653412.2 | M20: =L20/G20 -> 0.64326281
A21: Total(TB) | B21: =B20/1024 -> 4451.071 | C21: =C20/1024 -> 4043.4507 | D21: =D20/1024 -> 407.62026 | E21: =E20/1024 -> 3607.5303 | F21: =F20/1024 -> 1097.4203 | G21: =G20/1024 -> 2510.1099 | H21: =H20/1024 -> 1620.1769 | I21: =I20/1024 -> 889.93309 | J21: =J20/1024 -> 36.243378 | K21: =H21/G21 -> 0.64546051 | L21: =L20/1024 -> 1614.6604 | M21: =L21/G21 -> 0.64326281
A22: Total(PB) | B22: =B21/1024 -> 4.346749 | C22: =C21/1024 -> 3.9486823 | D22: =D21/1024 -> 0.39806666 | E22: =E21/1024 -> 3.5229788 | F22: =F21/1024 -> 1.0716996 | G22: =G21/1024 -> 2.4512792 | H22: =H21/1024 -> 1.582204 | I22: =I21/1024 -> 0.86907528 | J22: =J21/1024 -> 0.035393924 | K22: =H22/G22 -> 0.64546051 | L22: =L21/1024 -> 1.5768168 | M22: =L22/G22 -> 0.64326281
C24: Final MOR Report
A26: Sheet Name | B26: Market Standard | C26: Formatted | D26: format Lost | E26: Physical total | F26: Parity Lost | G26: Pool Usable | H26: Pool Used | I26: Pool Free | J26: Spare | K26: %Used | L26: Host Allocations | M26: %Allocated
A27: Final MOR | B27: =B9-B20 -> 12539192 | C27: =C9-C20 -> 11479720 | D27: =D9-D20 -> 1059471.9 | E27: =E9-E20 -> 10614219 | F27: =F9-F20 -> 3980757.6 | G27: =G9-G20 -> 6633461.5 | H27: =H9-H20 -> 3467265.8 | I27: =I9-I20 -> 3502509.6 | J27: =J9-J20 -> 302084.41 | K27: =H27/G27 -> 0.52269328 | L27: =L9-L20 -> 5876605.3 | M27: =L27/G27 -> 0.88590328
A28: Total(TB) | B28: =B27/1024 -> 12245.305 | C28: =C27/1024 -> 11210.664 | D28: =D27/1024 -> 1034.6405 | E28: =E27/1024 -> 10365.448 | F28: =F27/1024 -> 3887.4586 | G28: =G27/1024 -> 6477.9897 | H28: =H27/1024 -> 3386.0017 | I28: =I27/1024 -> 3420.4195 | J28: =J27/1024 -> 295.0043 | K28: =H28/G28 -> 0.52269328 | L28: =L27/1024 -> 5738.8724 | M28: =L28/G28 -> 0.88590328
A29: Total(PB) | B29: =B28/1024 -> 11.958305 | C29: =C28/1024 -> 10.947914 | D29: =D28/1024 -> 1.0103911 | E29: =E28/1024 -> 10.122508 | F29: =F28/1024 -> 3.7963463 | G29: =G28/1024 -> 6.3261618 | H29: =H28/1024 -> 3.3066423 | I29: =I28/1024 -> 3.3402535 | J29: =J28/1024 -> 0.28809014 | K29: =H29/G29 -> 0.52269328 | L29: =L28/1024 -> 5.6043675 | M29: =L29/G29 -> 0.88590328

Sheet Summary-NoTRSource
C1: All Sheets
A3: Sheet Name | B3: Market Standard | C3: Formatted | D3: format Lost | E3: Physical total | F3: Parity Lost | G3: Pool Usable | H3: Pool Used | I3: Pool Free | J3: Spare | K3: %Used | L3: Host Allocations | M3: %Allocated
A4: Final MOR | B4: =SUMIF('Final MOR-no-MOR'!B:B,"Total",'Final MOR-no-MOR'!D:D) -> 11676792 | C4: =SUMIF('Final MOR-no-MOR'!B:B,"Total",'Final MOR-no-MOR'!E:E) -> 10695193 | D4: =SUMIF('Final MOR-no-MOR'!B:B,"Total",'Final MOR-no-MOR'!F:F) -> 981598.65 | E4: =SUMIF('Final MOR-no-MOR'!B:B,"Total",'Final MOR-no-MOR'!G:G) -> 9868353.3 | F4: =SUMIF('Final MOR-no-MOR'!B:B,"Total",'Final MOR-no-MOR'!H:H) -> 3616629.4 | G4: =SUMIF('Final MOR-no-MOR'!B:B,"Total",'Final MOR-no-MOR'!I:I) -> 6251723.9 | H4: =SUMIF('Final MOR-no-MOR'!B:B,"Total",'Final MOR-no-MOR'!J:J) -> 3049668.7 | I4: =SUMIF('Final MOR-no-MOR'!B:B,"Total",'Final MOR-no-MOR'!K:K) -> 3202055.1 | J4: =SUMIF('Final MOR-no-MOR'!B:B,"Total",'Final MOR-no-MOR'!L:L) -> 286073.66 | K4: =SUMIF('Final MOR-no-MOR'!B:B,"Total",'Final MOR-no-MOR'!M:M) -> 0.48781245 | L4: =SUMIF('Final MOR-no-MOR'!B:B,"Total",'Final MOR-no-MOR'!N:N) -> 5205834.2 | M4: =SUMIF('Final MOR-no-MOR'!B:B,"Total",'Final MOR-no-MOR'!O:O) -> 0.83270381
A5: Tech-Refresh | B5: =SUMIF('Tech-Refresh'!B:B,"Total",'Tech-Refresh'!D:D) -> 1529612 | C5: =SUMIF('Tech-Refresh'!B:B,"Total",'Tech-Refresh'!E:E) -> 1385898.4 | D5: =SUMIF('Tech-Refresh'!B:B,"Total",'Tech-Refresh'!F:F) -> 143713.55 | E5: =SUMIF('Tech-Refresh'!B:B,"Total",'Tech-Refresh'!G:G) -> 1308276.2 | F5: =SUMIF('Tech-Refresh'!B:B,"Total",'Tech-Refresh'!H:H) -> 164571.24 | G5: =SUMIF('Tech-Refresh'!B:B,"Total",'Tech-Refresh'!I:I) -> 1143704.9 | H5: =SUMIF('Tech-Refresh'!B:B,"Total",'Tech-Refresh'!J:J) -> 336313.91 | I5: =SUMIF('Tech-Refresh'!B:B,"Total",'Tech-Refresh'!K:K) -> 807391 | J5: =SUMIF('Tech-Refresh'!B:B,"Total",'Tech-Refresh'!L:L) -> 34453.85 | K5: =SUMIF('Tech-Refresh'!B:B,"Total",'Tech-Refresh'!M:M) -> 0.29405654 | L5: =SUMIF('Tech-Refresh'!B:B,"Total",'Tech-Refresh'!N:N) -> 330665.05 | M5: =SUMIF('Tech-Refresh'!B:B,"Total",'Tech-Refresh'!O:O) -> 0.28911745
A6: New Installs | B6: =SUMIF('New Installs'!B:B,"Total",'New Installs'!D:D) -> 0 | C6: =SUMIF('New Installs'!B:B,"Total",'New Installs'!E:E) -> 0 | D6: =SUMIF('New Installs'!B:B,"Total",'New Installs'!F:F) -> 0 | E6: =SUMIF('New Installs'!B:B,"Total",'New Installs'!G:G) -> 0 | F6: =SUMIF('New Installs'!B:B,"Total",'New Installs'!H:H) -> 0 | G6: =SUMIF('New Installs'!B:B,"Total",'New Installs'!I:I) -> 0 | H6: =SUMIF('New Installs'!B:B,"Total",'New Installs'!J:J) -> 0 | I6: =SUMIF('New Installs'!B:B,"Total",'New Installs'!K:K) -> 0 | J6: =SUMIF('New Installs'!B:B,"Total",'New Installs'!L:L) -> 0 | K6: =SUMIF('New Installs'!B:B,"Total",'New Installs'!M:M) -> 0 | L6: =SUMIF('New Installs'!B:B,"Total",'New Installs'!N:N) -> 0 | M6: =SUMIF('New Installs'!B:B,"Total",'New Installs'!O:O) -> 0
A7: Unable to Report | B7: =SUMIF('Unable to Report'!B:B,"Total",'Unable to Report'!D:D) -> 0 | C7: =SUMIF('Unable to Report'!B:B,"Total",'Unable to Report'!E:E) -> 0 | D7: =SUMIF('Unable to Report'!B:B,"Total",'Unable to Report'!F:F) -> 0 | E7: =SUMIF('Unable to Report'!B:B,"Total",'Unable to Report'!G:G) -> 0 | F7: =SUMIF('Unable to Report'!B:B,"Total",'Unable to Report'!H:H) -> 0 | G7: =SUMIF('Unable to Report'!B:B,"Total",'Unable to Report'!I:I) -> 0 | H7: =SUMIF('Unable to Report'!B:B,"Total",'Unable to Report'!J:J) -> 0 | I7: =SUMIF('Unable to Report'!B:B,"Total",'Unable to Report'!K:K) -> 0 | J7: =SUMIF('Unable to Report'!B:B,"Total",'Unable to Report'!L:L) -> 0 | K7: =SUMIF('Unable to Report'!B:B,"Total",'Unable to Report'!M:M) -> #DIV/0! | L7: =SUMIF('Unable to Report'!B:B,"Total",'Unable to Report'!N:N) -> 0 | M7: =SUMIF('Unable to Report'!B:B,"Total",'Unable to Report'!O:O) -> #DIV/0!
A8: Exchange | B8: =SUMIF(Exchange!B:B,"Total",Exchange!D:D) -> 3028284.7 | C8: =SUMIF(Exchange!B:B,"Total",Exchange!E:E) -> 2754595.1 | D8: =SUMIF(Exchange!B:B,"Total",Exchange!F:F) -> 273689.6 | E8: =SUMIF(Exchange!B:B,"Total",Exchange!G:G) -> 2385834.9 | F8: =SUMIF(Exchange!B:B,"Total",Exchange!H:H) -> 959187.18 | G8: =SUMIF(Exchange!B:B,"Total",Exchange!I:I) -> 1426647.7 | H8: =SUMIF(Exchange!B:B,"Total",Exchange!J:J) -> 1322747.2 | I8: =SUMIF(Exchange!B:B,"Total",Exchange!K:K) -> 103900.48 | J8: =SUMIF(Exchange!B:B,"Total",Exchange!L:L) -> 2659.3696 | K8: =SUMIF(Exchange!B:B,"Total",Exchange!M:M) -> 0.92717159 | L8: =SUMIF(Exchange!B:B,"Total",Exchange!N:N) -> 1322747.2 | M8: =SUMIF(Exchange!B:B,"Total",Exchange!O:O) -> 0.92717159
A9: Total(GB) | B9: =SUM(B4:B8) -> 16234689 | C9: =SUM(C4:C8) -> 14835687 | D9: =SUM(D4:D8) -> 1399001.8 | E9: =SUM(E4:E8) -> 13562464 | F9: =SUM(F4:F8) -> 4740387.9 | G9: =SUM(G4:G8) -> 8822076.4 | H9: =SUM(H4:H8) -> 4708729.9 | I9: =SUM(I4:I8) -> 4113346.6 | J9: =SUM(J4:J8) -> 323186.88 | K9: =H9/G9 -> 0.53374394 | L9: =SUM(L4:L8) -> 6859246.5 | M9: =L9/G9 -> 0.7775093
A10: Total(TB) | B10: =B9/1024 -> 15854.188 | C10: =C9/1024 -> 14487.975 | D10: =D9/1024 -> 1366.2127 | E10: =E9/1024 -> 13244.594 | F10: =F9/1024 -> 4629.285 | G10: =G9/1024 -> 8615.309 | H10: =H9/1024 -> 4598.369 | I10: =I9/1024 -> 4016.94 | J10: =J9/1024 -> 315.61218 | K10: =H10/G10 -> 0.53374394 | L10: =L9/1024 -> 6698.4829 | M10: =L10/G10 -> 0.7775093
A11: Total(PB) | B11: =B10/1024 -> 15.482606 | C11: =C10/1024 -> 14.148414 | D11: =D10/1024 -> 1.3341921 | E11: =E10/1024 -> 12.934174 | F11: =F10/1024 -> 4.5207862 | G11: =G10/1024 -> 8.4133877 | H11: =H10/1024 -> 4.4905947 | I11: =I10/1024 -> 3.922793 | J11: =J10/1024 -> 0.30821502 | K11: =H11/G11 -> 0.53374394 | L11: =L10/1024 -> 6.5414872 | M11: =L11/G11 -> 0.7775093
C13: Exclude the below Sheets from the final MOR Report
A15: Sheet Name | B15: Market Standard | C15: Formatted | D15: format Lost | E15: Physical total | F15: Parity Lost | G15: Pool Usable | H15: Pool Used | I15: Pool Free | J15: Spare | K15: %Used | L15: Host Allocations | M15: %Allocated
A16: Tech-Refresh | B16: =B5 -> 1529612 | C16: =C5 -> 1385898.4 | D16: =D5 -> 143713.55 | E16: =E5 -> 1308276.2 | F16: =F5 -> 164571.24 | G16: =G5 -> 1143704.9 | H16: =H5 -> 336313.91 | I16: =I5 -> 807391 | ... M16: =M5 -> 0.28911745
A17: New Installs | B17: =B6 -> 0 | C17: =C6 -> 0 | D17: =D6 -> 0 | E17: =E6 -> 0 | F17: =F6 -> 0 | G17: =G6 -> 0 | H17: =H6 -> 0 | I17: =I6 -> 0 | ... M17: =M6 -> 0
A18: Unable to Report | B18: =B7 -> 0 | C18: =C7 -> 0 | D18: =D7 -> 0 | E18: =E7 -> 0 | F18: =F7 -> 0 | G18: =G7 -> 0 | H18: =H7 -> 0 | I18: =I7 -> 0 | ... M18: =M7 -> #DIV/0!
A19: Exchange | B19: =B8 -> 3028284.7 | C19: =C8 -> 2754595.1 | D19: =D8 -> 273689.6 | E19: =E8 -> 2385834.9 | F19: =F8 -> 959187.18 | G19: =G8 -> 1426647.7 | H19: =H8 -> 1322747.2 | I19: =I8 -> 103900.48 | ... M19: =M8 -> 0.92717159
A20: Total(GB) | B20: =SUM(B16:B19) -> 4557896.7 | C20: =SUM(C16:C19) -> 4140493.5 | D20: =SUM(D16:D19) -> 417403.15 | E20: =SUM(E16:E19) -> 3694111 | F20: =SUM(F16:F19) -> 1123758.4 | G20: =SUM(G16:G19) -> 2570352.6 | H20: =SUM(H16:H19) -> 1659061.1 | I20: =SUM(I16:I19) -> 911291.48 | J20: =SUM(J16:J19) -> 37113.219 | K20: =H20/G20 -> 0.64546051 | L20: =SUM(L16:L19) -> 1653412.2 | M20: =L20/G20 -> 0.64326281
A21: Total(TB) | B21: =B20/1024 -> 4451.071 | C21: =C20/1024 -> 4043.4507 | D21: =D20/1024 -> 407.62026 | E21: =E20/1024 -> 3607.5303 | F21: =F20/1024 -> 1097.4203 | G21: =G20/1024 -> 2510.1099 | H21: =H20/1024 -> 1620.1769 | I21: =I20/1024 -> 889.93309 | J21: =J20/1024 -> 36.243378 | K21: =H21/G21 -> 0.64546051 | L21: =L20/1024 -> 1614.6604 | M21: =L21/G21 -> 0.64326281
A22: Total(PB) | B22: =B21/1024 -> 4.346749 | C22: =C21/1024 -> 3.9486823 | D22: =D21/1024 -> 0.39806666 | E22: =E21/1024 -> 3.5229788 | F22: =F21/1024 -> 1.0716996 | G22: =G21/1024 -> 2.4512792 | H22: =H21/1024 -> 1.582204 | I22: =I21/1024 -> 0.86907528 | J22: =J21/1024 -> 0.035393924 | K22: =H22/G22 -> 0.64546051 | L22: =L21/1024 -> 1.5768168 | M22: =L22/G22 -> 0.64326281
C24: Final MOR Report
A26: Sheet Name | B26: Market Standard | C26: Formatted | D26: format Lost | E26: Physical total | F26: Parity Lost | G26: Pool Usable | H26: Pool Used | I26: Pool Free | J26: Spare | K26: %Used | L26: Host Allocations | M26: %Allocated
A27: Final MOR | B27: =B9-B20 -> 11676792 | C27: =C9-C20 -> 10695193 | D27: =D9-D20 -> 981598.65 | E27: =E9-E20 -> 9868353.3 | F27: =F9-F20 -> 3616629.4 | G27: =G9-G20 -> 6251723.9 | H27: =H9-H20 -> 3049668.7 | I27: =I9-I20 -> 3202055.1 | J27: =J9-J20 -> 286073.66 | K27: =H27/G27 -> 0.48781245 | L27: =L9-L20 -> 5205834.2 | M27: =L27/G27 -> 0.83270381
A28: Total(TB) | B28: =B27/1024 -> 11403.117 | C28: =C27/1024 -> 10444.525 | D28: =D27/1024 -> 958.59244 | E28: =E27/1024 -> 9637.0638 | F28: =F27/1024 -> 3531.8647 | G28: =G27/1024 -> 6105.1991 | H28: =H27/1024 -> 2978.1921 | I28: =I27/1024 -> 3127.0069 | J28: =J27/1024 -> 279.36881 | K28: =H28/G28 -> 0.48781245 | L28: =L27/1024 -> 5083.8225 | M28: =L28/G28 -> 0.83270381
A29: Total(PB) | B29: =B28/1024 -> 11.135857 | C29: =C28/1024 -> 10.199731 | D29: =D28/1024 -> 0.93612543 | E29: =E28/1024 -> 9.4111951 | F29: =F28/1024 -> 3.4490866 | G29: =G28/1024 -> 5.9621085 | H29: =H28/1024 -> 2.9083908 | I29: =I28/1024 -> 3.0537177 | J29: =J28/1024 -> 0.2728211 | K29: =H29/G29 -> 0.48781245 | L29: =L28/1024 -> 4.9646704 | M29: =L29/G29 -> 0.83270381

Sheet Final MOR
A1: Loc | B1: Type | C1: Array | D1: Market Standard | E1: Formatted | F1: format Lost | G1: Physical total | H1: Parity Lost | I1: Pool Usable | J1: Pool Used | K1: Pool Free | L1: Spare | M1: %Used | N1: Host Allocations | O1: %Allocated | P1: %Parity | Q1: ParityGB | R1: Allocated RAW
A2: =VLOOKUP(C:C,ALL_Pivot_new!B:D,2,FALSE) -> Swiss | B2: =VLOOKUP(C:C,ALL_Pivot_new!B:D,3,FALSE) -> Vmax | C2: 377 | D2: =SUMIF(ALL_Pivot_new!B:B,C:C,ALL_Pivot_new!F:F) -> 46800 | E2: =SUMIF(ALL_Pivot_new!B:B,C:C,ALL_Pivot_new!G:G) -> 42525 | F2: =SUMIF(ALL_Pivot_new!B:B,C:C,ALL_Pivot_new!H:H) -> 4275 | G2: =SUMIF(ALL_Pivot_new!B:B,C:C,ALL_Pivot_new!I:I) -> 37817.714 | H2: =SUMIF(ALL_Pivot_new!B:B,C:C,ALL_Pivot_new!J:J) -> 4727.2143 | I2: =SUMIF(ALL_Pivot_new!B:B,C:C,ALL_Pivot_new!K:K) -> 33090.5 | J2: =SUMIF(ALL_Pivot_new!B:B,C:C,ALL_Pivot_new!L:L) -> 14757.2 | K2: =SUMIF(ALL_Pivot_new!B:B,C:C,ALL_Pivot_new!M:M) -> 18333.3 | L2: =SUMIF(ALL_Pivot_new!B:B,C:C,ALL_Pivot_new!N:N) -> 3271 | M2: =J2/I2 -> 0.44596485 | N2: =SUMIF(ALL_Pivot_new!B:B,C:C,ALL_Pivot_new!O:O) -> 42854.1 | O2: =N2/I2 -> 1.2950575 | P2: =H2/G2 -> 0.125 | Q2: =N2*P2 -> 5356.7625 | R2: =N2+Q2 -> 48210.862
A3: =VLOOKUP(C:C,ALL_Pivot_new!B:D,2,FALSE) -> RDC | B3: =VLOOKUP(C:C,ALL_Pivot_new!B:D,3,FALSE) -> Vmax | C3: 0347 | D3: =SUMIF(ALL_Pivot_new!B:B,C:C,ALL_Pivot_new!F:F) -> 588456 | E3: =SUMIF(ALL_Pivot_new!B:B,C:C,ALL_Pivot_new!G:G) -> 535316.42 | F3: =SUMIF(ALL_Pivot_new!B:B,C:C,ALL_Pivot_new!H:H) -> 53139.582 | G3: =SUMIF(ALL_Pivot_new!B:B,C:C,ALL_Pivot_new!I:I) -> 354223.73 | H3: =SUMIF(ALL_Pivot_new!B:B,C:C,ALL_Pivot_new!J:J) -> 130153.43 | I3: =SUMIF(ALL_Pivot_new!B:B,C:C,ALL_Pivot_new!K:K) -> 224070.3 | J3: =SUMIF(ALL_Pivot_new!B:B,C:C,ALL_Pivot_new!L:L) -> 99631.3 | K3: =SUMIF(ALL_Pivot_new!B:B,C:C,ALL_Pivot_new!M:M) -> 124439 | L3: =SUMIF(ALL_Pivot_new!B:B,C:C,ALL_Pivot_new!N:N) -> 10868.48 | M3: =J3/I3 -> 0.44464304 | N3: =SUMIF(ALL_Pivot_new!B:B,C:C,ALL_Pivot_new!O:O) -> 189680 | O3: =N3/I3 -> 0.84652004 | P3: =H3/G3 -> 0.36743284 | Q3: =N3*P3 -> 69694.662 | R3: =N3+Q3 -> 259374.66
A4: =VLOOKUP(C:C,ALL_Pivot_new!B:D,2,FALSE) -> FDC | B4: =VLOOKUP(C:C,ALL_Pivot_new!B:D,3,FALSE) -> Vmax | C4: 0349 | D4: =SUMIF(ALL_Pivot_new!B:B,C:C,ALL_Pivot_new!F:F) -> 588456 | E4: =SUMIF(ALL_Pivot_new!B:B,C:C,ALL_Pivot_new!G:G) -> 535316.42 | F4: =SUMIF(ALL_Pivot_new!B:B,C:C,ALL_Pivot_new!H:H) -> 53139.582 | G4: =SUMIF(ALL_Pivot_new!B:B,C:C,ALL_Pivot_new!I:I) -> 427723.07 | H4: =SUMIF(ALL_Pivot_new!B:B,C:C,ALL_Pivot_new!J:J) -> 165435.67 | I4: =SUMIF(ALL_Pivot_new!B:B,C:C,ALL_Pivot_new!K:K) -> 262287.4 | J4: =SUMIF(ALL_Pivot_new!B:B,C:C,ALL_Pivot_new!L:L) -> 171025.5 | K4: =SUMIF(ALL_Pivot_new!B:B,C:C,ALL_Pivot_new!M:M) -> 91261.9 | L4: =SUMIF(ALL_Pivot_new!B:B,C:C,ALL_Pivot_new!N:N) -> 10868.48 | M4: =J4/I4 -> 0.65205382 | N4: =SUMIF(ALL_Pivot_new!B:B,C:C,ALL_Pivot_new!O:O) -> 294710 | O4: =N4/I4 -> 1.1236148 | P4: =H4/G4 -> 0.3867822 | Q4: =N4*P4 -> 113988.58 | R4: =N4+Q4 -> 408698.58
A5: =VLOOKUP(C:C,ALL_Pivot_new!B:D,2,FALSE) -> FDC | B5: =VLOOKUP(C:C,ALL_Pivot_new!B:D,3,FALSE) -> Vmax | C5: 2804 | D5: =SUMIF(ALL_Pivot_new!B:B,C:C,ALL_Pivot_new!F:F) -> 118400 | E5: =SUMIF(ALL_Pivot_new!B:B,C:C,ALL_Pivot_new!G:G) -> 107740.89 | F5: =SUMIF(ALL_Pivot_new!B:B,C:C,ALL_Pivot_new!H:H) -> 10659.113 | G5: =SUMIF(ALL_Pivot_new!B:B,C:C,ALL_Pivot_new!I:I) -> 95168.743 | H5: =SUMIF(ALL_Pivot_new!B:B,C:C,ALL_Pivot_new!J:J) -> 12130.243 | I5: =SUMIF(ALL_Pivot_new!B:B,C:C,ALL_Pivot_new!K:K) -> 83038.5 | J5: =SUMIF(ALL_Pivot_new!B:B,C:C,ALL_Pivot_new!L:L) -> 59542 | K5: =SUMIF(ALL_Pivot_new!B:B,C:C,ALL_Pivot_new!M:M) -> 23496.5 | L5: =SUMIF(ALL_Pivot_new!B:B,C:C,ALL_Pivot_new!N:N) -> 3643.793 | M5: =J5/I5 -> 0.71704089 | N5: =SUMIF(ALL_Pivot_new!B:B,C:C,ALL_Pivot_new!O:O) -> 108532 | O5: =N5/I5 -> 1.3070082 | P5: =H5/G5 -> 0.12746037 | Q5: =N5*P5 -> 13833.529 | R5: =N5+Q5 -> 122365.53
A6: =VLOOKUP(C:C,ALL_Pivot_new!B:D,2,FALSE) -> FDC | B6: =VLOOKUP(C:C,ALL_Pivot_new!B:D,3,FALSE) -> Vmax | C6: 3004 | D6: =SUMIF(ALL_Pivot_new!B:B,C:C,ALL_Pivot_new!F:F) -> 597408 | E6: =SUMIF(ALL_Pivot_new!B:B,C:C,ALL_Pivot_new!G:G) -> 527587.59 | F6: =SUMIF(ALL_Pivot_new!B:B,C:C,ALL_Pivot_new!H:H) -> 69820.406 | G6: =SUMIF(ALL_Pivot_new!B:B,C:C,ALL_Pivot_new!I:I) -> 500822.06 | H6: =SUMIF(ALL_Pivot_new!B:B,C:C,ALL_Pivot_new!J:J) -> 62602.757 | I6: =SUMIF(ALL_Pivot_new!B:B,C:C,ALL_Pivot_new!K:K) -> 438219.3 | J6: =SUMIF(ALL_Pivot_new!B:B,C:C,ALL_Pivot_new!L:L) -> 209330.8 | K6: =SUMIF(ALL_Pivot_new!B:B,C:C,ALL_Pivot_new!M:M) -> 228888.5 | L6: =SUMIF(ALL_Pivot_new!B:B,C:C,ALL_Pivot_new!N:N) -> 10767.094 | M6: =J6/I6 -> 0.47768503 | N6: =SUMIF(ALL_Pivot_new!B:B,C:C,ALL_Pivot_new!O:O) -> 374596 | O6: =N6/I6 -> 0.85481402 | P6: =H6/G6 -> 0.125 | Q6: =N6*P6 -> 46824.5 | R6: =N6+Q6 -> 421420.5
A7: =VLOOKUP(C:C,ALL_Pivot_new!B:D,2,FALSE) -> RDC | B7: =VLOOKUP(C:C,ALL_Pivot_new!B:D,3,FALSE) -> Vmax | C7: 3073 | D7: =SUMIF(ALL_Pivot_new!B:B,C:C,ALL_Pivot_new!F:F) -> 531872 | E7: =SUMIF(ALL_Pivot_new!B:B,C:C,ALL_Pivot_new!G:G) -> 470601.19 | F7: =SUMIF(ALL_Pivot_new!B:B,C:C,ALL_Pivot_new!H:H) -> 61270.812 | G7: =SUMIF(ALL_Pivot_new!B:B,C:C,ALL_Pivot_new!I:I) -> 445146.06 | H7: =SUMIF(ALL_Pivot_new!B:B,C:C,ALL_Pivot_new!J:J) -> 55643.257 | I7: =SUMIF(ALL_Pivot_new!B:B,C:C,ALL_Pivot_new!K:K) -> 389502.8 | J7: =SUMIF(ALL_Pivot_new!B:B,C:C,ALL_Pivot_new!L:L) -> 212681.7 | K7: =SUMIF(ALL_Pivot_new!B:B,C:C,ALL_Pivot_new!M:M) -> 176821.1 | L7: =SUMIF(ALL_Pivot_new!B:B,C:C,ALL_Pivot_new!N:N) -> 10767.094 | M7: =J7/I7 -> 0.54603382 | N7: =SUMIF(ALL_Pivot_new!B:B,C:C,ALL_Pivot_new!O:O) -> 327291 | O7: =N7/I7 -> 0.84027894 | P7: =H7/G7 -> 0.125 | Q7: =N7*P7 -> 40911.375 | R7: =N7+Q7 -> 368202.38
A8: =VLOOKUP(C:C,ALL_Pivot_new!B:D,2,FALSE) -> RDC | B8: =VLOOKUP(C:C,ALL_Pivot_new!B:D,3,FALSE) -> Vmax | C8: 3286 | D8: =SUMIF(ALL_Pivot_new!B:B,C:C,ALL_Pivot_new!F:F) -> 227300 | E8: =SUMIF(ALL_Pivot_new!B:B,C:C,ALL_Pivot_new!G:G) -> 206693.84 | F8: =SUMIF(ALL_Pivot_new!B:B,C:C,ALL_Pivot_new!H:H) -> 20606.164 | G8: =SUMIF(ALL_Pivot_new!B:B,C:C,ALL_Pivot_new!I:I) -> 189712.97 | H8: =SUMIF(ALL_Pivot_new!B:B,C:C,ALL_Pivot_new!J:J) -> 23948.271 | I8: =SUMIF(ALL_Pivot_new!B:B,C:C,ALL_Pivot_new!K:K) -> 165764.7 | J8: =SUMIF(ALL_Pivot_new!B:B,C:C,ALL_Pivot_new!L:L) -> 118079.2 | K8: =SUMIF(ALL_Pivot_new!B:B,C:C,ALL_Pivot_new!M:M) -> 47685.5 | L8: =SUMIF(ALL_Pivot_new!B:B,C:C,ALL_Pivot_new!N:N) -> 4461.5859 | M8: =J8/I8 -> 0.71233019 | N8: =SUMIF(ALL_Pivot_new!B:B,C:C,ALL_Pivot_new!O:O) -> 231128.4 | O8: =N8/I8 -> 1.3943162 | P8: =H8/G8 -> 0.12623423 | Q8: =N8*P8 -> 29176.316 | R8: =N8+Q8 -> 260304.72
A9: =VLOOKUP(C:C,ALL_Pivot_new!B:D,2,FALSE) -> RDC | B9: =VLOOKUP(C:C,ALL_Pivot_new!B:D,3,FALSE) -> Vmax | C9: 3696 | D9: =SUMIF(ALL_Pivot_new!B:B,C:C,ALL_Pivot_new!F:F) -> 227100 | E9: =SUMIF(ALL_Pivot_new!B:B,C:C,ALL_Pivot_new!G:G) -> 206507.53 | F9: =SUMIF(ALL_Pivot_new!B:B,C:C,ALL_Pivot_new!H:H) -> 20592.475 | G9: =SUMIF(ALL_Pivot_new!B:B,C:C,ALL_Pivot_new!I:I) -> 190337.57 | H9: =SUMIF(ALL_Pivot_new!B:B,C:C,ALL_Pivot_new!J:J) -> 24260.571 | I9: =SUMIF(ALL_Pivot_new!B:B,C:C,ALL_Pivot_new!K:K) -> 166077 | J9: =SUMIF(ALL_Pivot_new!B:B,C:C,ALL_Pivot_new!L:L) -> 31021.4 | K9: =SUMIF(ALL_Pivot_new!B:B,C:C,ALL_Pivot_new!M:M) -> 135055.6 | L9: =SUMIF(ALL_Pivot_new!B:B,C:C,ALL_Pivot_new!N:N) -> 4275.2754 | M9: =J9/I9 -> 0.18678926 | N9: =SUMIF(ALL_Pivot_new!B:B,C:C,ALL_Pivot_new!O:O) -> 173040.4 | O9: =N9/I9 -> 1.0419287 | P9: =H9/G9 -> 0.12746076 | Q9: =N9*P9 -> 22055.861 | R9: =N9+Q9 -> 195096.26
A10: =VLOOKUP(C:C,ALL_Pivot_new!B:D,2,FALSE) -> FDC | B10: =VLOOKUP(C:C,ALL_Pivot_new!B:D,3,FALSE) -> Vmax | C10: 3875 | D10: =SUMIF(ALL_Pivot_new!B:B,C:C,ALL_Pivot_new!F:F) -> 118400 | E10: =SUMIF(ALL_Pivot_new!B:B,C:C,ALL_Pivot_new!G:G) -> 107740.89 | F10: =SUMIF(ALL_Pivot_new!B:B,C:C,ALL_Pivot_new!H:H) -> 10659.113 | G10: =SUMIF(ALL_Pivot_new!B:B,C:C,ALL_Pivot_new!I:I) -> 95793.343 | H10: =SUMIF(ALL_Pivot_new!B:B,C:C,ALL_Pivot_new!J:J) -> 12442.543 | I10: =SUMIF(ALL_Pivot_new!B:B,C:C,ALL_Pivot_new!K:K) -> 83350.8 | J10: =SUMIF(ALL_Pivot_new!B:B,C:C,ALL_Pivot_new!L:L) -> 16003.1 | K10: =SUMIF(ALL_Pivot_new!B:B,C:C,ALL_Pivot_new!M:M) -> 67347.7 | L10: =SUMIF(ALL_Pivot_new!B:B,C:C,ALL_Pivot_new!N:N) -> 3643.793 | M10: =J10/I10 -> 0.19199696 | N10: =SUMIF(ALL_Pivot_new!B:B,C:C,ALL_Pivot_new!O:O) -> 33121.5 | O10: =N10/I10 -> 0.39737471 | P10: =H10/G10 -> 0.12988943 | Q10: =N10*P10 -> 4302.1328 | R10: =N10+Q10 -> 37423.633
A11: =VLOOKUP(C:C,ALL_Pivot_new!B:D,2,FALSE) -> RDC | B11: =VLOOKUP(C:C,ALL_Pivot_new!B:D,3,FALSE) -> Vmax | C11: 4330 | D11: =SUMIF(ALL_Pivot_new!B:B,C:C,ALL_Pivot_new!F:F) -> 287100 | E11: =SUMIF(ALL_Pivot_new!B:B,C:C,ALL_Pivot_new!G:G) -> 260875.96 | F11: =SUMIF(ALL_Pivot_new!B:B,C:C,ALL_Pivot_new!H:H) -> 26224.043 | G11: =SUMIF(ALL_Pivot_new!B:B,C:C,ALL_Pivot_new!I:I) -> 248032.2 | H11: =SUMIF(ALL_Pivot_new!B:B,C:C,ALL_Pivot_new!J:J) -> 124016.1 | I11: =SUMIF(ALL_Pivot_new!B:B,C:C,ALL_Pivot_new!K:K) -> 124016.1 | J11: =SUMIF(ALL_Pivot_new!B:B,C:C,ALL_Pivot_new!L:L) -> 90440.5 | K11: =SUMIF(ALL_Pivot_new!B:B,C:C,ALL_Pivot_new!M:M) -> 33575.6 | L11: =SUMIF(ALL_Pivot_new!B:B,C:C,ALL_Pivot_new!N:N) -> 5724.5508 | M11: =J11/I11 -> 0.72926418 | N11: =SUMIF(ALL_Pivot_new!B:B,C:C,ALL_Pivot_new!O:O) -> 171812 | O11: =N11/I11 -> 1.3854008 | P11: =H11/G11 -> 0.5 | Q11: =N11*P11 -> 85906 | R11: =N11+Q11 -> 257718
A12: =VLOOKUP(C:C,ALL_Pivot_new!B:D,2,FALSE) -> FDC | B12: =VLOOKUP(C:C,ALL_Pivot_new!B:D,3,FALSE) -> Vmax | C12: 4652 | D12: =SUMIF(ALL_Pivot_new!B:B,C:C,ALL_Pivot_new!F:F) -> 441000 | E12: =SUMIF(ALL_Pivot_new!B:B,C:C,ALL_Pivot_new!G:G) -> 400718.55 | F12: =SUMIF(ALL_Pivot_new!B:B,C:C,ALL_Pivot_new!H:H) -> 40281.445 | G12: =SUMIF(ALL_Pivot_new!B:B,C:C,ALL_Pivot_new!I:I) -> 383226.2 | H12: =SUMIF(ALL_Pivot_new!B:B,C:C,ALL_Pivot_new!J:J) -> 191613.1 | I12: =SUMIF(ALL_Pivot_new!B:B,C:C,ALL_Pivot_new!K:K) -> 191613.1 | J12: =SUMIF(ALL_Pivot_new!B:B,C:C,ALL_Pivot_new!L:L) -> 147825.3 | K12: =SUMIF(ALL_Pivot_new!B:B,C:C,ALL_Pivot_new!M:M) -> 43787.8 | L12: =SUMIF(ALL_Pivot_new!B:B,C:C,ALL_Pivot_new!N:N) -> 8177.9297 | M12: =J12/I12 -> 0.77147805 | N12: =SUMIF(ALL_Pivot_new!B:B,C:C,ALL_Pivot_new!O:O) -> 277419 | O12: =N12/I12 -> 1.4478081 | P12: =H12/G12 -> 0.5 | Q12: =N12*P12 -> 138709.5 | R12: =N12+Q12 -> 416128.5
A13: =VLOOKUP(C:C,ALL_Pivot_new!B:D,2,FALSE) -> FDC | B13: =VLOOKUP(C:C,ALL_Pivot_new!B:D,3,FALSE) -> Vmax | C13: 667 | D13: =SUMIF(ALL_Pivot_new!B:B,C:C,ALL_Pivot_new!F:F) -> 235200 | E13: =SUMIF(ALL_Pivot_new!B:B,C:C,ALL_Pivot_new!G:G) -> 213716.56 | F13: =SUMIF(ALL_Pivot_new!B:B,C:C,ALL_Pivot_new!H:H) -> 21483.438 | G13: =SUMIF(ALL_Pivot_new!B:B,C:C,ALL_Pivot_new!I:I) -> 200645.2 | H13: =SUMIF(ALL_Pivot_new!B:B,C:C,ALL_Pivot_new!J:J) -> 98451.1 | I13: =SUMIF(ALL_Pivot_new!B:B,C:C,ALL_Pivot_new!K:K) -> 102194.1 | J13: =SUMIF(ALL_Pivot_new!B:B,C:C,ALL_Pivot_new!L:L) -> 21778.7 | K13: =SUMIF(ALL_Pivot_new!B:B,C:C,ALL_Pivot_new!M:M) -> 80415.4 | L13: =SUMIF(ALL_Pivot_new!B:B,C:C,ALL_Pivot_new!N:N) -> 4361.5625 | M13: =J13/I13 -> 0.21311113 | N13: =SUMIF(ALL_Pivot_new!B:B,C:C,ALL_Pivot_new!O:O) -> 55807.8 | O13: =N13/I13 -> 0.54609611 | P13: =H13/G13 -> 0.49067259 | Q13: =N13*P13 -> 27383.358 | R13: =N13+Q13 -> 83191.158
A14: =VLOOKUP(C:C,ALL_Pivot_new!B:D,2,FALSE) -> RDC | B14: =VLOOKUP(C:C,ALL_Pivot_new!B:D,3,FALSE) -> Vmax | C14: 671 | D14: =SUMIF(ALL_Pivot_new!B:B,C:C,ALL_Pivot_new!F:F) -> 480000 | E14: =SUMIF(ALL_Pivot_new!B:B,C:C,ALL_Pivot_new!G:G) -> 436156.25 | F14: =SUMIF(ALL_Pivot_new!B:B,C:C,ALL_Pivot_new!H:H) -> 43843.75 | G14: =SUMIF(ALL_Pivot_new!B:B,C:C,ALL_Pivot_new!I:I) -> 415239 | H14: =SUMIF(ALL_Pivot_new!B:B,C:C,ALL_Pivot_new!J:J) -> 205748 | I14: =SUMIF(ALL_Pivot_new!B:B,C:C,ALL_Pivot_new!K:K) -> 209491 | J14: =SUMIF(ALL_Pivot_new!B:B,C:C,ALL_Pivot_new!L:L) -> 44061.2 | K14: =SUMIF(ALL_Pivot_new!B:B,C:C,ALL_Pivot_new!M:M) -> 165429.8 | L14: =SUMIF(ALL_Pivot_new!B:B,C:C,ALL_Pivot_new!N:N) -> 8723.125 | M14: =J14/I14 -> 0.21032503 | N14: =SUMIF(ALL_Pivot_new!B:B,C:C,ALL_Pivot_new!O:O) -> 152240.1 | O14: =N14/I14 -> 0.72671427 | P14: =H14/G14 -> 0.49549296 | Q14: =N14*P14 -> 75433.897 | R14: =N14+Q14 -> 227674
A15: =VLOOKUP(C:C,ALL_Pivot_new!B:D,2,FALSE) -> FDC | B15: =VLOOKUP(C:C,ALL_Pivot_new!B:D,3,FALSE) -> Vmax | C15: 710 | D15: =SUMIF(ALL_Pivot_new!B:B,C:C,ALL_Pivot_new!F:F) -> 480000 | E15: =SUMIF(ALL_Pivot_new!B:B,C:C,ALL_Pivot_new!G:G) -> 436156.25 | F15: =SUMIF(ALL_Pivot_new!B:B,C:C,ALL_Pivot_new!H:H) -> 43843.75 | G15: =SUMIF(ALL_Pivot_new!B:B,C:C,ALL_Pivot_new!I:I) -> 415239 | H15: =SUMIF(ALL_Pivot_new!B:B,C:C,ALL_Pivot_new!J:J) -> 205748 | I15: =SUMIF(ALL_Pivot_new!B:B,C:C,ALL_Pivot_new!K:K) -> 209491 | J15: =SUMIF(ALL_Pivot_new!B:B,C:C,ALL_Pivot_new!L:L) -> 147275 | K15: =SUMIF(ALL_Pivot_new!B:B,C:C,ALL_Pivot_new!M:M) -> 62216 | L15: =SUMIF(ALL_Pivot_new!B:B,C:C,ALL_Pivot_new!N:N) -> 8723.125 | M15: =J15/I15 -> 0.70301349 | N15: =SUMIF(ALL_Pivot_new!B:B,C:C,ALL_Pivot_new!O:O) -> 244329 | O15: =N15/I15 -> 1.1662983 | P15: =H15/G15 -> 0.49549296 | Q15: =N15*P15 -> 121063.3 | R15: =N15+Q15 -> 365392.3
A16: =VLOOKUP(C:C,ALL_Pivot_new!B:D,2,FALSE) -> RDC | B16: =VLOOKUP(C:C,ALL_Pivot_new!B:D,3,FALSE) -> Vmax | C16: 689 | D16: =SUMIF(ALL_Pivot_new!B:B,C:C,ALL_Pivot_new!F:F) -> 235200 | E16: =SUMIF(ALL_Pivot_new!B:B,C:C,ALL_Pivot_new!G:G) -> 213716.56 | F16: =SUMIF(ALL_Pivot_new!B:B,C:C,ALL_Pivot_new!H:H) -> 21483.438 | G16: =SUMIF(ALL_Pivot_new!B:B,C:C,ALL_Pivot_new!I:I) -> 200645.2 | H16: =SUMIF(ALL_Pivot_new!B:B,C:C,ALL_Pivot_new!J:J) -> 98451.1 | I16: =SUMIF(ALL_Pivot_new!B:B,C:C,ALL_Pivot_new!K:K) -> 102194.1 | J16: =SUMIF(ALL_Pivot_new!B:B,C:C,ALL_Pivot_new!L:L) -> 74472.3 | K16: =SUMIF(ALL_Pivot_new!B:B,C:C,ALL_Pivot_new!M:M) -> 27721.8 | L16: =SUMIF(ALL_Pivot_new!B:B,C:C,ALL_Pivot_new!N:N) -> 4361.5625 | M16: =J16/I16 -> 0.72873385 | N16: =SUMIF(ALL_Pivot_new!B:B,C:C,ALL_Pivot_new!O:O) -> 109520 | O16: =N16/I16 -> 1.0716861 | P16: =H16/G16 -> 0.49067259 | Q16: =N16*P16 -> 53738.462 | R16: =N16+Q16 -> 163258.46
A17: =VLOOKUP(C:C,ALL_Pivot_new!B:D,2,FALSE) -> FDC | B17: =VLOOKUP(C:C,ALL_Pivot_new!B:D,3,FALSE) -> Vmax | C17: 712 | D17: =SUMIF(ALL_Pivot_new!B:B,C:C,ALL_Pivot_new!F:F) -> 480000 | E17: =SUMIF(ALL_Pivot_new!B:B,C:C,ALL_Pivot_new!G:G) -> 436156.25 | F17: =SUMIF(ALL_Pivot_new!B:B,C:C,ALL_Pivot_new!H:H) -> 43843.75 | G17: =SUMIF(ALL_Pivot_new!B:B,C:C,ALL_Pivot_new!I:I) -> 415239 | H17: =SUMIF(ALL_Pivot_new!B:B,C:C,ALL_Pivot_new!J:J) -> 205748 | I17: =SUMIF(ALL_Pivot_new!B:B,C:C,ALL_Pivot_new!K:K) -> 209491 | J17: =SUMIF(ALL_Pivot_new!B:B,C:C,ALL_Pivot_new!L:L) -> 139447.9 | K17: =SUMIF(ALL_Pivot_new!B:B,C:C,ALL_Pivot_new!M:M) -> 70043.1 | L17: =SUMIF(ALL_Pivot_new!B:B,C:C,ALL_Pivot_new!N:N) -> 8723.125 | M17: =J17/I17 -> 0.66565103 | N17: =SUMIF(ALL_Pivot_new!B:B,C:C,ALL_Pivot_new!O:O) -> 254516 | O17: =N17/I17 -> 1.2149257 | P17: =H17/G17 -> 0.49549296 | Q17: =N17*P17 -> 126110.89 | R17: =N17+Q17 -> 380626.89
A18: =VLOOKUP(C:C,ALL_Pivot_new!B:D,2,FALSE) -> RDC | B18: =VLOOKUP(C:C,ALL_Pivot_new!B:D,3,FALSE) -> Vmax | C18: 706 | D18: =SUMIF(ALL_Pivot_new!B:B,C:C,ALL_Pivot_new!F:F) -> 235200 | E18: =SUMIF(ALL_Pivot_new!B:B,C:C,ALL_Pivot_new!G:G) -> 213716.56 | F18: =SUMIF(ALL_Pivot_new!B:B,C:C,ALL_Pivot_new!H:H) -> 21483.438 | G18: =SUMIF(ALL_Pivot_new!B:B,C:C,ALL_Pivot_new!I:I) -> 200645.2 | H18: =SUMIF(ALL_Pivot_new!B:B,C:C,ALL_Pivot_new!J:J) -> 98451.1 | I18: =SUMIF(ALL_Pivot_new!B:B,C:C,ALL_Pivot_new!K:K) -> 102194.1 | J18: =SUMIF(ALL_Pivot_new!B:B,C:C,ALL_Pivot_new!L:L) -> 76496.3 | K18: =SUMIF(ALL_Pivot_new!B:B,C:C,ALL_Pivot_new!M:M) -> 25697.8 | L18: =SUMIF(ALL_Pivot_new!B:B,C:C,ALL_Pivot_new!N:N) -> 4361.5625 | M18: =J18/I18 -> 0.7485393 | N18: =SUMIF(ALL_Pivot_new!B:B,C:C,ALL_Pivot_new!O:O) -> 127434 | O18: =N18/I18 -> 1.24698 | P18: =H18/G18 -> 0.49067259 | Q18: =N18*P18 -> 62528.371 | R18: =N18+Q18 -> 189962.37
A19: =VLOOKUP(C:C,ALL_Pivot_new!B:D,2,FALSE) -> CGC | B19: =VLOOKUP(C:C,ALL_Pivot_new!B:D,3,FALSE) -> HDS | C19: CGCHDS10 | D19: =SUMIF(ALL_Pivot_new!B:B,C:C,ALL_Pivot_new!F:F) -> 102000 | E19: =SUMIF(ALL_Pivot_new!B:B,C:C,ALL_Pivot_new!G:G) -> 92820 | F19: =SUMIF(ALL_Pivot_new!B:B,C:C,ALL_Pivot_new!H:H) -> 9180 | G19: =SUMIF(ALL_Pivot_new!B:B,C:C,ALL_Pivot_new!I:I) -> 85486.606 | H19: =SUMIF(ALL_Pivot_new!B:B,C:C,ALL_Pivot_new!J:J) -> 10685.826 | I19: =SUMIF(ALL_Pivot_new!B:B,C:C,ALL_Pivot_new!K:K) -> 74800.78 | J19: =SUMIF(ALL_Pivot_new!B:B,C:C,ALL_Pivot_new!L:L) -> 63958 | K19: =SUMIF(ALL_Pivot_new!B:B,C:C,ALL_Pivot_new!M:M) -> 10842.78 | L19: =SUMIF(ALL_Pivot_new!B:B,C:C,ALL_Pivot_new!N:N) -> 5460 | M19: =J19/I19 -> 0.85504456 | N19: =SUMIF(ALL_Pivot_new!B:B,C:C,ALL_Pivot_new!O:O) -> 63958 | O19: =N19/I19 -> 0.85504456 | P19: =H19/G19 -> 0.125 | Q19: =N19*P19 -> 7994.75 | R19: =N19+Q19 -> 71952.75
A20: =VLOOKUP(C:C,ALL_Pivot_new!B:D,2,FALSE) -> FDC | B20: =VLOOKUP(C:C,ALL_Pivot_new!B:D,3,FALSE) -> HDS | C20: FDCHDS04 | D20: =SUMIF(ALL_Pivot_new!B:B,C:C,ALL_Pivot_new!F:F) -> 270000 | E20: =SUMIF(ALL_Pivot_new!B:B,C:C,ALL_Pivot_new!G:G) -> 245700 | F20: =SUMIF(ALL_Pivot_new!B:B,C:C,ALL_Pivot_new!H:H) -> 24300 | G20: =SUMIF(ALL_Pivot_new!B:B,C:C,ALL_Pivot_new!I:I) -> 240489.37 | H20: =SUMIF(ALL_Pivot_new!B:B,C:C,ALL_Pivot_new!J:J) -> 30061.171 | I20: =SUMIF(ALL_Pivot_new!B:B,C:C,ALL_Pivot_new!K:K) -> 210428.2 | J20: =SUMIF(ALL_Pivot_new!B:B,C:C,ALL_Pivot_new!L:L) -> 114180.98 | K20: =SUMIF(ALL_Pivot_new!B:B,C:C,ALL_Pivot_new!M:M) -> 96247.22 | L20: =SUMIF(ALL_Pivot_new!B:B,C:C,ALL_Pivot_new!N:N) -> 1092 | M20: =J20/I20 -> 0.54261254 | N20: =SUMIF(ALL_Pivot_new!B:B,C:C,ALL_Pivot_new!O:O) -> 114180.98 | O20: =N20/I20 -> 0.54261254 | P20: =H20/G20 -> 0.125 | Q20: =N20*P20 -> 14272.622 | R20: =N20+Q20 -> 128453.6
A21: =VLOOKUP(C:C,ALL_Pivot_new!B:D,2,FALSE) -> FDC | B21: =VLOOKUP(C:C,ALL_Pivot_new!B:D,3,FALSE) -> HDS | C21: FDCHDS05 | D21: =SUMIF(ALL_Pivot_new!B:B,C:C,ALL_Pivot_new!F:F) -> 260400 | E21: =SUMIF(ALL_Pivot_new!B:B,C:C,ALL_Pivot_new!G:G) -> 236964 | F21: =SUMIF(ALL_Pivot_new!B:B,C:C,ALL_Pivot_new!H:H) -> 23436 | G21: =SUMIF(ALL_Pivot_new!B:B,C:C,ALL_Pivot_new!I:I) -> 231894.87 | H21: =SUMIF(ALL_Pivot_new!B:B,C:C,ALL_Pivot_new!J:J) -> 28986.859 | I21: =SUMIF(ALL_Pivot_new!B:B,C:C,ALL_Pivot_new!K:K) -> 202908.01 | J21: =SUMIF(ALL_Pivot_new!B:B,C:C,ALL_Pivot_new!L:L) -> 124398.34 | K21: =SUMIF(ALL_Pivot_new!B:B,C:C,ALL_Pivot_new!M:M) -> 78509.67 | L21: =SUMIF(ALL_Pivot_new!B:B,C:C,ALL_Pivot_new!N:N) -> 1092 | M21: =J21/I21 -> 0.61307752 | N21: =SUMIF(ALL_Pivot_new!B:B,C:C,ALL_Pivot_new!O:O) -> 124398.34 | O21: =N21/I21 -> 0.61307752 | P21: =H21/G21 -> 0.125 | Q21: =N21*P21 -> 15549.792 | R21: =N21+Q21 -> 139948.13
A22: =VLOOKUP(C:C,ALL_Pivot_new!B:D,2,FALSE) -> RDC | B22: =VLOOKUP(C:C,ALL_Pivot_new!B:D,3,FALSE) -> HDS | C22: RDCHDS10 | D22: =SUMIF(ALL_Pivot_new!B:B,C:C,ALL_Pivot_new!F:F) -> 58800 | E22: =SUMIF(ALL_Pivot_new!B:B,C:C,ALL_Pivot_new!G:G) -> 53508 | F22: =SUMIF(ALL_Pivot_new!B:B,C:C,ALL_Pivot_new!H:H) -> 5292 | G22: =SUMIF(ALL_Pivot_new!B:B,C:C,ALL_Pivot_new!I:I) -> 51533.533 | H22: =SUMIF(ALL_Pivot_new!B:B,C:C,ALL_Pivot_new!J:J) -> 12883.383 | I22: =SUMIF(ALL_Pivot_new!B:B,C:C,ALL_Pivot_new!K:K) -> 38650.15 | J22: =SUMIF(ALL_Pivot_new!B:B,C:C,ALL_Pivot_new!L:L) -> 31157 | K22: =SUMIF(ALL_Pivot_new!B:B,C:C,ALL_Pivot_new!M:M) -> 7493.15 | L22: =SUMIF(ALL_Pivot_new!B:B,C:C,ALL_Pivot_new!N:N) -> 1092 | M22: =J22/I22 -> 0.80612882 | N22: =SUMIF(ALL_Pivot_new!B:B,C:C,ALL_Pivot_new!O:O) -> 31157 | O22: =N22/I22 -> 0.80612882 | P22: =H22/G22 -> 0.25 | Q22: =N22*P22 -> 7789.25 | R22: =N22+Q22 -> 38946.25
A23: =VLOOKUP(C:C,ALL_Pivot_new!B:D,2,FALSE) -> RDC | B23: =VLOOKUP(C:C,ALL_Pivot_new!B:D,3,FALSE) -> HDS | C23: RDCHDS05 | D23: =SUMIF(ALL_Pivot_new!B:B,C:C,ALL_Pivot_new!F:F) -> 324000 | E23: =SUMIF(ALL_Pivot_new!B:B,C:C,ALL_Pivot_new!G:G) -> 294840 | F23: =SUMIF(ALL_Pivot_new!B:B,C:C,ALL_Pivot_new!H:H) -> 29160 | G23: =SUMIF(ALL_Pivot_new!B:B,C:C,ALL_Pivot_new!I:I) -> 285077.29 | H23: =SUMIF(ALL_Pivot_new!B:B,C:C,ALL_Pivot_new!J:J) -> 35634.661 | I23: =SUMIF(ALL_Pivot_new!B:B,C:C,ALL_Pivot_new!K:K) -> 249442.63 | J23: =SUMIF(ALL_Pivot_new!B:B,C:C,ALL_Pivot_new!L:L) -> 151545 | K23: =SUMIF(ALL_Pivot_new!B:B,C:C,ALL_Pivot_new!M:M) -> 97897.63 | L23: =SUMIF(ALL_Pivot_new!B:B,C:C,ALL_Pivot_new!N:N) -> 6552 | M23: =J23/I23 -> 0.60753449 | N23: =SUMIF(ALL_Pivot_new!B:B,C:C,ALL_Pivot_new!O:O) -> 151545 | O23: =N23/I23 -> 0.60753449 | P23: =H23/G23 -> 0.125 | Q23: =N23*P23 -> 18943.125 | R23: =N23+Q23 -> 170488.12
A24: =VLOOKUP(C:C,ALL_Pivot_new!B:D,2,FALSE) -> RDC | B24: =VLOOKUP(C:C,ALL_Pivot_new!B:D,3,FALSE) -> HDS | C24: RDCHDS06 | D24: =SUMIF(ALL_Pivot_new!B:B,C:C,ALL_Pivot_new!F:F) -> 221700 | E24: =SUMIF(ALL_Pivot_new!B:B,C:C,ALL_Pivot_new!G:G) -> 201747 | F24: =SUMIF(ALL_Pivot_new!B:B,C:C,ALL_Pivot_new!H:H) -> 19953 | G24: =SUMIF(ALL_Pivot_new!B:B,C:C,ALL_Pivot_new!I:I) -> 197544.85 | H24: =SUMIF(ALL_Pivot_new!B:B,C:C,ALL_Pivot_new!J:J) -> 24693.106 | I24: =SUMIF(ALL_Pivot_new!B:B,C:C,ALL_Pivot_new!K:K) -> 172851.74 | J24: =SUMIF(ALL_Pivot_new!B:B,C:C,ALL_Pivot_new!L:L) -> 105953 | K24: =SUMIF(ALL_Pivot_new!B:B,C:C,ALL_Pivot_new!M:M) -> 66898.74 | L24: =SUMIF(ALL_Pivot_new!B:B,C:C,ALL_Pivot_new!N:N) -> 819 | M24: =J24/I24 -> 0.6129704 | N24: =SUMIF(ALL_Pivot_new!B:B,C:C,ALL_Pivot_new!O:O) -> 105953 | O24: =N24/I24 -> 0.6129704 | P24: =H24/G24 -> 0.125 | Q24: =N24*P24 -> 13244.125 | R24: =N24+Q24 -> 119197.12
A25: =VLOOKUP(C:C,ALL_Pivot_new!B:D,2,FALSE) -> FDC | B25: =VLOOKUP(C:C,ALL_Pivot_new!B:D,3,FALSE) -> HDS | C25: FDCHDS10 | D25: =SUMIF(ALL_Pivot_new!B:B,C:C,ALL_Pivot_new!F:F) -> 58800 | E25: =SUMIF(ALL_Pivot_new!B:B,C:C,ALL_Pivot_new!G:G) -> 53508 | F25: =SUMIF(ALL_Pivot_new!B:B,C:C,ALL_Pivot_new!H:H) -> 5292 | G25: =SUMIF(ALL_Pivot_new!B:B,C:C,ALL_Pivot_new!I:I) -> 51533.533 | H25: =SUMIF(ALL_Pivot_new!B:B,C:C,ALL_Pivot_new!J:J) -> 12883.383 | I25: =SUMIF(ALL_Pivot_new!B:B,C:C,ALL_Pivot_new!K:K) -> 38650.15 | J25: =SUMIF(ALL_Pivot_new!B:B,C:C,ALL_Pivot_new!L:L) -> 13705.29 | K25: =SUMIF(ALL_Pivot_new!B:B,C:C,ALL_Pivot_new!M:M) -> 24944.86 | L25: =SUMIF(ALL_Pivot_new!B:B,C:C,ALL_Pivot_new!N:N) -> 1092 | M25: =J25/I25 -> 0.35459862 | N25: =SUMIF(ALL_Pivot_new!B:B,C:C,ALL_Pivot_new!O:O) -> 13705.29 | O25: =N25/I25 -> 0.35459862 | P25: =H25/G25 -> 0.25 | Q25: =N25*P25 -> 3426.3225 | R25: =N25+Q25 -> 17131.612
A26: =VLOOKUP(C:C,ALL_Pivot_new!B:D,2,FALSE) -> FDC | B26: =VLOOKUP(C:C,ALL_Pivot_new!B:D,3,FALSE) -> Vmax | C26: 709 | D26: =SUMIF(ALL_Pivot_new!B:B,C:C,ALL_Pivot_new!F:F) -> 587800 | E26: =SUMIF(ALL_Pivot_new!B:B,C:C,ALL_Pivot_new!G:G) -> 541278.67 | F26: =SUMIF(ALL_Pivot_new!B:B,C:C,ALL_Pivot_new!H:H) -> 46521.332 | G26: =SUMIF(ALL_Pivot_new!B:B,C:C,ALL_Pivot_new!I:I) -> 516508 | H26: =SUMIF(ALL_Pivot_new!B:B,C:C,ALL_Pivot_new!J:J) -> 187816.4 | I26: =SUMIF(ALL_Pivot_new!B:B,C:C,ALL_Pivot_new!K:K) -> 328691.6 | J26: =SUMIF(ALL_Pivot_new!B:B,C:C,ALL_Pivot_new!L:L) -> 195984.3 | K26: =SUMIF(ALL_Pivot_new!B:B,C:C,ALL_Pivot_new!M:M) -> 132707.3 | L26: =SUMIF(ALL_Pivot_new!B:B,C:C,ALL_Pivot_new!N:N) -> 10868.48 | M26: =J26/I26 -> 0.59625588 | N26: =SUMIF(ALL_Pivot_new!B:B,C:C,ALL_Pivot_new!O:O) -> 323143 | O26: =N26/I26 -> 0.98311913 | P26: =H26/G26 -> 0.36362728 | Q26: =N26*P26 -> 117503.61 | R26: =N26+Q26 -> 440646.61
A27: =VLOOKUP(C:C,ALL_Pivot_new!B:D,2,FALSE) -> RDC | B27: =VLOOKUP(C:C,ALL_Pivot_new!B:D,3,FALSE) -> Vmax | C27: 704 | D27: =SUMIF(ALL_Pivot_new!B:B,C:C,ALL_Pivot_new!F:F) -> 405400 | E27: =SUMIF(ALL_Pivot_new!B:B,C:C,ALL_Pivot_new!G:G) -> 373152.69 | F27: =SUMIF(ALL_Pivot_new!B:B,C:C,ALL_Pivot_new!H:H) -> 32247.312 | G27: =SUMIF(ALL_Pivot_new!B:B,C:C,ALL_Pivot_new!I:I) -> 354223.73 | H27: =SUMIF(ALL_Pivot_new!B:B,C:C,ALL_Pivot_new!J:J) -> 130153.43 | I27: =SUMIF(ALL_Pivot_new!B:B,C:C,ALL_Pivot_new!K:K) -> 224070.3 | J27: =SUMIF(ALL_Pivot_new!B:B,C:C,ALL_Pivot_new!L:L) -> 51383.5 | K27: =SUMIF(ALL_Pivot_new!B:B,C:C,ALL_Pivot_new!M:M) -> 172686.8 | L27: =SUMIF(ALL_Pivot_new!B:B,C:C,ALL_Pivot_new!N:N) -> 7915.0625 | M27: =J27/I27 -> 0.22931866 | N27: =SUMIF(ALL_Pivot_new!B:B,C:C,ALL_Pivot_new!O:O) -> 241478 | O27: =N27/I27 -> 1.0776886 | P27: =H27/G27 -> 0.36743284 | Q27: =N27*P27 -> 88726.948 | R27: =N27+Q27 -> 330204.95
A28: =VLOOKUP(C:C,ALL_Pivot_new!B:D,2,FALSE) -> CGC | B28: =VLOOKUP(C:C,ALL_Pivot_new!B:D,3,FALSE) -> Vmax | C28: 703 | D28: =SUMIF(ALL_Pivot_new!B:B,C:C,ALL_Pivot_new!F:F) -> 405400 | E28: =SUMIF(ALL_Pivot_new!B:B,C:C,ALL_Pivot_new!G:G) -> 373152.69 | F28: =SUMIF(ALL_Pivot_new!B:B,C:C,ALL_Pivot_new!H:H) -> 32247.312 | G28: =SUMIF(ALL_Pivot_new!B:B,C:C,ALL_Pivot_new!I:I) -> 354223.73 | H28: =SUMIF(ALL_Pivot_new!B:B,C:C,ALL_Pivot_new!J:J) -> 130153.43 | I28: =SUMIF(ALL_Pivot_new!B:B,C:C,ALL_Pivot_new!K:K) -> 224070.3 | J28: =SUMIF(ALL_Pivot_new!B:B,C:C,ALL_Pivot_new!L:L) -> 103948.9 | K28: =SUMIF(ALL_Pivot_new!B:B,C:C,ALL_Pivot_new!M:M) -> 120121.4 | L28: =SUMIF(ALL_Pivot_new!B:B,C:C,ALL_Pivot_new!N:N) -> 7915.0625 | M28: =J28/I28 -> 0.463912 | N28: =SUMIF(ALL_Pivot_new!B:B,C:C,ALL_Pivot_new!O:O) -> 182630 | O28: =N28/I28 -> 0.8150567 | P28: =H28/G28 -> 0.36743284 | Q28: =N28*P28 -> 67104.26 | R28: =N28+Q28 -> 249734.26
A29: =VLOOKUP(C:C,ALL_Pivot_new!B:D,2,FALSE) -> RDC | B29: =VLOOKUP(C:C,ALL_Pivot_new!B:D,3,FALSE) -> Vmax | C29: 688 | D29: =SUMIF(ALL_Pivot_new!B:B,C:C,ALL_Pivot_new!F:F) -> 362400 | E29: =SUMIF(ALL_Pivot_new!B:B,C:C,ALL_Pivot_new!G:G) -> 329297.97 | F29: =SUMIF(ALL_Pivot_new!B:B,C:C,ALL_Pivot_new!H:H) -> 33102.031 | G29: =SUMIF(ALL_Pivot_new!B:B,C:C,ALL_Pivot_new!I:I) -> 312384 | H29: =SUMIF(ALL_Pivot_new!B:B,C:C,ALL_Pivot_new!J:J) -> 156192 | I29: =SUMIF(ALL_Pivot_new!B:B,C:C,ALL_Pivot_new!K:K) -> 156192 | J29: =SUMIF(ALL_Pivot_new!B:B,C:C,ALL_Pivot_new!L:L) -> 40099.4 | K29: =SUMIF(ALL_Pivot_new!B:B,C:C,ALL_Pivot_new!M:M) -> 116092.6 | L29: =SUMIF(ALL_Pivot_new!B:B,C:C,ALL_Pivot_new!N:N) -> 6542.3438 | M29: =J29/I29 -> 0.25673146 | N29: =SUMIF(ALL_Pivot_new!B:B,C:C,ALL_Pivot_new!O:O) -> 55880.3 | O29: =N29/I29 -> 0.35776672 | P29: =H29/G29 -> 0.5 | Q29: =N29*P29 -> 27940.15 | R29: =N29+Q29 -> 83820.45
A30: =VLOOKUP(C:C,ALL_Pivot_new!B:D,2,FALSE) -> CGC | B30: =VLOOKUP(C:C,ALL_Pivot_new!B:D,3,FALSE) -> Vmax | C30: 705 | D30: =SUMIF(ALL_Pivot_new!B:B,C:C,ALL_Pivot_new!F:F) -> 362400 | E30: =SUMIF(ALL_Pivot_new!B:B,C:C,ALL_Pivot_new!G:G) -> 329297.97 | F30: =SUMIF(ALL_Pivot_new!B:B,C:C,ALL_Pivot_new!H:H) -> 33102.031 | G30: =SUMIF(ALL_Pivot_new!B:B,C:C,ALL_Pivot_new!I:I) -> 312384 | H30: =SUMIF(ALL_Pivot_new!B:B,C:C,ALL_Pivot_new!J:J) -> 156192 | I30: =SUMIF(ALL_Pivot_new!B:B,C:C,ALL_Pivot_new!K:K) -> 156192 | J30: =SUMIF(ALL_Pivot_new!B:B,C:C,ALL_Pivot_new!L:L) -> 40074 | K30: =SUMIF(ALL_Pivot_new!B:B,C:C,ALL_Pivot_new!M:M) -> 116118 | L30: =SUMIF(ALL_Pivot_new!B:B,C:C,ALL_Pivot_new!N:N) -> 6542.3438 | M30: =J30/I30 -> 0.25656884 | N30: =SUMIF(ALL_Pivot_new!B:B,C:C,ALL_Pivot_new!O:O) -> 55866.6 | O30: =N30/I30 -> 0.35767901 | P30: =H30/G30 -> 0.5 | Q30: =N30*P30 -> 27933.3 | R30: =N30+Q30 -> 83799.9
A31: =VLOOKUP(C:C,ALL_Pivot_new!B:D,2,FALSE) -> RDC | B31: =VLOOKUP(C:C,ALL_Pivot_new!B:D,3,FALSE) -> Vmax | C31: 699 | D31: =SUMIF(ALL_Pivot_new!B:B,C:C,ALL_Pivot_new!F:F) -> 405400 | E31: =SUMIF(ALL_Pivot_new!B:B,C:C,ALL_Pivot_new!G:G) -> 373152.69 | F31: =SUMIF(ALL_Pivot_new!B:B,C:C,ALL_Pivot_new!H:H) -> 32247.312 | G31: =SUMIF(ALL_Pivot_new!B:B,C:C,ALL_Pivot_new!I:I) -> 354223.73 | H31: =SUMIF(ALL_Pivot_new!B:B,C:C,ALL_Pivot_new!J:J) -> 130153.43 | I31: =SUMIF(ALL_Pivot_new!B:B,C:C,ALL_Pivot_new!K:K) -> 224070.3 | J31: =SUMIF(ALL_Pivot_new!B:B,C:C,ALL_Pivot_new!L:L) -> 38373.1 | K31: =SUMIF(ALL_Pivot_new!B:B,C:C,ALL_Pivot_new!M:M) -> 185697.2 | L31: =SUMIF(ALL_Pivot_new!B:B,C:C,ALL_Pivot_new!N:N) -> 7915.0625 | M31: =J31/I31 -> 0.17125474 | N31: =SUMIF(ALL_Pivot_new!B:B,C:C,ALL_Pivot_new!O:O) -> 171470 | O31: =N31/I31 -> 0.76525091 | P31: =H31/G31 -> 0.36743284 | Q31: =N31*P31 -> 63003.71 | R31: =N31+Q31 -> 234473.71
A32: =VLOOKUP(C:C,ALL_Pivot_new!B:D,2,FALSE) -> Swiss | B32: =VLOOKUP(C:C,ALL_Pivot_new!B:D,3,FALSE) -> Vmax | C32: 1383 | D32: =SUMIF(ALL_Pivot_new!B:B,C:C,ALL_Pivot_new!F:F) -> 137400 | E32: =SUMIF(ALL_Pivot_new!B:B,C:C,ALL_Pivot_new!G:G) -> 124849.73 | F32: =SUMIF(ALL_Pivot_new!B:B,C:C,ALL_Pivot_new!H:H) -> 12550.273 | G32: =SUMIF(ALL_Pivot_new!B:B,C:C,ALL_Pivot_new!I:I) -> 119445.8 | H32: =SUMIF(ALL_Pivot_new!B:B,C:C,ALL_Pivot_new!J:J) -> 59722.9 | I32: =SUMIF(ALL_Pivot_new!B:B,C:C,ALL_Pivot_new!K:K) -> 59722.9 | J32: =SUMIF(ALL_Pivot_new!B:B,C:C,ALL_Pivot_new!L:L) -> 19595.9 | K32: =SUMIF(ALL_Pivot_new!B:B,C:C,ALL_Pivot_new!M:M) -> 40127 | L32: =SUMIF(ALL_Pivot_new!B:B,C:C,ALL_Pivot_new!N:N) -> 2725.9766 | M32: =J32/I32 -> 0.32811367 | N32: =SUMIF(ALL_Pivot_new!B:B,C:C,ALL_Pivot_new!O:O) -> 61297.2 | O32: =N32/I32 -> 1.0263601 | P32: =H32/G32 -> 0.5 | Q32: =N32*P32 -> 30648.6 | R32: =N32+Q32 -> 91945.8
A33: =VLOOKUP(C:C,ALL_Pivot_new!B:D,2,FALSE) -> FDC | B33: =VLOOKUP(C:C,ALL_Pivot_new!B:D,3,FALSE) -> Vmax | C33: 713 | D33: =SUMIF(ALL_Pivot_new!B:B,C:C,ALL_Pivot_new!F:F) -> 431200 | E33: =SUMIF(ALL_Pivot_new!B:B,C:C,ALL_Pivot_new!G:G) -> 392263.38 | F33: =SUMIF(ALL_Pivot_new!B:B,C:C,ALL_Pivot_new!H:H) -> 38936.625 | G33: =SUMIF(ALL_Pivot_new!B:B,C:C,ALL_Pivot_new!I:I) -> 372932.87 | H33: =SUMIF(ALL_Pivot_new!B:B,C:C,ALL_Pivot_new!J:J) -> 182064.07 | I33: =SUMIF(ALL_Pivot_new!B:B,C:C,ALL_Pivot_new!K:K) -> 190868.8 | J33: =SUMIF(ALL_Pivot_new!B:B,C:C,ALL_Pivot_new!L:L) -> 41426.1 | K33: =SUMIF(ALL_Pivot_new!B:B,C:C,ALL_Pivot_new!M:M) -> 149442.7 | L33: =SUMIF(ALL_Pivot_new!B:B,C:C,ALL_Pivot_new!N:N) -> 8005.375 | M33: =J33/I33 -> 0.21703966 | N33: =SUMIF(ALL_Pivot_new!B:B,C:C,ALL_Pivot_new!O:O) -> 198313 | O33: =N33/I33 -> 1.0390017 | P33: =H33/G33 -> 0.48819528 | Q33: =N33*P33 -> 96815.471 | R33: =N33+Q33 -> 295128.47
A34: =VLOOKUP(C:C,ALL_Pivot_new!B:D,2,FALSE) -> RDC | B34: =VLOOKUP(C:C,ALL_Pivot_new!B:D,3,FALSE) -> Vmax | C34: 485 | D34: =SUMIF(ALL_Pivot_new!B:B,C:C,ALL_Pivot_new!F:F) -> 431200 | E34: =SUMIF(ALL_Pivot_new!B:B,C:C,ALL_Pivot_new!G:G) -> 392263.38 | F34: =SUMIF(ALL_Pivot_new!B:B,C:C,ALL_Pivot_new!H:H) -> 38936.625 | G34: =SUMIF(ALL_Pivot_new!B:B,C:C,ALL_Pivot_new!I:I) -> 372932.87 | H34: =SUMIF(ALL_Pivot_new!B:B,C:C,ALL_Pivot_new!J:J) -> 182064.07 | I34: =SUMIF(ALL_Pivot_new!B:B,C:C,ALL_Pivot_new!K:K) -> 190868.8 | J34: =SUMIF(ALL_Pivot_new!B:B,C:C,ALL_Pivot_new!L:L) -> 39857 | K34: =SUMIF(ALL_Pivot_new!B:B,C:C,ALL_Pivot_new!M:M) -> 151011.8 | L34: =SUMIF(ALL_Pivot_new!B:B,C:C,ALL_Pivot_new!N:N) -> 8005.375 | M34: =J34/I34 -> 0.20881883 | N34: =SUMIF(ALL_Pivot_new!B:B,C:C,ALL_Pivot_new!O:O) -> 141793 | O34: =N34/I34 -> 0.74288202 | P34: =H34/G34 -> 0.48819528 | Q34: =N34*P34 -> 69222.674 | R34: =N34+Q34 -> 211015.67
A35: =VLOOKUP(C:C,ALL_Pivot_new!B:D,2,FALSE) -> FDC | B35: =VLOOKUP(C:C,ALL_Pivot_new!B:D,3,FALSE) -> XIV | C35: 61188 | D35: =SUMIF(ALL_Pivot_new!B:B,C:C,ALL_Pivot_new!F:F) -> 540000 | E35: =SUMIF(ALL_Pivot_new!B:B,C:C,ALL_Pivot_new!G:G) -> 534615 | F35: =SUMIF(ALL_Pivot_new!B:B,C:C,ALL_Pivot_new!H:H) -> 5385 | G35: =SUMIF(ALL_Pivot_new!B:B,C:C,ALL_Pivot_new!I:I) -> 486785.04 | H35: =SUMIF(ALL_Pivot_new!B:B,C:C,ALL_Pivot_new!J:J) -> 243392.52 | I35: =SUMIF(ALL_Pivot_new!B:B,C:C,ALL_Pivot_new!K:K) -> 243392.52 | J35: =SUMIF(ALL_Pivot_new!B:B,C:C,ALL_Pivot_new!L:L) -> 107034 | K35: =SUMIF(ALL_Pivot_new!B:B,C:C,ALL_Pivot_new!M:M) -> 136358.52 | L35: =SUMIF(ALL_Pivot_new!B:B,C:C,ALL_Pivot_new!N:N) -> 44551.25 | M35: =J35/I35 -> 0.43975879 | N35: =SUMIF(ALL_Pivot_new!B:B,C:C,ALL_Pivot_new!O:O) -> 107034 | O35: =N35/I35 -> 0.43975879 | P35: =H35/G35 -> 0.5 | Q35: =N35*P35 -> 53517 | R35: =N35+Q35 -> 160551
A36: =VLOOKUP(C:C,ALL_Pivot_new!B:D,2,FALSE) -> RDC | B36: =VLOOKUP(C:C,ALL_Pivot_new!B:D,3,FALSE) -> XIV | C36: 61239 | D36: =SUMIF(ALL_Pivot_new!B:B,C:C,ALL_Pivot_new!F:F) -> 540000 | E36: =SUMIF(ALL_Pivot_new!B:B,C:C,ALL_Pivot_new!G:G) -> 534615 | F36: =SUMIF(ALL_Pivot_new!B:B,C:C,ALL_Pivot_new!H:H) -> 5385 | G36: =SUMIF(ALL_Pivot_new!B:B,C:C,ALL_Pivot_new!I:I) -> 481966.76 | H36: =SUMIF(ALL_Pivot_new!B:B,C:C,ALL_Pivot_new!J:J) -> 240983.38 | I36: =SUMIF(ALL_Pivot_new!B:B,C:C,ALL_Pivot_new!K:K) -> 240983.38 | J36: =SUMIF(ALL_Pivot_new!B:B,C:C,ALL_Pivot_new!L:L) -> 130093.84 | K36: =SUMIF(ALL_Pivot_new!B:B,C:C,ALL_Pivot_new!M:M) -> 110889.54 | L36: =SUMIF(ALL_Pivot_new!B:B,C:C,ALL_Pivot_new!N:N) -> 44551.25 | M36: =J36/I36 -> 0.53984569 | N36: =SUMIF(ALL_Pivot_new!B:B,C:C,ALL_Pivot_new!O:O) -> 130093.84 | O36: =N36/I36 -> 0.53984569 | P36: =H36/G36 -> 0.5 | Q36: =N36*P36 -> 65046.92 | R36: =N36+Q36 -> 195140.76
A37: =VLOOKUP(C:C,ALL_Pivot_new!B:D,2,FALSE) -> RDC | B37: =VLOOKUP(C:C,ALL_Pivot_new!B:D,3,FALSE) -> Vmax | C37: 1144 | D37: =SUMIF(ALL_Pivot_new!B:B,C:C,ALL_Pivot_new!F:F) -> 235200 | E37: =SUMIF(ALL_Pivot_new!B:B,C:C,ALL_Pivot_new!G:G) -> 213716.56 | F37: =SUMIF(ALL_Pivot_new!B:B,C:C,ALL_Pivot_new!H:H) -> 21483.438 | G37: =SUMIF(ALL_Pivot_new!B:B,C:C,ALL_Pivot_new!I:I) -> 200645.2 | H37: =SUMIF(ALL_Pivot_new!B:B,C:C,ALL_Pivot_new!J:J) -> 100322.6 | I37: =SUMIF(ALL_Pivot_new!B:B,C:C,ALL_Pivot_new!K:K) -> 100322.6 | J37: =SUMIF(ALL_Pivot_new!B:B,C:C,ALL_Pivot_new!L:L) -> 15656.8 | K37: =SUMIF(ALL_Pivot_new!B:B,C:C,ALL_Pivot_new!M:M) -> 84665.8 | L37: =SUMIF(ALL_Pivot_new!B:B,C:C,ALL_Pivot_new!N:N) -> 4361.5625 | M37: =J37/I37 -> 0.15606454 | N37: =SUMIF(ALL_Pivot_new!B:B,C:C,ALL_Pivot_new!O:O) -> 49951.6 | O37: =N37/I37 -> 0.49790974 | P37: =H37/G37 -> 0.5 | Q37: =N37*P37 -> 24975.8 | R37: =N37+Q37 -> 74927.4
... A39: =VLOOKUP(C:C,ALL_Pivot_new!B:D,2,FALSE) -> welle | B39: =VLOOKUP(C:C,ALL_Pivot_new!B:D,3,FALSE) -> Vmax | C39: 877 | D39: =SUMIF(ALL_Pivot_new!B:B,C:C,ALL_Pivot_new!F:F) -> 6600 | E39: =SUMIF(ALL_Pivot_new!B:B,C:C,ALL_Pivot_new!G:G) -> 5940 | F39: =SUMIF(ALL_Pivot_new!B:B,C:C,ALL_Pivot_new!H:H) -> 660 | G39: =SUMIF(ALL_Pivot_new!B:B,C:C,ALL_Pivot_new!I:I) -> 5400 | H39: =SUMIF(ALL_Pivot_new!B:B,C:C,ALL_Pivot_new!J:J) -> 675 | I39: =SUMIF(ALL_Pivot_new!B:B,C:C,ALL_Pivot_new!K:K) -> 4725 | J39: =SUMIF(ALL_Pivot_new!B:B,C:C,ALL_Pivot_new!L:L) -> 4282 | K39: =SUMIF(ALL_Pivot_new!B:B,C:C,ALL_Pivot_new!M:M) -> 443 | L39: =SUMIF(ALL_Pivot_new!B:B,C:C,ALL_Pivot_new!N:N) -> 540 | M39: =J39/I39 -> 0.90624339 | N39: =SUMIF(ALL_Pivot_new!B:B,C:C,ALL_Pivot_new!O:O) -> 4282 | O39: =N39/I39 -> 0.90624339 | P39: =H39/G39 -> 0.125 | Q39: =N39*P39 -> 535.25 | R39: =N39+Q39 -> 4817.25
A40: =VLOOKUP(C:C,ALL_Pivot_new!B:D,2,FALSE) -> FDC | B40: =VLOOKUP(C:C,ALL_Pivot_new!B:D,3,FALSE) -> DMX | C40: 5349 | J40: =SUMIF(ALL_Pivot_new!B:B,C:C,ALL_Pivot_new!L:L) -> 10018.175 | N40: =SUMIF(ALL_Pivot_new!B:B,C:C,ALL_Pivot_new!O:O) -> 10018.175
A41: =VLOOKUP(C:C,ALL_Pivot_new!B:D,2,FALSE) -> RDC | B41: =VLOOKUP(C:C,ALL_Pivot_new!B:D,3,FALSE) -> DMX | C41: 5373 | J41: =SUMIF(ALL_Pivot_new!B:B,C:C,ALL_Pivot_new!L:L) -> 1943.0361 | N41: =SUMIF(ALL_Pivot_new!B:B,C:C,ALL_Pivot_new!O:O) -> 3886.0723
...

Sheet Final MOR-no-MOR
A1: Loc | B1: Type | C1: Array | D1: Market Standard | E1: Formatted | F1: format Lost | G1: Physical total | H1: Parity Lost | I1: Pool Usable | J1: Pool Used | K1: Pool Free | L1: Spare | M1: %Used | N1: Host Allocations | O1: %Allocated | P1: %Parity | Q1: ParityGB | R1: Allocated RAW
A2: =VLOOKUP(C:C,ALL_Pivot_new!B:D,2,FALSE) -> Swiss | B2: =VLOOKUP(C:C,ALL_Pivot_new!B:D,3,FALSE) -> Vmax | C2: 377 | D2: =SUMIF(ALL_Pivot_new!B:B,C:C,ALL_Pivot_new!F:F) -> 46800 | E2: =SUMIF(ALL_Pivot_new!B:B,C:C,ALL_Pivot_new!G:G) -> 42525 | F2: =SUMIF(ALL_Pivot_new!B:B,C:C,ALL_Pivot_new!H:H) -> 4275 | G2: =SUMIF(ALL_Pivot_new!B:B,C:C,ALL_Pivot_new!I:I) -> 37817.714 | H2: =SUMIF(ALL_Pivot_new!B:B,C:C,ALL_Pivot_new!J:J) -> 4727.2143 | I2: =SUMIF(ALL_Pivot_new!B:B,C:C,ALL_Pivot_new!K:K) -> 33090.5 | J2: =SUMIF(ALL_Pivot_new!B:B,C:C,ALL_Pivot_new!L:L) -> 14757.2 | K2: =SUMIF(ALL_Pivot_new!B:B,C:C,ALL_Pivot_new!M:M) -> 18333.3 | L2: =SUMIF(ALL_Pivot_new!B:B,C:C,ALL_Pivot_new!N:N) -> 3271 | M2: =J2/I2 -> 0.44596485 | N2: =SUMIF(ALL_Pivot_new!B:B,C:C,ALL_Pivot_new!O:O) -> 42854.1 | O2: =N2/I2 -> 1.2950575 | P2: =H2/G2 -> 0.125 | Q2: =N2*P2 -> 5356.7625 | R2: =N2+Q2 -> 48210.862
A3: =VLOOKUP(C:C,ALL_Pivot_new!B:D,2,FALSE) -> RDC | B3: =VLOOKUP(C:C,ALL_Pivot_new!B:D,3,FALSE) -> Vmax | C3: 0347 | D3: =SUMIF(ALL_Pivot_new!B:B,C:C,ALL_Pivot_new!F:F) -> 588456 | E3: =SUMIF(ALL_Pivot_new!B:B,C:C,ALL_Pivot_new!G:G) -> 535316.42 | F3: =SUMIF(ALL_Pivot_new!B:B,C:C,ALL_Pivot_new!H:H) -> 53139.582 | G3: =SUMIF(ALL_Pivot_new!B:B,C:C,ALL_Pivot_new!I:I) -> 354223.73 | H3: =SUMIF(ALL_Pivot_new!B:B,C:C,ALL_Pivot_new!J:J) -> 130153.43 | I3: =SUMIF(ALL_Pivot_new!B:B,C:C,ALL_Pivot_new!K:K) -> 224070.3 | J3: =SUMIF(ALL_Pivot_new!B:B,C:C,ALL_Pivot_new!L:L) -> 99631.3 | K3: =SUMIF(ALL_Pivot_new!B:B,C:C,ALL_Pivot_new!M:M) -> 124439 | L3: =SUMIF(ALL_Pivot_new!B:B,C:C,ALL_Pivot_new!N:N) -> 10868.48 | M3: =J3/I3 -> 0.44464304 | N3: =SUMIF(ALL_Pivot_new!B:B,C:C,ALL_Pivot_new!O:O) -> 189680 | O3: =N3/I3 -> 0.84652004 | P3: =H3/G3 -> 0.36743284 | Q3: =N3*P3 -> 69694.662 | R3: =N3+Q3 -> 259374.66
A4: =VLOOKUP(C:C,ALL_Pivot_new!B:D,2,FALSE) -> FDC | B4: =VLOOKUP(C:C,ALL_Pivot_new!B:D,3,FALSE) -> Vmax | C4: 0349 | D4: =SUMIF(ALL_Pivot_new!B:B,C:C,ALL_Pivot_new!F:F) -> 588456 | E4: =SUMIF(ALL_Pivot_new!B:B,C:C,ALL_Pivot_new!G:G) -> 535316.42 | F4: =SUMIF(ALL_Pivot_new!B:B,C:C,ALL_Pivot_new!H:H) -> 53139.582 | G4: =SUMIF(ALL_Pivot_new!B:B,C:C,ALL_Pivot_new!I:I) -> 427723.07 | H4: =SUMIF(ALL_Pivot_new!B:B,C:C,ALL_Pivot_new!J:J) -> 165435.67 | I4: =SUMIF(ALL_Pivot_new!B:B,C:C,ALL_Pivot_new!K:K) -> 262287.4 | J4: =SUMIF(ALL_Pivot_new!B:B,C:C,ALL_Pivot_new!L:L) -> 171025.5 | K4: =SUMIF(ALL_Pivot_new!B:B,C:C,ALL_Pivot_new!M:M) -> 91261.9 | L4: =SUMIF(ALL_Pivot_new!B:B,C:C,ALL_Pivot_new!N:N) -> 10868.48 | M4: =J4/I4 -> 0.65205382 | N4: =SUMIF(ALL_Pivot_new!B:B,C:C,ALL_Pivot_new!O:O) -> 294710 | O4: =N4/I4 -> 1.1236148 | P4: =H4/G4 -> 0.3867822 | Q4: =N4*P4 -> 113988.58 | R4: =N4+Q4 -> 408698.58
A5: =VLOOKUP(C:C,ALL_Pivot_new!B:D,2,FALSE) -> FDC | B5: =VLOOKUP(C:C,ALL_Pivot_new!B:D,3,FALSE) -> Vmax | C5: 2804 | D5: =SUMIF(ALL_Pivot_new!B:B,C:C,ALL_Pivot_new!F:F) -> 118400 | E5: =SUMIF(ALL_Pivot_new!B:B,C:C,ALL_Pivot_new!G:G) -> 107740.89 | F5: =SUMIF(ALL_Pivot_new!B:B,C:C,ALL_Pivot_new!H:H) -> 10659.113 | G5: =SUMIF(ALL_Pivot_new!B:B,C:C,ALL_Pivot_new!I:I) -> 95168.743 | H5: =SUMIF(ALL_Pivot_new!B:B,C:C,ALL_Pivot_new!J:J) -> 12130.243 | I5: =SUMIF(ALL_Pivot_new!B:B,C:C,ALL_Pivot_new!K:K) -> 83038.5 | J5: =SUMIF(ALL_Pivot_new!B:B,C:C,ALL_Pivot_new!L:L) -> 59542 | K5: =SUMIF(ALL_Pivot_new!B:B,C:C,ALL_Pivot_new!M:M) -> 23496.5 | L5: =SUMIF(ALL_Pivot_new!B:B,C:C,ALL_Pivot_new!N:N) -> 3643.793 | M5: =J5/I5 -> 0.71704089 | N5: =SUMIF(ALL_Pivot_new!B:B,C:C,ALL_Pivot_new!O:O) -> 108532 | O5: =N5/I5 -> 1.3070082 | P5: =H5/G5 -> 0.12746037 | Q5: =N5*P5 -> 13833.529 | R5: =N5+Q5 -> 122365.53
A6: =VLOOKUP(C:C,ALL_Pivot_new!B:D,2,FALSE) -> FDC | B6: =VLOOKUP(C:C,ALL_Pivot_new!B:D,3,FALSE) -> Vmax | C6: 3004 | D6: =SUMIF(ALL_Pivot_new!B:B,C:C,ALL_Pivot_new!F:F) -> 597408 | E6: =SUMIF(ALL_Pivot_new!B:B,C:C,ALL_Pivot_new!G:G) -> 527587.59 | F6: =SUMIF(ALL_Pivot_new!B:B,C:C,ALL_Pivot_new!H:H) -> 69820.406 | G6: =SUMIF(ALL_Pivot_new!B:B,C:C,ALL_Pivot_new!I:I) -> 500822.06 | H6: =SUMIF(ALL_Pivot_new!B:B,C:C,ALL_Pivot_new!J:J) -> 62602.757 | I6: =SUMIF(ALL_Pivot_new!B:B,C:C,ALL_Pivot_new!K:K) -> 438219.3 | J6: =SUMIF(ALL_Pivot_new!B:B,C:C,ALL_Pivot_new!L:L) -> 209330.8 | K6: =SUMIF(ALL_Pivot_new!B:B,C:C,ALL_Pivot_new!M:M) -> 228888.5 | L6: =SUMIF(ALL_Pivot_new!B:B,C:C,ALL_Pivot_new!N:N) -> 10767.094 | M6: =J6/I6 -> 0.47768503 | N6: =SUMIF(ALL_Pivot_new!B:B,C:C,ALL_Pivot_new!O:O) -> 374596 | O6: =N6/I6 -> 0.85481402 | P6: =H6/G6 -> 0.125 | Q6: =N6*P6 -> 46824.5 | R6: =N6+Q6 -> 421420.5
A7: =VLOOKUP(C:C,ALL_Pivot_new!B:D,2,FALSE) -> RDC | B7: =VLOOKUP(C:C,ALL_Pivot_new!B:D,3,FALSE) -> Vmax | C7: 3073 | D7: =SUMIF(ALL_Pivot_new!B:B,C:C,ALL_Pivot_new!F:F) -> 531872 | E7: =SUMIF(ALL_Pivot_new!B:B,C:C,ALL_Pivot_new!G:G) -> 470601.19 | F7: =SUMIF(ALL_Pivot_new!B:B,C:C,ALL_Pivot_new!H:H) -> 61270.812 | G7: =SUMIF(ALL_Pivot_new!B:B,C:C,ALL_Pivot_new!I:I) -> 445146.06 | H7: =SUMIF(ALL_Pivot_new!B:B,C:C,ALL_Pivot_new!J:J) -> 55643.257 | I7: =SUMIF(ALL_Pivot_new!B:B,C:C,ALL_Pivot_new!K:K) -> 389502.8 | J7: =SUMIF(ALL_Pivot_new!B:B,C:C,ALL_Pivot_new!L:L) -> 212681.7 | K7: =SUMIF(ALL_Pivot_new!B:B,C:C,ALL_Pivot_new!M:M) -> 176821.1 | L7: =SUMIF(ALL_Pivot_new!B:B,C:C,ALL_Pivot_new!N:N) -> 10767.094 | M7: =J7/I7 -> 0.54603382 | N7: =SUMIF(ALL_Pivot_new!B:B,C:C,ALL_Pivot_new!O:O) -> 327291 | O7: =N7/I7 -> 0.84027894 | P7: =H7/G7 -> 0.125 | Q7: =N7*P7 -> 40911.375 | R7: =N7+Q7 -> 368202.38
A8: =VLOOKUP(C:C,ALL_Pivot_new!B:D,2,FALSE) -> RDC | B8: =VLOOKUP(C:C,ALL_Pivot_new!B:D,3,FALSE) -> Vmax | C8: 3286 | D8: =SUMIF(ALL_Pivot_new!B:B,C:C,ALL_Pivot_new!F:F) -> 227300 | E8: =SUMIF(ALL_Pivot_new!B:B,C:C,ALL_Pivot_new!G:G) -> 206693.84 | F8: =SUMIF(ALL_Pivot_new!B:B,C:C,ALL_Pivot_new!H:H) -> 20606.164 | G8: =SUMIF(ALL_Pivot_new!B:B,C:C,ALL_Pivot_new!I:I) -> 189712.97 | H8: =SUMIF(ALL_Pivot_new!B:B,C:C,ALL_Pivot_new!J:J) -> 23948.271 | I8: =SUMIF(ALL_Pivot_new!B:B,C:C,ALL_Pivot_new!K:K) -> 165764.7 | J8: =SUMIF(ALL_Pivot_new!B:B,C:C,ALL_Pivot_new!L:L) -> 118079.2 | K8: =SUMIF(ALL_Pivot_new!B:B,C:C,ALL_Pivot_new!M:M) -> 47685.5 | L8: =SUMIF(ALL_Pivot_new!B:B,C:C,ALL_Pivot_new!N:N) -> 4461.5859 | M8: =J8/I8 -> 0.71233019 | N8: =SUMIF(ALL_Pivot_new!B:B,C:C,ALL_Pivot_new!O:O) -> 231128.4 | O8: =N8/I8 -> 1.3943162 | P8: =H8/G8 -> 0.12623423 | Q8: =N8*P8 -> 29176.316 | R8: =N8+Q8 -> 260304.72
