Workbook

Sheet Summary
C1: All Sheets
A3: Sheet Name | B3: Market Standard | C3: Formatted | D3: format Lost | E3: Physical total | F3: Parity Lost | G3: Pool Usable | H3: Pool Used | I3: Pool Free | J3: Spare | K3: %Used | L3: Host Allocations | M3: %Allocated
A4: Final MOR | B4: =SUMIF('Final MOR'!B:B,"Total",'Final MOR'!D:D) -> 12539192 | C4: =SUMIF('Final MOR'!B:B,"Total",'Final MOR'!E:E) -> 11479720 | D4: =SUMIF('Final MOR'!B:B,"Total",'Final MOR'!F:F) -> 1059471.9 | E4: =SUMIF('Final MOR'!B:B,"Total",'Final MOR'!G:G) -> 10614219 | F4: =SUMIF('Final MOR'!B:B,"Total",'Final MOR'!H:H) -> 3980757.6 | G4: =SUMIF('Final MOR'!B:B,"Total",'Final MOR'!I:I) -> 6633461.5 | H4: =SUMIF('Final MOR'!B:B,"Total",'Final MOR'!J:J) -> 3467265.8 | I4: =SUMIF('Final MOR'!B:B,"Total",'Final MOR'!K:K) -> 3502509.6 | J4: =SUMIF('Final MOR'!B:B,"Total",'Final MOR'!L:L) -> 302084.41 | K4: =SUMIF('Final MOR'!B:B,"Total",'Final MOR'!M:M) -> 0.52269328 | L4: =SUMIF('Final MOR'!B:B,"Total",'Final MOR'!N:N) -> 5876605.3 | M4: =SUMIF('Final MOR'!B:B,"Total",'Final MOR'!O:O) -> 0.88590328
A5: Tech-Refresh | B5: =SUMIF('Tech-Refresh'!B:B,"Total",'Tech-Refresh'!D:D) -> 1529612 | C5: =SUMIF('Tech-Refresh'!B:B,"Total",'Tech-Refresh'!E:E) -> 1385898.4 | D5: =SUMIF('Tech-Refresh'!B:B,"Total",'Tech-Refresh'!F:F) -> 143713.55 | E5: =SUMIF('Tech-Refresh'!B:B,"Total",'Tech-Refresh'!G:G) -> 1308276.2 | F5: =SUMIF('Tech-Refresh'!B:B,"Total",'Tech-Refresh'!H:H) -> 164571.24 | G5: =SUMIF('Tech-Refresh'!B:B,"Total",'Tech-Refresh'!I:I) -> 1143704.9 | H5: =SUMIF('Tech-Refresh'!B:B,"Total",'Tech-Refresh'!J:J) -> 336313.91 | I5: =SUMIF('Tech-Refresh'!B:B,"Total",'Tech-Refresh'!K:K) -> 807391 | J5: =SUMIF('Tech-Refresh'!B:B,"Total",'Tech-Refresh'!L:L) -> 34453.85 | K5: =SUMIF('Tech-Refresh'!B:B,"Total",'Tech-Refresh'!M:M) -> 0.29405654 | L5: =SUMIF('Tech-Refresh'!B:B,"Total",'Tech-Refresh'!N:N) -> 330665.05 | M5: =SUMIF('Tech-Refresh'!B:B,"Total",'Tech-Refresh'!O:O) -> 0.28911745
A6: New Installs | B6: =SUMIF('New Installs'!B:B,"Total",'New Installs'!D:D) -> 0 | C6: =SUMIF('New Installs'!B:B,"Total",'New Installs'!E:E) -> 0 | D6: =SUMIF('New Installs'!B:B,"Total",'New Installs'!F:F) -> 0 | E6: =SUMIF('New Installs'!B:B,"Total",'New Installs'!G:G) -> 0 | F6: =SUMIF('New Installs'!B:B,"Total",'New Installs'!H:H) -> 0 | G6: =SUMIF('New Installs'!B:B,"Total",'New Installs'!I:I) -> 0 | H6: =SUMIF('New Installs'!B:B,"Total",'New Installs'!J:J) -> 0 | I6: =SUMIF('New Installs'!B:B,"Total",'New Installs'!K:K) -> 0 | J6: =SUMIF('New Installs'!B:B,"Total",'New Installs'!L:L) -> 0 | K6: =SUMIF('New Installs'!B:B,"Total",'New Installs'!M:M) -> 0 | L6: =SUMIF('New Installs'!B:B,"Total",'New Installs'!N:N) -> 0 | M6: =SUMIF('New Installs'!B:B,"Total",'New Installs'!O:O) -> 0
A7: Unable to Report | B7: =SUMIF('Unable to Report'!B:B,"Total",'Unable to Report'!D:D) -> 0 | C7: =SUMIF('Unable to Report'!B:B,"Total",'Unable to Report'!E:E) -> 0 | D7: =SUMIF('Unable to Report'!B:B,"Total",'Unable to Report'!F:F) -> 0 | E7: =SUMIF('Unable to Report'!B:B,"Total",'Unable to Report'!G:G) -> 0 | F7: =SUMIF('Unable to Report'!B:B,"Total",'Unable to Report'!H:H) -> 0 | G7: =SUMIF('Unable to Report'!B:B,"Total",'Unable to Report'!I:I) -> 0 | H7: =SUMIF('Unable to Report'!B:B,"Total",'Unable to Report'!J:J) -> 0 | I7: =SUMIF('Unable to Report'!B:B,"Total",'Unable to Report'!K:K) -> 0 | J7: =SUMIF('Unable to Report'!B:B,"Total",'Unable to Report'!L:L) -> 0 | K7: 0 | L7: =SUMIF('Unable to Report'!B:B,"Total",'Unable to Report'!N:N) -> 0 | M7: 0
A8: Exchange | B8: =SUMIF(Exchange!B:B,"Total",Exchange!D:D) -> 3028284.7 | C8: =SUMIF(Exchange!B:B,"Total",Exchange!E:E) -> 2754595.1 | D8: =SUMIF(Exchange!B:B,"Total",Exchange!F:F) -> 273689.6 | E8: =SUMIF(Exchange!B:B,"Total",Exchange!G:G) -> 2385834.9 | F8: =SUMIF(Exchange!B:B,"Total",Exchange!H:H) -> 959187.18 | G8: =SUMIF(Exchange!B:B,"Total",Exchange!I:I) -> 1426647.7 | H8: =SUMIF(Exchange!B:B,"Total",Exchange!J:J) -> 1322747.2 | I8: =SUMIF(Exchange!B:B,"Total",Exchange!K:K) -> 103900.48 | J8: =SUMIF(Exchange!B:B,"Total",Exchange!L:L) -> 2659.3696 | K8: =SUMIF(Exchange!B:B,"Total",Exchange!M:M) -> 0.92717159 | L8: =SUMIF(Exchange!B:B,"Total",Exchange!N:N) -> 1322747.2 | M8: =SUMIF(Exchange!B:B,"Total",Exchange!O:O) -> 0.92717159
A9: Total(GB) | B9: =SUM(B4:B8) -> 17097089 | C9: =SUM(C4:C8) -> 15620214 | D9: =SUM(D4:D8) -> 1476875.1 | E9: =SUM(E4:E8) -> 14308330 | F9: =SUM(F4:F8) -> 5104516 | G9: =SUM(G4:G8) -> 9203814 | H9: =SUM(H4:H8) -> 5126326.9 | I9: =SUM(I4:I8) -> 4413801.1 | J9: =SUM(J4:J8) -> 339197.63 | K9: =H9/G9 -> 0.55697854 | L9: =SUM(L4:L8) -> 7530017.5 | M9: =L9/G9 -> 0.81814099
A10: Total(TB) | B10: =B9/1024 -> 16696.376 | C10: =C9/1024 -> 15254.115 | D10: =D9/1024 -> 1442.2608 | E10: =E9/1024 -> 13972.979 | F10: =F9/1024 -> 4984.8789 | G10: =G9/1024 -> 8988.0997 | H10: =H9/1024 -> 5006.1786 | I10: =I9/1024 -> 4310.3526 | J10: =J9/1024 -> 331.24768 | K10: =H10/G10 -> 0.55697854 | L10: =L9/1024 -> 7353.5327 | M10: =L10/G10 -> 0.81814099
A11: Total(PB) | B11: =B10/1024 -> 16.305054 | C11: =C10/1024 -> 14.896597 | D11: =D10/1024 -> 1.4084578 | E11: =E10/1024 -> 13.645487 | F11: =F10/1024 -> 4.8680458 | G11: =G10/1024 -> 8.7774411 | H11: =H10/1024 -> 4.8888463 | I11: =I10/1024 -> 4.2093287 | J11: =J10/1024 -> 0.32348407 | K11: =H11/G11 -> 0.55697854 | L11: =L10/1024 -> 7.1811843 | M11: =L11/G11 -> 0.81814099
C13: Exclude the below Sheets from the final MOR Report
A15: Sheet Name | B15: Market Standard | C15: Formatted | D15: format Lost | E15: Physical total | F15: Parity Lost | G15: Pool Usable | H15: Pool Used | I15: Pool Free | J15: Spare | K15: %Used | L15: Host Allocations | M15: %Allocated
A16: Tech-Refresh | B16: =B5 -> 1529612 | C16: =C5 -> 1385898.4 | D16: =D5 -> 143713.55 | E16: =E5 -> 1308276.2 | F16: =F5 -> 164571.24 | G16: =G5 -> 1143704.9 | H16: =H5 -> 336313.91 | I16: =I5 -> 807391 | ... M16: =M5 -> 0.28911745
A17: New Installs | B17: =B6 -> 0 | C17: =C6 -> 0 | D17: =D6 -> 0 | E17: =E6 -> 0 | F17: =F6 -> 0 | G17: =G6 -> 0 | H17: =H6 -> 0 | I17: =I6 -> 0 | ... M17: =M6 -> 0
A18: Unable to Report | B18: =B7 -> 0 | C18: =C7 -> 0 | D18: =D7 -> 0 | E18: =E7 -> 0 | F18: =F7 -> 0 | G18: =G7 -> 0 | H18: =H7 -> 0 | I18: =I7 -> 0 | ... M18: =M7 -> 0
A19: Exchange | B19: =B8 -> 3028284.7 | C19: =C8 -> 2754595.1 | D19: =D8 -> 273689.6 | E19: =E8 -> 2385834.9 | F19: =F8 -> 959187.18 | G19: =G8 -> 1426647.7 | H19: =H8 -> 1322747.2 | I19: =I8 -> 103900.48 | ... M19: =M8 -> 0.92717159
A20: Total(GB) | B20: =SUM(B16:B19) -> 4557896.7 | C20: =SUM(C16:C19) -> 4140493.5 | D20: =SUM(D16:D19) -> 417403.15 | E20: =SUM(E16:E19) -> 3694111 | F20: =SUM(F16:F19) -> 1123758.4 | G20: =SUM(G16:G19) -> 2570352.6 | H20: =SUM(H16:H19) -> 1659061.1 | I20: =SUM(I16:I19) -> 911291.48 | J20: =SUM(J16:J19) -> 37113.219 | K20: =H20/G20 -> 0.64546051 | L20: =SUM(L16:L19) -> 1653412.2 | M20: =L20/G20 -> 0.64326281
A21: Total(TB) | B21: =B20/1024 -> 4451.071 | C21: =C20/1024 -> 4043.4507 | D21: =D20/1024 -> 407.62026 | E21: =E20/1024 -> 3607.5303 | F21: =F20/1024 -> 1097.4203 | G21: =G20/1024 -> 2510.1099 | H21: =H20/1024 -> 1620.1769 | I21: =I20/1024 -> 889.93309 | J21: =J20/1024 -> 36.243378 | K21: =H21/G21 -> 0.64546051 | L21: =L20/1024 -> 1614.6604 | M21: =L21/G21 -> 0.64326281
A22: Total(PB) | B22: =B21/1024 -> 4.346749 | C22: =C21/1024 -> 3.9486823 | D22: =D21/1024 -> 0.39806666 | E22: =E21/1024 -> 3.5229788 | F22: =F21/1024 -> 1.0716996 | G22: =G21/1024 -> 2.4512792 | H22: =H21/1024 -> 1.582204 | I22: =I21/1024 -> 0.86907528 | J22: =J21/1024 -> 0.035393924 | K22: =H22/G22 -> 0.64546051 | L22: =L21/1024 -> 1.5768168 | M22: =L22/G22 -> 0.64326281
C24: Final MOR Report
A26: Sheet Name | B26: Market Standard | C26: Formatted | D26: format Lost | E26: Physical total | F26: Parity Lost | G26: Pool Usable | H26: Pool Used | I26: Pool Free | J26: Spare | K26: %Used | L26: Host Allocations | M26: %Allocated
A27: Final MOR | B27: =B9-B20 -> 12539192 | C27: =C9-C20 -> 11479720 | D27: =D9-D20 -> 1059471.9 | E27: =E9-E20 -> 10614219 | F27: =F9-F20 -> 3980757.6 | G27: =G9-G20 -> 6633461.5 | H27: =H9-H20 -> 3467265.8 | I27: =I9-I20 -> 3502509.6 | J27: =J9-J20 -> 302084.41 | K27: =H27/G27 -> 0.52269328 | L27: =L9-L20 -> 5876605.3 | M27: =L27/G27 -> 0.88590328
A28: Total(TB) | B28: =B27/1024 -> 12245.305 | C28: =C27/1024 -> 11210.664 | D28: =D27/1024 -> 1034.6405 | E28: =E27/1024 -> 10365.448 | F28: =F27/1024 -> 3887.4586 | G28: =G27/1024 -> 6477.9897 | H28: =H27/1024 -> 3386.0017 | I28: =I27/1024 -> 3420.4195 | J28: =J27/1024 -> 295.0043 | K28: =H28/G28 -> 0.52269328 | L28: =L27/1024 -> 5738.8724 | M28: =L28/G28 -> 0.88590328
A29: Total(PB) | B29: =B28/1024 -> 11.958305 | C29: =C28/1024 -> 10.947914 | D29: =D28/1024 -> 1.0103911 | E29: =E28/1024 -> 10.122508 | F29: =F28/1024 -> 3.7963463 | G29: =G28/1024 -> 6.3261618 | H29: =H28/1024 -> 3.3066423 | I29: =I28/1024 -> 3.3402535 | J29: =J28/1024 -> 0.28809014 | K29: =H29/G29 -> 0.52269328 | L29: =L28/1024 -> 5.6043675 | M29: =L29/G29 -> 0.88590328

Sheet Summary-NoTRSource
C1: All Sheets
A3: Sheet Name | B3: Market Standard | C3: Formatted | D3: format Lost | E3: Physical total | F3: Parity Lost | G3: Pool Usable | H3: Pool Used | I3: Pool Free | J3: Spare | K3: %Used | L3: Host Allocations | M3: %Allocated
A4: Final MOR | B4: =SUMIF('Final MOR-no-MOR'!B:B,"Total",'Final MOR-no-MOR'!D:D) -> 11676792 | C4: =SUMIF('Final MOR-no-MOR'!B:B,"Total",'Final MOR-no-MOR'!E:E) -> 10695193 | D4: =SUMIF('Final MOR-no-MOR'!B:B,"Total",'Final MOR-no-MOR'!F:F) -> 981598.65 | E4: =SUMIF('Final MOR-no-MOR'!B:B,"Total",'Final MOR-no-MOR'!G:G) -> 9868353.3 | F4: =SUMIF('Final MOR-no-MOR'!B:B,"Total",'Final MOR-no-MOR'!H:H) -> 3616629.4 | G4: =SUMIF('Final MOR-no-MOR'!B:B,"Total",'Final MOR-no-MOR'!I:I) -> 6251723.9 | H4: =SUMIF('Final MOR-no-MOR'!B:B,"Total",'Final MOR-no-MOR'!J:J) -> 3049668.7 | I4: =SUMIF('Final MOR-no-MOR'!B:B,"Total",'Final MOR-no-MOR'!K:K) -> 3202055.1 | J4: =SUMIF('Final MOR-no-MOR'!B:B,"Total",'Final MOR-no-MOR'!L:L) -> 286073.66 | K4: =SUMIF('Final MOR-no-MOR'!B:B,"Total",'Final MOR-no-MOR'!M:M) -> 0.48781245 | L4: =SUMIF('Final MOR-no-MOR'!B:B,"Total",'Final MOR-no-MOR'!N:N) -> 5205834.2 | M4: =SUMIF('Final MOR-no-MOR'!B:B,"Total",'Final MOR-no-MOR'!O:O) -> 0.83270381
A5: Tech-Refresh | B5: =SUMIF('Tech-Refresh'!B:B,"Total",'Tech-Refresh'!D:D) -> 1529612 | C5: =SUMIF('Tech-Refresh'!B:B,"Total",'Tech-Refresh'!E:E) -> 1385898.4 | D5: =SUMIF('Tech-Refresh'!B:B,"Total",'Tech-Refresh'!F:F) -> 143713.55 | E5: =SUMIF('Tech-Refresh'!B:B,"Total",'Tech-Refresh'!G:G) -> 1308276.2 | F5: =SUMIF('Tech-Refresh'!B:B,"Total",'Tech-Refresh'!H:H) -> 164571.24 | G5: =SUMIF('Tech-Refresh'!B:B,"Total",'Tech-Refresh'!I:I) -> 1143704.9 | H5: =SUMIF('Tech-Refresh'!B:B,"Total",'Tech-Refresh'!J:J) -> 336313.91 | I5: =SUMIF('Tech-Refresh'!B:B,"Total",'Tech-Refresh'!K:K) -> 807391 | J5: =SUMIF('Tech-Refresh'!B:B,"Total",'Tech-Refresh'!L:L) -> 34453.85 | K5: =SUMIF('Tech-Refresh'!B:B,"Total",'Tech-Refresh'!M:M) -> 0.29405654 | L5: =SUMIF('Tech-Refresh'!B:B,"Total",'Tech-Refresh'!N:N) -> 330665.05 | M5: =SUMIF('Tech-Refresh'!B:B,"Total",'Tech-Refresh'!O:O) -> 0.28911745
A6: New Installs | B6: =SUMIF('New Installs'!B:B,"Total",'New Installs'!D:D) -> 0 | C6: =SUMIF('New Installs'!B:B,"Total",'New Installs'!E:E) -> 0 | D6: =SUMIF('New Installs'!B:B,"Total",'New Installs'!F:F) -> 0 | E6: =SUMIF('New Installs'!B:B,"Total",'New Installs'!G:G) -> 0 | F6: =SUMIF('New Installs'!B:B,"Total",'New Installs'!H:H) -> 0 | G6: =SUMIF('New Installs'!B:B,"Total",'New Installs'!I:I) -> 0 | H6: =SUMIF('New Installs'!B:B,"Total",'New Installs'!J:J) -> 0 | I6: =SUMIF('New Installs'!B:B,"Total",'New Installs'!K:K) -> 0 | J6: =SUMIF('New Installs'!B:B,"Total",'New Installs'!L:L) -> 0 | K6: =SUMIF('New Installs'!B:B,"Total",'New Installs'!M:M) -> 0 | L6: =SUMIF('New Installs'!B:B,"Total",'New Installs'!N:N) -> 0 | M6: =SUMIF('New Installs'!B:B,"Total",'New Installs'!O:O) -> 0
A7: Unable to Report | B7: =SUMIF('Unable to Report'!B:B,"Total",'Unable to Report'!D:D) -> 0 | C7: =SUMIF('Unable to Report'!B:B,"Total",'Unable to Report'!E:E) -> 0 | D7: =SUMIF('Unable to Report'!B:B,"Total",'Unable to Report'!F:F) -> 0 | E7: =SUMIF('Unable to Report'!B:B,"Total",'Unable to Report'!G:G) -> 0 | F7: =SUMIF('Unable to Report'!B:B,"Total",'Unable to Report'!H:H) -> 0 | G7: =SUMIF('Unable to Report'!B:B,"Total",'Unable to Report'!I:I) -> 0 | H7: =SUMIF('Unable to Report'!B:B,"Total",'Unable to Report'!J:J) -> 0 | I7: =SUMIF('Unable to Report'!B:B,"Total",'Unable to Report'!K:K) -> 0 | J7: =SUMIF('Unable to Report'!B:B,"Total",'Unable to Report'!L:L) -> 0 | K7: =SUMIF('Unable to Report'!B:B,"Total",'Unable to Report'!M:M) -> #DIV/0! | L7: =SUMIF('Unable to Report'!B:B,"Total",'Unable to Report'!N:N) -> 0 | M7: =SUMIF('Unable to Report'!B:B,"Total",'Unable to Report'!O:O) -> #DIV/0!
A8: Exchange | B8: =SUMIF(Exchange!B:B,"Total",Exchange!D:D) -> 3028284.7 | C8: =SUMIF(Exchange!B:B,"Total",Exchange!E:E) -> 2754595.1 | D8: =SUMIF(Exchange!B:B,"Total",Exchange!F:F) -> 273689.6 | E8: =SUMIF(Exchange!B:B,"Total",Exchange!G:G) -> 2385834.9 | F8: =SUMIF(Exchange!B:B,"Total",Exchange!H:H) -> 959187.18 | G8: =SUMIF(Exchange!B:B,"Total",Exchange!I:I) -> 1426647.7 | H8: =SUMIF(Exchange!B:B,"Total",Exchange!J:J) -> 1322747.2 | I8: =SUMIF(Exchange!B:B,"Total",Exchange!K:K) -> 103900.48 | J8: =SUMIF(Exchange!B:B,"Total",Exchange!L:L) -> 2659.3696 | K8: =SUMIF(Exchange!B:B,"Total",Exchange!M:M) -> 0.92717159 | L8: =SUMIF(Exchange!B:B,"Total",Exchange!N:N) -> 1322747.2 | M8: =SUMIF(Exchange!B:B,"Total",Exchange!O:O) -> 0.92717159
A9: Total(GB) | B9: =SUM(B4:B8) -> 16234689 | C9: =SUM(C4:C8) -> 14835687 | D9: =SUM(D4:D8) -> 1399001.8 | E9: =SUM(E4:E8) -> 13562464 | F9: =SUM(F4:F8) -> 4740387.9 | G9: =SUM(G4:G8) -> 8822076.4 | H9: =SUM(H4:H8) -> 4708729.9 | I9: =SUM(I4:I8) -> 4113346.6 | J9: =SUM(J4:J8) -> 323186.88 | K9: =H9/G9 -> 0.53374394 | L9: =SUM(L4:L8) -> 6859246.5 | M9: =L9/G9 -> 0.7775093
A10: Total(TB) | B10: =B9/1024 -> 15854.188 | C10: =C9/1024 -> 14487.975 | D10: =D9/1024 -> 1366.2127 | E10: =E9/1024 -> 13244.594 | F10: =F9/1024 -> 4629.285 | G10: =G9/1024 -> 8615.309 | H10: =H9/1024 -> 4598.369 | I10: =I9/1024 -> 4016.94 | J10: =J9/1024 -> 315.61218 | K10: =H10/G10 -> 0.53374394 | L10: =L9/1024 -> 6698.4829 | M10: =L10/G10 -> 0.7775093
A11: Total(PB) | B11: =B10/1024 -> 15.482606 | C11: =C10/1024 -> 14.148414 | D11: =D10/1024 -> 1.3341921 | E11: =E10/1024 -> 12.934174 | F11: =F10/1024 -> 4.5207862 | G11: =G10/1024 -> 8.4133877 | H11: =H10/1024 -> 4.4905947 | I11: =I10/1024 -> 3.922793 | J11: =J10/1024 -> 0.30821502 | K11: =H11/G11 -> 0.53374394 | L11: =L10/1024 -> 6.5414872 | M11: =L11/G11 -> 0.7775093
C13: Exclude the below Sheets from the final MOR Report
A15: Sheet Name | B15: Market Standard | C15: Formatted | D15: format Lost | E15: Physical total | F15: Parity Lost | G15: Pool Usable | H15: Pool Used | I15: Pool Free | J15: Spare | K15: %Used | L15: Host Allocations | M15: %Allocated
A16: Tech-Refresh | B16: =B5 -> 1529612 | C16: =C5 -> 1385898.4 | D16: =D5 -> 143713.55 | E16: =E5 -> 1308276.2 | F16: =F5 -> 164571.24 | G16: =G5 -> 1143704.9 | H16: =H5 -> 336313.91 | I16: =I5 -> 807391 | ... M16: =M5 -> 0.28911745
A17: New Installs | B17: =B6 -> 0 | C17: =C6 -> 0 | D17: =D6 -> 0 | E17: =E6 -> 0 | F17: =F6 -> 0 | G17: =G6 -> 0 | H17: =H6 -> 0 | I17: =I6 -> 0 | ... M17: =M6 -> 0
A18: Unable to Report | B18: =B7 -> 0 | C18: =C7 -> 0 | D18: =D7 -> 0 | E18: =E7 -> 0 | F18: =F7 -> 0 | G18: =G7 -> 0 | H18: =H7 -> 0 | I18: =I7 -> 0 | ... M18: =M7 -> #DIV/0!
A19: Exchange | B19: =B8 -> 3028284.7 | C19: =C8 -> 2754595.1 | D19: =D8 -> 273689.6 | E19: =E8 -> 2385834.9 | F19: =F8 -> 959187.18 | G19: =G8 -> 1426647.7 | H19: =H8 -> 1322747.2 | I19: =I8 -> 103900.48 | ... M19: =M8 -> 0.92717159
A20: Total(GB) | B20: =SUM(B16:B19) -> 4557896.7 | C20: =SUM(C16:C19) -> 4140493.5 | D20: =SUM(D16:D19) -> 417403.15 | E20: =SUM(E16:E19) -> 3694111 | F20: =SUM(F16:F19) -> 1123758.4 | G20: =SUM(G16:G19) -> 2570352.6 | H20: =SUM(H16:H19) -> 1659061.1 | I20: =SUM(I16:I19) -> 911291.48 | J20: =SUM(J16:J19) -> 37113.219 | K20: =H20/G20 -> 0.64546051 | L20: =SUM(L16:L19) -> 1653412.2 | M20: =L20/G20 -> 0.64326281
A21: Total(TB) | B21: =B20/1024 -> 4451.071 | C21: =C20/1024 -> 4043.4507 | D21: =D20/1024 -> 407.62026 | E21: =E20/1024 -> 3607.5303 | F21: =F20/1024 -> 1097.4203 | G21: =G20/1024 -> 2510.1099 | H21: =H20/1024 -> 1620.1769 | I21: =I20/1024 -> 889.93309 | J21: =J20/1024 -> 36.243378 | K21: =H21/G21 -> 0.64546051 | L21: =L20/1024 -> 1614.6604 | M21: =L21/G21 -> 0.64326281
A22: Total(PB) | B22: =B21/1024 -> 4.346749 | C22: =C21/1024 -> 3.9486823 | D22: =D21/1024 -> 0.39806666 | E22: =E21/1024 -> 3.5229788 | F22: =F21/1024 -> 1.0716996 | G22: =G21/1024 -> 2.4512792 | H22: =H21/1024 -> 1.582204 | I22: =I21/1024 -> 0.86907528 | J22: =J21/1024 -> 0.035393924 | K22: =H22/G22 -> 0.64546051 | L22: =L21/1024 -> 1.5768168 | M22: =L22/G22 -> 0.64326281
C24: Final MOR Report
A26: Sheet Name | B26: Market Standard | C26: Formatted | D26: format Lost | E26: Physical total | F26: Parity Lost | G26: Pool Usable | H26: Pool Used | I26: Pool Free | J26: Spare | K26: %Used | L26: Host Allocations | M26: %Allocated
A27: Final MOR | B27: =B9-B20 -> 11676792 | C27: =C9-C20 -> 10695193 | D27: =D9-D20 -> 981598.65 | E27: =E9-E20 -> 9868353.3 | F27: =F9-F20 -> 3616629.4 | G27: =G9-G20 -> 6251723.9 | H27: =H9-H20 -> 3049668.7 | I27: =I9-I20 -> 3202055.1 | J27: =J9-J20 -> 286073.66 | K27: =H27/G27 -> 0.48781245 | L27: =L9-L20 -> 5205834.2 | M27: =L27/G27 -> 0.83270381
A28: Total(TB) | B28: =B27/1024 -> 11403.117 | C28: =C27/1024 -> 10444.525 | D28: =D27/1024 -> 958.59244 | E28: =E27/1024 -> 9637.0638 | F28: =F27/1024 -> 3531.8647 | G28: =G27/1024 -> 6105.1991 | H28: =H27/1024 -> 2978.1921 | I28: =I27/1024 -> 3127.0069 | J28: =J27/1024 -> 279.36881 | K28: =H28/G28 -> 0.48781245 | L28: =L27/1024 -> 5083.8225 | M28: =L28/G28 -> 0.83270381
A29: Total(PB) | B29: =B28/1024 -> 11.135857 | C29: =C28/1024 -> 10.199731 | D29: =D28/1024 -> 0.93612543 | E29: =E28/1024 -> 9.4111951 | F29: =F28/1024 -> 3.4490866 | G29: =G28/1024 -> 5.9621085 | H29: =H28/1024 -> 2.9083908 | I29: =I28/1024 -> 3.0537177 | J29: =J28/1024 -> 0.2728211 | K29: =H29/G29 -> 0.48781245 | L29: =L28/1024 -> 4.9646704 | M29: =L29/G29 -> 0.83270381

Sheet Final MOR
A1: Loc | B1: Type | C1: Array | D1: Market Standard | E1: Formatted | F1: format Lost | G1: Physical total | H1: Parity Lost | I1: Pool Usable | J1: Pool Used | K1: Pool Free | L1: Spare | M1: %Used | N1: Host Allocations | O1: %Allocated | P1: %Parity | Q1: ParityGB | R1: Allocated RAW
A2: =VLOOKUP(C:C,ALL_Pivot_new!B:D,2,FALSE) -> Swiss | B2: =VLOOKUP(C:C,ALL_Pivot_new!B:D,3,FALSE) -> Vmax | C2: 377 | D2: =SUMIF(ALL_Pivot_new!B:B,C:C,ALL_Pivot_new!F:F) -> 46800 | E2: =SUMIF(ALL_Pivot_new!B:B,C:C,ALL_Pivot_new!G:G) -> 42525 | F2: =SUMIF(ALL_Pivot_new!B:B,C:C,ALL_Pivot_new!H:H) -> 4275 | G2: =SUMIF(ALL_Pivot_new!B:B,C:C,ALL_Pivot_new!I:I) -> 37817.714 | H2: =SUMIF(ALL_Pivot_new!B:B,C:C,ALL_Pivot_new!J:J) -> 4727.2143 | I2: =SUMIF(ALL_Pivot_new!B:B,C:C,ALL_Pivot_new!K:K) -> 33090.5 | J2: =SUMIF(ALL_Pivot_new!B:B,C:C,ALL_Pivot_new!L:L) -> 14757.2 | K2: =SUMIF(ALL_Pivot_new!B:B,C:C,ALL_Pivot_new!M:M) -> 18333.3 | L2: =SUMIF(ALL_Pivot_new!B:B,C:C,ALL_Pivot_new!N:N) -> 3271 | M2: =J2/I2 -> 0.44596485 | N2: =SUMIF(ALL_Pivot_new!B:B,C:C,ALL_Pivot_new!O:O) -> 42854.1 | O2: =N2/I2 -> 1.2950575 | P2: =H2/G2 -> 0.125 | Q2: =N2*P2 -> 5356.7625 | R2: =N2+Q2 -> 48210.862
A3: =VLOOKUP(C:C,ALL_Pivot_new!B:D,2,FALSE) -> RDC | B3: =VLOOKUP(C:C,ALL_Pivot_new!B:D,3,FALSE) -> Vmax | C3: 0347 | D3: =SUMIF(ALL_Pivot_new!B:B,C:C,ALL_Pivot_new!F:F) -> 588456 | E3: =SUMIF(ALL_Pivot_new!B:B,C:C,ALL_Pivot_new!G:G) -> 535316.42 | F3: =SUMIF(ALL_Pivot_new!B:B,C:C,ALL_Pivot_new!H:H) -> 53139.582 | G3: =SUMIF(ALL_Pivot_new!B:B,C:C,ALL_Pivot_new!I:I) -> 354223.73 | H3: =SUMIF(ALL_Pivot_new!B:B,C:C,ALL_Pivot_new!J:J) -> 130153.43 | I3: =SUMIF(ALL_Pivot_new!B:B,C:C,ALL_Pivot_new!K:K) -> 224070.3 | J3: =SUMIF(ALL_Pivot_new!B:B,C:C,ALL_Pivot_new!L:L) -> 99631.3 | K3: =SUMIF(ALL_Pivot_new!B:B,C:C,ALL_Pivot_new!M:M) -> 124439 | L3: =SUMIF(ALL_Pivot_new!B:B,C:C,ALL_Pivot_new!N:N) -> 10868.48 | M3: =J3/I3 -> 0.44464304 | N3: =SUMIF(ALL_Pivot_new!B:B,C:C,ALL_Pivot_new!O:O) -> 189680 | O3: =N3/I3 -> 0.84652004 | P3: =H3/G3 -> 0.36743284 | Q3: =N3*P3 -> 69694.662 | R3: =N3+Q3 -> 259374.66
A4: =VLOOKUP(C:C,ALL_Pivot_new!B:D,2,FALSE) -> FDC | B4: =VLOOKUP(C:C,ALL_Pivot_new!B:D,3,FALSE) -> Vmax | C4: 0349 | D4: =SUMIF(ALL_Pivot_new!B:B,C:C,ALL_Pivot_new!F:F) -> 588456 | E4: =SUMIF(ALL_Pivot_new!B:B,C:C,ALL_Pivot_new!G:G) -> 535316.42 | F4: =SUMIF(ALL_Pivot_new!B:B,C:C,ALL_Pivot_new!H:H) -> 53139.582 | G4: =SUMIF(ALL_Pivot_new!B:B,C:C,ALL_Pivot_new!I:I) -> 427723.07 | H4: =SUMIF(ALL_Pivot_new!B:B,C:C,ALL_Pivot_new!J:J) -> 165435.67 | I4: =SUMIF(ALL_Pivot_new!B:B,C:C,ALL_Pivot_new!K:K) -> 262287.4 | J4: =SUMIF(ALL_Pivot_new!B:B,C:C,ALL_Pivot_new!L:L) -> 171025.5 | K4: =SUMIF(ALL_Pivot_new!B:B,C:C,ALL_Pivot_new!M:M) -> 91261.9 | L4: =SUMIF(ALL_Pivot_new!B:B,C:C,ALL_Pivot_new!N:N) -> 10868.48 | M4: =J4/I4 -> 0.65205382 | N4: =SUMIF(ALL_Pivot_new!B:B,C:C,ALL_Pivot_new!O:O) -> 294710 | O4: =N4/I4 -> 1.1236148 | P4: =H4/G4 -> 0.3867822 | Q4: =N4*P4 -> 113988.58 | R4: =N4+Q4 -> 408698.58
A5: =VLOOKUP(C:C,ALL_Pivot_new!B:D,2,FALSE) -> FDC | B5: =VLOOKUP(C:C,ALL_Pivot_new!B:D,3,FALSE) -> Vmax | C5: 2804 | D5: =SUMIF(ALL_Pivot_new!B:B,C:C,ALL_Pivot_new!F:F) -> 118400 | E5: =SUMIF(ALL_Pivot_new!B:B,C:C,ALL_Pivot_new!G:G) -> 107740.89 | F5: =SUMIF(ALL_Pivot_new!B:B,C:C,ALL_Pivot_new!H:H) -> 10659.113 | G5: =SUMIF(ALL_Pivot_new!B:B,C:C,ALL_Pivot_new!I:I) -> 95168.743 | H5: =SUMIF(ALL_Pivot_new!B:B,C:C,ALL_Pivot_new!J:J) -> 12130.243 | I5: =SUMIF(ALL_Pivot_new!B:B,C:C,ALL_Pivot_new!K:K) -> 83038.5 | J5: =SUMIF(ALL_Pivot_new!B:B,C:C,ALL_Pivot_new!L:L) -> 59542 | K5: =SUMIF(ALL_Pivot_new!B:B,C:C,ALL_Pivot_new!M:M) -> 23496.5 | L5: =SUMIF(ALL_Pivot_new!B:B,C:C,ALL_Pivot_new!N:N) -> 3643.793 | M5: =J5/I5 -> 0.71704089 | N5: =SUMIF(ALL_Pivot_new!B:B,C:C,ALL_Pivot_new!O:O) -> 108532 | O5: =N5/I5 -> 1.3070082 | P5: =H5/G5 -> 0.12746037 | Q5: =N5*P5 -> 13833.529 | R5: =N5+Q5 -> 122365.53
A6: =VLOOKUP(C:C,ALL_Pivot_new!B:D,2,FALSE) -> FDC | B6: =VLOOKUP(C:C,ALL_Pivot_new!B:D,3,FALSE) -> Vmax | C6: 3004 | D6: =SUMIF(ALL_Pivot_new!B:B,C:C,ALL_Pivot_new!F:F) -> 597408 | E6: =SUMIF(ALL_Pivot_new!B:B,C:C,ALL_Pivot_new!G:G) -> 527587.59 | F6: =SUMIF(ALL_Pivot_new!B:B,C:C,ALL_Pivot_new!H:H) -> 69820.406 | G6: =SUMIF(ALL_Pivot_new!B:B,C:C,ALL_Pivot_new!I:I) -> 500822.06 | H6: =SUMIF(ALL_Pivot_new!B:B,C:C,ALL_Pivot_new!J:J) -> 62602.757 | I6: =SUMIF(ALL_Pivot_new!B:B,C:C,ALL_Pivot_new!K:K) -> 438219.3 | J6: =SUMIF(ALL_Pivot_new!B:B,C:C,ALL_Pivot_new!L:L) -> 209330.8 | K6: =SUMIF(ALL_Pivot_new!B:B,C:C,ALL_Pivot_new!M:M) -> 228888.5 | L6: =SUMIF(ALL_Pivot_new!B:B,C:C,ALL_Pivot_new!N:N) -> 10767.094 | M6: =J6/I6 -> 0.47768503 | N6: =SUMIF(ALL_Pivot_new!B:B,C:C,ALL_Pivot_new!O:O) -> 374596 | O6: =N6/I6 -> 0.85481402 | P6: =H6/G6 -> 0.125 | Q6: =N6*P6 -> 46824.5 | R6: =N6+Q6 -> 421420.5
A7: =VLOOKUP(C:C,ALL_Pivot_new!B:D,2,FALSE) -> RDC | B7: =VLOOKUP(C:C,ALL_Pivot_new!B:D,3,FALSE) -> Vmax | C7: 3073 | D7: =SUMIF(ALL_Pivot_new!B:B,C:C,ALL_Pivot_new!F:F) -> 531872 | E7: =SUMIF(ALL_Pivot_new!B:B,C:C,ALL_Pivot_new!G:G) -> 470601.19 | F7: =SUMIF(ALL_Pivot_new!B:B,C:C,ALL_Pivot_new!H:H) -> 61270.812 | G7: =SUMIF(ALL_Pivot_new!B:B,C:C,ALL_Pivot_new!I:I) -> 445146.06 | H7: =SUMIF(ALL_Pivot_new!B:B,C:C,ALL_Pivot_new!J:J) -> 55643.257 | I7: =SUMIF(ALL_Pivot_new!B:B,C:C,ALL_Pivot_new!K:K) -> 389502.8 | J7: =SUMIF(ALL_Pivot_new!B:B,C:C,ALL_Pivot_new!L:L) -> 212681.7 | K7: =SUMIF(ALL_Pivot_new!B:B,C:C,ALL_Pivot_new!M:M) -> 176821.1 | L7: =SUMIF(ALL_Pivot_new!B:B,C:C,ALL_Pivot_new!N:N) -> 10767.094 | M7: =J7/I7 -> 0.54603382 | N7: =SUMIF(ALL_Pivot_new!B:B,C:C,ALL_Pivot_new!O:O) -> 327291 | O7: =N7/I7 -> 0.84027894 | P7: =H7/G7 -> 0.125 | Q7: =N7*P7 -> 40911.375 | R7: =N7+Q7 -> 368202.38
A8: =VLOOKUP(C:C,ALL_Pivot_new!B:D,2,FALSE) -> RDC | B8: =VLOOKUP(C:C,ALL_Pivot_new!B:D,3,FALSE) -> Vmax | C8: 3286 | D8: =SUMIF(ALL_Pivot_new!B:B,C:C,ALL_Pivot_new!F:F) -> 227300 | E8: =SUMIF(ALL_Pivot_new!B:B,C:C,ALL_Pivot_new!G:G) -> 206693.84 | F8: =SUMIF(ALL_Pivot_new!B:B,C:C,ALL_Pivot_new!H:H) -> 20606.164 | G8: =SUMIF(ALL_Pivot_new!B:B,C:C,ALL_Pivot_new!I:I) -> 189712.97 | H8: =SUMIF(ALL_Pivot_new!B:B,C:C,ALL_Pivot_new!J:J) -> 23948.271 | I8: =SUMIF(ALL_Pivot_new!B:B,C:C,ALL_Pivot_new!K:K) -> 165764.7 | J8: =SUMIF(ALL_Pivot_new!B:B,C:C,ALL_Pivot_new!L:L) -> 118079.2 | K8: =SUMIF(ALL_Pivot_new!B:B,C:C,ALL_Pivot_new!M:M) -> 47685.5 | L8: =SUMIF(ALL_Pivot_new!B:B,C:C,ALL_Pivot_new!N:N) -> 4461.5859 | M8: =J8/I8 -> 0.71233019 | N8: =SUMIF(ALL_Pivot_new!B:B,C:C,ALL_Pivot_new!O:O) -> 231128.4 | O8: =N8/I8 -> 1.3943162 | P8: =H8/G8 -> 0.12623423 | Q8: =N8*P8 -> 29176.316 | R8: =N8+Q8 -> 260304.72
A9: =VLOOKUP(C:C,ALL_Pivot_new!B:D,2,FALSE) -> RDC | B9: =VLOOKUP(C:C,ALL_Pivot_new!B:D,3,FALSE) -> Vmax | C9: 3696 | D9: =SUMIF(ALL_Pivot_new!B:B,C:C,ALL_Pivot_new!F:F) -> 227100 | E9: =SUMIF(ALL_Pivot_new!B:B,C:C,ALL_Pivot_new!G:G) -> 206507.53 | F9: =SUMIF(ALL_Pivot_new!B:B,C:C,ALL_Pivot_new!H:H) -> 20592.475 | G9: =SUMIF(ALL_Pivot_new!B:B,C:C,ALL_Pivot_new!I:I) -> 190337.57 | H9: =SUMIF(ALL_Pivot_new!B:B,C:C,ALL_Pivot_new!J:J) -> 24260.571 | I9: =SUMIF(ALL_Pivot_new!B:B,C:C,ALL_Pivot_new!K:K) -> 166077 | J9: =SUMIF(ALL_Pivot_new!B:B,C:C,ALL_Pivot_new!L:L) -> 31021.4 | K9: =SUMIF(ALL_Pivot_new!B:B,C:C,ALL_Pivot_new!M:M) -> 135055.6 | L9: =SUMIF(ALL_Pivot_new!B:B,C:C,ALL_Pivot_new!N:N) -> 4275.2754 | M9: =J9/I9 -> 0.18678926 | N9: =SUMIF(ALL_Pivot_new!B:B,C:C,ALL_Pivot_new!O:O) -> 173040.4 | O9: =N9/I9 -> 1.0419287 | P9: =H9/G9 -> 0.12746076 | Q9: =N9*P9 -> 22055.861 | R9: =N9+Q9 -> 195096.26
A10: =VLOOKUP(C:C,ALL_Pivot_new!B:D,2,FALSE) -> FDC | B10: =VLOOKUP(C:C,ALL_Pivot_new!B:D,3,FALSE) -> Vmax | C10: 3875 | D10: =SUMIF(ALL_Pivot_new!B:B,C:C,ALL_Pivot_new!F:F) -> 118400 | E10: =SUMIF(ALL_Pivot_new!B:B,C:C,ALL_Pivot_new!G:G) -> 107740.89 | F10: =SUMIF(ALL_Pivot_new!B:B,C:C,ALL_Pivot_new!H:H) -> 10659.113 | G10: =SUMIF(ALL_Pivot_new!B:B,C:C,ALL_Pivot_new!I:I) -> 95793.343 | H10: =SUMIF(ALL_Pivot_new!B:B,C:C,ALL_Pivot_new!J:J) -> 12442.543 | I10: =SUMIF(ALL_Pivot_new!B:B,C:C,ALL_Pivot_new!K:K) -> 83350.8 | J10: =SUMIF(ALL_Pivot_new!B:B,C:C,ALL_Pivot_new!L:L) -> 16003.1 | K10: =SUMIF(ALL_Pivot_new!B:B,C:C,ALL_Pivot_new!M:M) -> 67347.7 | L10: =SUMIF(ALL_Pivot_new!B:B,C:C,ALL_Pivot_new!N:N) -> 3643.793 | M10: =J10/I10 -> 0.19199696 | N10: =SUMIF(ALL_Pivot_new!B:B,C:C,ALL_Pivot_new!O:O) -> 33121.5 | O10: =N10/I10 -> 0.39737471 | P10: =H10/G10 -> 0.12988943 | Q10: =N10*P10 -> 4302.1328 | R10: =N10+Q10 -> 37423.633
A11: =VLOOKUP(C:C,ALL_Pivot_new!B:D,2,FALSE) -> RDC | B11: =VLOOKUP(C:C,ALL_Pivot_new!B:D,3,FALSE) -> Vmax | C11: 4330 | D11: =SUMIF(ALL_Pivot_new!B:B,C:C,ALL_Pivot_new!F:F) -> 287100 | E11: =SUMIF(ALL_Pivot_new!B:B,C:C,ALL_Pivot_new!G:G) -> 260875.96 | F11: =SUMIF(ALL_Pivot_new!B:B,C:C,ALL_Pivot_new!H:H) -> 26224.043 | G11: =SUMIF(ALL_Pivot_new!B:B,C:C,ALL_Pivot_new!I:I) -> 248032.2 | H11: =SUMIF(ALL_Pivot_new!B:B,C:C,ALL_Pivot_new!J:J) -> 124016.1 | I11: =SUMIF(ALL_Pivot_new!B:B,C:C,ALL_Pivot_new!K:K) -> 124016.1 | J11: =SUMIF(ALL_Pivot_new!B:B,C:C,ALL_Pivot_new!L:L) -> 90440.5 | K11: =SUMIF(ALL_Pivot_new!B:B,C:C,ALL_Pivot_new!M:M) -> 33575.6 | L11: =SUMIF(ALL_Pivot_new!B:B,C:C,ALL_Pivot_new!N:N) -> 5724.5508 | M11: =J11/I11 -> 0.72926418 | N11: =SUMIF(ALL_Pivot_new!B:B,C:C,ALL_Pivot_new!O:O) -> 171812 | O11: =N11/I11 -> 1.3854008 | P11: =H11/G11 -> 0.5 | Q11: =N11*P11 -> 85906 | R11: =N11+Q11 -> 257718
A12: =VLOOKUP(C:C,ALL_Pivot_new!B:D,2,FALSE) -> FDC | B12: =VLOOKUP(C:C,ALL_Pivot_new!B:D,3,FALSE) -> Vmax | C12: 4652 | D12: =SUMIF(ALL_Pivot_new!B:B,C:C,ALL_Pivot_new!F:F) -> 441000 | E12: =SUMIF(ALL_Pivot_new!B:B,C:C,ALL_Pivot_new!G:G) -> 400718.55 | F12: =SUMIF(ALL_Pivot_new!B:B,C:C,ALL_Pivot_new!H:H) -> 40281.445 | G12: =SUMIF(ALL_Pivot_new!B:B,C:C,ALL_Pivot_new!I:I) -> 383226.2 | H12: =SUMIF(ALL_Pivot_new!B:B,C:C,ALL_Pivot_new!J:J) -> 191613.1 | I12: =SUMIF(ALL_Pivot_new!B:B,C:C,ALL_Pivot_new!K:K) -> 191613.1 | J12: =SUMIF(ALL_Pivot_new!B:B,C:C,ALL_Pivot_new!L:L) -> 147825.3 | K12: =SUMIF(ALL_Pivot_new!B:B,C:C,ALL_Pivot_new!M:M) -> 43787.8 | L12: =SUMIF(ALL_Pivot_new!B:B,C:C,ALL_Pivot_new!N:N) -> 8177.9297 | M12: =J12/I12 -> 0.77147805 | N12: =SUMIF(ALL_Pivot_new!B:B,C:C,ALL_Pivot_new!O:O) -> 277419 | O12: =N12/I12 -> 1.4478081 | P12: =H12/G12 -> 0.5 | Q12: =N12*P12 -> 138709.5 | R12: =N12+Q12 -> 416128.5
A13: =VLOOKUP(C:C,ALL_Pivot_new!B:D,2,FALSE) -> FDC | B13: =VLOOKUP(C:C,ALL_Pivot_new!B:D,3,FALSE) -> Vmax | C13: 667 | D13: =SUMIF(ALL_Pivot_new!B:B,C:C,ALL_Pivot_new!F:F) -> 235200 | E13: =SUMIF(ALL_Pivot_new!B:B,C:C,ALL_Pivot_new!G:G) -> 213716.56 | F13: =SUMIF(ALL_Pivot_new!B:B,C:C,ALL_Pivot_new!H:H) -> 21483.438 | G13: =SUMIF(ALL_Pivot_new!B:B,C:C,ALL_Pivot_new!I:I) -> 200645.2 | H13: =SUMIF(ALL_Pivot_new!B:B,C:C,ALL_Pivot_new!J:J) -> 98451.1 | I13: =SUMIF(ALL_Pivot_new!B:B,C:C,ALL_Pivot_new!K:K) -> 102194.1 | J13: =SUMIF(ALL_Pivot_new!B:B,C:C,ALL_Pivot_new!L:L) -> 21778.7 | K13: =SUMIF(ALL_Pivot_new!B:B,C:C,ALL_Pivot_new!M:M) -> 80415.4 | L13: =SUMIF(ALL_Pivot_new!B:B,C:C,ALL_Pivot_new!N:N) -> 4361.5625 | M13: =J13/I13 -> 0.21311113 | N13: =SUMIF(ALL_Pivot_new!B:B,C:C,ALL_Pivot_new!O:O) -> 55807.8 | O13: =N13/I13 -> 0.54609611 | P13: =H13/G13 -> 0.49067259 | Q13: =N13*P13 -> 27383.358 | R13: =N13+Q13 -> 83191.158
A14: =VLOOKUP(C:C,ALL_Pivot_new!B:D,2,FALSE) -> RDC | B14: =VLOOKUP(C:C,ALL_Pivot_new!B:D,3,FALSE) -> Vmax | C14: 671 | D14: =SUMIF(ALL_Pivot_new!B:B,C:C,ALL_Pivot_new!F:F) -> 480000 | E14: =SUMIF(ALL_Pivot_new!B:B,C:C,ALL_Pivot_new!G:G) -> 436156.25 | F14: =SUMIF(ALL_Pivot_new!B:B,C:C,ALL_Pivot_new!H:H) -> 43843.75 | G14: =SUMIF(ALL_Pivot_new!B:B,C:C,ALL_Pivot_new!I:I) -> 415239 | H14: =SUMIF(ALL_Pivot_new!B:B,C:C,ALL_Pivot_new!J:J) -> 205748 | I14: =SUMIF(ALL_Pivot_new!B:B,C:C,ALL_Pivot_new!K:K) -> 209491 | J14: =SUMIF(ALL_Pivot_new!B:B,C:C,ALL_Pivot_new!L:L) -> 44061.2 | K14: =SUMIF(ALL_Pivot_new!B:B,C:C,ALL_Pivot_new!M:M) -> 165429.8 | L14: =SUMIF(ALL_Pivot_new!B:B,C:C,ALL_Pivot_new!N:N) -> 8723.125 | M14: =J14/I14 -> 0.21032503 | N14: =SUMIF(ALL_Pivot_new!B:B,C:C,ALL_Pivot_new!O:O) -> 152240.1 | O14: =N14/I14 -> 0.72671427 | P14: =H14/G14 -> 0.49549296 | Q14: =N14*P14 -> 75433.897 | R14: =N14+Q14 -> 227674
A15: =VLOOKUP(C:C,ALL_Pivot_new!B:D,2,FALSE) -> FDC | B15: =VLOOKUP(C:C,ALL_Pivot_new!B:D,3,FALSE) -> Vmax | C15: 710 | D15: =SUMIF(ALL_Pivot_new!B:B,C:C,ALL_Pivot_new!F:F) -> 480000 | E15: =SUMIF(ALL_Pivot_new!B:B,C:C,ALL_Pivot_new!G:G) -> 436156.25 | F15: =SUMIF(ALL_Pivot_new!B:B,C:C,ALL_Pivot_new!H:H) -> 43843.75 | G15: =SUMIF(ALL_Pivot_new!B:B,C:C,ALL_Pivot_new!I:I) -> 415239 | H15: =SUMIF(ALL_Pivot_new!B:B,C:C,ALL_Pivot_new!J:J) -> 205748 | I15: =SUMIF(ALL_Pivot_new!B:B,C:C,ALL_Pivot_new!K:K) -> 209491 | J15: =SUMIF(ALL_Pivot_new!B:B,C:C,ALL_Pivot_new!L:L) -> 147275 | K15: =SUMIF(ALL_Pivot_new!B:B,C:C,ALL_Pivot_new!M:M) -> 62216 | L15: =SUMIF(ALL_Pivot_new!B:B,C:C,ALL_Pivot_new!N:N) -> 8723.125 | M15: =J15/I15 -> 0.70301349 | N15: =SUMIF(ALL_Pivot_new!B:B,C:C,ALL_Pivot_new!O:O) -> 244329 | O15: =N15/I15 -> 1.1662983 | P15: =H15/G15 -> 0.49549296 | Q15: =N15*P15 -> 121063.3 | R15: =N15+Q15 -> 365392.3
A16: =VLOOKUP(C:C,ALL_Pivot_new!B:D,2,FALSE) -> RDC | B16: =VLOOKUP(C:C,ALL_Pivot_new!B:D,3,FALSE) -> Vmax | C16: 689 | D16: =SUMIF(ALL_Pivot_new!B:B,C:C,ALL_Pivot_new!F:F) -> 235200 | E16: =SUMIF(ALL_Pivot_new!B:B,C:C,ALL_Pivot_new!G:G) -> 213716.56 | F16: =SUMIF(ALL_Pivot_new!B:B,C:C,ALL_Pivot_new!H:H) -> 21483.438 | G16: =SUMIF(ALL_Pivot_new!B:B,C:C,ALL_Pivot_new!I:I) -> 200645.2 | H16: =SUMIF(ALL_Pivot_new!B:B,C:C,ALL_Pivot_new!J:J) -> 98451.1 | I16: =SUMIF(ALL_Pivot_new!B:B,C:C,ALL_Pivot_new!K:K) -> 102194.1 | J16: =SUMIF(ALL_Pivot_new!B:B,C:C,ALL_Pivot_new!L:L) -> 74472.3 | K16: =SUMIF(ALL_Pivot_new!B:B,C:C,ALL_Pivot_new!M:M) -> 27721.8 | L16: =SUMIF(ALL_Pivot_new!B:B,C:C,ALL_Pivot_new!N:N) -> 4361.5625 | M16: =J16/I16 -> 0.72873385 | N16: =SUMIF(ALL_Pivot_new!B:B,C:C,ALL_Pivot_new!O:O) -> 109520 | O16: =N16/I16 -> 1.0716861 | P16: =H16/G16 -> 0.49067259 | Q16: =N16*P16 -> 53738.462 | R16: =N16+Q16 -> 163258.46
A17: =VLOOKUP(C:C,ALL_Pivot_new!B:D,2,FALSE) -> FDC | B17: =VLOOKUP(C:C,ALL_Pivot_new!B:D,3,FALSE) -> Vmax | C17: 712 | D17: =SUMIF(ALL_Pivot_new!B:B,C:C,ALL_Pivot_new!F:F) -> 480000 | E17: =SUMIF(ALL_Pivot_new!B:B,C:C,ALL_Pivot_new!G:G) -> 436156.25 | F17: =SUMIF(ALL_Pivot_new!B:B,C:C,ALL_Pivot_new!H:H) -> 43843.75 | G17: =SUMIF(ALL_Pivot_new!B:B,C:C,ALL_Pivot_new!I:I) -> 415239 | H17: =SUMIF(ALL_Pivot_new!B:B,C:C,ALL_Pivot_new!J:J) -> 205748 | I17: =SUMIF(ALL_Pivot_new!B:B,C:C,ALL_Pivot_new!K:K) -> 209491 | J17: =SUMIF(ALL_Pivot_new!B:B,C:C,ALL_Pivot_new!L:L) -> 139447.9 | K17: =SUMIF(ALL_Pivot_new!B:B,C:C,ALL_Pivot_new!M:M) -> 70043.1 | L17: =SUMIF(ALL_Pivot_new!B:B,C:C,ALL_Pivot_new!N:N) -> 8723.125 | M17: =J17/I17 -> 0.66565103 | N17: =SUMIF(ALL_Pivot_new!B:B,C:C,ALL_Pivot_new!O:O) -> 254516 | O17: =N17/I17 -> 1.2149257 | P17: =H17/G17 -> 0.49549296 | Q17: =N17*P17 -> 126110.89 | R17: =N17+Q17 -> 380626.89
A18: =VLOOKUP(C:C,ALL_Pivot_new!B:D,2,FALSE) -> RDC | B18: =VLOOKUP(C:C,ALL_Pivot_new!B:D,3,FALSE) -> Vmax | C18: 706 | D18: =SUMIF(ALL_Pivot_new!B:B,C:C,ALL_Pivot_new!F:F) -> 235200 | E18: =SUMIF(ALL_Pivot_new!B:B,C:C,ALL_Pivot_new!G:G) -> 213716.56 | F18: =SUMIF(ALL_Pivot_new!B:B,C:C,ALL_Pivot_new!H:H) -> 21483.438 | G18: =SUMIF(ALL_Pivot_new!B:B,C:C,ALL_Pivot_new!I:I) -> 200645.2 | H18: =SUMIF(ALL_Pivot_new!B:B,C:C,ALL_Pivot_new!J:J) -> 98451.1 | I18: =SUMIF(ALL_Pivot_new!B:B,C:C,ALL_Pivot_new!K:K) -> 102194.1 | J18: =SUMIF(ALL_Pivot_new!B:B,C:C,ALL_Pivot_new!L:L) -> 76496.3 | K18: =SUMIF(ALL_Pivot_new!B:B,C:C,ALL_Pivot_new!M:M) -> 25697.8 | L18: =SUMIF(ALL_Pivot_new!B:B,C:C,ALL_Pivot_new!N:N) -> 4361.5625 | M18: =J18/I18 -> 0.7485393 | N18: =SUMIF(ALL_Pivot_new!B:B,C:C,ALL_Pivot_new!O:O) -> 127434 | O18: =N18/I18 -> 1.24698 | P18: =H18/G18 -> 0.49067259 | Q18: =N18*P18 -> 62528.371 | R18: =N18+Q18 -> 189962.37
A19: =VLOOKUP(C:C,ALL_Pivot_new!B:D,2,FALSE) -> CGC | B19: =VLOOKUP(C:C,ALL_Pivot_new!B:D,3,FALSE) -> HDS | C19: CGCHDS10 | D19: =SUMIF(ALL_Pivot_new!B:B,C:C,ALL_Pivot_new!F:F) -> 102000 | E19: =SUMIF(ALL_Pivot_new!B:B,C:C,ALL_Pivot_new!G:G) -> 92820 | F19: =SUMIF(ALL_Pivot_new!B:B,C:C,ALL_Pivot_new!H:H) -> 9180 | G19: =SUMIF(ALL_Pivot_new!B:B,C:C,ALL_Pivot_new!I:I) -> 85486.606 | H19: =SUMIF(ALL_Pivot_new!B:B,C:C,ALL_Pivot_new!J:J) -> 10685.826 | I19: =SUMIF(ALL_Pivot_new!B:B,C:C,ALL_Pivot_new!K:K) -> 74800.78 | J19: =SUMIF(ALL_Pivot_new!B:B,C:C,ALL_Pivot_new!L:L) -> 63958 | K19: =SUMIF(ALL_Pivot_new!B:B,C:C,ALL_Pivot_new!M:M) -> 10842.78 | L19: =SUMIF(ALL_Pivot_new!B:B,C:C,ALL_Pivot_new!N:N) -> 5460 | M19: =J19/I19 -> 0.85504456 | N19: =SUMIF(ALL_Pivot_new!B:B,C:C,ALL_Pivot_new!O:O) -> 63958 | O19: =N19/I19 -> 0.85504456 | P19: =H19/G19 -> 0.125 | Q19: =N19*P19 -> 7994.75 | R19: =N19+Q19 -> 71952.75
A20: =VLOOKUP(C:C,ALL_Pivot_new!B:D,2,FALSE) -> FDC | B20: =VLOOKUP(C:C,ALL_Pivot_new!B:D,3,FALSE) -> HDS | C20: FDCHDS04 | D20: =SUMIF(ALL_Pivot_new!B:B,C:C,ALL_Pivot_new!F:F) -> 270000 | E20: =SUMIF(ALL_Pivot_new!B:B,C:C,ALL_Pivot_new!G:G) -> 245700 | F20: =SUMIF(ALL_Pivot_new!B:B,C:C,ALL_Pivot_new!H:H) -> 24300 | G20: =SUMIF(ALL_Pivot_new!B:B,C:C,ALL_Pivot_new!I:I) -> 240489.37 | H20: =SUMIF(ALL_Pivot_new!B:B,C:C,ALL_Pivot_new!J:J) -> 30061.171 | I20: =SUMIF(ALL_Pivot_new!B:B,C:C,ALL_Pivot_new!K:K) -> 210428.2 | J20: =SUMIF(ALL_Pivot_new!B:B,C:C,ALL_Pivot_new!L:L) -> 114180.98 | K20: =SUMIF(ALL_Pivot_new!B:B,C:C,ALL_Pivot_new!M:M) -> 96247.22 | L20: =SUMIF(ALL_Pivot_new!B:B,C:C,ALL_Pivot_new!N:N) -> 1092 | M20: =J20/I20 -> 0.54261254 | N20: =SUMIF(ALL_Pivot_new!B:B,C:C,ALL_Pivot_new!O:O) -> 114180.98 | O20: =N20/I20 -> 0.54261254 | P20: =H20/G20 -> 0.125 | Q20: =N20*P20 -> 14272.622 | R20: =N20+Q20 -> 128453.6
A21: =VLOOKUP(C:C,ALL_Pivot_new!B:D,2,FALSE) -> FDC | B21: =VLOOKUP(C:C,ALL_Pivot_new!B:D,3,FALSE) -> HDS | C21: FDCHDS05 | D21: =SUMIF(ALL_Pivot_new!B:B,C:C,ALL_Pivot_new!F:F) -> 260400 | E21: =SUMIF(ALL_Pivot_new!B:B,C:C,ALL_Pivot_new!G:G) -> 236964 | F21: =SUMIF(ALL_Pivot_new!B:B,C:C,ALL_Pivot_new!H:H) -> 23436 | G21: =SUMIF(ALL_Pivot_new!B:B,C:C,ALL_Pivot_new!I:I) -> 231894.87 | H21: =SUMIF(ALL_Pivot_new!B:B,C:C,ALL_Pivot_new!J:J) -> 28986.859 | I21: =SUMIF(ALL_Pivot_new!B:B,C:C,ALL_Pivot_new!K:K) -> 202908.01 | J21: =SUMIF(ALL_Pivot_new!B:B,C:C,ALL_Pivot_new!L:L) -> 124398.34 | K21: =SUMIF(ALL_Pivot_new!B:B,C:C,ALL_Pivot_new!M:M) -> 78509.67 | L21: =SUMIF(ALL_Pivot_new!B:B,C:C,ALL_Pivot_new!N:N) -> 1092 | M21: =J21/I21 -> 0.61307752 | N21: =SUMIF(ALL_Pivot_new!B:B,C:C,ALL_Pivot_new!O:O) -> 124398.34 | O21: =N21/I21 -> 0.61307752 | P21: =H21/G21 -> 0.125 | Q21: =N21*P21 -> 15549.792 | R21: =N21+Q21 -> 139948.13
A22: =VLOOKUP(C:C,ALL_Pivot_new!B:D,2,FALSE) -> RDC | B22: =VLOOKUP(C:C,ALL_Pivot_new!B:D,3,FALSE) -> HDS | C22: RDCHDS10 | D22: =SUMIF(ALL_Pivot_new!B:B,C:C,ALL_Pivot_new!F:F) -> 58800 | E22: =SUMIF(ALL_Pivot_new!B:B,C:C,ALL_Pivot_new!G:G) -> 53508 | F22: =SUMIF(ALL_Pivot_new!B:B,C:C,ALL_Pivot_new!H:H) -> 5292 | G22: =SUMIF(ALL_Pivot_new!B:B,C:C,ALL_Pivot_new!I:I) -> 51533.533 | H22: =SUMIF(ALL_Pivot_new!B:B,C:C,ALL_Pivot_new!J:J) -> 12883.383 | I22: =SUMIF(ALL_Pivot_new!B:B,C:C,ALL_Pivot_new!K:K) -> 38650.15 | J22: =SUMIF(ALL_Pivot_new!B:B,C:C,ALL_Pivot_new!L:L) -> 31157 | K22: =SUMIF(ALL_Pivot_new!B:B,C:C,ALL_Pivot_new!M:M) -> 7493.15 | L22: =SUMIF(ALL_Pivot_new!B:B,C:C,ALL_Pivot_new!N:N) -> 1092 | M22: =J22/I22 -> 0.80612882 | N22: =SUMIF(ALL_Pivot_new!B:B,C:C,ALL_Pivot_new!O:O) -> 31157 | O22: =N22/I22 -> 0.80612882 | P22: =H22/G22 -> 0.25 | Q22: =N22*P22 -> 7789.25 | R22: =N22+Q22 -> 38946.25
A23: =VLOOKUP(C:C,ALL_Pivot_new!B:D,2,FALSE) -> RDC | B23: =VLOOKUP(C:C,ALL_Pivot_new!B:D,3,FALSE) -> HDS | C23: RDCHDS05 | D23: =SUMIF(ALL_Pivot_new!B:B,C:C,ALL_Pivot_new!F:F) -> 324000 | E23: =SUMIF(ALL_Pivot_new!B:B,C:C,ALL_Pivot_new!G:G) -> 294840 | F23: =SUMIF(ALL_Pivot_new!B:B,C:C,ALL_Pivot_new!H:H) -> 29160 | G23: =SUMIF(ALL_Pivot_new!B:B,C:C,ALL_Pivot_new!I:I) -> 285077.29 | H23: =SUMIF(ALL_Pivot_new!B:B,C:C,ALL_Pivot_new!J:J) -> 35634.661 | I23: =SUMIF(ALL_Pivot_new!B:B,C:C,ALL_Pivot_new!K:K) -> 249442.63 | J23: =SUMIF(ALL_Pivot_new!B:B,C:C,ALL_Pivot_new!L:L) -> 151545 | K23: =SUMIF(ALL_Pivot_new!B:B,C:C,ALL_Pivot_new!M:M) -> 97897.63 | L23: =SUMIF(ALL_Pivot_new!B:B,C:C,ALL_Pivot_new!N:N) -> 6552 | M23: =J23/I23 -> 0.60753449 | N23: =SUMIF(ALL_Pivot_new!B:B,C:C,ALL_Pivot_new!O:O) -> 151545 | O23: =N23/I23 -> 0.60753449 | P23: =H23/G23 -> 0.125 | Q23: =N23*P23 -> 18943.125 | R23: =N23+Q23 -> 170488.12
A24: =VLOOKUP(C:C,ALL_Pivot_new!B:D,2,FALSE) -> RDC | B24: =VLOOKUP(C:C,ALL_Pivot_new!B:D,3,FALSE) -> HDS | C24: RDCHDS06 | D24: =SUMIF(ALL_Pivot_new!B:B,C:C,ALL_Pivot_new!F:F) -> 221700 | E24: =SUMIF(ALL_Pivot_new!B:B,C:C,ALL_Pivot_new!G:G) -> 201747 | F24: =SUMIF(ALL_Pivot_new!B:B,C:C,ALL_Pivot_new!H:H) -> 19953 | G24: =SUMIF(ALL_Pivot_new!B:B,C:C,ALL_Pivot_new!I:I) -> 197544.85 | H24: =SUMIF(ALL_Pivot_new!B:B,C:C,ALL_Pivot_new!J:J) -> 24693.106 | I24: =SUMIF(ALL_Pivot_new!B:B,C:C,ALL_Pivot_new!K:K) -> 172851.74 | J24: =SUMIF(ALL_Pivot_new!B:B,C:C,ALL_Pivot_new!L:L) -> 105953 | K24: =SUMIF(ALL_Pivot_new!B:B,C:C,ALL_Pivot_new!M:M) -> 66898.74 | L24: =SUMIF(ALL_Pivot_new!B:B,C:C,ALL_Pivot_new!N:N) -> 819 | M24: =J24/I24 -> 0.6129704 | N24: =SUMIF(ALL_Pivot_new!B:B,C:C,ALL_Pivot_new!O:O) -> 105953 | O24: =N24/I24 -> 0.6129704 | P24: =H24/G24 -> 0.125 | Q24: =N24*P24 -> 13244.125 | R24: =N24+Q24 -> 119197.12
A25: =VLOOKUP(C:C,ALL_Pivot_new!B:D,2,FALSE) -> FDC | B25: =VLOOKUP(C:C,ALL_Pivot_new!B:D,3,FALSE) -> HDS | C25: FDCHDS10 | D25: =SUMIF(ALL_Pivot_new!B:B,C:C,ALL_Pivot_new!F:F) -> 58800 | E25: =SUMIF(ALL_Pivot_new!B:B,C:C,ALL_Pivot_new!G:G) -> 53508 | F25: =SUMIF(ALL_Pivot_new!B:B,C:C,ALL_Pivot_new!H:H) -> 5292 | G25: =SUMIF(ALL_Pivot_new!B:B,C:C,ALL_Pivot_new!I:I) -> 51533.533 | H25: =SUMIF(ALL_Pivot_new!B:B,C:C,ALL_Pivot_new!J:J) -> 12883.383 | I25: =SUMIF(ALL_Pivot_new!B:B,C:C,ALL_Pivot_new!K:K) -> 38650.15 | J25: =SUMIF(ALL_Pivot_new!B:B,C:C,ALL_Pivot_new!L:L) -> 13705.29 | K25: =SUMIF(ALL_Pivot_new!B:B,C:C,ALL_Pivot_new!M:M) -> 24944.86 | L25: =SUMIF(ALL_Pivot_new!B:B,C:C,ALL_Pivot_new!N:N) -> 1092 | M25: =J25/I25 -> 0.35459862 | N25: =SUMIF(ALL_Pivot_new!B:B,C:C,ALL_Pivot_new!O:O) -> 13705.29 | O25: =N25/I25 -> 0.35459862 | P25: =H25/G25 -> 0.25 | Q25: =N25*P25 -> 3426.3225 | R25: =N25+Q25 -> 17131.612
A26: =VLOOKUP(C:C,ALL_Pivot_new!B:D,2,FALSE) -> FDC | B26: =VLOOKUP(C:C,ALL_Pivot_new!B:D,3,FALSE) -> Vmax | C26: 709 | D26: =SUMIF(ALL_Pivot_new!B:B,C:C,ALL_Pivot_new!F:F) -> 587800 | E26: =SUMIF(ALL_Pivot_new!B:B,C:C,ALL_Pivot_new!G:G) -> 541278.67 | F26: =SUMIF(ALL_Pivot_new!B:B,C:C,ALL_Pivot_new!H:H) -> 46521.332 | G26: =SUMIF(ALL_Pivot_new!B:B,C:C,ALL_Pivot_new!I:I) -> 516508 | H26: =SUMIF(ALL_Pivot_new!B:B,C:C,ALL_Pivot_new!J:J) -> 187816.4 | I26: =SUMIF(ALL_Pivot_new!B:B,C:C,ALL_Pivot_new!K:K) -> 328691.6 | J26: =SUMIF(ALL_Pivot_new!B:B,C:C,ALL_Pivot_new!L:L) -> 195984.3 | K26: =SUMIF(ALL_Pivot_new!B:B,C:C,ALL_Pivot_new!M:M) -> 132707.3 | L26: =SUMIF(ALL_Pivot_new!B:B,C:C,ALL_Pivot_new!N:N) -> 10868.48 | M26: =J26/I26 -> 0.59625588 | N26: =SUMIF(ALL_Pivot_new!B:B,C:C,ALL_Pivot_new!O:O) -> 323143 | O26: =N26/I26 -> 0.98311913 | P26: =H26/G26 -> 0.36362728 | Q26: =N26*P26 -> 117503.61 | R26: =N26+Q26 -> 440646.61
A27: =VLOOKUP(C:C,ALL_Pivot_new!B:D,2,FALSE) -> RDC | B27: =VLOOKUP(C:C,ALL_Pivot_new!B:D,3,FALSE) -> Vmax | C27: 704 | D27: =SUMIF(ALL_Pivot_new!B:B,C:C,ALL_Pivot_new!F:F) -> 405400 | E27: =SUMIF(ALL_Pivot_new!B:B,C:C,ALL_Pivot_new!G:G) -> 373152.69 | F27: =SUMIF(ALL_Pivot_new!B:B,C:C,ALL_Pivot_new!H:H) -> 32247.312 | G27: =SUMIF(ALL_Pivot_new!B:B,C:C,ALL_Pivot_new!I:I) -> 354223.73 | H27: =SUMIF(ALL_Pivot_new!B:B,C:C,ALL_Pivot_new!J:J) -> 130153.43 | I27: =SUMIF(ALL_Pivot_new!B:B,C:C,ALL_Pivot_new!K:K) -> 224070.3 | J27: =SUMIF(ALL_Pivot_new!B:B,C:C,ALL_Pivot_new!L:L) -> 51383.5 | K27: =SUMIF(ALL_Pivot_new!B:B,C:C,ALL_Pivot_new!M:M) -> 172686.8 | L27: =SUMIF(ALL_Pivot_new!B:B,C:C,ALL_Pivot_new!N:N) -> 7915.0625 | M27: =J27/I27 -> 0.22931866 | N27: =SUMIF(ALL_Pivot_new!B:B,C:C,ALL_Pivot_new!O:O) -> 241478 | O27: =N27/I27 -> 1.0776886 | P27: =H27/G27 -> 0.36743284 | Q27: =N27*P27 -> 88726.948 | R27: =N27+Q27 -> 330204.95
A28: =VLOOKUP(C:C,ALL_Pivot_new!B:D,2,FALSE) -> CGC | B28: =VLOOKUP(C:C,ALL_Pivot_new!B:D,3,FALSE) -> Vmax | C28: 703 | D28: =SUMIF(ALL_Pivot_new!B:B,C:C,ALL_Pivot_new!F:F) -> 405400 | E28: =SUMIF(ALL_Pivot_new!B:B,C:C,ALL_Pivot_new!G:G) -> 373152.69 | F28: =SUMIF(ALL_Pivot_new!B:B,C:C,ALL_Pivot_new!H:H) -> 32247.312 | G28: =SUMIF(ALL_Pivot_new!B:B,C:C,ALL_Pivot_new!I:I) -> 354223.73 | H28: =SUMIF(ALL_Pivot_new!B:B,C:C,ALL_Pivot_new!J:J) -> 130153.43 | I28: =SUMIF(ALL_Pivot_new!B:B,C:C,ALL_Pivot_new!K:K) -> 224070.3 | J28: =SUMIF(ALL_Pivot_new!B:B,C:C,ALL_Pivot_new!L:L) -> 103948.9 | K28: =SUMIF(ALL_Pivot_new!B:B,C:C,ALL_Pivot_new!M:M) -> 120121.4 | L28: =SUMIF(ALL_Pivot_new!B:B,C:C,ALL_Pivot_new!N:N) -> 7915.0625 | M28: =J28/I28 -> 0.463912 | N28: =SUMIF(ALL_Pivot_new!B:B,C:C,ALL_Pivot_new!O:O) -> 182630 | O28: =N28/I28 -> 0.8150567 | P28: =H28/G28 -> 0.36743284 | Q28: =N28*P28 -> 67104.26 | R28: =N28+Q28 -> 249734.26
A29: =VLOOKUP(C:C,ALL_Pivot_new!B:D,2,FALSE) -> RDC | B29: =VLOOKUP(C:C,ALL_Pivot_new!B:D,3,FALSE) -> Vmax | C29: 688 | D29: =SUMIF(ALL_Pivot_new!B:B,C:C,ALL_Pivot_new!F:F) -> 362400 | E29: =SUMIF(ALL_Pivot_new!B:B,C:C,ALL_Pivot_new!G:G) -> 329297.97 | F29: =SUMIF(ALL_Pivot_new!B:B,C:C,ALL_Pivot_new!H:H) -> 33102.031 | G29: =SUMIF(ALL_Pivot_new!B:B,C:C,ALL_Pivot_new!I:I) -> 312384 | H29: =SUMIF(ALL_Pivot_new!B:B,C:C,ALL_Pivot_new!J:J) -> 156192 | I29: =SUMIF(ALL_Pivot_new!B:B,C:C,ALL_Pivot_new!K:K) -> 156192 | J29: =SUMIF(ALL_Pivot_new!B:B,C:C,ALL_Pivot_new!L:L) -> 40099.4 | K29: =SUMIF(ALL_Pivot_new!B:B,C:C,ALL_Pivot_new!M:M) -> 116092.6 | L29: =SUMIF(ALL_Pivot_new!B:B,C:C,ALL_Pivot_new!N:N) -> 6542.3438 | M29: =J29/I29 -> 0.25673146 | N29: =SUMIF(ALL_Pivot_new!B:B,C:C,ALL_Pivot_new!O:O) -> 55880.3 | O29: =N29/I29 -> 0.35776672 | P29: =H29/G29 -> 0.5 | Q29: =N29*P29 -> 27940.15 | R29: =N29+Q29 -> 83820.45
A30: =VLOOKUP(C:C,ALL_Pivot_new!B:D,2,FALSE) -> CGC | B30: =VLOOKUP(C:C,ALL_Pivot_new!B:D,3,FALSE) -> Vmax | C30: 705 | D30: =SUMIF(ALL_Pivot_new!B:B,C:C,ALL_Pivot_new!F:F) -> 362400 | E30: =SUMIF(ALL_Pivot_new!B:B,C:C,ALL_Pivot_new!G:G) -> 329297.97 | F30: =SUMIF(ALL_Pivot_new!B:B,C:C,ALL_Pivot_new!H:H) -> 33102.031 | G30: =SUMIF(ALL_Pivot_new!B:B,C:C,ALL_Pivot_new!I:I) -> 312384 | H30: =SUMIF(ALL_Pivot_new!B:B,C:C,ALL_Pivot_new!J:J) -> 156192 | I30: =SUMIF(ALL_Pivot_new!B:B,C:C,ALL_Pivot_new!K:K) -> 156192 | J30: =SUMIF(ALL_Pivot_new!B:B,C:C,ALL_Pivot_new!L:L) -> 40074 | K30: =SUMIF(ALL_Pivot_new!B:B,C:C,ALL_Pivot_new!M:M) -> 116118 | L30: =SUMIF(ALL_Pivot_new!B:B,C:C,ALL_Pivot_new!N:N) -> 6542.3438 | M30: =J30/I30 -> 0.25656884 | N30: =SUMIF(ALL_Pivot_new!B:B,C:C,ALL_Pivot_new!O:O) -> 55866.6 | O30: =N30/I30 -> 0.35767901 | P30: =H30/G30 -> 0.5 | Q30: =N30*P30 -> 27933.3 | R30: =N30+Q30 -> 83799.9
A31: =VLOOKUP(C:C,ALL_Pivot_new!B:D,2,FALSE) -> RDC | B31: =VLOOKUP(C:C,ALL_Pivot_new!B:D,3,FALSE) -> Vmax | C31: 699 | D31: =SUMIF(ALL_Pivot_new!B:B,C:C,ALL_Pivot_new!F:F) -> 405400 | E31: =SUMIF(ALL_Pivot_new!B:B,C:C,ALL_Pivot_new!G:G) -> 373152.69 | F31: =SUMIF(ALL_Pivot_new!B:B,C:C,ALL_Pivot_new!H:H) -> 32247.312 | G31: =SUMIF(ALL_Pivot_new!B:B,C:C,ALL_Pivot_new!I:I) -> 354223.73 | H31: =SUMIF(ALL_Pivot_new!B:B,C:C,ALL_Pivot_new!J:J) -> 130153.43 | I31: =SUMIF(ALL_Pivot_new!B:B,C:C,ALL_Pivot_new!K:K) -> 224070.3 | J31: =SUMIF(ALL_Pivot_new!B:B,C:C,ALL_Pivot_new!L:L) -> 38373.1 | K31: =SUMIF(ALL_Pivot_new!B:B,C:C,ALL_Pivot_new!M:M) -> 185697.2 | L31: =SUMIF(ALL_Pivot_new!B:B,C:C,ALL_Pivot_new!N:N) -> 7915.0625 | M31: =J31/I31 -> 0.17125474 | N31: =SUMIF(ALL_Pivot_new!B:B,C:C,ALL_Pivot_new!O:O) -> 171470 | O31: =N31/I31 -> 0.76525091 | P31: =H31/G31 -> 0.36743284 | Q31: =N31*P31 -> 63003.71 | R31: =N31+Q31 -> 234473.71
A32: =VLOOKUP(C:C,ALL_Pivot_new!B:D,2,FALSE) -> Swiss | B32: =VLOOKUP(C:C,ALL_Pivot_new!B:D,3,FALSE) -> Vmax | C32: 1383 | D32: =SUMIF(ALL_Pivot_new!B:B,C:C,ALL_Pivot_new!F:F) -> 137400 | E32: =SUMIF(ALL_Pivot_new!B:B,C:C,ALL_Pivot_new!G:G) -> 124849.73 | F32: =SUMIF(ALL_Pivot_new!B:B,C:C,ALL_Pivot_new!H:H) -> 12550.273 | G32: =SUMIF(ALL_Pivot_new!B:B,C:C,ALL_Pivot_new!I:I) -> 119445.8 | H32: =SUMIF(ALL_Pivot_new!B:B,C:C,ALL_Pivot_new!J:J) -> 59722.9 | I32: =SUMIF(ALL_Pivot_new!B:B,C:C,ALL_Pivot_new!K:K) -> 59722.9 | J32: =SUMIF(ALL_Pivot_new!B:B,C:C,ALL_Pivot_new!L:L) -> 19595.9 | K32: =SUMIF(ALL_Pivot_new!B:B,C:C,ALL_Pivot_new!M:M) -> 40127 | L32: =SUMIF(ALL_Pivot_new!B:B,C:C,ALL_Pivot_new!N:N) -> 2725.9766 | M32: =J32/I32 -> 0.32811367 | N32: =SUMIF(ALL_Pivot_new!B:B,C:C,ALL_Pivot_new!O:O) -> 61297.2 | O32: =N32/I32 -> 1.0263601 | P32: =H32/G32 -> 0.5 | Q32: =N32*P32 -> 30648.6 | R32: =N32+Q32 -> 91945.8
A33: =VLOOKUP(C:C,ALL_Pivot_new!B:D,2,FALSE) -> FDC | B33: =VLOOKUP(C:C,ALL_Pivot_new!B:D,3,FALSE) -> Vmax | C33: 713 | D33: =SUMIF(ALL_Pivot_new!B:B,C:C,ALL_Pivot_new!F:F) -> 431200 | E33: =SUMIF(ALL_Pivot_new!B:B,C:C,ALL_Pivot_new!G:G) -> 392263.38 | F33: =SUMIF(ALL_Pivot_new!B:B,C:C,ALL_Pivot_new!H:H) -> 38936.625 | G33: =SUMIF(ALL_Pivot_new!B:B,C:C,ALL_Pivot_new!I:I) -> 372932.87 | H33: =SUMIF(ALL_Pivot_new!B:B,C:C,ALL_Pivot_new!J:J) -> 182064.07 | I33: =SUMIF(ALL_Pivot_new!B:B,C:C,ALL_Pivot_new!K:K) -> 190868.8 | J33: =SUMIF(ALL_Pivot_new!B:B,C:C,ALL_Pivot_new!L:L) -> 41426.1 | K33: =SUMIF(ALL_Pivot_new!B:B,C:C,ALL_Pivot_new!M:M) -> 149442.7 | L33: =SUMIF(ALL_Pivot_new!B:B,C:C,ALL_Pivot_new!N:N) -> 8005.375 | M33: =J33/I33 -> 0.21703966 | N33: =SUMIF(ALL_Pivot_new!B:B,C:C,ALL_Pivot_new!O:O) -> 198313 | O33: =N33/I33 -> 1.0390017 | P33: =H33/G33 -> 0.48819528 | Q33: =N33*P33 -> 96815.471 | R33: =N33+Q33 -> 295128.47
A34: =VLOOKUP(C:C,ALL_Pivot_new!B:D,2,FALSE) -> RDC | B34: =VLOOKUP(C:C,ALL_Pivot_new!B:D,3,FALSE) -> Vmax | C34: 485 | D34: =SUMIF(ALL_Pivot_new!B:B,C:C,ALL_Pivot_new!F:F) -> 431200 | E34: =SUMIF(ALL_Pivot_new!B:B,C:C,ALL_Pivot_new!G:G) -> 392263.38 | F34: =SUMIF(ALL_Pivot_new!B:B,C:C,ALL_Pivot_new!H:H) -> 38936.625 | G34: =SUMIF(ALL_Pivot_new!B:B,C:C,ALL_Pivot_new!I:I) -> 372932.87 | H34: =SUMIF(ALL_Pivot_new!B:B,C:C,ALL_Pivot_new!J:J) -> 182064.07 | I34: =SUMIF(ALL_Pivot_new!B:B,C:C,ALL_Pivot_new!K:K) -> 190868.8 | J34: =SUMIF(ALL_Pivot_new!B:B,C:C,ALL_Pivot_new!L:L) -> 39857 | K34: =SUMIF(ALL_Pivot_new!B:B,C:C,ALL_Pivot_new!M:M) -> 151011.8 | L34: =SUMIF(ALL_Pivot_new!B:B,C:C,ALL_Pivot_new!N:N) -> 8005.375 | M34: =J34/I34 -> 0.20881883 | N34: =SUMIF(ALL_Pivot_new!B:B,C:C,ALL_Pivot_new!O:O) -> 141793 | O34: =N34/I34 -> 0.74288202 | P34: =H34/G34 -> 0.48819528 | Q34: =N34*P34 -> 69222.674 | R34: =N34+Q34 -> 211015.67
A35: =VLOOKUP(C:C,ALL_Pivot_new!B:D,2,FALSE) -> FDC | B35: =VLOOKUP(C:C,ALL_Pivot_new!B:D,3,FALSE) -> XIV | C35: 61188 | D35: =SUMIF(ALL_Pivot_new!B:B,C:C,ALL_Pivot_new!F:F) -> 540000 | E35: =SUMIF(ALL_Pivot_new!B:B,C:C,ALL_Pivot_new!G:G) -> 534615 | F35: =SUMIF(ALL_Pivot_new!B:B,C:C,ALL_Pivot_new!H:H) -> 5385 | G35: =SUMIF(ALL_Pivot_new!B:B,C:C,ALL_Pivot_new!I:I) -> 486785.04 | H35: =SUMIF(ALL_Pivot_new!B:B,C:C,ALL_Pivot_new!J:J) -> 243392.52 | I35: =SUMIF(ALL_Pivot_new!B:B,C:C,ALL_Pivot_new!K:K) -> 243392.52 | J35: =SUMIF(ALL_Pivot_new!B:B,C:C,ALL_Pivot_new!L:L) -> 107034 | K35: =SUMIF(ALL_Pivot_new!B:B,C:C,ALL_Pivot_new!M:M) -> 136358.52 | L35: =SUMIF(ALL_Pivot_new!B:B,C:C,ALL_Pivot_new!N:N) -> 44551.25 | M35: =J35/I35 -> 0.43975879 | N35: =SUMIF(ALL_Pivot_new!B:B,C:C,ALL_Pivot_new!O:O) -> 107034 | O35: =N35/I35 -> 0.43975879 | P35: =H35/G35 -> 0.5 | Q35: =N35*P35 -> 53517 | R35: =N35+Q35 -> 160551
A36: =VLOOKUP(C:C,ALL_Pivot_new!B:D,2,FALSE) -> RDC | B36: =VLOOKUP(C:C,ALL_Pivot_new!B:D,3,FALSE) -> XIV | C36: 61239 | D36: =SUMIF(ALL_Pivot_new!B:B,C:C,ALL_Pivot_new!F:F) -> 540000 | E36: =SUMIF(ALL_Pivot_new!B:B,C:C,ALL_Pivot_new!G:G) -> 534615 | F36: =SUMIF(ALL_Pivot_new!B:B,C:C,ALL_Pivot_new!H:H) -> 5385 | G36: =SUMIF(ALL_Pivot_new!B:B,C:C,ALL_Pivot_new!I:I) -> 481966.76 | H36: =SUMIF(ALL_Pivot_new!B:B,C:C,ALL_Pivot_new!J:J) -> 240983.38 | I36: =SUMIF(ALL_Pivot_new!B:B,C:C,ALL_Pivot_new!K:K) -> 240983.38 | J36: =SUMIF(ALL_Pivot_new!B:B,C:C,ALL_Pivot_new!L:L) -> 130093.84 | K36: =SUMIF(ALL_Pivot_new!B:B,C:C,ALL_Pivot_new!M:M) -> 110889.54 | L36: =SUMIF(ALL_Pivot_new!B:B,C:C,ALL_Pivot_new!N:N) -> 44551.25 | M36: =J36/I36 -> 0.53984569 | N36: =SUMIF(ALL_Pivot_new!B:B,C:C,ALL_Pivot_new!O:O) -> 130093.84 | O36: =N36/I36 -> 0.53984569 | P36: =H36/G36 -> 0.5 | Q36: =N36*P36 -> 65046.92 | R36: =N36+Q36 -> 195140.76
A37: =VLOOKUP(C:C,ALL_Pivot_new!B:D,2,FALSE) -> RDC | B37: =VLOOKUP(C:C,ALL_Pivot_new!B:D,3,FALSE) -> Vmax | C37: 1144 | D37: =SUMIF(ALL_Pivot_new!B:B,C:C,ALL_Pivot_new!F:F) -> 235200 | E37: =SUMIF(ALL_Pivot_new!B:B,C:C,ALL_Pivot_new!G:G) -> 213716.56 | F37: =SUMIF(ALL_Pivot_new!B:B,C:C,ALL_Pivot_new!H:H) -> 21483.438 | G37: =SUMIF(ALL_Pivot_new!B:B,C:C,ALL_Pivot_new!I:I) -> 200645.2 | H37: =SUMIF(ALL_Pivot_new!B:B,C:C,ALL_Pivot_new!J:J) -> 100322.6 | I37: =SUMIF(ALL_Pivot_new!B:B,C:C,ALL_Pivot_new!K:K) -> 100322.6 | J37: =SUMIF(ALL_Pivot_new!B:B,C:C,ALL_Pivot_new!L:L) -> 15656.8 | K37: =SUMIF(ALL_Pivot_new!B:B,C:C,ALL_Pivot_new!M:M) -> 84665.8 | L37: =SUMIF(ALL_Pivot_new!B:B,C:C,ALL_Pivot_new!N:N) -> 4361.5625 | M37: =J37/I37 -> 0.15606454 | N37: =SUMIF(ALL_Pivot_new!B:B,C:C,ALL_Pivot_new!O:O) -> 49951.6 | O37: =N37/I37 -> 0.49790974 | P37: =H37/G37 -> 0.5 | Q37: =N37*P37 -> 24975.8 | R37: =N37+Q37 -> 74927.4
... A39: =VLOOKUP(C:C,ALL_Pivot_new!B:D,2,FALSE) -> welle | B39: =VLOOKUP(C:C,ALL_Pivot_new!B:D,3,FALSE) -> Vmax | C39: 877 | D39: =SUMIF(ALL_Pivot_new!B:B,C:C,ALL_Pivot_new!F:F) -> 6600 | E39: =SUMIF(ALL_Pivot_new!B:B,C:C,ALL_Pivot_new!G:G) -> 5940 | F39: =SUMIF(ALL_Pivot_new!B:B,C:C,ALL_Pivot_new!H:H) -> 660 | G39: =SUMIF(ALL_Pivot_new!B:B,C:C,ALL_Pivot_new!I:I) -> 5400 | H39: =SUMIF(ALL_Pivot_new!B:B,C:C,ALL_Pivot_new!J:J) -> 675 | I39: =SUMIF(ALL_Pivot_new!B:B,C:C,ALL_Pivot_new!K:K) -> 4725 | J39: =SUMIF(ALL_Pivot_new!B:B,C:C,ALL_Pivot_new!L:L) -> 4282 | K39: =SUMIF(ALL_Pivot_new!B:B,C:C,ALL_Pivot_new!M:M) -> 443 | L39: =SUMIF(ALL_Pivot_new!B:B,C:C,ALL_Pivot_new!N:N) -> 540 | M39: =J39/I39 -> 0.90624339 | N39: =SUMIF(ALL_Pivot_new!B:B,C:C,ALL_Pivot_new!O:O) -> 4282 | O39: =N39/I39 -> 0.90624339 | P39: =H39/G39 -> 0.125 | Q39: =N39*P39 -> 535.25 | R39: =N39+Q39 -> 4817.25
A40: =VLOOKUP(C:C,ALL_Pivot_new!B:D,2,FALSE) -> FDC | B40: =VLOOKUP(C:C,ALL_Pivot_new!B:D,3,FALSE) -> DMX | C40: 5349 | J40: =SUMIF(ALL_Pivot_new!B:B,C:C,ALL_Pivot_new!L:L) -> 10018.175 | N40: =SUMIF(ALL_Pivot_new!B:B,C:C,ALL_Pivot_new!O:O) -> 10018.175
A41: =VLOOKUP(C:C,ALL_Pivot_new!B:D,2,FALSE) -> RDC | B41: =VLOOKUP(C:C,ALL_Pivot_new!B:D,3,FALSE) -> DMX | C41: 5373 | J41: =SUMIF(ALL_Pivot_new!B:B,C:C,ALL_Pivot_new!L:L) -> 1943.0361 | N41: =SUMIF(ALL_Pivot_new!B:B,C:C,ALL_Pivot_new!O:O) -> 3886.0723
A42: =VLOOKUP(C:C,ALL_Pivot_new!B:D,2,FALSE) -> CGC | B42: =VLOOKUP(C:C,ALL_Pivot_new!B:D,3,FALSE) -> Vmax | C42: 0623 | J42: =SUMIF(ALL_Pivot_new!B:B,C:C,ALL_Pivot_new!L:L) -> 17992.3 | N42: =SUMIF(ALL_Pivot_new!B:B,C:C,ALL_Pivot_new!O:O) -> 25322.4
A43: =VLOOKUP(C:C,ALL_Pivot_new!B:D,2,FALSE) -> RDC | B43: =VLOOKUP(C:C,ALL_Pivot_new!B:D,3,FALSE) -> Vmax | C43: 0678 | J43: =SUMIF(ALL_Pivot_new!B:B,C:C,ALL_Pivot_new!L:L) -> 102920 | N43: =SUMIF(ALL_Pivot_new!B:B,C:C,ALL_Pivot_new!O:O) -> 94562.4
A44: =VLOOKUP(C:C,ALL_Pivot_new!B:D,2,FALSE) -> FDC | B44: =VLOOKUP(C:C,ALL_Pivot_new!B:D,3,FALSE) -> Vmax | C44: 0879 | J44: =SUMIF(ALL_Pivot_new!B:B,C:C,ALL_Pivot_new!L:L) -> 38344.3 | N44: =SUMIF(ALL_Pivot_new!B:B,C:C,ALL_Pivot_new!O:O) -> 72666.1
A45: =VLOOKUP(C:C,ALL_Pivot_new!B:D,2,FALSE) -> RDC | B45: =VLOOKUP(C:C,ALL_Pivot_new!B:D,3,FALSE) -> Vmax | C45: 2230 | J45: =SUMIF(ALL_Pivot_new!B:B,C:C,ALL_Pivot_new!L:L) -> 64561.9 | N45: =SUMIF(ALL_Pivot_new!B:B,C:C,ALL_Pivot_new!O:O) -> 57559.8
A46: =VLOOKUP(C:C,ALL_Pivot_new!B:D,2,FALSE) -> FDC | B46: =VLOOKUP(C:C,ALL_Pivot_new!B:D,3,FALSE) -> Vmax | C46: 2231 | J46: =SUMIF(ALL_Pivot_new!B:B,C:C,ALL_Pivot_new!L:L) -> 100534.2 | N46: =SUMIF(ALL_Pivot_new!B:B,C:C,ALL_Pivot_new!O:O) -> 66650.1
B47: Total | D47: =SUM(D2:D46) -> 12539192 | E47: =SUM(E2:E46) -> 11479720 | F47: =SUM(F2:F46) -> 1059471.9 | G47: =SUM(G2:G46) -> 10614219 | H47: =SUM(H2:H46) -> 3980757.6 | I47: =SUM(I2:I46) -> 6633461.5 | J47: =SUM(J2:J46) -> 3467265.8 | K47: =SUM(K2:K46) -> 3502509.6 | L47: =SUM(L2:L46) -> 302084.41 | M47: =J47/I47 -> 0.52269328 | N47: =SUM(N2:N46) -> 5876605.3 | O47: =N47/I47 -> 0.88590328 | P47: =H47/G47 -> 0.37504008 | Q47: =N47*P47 -> 2203962.5 | R47: =N47+Q47 -> 8080567.8
B48: TotalTB | D48: =D47/1024 -> 12245.305 | E48: =E47/1024 -> 11210.664 | F48: =F47/1024 -> 1034.6405 | G48: =G47/1024 -> 10365.448 | H48: =H47/1024 -> 3887.4586 | I48: =I47/1024 -> 6477.9897 | J48: =J47/1024 -> 3386.0017 | K48: =K47/1024 -> 3420.4195 | L48: =L47/1024 -> 295.0043 | M48: =J48/I48 -> 0.52269328 | N48: =N47/1024 -> 5738.8724 | O48: =N48/I48 -> 0.88590328 | P48: =H48/G48 -> 0.37504008 | Q48: =Q47/1024 -> 2152.3072 | R48: =R47/1024 -> 7891.1795
B49: TotalPB | D49: =D48/1024 -> 11.958305 | E49: =E48/1024 -> 10.947914 | F49: =F48/1024 -> 1.0103911 | G49: =G48/1024 -> 10.122508 | H49: =H48/1024 -> 3.7963463 | I49: =I48/1024 -> 6.3261618 | J49: =J48/1024 -> 3.3066423 | K49: =K48/1024 -> 3.3402535 | L49: =L48/1024 -> 0.28809014 | M49: =J49/I49 -> 0.52269328 | N49: =N48/1024 -> 5.6043675 | O49: =N49/I49 -> 0.88590328 | P49: =H49/G49 -> 0.37504008 | Q49: =Q48/1024 -> 2.1018625 | R49: =R48/1024 -> 7.70623
M51: Bcvs | N51: 589
N52: =N48-N51 -> 5149.8724
M53: host alloc | N53: 4681
G54: =G32/1024 -> 116.64629 | I54: =I32/1024 -> 58.323145
G59: Row Labels | H59: Sum of Physical total | I59: Sum of Market Standard | J59: Sum of Pool Usable | K59: Sum of Pool Used | L59: Sum of Allocated RAW
G60: CGC | H60: 752094.34 | I60: 869800 | J60: 455063.08 | K60: 225973.2 | L60: 405486.91
G61: FDC | H61: 5580069.7 | I61: 6744618.2 | J61: 3476278 | K61: 2091241 | L61: 4042481.4
G62: RDC | H62: 6394325.9 | I62: 7640928 | J62: 3976376 | K62: 2379883.5 | L62: 4598824.6
G63: Swiss | H63: 157263.51 | I63: 184200 | J63: 92813.4 | K63: 34353.1 | L63: 140156.66
G64: Grand Total | H64: 12883753 | I64: 15439546 | J64: 8000530.5 | K64: 4731450.8 | L64: 9186949.5
G66: CGC | H66: =H60/1024 -> 734.46713 | I66: =I60/1024 -> 849.41406 | J66: =J60/1024 -> 444.39754 | K66: =K60/1024 -> 220.67695 | L66: =L60/1024 -> 395.98331
G67: FDC | H67: =H61/1024 -> 5449.2868 | I67: =I61/1024 -> 6586.5412 | J67: =J61/1024 -> 3394.8027 | K67: =K61/1024 -> 2042.2275 | L67: =L61/1024 -> 3947.7357
G68: RDC | H68: =H62/1024 -> 6244.4589 | I68: =I62/1024 -> 7461.8438 | J68: =J62/1024 -> 3883.1797 | K68: =K62/1024 -> 2324.105 | L68: =L62/1024 -> 4491.0396
G69: Swiss | H69: =H63/1024 -> 153.57765 | I69: =I63/1024 -> 179.88281 | J69: =J63/1024 -> 90.638086 | K69: =K63/1024 -> 33.547949 | L69: =L63/1024 -> 136.87174
G70: Grand Total | H70: =H64/1024 -> 12581.79 | I70: =I64/1024 -> 15077.682 | J70: =J64/1024 -> 7813.018 | K70: =K64/1024 -> 4620.5574 | L70: =L64/1024 -> 8971.6304 | M70: =K70/J70 -> 0.59139213

Sheet Final MOR-no-MOR
A1: Loc | B1: Type | C1: Array | D1: Market Standard | E1: Formatted | F1: format Lost | G1: Physical total | H1: Parity Lost | I1: Pool Usable | J1: Pool Used | K1: Pool Free | L1: Spare | M1: %Used | N1: Host Allocations | O1: %Allocated | P1: %Parity | Q1: ParityGB | R1: Allocated RAW
A2: =VLOOKUP(C:C,ALL_Pivot_new!B:D,2,FALSE) -> Swiss | B2: =VLOOKUP(C:C,ALL_Pivot_new!B:D,3,FALSE) -> Vmax | C2: 377 | D2: =SUMIF(ALL_Pivot_new!B:B,C:C,ALL_Pivot_new!F:F) -> 46800 | E2: =SUMIF(ALL_Pivot_new!B:B,C:C,ALL_Pivot_new!G:G) -> 42525 | F2: =SUMIF(ALL_Pivot_new!B:B,C:C,ALL_Pivot_new!H:H) -> 4275 | G2: =SUMIF(ALL_Pivot_new!B:B,C:C,ALL_Pivot_new!I:I) -> 37817.714 | H2: =SUMIF(ALL_Pivot_new!B:B,C:C,ALL_Pivot_new!J:J) -> 4727.2143 | I2: =SUMIF(ALL_Pivot_new!B:B,C:C,ALL_Pivot_new!K:K) -> 33090.5 | J2: =SUMIF(ALL_Pivot_new!B:B,C:C,ALL_Pivot_new!L:L) -> 14757.2 | K2: =SUMIF(ALL_Pivot_new!B:B,C:C,ALL_Pivot_new!M:M) -> 18333.3 | L2: =SUMIF(ALL_Pivot_new!B:B,C:C,ALL_Pivot_new!N:N) -> 3271 | M2: =J2/I2 -> 0.44596485 | N2: =SUMIF(ALL_Pivot_new!B:B,C:C,ALL_Pivot_new!O:O) -> 42854.1 | O2: =N2/I2 -> 1.2950575 | P2: =H2/G2 -> 0.125 | Q2: =N2*P2 -> 5356.7625 | R2: =N2+Q2 -> 48210.862
A3: =VLOOKUP(C:C,ALL_Pivot_new!B:D,2,FALSE) -> RDC | B3: =VLOOKUP(C:C,ALL_Pivot_new!B:D,3,FALSE) -> Vmax | C3: 0347 | D3: =SUMIF(ALL_Pivot_new!B:B,C:C,ALL_Pivot_new!F:F) -> 588456 | E3: =SUMIF(ALL_Pivot_new!B:B,C:C,ALL_Pivot_new!G:G) -> 535316.42 | F3: =SUMIF(ALL_Pivot_new!B:B,C:C,ALL_Pivot_new!H:H) -> 53139.582 | G3: =SUMIF(ALL_Pivot_new!B:B,C:C,ALL_Pivot_new!I:I) -> 354223.73 | H3: =SUMIF(ALL_Pivot_new!B:B,C:C,ALL_Pivot_new!J:J) -> 130153.43 | I3: =SUMIF(ALL_Pivot_new!B:B,C:C,ALL_Pivot_new!K:K) -> 224070.3 | J3: =SUMIF(ALL_Pivot_new!B:B,C:C,ALL_Pivot_new!L:L) -> 99631.3 | K3: =SUMIF(ALL_Pivot_new!B:B,C:C,ALL_Pivot_new!M:M) -> 124439 | L3: =SUMIF(ALL_Pivot_new!B:B,C:C,ALL_Pivot_new!N:N) -> 10868.48 | M3: =J3/I3 -> 0.44464304 | N3: =SUMIF(ALL_Pivot_new!B:B,C:C,ALL_Pivot_new!O:O) -> 189680 | O3: =N3/I3 -> 0.84652004 | P3: =H3/G3 -> 0.36743284 | Q3: =N3*P3 -> 69694.662 | R3: =N3+Q3 -> 259374.66
A4: =VLOOKUP(C:C,ALL_Pivot_new!B:D,2,FALSE) -> FDC | B4: =VLOOKUP(C:C,ALL_Pivot_new!B:D,3,FALSE) -> Vmax | C4: 0349 | D4: =SUMIF(ALL_Pivot_new!B:B,C:C,ALL_Pivot_new!F:F) -> 588456 | E4: =SUMIF(ALL_Pivot_new!B:B,C:C,ALL_Pivot_new!G:G) -> 535316.42 | F4: =SUMIF(ALL_Pivot_new!B:B,C:C,ALL_Pivot_new!H:H) -> 53139.582 | G4: =SUMIF(ALL_Pivot_new!B:B,C:C,ALL_Pivot_new!I:I) -> 427723.07 | H4: =SUMIF(ALL_Pivot_new!B:B,C:C,ALL_Pivot_new!J:J) -> 165435.67 | I4: =SUMIF(ALL_Pivot_new!B:B,C:C,ALL_Pivot_new!K:K) -> 262287.4 | J4: =SUMIF(ALL_Pivot_new!B:B,C:C,ALL_Pivot_new!L:L) -> 171025.5 | K4: =SUMIF(ALL_Pivot_new!B:B,C:C,ALL_Pivot_new!M:M) -> 91261.9 | L4: =SUMIF(ALL_Pivot_new!B:B,C:C,ALL_Pivot_new!N:N) -> 10868.48 | M4: =J4/I4 -> 0.65205382 | N4: =SUMIF(ALL_Pivot_new!B:B,C:C,ALL_Pivot_new!O:O) -> 294710 | O4: =N4/I4 -> 1.1236148 | P4: =H4/G4 -> 0.3867822 | Q4: =N4*P4 -> 113988.58 | R4: =N4+Q4 -> 408698.58
A5: =VLOOKUP(C:C,ALL_Pivot_new!B:D,2,FALSE) -> FDC | B5: =VLOOKUP(C:C,ALL_Pivot_new!B:D,3,FALSE) -> Vmax | C5: 2804 | D5: =SUMIF(ALL_Pivot_new!B:B,C:C,ALL_Pivot_new!F:F) -> 118400 | E5: =SUMIF(ALL_Pivot_new!B:B,C:C,ALL_Pivot_new!G:G) -> 107740.89 | F5: =SUMIF(ALL_Pivot_new!B:B,C:C,ALL_Pivot_new!H:H) -> 10659.113 | G5: =SUMIF(ALL_Pivot_new!B:B,C:C,ALL_Pivot_new!I:I) -> 95168.743 | H5: =SUMIF(ALL_Pivot_new!B:B,C:C,ALL_Pivot_new!J:J) -> 12130.243 | I5: =SUMIF(ALL_Pivot_new!B:B,C:C,ALL_Pivot_new!K:K) -> 83038.5 | J5: =SUMIF(ALL_Pivot_new!B:B,C:C,ALL_Pivot_new!L:L) -> 59542 | K5: =SUMIF(ALL_Pivot_new!B:B,C:C,ALL_Pivot_new!M:M) -> 23496.5 | L5: =SUMIF(ALL_Pivot_new!B:B,C:C,ALL_Pivot_new!N:N) -> 3643.793 | M5: =J5/I5 -> 0.71704089 | N5: =SUMIF(ALL_Pivot_new!B:B,C:C,ALL_Pivot_new!O:O) -> 108532 | O5: =N5/I5 -> 1.3070082 | P5: =H5/G5 -> 0.12746037 | Q5: =N5*P5 -> 13833.529 | R5: =N5+Q5 -> 122365.53
A6: =VLOOKUP(C:C,ALL_Pivot_new!B:D,2,FALSE) -> FDC | B6: =VLOOKUP(C:C,ALL_Pivot_new!B:D,3,FALSE) -> Vmax | C6: 3004 | D6: =SUMIF(ALL_Pivot_new!B:B,C:C,ALL_Pivot_new!F:F) -> 597408 | E6: =SUMIF(ALL_Pivot_new!B:B,C:C,ALL_Pivot_new!G:G) -> 527587.59 | F6: =SUMIF(ALL_Pivot_new!B:B,C:C,ALL_Pivot_new!H:H) -> 69820.406 | G6: =SUMIF(ALL_Pivot_new!B:B,C:C,ALL_Pivot_new!I:I) -> 500822.06 | H6: =SUMIF(ALL_Pivot_new!B:B,C:C,ALL_Pivot_new!J:J) -> 62602.757 | I6: =SUMIF(ALL_Pivot_new!B:B,C:C,ALL_Pivot_new!K:K) -> 438219.3 | J6: =SUMIF(ALL_Pivot_new!B:B,C:C,ALL_Pivot_new!L:L) -> 209330.8 | K6: =SUMIF(ALL_Pivot_new!B:B,C:C,ALL_Pivot_new!M:M) -> 228888.5 | L6: =SUMIF(ALL_Pivot_new!B:B,C:C,ALL_Pivot_new!N:N) -> 10767.094 | M6: =J6/I6 -> 0.47768503 | N6: =SUMIF(ALL_Pivot_new!B:B,C:C,ALL_Pivot_new!O:O) -> 374596 | O6: =N6/I6 -> 0.85481402 | P6: =H6/G6 -> 0.125 | Q6: =N6*P6 -> 46824.5 | R6: =N6+Q6 -> 421420.5
A7: =VLOOKUP(C:C,ALL_Pivot_new!B:D,2,FALSE) -> RDC | B7: =VLOOKUP(C:C,ALL_Pivot_new!B:D,3,FALSE) -> Vmax | C7: 3073 | D7: =SUMIF(ALL_Pivot_new!B:B,C:C,ALL_Pivot_new!F:F) -> 531872 | E7: =SUMIF(ALL_Pivot_new!B:B,C:C,ALL_Pivot_new!G:G) -> 470601.19 | F7: =SUMIF(ALL_Pivot_new!B:B,C:C,ALL_Pivot_new!H:H) -> 61270.812 | G7: =SUMIF(ALL_Pivot_new!B:B,C:C,ALL_Pivot_new!I:I) -> 445146.06 | H7: =SUMIF(ALL_Pivot_new!B:B,C:C,ALL_Pivot_new!J:J) -> 55643.257 | I7: =SUMIF(ALL_Pivot_new!B:B,C:C,ALL_Pivot_new!K:K) -> 389502.8 | J7: =SUMIF(ALL_Pivot_new!B:B,C:C,ALL_Pivot_new!L:L) -> 212681.7 | K7: =SUMIF(ALL_Pivot_new!B:B,C:C,ALL_Pivot_new!M:M) -> 176821.1 | L7: =SUMIF(ALL_Pivot_new!B:B,C:C,ALL_Pivot_new!N:N) -> 10767.094 | M7: =J7/I7 -> 0.54603382 | N7: =SUMIF(ALL_Pivot_new!B:B,C:C,ALL_Pivot_new!O:O) -> 327291 | O7: =N7/I7 -> 0.84027894 | P7: =H7/G7 -> 0.125 | Q7: =N7*P7 -> 40911.375 | R7: =N7+Q7 -> 368202.38
A8: =VLOOKUP(C:C,ALL_Pivot_new!B:D,2,FALSE) -> RDC | B8: =VLOOKUP(C:C,ALL_Pivot_new!B:D,3,FALSE) -> Vmax | C8: 3286 | D8: =SUMIF(ALL_Pivot_new!B:B,C:C,ALL_Pivot_new!F:F) -> 227300 | E8: =SUMIF(ALL_Pivot_new!B:B,C:C,ALL_Pivot_new!G:G) -> 206693.84 | F8: =SUMIF(ALL_Pivot_new!B:B,C:C,ALL_Pivot_new!H:H) -> 20606.164 | G8: =SUMIF(ALL_Pivot_new!B:B,C:C,ALL_Pivot_new!I:I) -> 189712.97 | H8: =SUMIF(ALL_Pivot_new!B:B,C:C,ALL_Pivot_new!J:J) -> 23948.271 | I8: =SUMIF(ALL_Pivot_new!B:B,C:C,ALL_Pivot_new!K:K) -> 165764.7 | J8: =SUMIF(ALL_Pivot_new!B:B,C:C,ALL_Pivot_new!L:L) -> 118079.2 | K8: =SUMIF(ALL_Pivot_new!B:B,C:C,ALL_Pivot_new!M:M) -> 47685.5 | L8: =SUMIF(ALL_Pivot_new!B:B,C:C,ALL_Pivot_new!N:N) -> 4461.5859 | M8: =J8/I8 -> 0.71233019 | N8: =SUMIF(ALL_Pivot_new!B:B,C:C,ALL_Pivot_new!O:O) -> 231128.4 | O8: =N8/I8 -> 1.3943162 | P8: =H8/G8 -> 0.12623423 | Q8: =N8*P8 -> 29176.316 | R8: =N8+Q8 -> 260304.72
A9: =VLOOKUP(C:C,ALL_Pivot_new!B:D,2,FALSE) -> RDC | B9: =VLOOKUP(C:C,ALL_Pivot_new!B:D,3,FALSE) -> Vmax | C9: 3696 | D9: =SUMIF(ALL_Pivot_new!B:B,C:C,ALL_Pivot_new!F:F) -> 227100 | E9: =SUMIF(ALL_Pivot_new!B:B,C:C,ALL_Pivot_new!G:G) -> 206507.53 | F9: =SUMIF(ALL_Pivot_new!B:B,C:C,ALL_Pivot_new!H:H) -> 20592.475 | G9: =SUMIF(ALL_Pivot_new!B:B,C:C,ALL_Pivot_new!I:I) -> 190337.57 | H9: =SUMIF(ALL_Pivot_new!B:B,C:C,ALL_Pivot_new!J:J) -> 24260.571 | I9: =SUMIF(ALL_Pivot_new!B:B,C:C,ALL_Pivot_new!K:K) -> 166077 | J9: =SUMIF(ALL_Pivot_new!B:B,C:C,ALL_Pivot_new!L:L) -> 31021.4 | K9: =SUMIF(ALL_Pivot_new!B:B,C:C,ALL_Pivot_new!M:M) -> 135055.6 | L9: =SUMIF(ALL_Pivot_new!B:B,C:C,ALL_Pivot_new!N:N) -> 4275.2754 | M9: =J9/I9 -> 0.18678926 | N9: =SUMIF(ALL_Pivot_new!B:B,C:C,ALL_Pivot_new!O:O) -> 173040.4 | O9: =N9/I9 -> 1.0419287 | P9: =H9/G9 -> 0.12746076 | Q9: =N9*P9 -> 22055.861 | R9: =N9+Q9 -> 195096.26
A10: =VLOOKUP(C:C,ALL_Pivot_new!B:D,2,FALSE) -> FDC | B10: =VLOOKUP(C:C,ALL_Pivot_new!B:D,3,FALSE) -> Vmax | C10: 3875 | D10: =SUMIF(ALL_Pivot_new!B:B,C:C,ALL_Pivot_new!F:F) -> 118400 | E10: =SUMIF(ALL_Pivot_new!B:B,C:C,ALL_Pivot_new!G:G) -> 107740.89 | F10: =SUMIF(ALL_Pivot_new!B:B,C:C,ALL_Pivot_new!H:H) -> 10659.113 | G10: =SUMIF(ALL_Pivot_new!B:B,C:C,ALL_Pivot_new!I:I) -> 95793.343 | H10: =SUMIF(ALL_Pivot_new!B:B,C:C,ALL_Pivot_new!J:J) -> 12442.543 | I10: =SUMIF(ALL_Pivot_new!B:B,C:C,ALL_Pivot_new!K:K) -> 83350.8 | J10: =SUMIF(ALL_Pivot_new!B:B,C:C,ALL_Pivot_new!L:L) -> 16003.1 | K10: =SUMIF(ALL_Pivot_new!B:B,C:C,ALL_Pivot_new!M:M) -> 67347.7 | L10: =SUMIF(ALL_Pivot_new!B:B,C:C,ALL_Pivot_new!N:N) -> 3643.793 | M10: =J10/I10 -> 0.19199696 | N10: =SUMIF(ALL_Pivot_new!B:B,C:C,ALL_Pivot_new!O:O) -> 33121.5 | O10: =N10/I10 -> 0.39737471 | P10: =H10/G10 -> 0.12988943 | Q10: =N10*P10 -> 4302.1328 | R10: =N10+Q10 -> 37423.633
A11: =VLOOKUP(C:C,ALL_Pivot_new!B:D,2,FALSE) -> RDC | B11: =VLOOKUP(C:C,ALL_Pivot_new!B:D,3,FALSE) -> Vmax | C11: 4330 | D11: =SUMIF(ALL_Pivot_new!B:B,C:C,ALL_Pivot_new!F:F) -> 287100 | E11: =SUMIF(ALL_Pivot_new!B:B,C:C,ALL_Pivot_new!G:G) -> 260875.96 | F11: =SUMIF(ALL_Pivot_new!B:B,C:C,ALL_Pivot_new!H:H) -> 26224.043 | G11: =SUMIF(ALL_Pivot_new!B:B,C:C,ALL_Pivot_new!I:I) -> 248032.2 | H11: =SUMIF(ALL_Pivot_new!B:B,C:C,ALL_Pivot_new!J:J) -> 124016.1 | I11: =SUMIF(ALL_Pivot_new!B:B,C:C,ALL_Pivot_new!K:K) -> 124016.1 | J11: =SUMIF(ALL_Pivot_new!B:B,C:C,ALL_Pivot_new!L:L) -> 90440.5 | K11: =SUMIF(ALL_Pivot_new!B:B,C:C,ALL_Pivot_new!M:M) -> 33575.6 | L11: =SUMIF(ALL_Pivot_new!B:B,C:C,ALL_Pivot_new!N:N) -> 5724.5508 | M11: =J11/I11 -> 0.72926418 | N11: =SUMIF(ALL_Pivot_new!B:B,C:C,ALL_Pivot_new!O:O) -> 171812 | O11: =N11/I11 -> 1.3854008 | P11: =H11/G11 -> 0.5 | Q11: =N11*P11 -> 85906 | R11: =N11+Q11 -> 257718
A12: =VLOOKUP(C:C,ALL_Pivot_new!B:D,2,FALSE) -> FDC | B12: =VLOOKUP(C:C,ALL_Pivot_new!B:D,3,FALSE) -> Vmax | C12: 4652 | D12: =SUMIF(ALL_Pivot_new!B:B,C:C,ALL_Pivot_new!F:F) -> 441000 | E12: =SUMIF(ALL_Pivot_new!B:B,C:C,ALL_Pivot_new!G:G) -> 400718.55 | F12: =SUMIF(ALL_Pivot_new!B:B,C:C,ALL_Pivot_new!H:H) -> 40281.445 | G12: =SUMIF(ALL_Pivot_new!B:B,C:C,ALL_Pivot_new!I:I) -> 383226.2 | H12: =SUMIF(ALL_Pivot_new!B:B,C:C,ALL_Pivot_new!J:J) -> 191613.1 | I12: =SUMIF(ALL_Pivot_new!B:B,C:C,ALL_Pivot_new!K:K) -> 191613.1 | J12: =SUMIF(ALL_Pivot_new!B:B,C:C,ALL_Pivot_new!L:L) -> 147825.3 | K12: =SUMIF(ALL_Pivot_new!B:B,C:C,ALL_Pivot_new!M:M) -> 43787.8 | L12: =SUMIF(ALL_Pivot_new!B:B,C:C,ALL_Pivot_new!N:N) -> 8177.9297 | M12: =J12/I12 -> 0.77147805 | N12: =SUMIF(ALL_Pivot_new!B:B,C:C,ALL_Pivot_new!O:O) -> 277419 | O12: =N12/I12 -> 1.4478081 | P12: =H12/G12 -> 0.5 | Q12: =N12*P12 -> 138709.5 | R12: =N12+Q12 -> 416128.5
A13: =VLOOKUP(C:C,ALL_Pivot_new!B:D,2,FALSE) -> FDC | B13: =VLOOKUP(C:C,ALL_Pivot_new!B:D,3,FALSE) -> Vmax | C13: 667 | D13: =SUMIF(ALL_Pivot_new!B:B,C:C,ALL_Pivot_new!F:F) -> 235200 | E13: =SUMIF(ALL_Pivot_new!B:B,C:C,ALL_Pivot_new!G:G) -> 213716.56 | F13: =SUMIF(ALL_Pivot_new!B:B,C:C,ALL_Pivot_new!H:H) -> 21483.438 | G13: =SUMIF(ALL_Pivot_new!B:B,C:C,ALL_Pivot_new!I:I) -> 200645.2 | H13: =SUMIF(ALL_Pivot_new!B:B,C:C,ALL_Pivot_new!J:J) -> 98451.1 | I13: =SUMIF(ALL_Pivot_new!B:B,C:C,ALL_Pivot_new!K:K) -> 102194.1 | J13: =SUMIF(ALL_Pivot_new!B:B,C:C,ALL_Pivot_new!L:L) -> 21778.7 | K13: =SUMIF(ALL_Pivot_new!B:B,C:C,ALL_Pivot_new!M:M) -> 80415.4 | L13: =SUMIF(ALL_Pivot_new!B:B,C:C,ALL_Pivot_new!N:N) -> 4361.5625 | M13: =J13/I13 -> 0.21311113 | N13: =SUMIF(ALL_Pivot_new!B:B,C:C,ALL_Pivot_new!O:O) -> 55807.8 | O13: =N13/I13 -> 0.54609611 | P13: =H13/G13 -> 0.49067259 | Q13: =N13*P13 -> 27383.358 | R13: =N13+Q13 -> 83191.158
A14: =VLOOKUP(C:C,ALL_Pivot_new!B:D,2,FALSE) -> RDC | B14: =VLOOKUP(C:C,ALL_Pivot_new!B:D,3,FALSE) -> Vmax | C14: 671 | D14: =SUMIF(ALL_Pivot_new!B:B,C:C,ALL_Pivot_new!F:F) -> 480000 | E14: =SUMIF(ALL_Pivot_new!B:B,C:C,ALL_Pivot_new!G:G) -> 436156.25 | F14: =SUMIF(ALL_Pivot_new!B:B,C:C,ALL_Pivot_new!H:H) -> 43843.75 | G14: =SUMIF(ALL_Pivot_new!B:B,C:C,ALL_Pivot_new!I:I) -> 415239 | H14: =SUMIF(ALL_Pivot_new!B:B,C:C,ALL_Pivot_new!J:J) -> 205748 | I14: =SUMIF(ALL_Pivot_new!B:B,C:C,ALL_Pivot_new!K:K) -> 209491 | J14: =SUMIF(ALL_Pivot_new!B:B,C:C,ALL_Pivot_new!L:L) -> 44061.2 | K14: =SUMIF(ALL_Pivot_new!B:B,C:C,ALL_Pivot_new!M:M) -> 165429.8 | L14: =SUMIF(ALL_Pivot_new!B:B,C:C,ALL_Pivot_new!N:N) -> 8723.125 | M14: =J14/I14 -> 0.21032503 | N14: =SUMIF(ALL_Pivot_new!B:B,C:C,ALL_Pivot_new!O:O) -> 152240.1 | O14: =N14/I14 -> 0.72671427 | P14: =H14/G14 -> 0.49549296 | Q14: =N14*P14 -> 75433.897 | R14: =N14+Q14 -> 227674
A15: =VLOOKUP(C:C,ALL_Pivot_new!B:D,2,FALSE) -> FDC | B15: =VLOOKUP(C:C,ALL_Pivot_new!B:D,3,FALSE) -> Vmax | C15: 710 | D15: =SUMIF(ALL_Pivot_new!B:B,C:C,ALL_Pivot_new!F:F) -> 480000 | E15: =SUMIF(ALL_Pivot_new!B:B,C:C,ALL_Pivot_new!G:G) -> 436156.25 | F15: =SUMIF(ALL_Pivot_new!B:B,C:C,ALL_Pivot_new!H:H) -> 43843.75 | G15: =SUMIF(ALL_Pivot_new!B:B,C:C,ALL_Pivot_new!I:I) -> 415239 | H15: =SUMIF(ALL_Pivot_new!B:B,C:C,ALL_Pivot_new!J:J) -> 205748 | I15: =SUMIF(ALL_Pivot_new!B:B,C:C,ALL_Pivot_new!K:K) -> 209491 | J15: =SUMIF(ALL_Pivot_new!B:B,C:C,ALL_Pivot_new!L:L) -> 147275 | K15: =SUMIF(ALL_Pivot_new!B:B,C:C,ALL_Pivot_new!M:M) -> 62216 | L15: =SUMIF(ALL_Pivot_new!B:B,C:C,ALL_Pivot_new!N:N) -> 8723.125 | M15: =J15/I15 -> 0.70301349 | N15: =SUMIF(ALL_Pivot_new!B:B,C:C,ALL_Pivot_new!O:O) -> 244329 | O15: =N15/I15 -> 1.1662983 | P15: =H15/G15 -> 0.49549296 | Q15: =N15*P15 -> 121063.3 | R15: =N15+Q15 -> 365392.3
A16: =VLOOKUP(C:C,ALL_Pivot_new!B:D,2,FALSE) -> RDC | B16: =VLOOKUP(C:C,ALL_Pivot_new!B:D,3,FALSE) -> Vmax | C16: 689 | D16: =SUMIF(ALL_Pivot_new!B:B,C:C,ALL_Pivot_new!F:F) -> 235200 | E16: =SUMIF(ALL_Pivot_new!B:B,C:C,ALL_Pivot_new!G:G) -> 213716.56 | F16: =SUMIF(ALL_Pivot_new!B:B,C:C,ALL_Pivot_new!H:H) -> 21483.438 | G16: =SUMIF(ALL_Pivot_new!B:B,C:C,ALL_Pivot_new!I:I) -> 200645.2 | H16: =SUMIF(ALL_Pivot_new!B:B,C:C,ALL_Pivot_new!J:J) -> 98451.1 | I16: =SUMIF(ALL_Pivot_new!B:B,C:C,ALL_Pivot_new!K:K) -> 102194.1 | J16: =SUMIF(ALL_Pivot_new!B:B,C:C,ALL_Pivot_new!L:L) -> 74472.3 | K16: =SUMIF(ALL_Pivot_new!B:B,C:C,ALL_Pivot_new!M:M) -> 27721.8 | L16: =SUMIF(ALL_Pivot_new!B:B,C:C,ALL_Pivot_new!N:N) -> 4361.5625 | M16: =J16/I16 -> 0.72873385 | N16: =SUMIF(ALL_Pivot_new!B:B,C:C,ALL_Pivot_new!O:O) -> 109520 | O16: =N16/I16 -> 1.0716861 | P16: =H16/G16 -> 0.49067259 | Q16: =N16*P16 -> 53738.462 | R16: =N16+Q16 -> 163258.46
A17: =VLOOKUP(C:C,ALL_Pivot_new!B:D,2,FALSE) -> FDC | B17: =VLOOKUP(C:C,ALL_Pivot_new!B:D,3,FALSE) -> Vmax | C17: 712 | D17: =SUMIF(ALL_Pivot_new!B:B,C:C,ALL_Pivot_new!F:F) -> 480000 | E17: =SUMIF(ALL_Pivot_new!B:B,C:C,ALL_Pivot_new!G:G) -> 436156.25 | F17: =SUMIF(ALL_Pivot_new!B:B,C:C,ALL_Pivot_new!H:H) -> 43843.75 | G17: =SUMIF(ALL_Pivot_new!B:B,C:C,ALL_Pivot_new!I:I) -> 415239 | H17: =SUMIF(ALL_Pivot_new!B:B,C:C,ALL_Pivot_new!J:J) -> 205748 | I17: =SUMIF(ALL_Pivot_new!B:B,C:C,ALL_Pivot_new!K:K) -> 209491 | J17: =SUMIF(ALL_Pivot_new!B:B,C:C,ALL_Pivot_new!L:L) -> 139447.9 | K17: =SUMIF(ALL_Pivot_new!B:B,C:C,ALL_Pivot_new!M:M) -> 70043.1 | L17: =SUMIF(ALL_Pivot_new!B:B,C:C,ALL_Pivot_new!N:N) -> 8723.125 | M17: =J17/I17 -> 0.66565103 | N17: =SUMIF(ALL_Pivot_new!B:B,C:C,ALL_Pivot_new!O:O) -> 254516 | O17: =N17/I17 -> 1.2149257 | P17: =H17/G17 -> 0.49549296 | Q17: =N17*P17 -> 126110.89 | R17: =N17+Q17 -> 380626.89
A18: =VLOOKUP(C:C,ALL_Pivot_new!B:D,2,FALSE) -> RDC | B18: =VLOOKUP(C:C,ALL_Pivot_new!B:D,3,FALSE) -> Vmax | C18: 706 | D18: =SUMIF(ALL_Pivot_new!B:B,C:C,ALL_Pivot_new!F:F) -> 235200 | E18: =SUMIF(ALL_Pivot_new!B:B,C:C,ALL_Pivot_new!G:G) -> 213716.56 | F18: =SUMIF(ALL_Pivot_new!B:B,C:C,ALL_Pivot_new!H:H) -> 21483.438 | G18: =SUMIF(ALL_Pivot_new!B:B,C:C,ALL_Pivot_new!I:I) -> 200645.2 | H18: =SUMIF(ALL_Pivot_new!B:B,C:C,ALL_Pivot_new!J:J) -> 98451.1 | I18: =SUMIF(ALL_Pivot_new!B:B,C:C,ALL_Pivot_new!K:K) -> 102194.1 | J18: =SUMIF(ALL_Pivot_new!B:B,C:C,ALL_Pivot_new!L:L) -> 76496.3 | K18: =SUMIF(ALL_Pivot_new!B:B,C:C,ALL_Pivot_new!M:M) -> 25697.8 | L18: =SUMIF(ALL_Pivot_new!B:B,C:C,ALL_Pivot_new!N:N) -> 4361.5625 | M18: =J18/I18 -> 0.7485393 | N18: =SUMIF(ALL_Pivot_new!B:B,C:C,ALL_Pivot_new!O:O) -> 127434 | O18: =N18/I18 -> 1.24698 | P18: =H18/G18 -> 0.49067259 | Q18: =N18*P18 -> 62528.371 | R18: =N18+Q18 -> 189962.37
A19: =VLOOKUP(C:C,ALL_Pivot_new!B:D,2,FALSE) -> Swiss | B19: =VLOOKUP(C:C,ALL_Pivot_new!B:D,3,FALSE) -> Vmax | C19: 1383 | D19: =SUMIF(ALL_Pivot_new!B:B,C:C,ALL_Pivot_new!F:F) -> 137400 | E19: =SUMIF(ALL_Pivot_new!B:B,C:C,ALL_Pivot_new!G:G) -> 124849.73 | F19: =SUMIF(ALL_Pivot_new!B:B,C:C,ALL_Pivot_new!H:H) -> 12550.273 | G19: =SUMIF(ALL_Pivot_new!B:B,C:C,ALL_Pivot_new!I:I) -> 119445.8 | H19: =SUMIF(ALL_Pivot_new!B:B,C:C,ALL_Pivot_new!J:J) -> 59722.9 | I19: =SUMIF(ALL_Pivot_new!B:B,C:C,ALL_Pivot_new!K:K) -> 59722.9 | J19: =SUMIF(ALL_Pivot_new!B:B,C:C,ALL_Pivot_new!L:L) -> 19595.9 | K19: =SUMIF(ALL_Pivot_new!B:B,C:C,ALL_Pivot_new!M:M) -> 40127 | L19: =SUMIF(ALL_Pivot_new!B:B,C:C,ALL_Pivot_new!N:N) -> 2725.9766 | M19: =J19/I19 -> 0.32811367 | N19: =SUMIF(ALL_Pivot_new!B:B,C:C,ALL_Pivot_new!O:O) -> 61297.2 | O19: =N19/I19 -> 1.0263601 | P19: =H19/G19 -> 0.5 | Q19: =N19*P19 -> 30648.6 | R19: =N19+Q19 -> 91945.8
A20: =VLOOKUP(C:C,ALL_Pivot_new!B:D,2,FALSE) -> CGC | B20: =VLOOKUP(C:C,ALL_Pivot_new!B:D,3,FALSE) -> HDS | C20: CGCHDS10 | D20: =SUMIF(ALL_Pivot_new!B:B,C:C,ALL_Pivot_new!F:F) -> 102000 | E20: =SUMIF(ALL_Pivot_new!B:B,C:C,ALL_Pivot_new!G:G) -> 92820 | F20: =SUMIF(ALL_Pivot_new!B:B,C:C,ALL_Pivot_new!H:H) -> 9180 | G20: =SUMIF(ALL_Pivot_new!B:B,C:C,ALL_Pivot_new!I:I) -> 85486.606 | H20: =SUMIF(ALL_Pivot_new!B:B,C:C,ALL_Pivot_new!J:J) -> 10685.826 | I20: =SUMIF(ALL_Pivot_new!B:B,C:C,ALL_Pivot_new!K:K) -> 74800.78 | J20: =SUMIF(ALL_Pivot_new!B:B,C:C,ALL_Pivot_new!L:L) -> 63958 | K20: =SUMIF(ALL_Pivot_new!B:B,C:C,ALL_Pivot_new!M:M) -> 10842.78 | L20: =SUMIF(ALL_Pivot_new!B:B,C:C,ALL_Pivot_new!N:N) -> 5460 | M20: =J20/I20 -> 0.85504456 | N20: =SUMIF(ALL_Pivot_new!B:B,C:C,ALL_Pivot_new!O:O) -> 63958 | O20: =N20/I20 -> 0.85504456 | P20: =H20/G20 -> 0.125 | Q20: =N20*P20 -> 7994.75 | R20: =N20+Q20 -> 71952.75
A21: =VLOOKUP(C:C,ALL_Pivot_new!B:D,2,FALSE) -> FDC | B21: =VLOOKUP(C:C,ALL_Pivot_new!B:D,3,FALSE) -> HDS | C21: FDCHDS04 | D21: =SUMIF(ALL_Pivot_new!B:B,C:C,ALL_Pivot_new!F:F) -> 270000 | E21: =SUMIF(ALL_Pivot_new!B:B,C:C,ALL_Pivot_new!G:G) -> 245700 | F21: =SUMIF(ALL_Pivot_new!B:B,C:C,ALL_Pivot_new!H:H) -> 24300 | G21: =SUMIF(ALL_Pivot_new!B:B,C:C,ALL_Pivot_new!I:I) -> 240489.37 | H21: =SUMIF(ALL_Pivot_new!B:B,C:C,ALL_Pivot_new!J:J) -> 30061.171 | I21: =SUMIF(ALL_Pivot_new!B:B,C:C,ALL_Pivot_new!K:K) -> 210428.2 | J21: =SUMIF(ALL_Pivot_new!B:B,C:C,ALL_Pivot_new!L:L) -> 114180.98 | K21: =SUMIF(ALL_Pivot_new!B:B,C:C,ALL_Pivot_new!M:M) -> 96247.22 | L21: =SUMIF(ALL_Pivot_new!B:B,C:C,ALL_Pivot_new!N:N) -> 1092 | M21: =J21/I21 -> 0.54261254 | N21: =SUMIF(ALL_Pivot_new!B:B,C:C,ALL_Pivot_new!O:O) -> 114180.98 | O21: =N21/I21 -> 0.54261254 | P21: =H21/G21 -> 0.125 | Q21: =N21*P21 -> 14272.622 | R21: =N21+Q21 -> 128453.6
A22: =VLOOKUP(C:C,ALL_Pivot_new!B:D,2,FALSE) -> FDC | B22: =VLOOKUP(C:C,ALL_Pivot_new!B:D,3,FALSE) -> HDS | C22: FDCHDS05 | D22: =SUMIF(ALL_Pivot_new!B:B,C:C,ALL_Pivot_new!F:F) -> 260400 | E22: =SUMIF(ALL_Pivot_new!B:B,C:C,ALL_Pivot_new!G:G) -> 236964 | F22: =SUMIF(ALL_Pivot_new!B:B,C:C,ALL_Pivot_new!H:H) -> 23436 | G22: =SUMIF(ALL_Pivot_new!B:B,C:C,ALL_Pivot_new!I:I) -> 231894.87 | H22: =SUMIF(ALL_Pivot_new!B:B,C:C,ALL_Pivot_new!J:J) -> 28986.859 | I22: =SUMIF(ALL_Pivot_new!B:B,C:C,ALL_Pivot_new!K:K) -> 202908.01 | J22: =SUMIF(ALL_Pivot_new!B:B,C:C,ALL_Pivot_new!L:L) -> 124398.34 | K22: =SUMIF(ALL_Pivot_new!B:B,C:C,ALL_Pivot_new!M:M) -> 78509.67 | L22: =SUMIF(ALL_Pivot_new!B:B,C:C,ALL_Pivot_new!N:N) -> 1092 | M22: =J22/I22 -> 0.61307752 | N22: =SUMIF(ALL_Pivot_new!B:B,C:C,ALL_Pivot_new!O:O) -> 124398.34 | O22: =N22/I22 -> 0.61307752 | P22: =H22/G22 -> 0.125 | Q22: =N22*P22 -> 15549.792 | R22: =N22+Q22 -> 139948.13
A23: =VLOOKUP(C:C,ALL_Pivot_new!B:D,2,FALSE) -> RDC | B23: =VLOOKUP(C:C,ALL_Pivot_new!B:D,3,FALSE) -> HDS | C23: RDCHDS10 | D23: =SUMIF(ALL_Pivot_new!B:B,C:C,ALL_Pivot_new!F:F) -> 58800 | E23: =SUMIF(ALL_Pivot_new!B:B,C:C,ALL_Pivot_new!G:G) -> 53508 | F23: =SUMIF(ALL_Pivot_new!B:B,C:C,ALL_Pivot_new!H:H) -> 5292 | G23: =SUMIF(ALL_Pivot_new!B:B,C:C,ALL_Pivot_new!I:I) -> 51533.533 | H23: =SUMIF(ALL_Pivot_new!B:B,C:C,ALL_Pivot_new!J:J) -> 12883.383 | I23: =SUMIF(ALL_Pivot_new!B:B,C:C,ALL_Pivot_new!K:K) -> 38650.15 | J23: =SUMIF(ALL_Pivot_new!B:B,C:C,ALL_Pivot_new!L:L) -> 31157 | K23: =SUMIF(ALL_Pivot_new!B:B,C:C,ALL_Pivot_new!M:M) -> 7493.15 | L23: =SUMIF(ALL_Pivot_new!B:B,C:C,ALL_Pivot_new!N:N) -> 1092 | M23: =J23/I23 -> 0.80612882 | N23: =SUMIF(ALL_Pivot_new!B:B,C:C,ALL_Pivot_new!O:O) -> 31157 | O23: =N23/I23 -> 0.80612882 | P23: =H23/G23 -> 0.25 | Q23: =N23*P23 -> 7789.25 | R23: =N23+Q23 -> 38946.25
A24: =VLOOKUP(C:C,ALL_Pivot_new!B:D,2,FALSE) -> RDC | B24: =VLOOKUP(C:C,ALL_Pivot_new!B:D,3,FALSE) -> HDS | C24: RDCHDS05 | D24: =SUMIF(ALL_Pivot_new!B:B,C:C,ALL_Pivot_new!F:F) -> 324000 | E24: =SUMIF(ALL_Pivot_new!B:B,C:C,ALL_Pivot_new!G:G) -> 294840 | F24: =SUMIF(ALL_Pivot_new!B:B,C:C,ALL_Pivot_new!H:H) -> 29160 | G24: =SUMIF(ALL_Pivot_new!B:B,C:C,ALL_Pivot_new!I:I) -> 285077.29 | H24: =SUMIF(ALL_Pivot_new!B:B,C:C,ALL_Pivot_new!J:J) -> 35634.661 | I24: =SUMIF(ALL_Pivot_new!B:B,C:C,ALL_Pivot_new!K:K) -> 249442.63 | J24: =SUMIF(ALL_Pivot_new!B:B,C:C,ALL_Pivot_new!L:L) -> 151545 | K24: =SUMIF(ALL_Pivot_new!B:B,C:C,ALL_Pivot_new!M:M) -> 97897.63 | L24: =SUMIF(ALL_Pivot_new!B:B,C:C,ALL_Pivot_new!N:N) -> 6552 | M24: =J24/I24 -> 0.60753449 | N24: =SUMIF(ALL_Pivot_new!B:B,C:C,ALL_Pivot_new!O:O) -> 151545 | O24: =N24/I24 -> 0.60753449 | P24: =H24/G24 -> 0.125 | Q24: =N24*P24 -> 18943.125 | R24: =N24+Q24 -> 170488.12
A25: =VLOOKUP(C:C,ALL_Pivot_new!B:D,2,FALSE) -> RDC | B25: =VLOOKUP(C:C,ALL_Pivot_new!B:D,3,FALSE) -> HDS | C25: RDCHDS06 | D25: =SUMIF(ALL_Pivot_new!B:B,C:C,ALL_Pivot_new!F:F) -> 221700 | E25: =SUMIF(ALL_Pivot_new!B:B,C:C,ALL_Pivot_new!G:G) -> 201747 | F25: =SUMIF(ALL_Pivot_new!B:B,C:C,ALL_Pivot_new!H:H) -> 19953 | G25: =SUMIF(ALL_Pivot_new!B:B,C:C,ALL_Pivot_new!I:I) -> 197544.85 | H25: =SUMIF(ALL_Pivot_new!B:B,C:C,ALL_Pivot_new!J:J) -> 24693.106 | I25: =SUMIF(ALL_Pivot_new!B:B,C:C,ALL_Pivot_new!K:K) -> 172851.74 | J25: =SUMIF(ALL_Pivot_new!B:B,C:C,ALL_Pivot_new!L:L) -> 105953 | K25: =SUMIF(ALL_Pivot_new!B:B,C:C,ALL_Pivot_new!M:M) -> 66898.74 | L25: =SUMIF(ALL_Pivot_new!B:B,C:C,ALL_Pivot_new!N:N) -> 819 | M25: =J25/I25 -> 0.6129704 | N25: =SUMIF(ALL_Pivot_new!B:B,C:C,ALL_Pivot_new!O:O) -> 105953 | O25: =N25/I25 -> 0.6129704 | P25: =H25/G25 -> 0.125 | Q25: =N25*P25 -> 13244.125 | R25: =N25+Q25 -> 119197.12
A26: =VLOOKUP(C:C,ALL_Pivot_new!B:D,2,FALSE) -> FDC | B26: =VLOOKUP(C:C,ALL_Pivot_new!B:D,3,FALSE) -> HDS | C26: FDCHDS10 | D26: =SUMIF(ALL_Pivot_new!B:B,C:C,ALL_Pivot_new!F:F) -> 58800 | E26: =SUMIF(ALL_Pivot_new!B:B,C:C,ALL_Pivot_new!G:G) -> 53508 | F26: =SUMIF(ALL_Pivot_new!B:B,C:C,ALL_Pivot_new!H:H) -> 5292 | G26: =SUMIF(ALL_Pivot_new!B:B,C:C,ALL_Pivot_new!I:I) -> 51533.533 | H26: =SUMIF(ALL_Pivot_new!B:B,C:C,ALL_Pivot_new!J:J) -> 12883.383 | I26: =SUMIF(ALL_Pivot_new!B:B,C:C,ALL_Pivot_new!K:K) -> 38650.15 | J26: =SUMIF(ALL_Pivot_new!B:B,C:C,ALL_Pivot_new!L:L) -> 13705.29 | K26: =SUMIF(ALL_Pivot_new!B:B,C:C,ALL_Pivot_new!M:M) -> 24944.86 | L26: =SUMIF(ALL_Pivot_new!B:B,C:C,ALL_Pivot_new!N:N) -> 1092 | M26: =J26/I26 -> 0.35459862 | N26: =SUMIF(ALL_Pivot_new!B:B,C:C,ALL_Pivot_new!O:O) -> 13705.29 | O26: =N26/I26 -> 0.35459862 | P26: =H26/G26 -> 0.25 | Q26: =N26*P26 -> 3426.3225 | R26: =N26+Q26 -> 17131.612
A27: =VLOOKUP(C:C,ALL_Pivot_new!B:D,2,FALSE) -> FDC | B27: =VLOOKUP(C:C,ALL_Pivot_new!B:D,3,FALSE) -> Vmax | C27: 709 | D27: =SUMIF(ALL_Pivot_new!B:B,C:C,ALL_Pivot_new!F:F) -> 587800 | E27: =SUMIF(ALL_Pivot_new!B:B,C:C,ALL_Pivot_new!G:G) -> 541278.67 | F27: =SUMIF(ALL_Pivot_new!B:B,C:C,ALL_Pivot_new!H:H) -> 46521.332 | G27: =SUMIF(ALL_Pivot_new!B:B,C:C,ALL_Pivot_new!I:I) -> 516508 | H27: =SUMIF(ALL_Pivot_new!B:B,C:C,ALL_Pivot_new!J:J) -> 187816.4 | I27: =SUMIF(ALL_Pivot_new!B:B,C:C,ALL_Pivot_new!K:K) -> 328691.6 | J27: =SUMIF(ALL_Pivot_new!B:B,C:C,ALL_Pivot_new!L:L) -> 195984.3 | K27: =SUMIF(ALL_Pivot_new!B:B,C:C,ALL_Pivot_new!M:M) -> 132707.3 | L27: =SUMIF(ALL_Pivot_new!B:B,C:C,ALL_Pivot_new!N:N) -> 10868.48 | M27: =J27/I27 -> 0.59625588 | N27: =SUMIF(ALL_Pivot_new!B:B,C:C,ALL_Pivot_new!O:O) -> 323143 | O27: =N27/I27 -> 0.98311913 | P27: =H27/G27 -> 0.36362728 | Q27: =N27*P27 -> 117503.61 | R27: =N27+Q27 -> 440646.61
A28: =VLOOKUP(C:C,ALL_Pivot_new!B:D,2,FALSE) -> RDC | B28: =VLOOKUP(C:C,ALL_Pivot_new!B:D,3,FALSE) -> Vmax | C28: 704 | D28: =SUMIF(ALL_Pivot_new!B:B,C:C,ALL_Pivot_new!F:F) -> 405400 | E28: =SUMIF(ALL_Pivot_new!B:B,C:C,ALL_Pivot_new!G:G) -> 373152.69 | F28: =SUMIF(ALL_Pivot_new!B:B,C:C,ALL_Pivot_new!H:H) -> 32247.312 | G28: =SUMIF(ALL_Pivot_new!B:B,C:C,ALL_Pivot_new!I:I) -> 354223.73 | H28: =SUMIF(ALL_Pivot_new!B:B,C:C,ALL_Pivot_new!J:J) -> 130153.43 | I28: =SUMIF(ALL_Pivot_new!B:B,C:C,ALL_Pivot_new!K:K) -> 224070.3 | J28: =SUMIF(ALL_Pivot_new!B:B,C:C,ALL_Pivot_new!L:L) -> 51383.5 | K28: =SUMIF(ALL_Pivot_new!B:B,C:C,ALL_Pivot_new!M:M) -> 172686.8 | L28: =SUMIF(ALL_Pivot_new!B:B,C:C,ALL_Pivot_new!N:N) -> 7915.0625 | M28: =J28/I28 -> 0.22931866 | N28: =SUMIF(ALL_Pivot_new!B:B,C:C,ALL_Pivot_new!O:O) -> 241478 | O28: =N28/I28 -> 1.0776886 | P28: =H28/G28 -> 0.36743284 | Q28: =N28*P28 -> 88726.948 | R28: =N28+Q28 -> 330204.95
A29: =VLOOKUP(C:C,ALL_Pivot_new!B:D,2,FALSE) -> CGC | B29: =VLOOKUP(C:C,ALL_Pivot_new!B:D,3,FALSE) -> Vmax | C29: 703 | D29: =SUMIF(ALL_Pivot_new!B:B,C:C,ALL_Pivot_new!F:F) -> 405400 | E29: =SUMIF(ALL_Pivot_new!B:B,C:C,ALL_Pivot_new!G:G) -> 373152.69 | F29: =SUMIF(ALL_Pivot_new!B:B,C:C,ALL_Pivot_new!H:H) -> 32247.312 | G29: =SUMIF(ALL_Pivot_new!B:B,C:C,ALL_Pivot_new!I:I) -> 354223.73 | H29: =SUMIF(ALL_Pivot_new!B:B,C:C,ALL_Pivot_new!J:J) -> 130153.43 | I29: =SUMIF(ALL_Pivot_new!B:B,C:C,ALL_Pivot_new!K:K) -> 224070.3 | J29: =SUMIF(ALL_Pivot_new!B:B,C:C,ALL_Pivot_new!L:L) -> 103948.9 | K29: =SUMIF(ALL_Pivot_new!B:B,C:C,ALL_Pivot_new!M:M) -> 120121.4 | L29: =SUMIF(ALL_Pivot_new!B:B,C:C,ALL_Pivot_new!N:N) -> 7915.0625 | M29: =J29/I29 -> 0.463912 | N29: =SUMIF(ALL_Pivot_new!B:B,C:C,ALL_Pivot_new!O:O) -> 182630 | O29: =N29/I29 -> 0.8150567 | P29: =H29/G29 -> 0.36743284 | Q29: =N29*P29 -> 67104.26 | R29: =N29+Q29 -> 249734.26
A30: =VLOOKUP(C:C,ALL_Pivot_new!B:D,2,FALSE) -> RDC | B30: =VLOOKUP(C:C,ALL_Pivot_new!B:D,3,FALSE) -> Vmax | C30: 688 | D30: =SUMIF(ALL_Pivot_new!B:B,C:C,ALL_Pivot_new!F:F) -> 362400 | E30: =SUMIF(ALL_Pivot_new!B:B,C:C,ALL_Pivot_new!G:G) -> 329297.97 | F30: =SUMIF(ALL_Pivot_new!B:B,C:C,ALL_Pivot_new!H:H) -> 33102.031 | G30: =SUMIF(ALL_Pivot_new!B:B,C:C,ALL_Pivot_new!I:I) -> 312384 | H30: =SUMIF(ALL_Pivot_new!B:B,C:C,ALL_Pivot_new!J:J) -> 156192 | I30: =SUMIF(ALL_Pivot_new!B:B,C:C,ALL_Pivot_new!K:K) -> 156192 | J30: =SUMIF(ALL_Pivot_new!B:B,C:C,ALL_Pivot_new!L:L) -> 40099.4 | K30: =SUMIF(ALL_Pivot_new!B:B,C:C,ALL_Pivot_new!M:M) -> 116092.6 | L30: =SUMIF(ALL_Pivot_new!B:B,C:C,ALL_Pivot_new!N:N) -> 6542.3438 | M30: =J30/I30 -> 0.25673146 | N30: =SUMIF(ALL_Pivot_new!B:B,C:C,ALL_Pivot_new!O:O) -> 55880.3 | O30: =N30/I30 -> 0.35776672 | P30: =H30/G30 -> 0.5 | Q30: =N30*P30 -> 27940.15 | R30: =N30+Q30 -> 83820.45
A31: =VLOOKUP(C:C,ALL_Pivot_new!B:D,2,FALSE) -> CGC | B31: =VLOOKUP(C:C,ALL_Pivot_new!B:D,3,FALSE) -> Vmax | C31: 705 | D31: =SUMIF(ALL_Pivot_new!B:B,C:C,ALL_Pivot_new!F:F) -> 362400 | E31: =SUMIF(ALL_Pivot_new!B:B,C:C,ALL_Pivot_new!G:G) -> 329297.97 | F31: =SUMIF(ALL_Pivot_new!B:B,C:C,ALL_Pivot_new!H:H) -> 33102.031 | G31: =SUMIF(ALL_Pivot_new!B:B,C:C,ALL_Pivot_new!I:I) -> 312384 | H31: =SUMIF(ALL_Pivot_new!B:B,C:C,ALL_Pivot_new!J:J) -> 156192 | I31: =SUMIF(ALL_Pivot_new!B:B,C:C,ALL_Pivot_new!K:K) -> 156192 | J31: =SUMIF(ALL_Pivot_new!B:B,C:C,ALL_Pivot_new!L:L) -> 40074 | K31: =SUMIF(ALL_Pivot_new!B:B,C:C,ALL_Pivot_new!M:M) -> 116118 | L31: =SUMIF(ALL_Pivot_new!B:B,C:C,ALL_Pivot_new!N:N) -> 6542.3438 | M31: =J31/I31 -> 0.25656884 | N31: =SUMIF(ALL_Pivot_new!B:B,C:C,ALL_Pivot_new!O:O) -> 55866.6 | O31: =N31/I31 -> 0.35767901 | P31: =H31/G31 -> 0.5 | Q31: =N31*P31 -> 27933.3 | R31: =N31+Q31 -> 83799.9
A32: =VLOOKUP(C:C,ALL_Pivot_new!B:D,2,FALSE) -> RDC | B32: =VLOOKUP(C:C,ALL_Pivot_new!B:D,3,FALSE) -> Vmax | C32: 699 | D32: =SUMIF(ALL_Pivot_new!B:B,C:C,ALL_Pivot_new!F:F) -> 405400 | E32: =SUMIF(ALL_Pivot_new!B:B,C:C,ALL_Pivot_new!G:G) -> 373152.69 | F32: =SUMIF(ALL_Pivot_new!B:B,C:C,ALL_Pivot_new!H:H) -> 32247.312 | G32: =SUMIF(ALL_Pivot_new!B:B,C:C,ALL_Pivot_new!I:I) -> 354223.73 | H32: =SUMIF(ALL_Pivot_new!B:B,C:C,ALL_Pivot_new!J:J) -> 130153.43 | I32: =SUMIF(ALL_Pivot_new!B:B,C:C,ALL_Pivot_new!K:K) -> 224070.3 | J32: =SUMIF(ALL_Pivot_new!B:B,C:C,ALL_Pivot_new!L:L) -> 38373.1 | K32: =SUMIF(ALL_Pivot_new!B:B,C:C,ALL_Pivot_new!M:M) -> 185697.2 | L32: =SUMIF(ALL_Pivot_new!B:B,C:C,ALL_Pivot_new!N:N) -> 7915.0625 | M32: =J32/I32 -> 0.17125474 | N32: =SUMIF(ALL_Pivot_new!B:B,C:C,ALL_Pivot_new!O:O) -> 171470 | O32: =N32/I32 -> 0.76525091 | P32: =H32/G32 -> 0.36743284 | Q32: =N32*P32 -> 63003.71 | R32: =N32+Q32 -> 234473.71
A33: =VLOOKUP(C:C,ALL_Pivot_new!B:D,2,FALSE) -> FDC | B33: =VLOOKUP(C:C,ALL_Pivot_new!B:D,3,FALSE) -> XIV | C33: 61188 | D33: =SUMIF(ALL_Pivot_new!B:B,C:C,ALL_Pivot_new!F:F) -> 540000 | E33: =SUMIF(ALL_Pivot_new!B:B,C:C,ALL_Pivot_new!G:G) -> 534615 | F33: =SUMIF(ALL_Pivot_new!B:B,C:C,ALL_Pivot_new!H:H) -> 5385 | G33: =SUMIF(ALL_Pivot_new!B:B,C:C,ALL_Pivot_new!I:I) -> 486785.04 | H33: =SUMIF(ALL_Pivot_new!B:B,C:C,ALL_Pivot_new!J:J) -> 243392.52 | I33: =SUMIF(ALL_Pivot_new!B:B,C:C,ALL_Pivot_new!K:K) -> 243392.52 | J33: =SUMIF(ALL_Pivot_new!B:B,C:C,ALL_Pivot_new!L:L) -> 107034 | K33: =SUMIF(ALL_Pivot_new!B:B,C:C,ALL_Pivot_new!M:M) -> 136358.52 | L33: =SUMIF(ALL_Pivot_new!B:B,C:C,ALL_Pivot_new!N:N) -> 44551.25 | M33: =J33/I33 -> 0.43975879 | N33: =SUMIF(ALL_Pivot_new!B:B,C:C,ALL_Pivot_new!O:O) -> 107034 | O33: =N33/I33 -> 0.43975879 | P33: =H33/G33 -> 0.5 | Q33: =N33*P33 -> 53517 | R33: =N33+Q33 -> 160551
A34: =VLOOKUP(C:C,ALL_Pivot_new!B:D,2,FALSE) -> RDC | B34: =VLOOKUP(C:C,ALL_Pivot_new!B:D,3,FALSE) -> XIV | C34: 61239 | D34: =SUMIF(ALL_Pivot_new!B:B,C:C,ALL_Pivot_new!F:F) -> 540000 | E34: =SUMIF(ALL_Pivot_new!B:B,C:C,ALL_Pivot_new!G:G) -> 534615 | F34: =SUMIF(ALL_Pivot_new!B:B,C:C,ALL_Pivot_new!H:H) -> 5385 | G34: =SUMIF(ALL_Pivot_new!B:B,C:C,ALL_Pivot_new!I:I) -> 481966.76 | H34: =SUMIF(ALL_Pivot_new!B:B,C:C,ALL_Pivot_new!J:J) -> 240983.38 | I34: =SUMIF(ALL_Pivot_new!B:B,C:C,ALL_Pivot_new!K:K) -> 240983.38 | J34: =SUMIF(ALL_Pivot_new!B:B,C:C,ALL_Pivot_new!L:L) -> 130093.84 | K34: =SUMIF(ALL_Pivot_new!B:B,C:C,ALL_Pivot_new!M:M) -> 110889.54 | L34: =SUMIF(ALL_Pivot_new!B:B,C:C,ALL_Pivot_new!N:N) -> 44551.25 | M34: =J34/I34 -> 0.53984569 | N34: =SUMIF(ALL_Pivot_new!B:B,C:C,ALL_Pivot_new!O:O) -> 130093.84 | O34: =N34/I34 -> 0.53984569 | P34: =H34/G34 -> 0.5 | Q34: =N34*P34 -> 65046.92 | R34: =N34+Q34 -> 195140.76
A35: =VLOOKUP(C:C,ALL_Pivot_new!B:D,2,FALSE) -> RDC | B35: =VLOOKUP(C:C,ALL_Pivot_new!B:D,3,FALSE) -> Vmax | C35: 1144 | D35: =SUMIF(ALL_Pivot_new!B:B,C:C,ALL_Pivot_new!F:F) -> 235200 | E35: =SUMIF(ALL_Pivot_new!B:B,C:C,ALL_Pivot_new!G:G) -> 213716.56 | F35: =SUMIF(ALL_Pivot_new!B:B,C:C,ALL_Pivot_new!H:H) -> 21483.438 | G35: =SUMIF(ALL_Pivot_new!B:B,C:C,ALL_Pivot_new!I:I) -> 200645.2 | H35: =SUMIF(ALL_Pivot_new!B:B,C:C,ALL_Pivot_new!J:J) -> 100322.6 | I35: =SUMIF(ALL_Pivot_new!B:B,C:C,ALL_Pivot_new!K:K) -> 100322.6 | J35: =SUMIF(ALL_Pivot_new!B:B,C:C,ALL_Pivot_new!L:L) -> 15656.8 | K35: =SUMIF(ALL_Pivot_new!B:B,C:C,ALL_Pivot_new!M:M) -> 84665.8 | L35: =SUMIF(ALL_Pivot_new!B:B,C:C,ALL_Pivot_new!N:N) -> 4361.5625 | M35: =J35/I35 -> 0.15606454 | N35: =SUMIF(ALL_Pivot_new!B:B,C:C,ALL_Pivot_new!O:O) -> 49951.6 | O35: =N35/I35 -> 0.49790974 | P35: =H35/G35 -> 0.5 | Q35: =N35*P35 -> 24975.8 | R35: =N35+Q35 -> 74927.4
A36: =VLOOKUP(C:C,ALL_Pivot_new!B:D,2,FALSE) -> FDC | B36: =VLOOKUP(C:C,ALL_Pivot_new!B:D,3,FALSE) -> Vmax | C36: 1124 | D36: =SUMIF(ALL_Pivot_new!B:B,C:C,ALL_Pivot_new!F:F) -> 475200 | E36: =SUMIF(ALL_Pivot_new!B:B,C:C,ALL_Pivot_new!G:G) -> 431794.69 | F36: =SUMIF(ALL_Pivot_new!B:B,C:C,ALL_Pivot_new!H:H) -> 43405.312 | G36: =SUMIF(ALL_Pivot_new!B:B,C:C,ALL_Pivot_new!I:I) -> 410947 | H36: =SUMIF(ALL_Pivot_new!B:B,C:C,ALL_Pivot_new!J:J) -> 205473.5 | I36: =SUMIF(ALL_Pivot_new!B:B,C:C,ALL_Pivot_new!K:K) -> 205473.5 | J36: =SUMIF(ALL_Pivot_new!B:B,C:C,ALL_Pivot_new!L:L) -> 24376 | K36: =SUMIF(ALL_Pivot_new!B:B,C:C,ALL_Pivot_new!M:M) -> 181097.5 | L36: =SUMIF(ALL_Pivot_new!B:B,C:C,ALL_Pivot_new!N:N) -> 8723.125 | M36: =J36/I36 -> 0.1186333 | N36: =SUMIF(ALL_Pivot_new!B:B,C:C,ALL_Pivot_new!O:O) -> 49778.8 | O36: =N36/I36 -> 0.24226384 | P36: =H36/G36 -> 0.5 | Q36: =N36*P36 -> 24889.4 | R36: =N36+Q36 -> 74668.2
A37: =VLOOKUP(C:C,ALL_Pivot_new!B:D,2,FALSE) -> welle | B37: =VLOOKUP(C:C,ALL_Pivot_new!B:D,3,FALSE) -> Vmax | C37: 877 | D37: =SUMIF(ALL_Pivot_new!B:B,C:C,ALL_Pivot_new!F:F) -> 6600 | E37: =SUMIF(ALL_Pivot_new!B:B,C:C,ALL_Pivot_new!G:G) -> 5940 | F37: =SUMIF(ALL_Pivot_new!B:B,C:C,ALL_Pivot_new!H:H) -> 660 | G37: =SUMIF(ALL_Pivot_new!B:B,C:C,ALL_Pivot_new!I:I) -> 5400 | H37: =SUMIF(ALL_Pivot_new!B:B,C:C,ALL_Pivot_new!J:J) -> 675 | I37: =SUMIF(ALL_Pivot_new!B:B,C:C,ALL_Pivot_new!K:K) -> 4725 | J37: =SUMIF(ALL_Pivot_new!B:B,C:C,ALL_Pivot_new!L:L) -> 4282 | K37: =SUMIF(ALL_Pivot_new!B:B,C:C,ALL_Pivot_new!M:M) -> 443 | L37: =SUMIF(ALL_Pivot_new!B:B,C:C,ALL_Pivot_new!N:N) -> 540 | M37: =J37/I37 -> 0.90624339 | N37: =SUMIF(ALL_Pivot_new!B:B,C:C,ALL_Pivot_new!O:O) -> 4282 | O37: =N37/I37 -> 0.90624339 | P37: =H37/G37 -> 0.125 | Q37: =N37*P37 -> 535.25 | R37: =N37+Q37 -> 4817.25
B38: Total | D38: =SUM(D2:D37) -> 11676792 | E38: =SUM(E2:E37) -> 10695193 | F38: =SUM(F2:F37) -> 981598.65 | G38: =SUM(G2:G37) -> 9868353.3 | H38: =SUM(H2:H37) -> 3616629.4 | I38: =SUM(I2:I37) -> 6251723.9 | J38: =SUM(J2:J37) -> 3049668.7 | K38: =SUM(K2:K37) -> 3202055.1 | L38: =SUM(L2:L37) -> 286073.66 | M38: =J38/I38 -> 0.48781245 | N38: =SUM(N2:N37) -> 5205834.2 | O38: =N38/I38 -> 0.83270381 | P38: =H38/G38 -> 0.36648763 | Q38: =N38*P38 -> 1907873.9 | R38: =N38+Q38 -> 7113708.1
B39: TotalTB | D39: =D38/1024 -> 11403.117 | E39: =E38/1024 -> 10444.525 | F39: =F38/1024 -> 958.59244 | G39: =G38/1024 -> 9637.0638 | H39: =H38/1024 -> 3531.8647 | I39: =I38/1024 -> 6105.1991 | J39: =J38/1024 -> 2978.1921 | K39: =K38/1024 -> 3127.0069 | L39: =L38/1024 -> 279.36881 | M39: =J39/I39 -> 0.48781245 | N39: =N38/1024 -> 5083.8225 | O39: =N39/I39 -> 0.83270381 | P39: =H39/G39 -> 0.36648763 | Q39: =Q38/1024 -> 1863.1581 | R39: =R38/1024 -> 6946.9806
B40: TotalPB | D40: =D39/1024 -> 11.135857 | E40: =E39/1024 -> 10.199731 | F40: =F39/1024 -> 0.93612543 | G40: =G39/1024 -> 9.4111951 | H40: =H39/1024 -> 3.4490866 | I40: =I39/1024 -> 5.9621085 | J40: =J39/1024 -> 2.9083908 | K40: =K39/1024 -> 3.0537177 | L40: =L39/1024 -> 0.2728211 | M40: =J40/I40 -> 0.48781245 | N40: =N39/1024 -> 4.9646704 | O40: =N40/I40 -> 0.83270381 | P40: =H40/G40 -> 0.36648763 | Q40: =Q39/1024 -> 1.8194903 | R40: =R39/1024 -> 6.7841607

Sheet Tech-Refresh
A1: Loc | B1: Type | C1: Array | D1: Market Standard | E1: Formatted | F1: format Lost | G1: Physical total | H1: Parity Lost | I1: Pool Usable | J1: Pool Used | K1: Pool Free | L1: Spare | M1: %Used | N1: Host Allocations | O1: %Allocated
A2: =VLOOKUP(C:C,ALL_Pivot_new!B:D,2,FALSE) -> FDC | B2: =VLOOKUP(C:C,ALL_Pivot_new!B:D,3,FALSE) -> DMX | C2: 5349 | D2: =SUMIF(ALL_Pivot_new!B:B,C:C,ALL_Pivot_new!F:F) -> 25193.97 | E2: =SUMIF(ALL_Pivot_new!B:B,C:C,ALL_Pivot_new!G:G) -> 22903.609 | F2: =SUMIF(ALL_Pivot_new!B:B,C:C,ALL_Pivot_new!H:H) -> 2290.3609 | G2: =SUMIF(ALL_Pivot_new!B:B,C:C,ALL_Pivot_new!I:I) -> 20426.211 | H2: =SUMIF(ALL_Pivot_new!B:B,C:C,ALL_Pivot_new!J:J) -> 2553.2764 | I2: =SUMIF(ALL_Pivot_new!B:B,C:C,ALL_Pivot_new!K:K) -> 17872.935 | J2: =SUMIF(ALL_Pivot_new!B:B,C:C,ALL_Pivot_new!L:L) -> 10018.175 | K2: =SUMIF(ALL_Pivot_new!B:B,C:C,ALL_Pivot_new!M:M) -> 7854.7598 | L2: =SUMIF(ALL_Pivot_new!B:B,C:C,ALL_Pivot_new!N:N) -> 2477.3984 | M2: =J2/I2 -> 0.5605221 | N2: =SUMIF(ALL_Pivot_new!B:B,C:C,ALL_Pivot_new!O:O) -> 10018.175 | O2: =N2/I2 -> 0.5605221
A3: =VLOOKUP(C:C,ALL_Pivot_new!B:D,2,FALSE) -> RDC | B3: =VLOOKUP(C:C,ALL_Pivot_new!B:D,3,FALSE) -> DMX | C3: 5373 | D3: =SUMIF(ALL_Pivot_new!B:B,C:C,ALL_Pivot_new!F:F) -> 68850 | E3: =SUMIF(ALL_Pivot_new!B:B,C:C,ALL_Pivot_new!G:G) -> 63533.6 | F3: =SUMIF(ALL_Pivot_new!B:B,C:C,ALL_Pivot_new!H:H) -> 5316.4 | G3: =SUMIF(ALL_Pivot_new!B:B,C:C,ALL_Pivot_new!I:I) -> 60211.52 | H3: =SUMIF(ALL_Pivot_new!B:B,C:C,ALL_Pivot_new!J:J) -> 7526.44 | I3: =SUMIF(ALL_Pivot_new!B:B,C:C,ALL_Pivot_new!K:K) -> 52685.08 | J3: =SUMIF(ALL_Pivot_new!B:B,C:C,ALL_Pivot_new!L:L) -> 1943.0361 | K3: =SUMIF(ALL_Pivot_new!B:B,C:C,ALL_Pivot_new!M:M) -> 50742.044 | L3: =SUMIF(ALL_Pivot_new!B:B,C:C,ALL_Pivot_new!N:N) -> 3322.08 | M3: =J3/I3 -> 0.036880197 | N3: =SUMIF(ALL_Pivot_new!B:B,C:C,ALL_Pivot_new!O:O) -> 3886.0723 | O3: =N3/I3 -> 0.073760394
A4: =VLOOKUP(C:C,ALL_Pivot_new!B:D,2,FALSE) -> CGC | B4: =VLOOKUP(C:C,ALL_Pivot_new!B:D,3,FALSE) -> Vmax | C4: 0623 | D4: =SUMIF(ALL_Pivot_new!B:B,C:C,ALL_Pivot_new!F:F) -> 340268 | E4: =SUMIF(ALL_Pivot_new!B:B,C:C,ALL_Pivot_new!G:G) -> 304207.17 | F4: =SUMIF(ALL_Pivot_new!B:B,C:C,ALL_Pivot_new!H:H) -> 36060.828 | G4: =SUMIF(ALL_Pivot_new!B:B,C:C,ALL_Pivot_new!I:I) -> 285733.83 | H4: =SUMIF(ALL_Pivot_new!B:B,C:C,ALL_Pivot_new!J:J) -> 35716.729 | I4: =SUMIF(ALL_Pivot_new!B:B,C:C,ALL_Pivot_new!K:K) -> 250017.1 | J4: =SUMIF(ALL_Pivot_new!B:B,C:C,ALL_Pivot_new!L:L) -> 17992.3 | K4: =SUMIF(ALL_Pivot_new!B:B,C:C,ALL_Pivot_new!M:M) -> 232024.8 | L4: =SUMIF(ALL_Pivot_new!B:B,C:C,ALL_Pivot_new!N:N) -> 8209.5469 | M4: =J4/I4 -> 0.071964278 | N4: =SUMIF(ALL_Pivot_new!B:B,C:C,ALL_Pivot_new!O:O) -> 25322.4 | O4: =N4/I4 -> 0.10128267
A5: =VLOOKUP(C:C,ALL_Pivot_new!B:D,2,FALSE) -> RDC | B5: =VLOOKUP(C:C,ALL_Pivot_new!B:D,3,FALSE) -> Vmax | C5: 0678 | D5: =SUMIF(ALL_Pivot_new!B:B,C:C,ALL_Pivot_new!F:F) -> 243000 | E5: =SUMIF(ALL_Pivot_new!B:B,C:C,ALL_Pivot_new!G:G) -> 220804.1 | F5: =SUMIF(ALL_Pivot_new!B:B,C:C,ALL_Pivot_new!H:H) -> 22195.898 | G5: =SUMIF(ALL_Pivot_new!B:B,C:C,ALL_Pivot_new!I:I) -> 207997.49 | H5: =SUMIF(ALL_Pivot_new!B:B,C:C,ALL_Pivot_new!J:J) -> 25999.686 | I5: =SUMIF(ALL_Pivot_new!B:B,C:C,ALL_Pivot_new!K:K) -> 181997.8 | J5: =SUMIF(ALL_Pivot_new!B:B,C:C,ALL_Pivot_new!L:L) -> 102920 | K5: =SUMIF(ALL_Pivot_new!B:B,C:C,ALL_Pivot_new!M:M) -> 79077.8 | L5: =SUMIF(ALL_Pivot_new!B:B,C:C,ALL_Pivot_new!N:N) -> 4906.7578 | M5: =J5/I5 -> 0.56550134 | N5: =SUMIF(ALL_Pivot_new!B:B,C:C,ALL_Pivot_new!O:O) -> 94562.4 | O5: =N5/I5 -> 0.51957991
A6: =VLOOKUP(C:C,ALL_Pivot_new!B:D,2,FALSE) -> FDC | B6: =VLOOKUP(C:C,ALL_Pivot_new!B:D,3,FALSE) -> Vmax | C6: 0879 | D6: =SUMIF(ALL_Pivot_new!B:B,C:C,ALL_Pivot_new!F:F) -> 257400 | E6: =SUMIF(ALL_Pivot_new!B:B,C:C,ALL_Pivot_new!G:G) -> 233888.79 | F6: =SUMIF(ALL_Pivot_new!B:B,C:C,ALL_Pivot_new!H:H) -> 23511.211 | G6: =SUMIF(ALL_Pivot_new!B:B,C:C,ALL_Pivot_new!I:I) -> 220603.31 | H6: =SUMIF(ALL_Pivot_new!B:B,C:C,ALL_Pivot_new!J:J) -> 27575.414 | I6: =SUMIF(ALL_Pivot_new!B:B,C:C,ALL_Pivot_new!K:K) -> 193027.9 | J6: =SUMIF(ALL_Pivot_new!B:B,C:C,ALL_Pivot_new!L:L) -> 38344.3 | K6: =SUMIF(ALL_Pivot_new!B:B,C:C,ALL_Pivot_new!M:M) -> 154683.6 | L6: =SUMIF(ALL_Pivot_new!B:B,C:C,ALL_Pivot_new!N:N) -> 4906.7578 | M6: =J6/I6 -> 0.19864641 | N6: =SUMIF(ALL_Pivot_new!B:B,C:C,ALL_Pivot_new!O:O) -> 72666.1 | O6: =N6/I6 -> 0.37645387
A7: =VLOOKUP(C:C,ALL_Pivot_new!B:D,2,FALSE) -> RDC | B7: =VLOOKUP(C:C,ALL_Pivot_new!B:D,3,FALSE) -> Vmax | C7: 2230 | D7: =SUMIF(ALL_Pivot_new!B:B,C:C,ALL_Pivot_new!F:F) -> 227700 | E7: =SUMIF(ALL_Pivot_new!B:B,C:C,ALL_Pivot_new!G:G) -> 206901.62 | F7: =SUMIF(ALL_Pivot_new!B:B,C:C,ALL_Pivot_new!H:H) -> 20798.379 | G7: =SUMIF(ALL_Pivot_new!B:B,C:C,ALL_Pivot_new!I:I) -> 197405.34 | H7: =SUMIF(ALL_Pivot_new!B:B,C:C,ALL_Pivot_new!J:J) -> 25430.843 | I7: =SUMIF(ALL_Pivot_new!B:B,C:C,ALL_Pivot_new!K:K) -> 171974.5 | J7: =SUMIF(ALL_Pivot_new!B:B,C:C,ALL_Pivot_new!L:L) -> 64561.9 | K7: =SUMIF(ALL_Pivot_new!B:B,C:C,ALL_Pivot_new!M:M) -> 107412.6 | L7: =SUMIF(ALL_Pivot_new!B:B,C:C,ALL_Pivot_new!N:N) -> 4088.9648 | M7: =J7/I7 -> 0.37541554 | N7: =SUMIF(ALL_Pivot_new!B:B,C:C,ALL_Pivot_new!O:O) -> 57559.8 | O7: =N7/I7 -> 0.33469962
A8: =VLOOKUP(C:C,ALL_Pivot_new!B:D,2,FALSE) -> FDC | B8: =VLOOKUP(C:C,ALL_Pivot_new!B:D,3,FALSE) -> Vmax | C8: 2231 | D8: =SUMIF(ALL_Pivot_new!B:B,C:C,ALL_Pivot_new!F:F) -> 367200 | E8: =SUMIF(ALL_Pivot_new!B:B,C:C,ALL_Pivot_new!G:G) -> 333659.53 | F8: =SUMIF(ALL_Pivot_new!B:B,C:C,ALL_Pivot_new!H:H) -> 33540.469 | G8: =SUMIF(ALL_Pivot_new!B:B,C:C,ALL_Pivot_new!I:I) -> 315898.46 | H8: =SUMIF(ALL_Pivot_new!B:B,C:C,ALL_Pivot_new!J:J) -> 39768.857 | I8: =SUMIF(ALL_Pivot_new!B:B,C:C,ALL_Pivot_new!K:K) -> 276129.6 | J8: =SUMIF(ALL_Pivot_new!B:B,C:C,ALL_Pivot_new!L:L) -> 100534.2 | K8: =SUMIF(ALL_Pivot_new!B:B,C:C,ALL_Pivot_new!M:M) -> 175595.4 | L8: =SUMIF(ALL_Pivot_new!B:B,C:C,ALL_Pivot_new!N:N) -> 6542.3438 | M8: =J8/I8 -> 0.36408339 | N8: =SUMIF(ALL_Pivot_new!B:B,C:C,ALL_Pivot_new!O:O) -> 66650.1 | O8: =N8/I8 -> 0.24137253
B9: Total | D9: =SUM(D2:D8) -> 1529612 | E9: =SUM(E2:E8) -> 1385898.4 | F9: =SUM(F2:F8) -> 143713.55 | G9: =SUM(G2:G8) -> 1308276.2 | H9: =SUM(H2:H8) -> 164571.24 | I9: =SUM(I2:I8) -> 1143704.9 | J9: =SUM(J2:J8) -> 336313.91 | K9: =SUM(K2:K8) -> 807391 | L9: =SUM(L2:L8) -> 34453.85 | M9: =J9/I9 -> 0.29405654 | N9: =SUM(N2:N8) -> 330665.05 | O9: =N9/I9 -> 0.28911745
G10: =G9/1024 -> 1277.6134 | I10: =I9/1024 -> 1116.8993
J14: Row Labels | K14: Sum of Physical total | L14: Sum of Pool Usable | M14: Sum of Pool Used | N14: Sum of Host Allocations | O14: No of Arrays
J15: CGC | K15: 285733.83 | L15: 250017.1 | M15: 17992.3 | N15: 25322.4 | O15: =COUNTIF(A:A,J15) -> 1
J16: FDC | K16: 556927.98 | L16: 487030.43 | M16: 148896.67 | N16: 149334.37 | O16: =COUNTIF(A:A,J16) -> 3
J17: RDC | K17: 465614.35 | L17: 406657.38 | M17: 169424.94 | N17: 156008.27 | O17: =COUNTIF(A:A,J17) -> 3
J18: Grand Total | K18: 1308276.2 | L18: 1143704.9 | M18: 336313.91 | N18: 330665.05 | O18: =COUNTIF(A:A,J18) -> 0
O19: =SUM(O15:O18) -> 7
J22: CGC | K22: =K15/1024 -> 279.03694 | L22: =L15/1024 -> 244.15732 | M22: =M15/1024 -> 17.570605 | N22: =N15/1024 -> 24.728906 | O22: =O15 -> 1
J23: FDC | K23: =K16/1024 -> 543.87498 | L23: =L16/1024 -> 475.61566 | M23: =M16/1024 -> 145.40691 | N23: =N16/1024 -> 145.83435 | O23: =O16 -> 3
J24: RDC | K24: =K17/1024 -> 454.70151 | L24: =L17/1024 -> 397.12635 | M24: =M17/1024 -> 165.45404 | N24: =N17/1024 -> 152.35183 | O24: =O17 -> 3
J25: Grand Total | K25: =K18/1024 -> 1277.6134 | L25: =L18/1024 -> 1116.8993 | M25: =M18/1024 -> 328.43155 | N25: =N18/1024 -> 322.91509 | O25: =O19 -> 7

Sheet New Installs
A1: Loc | B1: Type | C1: Array | D1: Market Standard | E1: Column1 | F1: Column2 | G1: Column3 | H1: Column4 | I1: Column5 | J1: Column6 | K1: Column7 | L1: Column8 | M1: Column9 | N1: Column10 | O1: Column11
G7: =G6/1024 -> 0 | I7: =I6/1024 -> 0
G9: =G3/1024 -> 0 | I9: =I3/1024 -> 0

Sheet Exchange
A1: Loc | B1: Type | C1: Array | D1: Market Standard | E1: Formatted | F1: format Lost | G1: Physical total | H1: Parity Lost | I1: Pool Usable | J1: Pool Used | K1: Pool Free | L1: Spare | M1: %Used | N1: Host Allocations | O1: %Allocated
A2: =VLOOKUP(C:C,ALL_Pivot_new!B:D,2,FALSE) -> FDC | B2: =VLOOKUP(C:C,ALL_Pivot_new!B:D,3,FALSE) -> Clariion | C2: fdc1a-ax4-0033 | D2: =SUMIF(ALL_Pivot_new!B:B,C:C,ALL_Pivot_new!F:F) -> 7862.9051 | E2: =SUMIF(ALL_Pivot_new!B:B,C:C,ALL_Pivot_new!G:G) -> 7416.191 | F2: =SUMIF(ALL_Pivot_new!B:B,C:C,ALL_Pivot_new!H:H) -> 446.71403 | G2: =SUMIF(ALL_Pivot_new!B:B,C:C,ALL_Pivot_new!I:I) -> 7148.0955 | H2: =SUMIF(ALL_Pivot_new!B:B,C:C,ALL_Pivot_new!J:J) -> 3440 | I2: =SUMIF(ALL_Pivot_new!B:B,C:C,ALL_Pivot_new!K:K) -> 3708.0955 | J2: =SUMIF(ALL_Pivot_new!B:B,C:C,ALL_Pivot_new!L:L) -> 3602 | K2: =SUMIF(ALL_Pivot_new!B:B,C:C,ALL_Pivot_new!M:M) -> 106.09552 | L2: =SUMIF(ALL_Pivot_new!B:B,C:C,ALL_Pivot_new!N:N) -> 268.09552 | M2: =J2/I2 -> 0.97138814 | N2: =SUMIF(ALL_Pivot_new!B:B,C:C,ALL_Pivot_new!O:O) -> 3602 | O2: =N2/I2 -> 0.97138814
A3: =VLOOKUP(C:C,ALL_Pivot_new!B:D,2,FALSE) -> FDC | B3: =VLOOKUP(C:C,ALL_Pivot_new!B:D,3,FALSE) -> Clariion | C3: fdc1a-ax4-0039 | D3: =SUMIF(ALL_Pivot_new!B:B,C:C,ALL_Pivot_new!F:F) -> 7862.9051 | E3: =SUMIF(ALL_Pivot_new!B:B,C:C,ALL_Pivot_new!G:G) -> 7416.191 | F3: =SUMIF(ALL_Pivot_new!B:B,C:C,ALL_Pivot_new!H:H) -> 446.71403 | G3: =SUMIF(ALL_Pivot_new!B:B,C:C,ALL_Pivot_new!I:I) -> 7148.0955 | H3: =SUMIF(ALL_Pivot_new!B:B,C:C,ALL_Pivot_new!J:J) -> 3440 | I3: =SUMIF(ALL_Pivot_new!B:B,C:C,ALL_Pivot_new!K:K) -> 3708.0955 | J3: =SUMIF(ALL_Pivot_new!B:B,C:C,ALL_Pivot_new!L:L) -> 3602 | K3: =SUMIF(ALL_Pivot_new!B:B,C:C,ALL_Pivot_new!M:M) -> 106.09552 | L3: =SUMIF(ALL_Pivot_new!B:B,C:C,ALL_Pivot_new!N:N) -> 268.09552 | M3: =J3/I3 -> 0.97138814 | N3: =SUMIF(ALL_Pivot_new!B:B,C:C,ALL_Pivot_new!O:O) -> 3602 | O3: =N3/I3 -> 0.97138814
A4: =VLOOKUP(C:C,ALL_Pivot_new!B:D,2,FALSE) -> RDC | B4: =VLOOKUP(C:C,ALL_Pivot_new!B:D,3,FALSE) -> Clariion | C4: rdc1-ax4-0082 | D4: =SUMIF(ALL_Pivot_new!B:B,C:C,ALL_Pivot_new!F:F) -> 4078.9051 | E4: =SUMIF(ALL_Pivot_new!B:B,C:C,ALL_Pivot_new!G:G) -> 3976.191 | F4: =SUMIF(ALL_Pivot_new!B:B,C:C,ALL_Pivot_new!H:H) -> 102.71403 | G4: =SUMIF(ALL_Pivot_new!B:B,C:C,ALL_Pivot_new!I:I) -> 3708.0955 | H4: =SUMIF(ALL_Pivot_new!B:B,C:C,ALL_Pivot_new!J:J) -> 1720 | I4: =SUMIF(ALL_Pivot_new!B:B,C:C,ALL_Pivot_new!K:K) -> 1988.0955 | J4: =SUMIF(ALL_Pivot_new!B:B,C:C,ALL_Pivot_new!L:L) -> 1720 | K4: =SUMIF(ALL_Pivot_new!B:B,C:C,ALL_Pivot_new!M:M) -> 268.09552 | L4: =SUMIF(ALL_Pivot_new!B:B,C:C,ALL_Pivot_new!N:N) -> 268.09552 | M4: =J4/I4 -> 0.86514958 | N4: =SUMIF(ALL_Pivot_new!B:B,C:C,ALL_Pivot_new!O:O) -> 1720 | O4: =N4/I4 -> 0.86514958
A5: =VLOOKUP(C:C,ALL_Pivot_new!B:D,2,FALSE) -> RDC | B5: =VLOOKUP(C:C,ALL_Pivot_new!B:D,3,FALSE) -> Clariion | C5: rdc4-ac4-0576 | D5: =SUMIF(ALL_Pivot_new!B:B,C:C,ALL_Pivot_new!F:F) -> 20876.676 | E5: =SUMIF(ALL_Pivot_new!B:B,C:C,ALL_Pivot_new!G:G) -> 18978.796 | F5: =SUMIF(ALL_Pivot_new!B:B,C:C,ALL_Pivot_new!H:H) -> 1897.8796 | G5: =SUMIF(ALL_Pivot_new!B:B,C:C,ALL_Pivot_new!I:I) -> 18978.796 | H5: =SUMIF(ALL_Pivot_new!B:B,C:C,ALL_Pivot_new!J:J) -> 8964 | I5: =SUMIF(ALL_Pivot_new!B:B,C:C,ALL_Pivot_new!K:K) -> 10014.796 | J5: =SUMIF(ALL_Pivot_new!B:B,C:C,ALL_Pivot_new!L:L) -> 10014.796 | K5: =SUMIF(ALL_Pivot_new!B:B,C:C,ALL_Pivot_new!M:M) -> 0 | L5: =SUMIF(ALL_Pivot_new!B:B,C:C,ALL_Pivot_new!N:N) -> 1050.7964 | M5: =J5/I5 -> 1 | N5: =SUMIF(ALL_Pivot_new!B:B,C:C,ALL_Pivot_new!O:O) -> 10014.796 | O5: =N5/I5 -> 1
A6: =VLOOKUP(C:C,ALL_Pivot_new!B:D,2,FALSE) -> RDC | B6: =VLOOKUP(C:C,ALL_Pivot_new!B:D,3,FALSE) -> Clariion | C6: rdc4-ax4-0006 | D6: =SUMIF(ALL_Pivot_new!B:B,C:C,ALL_Pivot_new!F:F) -> 7862.9051 | E6: =SUMIF(ALL_Pivot_new!B:B,C:C,ALL_Pivot_new!G:G) -> 7416.191 | F6: =SUMIF(ALL_Pivot_new!B:B,C:C,ALL_Pivot_new!H:H) -> 446.71403 | G6: =SUMIF(ALL_Pivot_new!B:B,C:C,ALL_Pivot_new!I:I) -> 7148.0955 | H6: =SUMIF(ALL_Pivot_new!B:B,C:C,ALL_Pivot_new!J:J) -> 3440 | I6: =SUMIF(ALL_Pivot_new!B:B,C:C,ALL_Pivot_new!K:K) -> 3708.0955 | J6: =SUMIF(ALL_Pivot_new!B:B,C:C,ALL_Pivot_new!L:L) -> 3440 | K6: =SUMIF(ALL_Pivot_new!B:B,C:C,ALL_Pivot_new!M:M) -> 268.09552 | L6: =SUMIF(ALL_Pivot_new!B:B,C:C,ALL_Pivot_new!N:N) -> 268.09552 | M6: =J6/I6 -> 0.92769994 | N6: =SUMIF(ALL_Pivot_new!B:B,C:C,ALL_Pivot_new!O:O) -> 3440 | O6: =N6/I6 -> 0.92769994
A7: =VLOOKUP(C:C,ALL_Pivot_new!B:D,2,FALSE) -> RDC | B7: =VLOOKUP(C:C,ALL_Pivot_new!B:D,3,FALSE) -> Clariion | C7: rdc4-ax4-0007 | D7: =SUMIF(ALL_Pivot_new!B:B,C:C,ALL_Pivot_new!F:F) -> 7645.6551 | E7: =SUMIF(ALL_Pivot_new!B:B,C:C,ALL_Pivot_new!G:G) -> 7218.691 | F7: =SUMIF(ALL_Pivot_new!B:B,C:C,ALL_Pivot_new!H:H) -> 426.96403 | G7: =SUMIF(ALL_Pivot_new!B:B,C:C,ALL_Pivot_new!I:I) -> 6950.5955 | H7: =SUMIF(ALL_Pivot_new!B:B,C:C,ALL_Pivot_new!J:J) -> 3242.5 | I7: =SUMIF(ALL_Pivot_new!B:B,C:C,ALL_Pivot_new!K:K) -> 3708.0955 | J7: =SUMIF(ALL_Pivot_new!B:B,C:C,ALL_Pivot_new!L:L) -> 3708.0955 | K7: =SUMIF(ALL_Pivot_new!B:B,C:C,ALL_Pivot_new!M:M) -> 0 | L7: =SUMIF(ALL_Pivot_new!B:B,C:C,ALL_Pivot_new!N:N) -> 268.09552 | M7: =J7/I7 -> 1 | N7: =SUMIF(ALL_Pivot_new!B:B,C:C,ALL_Pivot_new!O:O) -> 3708.0955 | O7: =N7/I7 -> 1
A8: =VLOOKUP(C:C,ALL_Pivot_new!B:D,2,FALSE) -> FDC | B8: =VLOOKUP(C:C,ALL_Pivot_new!B:D,3,FALSE) -> Clariion | C8: fdc1a-ax4-0069 | D8: =SUMIF(ALL_Pivot_new!B:B,C:C,ALL_Pivot_new!F:F) -> 4078.9051 | E8: =SUMIF(ALL_Pivot_new!B:B,C:C,ALL_Pivot_new!G:G) -> 3976.191 | F8: =SUMIF(ALL_Pivot_new!B:B,C:C,ALL_Pivot_new!H:H) -> 102.71403 | G8: =SUMIF(ALL_Pivot_new!B:B,C:C,ALL_Pivot_new!I:I) -> 3708.0955 | H8: =SUMIF(ALL_Pivot_new!B:B,C:C,ALL_Pivot_new!J:J) -> 1720 | I8: =SUMIF(ALL_Pivot_new!B:B,C:C,ALL_Pivot_new!K:K) -> 1988.0955 | J8: =SUMIF(ALL_Pivot_new!B:B,C:C,ALL_Pivot_new!L:L) -> 1720 | K8: =SUMIF(ALL_Pivot_new!B:B,C:C,ALL_Pivot_new!M:M) -> 268.09552 | L8: =SUMIF(ALL_Pivot_new!B:B,C:C,ALL_Pivot_new!N:N) -> 268.09552 | M8: =J8/I8 -> 0.86514958 | N8: =SUMIF(ALL_Pivot_new!B:B,C:C,ALL_Pivot_new!O:O) -> 1720 | O8: =N8/I8 -> 0.86514958
A9: =VLOOKUP(C:C,ALL_Pivot_new!B:D,2,FALSE) -> Turkey DC | B9: =VLOOKUP(C:C,ALL_Pivot_new!B:D,3,FALSE) -> Clariion | C9: Turkey_AX4_Mailbox | D9: =SUMIF(ALL_Pivot_new!B:B,C:C,ALL_Pivot_new!F:F) -> 3962.2 | E9: =SUMIF(ALL_Pivot_new!B:B,C:C,ALL_Pivot_new!G:G) -> 3602 | F9: =SUMIF(ALL_Pivot_new!B:B,C:C,ALL_Pivot_new!H:H) -> 360.2 | G9: =SUMIF(ALL_Pivot_new!B:B,C:C,ALL_Pivot_new!I:I) -> 3602 | H9: =SUMIF(ALL_Pivot_new!B:B,C:C,ALL_Pivot_new!J:J) -> 1801 | I9: =SUMIF(ALL_Pivot_new!B:B,C:C,ALL_Pivot_new!K:K) -> 1801 | J9: =SUMIF(ALL_Pivot_new!B:B,C:C,ALL_Pivot_new!L:L) -> 1801 | K9: =SUMIF(ALL_Pivot_new!B:B,C:C,ALL_Pivot_new!M:M) -> 0 | L9: =SUMIF(ALL_Pivot_new!B:B,C:C,ALL_Pivot_new!N:N) -> 0 | M9: =J9/I9 -> 1 | N9: =SUMIF(ALL_Pivot_new!B:B,C:C,ALL_Pivot_new!O:O) -> 1801 | O9: =N9/I9 -> 1
A10: =VLOOKUP(C:C,ALL_Pivot_new!B:D,2,FALSE) -> Russia DC | B10: =VLOOKUP(C:C,ALL_Pivot_new!B:D,3,FALSE) -> Clariion | C10: pres-ax4-0062 | D10: =SUMIF(ALL_Pivot_new!B:B,C:C,ALL_Pivot_new!F:F) -> 23002.583 | E10: =SUMIF(ALL_Pivot_new!B:B,C:C,ALL_Pivot_new!G:G) -> 20911.439 | F10: =SUMIF(ALL_Pivot_new!B:B,C:C,ALL_Pivot_new!H:H) -> 2091.1439 | G10: =SUMIF(ALL_Pivot_new!B:B,C:C,ALL_Pivot_new!I:I) -> 20911.439 | H10: =SUMIF(ALL_Pivot_new!B:B,C:C,ALL_Pivot_new!J:J) -> 10455.72 | I10: =SUMIF(ALL_Pivot_new!B:B,C:C,ALL_Pivot_new!K:K) -> 10455.72 | J10: =SUMIF(ALL_Pivot_new!B:B,C:C,ALL_Pivot_new!L:L) -> 10455.72 | K10: =SUMIF(ALL_Pivot_new!B:B,C:C,ALL_Pivot_new!M:M) -> 0 | L10: =SUMIF(ALL_Pivot_new!B:B,C:C,ALL_Pivot_new!N:N) -> 0 | M10: =J10/I10 -> 1 | N10: =SUMIF(ALL_Pivot_new!B:B,C:C,ALL_Pivot_new!O:O) -> 10455.72 | O10: =N10/I10 -> 1
A11: =VLOOKUP(C:C,ALL_Pivot_new!B:D,2,FALSE) -> Russia DC | B11: =VLOOKUP(C:C,ALL_Pivot_new!B:D,3,FALSE) -> Clariion | C11: prof-ax4-0054 | D11: =SUMIF(ALL_Pivot_new!B:B,C:C,ALL_Pivot_new!F:F) -> 23002.583 | E11: =SUMIF(ALL_Pivot_new!B:B,C:C,ALL_Pivot_new!G:G) -> 20911.439 | F11: =SUMIF(ALL_Pivot_new!B:B,C:C,ALL_Pivot_new!H:H) -> 2091.1439 | G11: =SUMIF(ALL_Pivot_new!B:B,C:C,ALL_Pivot_new!I:I) -> 20911.439 | H11: =SUMIF(ALL_Pivot_new!B:B,C:C,ALL_Pivot_new!J:J) -> 10455.72 | I11: =SUMIF(ALL_Pivot_new!B:B,C:C,ALL_Pivot_new!K:K) -> 10455.72 | J11: =SUMIF(ALL_Pivot_new!B:B,C:C,ALL_Pivot_new!L:L) -> 10455.72 | K11: =SUMIF(ALL_Pivot_new!B:B,C:C,ALL_Pivot_new!M:M) -> 0 | L11: =SUMIF(ALL_Pivot_new!B:B,C:C,ALL_Pivot_new!N:N) -> 0 | M11: =J11/I11 -> 1 | N11: =SUMIF(ALL_Pivot_new!B:B,C:C,ALL_Pivot_new!O:O) -> 10455.72 | O11: =N11/I11 -> 1
A12: =VLOOKUP(C:C,ALL_Pivot_new!B:D,2,FALSE) -> Russia DC | B12: =VLOOKUP(C:C,ALL_Pivot_new!B:D,3,FALSE) -> Clariion | C12: prof-ax4-0127 | D12: =SUMIF(ALL_Pivot_new!B:B,C:C,ALL_Pivot_new!F:F) -> 8847.1453 | E12: =SUMIF(ALL_Pivot_new!B:B,C:C,ALL_Pivot_new!G:G) -> 8042.8594 | F12: =SUMIF(ALL_Pivot_new!B:B,C:C,ALL_Pivot_new!H:H) -> 804.28594 | G12: =SUMIF(ALL_Pivot_new!B:B,C:C,ALL_Pivot_new!I:I) -> 8042.8594 | H12: =SUMIF(ALL_Pivot_new!B:B,C:C,ALL_Pivot_new!J:J) -> 4021.4297 | I12: =SUMIF(ALL_Pivot_new!B:B,C:C,ALL_Pivot_new!K:K) -> 4021.4297 | J12: =SUMIF(ALL_Pivot_new!B:B,C:C,ALL_Pivot_new!L:L) -> 4021.4297 | K12: =SUMIF(ALL_Pivot_new!B:B,C:C,ALL_Pivot_new!M:M) -> 0 | L12: =SUMIF(ALL_Pivot_new!B:B,C:C,ALL_Pivot_new!N:N) -> 0 | M12: =J12/I12 -> 1 | N12: =SUMIF(ALL_Pivot_new!B:B,C:C,ALL_Pivot_new!O:O) -> 4021.4297 | O12: =N12/I12 -> 1
A13: =VLOOKUP(C:C,ALL_Pivot_new!B:D,2,FALSE) -> Russia DC | B13: =VLOOKUP(C:C,ALL_Pivot_new!B:D,3,FALSE) -> Clariion | C13: prof-ax4-0103 | D13: =SUMIF(ALL_Pivot_new!B:B,C:C,ALL_Pivot_new!F:F) -> 8847.1453 | E13: =SUMIF(ALL_Pivot_new!B:B,C:C,ALL_Pivot_new!G:G) -> 8042.8594 | F13: =SUMIF(ALL_Pivot_new!B:B,C:C,ALL_Pivot_new!H:H) -> 804.28594 | G13: =SUMIF(ALL_Pivot_new!B:B,C:C,ALL_Pivot_new!I:I) -> 8042.8594 | H13: =SUMIF(ALL_Pivot_new!B:B,C:C,ALL_Pivot_new!J:J) -> 4021.4297 | I13: =SUMIF(ALL_Pivot_new!B:B,C:C,ALL_Pivot_new!K:K) -> 4021.4297 | J13: =SUMIF(ALL_Pivot_new!B:B,C:C,ALL_Pivot_new!L:L) -> 4021.4297 | K13: =SUMIF(ALL_Pivot_new!B:B,C:C,ALL_Pivot_new!M:M) -> 0 | L13: =SUMIF(ALL_Pivot_new!B:B,C:C,ALL_Pivot_new!N:N) -> 0 | M13: =J13/I13 -> 1 | N13: =SUMIF(ALL_Pivot_new!B:B,C:C,ALL_Pivot_new!O:O) -> 4021.4297 | O13: =N13/I13 -> 1
... A17: =VLOOKUP(C:C,ALL_Pivot_new!B:D,2,FALSE) -> FDC | B17: =VLOOKUP(C:C,ALL_Pivot_new!B:D,3,FALSE) -> VNX | C17: DEOLC002N0375 | D17: =SUMIF(ALL_Pivot_new!B:B,C:C,ALL_Pivot_new!F:F) -> 472031.98 | E17: =SUMIF(ALL_Pivot_new!B:B,C:C,ALL_Pivot_new!G:G) -> 429119.99 | F17: =SUMIF(ALL_Pivot_new!B:B,C:C,ALL_Pivot_new!H:H) -> 42911.999 | G17: =SUMIF(ALL_Pivot_new!B:B,C:C,ALL_Pivot_new!I:I) -> 293078.14 | H17: =SUMIF(ALL_Pivot_new!B:B,C:C,ALL_Pivot_new!J:J) -> 80331.139 | I17: =SUMIF(ALL_Pivot_new!B:B,C:C,ALL_Pivot_new!K:K) -> 212747 | J17: =SUMIF(ALL_Pivot_new!B:B,C:C,ALL_Pivot_new!L:L) -> 178168 | K17: =SUMIF(ALL_Pivot_new!B:B,C:C,ALL_Pivot_new!M:M) -> 34579 | L17: =SUMIF(ALL_Pivot_new!B:B,C:C,ALL_Pivot_new!N:N) -> 0 | M17: =J17/I17 -> 0.83746422 | N17: =SUMIF(ALL_Pivot_new!B:B,C:C,ALL_Pivot_new!O:O) -> 178168 | O17: =N17/I17 -> 0.83746422
B18: Total | D18: =SUM(D2:D17) -> 3028284.7 | E18: =SUM(E2:E17) -> 2754595.1 | F18: =SUM(F2:F17) -> 273689.6 | G18: =SUM(G2:G17) -> 2385834.9 | H18: =SUM(H2:H17) -> 959187.18 | I18: =SUM(I2:I17) -> 1426647.7 | J18: =SUM(J2:J17) -> 1322747.2 | K18: =SUM(K2:K17) -> 103900.48 | L18: =SUM(L2:L17) -> 2659.3696 | M18: =J18/I18 -> 0.92717159 | N18: =SUM(N2:N17) -> 1322747.2 | O18: =N18/I18 -> 0.92717159
G19: =G18/1024 -> 2329.9168 | I19: =I18/1024 -> 1393.2106

Sheet Unable to Report
A1: Loc | B1: Type | C1: Array | D1: Market Standard | E1: Formatted | F1: format Lost | G1: Physical total | H1: Parity Lost | I1: Pool Usable | J1: Pool Used | K1: Pool Free | L1: Spare | M1: %Used | N1: Host Allocations | O1: %Allocated
A2: =VLOOKUP(C:C,ALL_Pivot_new!B:D,2,FALSE) -> #N/A | B2: =VLOOKUP(C:C,ALL_Pivot_new!B:D,3,FALSE) -> #N/A | D2: =SUMIF(ALL_Pivot_new!B:B,C:C,ALL_Pivot_new!F:F) -> 0 | E2: =SUMIF(ALL_Pivot_new!B:B,C:C,ALL_Pivot_new!G:G) -> 0 | F2: =SUMIF(ALL_Pivot_new!B:B,C:C,ALL_Pivot_new!H:H) -> 0 | G2: =SUMIF(ALL_Pivot_new!B:B,C:C,ALL_Pivot_new!I:I) -> 0 | H2: =SUMIF(ALL_Pivot_new!B:B,C:C,ALL_Pivot_new!J:J) -> 0 | I2: =SUMIF(ALL_Pivot_new!B:B,C:C,ALL_Pivot_new!K:K) -> 0 | J2: =SUMIF(ALL_Pivot_new!B:B,C:C,ALL_Pivot_new!L:L) -> 0 | K2: =SUMIF(ALL_Pivot_new!B:B,C:C,ALL_Pivot_new!M:M) -> 0 | L2: =SUMIF(ALL_Pivot_new!B:B,C:C,ALL_Pivot_new!N:N) -> 0 | M2: =J2/I2 -> #DIV/0! | N2: =SUMIF(ALL_Pivot_new!B:B,C:C,ALL_Pivot_new!O:O) -> 0 | O2: =N2/I2 -> #DIV/0!
A3: =VLOOKUP(C:C,ALL_Pivot_new!B:D,2,FALSE) -> #N/A | B3: =VLOOKUP(C:C,ALL_Pivot_new!B:D,3,FALSE) -> #N/A | D3: =SUMIF(ALL_Pivot_new!B:B,C:C,ALL_Pivot_new!F:F) -> 0 | E3: =SUMIF(ALL_Pivot_new!B:B,C:C,ALL_Pivot_new!G:G) -> 0 | F3: =SUMIF(ALL_Pivot_new!B:B,C:C,ALL_Pivot_new!H:H) -> 0 | G3: =SUMIF(ALL_Pivot_new!B:B,C:C,ALL_Pivot_new!I:I) -> 0 | H3: =SUMIF(ALL_Pivot_new!B:B,C:C,ALL_Pivot_new!J:J) -> 0 | I3: =SUMIF(ALL_Pivot_new!B:B,C:C,ALL_Pivot_new!K:K) -> 0 | J3: =SUMIF(ALL_Pivot_new!B:B,C:C,ALL_Pivot_new!L:L) -> 0 | K3: =SUMIF(ALL_Pivot_new!B:B,C:C,ALL_Pivot_new!M:M) -> 0 | L3: =SUMIF(ALL_Pivot_new!B:B,C:C,ALL_Pivot_new!N:N) -> 0 | M3: =J3/I3 -> #DIV/0! | N3: =SUMIF(ALL_Pivot_new!B:B,C:C,ALL_Pivot_new!O:O) -> 0 | O3: =N3/I3 -> #DIV/0!
A4: =VLOOKUP(C:C,ALL_Pivot_new!B:D,2,FALSE) -> #N/A | B4: =VLOOKUP(C:C,ALL_Pivot_new!B:D,3,FALSE) -> #N/A | D4: =SUMIF(ALL_Pivot_new!B:B,C:C,ALL_Pivot_new!F:F) -> 0 | E4: =SUMIF(ALL_Pivot_new!B:B,C:C,ALL_Pivot_new!G:G) -> 0 | F4: =SUMIF(ALL_Pivot_new!B:B,C:C,ALL_Pivot_new!H:H) -> 0 | G4: =SUMIF(ALL_Pivot_new!B:B,C:C,ALL_Pivot_new!I:I) -> 0 | H4: =SUMIF(ALL_Pivot_new!B:B,C:C,ALL_Pivot_new!J:J) -> 0 | I4: =SUMIF(ALL_Pivot_new!B:B,C:C,ALL_Pivot_new!K:K) -> 0 | J4: =SUMIF(ALL_Pivot_new!B:B,C:C,ALL_Pivot_new!L:L) -> 0 | K4: =SUMIF(ALL_Pivot_new!B:B,C:C,ALL_Pivot_new!M:M) -> 0 | L4: =SUMIF(ALL_Pivot_new!B:B,C:C,ALL_Pivot_new!N:N) -> 0 | M4: =J4/I4 -> #DIV/0! | N4: =SUMIF(ALL_Pivot_new!B:B,C:C,ALL_Pivot_new!O:O) -> 0 | O4: =N4/I4 -> #DIV/0!
A5: =VLOOKUP(C:C,ALL_Pivot_new!B:D,2,FALSE) -> #N/A | B5: =VLOOKUP(C:C,ALL_Pivot_new!B:D,3,FALSE) -> #N/A | D5: =SUMIF(ALL_Pivot_new!B:B,C:C,ALL_Pivot_new!F:F) -> 0 | E5: =SUMIF(ALL_Pivot_new!B:B,C:C,ALL_Pivot_new!G:G) -> 0 | F5: =SUMIF(ALL_Pivot_new!B:B,C:C,ALL_Pivot_new!H:H) -> 0 | G5: =SUMIF(ALL_Pivot_new!B:B,C:C,ALL_Pivot_new!I:I) -> 0 | H5: =SUMIF(ALL_Pivot_new!B:B,C:C,ALL_Pivot_new!J:J) -> 0 | I5: =SUMIF(ALL_Pivot_new!B:B,C:C,ALL_Pivot_new!K:K) -> 0 | J5: =SUMIF(ALL_Pivot_new!B:B,C:C,ALL_Pivot_new!L:L) -> 0 | K5: =SUMIF(ALL_Pivot_new!B:B,C:C,ALL_Pivot_new!M:M) -> 0 | L5: =SUMIF(ALL_Pivot_new!B:B,C:C,ALL_Pivot_new!N:N) -> 0 | M5: =J5/I5 -> #DIV/0! | N5: =SUMIF(ALL_Pivot_new!B:B,C:C,ALL_Pivot_new!O:O) -> 0 | O5: =N5/I5 -> #DIV/0!
A6: =VLOOKUP(C:C,ALL_Pivot_new!B:D,2,FALSE) -> #N/A | B6: =VLOOKUP(C:C,ALL_Pivot_new!B:D,3,FALSE) -> #N/A | D6: =SUMIF(ALL_Pivot_new!B:B,C:C,ALL_Pivot_new!F:F) -> 0 | E6: =SUMIF(ALL_Pivot_new!B:B,C:C,ALL_Pivot_new!G:G) -> 0 | F6: =SUMIF(ALL_Pivot_new!B:B,C:C,ALL_Pivot_new!H:H) -> 0 | G6: =SUMIF(ALL_Pivot_new!B:B,C:C,ALL_Pivot_new!I:I) -> 0 | H6: =SUMIF(ALL_Pivot_new!B:B,C:C,ALL_Pivot_new!J:J) -> 0 | I6: =SUMIF(ALL_Pivot_new!B:B,C:C,ALL_Pivot_new!K:K) -> 0 | J6: =SUMIF(ALL_Pivot_new!B:B,C:C,ALL_Pivot_new!L:L) -> 0 | K6: =SUMIF(ALL_Pivot_new!B:B,C:C,ALL_Pivot_new!M:M) -> 0 | L6: =SUMIF(ALL_Pivot_new!B:B,C:C,ALL_Pivot_new!N:N) -> 0 | M6: =J6/I6 -> #DIV/0! | N6: =SUMIF(ALL_Pivot_new!B:B,C:C,ALL_Pivot_new!O:O) -> 0 | O6: =N6/I6 -> #DIV/0!
A7: =VLOOKUP(C:C,ALL_Pivot_new!B:D,2,FALSE) -> #N/A | B7: =VLOOKUP(C:C,ALL_Pivot_new!B:D,3,FALSE) -> #N/A | D7: =SUMIF(ALL_Pivot_new!B:B,C:C,ALL_Pivot_new!F:F) -> 0 | E7: =SUMIF(ALL_Pivot_new!B:B,C:C,ALL_Pivot_new!G:G) -> 0 | F7: =SUMIF(ALL_Pivot_new!B:B,C:C,ALL_Pivot_new!H:H) -> 0 | G7: =SUMIF(ALL_Pivot_new!B:B,C:C,ALL_Pivot_new!I:I) -> 0 | H7: =SUMIF(ALL_Pivot_new!B:B,C:C,ALL_Pivot_new!J:J) -> 0 | I7: =SUMIF(ALL_Pivot_new!B:B,C:C,ALL_Pivot_new!K:K) -> 0 | J7: =SUMIF(ALL_Pivot_new!B:B,C:C,ALL_Pivot_new!L:L) -> 0 | K7: =SUMIF(ALL_Pivot_new!B:B,C:C,ALL_Pivot_new!M:M) -> 0 | L7: =SUMIF(ALL_Pivot_new!B:B,C:C,ALL_Pivot_new!N:N) -> 0 | M7: =J7/I7 -> #DIV/0! | N7: =SUMIF(ALL_Pivot_new!B:B,C:C,ALL_Pivot_new!O:O) -> 0 | O7: =N7/I7 -> #DIV/0!
A8: =VLOOKUP(C:C,ALL_Pivot_new!B:D,2,FALSE) -> #N/A | B8: =VLOOKUP(C:C,ALL_Pivot_new!B:D,3,FALSE) -> #N/A | D8: =SUMIF(ALL_Pivot_new!B:B,C:C,ALL_Pivot_new!F:F) -> 0 | E8: =SUMIF(ALL_Pivot_new!B:B,C:C,ALL_Pivot_new!G:G) -> 0 | F8: =SUMIF(ALL_Pivot_new!B:B,C:C,ALL_Pivot_new!H:H) -> 0 | G8: =SUMIF(ALL_Pivot_new!B:B,C:C,ALL_Pivot_new!I:I) -> 0 | H8: =SUMIF(ALL_Pivot_new!B:B,C:C,ALL_Pivot_new!J:J) -> 0 | I8: =SUMIF(ALL_Pivot_new!B:B,C:C,ALL_Pivot_new!K:K) -> 0 | J8: =SUMIF(ALL_Pivot_new!B:B,C:C,ALL_Pivot_new!L:L) -> 0 | K8: =SUMIF(ALL_Pivot_new!B:B,C:C,ALL_Pivot_new!M:M) -> 0 | L8: =SUMIF(ALL_Pivot_new!B:B,C:C,ALL_Pivot_new!N:N) -> 0 | M8: =J8/I8 -> #DIV/0! | N8: =SUMIF(ALL_Pivot_new!B:B,C:C,ALL_Pivot_new!O:O) -> 0 | O8: =N8/I8 -> #DIV/0!
A9: =VLOOKUP(C:C,ALL_Pivot_new!B:D,2,FALSE) -> #N/A | B9: =VLOOKUP(C:C,ALL_Pivot_new!B:D,3,FALSE) -> #N/A | D9: =SUMIF(ALL_Pivot_new!B:B,C:C,ALL_Pivot_new!F:F) -> 0 | E9: =SUMIF(ALL_Pivot_new!B:B,C:C,ALL_Pivot_new!G:G) -> 0 | F9: =SUMIF(ALL_Pivot_new!B:B,C:C,ALL_Pivot_new!H:H) -> 0 | G9: =SUMIF(ALL_Pivot_new!B:B,C:C,ALL_Pivot_new!I:I) -> 0 | H9: =SUMIF(ALL_Pivot_new!B:B,C:C,ALL_Pivot_new!J:J) -> 0 | I9: =SUMIF(ALL_Pivot_new!B:B,C:C,ALL_Pivot_new!K:K) -> 0 | J9: =SUMIF(ALL_Pivot_new!B:B,C:C,ALL_Pivot_new!L:L) -> 0 | K9: =SUMIF(ALL_Pivot_new!B:B,C:C,ALL_Pivot_new!M:M) -> 0 | L9: =SUMIF(ALL_Pivot_new!B:B,C:C,ALL_Pivot_new!N:N) -> 0 | M9: =J9/I9 -> #DIV/0! | N9: =SUMIF(ALL_Pivot_new!B:B,C:C,ALL_Pivot_new!O:O) -> 0 | O9: =N9/I9 -> #DIV/0!
A10: =VLOOKUP(C:C,ALL_Pivot_new!B:D,2,FALSE) -> #N/A | B10: =VLOOKUP(C:C,ALL_Pivot_new!B:D,3,FALSE) -> #N/A | D10: =SUMIF(ALL_Pivot_new!B:B,C:C,ALL_Pivot_new!F:F) -> 0 | E10: =SUMIF(ALL_Pivot_new!B:B,C:C,ALL_Pivot_new!G:G) -> 0 | F10: =SUMIF(ALL_Pivot_new!B:B,C:C,ALL_Pivot_new!H:H) -> 0 | G10: =SUMIF(ALL_Pivot_new!B:B,C:C,ALL_Pivot_new!I:I) -> 0 | H10: =SUMIF(ALL_Pivot_new!B:B,C:C,ALL_Pivot_new!J:J) -> 0 | I10: =SUMIF(ALL_Pivot_new!B:B,C:C,ALL_Pivot_new!K:K) -> 0 | J10: =SUMIF(ALL_Pivot_new!B:B,C:C,ALL_Pivot_new!L:L) -> 0 | K10: =SUMIF(ALL_Pivot_new!B:B,C:C,ALL_Pivot_new!M:M) -> 0 | L10: =SUMIF(ALL_Pivot_new!B:B,C:C,ALL_Pivot_new!N:N) -> 0 | M10: =J10/I10 -> #DIV/0! | N10: =SUMIF(ALL_Pivot_new!B:B,C:C,ALL_Pivot_new!O:O) -> 0 | O10: =N10/I10 -> #DIV/0!
A11: =VLOOKUP(C:C,ALL_Pivot_new!B:D,2,FALSE) -> #N/A | B11: =VLOOKUP(C:C,ALL_Pivot_new!B:D,3,FALSE) -> #N/A | D11: =SUMIF(ALL_Pivot_new!B:B,C:C,ALL_Pivot_new!F:F) -> 0 | E11: =SUMIF(ALL_Pivot_new!B:B,C:C,ALL_Pivot_new!G:G) -> 0 | F11: =SUMIF(ALL_Pivot_new!B:B,C:C,ALL_Pivot_new!H:H) -> 0 | G11: =SUMIF(ALL_Pivot_new!B:B,C:C,ALL_Pivot_new!I:I) -> 0 | H11: =SUMIF(ALL_Pivot_new!B:B,C:C,ALL_Pivot_new!J:J) -> 0 | I11: =SUMIF(ALL_Pivot_new!B:B,C:C,ALL_Pivot_new!K:K) -> 0 | J11: =SUMIF(ALL_Pivot_new!B:B,C:C,ALL_Pivot_new!L:L) -> 0 | K11: =SUMIF(ALL_Pivot_new!B:B,C:C,ALL_Pivot_new!M:M) -> 0 | L11: =SUMIF(ALL_Pivot_new!B:B,C:C,ALL_Pivot_new!N:N) -> 0 | M11: =J11/I11 -> #DIV/0! | N11: =SUMIF(ALL_Pivot_new!B:B,C:C,ALL_Pivot_new!O:O) -> 0 | O11: =N11/I11 -> #DIV/0!
A12: =VLOOKUP(C:C,ALL_Pivot_new!B:D,2,FALSE) -> #N/A | B12: =VLOOKUP(C:C,ALL_Pivot_new!B:D,3,FALSE) -> #N/A | D12: =SUMIF(ALL_Pivot_new!B:B,C:C,ALL_Pivot_new!F:F) -> 0 | E12: =SUMIF(ALL_Pivot_new!B:B,C:C,ALL_Pivot_new!G:G) -> 0 | F12: =SUMIF(ALL_Pivot_new!B:B,C:C,ALL_Pivot_new!H:H) -> 0 | G12: =SUMIF(ALL_Pivot_new!B:B,C:C,ALL_Pivot_new!I:I) -> 0 | H12: =SUMIF(ALL_Pivot_new!B:B,C:C,ALL_Pivot_new!J:J) -> 0 | I12: =SUMIF(ALL_Pivot_new!B:B,C:C,ALL_Pivot_new!K:K) -> 0 | J12: =SUMIF(ALL_Pivot_new!B:B,C:C,ALL_Pivot_new!L:L) -> 0 | K12: =SUMIF(ALL_Pivot_new!B:B,C:C,ALL_Pivot_new!M:M) -> 0 | L12: =SUMIF(ALL_Pivot_new!B:B,C:C,ALL_Pivot_new!N:N) -> 0 | M12: =J12/I12 -> #DIV/0! | N12: =SUMIF(ALL_Pivot_new!B:B,C:C,ALL_Pivot_new!O:O) -> 0 | O12: =N12/I12 -> #DIV/0!
A13: =VLOOKUP(C:C,ALL_Pivot_new!B:D,2,FALSE) -> #N/A | B13: =VLOOKUP(C:C,ALL_Pivot_new!B:D,3,FALSE) -> #N/A | D13: =SUMIF(ALL_Pivot_new!B:B,C:C,ALL_Pivot_new!F:F) -> 0 | E13: =SUMIF(ALL_Pivot_new!B:B,C:C,ALL_Pivot_new!G:G) -> 0 | F13: =SUMIF(ALL_Pivot_new!B:B,C:C,ALL_Pivot_new!H:H) -> 0 | G13: =SUMIF(ALL_Pivot_new!B:B,C:C,ALL_Pivot_new!I:I) -> 0 | H13: =SUMIF(ALL_Pivot_new!B:B,C:C,ALL_Pivot_new!J:J) -> 0 | I13: =SUMIF(ALL_Pivot_new!B:B,C:C,ALL_Pivot_new!K:K) -> 0 | J13: =SUMIF(ALL_Pivot_new!B:B,C:C,ALL_Pivot_new!L:L) -> 0 | K13: =SUMIF(ALL_Pivot_new!B:B,C:C,ALL_Pivot_new!M:M) -> 0 | L13: =SUMIF(ALL_Pivot_new!B:B,C:C,ALL_Pivot_new!N:N) -> 0 | M13: =J13/I13 -> #DIV/0! | N13: =SUMIF(ALL_Pivot_new!B:B,C:C,ALL_Pivot_new!O:O) -> 0 | O13: =N13/I13 -> #DIV/0!
... A15: =VLOOKUP(C:C,ALL_Pivot_new!B:D,2,FALSE) -> #N/A | B15: =VLOOKUP(C:C,ALL_Pivot_new!B:D,3,FALSE) -> #N/A | D15: =SUMIF(ALL_Pivot_new!B:B,C:C,ALL_Pivot_new!F:F) -> 0 | E15: =SUMIF(ALL_Pivot_new!B:B,C:C,ALL_Pivot_new!G:G) -> 0 | F15: =SUMIF(ALL_Pivot_new!B:B,C:C,ALL_Pivot_new!H:H) -> 0 | G15: =SUMIF(ALL_Pivot_new!B:B,C:C,ALL_Pivot_new!I:I) -> 0 | H15: =SUMIF(ALL_Pivot_new!B:B,C:C,ALL_Pivot_new!J:J) -> 0 | I15: =SUMIF(ALL_Pivot_new!B:B,C:C,ALL_Pivot_new!K:K) -> 0 | J15: =SUMIF(ALL_Pivot_new!B:B,C:C,ALL_Pivot_new!L:L) -> 0 | K15: =SUMIF(ALL_Pivot_new!B:B,C:C,ALL_Pivot_new!M:M) -> 0 | L15: =SUMIF(ALL_Pivot_new!B:B,C:C,ALL_Pivot_new!N:N) -> 0 | M15: =J15/I15 -> #DIV/0! | N15: =SUMIF(ALL_Pivot_new!B:B,C:C,ALL_Pivot_new!O:O) -> 0 | O15: =N15/I15 -> #DIV/0!
B16: Total | D16: =SUM(D2:D15) -> 0 | E16: =SUM(E2:E15) -> 0 | F16: =SUM(F2:F15) -> 0 | G16: =SUM(G2:G15) -> 0 | H16: =SUM(H2:H15) -> 0 | I16: =SUM(I2:I15) -> 0 | J16: =SUM(J2:J15) -> 0 | K16: =SUM(K2:K15) -> 0 | L16: =SUM(L2:L15) -> 0 | M16: =J16/I16 -> #DIV/0! | N16: =SUM(N2:N15) -> 0 | O16: =N16/I16 -> #DIV/0!
G17: =G16/1024 -> 0 | I17: =I16/1024 -> 0

Sheet MOR Report Purpose
A1: Location | B1: Raw installed (TB) | C1: Usable Installed (TB) | D1: Used Installed (TB) | E1: Allocated (TB) | F1: Percent Allocated (Allocated Usable) | G1: Percent Used (Used/Usable | H1: No of Frames
A2: Swiss | B2: =SUMIF('Final MOR'!A:A,A2:A6,'Final MOR'!G:G)/1024 -> 153.57765 | C2: =SUMIF('Final MOR'!A:A,A2:A6,'Final MOR'!I:I)/1024 -> 90.638086 | D2: =SUMIF('Final MOR'!A:A,A2:A6,'Final MOR'!J:J)/1024 -> 33.547949 | E2: =SUMIF('Final MOR'!A:A,A2:A6,'Final MOR'!N:N)/1024 -> 101.71025 | F2: =E2/C2 -> 1.122158 | G2: =D2/C2 -> 0.37013082 | H2: =COUNTIF('Final MOR'!A:A,A:A) -> 2 | I2: =COUNTIF('Final MOR'!A1:A46,A1:A7) -> 2
A3: RDC | B3: =SUMIF('Final MOR'!A:A,A3:A7,'Final MOR'!G:G)/1024 -> 4740.7362 | C3: =SUMIF('Final MOR'!A:A,A3:A7,'Final MOR'!I:I)/1024 -> 3008.5566 | D3: =SUMIF('Final MOR'!A:A,A3:A7,'Final MOR'!J:J)/1024 -> 1484.7925 | E3: =SUMIF('Final MOR'!A:A,A3:A7,'Final MOR'!N:N)/1024 -> 2653.7851 | F3: =E3/C3 -> 0.88207915 | G3: =D3/C3 -> 0.49352319 | H3: =COUNTIF('Final MOR'!A:A,A:A) -> 20 | I3: =COUNTIF('Final MOR'!A1:A46,A1:A7) -> 20
A4: FDC | B4: =SUMIF('Final MOR'!A:A,A4:A8,'Final MOR'!G:G)/1024 -> 4731.3938 | C4: =SUMIF('Final MOR'!A:A,A4:A8,'Final MOR'!I:I)/1024 -> 2929.7832 | D4: =SUMIF('Final MOR'!A:A,A4:A8,'Final MOR'!J:J)/1024 -> 1642.8027 | E4: =SUMIF('Final MOR'!A:A,A4:A8,'Final MOR'!N:N)/1024 -> 2659.1007 | F4: =E4/C4 -> 0.90761005 | G4: =D4/C4 -> 0.56072501 | H4: =COUNTIF('Final MOR'!A:A,A:A) -> 18 | I4: =COUNTIF('Final MOR'!A1:A46,A1:A7) -> 18
A5: cgc | B5: =SUMIF('Final MOR'!A:A,A5:A8,'Final MOR'!G:G)/1024 -> 734.46713 | C5: =SUMIF('Final MOR'!A:A,A5:A8,'Final MOR'!I:I)/1024 -> 444.39754 | D5: =SUMIF('Final MOR'!A:A,A5:A8,'Final MOR'!J:J)/1024 -> 220.67695 | E5: =SUMIF('Final MOR'!A:A,A5:A8,'Final MOR'!N:N)/1024 -> 320.09473 | F5: =E5/C5 -> 0.72028915 | G5: =D5/C5 -> 0.49657555 | H5: =COUNTIF('Final MOR'!A:A,A:A) -> 4 | I5: =COUNTIF('Final MOR'!A1:A46,A1:A7) -> 4
A6: welle | B6: =SUMIF('Final MOR'!A:A,A6:A9,'Final MOR'!G:G)/1024 -> 5.2734375 | C6: =SUMIF('Final MOR'!A:A,A6:A9,'Final MOR'!I:I)/1024 -> 4.6142578 | D6: =SUMIF('Final MOR'!A:A,A6:A9,'Final MOR'!J:J)/1024 -> 4.1816406 | E6: =SUMIF('Final MOR'!A:A,A6:A9,'Final MOR'!N:N)/1024 -> 4.1816406 | F6: =E6/C6 -> 0.90624339 | G6: =D6/C6 -> 0.90624339 | H6: =COUNTIF('Final MOR'!A:A,A:A) -> 1 | I6: =COUNTIF('Final MOR'!A1:A46,A1:A7) -> 1
A7: Total | B7: =SUM(B2:B6) -> 10365.448 | C7: =SUM(C2:C6) -> 6477.9897 | D7: =SUM(D2:D6) -> 3386.0017 | E7: =SUM(E2:E6) -> 5738.8724 | F7: =E7/C7 -> 0.88590328 | G7: =D7/C7 -> 0.52269328 | H7: =SUM(H2:H6) -> 45 | I7: =SUM(I2:I6) -> 45
A10: Location | B10: Raw installed (TB) | C10: Usable Installed (TB) | D10: Used Installed (TB) | E10: Allocated (TB) | F10: Percent Allocated (Allocated Usable) | G10: Percent Used (Used/Usable | H10: No of Frames
A11: vmax | B11: =SUMIF('Final MOR'!B:B,A:A,'Final MOR'!G:G)/1024 -> 8302.6437 | C11: =SUMIF('Final MOR'!B:B,A:A,'Final MOR'!I:I)/1024 -> 5040.3847 | D11: =SUMIF('Final MOR'!B:B,A:A,'Final MOR'!J:J)/1024 -> 2552.0304 | E11: =SUMIF('Final MOR'!B:B,A:A,'Final MOR'!N:N)/1024 -> 4903.0035 | F11: =E11/C11 -> 0.97274392 | G11: =D11/C11 -> 0.50631659 | H11: =COUNTIF('Final MOR'!B:B,A:A) -> 34
A12: HDS | B12: =SUMIF('Final MOR'!B:B,A:A,'Final MOR'!G:G)/1024 -> 1116.7579 | C12: =SUMIF('Final MOR'!B:B,A:A,'Final MOR'!I:I)/1024 -> 964.5817 | D12: =SUMIF('Final MOR'!B:B,A:A,'Final MOR'!J:J)/1024 -> 590.72032 | E12: =SUMIF('Final MOR'!B:B,A:A,'Final MOR'!N:N)/1024 -> 590.72032 | F12: =E12/C12 -> 0.61241087 | G12: =D12/C12 -> 0.61241087 | H12: =COUNTIF('Final MOR'!B:B,A:A) -> 7
A13: VNX | B13: =SUMIF('Final MOR'!B:B,A:A,'Final MOR'!G:G)/1024 -> 0 | C13: =SUMIF('Final MOR'!B:B,A:A,'Final MOR'!I:I)/1024 -> 0 | D13: =SUMIF('Final MOR'!B:B,A:A,'Final MOR'!J:J)/1024 -> 0 | E13: =SUMIF('Final MOR'!B:B,A:A,'Final MOR'!N:N)/1024 -> 0 | F13: =E13/C13 -> #DIV/0! | G13: =D13/C13 -> #DIV/0! | H13: =COUNTIF('Final MOR'!B:B,A:A) -> 0
A14: XIV | B14: =SUMIF('Final MOR'!B:B,A:A,'Final MOR'!G:G)/1024 -> 946.04668 | C14: =SUMIF('Final MOR'!B:B,A:A,'Final MOR'!I:I)/1024 -> 473.02334 | D14: =SUMIF('Final MOR'!B:B,A:A,'Final MOR'!J:J)/1024 -> 231.57016 | E14: =SUMIF('Final MOR'!B:B,A:A,'Final MOR'!N:N)/1024 -> 231.57016 | F14: =E14/C14 -> 0.48955334 | G14: =D14/C14 -> 0.48955334 | H14: =COUNTIF('Final MOR'!B:B,A:A) -> 2
A15: Total | B15: =SUM(B11:B14) -> 10365.448 | C15: =SUM(C11:C14) -> 6477.9897 | D15: =SUM(D11:D14) -> 3374.3208 | E15: =SUM(E11:E14) -> 5725.294 | F15: =E15/C15 -> 0.88380721 | G15: =D15/C15 -> 0.52089012 | H15: =SUM(H11:H14) -> 43
L21: h

Sheet Tier Report
A2: Loc | B2: (All)
A4: Tier | B4: Market Standard (GB) | C4: formatted(S+D) (GB) | D4: physical/Raid Total (GB) | E4: Usable (GB) | F4: Used (GB) | G4: free (GB) | H4: Allocated (GB) | I4: % Allocated | J4: % Used
A5: Centera | B5: 1275146.4 | C5: 1159224 | D5: 816288 | E5: 714252 | F5: 714252 | G5: 0 | H5: 714252 | I5: =H5/E5 -> 1 | J5: =F5/E5 -> 1
A6: Clariion | B6: 127930.51 | C6: 117909.04 | D6: 116300.47 | E6: 59578.668 | F6: 58562.191 | G6: 1016.4776 | H6: 58562.191 | I6: =H6/E6 -> 0.9829389 | J6: =F6/E6 -> 0.9829389
A7: Non-Replication | B7: 7293160 | C7: 6619446.9 | D7: 6068118 | E7: 4402307.8 | F7: 1962149.5 | G7: 2440158.2 | H7: 3346703.8 | I7: =H7/E7 -> 0.76021578 | J7: =F7/E7 -> 0.4457093
A8: Replication | B8: 5689044 | C8: 5171001.6 | D8: 4880225.4 | E8: 2885757.7 | F8: 1263706.4 | G8: 1622051.3 | H8: 2288491.6 | I8: =H8/E8 -> 0.79302973 | J8: =F8/E8 -> 0.43791147
A9: VNX | B9: 2900354.2 | C9: 2636686 | D9: 2269534.4 | E9: 1367069 | F9: 1264185 | G9: 102884 | H9: 1264185 | I9: =H9/E9 -> 0.92474118 | J9: =F9/E9 -> 0.92474118
A10: XIV | B10: 1080000 | C10: 1069230 | D10: 968751.8 | E10: 484375.9 | F10: 237127.84 | G10: 247248.06 | H10: 237127.84 | I10: =H10/E10 -> 0.48955334 | J10: =F10/E10 -> 0.48955334
A11: Grand Total | B11: 18365635 | C11: 16773498 | D11: 15119218 | E11: 9913341 | F11: 5499983 | G11: 4413358.1 | H11: 7909322.5 | I11: =H11/E11 -> 0.7978463 | J11: =F11/E11 -> 0.55480619
A15: Tier | B15: Market Standard (TB) | C15: formatted(S+D) (TB) | D15: physical/Raid Total (TB) | E15: Usable (TB) | F15: Used (TB) | G15: free (TB) | H15: Allocated (TB) | I15: % Allocated | J15: % Used
A16: Centera | B16: =B5/1024 -> 1245.2602 | C16: =C5/1024 -> 1132.0547 | D16: =D5/1024 -> 797.15625 | E16: =E5/1024 -> 697.51172 | F16: =F5/1024 -> 697.51172 | G16: =G5/1024 -> 0 | H16: =H5/1024 -> 697.51172 | I16: =H16/E16 -> 1 | J16: =F16/E16 -> 1
A17: Clariion | B17: =B6/1024 -> 124.93214 | C17: =C6/1024 -> 115.14555 | D17: =D6/1024 -> 113.57468 | E17: =E6/1024 -> 58.182293 | F17: =F6/1024 -> 57.189639 | G17: =G6/1024 -> 0.99265391 | H17: =H6/1024 -> 57.189639 | I17: =H17/E17 -> 0.9829389 | J17: =F17/E17 -> 0.9829389
A18: Non-Replication | B18: =B7/1024 -> 7122.2266 | C18: =C7/1024 -> 6464.3036 | D18: =D7/1024 -> 5925.8965 | E18: =E7/1024 -> 4299.1287 | F18: =F7/1024 -> 1916.1616 | G18: =G7/1024 -> 2382.967 | H18: =H7/1024 -> 3268.2654 | I18: =H18/E18 -> 0.76021578 | J18: =F18/E18 -> 0.4457093
A19: Replication | B19: =B8/1024 -> 5555.707 | C19: =C8/1024 -> 5049.8063 | D19: =D8/1024 -> 4765.8451 | E19: =E8/1024 -> 2818.1228 | F19: =F8/1024 -> 1234.0883 | G19: =G8/1024 -> 1584.0345 | H19: =H8/1024 -> 2234.8551 | I19: =H19/E19 -> 0.79302973 | J19: =F19/E19 -> 0.43791147
A20: VNX | B20: =B9/1024 -> 2832.3771 | C20: =C9/1024 -> 2574.8887 | D20: =D9/1024 -> 2216.3422 | E20: =E9/1024 -> 1335.0283 | F20: =F9/1024 -> 1234.5557 | G20: =G9/1024 -> 100.47266 | H20: =H9/1024 -> 1234.5557 | I20: =H20/E20 -> 0.92474118 | J20: =F20/E20 -> 0.92474118
A21: XIV | B21: =B10/1024 -> 1054.6875 | C21: =C10/1024 -> 1044.1699 | D21: =D10/1024 -> 946.04668 | E21: =E10/1024 -> 473.02334 | F21: =F10/1024 -> 231.57016 | G21: =G10/1024 -> 241.45318 | H21: =H10/1024 -> 231.57016 | I21: =H21/E21 -> 0.48955334 | J21: =F21/E21 -> 0.48955334
A22: Grand Total | B22: =B11/1024 -> 17935.19 | C22: =C11/1024 -> 16380.369 | D22: =D11/1024 -> 14764.861 | E22: =E11/1024 -> 9680.9971 | F22: =F11/1024 -> 5371.0771 | G22: =G11/1024 -> 4309.92 | H22: =H11/1024 -> 7723.9477 | I22: =H22/E22 -> 0.7978463 | J22: =F22/E22 -> 0.55480619
A25: Tier | B25: Market Standard (TB) | C25: formatted(S+D) (TB) | D25: physical/Raid Total (TB) | E25: Usable (TB) | F25: Used (TB) | G25: free (TB) | H25: Allocated (TB) | I25: % Allocated | J25: % Used
A26: Replication | B26: =B19 -> 5555.707 | C26: =C19 -> 5049.8063 | D26: =D19 -> 4765.8451 | E26: =E19 -> 2818.1228 | F26: =F19 -> 1234.0883 | G26: =G19 -> 1584.0345 | H26: =H19 -> 2234.8551 | I26: =H26/E26 -> 0.79302973 | J26: =F26/E26 -> 0.43791147
A27: Non-Replication | B27: =B16+B17+B18+B20+B21 -> 12379.483 | C27: =C16+C17+C18+C20+C21 -> 11330.562 | D27: =D16+D17+D18+D20+D21 -> 9999.0163 | E27: =E16+E17+E18+E20+E21 -> 6862.8743 | F27: =F16+F17+F18+F20+F21 -> 4136.9888 | G27: =G16+G17+G18+G20+G21 -> 2725.8855 | H27: =H16+H17+H18+H20+H21 -> 5489.0926 | I27: =H27/E27 -> 0.79982415 | J27: =F27/E27 -> 0.60280702
A28: Grand Total | B28: =SUM(B26:B27) -> 17935.19 | C28: =SUM(C26:C27) -> 16380.369 | D28: =SUM(D26:D27) -> 14764.861 | E28: =SUM(E26:E27) -> 9680.9971 | F28: =SUM(F26:F27) -> 5371.0771 | G28: =SUM(G26:G27) -> 4309.92 | H28: =SUM(H26:H27) -> 7723.9477 | I28: =H28/E28 -> 0.7978463 | J28: =F28/E28 -> 0.55480619

Sheet ALL_Pivot_new
E1: Loc | F1: (All)
E2: Type | F2: (Multiple Items)
A4: Serial No | B4: Alias name | C4: Loc | D4: Type | E4: Array | F4: Market | G4: formatted(S+D) | H4: format lost | I4: physical/Raid Total | J4: Parity Lost | K4: Usable | L4: Used | M4: free | N4: spare formatted | O4: Allocated | P4: Not in pool | Q4: BCVs | R4: %Used | S4: %allocated | T4: %format | U4: %spare | V4: %parity | W4: sum(all) | X4: diff | Y4: %diff | Z4: Rep/Non-Rep | AB4: Market Raw
A5: 290105349 | B5: 5349 | C5: FDC | D5: DMX | E5: 290105349 | F5: 25193.97 | G5: 22903.609 | H5: 2290.3609 | I5: 20426.211 | J5: 2553.2764 | K5: 17872.935 | L5: 10018.175 | M5: 7854.7598 | N5: 2477.3984 | O5: 10018.175 | R5: =L5/K5 -> 0.5605221 | S5: =O5/K5 -> 0.5605221 | T5: =H5/$F5 -> 0.090909091 | U5: =N5/$F5 -> 0.09833299 | V5: =J5/$F5 -> 0.10134474 | W5: =H5+J5+K5+N5+P5 -> 25193.97 | X5: =F5-W5 -> 0 | Y5: =X5/F5 -> 0 | Z5: Replication | AB5: Installed Raw = Market - format lost - spare lost
A6: 492600377 | B6: 377 | C6: Swiss | D6: Vmax | E6: 492600377 | F6: 46800 | G6: 42525 | H6: 4275 | I6: 37817.714 | J6: 4727.2143 | K6: 33090.5 | L6: 14757.2 | M6: 18333.3 | N6: 3271 | O6: 42854.1 | R6: =L6/K6 -> 0.44596485 | S6: =O6/K6 -> 1.2950575 | T6: =H6/$F6 -> 0.091346154 | U6: =N6/$F6 -> 0.069893162 | V6: =J6/$F6 -> 0.10100885 | W6: =H6+J6+K6+N6+P6 -> 45363.714 | X6: =F6-W6 -> 1436.2857 | Y6: =X6/F6 -> 0.030689866 | Z6: Non-Replication | AB6: Install usable = Market - format lost - spare lost - parity
A7: 000290105373 | B7: 5373 | C7: RDC | D7: DMX | E7: 000290105373 | F7: 68850 | G7: 63533.6 | H7: 5316.4 | I7: 60211.52 | J7: 7526.44 | K7: 52685.08 | L7: 1943.0361 | M7: 50742.044 | N7: 3322.08 | O7: 3886.0723 | Q7: 1943.0361 | R7: =L7/K7 -> 0.036880197 | S7: =O7/K7 -> 0.073760394 | T7: =H7/$F7 -> 0.077217139 | U7: =N7/$F7 -> 0.04825098 | V7: =J7/$F7 -> 0.10931649 | W7: =H7+J7+K7+N7+P7 -> 68850 | X7: =F7-W7 -> 0 | Y7: =X7/F7 -> 0 | Z7: Replication
A8: 000292600623 | B8: 0623 | C8: CGC | D8: Vmax | E8: 000292600623 | F8: 340268 | G8: 304207.17 | H8: 36060.828 | I8: 285733.83 | J8: 35716.729 | K8: 250017.1 | L8: 17992.3 | M8: 232024.8 | N8: 8209.5469 | O8: 25322.4 | R8: =L8/K8 -> 0.071964278 | S8: =O8/K8 -> 0.10128267 | T8: =H8/$F8 -> 0.10597772 | U8: =N8/$F8 -> 0.024126709 | V8: =J8/$F8 -> 0.10496646 | W8: =H8+J8+K8+N8+P8 -> 330004.2 | X8: =F8-W8 -> 10263.796 | Y8: =X8/F8 -> 0.03016386 | Z8: Non-Replication
A9: 000292600678 | B9: 0678 | C9: RDC | D9: Vmax | E9: 000292600678 | F9: 243000 | G9: 220804.1 | H9: 22195.898 | I9: 207997.49 | J9: 25999.686 | K9: 181997.8 | L9: 102920 | M9: 79077.8 | N9: 4906.7578 | O9: 94562.4 | P9: 16.8438 | R9: =L9/K9 -> 0.56550134 | S9: =O9/K9 -> 0.51957991 | T9: =H9/$F9 -> 0.091341146 | U9: =N9/$F9 -> 0.020192419 | V9: =J9/$F9 -> 0.10699459 | W9: =H9+J9+K9+N9+P9 -> 235116.99 | X9: =F9-W9 -> 7883.0142 | Y9: =X9/F9 -> 0.032440388 | Z9: Non-Replication
A10: 000292600879 | B10: 0879 | C10: FDC | D10: Vmax | E10: 000292600879 | F10: 257400 | G10: 233888.79 | H10: 23511.211 | I10: 220603.31 | J10: 27575.414 | K10: 193027.9 | L10: 38344.3 | M10: 154683.6 | N10: 4906.7578 | O10: 72666.1 | P10: 16.8438 | R10: =L10/K10 -> 0.19864641 | S10: =O10/K10 -> 0.37645387 | T10: =H10/$F10 -> 0.091341146 | U10: =N10/$F10 -> 0.019062773 | V10: =J10/$F10 -> 0.10713059 | W10: =H10+J10+K10+N10+P10 -> 249038.13 | X10: =F10-W10 -> 8361.8732 | Y10: =X10/F10 -> 0.03248591 | Z10: Non-Replication
A11: 000292602230 | B11: 2230 | C11: RDC | D11: Vmax | E11: 000292602230 | F11: 227700 | G11: 206901.62 | H11: 20798.379 | I11: 197405.34 | J11: 25430.843 | K11: 171974.5 | L11: 64561.9 | M11: 107412.6 | N11: 4088.9648 | O11: 57559.8 | Q11: 24736.7 | R11: =L11/K11 -> 0.37541554 | S11: =O11/K11 -> 0.33469962 | T11: =H11/$F11 -> 0.091341146 | U11: =N11/$F11 -> 0.017957685 | V11: =J11/$F11 -> 0.11168574 | W11: =H11+J11+K11+N11+P11 -> 222292.69 | X11: =F11-W11 -> 5407.3134 | Y11: =X11/F11 -> 0.023747534 | Z11: Replication
A12: 000292602231 | B12: 2231 | C12: FDC | D12: Vmax | E12: 000292602231 | F12: 367200 | G12: 333659.53 | H12: 33540.469 | I12: 315898.46 | J12: 39768.857 | K12: 276129.6 | L12: 100534.2 | M12: 175595.4 | N12: 6542.3438 | O12: 66650.1 | Q12: 55794.7 | R12: =L12/K12 -> 0.36408339 | S12: =O12/K12 -> 0.24137253 | T12: =H12/$F12 -> 0.091341146 | U12: =N12/$F12 -> 0.01781684 | V12: =J12/$F12 -> 0.10830299 | W12: =H12+J12+K12+N12+P12 -> 355981.27 | X12: =F12-W12 -> 11218.73 | Y12: =X12/F12 -> 0.030552098 | Z12: Replication
A13: 000292602804 | B13: 2804 | C13: FDC | D13: Vmax | E13: 000292602804 | F13: 118400 | G13: 107740.89 | H13: 10659.113 | I13: 95168.743 | J13: 12130.243 | K13: 83038.5 | L13: 59542 | M13: 23496.5 | N13: 3643.793 | O13: 108532 | P13: 4595.96 | Q13: 0 | R13: =L13/K13 -> 0.71704089 | S13: =O13/K13 -> 1.3070082 | T13: =H13/$F13 -> 0.090026295 | U13: =N13/$F13 -> 0.030775278 | V13: =J13/$F13 -> 0.10245138 | W13: =H13+J13+K13+N13+P13 -> 114067.61 | X13: =F13-W13 -> 4332.3909 | Y13: =X13/F13 -> 0.036591139 | Z13: Replication
A14: 000292603004 | B14: 3004 | C14: FDC | D14: Vmax | E14: 000292603004 | F14: 597408 | G14: 527587.59 | H14: 69820.406 | I14: 500822.06 | J14: 62602.757 | K14: 438219.3 | L14: 209330.8 | M14: 228888.5 | N14: 10767.094 | O14: 374596 | Q14: 0 | R14: =L14/K14 -> 0.47768503 | S14: =O14/K14 -> 0.85481402 | T14: =H14/$F14 -> 0.11687223 | U14: =N14/$F14 -> 0.018023016 | V14: =J14/$F14 -> 0.10479062 | W14: =H14+J14+K14+N14+P14 -> 581409.56 | X14: =F14-W14 -> 15998.443 | Y14: =X14/F14 -> 0.02677976 | Z14: Non-Replication
A15: 000292603073 | B15: 3073 | C15: RDC | D15: Vmax | E15: 000292603073 | F15: 531872 | G15: 470601.19 | H15: 61270.812 | I15: 445146.06 | J15: 55643.257 | K15: 389502.8 | L15: 212681.7 | M15: 176821.1 | N15: 10767.094 | O15: 327291 | Q15: 0 | R15: =L15/K15 -> 0.54603382 | S15: =O15/K15 -> 0.84027894 | T15: =H15/$F15 -> 0.11519842 | U15: =N15/$F15 -> 0.020243769 | V15: =J15/$F15 -> 0.10461776 | W15: =H15+J15+K15+N15+P15 -> 517183.96 | X15: =F15-W15 -> 14688.037 | Y15: =X15/F15 -> 0.027615736 | Z15: Non-Replication
A16: 000292603286 | B16: 3286 | C16: RDC | D16: Vmax | E16: 000292603286 | F16: 227300 | G16: 206693.84 | H16: 20606.164 | I16: 189712.97 | J16: 23948.271 | K16: 165764.7 | L16: 118079.2 | M16: 47685.5 | N16: 4461.5859 | O16: 231128.4 | P16: 4595.96 | Q16: 134002 | R16: =L16/K16 -> 0.71233019 | S16: =O16/K16 -> 1.3943162 | T16: =H16/$F16 -> 0.090656243 | U16: =N16/$F16 -> 0.019628623 | V16: =J16/$F16 -> 0.10535975 | W16: =H16+J16+K16+N16+P16 -> 219376.68 | X16: =F16-W16 -> 7923.3186 | Y16: =X16/F16 -> 0.034858419 | Z16: Replication
A17: 000292603696 | B17: 3696 | C17: RDC | D17: Vmax | E17: 000292603696 | F17: 227100 | G17: 206507.53 | H17: 20592.475 | I17: 190337.57 | J17: 24260.571 | K17: 166077 | L17: 31021.4 | M17: 135055.6 | N17: 4275.2754 | O17: 173040.4 | P17: 4595.96 | Q17: 137563 | R17: =L17/K17 -> 0.18678926 | S17: =O17/K17 -> 1.0419287 | T17: =H17/$F17 -> 0.090675802 | U17: =N17/$F17 -> 0.018825519 | V17: =J17/$F17 -> 0.1068277 | W17: =H17+J17+K17+N17+P17 -> 219801.28 | X17: =F17-W17 -> 7298.7186 | Y17: =X17/F17 -> 0.032138787 | Z17: Replication
A18: 000292603875 | B18: 3875 | C18: FDC | D18: Vmax | E18: 000292603875 | F18: 118400 | G18: 107740.89 | H18: 10659.113 | I18: 95793.343 | J18: 12442.543 | K18: 83350.8 | L18: 16003.1 | M18: 67347.7 | N18: 3643.793 | O18: 33121.5 | P18: 4595.96 | Q18: 0 | R18: =L18/K18 -> 0.19199696 | S18: =O18/K18 -> 0.39737471 | T18: =H18/$F18 -> 0.090026295 | U18: =N18/$F18 -> 0.030775278 | V18: =J18/$F18 -> 0.10508904 | W18: =H18+J18+K18+N18+P18 -> 114692.21 | X18: =F18-W18 -> 3707.7909 | Y18: =X18/F18 -> 0.031315801 | Z18: Replication
A19: 000292604330 | B19: 4330 | C19: RDC | D19: Vmax | E19: 000292604330 | F19: 287100 | G19: 260875.96 | H19: 26224.043 | I19: 248032.2 | J19: 124016.1 | K19: 124016.1 | L19: 90440.5 | M19: 33575.6 | N19: 5724.5508 | O19: 171812 | Q19: 37070 | R19: =L19/K19 -> 0.72926418 | S19: =O19/K19 -> 1.3854008 | T19: =H19/$F19 -> 0.091341146 | U19: =N19/$F19 -> 0.019939223 | V19: =J19/$F19 -> 0.43196134 | W19: =H19+J19+K19+N19+P19 -> 279980.79 | X19: =F19-W19 -> 7119.2062 | Y19: =X19/F19 -> 0.024796957 | Z19: Replication
A20: 000292604652 | B20: 4652 | C20: FDC | D20: Vmax | E20: 000292604652 | F20: 441000 | G20: 400718.55 | H20: 40281.445 | I20: 383226.2 | J20: 191613.1 | K20: 191613.1 | L20: 147825.3 | M20: 43787.8 | N20: 8177.9297 | O20: 277419 | Q20: 144244 | R20: =L20/K20 -> 0.77147805 | S20: =O20/K20 -> 1.4478081 | T20: =H20/$F20 -> 0.091341146 | U20: =N20/$F20 -> 0.018544058 | V20: =J20/$F20 -> 0.43449683 | W20: =H20+J20+K20+N20+P20 -> 431685.58 | X20: =F20-W20 -> 9314.425 | Y20: =X20/F20 -> 0.021121145 | Z20: Replication
A21: 000295700347 | B21: 0347 | C21: RDC | D21: Vmax | E21: 000295700347 | F21: 588456 | G21: 535316.42 | H21: 53139.582 | I21: 354223.73 | J21: 130153.43 | K21: 224070.3 | L21: 99631.3 | M21: 124439 | N21: 10868.48 | O21: 189680 | P21: 165000 | R21: =L21/K21 -> 0.44464304 | S21: =O21/K21 -> 0.84652004 | T21: =H21/$F21 -> 0.090303408 | U21: =N21/$F21 -> 0.018469487 | V21: =J21/$F21 -> 0.22117785 | W21: =H21+J21+K21+N21+P21 -> 583231.8 | X21: =F21-W21 -> 5224.2042 | Y21: =X21/F21 -> 0.0088778161 | Z21: Non-Replication
A22: 000295700349 | B22: 0349 | C22: FDC | D22: Vmax | E22: 000295700349 | F22: 588456 | G22: 535316.42 | H22: 53139.582 | I22: 427723.07 | J22: 165435.67 | K22: 262287.4 | L22: 171025.5 | M22: 91261.9 | N22: 10868.48 | O22: 294710 | P22: 165000 | R22: =L22/K22 -> 0.65205382 | S22: =O22/K22 -> 1.1236148 | T22: =H22/$F22 -> 0.090303408 | U22: =N22/$F22 -> 0.018469487 | V22: =J22/$F22 -> 0.28113515 | W22: =H22+J22+K22+N22+P22 -> 656731.13 | X22: =F22-W22 -> -68275.129 | Y22: =X22/F22 -> -0.11602419 | Z22: Non-Replication
A23: APM00120503066 | B23: centera_PL_02G | C23: Poland | D23: Centera | E23: APM00120503066 | F23: 44002.2 | G23: 40002 | H23: 4000.2 | I23: 16625.143 | J23: 2078.1429 | K23: 14547 | L23: 14547 | M23: 0 | O23: 14547 | R23: =L23/K23 -> 1 | S23: =O23/K23 -> 1 | T23: =H23/$F23 -> 0.090909091 | U23: =N23/$F23 -> 0 | V23: =J23/$F23 -> 0.047228158 | W23: =H23+J23+K23+N23+P23 -> 20625.343 | X23: =F23-W23 -> 23376.857 | Y23: =X23/F23 -> 0.53126564 | Z23: Centera
A24: APM00121102552 | B24: centera_PL_01G | C24: Poland | D24: Centera | E24: APM00121102552 | F24: 64930.8 | G24: 59028 | H24: 5902.8 | I24: 55448 | J24: 6931 | K24: 48517 | L24: 48517 | M24: 0 | O24: 48517 | R24: =L24/K24 -> 1 | S24: =O24/K24 -> 1 | T24: =H24/$F24 -> 0.090909091 | U24: =N24/$F24 -> 0 | V24: =J24/$F24 -> 0.10674441 | W24: =H24+J24+K24+N24+P24 -> 61350.8 | X24: =F24-W24 -> 3580 | Y24: =X24/F24 -> 0.055135621 | Z24: Centera
A25: APM00121204311 | B25: centera_PL_01S | C25: Poland | D25: Centera | E25: APM00121204311 | F25: 86168.5 | G25: 78335 | H25: 7833.5 | I25: 58121.143 | J25: 7265.1429 | K25: 50856 | L25: 50856 | M25: 0 | O25: 50856 | R25: =L25/K25 -> 1 | S25: =O25/K25 -> 1 | T25: =H25/$F25 -> 0.090909091 | U25: =N25/$F25 -> 0 | V25: =J25/$F25 -> 0.08431321 | W25: =H25+J25+K25+N25+P25 -> 65954.643 | X25: =F25-W25 -> 20213.857 | Y25: =X25/F25 -> 0.23458523 | Z25: Centera
A26: APM00121204573 | B26: centera_PL_02S | C26: Poland | D26: Centera | E26: APM00121204573 | F26: 44003.3 | G26: 40003 | H26: 4000.3 | I26: 16627.429 | J26: 2078.4286 | K26: 14549 | L26: 14549 | M26: 0 | O26: 14549 | R26: =L26/K26 -> 1 | S26: =O26/K26 -> 1 | T26: =H26/$F26 -> 0.090909091 | U26: =N26/$F26 -> 0 | V26: =J26/$F26 -> 0.04723347 | W26: =H26+J26+K26+N26+P26 -> 20627.729 | X26: =F26-W26 -> 23375.571 | Y26: =X26/F26 -> 0.53122315 | Z26: Centera
A27: CK200053010120 | B27: centera_CH_01E | C27: Swiss | D27: Centera | E27: CK200053010120 | F27: 50688 | G27: 46080 | H27: 4608 | I27: 15213.714 | J27: 1901.7143 | K27: 13312 | L27: 13312 | M27: 0 | O27: 13312 | R27: =L27/K27 -> 1 | S27: =O27/K27 -> 1 | T27: =H27/$F27 -> 0.090909091 | U27: =N27/$F27 -> 0 | V27: =J27/$F27 -> 0.037518038 | W27: =H27+J27+K27+N27+P27 -> 19821.714 | X27: =F27-W27 -> 30866.286 | Y27: =X27/F27 -> 0.60894661 | Z27: Centera
A28: CK200054900163 | B28: centera_CH_01R | C28: Swiss | D28: Centera | E28: CK200054900163 | F28: 50688 | G28: 46080 | H28: 4608 | I28: 19894.857 | J28: 2486.8571 | K28: 17408 | L28: 17408 | M28: 0 | O28: 17408 | R28: =L28/K28 -> 1 | S28: =O28/K28 -> 1 | T28: =H28/$F28 -> 0.090909091 | U28: =N28/$F28 -> 0 | V28: =J28/$F28 -> 0.049062049 | W28: =H28+J28+K28+N28+P28 -> 24502.857 | X28: =F28-W28 -> 26185.143 | Y28: =X28/F28 -> 0.51659452 | Z28: Centera
A29: CK200054900292 | B29: centera_TK_01T | C29: Turkey DC | D29: Centera | E29: CK200054900292 | F29: 55559.9 | G29: 50509 | H29: 5050.9 | I29: 54083.429 | J29: 6760.4286 | K29: 47323 | L29: 47323 | M29: 0 | O29: 47323 | R29: =L29/K29 -> 1 | S29: =O29/K29 -> 1 | T29: =H29/$F29 -> 0.090909091 | U29: =N29/$F29 -> 0 | V29: =J29/$F29 -> 0.1216782 | W29: =H29+J29+K29+N29+P29 -> 59134.329 | X29: =F29-W29 -> -3574.4286 | Y29: =X29/F29 -> -0.064334683 | Z29: Centera
A30: CK200054900294 | B30: centera_TK_01Y | C30: Turkey DC | D30: Centera | E30: CK200054900294 | F30: 54818.5 | G30: 49835 | H30: 4983.5 | I30: 46635.429 | J30: 5829.4286 | K30: 40806 | L30: 40806 | M30: 0 | O30: 40806 | R30: =L30/K30 -> 1 | S30: =O30/K30 -> 1 | T30: =H30/$F30 -> 0.090909091 | U30: =N30/$F30 -> 0 | V30: =J30/$F30 -> 0.10634053 | W30: =H30+J30+K30+N30+P30 -> 51618.929 | X30: =F30-W30 -> 3199.5714 | Y30: =X30/F30 -> 0.058366636 | Z30: Centera
A31: CK200061900265 | B31: centera_DE_01F | C31: FDC | D31: Centera | E31: CK200061900265 | F31: 272923.2 | G31: 248112 | H31: 24811.2 | I31: 176107.43 | J31: 22013.429 | K31: 154094 | L31: 154094 | M31: 0 | O31: 154094 | R31: =L31/K31 -> 1 | S31: =O31/K31 -> 1 | T31: =H31/$F31 -> 0.090909091 | U31: =N31/$F31 -> 0 | V31: =J31/$F31 -> 0.08065796 | W31: =H31+J31+K31+N31+P31 -> 200918.63 | X31: =F31-W31 -> 72004.571 | Y31: =X31/F31 -> 0.26382723 | Z31: Centera
A32: CK200061900567 | B32: centera_UK_01R | C32: RDC | D32: Centera | E32: CK200061900567 | F32: 269577 | G32: 245070 | H32: 24507 | I32: 176035.43 | J32: 22004.429 | K32: 154031 | L32: 154031 | M32: 0 | O32: 154031 | R32: =L32/K32 -> 1 | S32: =O32/K32 -> 1 | T32: =H32/$F32 -> 0.090909091 | U32: =N32/$F32 -> 0 | V32: =J32/$F32 -> 0.081625764 | W32: =H32+J32+K32+N32+P32 -> 200542.43 | X32: =F32-W32 -> 69034.571 | Y32: =X32/F32 -> 0.2560848 | Z32: Centera
A33: CK200062000592 | B33: centera_DE_02F | C33: FDC | D33: Centera | E33: CK200062000592 | F33: 109422.5 | G33: 99475 | H33: 9947.5 | I33: 82211.429 | J33: 10276.429 | K33: 71935 | L33: 71935 | M33: 0 | O33: 71935 | R33: =L33/K33 -> 1 | S33: =O33/K33 -> 1 | T33: =H33/$F33 -> 0.090909091 | U33: =N33/$F33 -> 0 | V33: =J33/$F33 -> 0.093915132 | W33: =H33+J33+K33+N33+P33 -> 92158.929 | X33: =F33-W33 -> 17263.571 | Y33: =X33/F33 -> 0.15776985 | Z33: Centera
A34: CK200062000593 | B34: centera_UK_02R | C34: RDC | D34: Centera | E34: CK200062000593 | F34: 116045.6 | G34: 105496 | H34: 10549.6 | I34: 85177.143 | J34: 10647.143 | K34: 74530 | L34: 74530 | M34: 0 | O34: 74530 | R34: =L34/K34 -> 1 | S34: =O34/K34 -> 1 | T34: =H34/$F34 -> 0.090909091 | U34: =N34/$F34 -> 0 | V34: =J34/$F34 -> 0.091749647 | W34: =H34+J34+K34+N34+P34 -> 95726.743 | X34: =F34-W34 -> 20318.857 | Y34: =X34/F34 -> 0.17509373 | Z34: Centera
... A36: CK200113804159 | B36: fdccentera01 | C36: FDC | D36: Centera | E36: CK200113804159 | F36: 28164.4 | G36: 25604 | H36: 2560.4 | I36: 9387.4286 | J36: 1173.4286 | K36: 8214 | L36: 8214 | M36: 0 | O36: 8214 | R36: =L36/K36 -> 1 | S36: =O36/K36 -> 1 | T36: =H36/$F36 -> 0.090909091 | U36: =N36/$F36 -> 0 | V36: =J36/$F36 -> 0.041663539 | W36: =H36+J36+K36+N36+P36 -> 11947.829 | X36: =F36-W36 -> 16216.571 | Y36: =X36/F36 -> 0.5757826 | Z36: Centera
A37: CKM00101000576 | B37: rdc4-ac4-0576 | C37: RDC | D37: Clariion | E37: CKM00101000576 | F37: 20876.676 | G37: 18978.796 | H37: 1897.8796 | I37: 18978.796 | J37: 8964 | K37: 10014.796 | L37: 10014.796 | M37: 0 | N37: 1050.7964 | O37: 10014.796 | R37: =L37/K37 -> 1 | S37: =O37/K37 -> 1 | T37: =H37/$F37 -> 0.090909091 | U37: =N37/$F37 -> 0.050333513 | V37: =J37/$F37 -> 0.4293787 | W37: =H37+J37+K37+N37+P37 -> 21927.473 | X37: =F37-W37 -> -1050.7964 | Y37: =X37/F37 -> -0.050333513 | Z37: Clariion
A38: CKM00121201737 | B38: GBOKC001N1737 | C38: RDC | D38: VNX | E38: CKM00121201737 | F38: 922300 | G38: 838454.76 | H38: 83845.239 | I38: 769906 | J38: 322099 | K38: 447807 | L38: 429728 | M38: 18079 | O38: 429728 | P38: 68548.764 | R38: =L38/K38 -> 0.9596277 | S38: =O38/K38 -> 0.9596277 | T38: =H38/$F38 -> 0.090908857 | U38: =N38/$F38 -> 0 | V38: =J38/$F38 -> 0.34923452 | W38: =H38+J38+K38+N38+P38 -> 922300 | X38: =F38-W38 -> 0 | Y38: =X38/F38 -> 0 | Z38: VNX
A39: CKM00121300390 | B39: GBOKC002N0390 | C39: RDC | D39: VNX | E39: CKM00121300390 | F39: 922300 | G39: 838454.76 | H39: 83845.239 | I39: 769906 | J39: 322099 | K39: 447807 | L39: 429728 | M39: 18079 | O39: 429728 | P39: 68548.764 | R39: =L39/K39 -> 0.9596277 | S39: =O39/K39 -> 0.9596277 | T39: =H39/$F39 -> 0.090908857 | U39: =N39/$F39 -> 0 | V39: =J39/$F39 -> 0.34923452 | W39: =H39+J39+K39+N39+P39 -> 922300 | X39: =F39-W39 -> 0 | Y39: =X39/F39 -> 0 | Z39: VNX
A40: CKM00121400374 | B40: DEOLC001N0374 | C40: FDC | D40: VNX | E40: CKM00121400374 | F40: 583722.2 | G40: 530656.54 | H40: 53065.654 | I40: 436644.25 | J40: 177936.25 | K40: 258708 | L40: 226561 | M40: 32147 | O40: 226561 | P40: 94010.275 | R40: =L40/K40 -> 0.87574022 | S40: =O40/K40 -> 0.87574022 | T40: =H40/$F40 -> 0.090909091 | U40: =N40/$F40 -> 0 | V40: =J40/$F40 -> 0.30483037 | W40: =H40+J40+K40+N40+P40 -> 583720.18 | X40: =F40-W40 -> 2.015 | Y40: =X40/F40 -> 3.4519846e-06 | Z40: VNX
A41: CKM00121400375 | B41: DEOLC002N0375 | C41: FDC | D41: VNX | E41: CKM00121400375 | F41: 472031.98 | G41: 429119.99 | H41: 42911.999 | I41: 293078.14 | J41: 80331.139 | K41: 212747 | L41: 178168 | M41: 34579 | O41: 178168 | P41: 136039.83 | R41: =L41/K41 -> 0.83746422 | S41: =O41/K41 -> 0.83746422 | T41: =H41/$F41 -> 0.090909091 | U41: =N41/$F41 -> 0 | V41: =J41/$F41 -> 0.17018156 | W41: =H41+J41+K41+N41+P41 -> 472029.97 | X41: =F41-W41 -> 2.014 | Y41: =X41/F41 -> 4.26666e-06 | Z41: VNX
A42: DEOLH004N7026 | B42: FDCHDS04 | C42: FDC | D42: HDS | E42: DEOLH004N7026 | F42: 270000 | G42: 245700 | H42: 24300 | I42: 240489.37 | J42: 30061.171 | K42: 210428.2 | L42: 114180.98 | M42: 96247.22 | N42: 1092 | O42: 114180.98 | R42: =L42/K42 -> 0.54261254 | S42: =O42/K42 -> 0.54261254 | T42: =H42/$F42 -> 0.09 | U42: =N42/$F42 -> 0.0040444444 | V42: =J42/$F42 -> 0.11133767 | W42: =H42+J42+K42+N42+P42 -> 265881.37 | X42: =F42-W42 -> 4118.6286 | Y42: =X42/F42 -> 0.01525418 | Z42: Non-Replication
A43: DEOLH005N0365 | B43: FDCHDS05 | C43: FDC | D43: HDS | E43: DEOLH005N0365 | F43: 260400 | G43: 236964 | H43: 23436 | I43: 231894.87 | J43: 28986.859 | K43: 202908.01 | L43: 124398.34 | M43: 78509.67 | N43: 1092 | O43: 124398.34 | R43: =L43/K43 -> 0.61307752 | S43: =O43/K43 -> 0.61307752 | T43: =H43/$F43 -> 0.09 | U43: =N43/$F43 -> 0.0041935484 | V43: =J43/$F43 -> 0.11131666 | W43: =H43+J43+K43+N43+P43 -> 256422.87 | X43: =F43-W43 -> 3977.1314 | Y43: =X43/F43 -> 0.015273162 | Z43: Non-Replication
A44: DEOLH010N0516 | B44: FDCHDS10 | C44: FDC | D44: HDS | E44: DEOLH010N0516 | F44: 58800 | G44: 53508 | H44: 5292 | I44: 51533.533 | J44: 12883.383 | K44: 38650.15 | L44: 13705.29 | M44: 24944.86 | N44: 1092 | O44: 13705.29 | R44: =L44/K44 -> 0.35459862 | S44: =O44/K44 -> 0.35459862 | T44: =H44/$F44 -> 0.09 | U44: =N44/$F44 -> 0.018571429 | V44: =J44/$F44 -> 0.21910516 | W44: =H44+J44+K44+N44+P44 -> 57917.533 | X44: =F44-W44 -> 882.46667 | Y44: =X44/F44 -> 0.015007937 | Z44: Non-Replication
A45: FCNMM111100069 | B45: fdc1a-ax4-0069 | C45: FDC | D45: Clariion | E45: FCNMM111100069 | F45: 4078.9051 | G45: 3976.191 | H45: 102.71403 | I45: 3708.0955 | J45: 1720 | K45: 1988.0955 | L45: 1720 | M45: 268.09552 | N45: 268.09552 | O45: 1720 | R45: =L45/K45 -> 0.86514958 | S45: =O45/K45 -> 0.86514958 | T45: =H45/$F45 -> 0.025181766 | U45: =N45/$F45 -> 0.065727325 | V45: =J45/$F45 -> 0.42168179 | W45: =H45+J45+K45+N45+P45 -> 4078.9051 | X45: =F45-W45 -> 0 | Y45: =X45/F45 -> 0 | Z45: Clariion
A46: FCNMM111600082 | B46: rdc1-ax4-0082 | C46: RDC | D46: Clariion | E46: FCNMM111600082 | F46: 4078.9051 | G46: 3976.191 | H46: 102.71403 | I46: 3708.0955 | J46: 1720 | K46: 1988.0955 | L46: 1720 | M46: 268.09552 | N46: 268.09552 | O46: 1720 | R46: =L46/K46 -> 0.86514958 | S46: =O46/K46 -> 0.86514958 | T46: =H46/$F46 -> 0.025181766 | U46: =N46/$F46 -> 0.065727325 | V46: =J46/$F46 -> 0.42168179 | W46: =H46+J46+K46+N46+P46 -> 4078.9051 | X46: =F46-W46 -> 0 | Y46: =X46/F46 -> 0 | Z46: Clariion
A47: FCNMM113000103 | B47: prof-ax4-0103 | C47: Russia DC | D47: Clariion | E47: FCNMM113000103 | F47: 8847.1453 | G47: 8042.8594 | H47: 804.28594 | I47: 8042.8594 | J47: 4021.4297 | K47: 4021.4297 | L47: 4021.4297 | M47: 0 | O47: 4021.4297 | R47: =L47/K47 -> 1 | S47: =O47/K47 -> 1 | T47: =H47/$F47 -> 0.090909091 | U47: =N47/$F47 -> 0 | V47: =J47/$F47 -> 0.45454545 | W47: =H47+J47+K47+N47+P47 -> 8847.1453 | X47: =F47-W47 -> 0 | Y47: =X47/F47 -> 0 | Z47: Clariion
A48: FCNMM113000127 | B48: prof-ax4-0127 | C48: Russia DC | D48: Clariion | E48: FCNMM113000127 | F48: 8847.1453 | G48: 8042.8594 | H48: 804.28594 | I48: 8042.8594 | J48: 4021.4297 | K48: 4021.4297 | L48: 4021.4297 | M48: 0 | O48: 4021.4297 | R48: =L48/K48 -> 1 | S48: =O48/K48 -> 1 | T48: =H48/$F48 -> 0.090909091 | U48: =N48/$F48 -> 0 | V48: =J48/$F48 -> 0.45454545 | W48: =H48+J48+K48+N48+P48 -> 8847.1453 | X48: =F48-W48 -> 0 | Y48: =X48/F48 -> 0 | Z48: Clariion
A49: GBOKH005N3518 | B49: RDCHDS05 | C49: RDC | D49: HDS | E49: GBOKH005N3518 | F49: 324000 | G49: 294840 | H49: 29160 | I49: 285077.29 | J49: 35634.661 | K49: 249442.63 | L49: 151545 | M49: 97897.63 | N49: 6552 | O49: 151545 | R49: =L49/K49 -> 0.60753449 | S49: =O49/K49 -> 0.60753449 | T49: =H49/$F49 -> 0.09 | U49: =N49/$F49 -> 0.020222222 | V49: =J49/$F49 -> 0.10998352 | W49: =H49+J49+K49+N49+P49 -> 320789.29 | X49: =F49-W49 -> 3210.7086 | Y49: =X49/F49 -> 0.0099095944 | Z49: Non-Replication
A50: GBOKH006N5362 | B50: RDCHDS06 | C50: RDC | D50: HDS | E50: GBOKH006N5362 | F50: 221700 | G50: 201747 | H50: 19953 | I50: 197544.85 | J50: 24693.106 | K50: 172851.74 | L50: 105953 | M50: 66898.74 | N50: 819 | O50: 105953 | R50: =L50/K50 -> 0.6129704 | S50: =O50/K50 -> 0.6129704 | T50: =H50/$F50 -> 0.09 | U50: =N50/$F50 -> 0.0036941813 | V50: =J50/$F50 -> 0.11138072 | W50: =H50+J50+K50+N50+P50 -> 218316.85 | X50: =F50-W50 -> 3383.1543 | Y50: =X50/F50 -> 0.015260055 | Z50: Non-Replication
A51: GBOKH010N0204 | B51: RDCHDS10 | C51: RDC | D51: HDS | E51: GBOKH010N0204 | F51: 58800 | G51: 53508 | H51: 5292 | I51: 51533.533 | J51: 12883.383 | K51: 38650.15 | L51: 31157 | M51: 7493.15 | N51: 1092 | O51: 31157 | R51: =L51/K51 -> 0.80612882 | S51: =O51/K51 -> 0.80612882 | T51: =H51/$F51 -> 0.09 | U51: =N51/$F51 -> 0.018571429 | V51: =J51/$F51 -> 0.21910516 | W51: =H51+J51+K51+N51+P51 -> 57917.533 | X51: =F51-W51 -> 882.46667 | Y51: =X51/F51 -> 0.015007937 | Z51: Non-Replication
A52: GBOQH010N0214 | B52: CGCHDS10 | C52: CGC | D52: HDS | E52: GBOQH010N0214 | F52: 102000 | G52: 92820 | H52: 9180 | I52: 85486.606 | J52: 10685.826 | K52: 74800.78 | L52: 63958 | M52: 10842.78 | N52: 5460 | O52: 63958 | R52: =L52/K52 -> 0.85504456 | S52: =O52/K52 -> 0.85504456 | T52: =H52/$F52 -> 0.09 | U52: =N52/$F52 -> 0.053529412 | V52: =J52/$F52 -> 0.104763 | W52: =H52+J52+K52+N52+P52 -> 100126.61 | X52: =F52-W52 -> 1873.3943 | Y52: =X52/F52 -> 0.018366611 | Z52: Non-Replication
A53: SL7E1093200048 | B53: Turkey_AX4_Mailbox | C53: Turkey DC | D53: Clariion | E53: SL7E1093200048 | F53: 3962.2 | G53: 3602 | H53: 360.2 | I53: 3602 | J53: 1801 | K53: 1801 | L53: 1801 | M53: 0 | O53: 1801 | R53: =L53/K53 -> 1 | S53: =O53/K53 -> 1 | T53: =H53/$F53 -> 0.090909091 | U53: =N53/$F53 -> 0 | V53: =J53/$F53 -> 0.45454545 | W53: =H53+J53+K53+N53+P53 -> 3962.2 | X53: =F53-W53 -> 0 | Y53: =X53/F53 -> 0 | Z53: Clariion
A54: SL7E9101300054 | B54: prof-ax4-0054 | C54: Russia DC | D54: Clariion | E54: SL7E9101300054 | F54: 23002.583 | G54: 20911.439 | H54: 2091.1439 | I54: 20911.439 | J54: 10455.72 | K54: 10455.72 | L54: 10455.72 | M54: 0 | O54: 10455.72 | R54: =L54/K54 -> 1 | S54: =O54/K54 -> 1 | T54: =H54/$F54 -> 0.090909091 | U54: =N54/$F54 -> 0 | V54: =J54/$F54 -> 0.45454545 | W54: =H54+J54+K54+N54+P54 -> 23002.583 | X54: =F54-W54 -> 0 | Y54: =X54/F54 -> 0 | Z54: Clariion
A55: SL7E9101300062 | B55: pres-ax4-0062 | C55: Russia DC | D55: Clariion | E55: SL7E9101300062 | F55: 23002.583 | G55: 20911.439 | H55: 2091.1439 | I55: 20911.439 | J55: 10455.72 | K55: 10455.72 | L55: 10455.72 | M55: 0 | O55: 10455.72 | R55: =L55/K55 -> 1 | S55: =O55/K55 -> 1 | T55: =H55/$F55 -> 0.090909091 | U55: =N55/$F55 -> 0 | V55: =J55/$F55 -> 0.45454545 | W55: =H55+J55+K55+N55+P55 -> 23002.583 | X55: =F55-W55 -> 0 | Y55: =X55/F55 -> 0 | Z55: Clariion
A56: SL7EA101700033 | B56: fdc1a-ax4-0033 | C56: FDC | D56: Clariion | E56: SL7EA101700033 | F56: 7862.9051 | G56: 7416.191 | H56: 446.71403 | I56: 7148.0955 | J56: 3440 | K56: 3708.0955 | L56: 3602 | M56: 106.09552 | N56: 268.09552 | O56: 3602 | R56: =L56/K56 -> 0.97138814 | S56: =O56/K56 -> 0.97138814 | T56: =H56/$F56 -> 0.056812848 | U56: =N56/$F56 -> 0.034096243 | V56: =J56/$F56 -> 0.43749733 | W56: =H56+J56+K56+N56+P56 -> 7862.9051 | X56: =F56-W56 -> 0 | Y56: =X56/F56 -> 0 | Z56: Clariion
A57: SL7EA101700039 | B57: fdc1a-ax4-0039 | C57: FDC | D57: Clariion | E57: SL7EA101700039 | F57: 7862.9051 | G57: 7416.191 | H57: 446.71403 | I57: 7148.0955 | J57: 3440 | K57: 3708.0955 | L57: 3602 | M57: 106.09552 | N57: 268.09552 | O57: 3602 | R57: =L57/K57 -> 0.97138814 | S57: =O57/K57 -> 0.97138814 | T57: =H57/$F57 -> 0.056812848 | U57: =N57/$F57 -> 0.034096243 | V57: =J57/$F57 -> 0.43749733 | W57: =H57+J57+K57+N57+P57 -> 7862.9051 | X57: =F57-W57 -> 0 | Y57: =X57/F57 -> 0 | Z57: Clariion
A58: SL7EA102100006 | B58: rdc4-ax4-0006 | C58: RDC | D58: Clariion | E58: SL7EA102100006 | F58: 7862.9051 | G58: 7416.191 | H58: 446.71403 | I58: 7148.0955 | J58: 3440 | K58: 3708.0955 | L58: 3440 | M58: 268.09552 | N58: 268.09552 | O58: 3440 | R58: =L58/K58 -> 0.92769994 | S58: =O58/K58 -> 0.92769994 | T58: =H58/$F58 -> 0.056812848 | U58: =N58/$F58 -> 0.034096243 | V58: =J58/$F58 -> 0.43749733 | W58: =H58+J58+K58+N58+P58 -> 7862.9051 | X58: =F58-W58 -> 0 | Y58: =X58/F58 -> 0 | Z58: Clariion
A59: SL7EA102100007 | B59: rdc4-ax4-0007 | C59: RDC | D59: Clariion | E59: SL7EA102100007 | F59: 7645.6551 | G59: 7218.691 | H59: 426.96403 | I59: 6950.5955 | J59: 3242.5 | K59: 3708.0955 | L59: 3708.0955 | M59: 0 | N59: 268.09552 | O59: 3708.0955 | R59: =L59/K59 -> 1 | S59: =O59/K59 -> 1 | T59: =H59/$F59 -> 0.055844009 | U59: =N59/$F59 -> 0.035065082 | V59: =J59/$F59 -> 0.42409708 | W59: =H59+J59+K59+N59+P59 -> 7645.6551 | X59: =F59-W59 -> 0 | Y59: =X59/F59 -> 0 | Z59: Clariion
A60: 295700667 | B60: 667 | C60: FDC | D60: Vmax | E60: 000295700667 | F60: 235200 | G60: 213716.56 | H60: 21483.438 | I60: 200645.2 | J60: 98451.1 | K60: 102194.1 | L60: 21778.7 | M60: 80415.4 | N60: 4361.5625 | O60: 55807.8 | R60: =L60/K60 -> 0.21311113 | S60: =O60/K60 -> 0.54609611 | T60: =H60/$F60 -> 0.091341146 | U60: =N60/$F60 -> 0.018544058 | V60: =J60/$F60 -> 0.41858461 | W60: =H60+J60+K60+N60+P60 -> 226490.2 | X60: =F60-W60 -> 8709.8 | Y60: =X60/F60 -> 0.037031463 | Z60: Replication
A61: 295700671 | B61: 671 | C61: RDC | D61: Vmax | E61: 000295700671 | F61: 480000 | G61: 436156.25 | H61: 43843.75 | I61: 415239 | J61: 205748 | K61: 209491 | L61: 44061.2 | M61: 165429.8 | N61: 8723.125 | O61: 152240.1 | Q61: 94476.8 | R61: =L61/K61 -> 0.21032503 | S61: =O61/K61 -> 0.72671427 | T61: =H61/$F61 -> 0.091341146 | U61: =N61/$F61 -> 0.018173177 | V61: =J61/$F61 -> 0.42864167 | W61: =H61+J61+K61+N61+P61 -> 467805.88 | X61: =F61-W61 -> 12194.125 | Y61: =X61/F61 -> 0.025404427 | Z61: Replication
A62: 295700710 | B62: 710 | C62: FDC | D62: Vmax | E62: 000295700710 | F62: 480000 | G62: 436156.25 | H62: 43843.75 | I62: 415239 | J62: 205748 | K62: 209491 | L62: 147275 | M62: 62216 | N62: 8723.125 | O62: 244329 | Q62: 134810 | R62: =L62/K62 -> 0.70301349 | S62: =O62/K62 -> 1.1662983 | T62: =H62/$F62 -> 0.091341146 | U62: =N62/$F62 -> 0.018173177 | V62: =J62/$F62 -> 0.42864167 | W62: =H62+J62+K62+N62+P62 -> 467805.88 | X62: =F62-W62 -> 12194.125 | Y62: =X62/F62 -> 0.025404427 | Z62: Replication
A63: 295700689 | B63: 689 | C63: RDC | D63: Vmax | E63: 000295700689 | F63: 235200 | G63: 213716.56 | H63: 21483.438 | I63: 200645.2 | J63: 98451.1 | K63: 102194.1 | L63: 74472.3 | M63: 27721.8 | N63: 4361.5625 | O63: 109520 | R63: =L63/K63 -> 0.72873385 | S63: =O63/K63 -> 1.0716861 | T63: =H63/$F63 -> 0.091341146 | U63: =N63/$F63 -> 0.018544058 | V63: =J63/$F63 -> 0.41858461 | W63: =H63+J63+K63+N63+P63 -> 226490.2 | X63: =F63-W63 -> 8709.8 | Y63: =X63/F63 -> 0.037031463 | Z63: Replication
A64: 7861188 | B64: 61188 | C64: FDC | D64: XIV | E64: 7861188 | F64: 540000 | G64: 534615 | H64: 5385 | I64: 486785.04 | J64: 243392.52 | K64: 243392.52 | L64: 107034 | M64: 136358.52 | N64: 44551.25 | O64: 107034 | R64: =L64/K64 -> 0.43975879 | S64: =O64/K64 -> 0.43975879 | T64: =H64/$F64 -> 0.0099722222 | U64: =N64/$F64 -> 0.082502315 | V64: =J64/$F64 -> 0.45072689 | W64: =H64+J64+K64+N64+P64 -> 536721.29 | X64: =F64-W64 -> 3278.71 | Y64: =X64/F64 -> 0.0060716852 | Z64: XIV
A65: 7861239 | B65: 61239 | C65: RDC | D65: XIV | E65: 7861239 | F65: 540000 | G65: 534615 | H65: 5385 | I65: 481966.76 | J65: 240983.38 | K65: 240983.38 | L65: 130093.84 | M65: 110889.54 | N65: 44551.25 | O65: 130093.84 | R65: =L65/K65 -> 0.53984569 | S65: =O65/K65 -> 0.53984569 | T65: =H65/$F65 -> 0.0099722222 | U65: =N65/$F65 -> 0.082502315 | V65: =J65/$F65 -> 0.44626552 | W65: =H65+J65+K65+N65+P65 -> 531903.01 | X65: =F65-W65 -> 8096.99 | Y65: =X65/F65 -> 0.014994426 | Z65: XIV
A66: 295700712 | B66: 712 | C66: FDC | D66: Vmax | E66: 000295700712 | F66: 480000 | G66: 436156.25 | H66: 43843.75 | I66: 415239 | J66: 205748 | K66: 209491 | L66: 139447.9 | M66: 70043.1 | N66: 8723.125 | O66: 254516 | Q66: 133832 | R66: =L66/K66 -> 0.66565103 | S66: =O66/K66 -> 1.2149257 | T66: =H66/$F66 -> 0.091341146 | U66: =N66/$F66 -> 0.018173177 | V66: =J66/$F66 -> 0.42864167 | W66: =H66+J66+K66+N66+P66 -> 467805.88 | X66: =F66-W66 -> 12194.125 | Y66: =X66/F66 -> 0.025404427 | Z66: Replication
A67: 295700706 | B67: 706 | C67: RDC | D67: Vmax | E67: 000295700706 | F67: 235200 | G67: 213716.56 | H67: 21483.438 | I67: 200645.2 | J67: 98451.1 | K67: 102194.1 | L67: 76496.3 | M67: 25697.8 | N67: 4361.5625 | O67: 127434 | R67: =L67/K67 -> 0.7485393 | S67: =O67/K67 -> 1.24698 | T67: =H67/$F67 -> 0.091341146 | U67: =N67/$F67 -> 0.018544058 | V67: =J67/$F67 -> 0.41858461 | W67: =H67+J67+K67+N67+P67 -> 226490.2 | X67: =F67-W67 -> 8709.8 | Y67: =X67/F67 -> 0.037031463 | Z67: Replication
A68: 295700709 | B68: 709 | C68: FDC | D68: Vmax | E68: 000295700709 | F68: 587800 | G68: 541278.67 | H68: 46521.332 | I68: 516508 | J68: 187816.4 | K68: 328691.6 | L68: 195984.3 | M68: 132707.3 | N68: 10868.48 | O68: 323143 | R68: =L68/K68 -> 0.59625588 | S68: =O68/K68 -> 0.98311913 | T68: =H68/$F68 -> 0.079144832 | U68: =N68/$F68 -> 0.018490099 | V68: =J68/$F68 -> 0.31952433 | W68: =H68+J68+K68+N68+P68 -> 573897.81 | X68: =F68-W68 -> 13902.188 | Y68: =X68/F68 -> 0.023651221 | Z68: Non-Replication
A69: 295700713 | B69: 713 | C69: FDC | D69: Vmax | E69: 000295700713 | F69: 431200 | G69: 392263.38 | H69: 38936.625 | I69: 372932.87 | J69: 182064.07 | K69: 190868.8 | L69: 41426.1 | M69: 149442.7 | N69: 8005.375 | O69: 198313 | R69: =L69/K69 -> 0.21703966 | S69: =O69/K69 -> 1.0390017 | T69: =H69/$F69 -> 0.090298295 | U69: =N69/$F69 -> 0.018565341 | V69: =J69/$F69 -> 0.4222265 | W69: =H69+J69+K69+N69+P69 -> 419874.87 | X69: =F69-W69 -> 11325.133 | Y69: =X69/F69 -> 0.026264224 | Z69: Non-Replication
A70: 295700704 | B70: 704 | C70: RDC | D70: Vmax | E70: 000295700704 | F70: 405400 | G70: 373152.69 | H70: 32247.312 | I70: 354223.73 | J70: 130153.43 | K70: 224070.3 | L70: 51383.5 | M70: 172686.8 | N70: 7915.0625 | O70: 241478 | R70: =L70/K70 -> 0.22931866 | S70: =O70/K70 -> 1.0776886 | T70: =H70/$F70 -> 0.079544431 | U70: =N70/$F70 -> 0.019524081 | V70: =J70/$F70 -> 0.32104942 | W70: =H70+J70+K70+N70+P70 -> 394386.11 | X70: =F70-W70 -> 11013.892 | Y70: =X70/F70 -> 0.027167962 | Z70: Non-Replication
A71: 295700688 | B71: 688 | C71: RDC | D71: Vmax | E71: 000295700688 | F71: 362400 | G71: 329297.97 | H71: 33102.031 | I71: 312384 | J71: 156192 | K71: 156192 | L71: 40099.4 | M71: 116092.6 | N71: 6542.3438 | O71: 55880.3 | R71: =L71/K71 -> 0.25673146 | S71: =O71/K71 -> 0.35776672 | T71: =H71/$F71 -> 0.091341146 | U71: =N71/$F71 -> 0.018052825 | V71: =J71/$F71 -> 0.43099338 | W71: =H71+J71+K71+N71+P71 -> 352028.38 | X71: =F71-W71 -> 10371.625 | Y71: =X71/F71 -> 0.028619274 | Z71: Replication
A72: 295700703 | B72: 703 | C72: CGC | D72: Vmax | E72: 000295700703 | F72: 405400 | G72: 373152.69 | H72: 32247.312 | I72: 354223.73 | J72: 130153.43 | K72: 224070.3 | L72: 103948.9 | M72: 120121.4 | N72: 7915.0625 | O72: 182630 | R72: =L72/K72 -> 0.463912 | S72: =O72/K72 -> 0.8150567 | T72: =H72/$F72 -> 0.079544431 | U72: =N72/$F72 -> 0.019524081 | V72: =J72/$F72 -> 0.32104942 | W72: =H72+J72+K72+N72+P72 -> 394386.11 | X72: =F72-W72 -> 11013.892 | Y72: =X72/F72 -> 0.027167962 | Z72: Non-Replication
A73: 295700705 | B73: 705 | C73: CGC | D73: Vmax | E73: 000295700705 | F73: 362400 | G73: 329297.97 | H73: 33102.031 | I73: 312384 | J73: 156192 | K73: 156192 | L73: 40074 | M73: 116118 | N73: 6542.3438 | O73: 55866.6 | R73: =L73/K73 -> 0.25656884 | S73: =O73/K73 -> 0.35767901 | T73: =H73/$F73 -> 0.091341146 | U73: =N73/$F73 -> 0.018052825 | V73: =J73/$F73 -> 0.43099338 | W73: =H73+J73+K73+N73+P73 -> 352028.38 | X73: =F73-W73 -> 10371.625 | Y73: =X73/F73 -> 0.028619274 | Z73: Replication
A74: 295700699 | B74: 699 | C74: RDC | D74: Vmax | E74: 000295700699 | F74: 405400 | G74: 373152.69 | H74: 32247.312 | I74: 354223.73 | J74: 130153.43 | K74: 224070.3 | L74: 38373.1 | M74: 185697.2 | N74: 7915.0625 | O74: 171470 | R74: =L74/K74 -> 0.17125474 | S74: =O74/K74 -> 0.76525091 | T74: =H74/$F74 -> 0.079544431 | U74: =N74/$F74 -> 0.019524081 | V74: =J74/$F74 -> 0.32104942 | W74: =H74+J74+K74+N74+P74 -> 394386.11 | X74: =F74-W74 -> 11013.892 | Y74: =X74/F74 -> 0.027167962 | Z74: Non-Replication
A75: 298701383 | B75: 1383 | C75: Swiss | D75: Vmax | E75: 000298701383 | F75: 137400 | G75: 124849.73 | H75: 12550.273 | I75: 119445.8 | J75: 59722.9 | K75: 59722.9 | L75: 19595.9 | M75: 40127 | N75: 2725.9766 | O75: 61297.2 | R75: =L75/K75 -> 0.32811367 | S75: =O75/K75 -> 1.0263601 | T75: =H75/$F75 -> 0.091341146 | U75: =N75/$F75 -> 0.019839713 | V75: =J75/$F75 -> 0.43466448 | W75: =H75+J75+K75+N75+P75 -> 134722.05 | X75: =F75-W75 -> 2677.95 | Y75: =X75/F75 -> 0.019490175 | Z75: Non-Replication
A76: 295700485 | B76: 485 | C76: RDC | D76: Vmax | E76: 000295700485 | F76: 431200 | G76: 392263.38 | H76: 38936.625 | I76: 372932.87 | J76: 182064.07 | K76: 190868.8 | L76: 39857 | M76: 151011.8 | N76: 8005.375 | O76: 141793 | R76: =L76/K76 -> 0.20881883 | S76: =O76/K76 -> 0.74288202 | T76: =H76/$F76 -> 0.090298295 | U76: =N76/$F76 -> 0.018565341 | V76: =J76/$F76 -> 0.4222265 | W76: =H76+J76+K76+N76+P76 -> 419874.87 | X76: =F76-W76 -> 11325.133 | Y76: =X76/F76 -> 0.026264224 | Z76: Non-Replication
A77: 295701144 | B77: 1144 | C77: RDC | D77: Vmax | E77: 000295701144 | F77: 235200 | G77: 213716.56 | H77: 21483.438 | I77: 200645.2 | J77: 100322.6 | K77: 100322.6 | L77: 15656.8 | M77: 84665.8 | N77: 4361.5625 | O77: 49951.6 | R77: =L77/K77 -> 0.15606454 | S77: =O77/K77 -> 0.49790974 | T77: =H77/$F77 -> 0.091341146 | U77: =N77/$F77 -> 0.018544058 | V77: =J77/$F77 -> 0.42654167 | W77: =H77+J77+K77+N77+P77 -> 226490.2 | X77: =F77-W77 -> 8709.8 | Y77: =X77/F77 -> 0.037031463 | Z77: Replication
A78: 295701124 | B78: 1124 | C78: FDC | D78: Vmax | E78: 000295701124 | F78: 475200 | G78: 431794.69 | H78: 43405.312 | I78: 410947 | J78: 205473.5 | K78: 205473.5 | L78: 24376 | M78: 181097.5 | N78: 8723.125 | O78: 49778.8 | R78: =L78/K78 -> 0.1186333 | S78: =O78/K78 -> 0.24226384 | T78: =H78/$F78 -> 0.091341146 | U78: =N78/$F78 -> 0.018356745 | V78: =J78/$F78 -> 0.43239373 | W78: =H78+J78+K78+N78+P78 -> 463075.44 | X78: =F78-W78 -> 12124.562 | Y78: =X78/F78 -> 0.025514652 | Z78: Replication
A79: 294900877 | B79: 877 | C79: welle | D79: Vmax | E79: 294900877 | F79: 6600 | G79: 5940 | H79: 660 | I79: 5400 | J79: 675 | K79: 4725 | L79: 4282 | M79: 443 | N79: 540 | O79: 4282 | R79: =L79/K79 -> 0.90624339 | S79: =O79/K79 -> 0.90624339 | T79: =H79/$F79 -> 0.1 | U79: =N79/$F79 -> 0.081818182 | V79: =J79/$F79 -> 0.10227273 | W79: =H79+J79+K79+N79+P79 -> 6600 | X79: =F79-W79 -> 0 | Y79: =X79/F79 -> 0
E80: Grand Total | F80: 18372235 | G80: 16779438 | H80: 1592797.5 | I80: 15124618 | J80: 5206552 | K80: 9918066 | L80: 5504265 | M80: 4413801.1 | N80: 339197.63 | O80: 7913604.5 | P80: 715565.16 | Q80: 898472.24

Sheet Source
A1: 1 | B1: 2 | C1: 3 | D1: 4 | E1: 5 | F1: 6 | G1: 7 | H1: 8 | I1: 9 | J1: 10 | K1: 11 | L1: 12 | M1: 13 | N1: 14 | O1: 15 | P1: 16 | Q1: 17 | R1: 18 | S1: 19 | T1: 20 | U1: 21 | V1: 22 | W1: 23 | X1: 24 | Y1: 25 | Z1: 26 | AA1: 27 | AB1: 28 | AC1: 29 | AD1: 30 | AE1: 31 | AF1: 32 | AG1: 33 | AH1: 34 | AI1: 35 | AJ1: 36 | AK1: 37 | AL1: 38 | AM1: 39 | AN1: 40 | AO1: 41 | AP1: 42 | AQ1: 43 | AR1: 44 | AS1: 45 | AT1: 46 | AU1: 47 | AV1: 48 | AW1: 49 | AX1: 50 | AY1: 51 | AZ1: 52 | BA1: 53 | BB1: 54 | BC1: 55 | BD1: 56 | BE1: 57 | BF1: 58 | BG1: 59 | BH1: 60 | BI1: 61 | BJ1: 62 | BK1: 63 | BL1: 64 | BM1: 65 | BN1: 66 | BO1: 67 | BP1: 68 | BQ1: 69 | BR1: 70 | BS1: 71 | BT1: 72 | BU1: 73 | BV1: 74 | BW1: 75 | BX1: 76 | BY1: 77 | BZ1: 78 | CA1: 79 | CB1: 80 | CC1: 81 | CD1: 82 | CE1: 83 | CF1: 84 | CG1: 85 | CH1: 86 | CI1: 87 | CJ1: 88 | CK1: 89 | CL1: 90 | CM1: 91 | CN1: 92 | CO1: 93 | CP1: 94 | CQ1: 95 | CR1: 96 | CS1: 97 | CT1: 98 | CU1: 99 | CV1: 100 | CW1: 101 | CX1: 102 | CY1: 103 | CZ1: 104 | DA1: 105 | DB1: 106 | DC1: 107 | DD1: 108 | DE1: 109 | DF1: 110 | DG1: 111 | DH1: 112 | DI1: 113 | DJ1: 114 | DK1: 115 | DL1: 116 | DM1: 117 | DN1: 118 | DO1: 119 | DP1: 120 | DQ1: 121 | DR1: 122 | DS1: 123 | DT1: 124 | DU1: 125 | DV1: 126 | DW1: 127 | DX1: 128 | DY1: 129 | DZ1: 130 | EA1: 131 | EB1: 132 | EC1: 133
M2: Market Raw Standard (GB) | BC2: formatted Disk (GB) | CS2: Disk Format Lost (GB) | CT2: RAID Type | CX2: RAID GB | DC2: Parity Loss | DD2: PoolName | DH2: Pool Usable | DM2: Pool Used | DR2: Pool Free | DW2: %Used | DX2: Host Allocated | DY2: R2-Bcv | DZ2: Total Host Allocated + R2-BCV | EA2: %Allocated | EB2: UnCarved | EC2: Not in Pool
M3: Spare | AA3: Disk | AO3: Disk + Spare | BC3: Spare | BQ3: Disk | CE3: Disk + Spare | CT3: SAS | CU3: SSD | CV3: SATA | CW3: DSE/Save pool | CX3: SAS | CY3: SSD | CZ3: SATA | DA3: DSE/Save pool | DB3: Raid Total | DD3: SAS | DE3: SSD | DF3: SATA | DG3: DSE | DH3: SAS | DI3: SSD | DJ3: SATA | DK3: DSE | DL3: Total Pool Usable | DM3: SAS | DN3: SSD | DO3: SATA | DP3: DSE | DQ3: Total Pool Used | DR3: SAS | DS3: SSD | DT3: SATA | DU3: DSE | DV3: Total Pool Free
A4: Site | B4: Array SN | C4: Array Name | D4: Array Type | E4: Array Model | F4: Array Vendor | G4: Array Label | H4: Business Use (BAU/TR/Dedicate) | I4: SRDF Type | J4: FAST | K4: Thick/Thin | L4: Array | M4: Count of Size | S4: Sum of Size | Y4: Total Count | Z4: Total Sum | AA4: Count of Size | AG4: Sum of Size | AM4: Total Count | AN4: Total Sum | AO4: Count of Size | AU4: Sum of Size | BA4: Total Count | BB4: Total Sum | BC4: Count of Size | BI4: Sum of Size | BO4: Total Count | BP4: Total Sum | BQ4: Count of Size | BW4: Sum of Size | CC4: Total Count | CD4: Total Sum | CE4: Count of Size | CK4: Sum of Size | CQ4: Total Count | CR4: Total Sum
B5: Array SN | C5: Array Name | D5: Array Type | E5: Array Model | F5: Array Vendor | G5: Array Label | H5: Business Use (BAU/TR/Dedicate) | I5: SRDF Type | J5: FAST | K5: Thick/Thin | L5: Array | M5: 300 | N5: 450 | O5: 2048 | P5: 200 | Q5: 100 | R5: 1024 | S5: 300 | T5: 450 | U5: 2048 | V5: 200 | W5: 100 | X5: 1024 | AA5: 300 | AB5: 450 | AC5: 2048 | AD5: 200 | AE5: 100 | AF5: 1024 | AG5: 300 | AH5: 450 | AI5: 2048 | AJ5: 200 | AK5: 100 | AL5: 1024 | AO5: 300 | AP5: 450 | AQ5: 2048 | AR5: 200 | AS5: 100 | AT5: 1024 | AU5: 300 | AV5: 450 | AW5: 2048 | AX5: 200 | AY5: 100 | AZ5: 1024 | BC5: 272.59766 | BD5: 408.89648 | BE5: 1780.8252 | BF5: 186.31055 | BG5: 93.160156 | BH5: 931.51367 | BI5: 272.59766 | BJ5: 408.89648 | BK5: 1780.8252 | BL5: 186.31055 | BM5: 93.160156 | BN5: 931.51367 | BQ5: 272.59766 | BR5: 408.89648 | BS5: 1780.8252 | BT5: 186.31055 | BU5: 93.160156 | BV5: 931.51367 | BW5: 272.59766 | BX5: 408.89648 | BY5: 1780.8252 | BZ5: 186.31055 | CA5: 93.160156 | CB5: 931.51367 | CE5: 272.59766 | CF5: 408.89648 | CG5: 1780.8252 | CH5: 186.31055 | CI5: 93.160156 | CJ5: 931.51367 | CK5: 272.59766 | CL5: 408.89648 | CM5: 1780.8252 | CN5: 186.31055 | CO5: 93.160156 | CP5: 931.51367 | DX5: Host Allocated | DZ5: Total Host Allocated + R2-BCV | EA5: utilization % | EB5: Total Host Allocated + R2-BCV | EC5: Total Host Allocated + R2-BCV
A6: RDC | B6: 000295700347 | C6: 0347 | D6: Vmax | E6: VMAX40K | F6: EMC | G6: EMC Symmetrix VMAX | H6: BAU/TR | I6: Symm-NonSRDF | J6: FAST | K6: Thin | L6: 347 | M6: 18 | Q6: 4 | R6: 6 | S6: =(M6*300)+(Q6*100)+(R6*1000) -> 11800 | W6: 400 | X6: 6144 | Y6: 28 | Z6: 11944 | AA6: 896 | AE6: 128 | AF6: 288 | AG6: 268800 | AK6: 12800 | AL6: 294912 | AM6: 1312 | AN6: 576512 | AO6: 914 | AS6: 132 | AT6: 294 | AU6: 274200 | AY6: 13200 | AZ6: 301056 | BA6: 1340 | BB6: 588456 | BC6: 18 | BG6: 4 | BH6: 6 | BI6: 4906.7578 | BM6: 372.64062 | BN6: 5589.082 | BO6: 28 | BP6: 10868.48 | BQ6: 896 | BU6: 128 | BV6: 288 | BW6: 244247.5 | CA6: 11924.5 | CB6: 268275.94 | CC6: 1312 | CD6: 524447.94 | CE6: 914 | CI6: 132 | CJ6: 294 | CK6: 249154.26 | CO6: 12297.141 | CP6: 273865.02 | CQ6: 1340 | CR6: 535316.42 | CS6: =BB6-CR6 -> 53139.582 | CT6: 2-Way Mir | CU6: RAID-6(6+2) | CV6: RAID-5(3+1) | CX6: =DH6*2 -> 166390 | CY6: =DI6*8/6 -> 176094 | CZ6: =DJ6*4/3 -> 11739.733 | DB6: =CX6+CY6+CZ6+DA6 -> 354223.73 | DC6: =DB6-DL6 -> 130153.43 | DD6: 0347_300GB | DE6: 0347_1TB | DF6: 0347_100_SSD | DH6: =VLOOKUP(DD:DD,Pool!C:H,2,FALSE) -> 83195 | DI6: =VLOOKUP(DE:DE,Pool!C:H,2,FALSE) -> 132070.5 | DJ6: =VLOOKUP(DF:DF,Pool!C:H,2,FALSE) -> 8804.8 | DL6: =DH6+DI6+DJ6+DK6 -> 224070.3 | DM6: =VLOOKUP(DD:DD,Pool!C:H,3,FALSE) -> 35723.2 | DN6: =VLOOKUP(DE:DE,Pool!C:H,3,FALSE) -> 55197.2 | DO6: =VLOOKUP(DF:DF,Pool!C:H,3,FALSE) -> 8710.9 | DQ6: =DM6+DN6+DO6+DP6 -> 99631.3 | DR6: =DH6-DM6 -> 47471.8 | DS6: =DI6-DN6 -> 76873.3 | DT6: =DJ6-DO6 -> 93.9 | DU6: =DK6-DP6 -> 0 | DV6: =DL6-DQ6 -> 124439 | DW6: =DQ6/DL6 -> 0.44464304 | DX6: =VLOOKUP(ED:ED,Pool!K:Q,7,FALSE) -> 189680 | DZ6: =SUM(DX6:DY6) -> 189680 | EA6: =DZ6/DL6 -> 0.84652004 | EB6: =SUM(DX6:DZ6) -> 379360 | EC6: 165000 | ED6: 295700347
A7: FDC | B7: 000295700349 | C7: 0349 | D7: Vmax | E7: VMAX40K | F7: EMC | G7: EMC Symmetrix VMAX | H7: BAU | I7: Symm-NonSRDF | J7: FAST | K7: Thin | L7: 349 | M7: 18 | Q7: 4 | R7: 6 | S7: =(M7*300)+(Q7*100)+(R7*1000) -> 11800 | W7: 400 | X7: 6144 | Y7: 28 | Z7: 11944 | AA7: 896 | AE7: 128 | AF7: 288 | AG7: 268800 | AK7: 12800 | AL7: 294912 | AM7: 1312 | AN7: 576512 | AO7: 914 | AS7: 132 | AT7: 294 | AU7: 274200 | AY7: 13200 | AZ7: 301056 | BA7: 1340 | BB7: 588456 | BC7: 18 | BG7: 4 | BH7: 6 | BI7: 4906.7578 | BM7: 372.64062 | BN7: 5589.082 | BO7: 28 | BP7: 10868.48 | BQ7: 896 | BU7: 128 | BV7: 288 | BW7: 244247.5 | CA7: 11924.5 | CB7: 268275.94 | CC7: 1312 | CD7: 524447.94 | CE7: 914 | CI7: 132 | CJ7: 294 | CK7: 249154.26 | CO7: 12297.141 | CP7: 273865.02 | CQ7: 1340 | CR7: 535316.42 | CS7: =BB7-CR7 -> 53139.582 | CT7: 2-Way Mir | CU7: RAID-6(6+2 | CV7: RAID-5(3+1) | CX7: =DH7*2 -> 234019.6 | CY7: =DI7*8/6 -> 176094 | CZ7: =DJ7*4/3 -> 17609.467 | DB7: =CX7+CY7+CZ7+DA7 -> 427723.07 | DC7: =DB7-DL7 -> 165435.67 | DD7: 0349_300GB | DE7: 0349_1TB | DF7: 0349_100_SSD | DH7: =VLOOKUP(Source!DD:DD,Pool!C:H,2,FALSE) -> 117009.8 | DI7: =VLOOKUP(DE:DE,Pool!C:H,2,FALSE) -> 132070.5 | DJ7: =VLOOKUP(DF:DF,Pool!C:H,2,FALSE) -> 13207.1 | DL7: =DH7+DI7+DJ7+DK7 -> 262287.4 | DM7: =VLOOKUP(DD:DD,Pool!C:H,3,FALSE) -> 58159 | DN7: =VLOOKUP(DE:DE,Pool!C:H,3,FALSE) -> 99793.6 | DO7: =VLOOKUP(DF:DF,Pool!C:H,3,FALSE) -> 13072.9 | DQ7: =DM7+DN7+DO7+DP7 -> 171025.5 | DR7: =DH7-DM7 -> 58850.8 | DS7: =DI7-DN7 -> 32276.9 | DT7: =DJ7-DO7 -> 134.2 | DU7: =DK7-DP7 -> 0 | DV7: =DL7-DQ7 -> 91261.9 | DW7: =DQ7/DL7 -> 0.65205382 | DX7: =VLOOKUP(ED:ED,Pool!K:Q,7,FALSE) -> 294710 | DZ7: =SUM(DX7:DY7) -> 294710 | EA7: =DZ7/DL7 -> 1.1236148 | EC7: 165000 | ED7: 295700349
A8: RDC | B8: 000292600678 | C8: 0678 | D8: Vmax | E8: VMAX-1 | F8: EMC | G8: EMC Symmetrix VMAX | H8: BAU | I8: Symm-NonSRDF | J8: FAST | K8: Thin | L8: 678 | N8: 12 | T8: 5400 | Y8: 12 | Z8: 5400 | AB8: 528 | AH8: 237600 | AM8: 528 | AN8: 237600 | AP8: 540 | AV8: 243000 | BA8: 540 | BB8: 243000 | BD8: 12 | BJ8: 4906.7578 | BO8: 12 | BP8: 4906.7578 | BR8: 528 | BX8: 215897.34 | CC8: 528 | CD8: 215897.34 | CF8: 540 | CL8: 220804.1 | CQ8: 540 | CR8: 220804.1 | CS8: =BB8-CR8 -> 22195.898 | CT8: RAID-6(14+2) | CX8: =DH8*16/14 -> 207997.49 | CY8: =DI8*8/7 -> 0 | CZ8: =DJ8*8/6 -> 0 | DB8: =CX8+CY8+CZ8+DA8 -> 207997.49 | DC8: =DB8-DL8 -> 25999.686 | DD8: 0678_450_20 | DH8: =VLOOKUP(Source!DD:DD,Pool!C:H,2,FALSE) -> 181997.8 | DL8: =DH8+DI8+DJ8+DK8 -> 181997.8 | DM8: =VLOOKUP(DD:DD,Pool!C:H,3,FALSE) -> 102920 | DQ8: =DM8+DN8+DO8+DP8 -> 102920 | DR8: =DH8-DM8 -> 79077.8 | DS8: =DI8-DN8 -> 0 | DT8: =DJ8-DO8 -> 0 | DU8: =DK8-DP8 -> 0 | DV8: =DL8-DQ8 -> 79077.8 | DW8: =DQ8/DL8 -> 0.56550134 | DX8: =VLOOKUP(ED:ED,Pool!K:Q,7,FALSE) -> 94562.4 | DZ8: =SUM(DX8:DY8) -> 94562.4 | EA8: =DZ8/DL8 -> 0.51957991 | EC8: 16.8438 | ED8: 292600678
A9: FDC | B9: 000292600879 | C9: 0879 | D9: Vmax | E9: VMAX-1 | F9: EMC | G9: EMC Symmetrix VMAX | H9: BAU | I9: Symm-NonSRDF | J9: Not FAST | K9: Thin | L9: 879 | N9: 12 | T9: 5400 | Y9: 12 | Z9: 5400 | AB9: 560 | AH9: 252000 | AM9: 560 | AN9: 252000 | AP9: 572 | AV9: 257400 | BA9: 572 | BB9: 257400 | BD9: 12 | BJ9: 4906.7578 | BO9: 12 | BP9: 4906.7578 | BR9: 560 | BX9: 228982.03 | CC9: 560 | CD9: 228982.03 | CF9: 572 | CL9: 233888.79 | CQ9: 572 | CR9: 233888.79 | CS9: =BB9-CR9 -> 23511.211 | CT9: RAID-6(14+2) | CX9: =DH9*16/14 -> 220603.31 | CY9: =DI9*8/7 -> 0 | CZ9: =DJ9*8/6 -> 0 | DB9: =CX9+CY9+CZ9+DA9 -> 220603.31 | DC9: =DB9-DL9 -> 27575.414 | DD9: 0879_450_20 | DH9: =VLOOKUP(Source!DD:DD,Pool!C:H,2,FALSE) -> 193027.9 | DL9: =DH9+DI9+DJ9+DK9 -> 193027.9 | DM9: =VLOOKUP(DD:DD,Pool!C:H,3,FALSE) -> 38344.3 | DQ9: =DM9+DN9+DO9+DP9 -> 38344.3 | DR9: =DH9-DM9 -> 154683.6 | DS9: =DI9-DN9 -> 0 | DT9: =DJ9-DO9 -> 0 | DU9: =DK9-DP9 -> 0 | DV9: =DL9-DQ9 -> 154683.6 | DW9: =DQ9/DL9 -> 0.19864641 | DX9: =VLOOKUP(ED:ED,Pool!K:Q,7,FALSE) -> 72666.1 | DZ9: =SUM(DX9:DY9) -> 72666.1 | EA9: =DZ9/DL9 -> 0.37645387 | EC9: 16.8438 | ED9: 292600879
A10: RDC | B10: 000292602230 | C10: 2230 | D10: Vmax | E10: VMAX-1 | F10: EMC | G10: EMC Symmetrix VMAX | H10: BAU | I10: Symm/Async | J10: Not FAST | K10: Thin | L10: 2230 | N10: 10 | T10: 4500 | Y10: 10 | Z10: 4500 | AB10: 496 | AH10: 223200 | AM10: 496 | AN10: 223200 | AP10: 506 | AV10: 227700 | BA10: 506 | BB10: 227700 | BD10: 10 | BJ10: 4088.9648 | BO10: 10 | BP10: 4088.9648 | BR10: 496 | BX10: 202812.66 | CC10: 496 | CD10: 202812.66 | CF10: 506 | CL10: 206901.62 | CQ10: 506 | CR10: 206901.62 | CS10: =BB10-CR10 -> 20798.379 | CT10: RAID-6(14+2 | CW10: 2-Way Mir | CX10: =DH10*16/14 -> 195391.54 | CY10: =DI10*8/7 -> 0 | CZ10: =DJ10*8/6 -> 0 | DA10: =DK10*2 -> 2013.8 | DB10: =CX10+CY10+CZ10+DA10 -> 197405.34 | DC10: =DB10-DL10 -> 25430.843 | DD10: 2230_450GB | DG10: DSE | DH10: =VLOOKUP(Source!DD:DD,Pool!C:H,2,FALSE) -> 170967.6 | DK10: 1006.9 | DL10: =DH10+DI10+DJ10+DK10 -> 171974.5 | DM10: =VLOOKUP(DD:DD,Pool!C:H,3,FALSE) -> 64561.9 | DQ10: =DM10+DN10+DO10+DP10 -> 64561.9 | DR10: =DH10-DM10 -> 106405.7 | DS10: =DI10-DN10 -> 0 | DT10: =DJ10-DO10 -> 0 | DU10: =DK10-DP10 -> 1006.9 | DV10: =DL10-DQ10 -> 107412.6 | DW10: =DQ10/DL10 -> 0.37541554 | DX10: =VLOOKUP(ED:ED,Pool!K:Q,7,FALSE) -> 32823.1 | DY10: =VLOOKUP(ED10,Pool!A87:C95,2,FALSE) -> 24736.7 | DZ10: =SUM(DX10:DY10) -> 57559.8 | EA10: =DZ10/DL10 -> 0.33469962 | ED10: 292602230
A11: FDC | B11: 000292602231 | C11: 2231 | D11: Vmax | E11: VMAX-1 | F11: EMC | G11: EMC Symmetrix VMAX | H11: BAU | I11: Symm/Async | J11: Not FAST | K11: Thin | L11: 2231 | N11: 16 | T11: 7200 | Y11: 16 | Z11: 7200 | AB11: 800 | AH11: 360000 | AM11: 800 | AN11: 360000 | AP11: 816 | AV11: 367200 | BA11: 816 | BB11: 367200 | BD11: 16 | BJ11: 6542.3438 | BO11: 16 | BP11: 6542.3438 | BR11: 800 | BX11: 327117.19 | CC11: 800 | CD11: 327117.19 | CF11: 816 | CL11: 333659.53 | CQ11: 816 | CR11: 333659.53 | CS11: =BB11-CR11 -> 33540.469 | CT11: RAID-6(14+2) | CX11: =DH11*16/14 -> 315147.66 | CY11: =DI11*8/7 -> 0 | CZ11: =DJ11*8/6 -> 0 | DA11: =DK11*2 -> 750.8 | DB11: =CX11+CY11+CZ11+DA11 -> 315898.46 | DC11: =DB11-DL11 -> 39768.857 | DD11: 2231_450_20 | DG11: DSE | DH11: =VLOOKUP(Source!DD:DD,Pool!C:H,2,FALSE) -> 275754.2 | DK11: 375.4 | DL11: =DH11+DI11+DJ11+DK11 -> 276129.6 | DM11: =VLOOKUP(DD:DD,Pool!C:H,3,FALSE) -> 100534.2 | DQ11: =DM11+DN11+DO11+DP11 -> 100534.2 | DR11: =DH11-DM11 -> 175220 | DS11: =DI11-DN11 -> 0 | DT11: =DJ11-DO11 -> 0 | DU11: =DK11-DP11 -> 375.4 | DV11: =DL11-DQ11 -> 175595.4 | DW11: =DQ11/DL11 -> 0.36408339 | DX11: =VLOOKUP(ED:ED,Pool!K:Q,7,FALSE) -> 10855.4 | DY11: =VLOOKUP(ED11,Pool!A87:C95,2,FALSE) -> 55794.7 | DZ11: =SUM(DX11:DY11) -> 66650.1 | EA11: =DZ11/DL11 -> 0.24137253 | ED11: 292602231
A12: FDC | B12: 000292602804 | C12: 2804 | D12: Vmax | E12: VMAX-1 | F12: EMC | G12: EMC Symmetrix VMAX | H12: Rainbow | I12: Symm/Async | J12: Not FAST | K12: Thin | L12: 2804 | N12: 8 | P12: 2 | T12: 3600 | V12: 400 | Y12: 10 | Z12: 4000 | AB12: 240 | AD12: 32 | AH12: 108000 | AJ12: 6400 | AM12: 272 | AN12: 114400 | AP12: 248 | AR12: 34 | AV12: 111600 | AX12: 6800 | BA12: 282 | BB12: 118400 | BD12: 8 | BF12: 2 | BJ12: 3271.1719 | BL12: 372.62109 | BO12: 10 | BP12: 3643.793 | BR12: 240 | BT12: 32 | BX12: 98135.156 | BZ12: 5961.9375 | CC12: 272 | CD12: 104097.09 | CF12: 248 | CH12: 34 | CL12: 101406.33 | CN12: 6334.5586 | CQ12: 282 | CR12: 107740.89 | CS12: =BB12-CR12 -> 10659.113 | CT12: RAID-6(14+2) | CX12: =DH12*16/14 -> 94544.343 | CY12: =DI12*8/7 -> 0 | CZ12: =DJ12*8/6 -> 0 | DA12: =DK12*2 -> 624.4 | DB12: =CX12+CY12+CZ12+DA12 -> 95168.743 | DC12: =DB12-DL12 -> 12130.243 | DD12: 2804_450GB | DG12: DSE | DH12: =VLOOKUP(Source!DD:DD,Pool!C:H,2,FALSE) -> 82726.3 | DK12: 312.2 | DL12: =DH12+DI12+DJ12+DK12 -> 83038.5 | DM12: =VLOOKUP(DD:DD,Pool!C:H,3,FALSE) -> 59542 | DQ12: =DM12+DN12+DO12+DP12 -> 59542 | DR12: =DH12-DM12 -> 23184.3 | DS12: =DI12-DN12 -> 0 | DT12: =DJ12-DO12 -> 0 | DU12: =DK12-DP12 -> 312.2 | DV12: =DL12-DQ12 -> 23496.5 | DW12: =DQ12/DL12 -> 0.71704089 | DX12: =VLOOKUP(ED:ED,Pool!K:Q,7,FALSE) -> 108532 | DY12: 0 | DZ12: =SUM(DX12:DY12) -> 108532 | EA12: =DZ12/DL12 -> 1.3070082 | EC12: 4595.96 | ED12: 292602804
A13: FDC | B13: 000292603004 | C13: 3004 | D13: Vmax | E13: VMAX-1 | F13: EMC | G13: EMC Symmetrix VMAX | H13: BAU | I13: Symm-NonSRDF | J13: FAST | K13: Thin | L13: 3004 | N13: 8 | O13: 4 | P13: 2 | T13: 3600 | U13: 8192 | V13: 400 | Y13: 14 | Z13: 12192 | AB13: 384 | AC13: 192 | AD13: 96 | AH13: 172800 | AI13: 393216 | AJ13: 19200 | AM13: 672 | AN13: 585216 | AP13: 392 | AQ13: 196 | AR13: 98 | AV13: 176400 | AW13: 401408 | AX13: 19600 | BA13: 686 | BB13: 597408 | BD13: 8 | BE13: 4 | BF13: 2 | BJ13: 3271.1719 | BK13: 7123.3008 | BL13: 372.62109 | BO13: 14 | BP13: 10767.094 | BR13: 384 | BS13: 192 | BT13: 96 | BX13: 157016.25 | BY13: 341918.44 | BZ13: 17885.812 | CC13: 672 | CD13: 516820.5 | CF13: 392 | CG13: 196 | CH13: 98 | CL13: 160287.42 | CM13: 349041.74 | CN13: 18258.434 | CQ13: 686 | CR13: 527587.59 | CS13: =BB13-CR13 -> 69820.406 | CT13: RAID-6(14+2) | CU13: RAID-5(7+1) | CV13: RAID-6(14+2) | CX13: =DH13*16/14 -> 151008.23 | CY13: =DI13*8/7 -> 15757.371 | CZ13: =DJ13*16/14 -> 334056.46 | DB13: =CX13+CY13+CZ13+DA13 -> 500822.06 | DC13: =DB13-DL13 -> 62602.757 | DD13: 3004_450GB | DE13: 3004_200_SSD | DF13: 3004_2TBSATA | DH13: =VLOOKUP(Source!DD:DD,Pool!C:H,2,FALSE) -> 132132.2 | DI13: =VLOOKUP(DE:DE,Pool!C:H,2,FALSE) -> 13787.7 | DJ13: =VLOOKUP(DF:DF,Pool!C:H,2,FALSE) -> 292299.4 | DL13: =DH13+DI13+DJ13+DK13 -> 438219.3 | DM13: =VLOOKUP(DD:DD,Pool!C:H,3,FALSE) -> 78413 | DN13: =VLOOKUP(DE:DE,Pool!C:H,3,FALSE) -> 13643.7 | DO13: =VLOOKUP(DF:DF,Pool!C:H,3,FALSE) -> 117274.1 | DQ13: =DM13+DN13+DO13+DP13 -> 209330.8 | DR13: =DH13-DM13 -> 53719.2 | DS13: =DI13-DN13 -> 144 | DT13: =DJ13-DO13 -> 175025.3 | DU13: =DK13-DP13 -> 0 | DV13: =DL13-DQ13 -> 228888.5 | DW13: =DQ13/DL13 -> 0.47768503 | DX13: =VLOOKUP(ED:ED,Pool!K:Q,7,FALSE) -> 374596 | DY13: 0 | DZ13: =SUM(DX13:DY13) -> 374596 | EA13: =DZ13/DL13 -> 0.85481402 | ED13: 292603004
A14: RDC | B14: 000292603073 | C14: 3073 | D14: Vmax | E14: VMAX-1 | F14: EMC | G14: EMC Symmetrix VMAX | H14: BAU | I14: Symm-NonSRDF | J14: FAST | K14: Thin | L14: 3073 | N14: 8 | O14: 4 | P14: 2 | T14: 3600 | U14: 8192 | V14: 400 | Y14: 14 | Z14: 12192 | AB14: 384 | AC14: 160 | AD14: 96 | AH14: 172800 | AI14: 327680 | AJ14: 19200 | AM14: 640 | AN14: 519680 | AP14: 392 | AQ14: 164 | AR14: 98 | AV14: 176400 | AW14: 335872 | AX14: 19600 | BA14: 654 | BB14: 531872 | BD14: 8 | BE14: 4 | BF14: 2 | BJ14: 3271.1719 | BK14: 7123.3008 | BL14: 372.62109 | BO14: 14 | BP14: 10767.094 | BR14: 384 | BS14: 160 | BT14: 96 | BX14: 157016.25 | BY14: 284932.03 | BZ14: 17885.812 | CC14: 640 | CD14: 459834.09 | CF14: 392 | CG14: 164 | CH14: 98 | CL14: 160287.42 | CM14: 292055.33 | CN14: 18258.434 | CQ14: 654 | CR14: 470601.19 | CS14: =BB14-CR14 -> 61270.812 | CT14: RAID-6(14+2) | CU14: RAID-5(7+1) | CV14: RAID-6(14+2) | CX14: =DH14*16/14 -> 151008.23 | CY14: =DI14*8/7 -> 15757.371 | CZ14: =DJ14*16/14 -> 278380.46 | DB14: =CX14+CY14+CZ14+DA14 -> 445146.06 | DC14: =DB14-DL14 -> 55643.257 | DD14: 3073_450GB | DE14: 3073_200_SSD | DF14: 3073_2TBSATA | DH14: =VLOOKUP(Source!DD:DD,Pool!C:H,2,FALSE) -> 132132.2 | DI14: =VLOOKUP(DE:DE,Pool!C:H,2,FALSE) -> 13787.7 | DJ14: =VLOOKUP(DF:DF,Pool!C:H,2,FALSE) -> 243582.9 | DL14: =DH14+DI14+DJ14+DK14 -> 389502.8 | DM14: =VLOOKUP(DD:DD,Pool!C:H,3,FALSE) -> 68131.6 | DN14: =VLOOKUP(DE:DE,Pool!C:H,3,FALSE) -> 13417.2 | DO14: =VLOOKUP(DF:DF,Pool!C:H,3,FALSE) -> 131132.9 | DQ14: =DM14+DN14+DO14+DP14 -> 212681.7 | DR14: =DH14-DM14 -> 64000.6 | DS14: =DI14-DN14 -> 370.5 | DT14: =DJ14-DO14 -> 112450 | DU14: =DK14-DP14 -> 0 | DV14: =DL14-DQ14 -> 176821.1 | DW14: =DQ14/DL14 -> 0.54603382 | DX14: =VLOOKUP(ED:ED,Pool!K:Q,7,FALSE) -> 327291 | DY14: 0 | DZ14: =SUM(DX14:DY14) -> 327291 | EA14: =DZ14/DL14 -> 0.84027894 | ED14: 292603073
A15: RDC | B15: 000292603286 | C15: 3286 | D15: Vmax | E15: VMAX-1 | F15: EMC | G15: EMC Symmetrix VMAX | H15: Rainbow | I15: Symm/Async | J15: Not FAST | K15: Thin | L15: 3286 | N15: 10 | P15: 2 | T15: 4500 | V15: 400 | Y15: 12 | Z15: 4900 | AB15: 480 | AD15: 32 | AH15: 216000 | AJ15: 6400 | AM15: 512 | AN15: 222400 | AP15: 490 | AR15: 34 | AV15: 220500 | AX15: 6800 | BA15: 524 | BB15: 227300 | BD15: 10 | BF15: 2 | BJ15: 4088.9648 | BL15: 372.62109 | BO15: 12 | BP15: 4461.5859 | BR15: 480 | BT15: 32 | BX15: 196270.31 | BZ15: 5961.9375 | CC15: 512 | CD15: 202232.25 | CF15: 490 | CH15: 34 | CL15: 200359.28 | CN15: 6334.5586 | CQ15: 524 | CR15: 206693.84 | CS15: =BB15-CR15 -> 20606.164 | CT15: RAID-6(14+2) | CX15: =DH15*16/14 -> 189088.57 | CY15: =DI15*8/7 -> 0 | CZ15: =DJ15*8/6 -> 0 | DA15: =DK15*2 -> 624.4 | DB15: =CX15+CY15+CZ15+DA15 -> 189712.97 | DC15: =DB15-DL15 -> 23948.271 | DD15: 3286_450GB | DG15: DSE | DH15: =VLOOKUP(Source!DD:DD,Pool!C:H,2,FALSE) -> 165452.5 | DK15: 312.2 | DL15: =DH15+DI15+DJ15+DK15 -> 165764.7 | DM15: =VLOOKUP(DD:DD,Pool!C:H,3,FALSE) -> 118079.2 | DQ15: =DM15+DN15+DO15+DP15 -> 118079.2 | DR15: =DH15-DM15 -> 47373.3 | DS15: =DI15-DN15 -> 0 | DT15: =DJ15-DO15 -> 0 | DU15: =DK15-DP15 -> 312.2 | DV15: =DL15-DQ15 -> 47685.5 | DW15: =DQ15/DL15 -> 0.71233019 | DX15: =VLOOKUP(ED:ED,Pool!K:Q,7,FALSE) -> 97126.4 | DY15: =VLOOKUP(ED15,Pool!A87:C95,2,FALSE) -> 134002 | DZ15: =SUM(DX15:DY15) -> 231128.4 | EA15: =DZ15/DL15 -> 1.3943162 | EC15: 4595.96 | ED15: 292603286
A16: RDC | B16: 000292603696 | C16: 3696 | D16: Vmax | E16: VMAX-1 | F16: EMC | G16: EMC Symmetrix VMAX | H16: Rainbow | I16: Symm/Async | J16: Not FAST | K16: Thin | L16: 3696 | N16: 10 | P16: 1 | T16: 4500 | V16: 200 | Y16: 11 | Z16: 4700 | AB16: 480 | AD16: 32 | AH16: 216000 | AJ16: 6400 | AM16: 512 | AN16: 222400 | AP16: 490 | AR16: 33 | AV16: 220500 | AX16: 6600 | BA16: 523 | BB16: 227100 | BD16: 10 | BF16: 1 | BJ16: 4088.9648 | BL16: 186.31055 | BO16: 11 | BP16: 4275.2754 | BR16: 480 | BT16: 32 | BX16: 196270.31 | BZ16: 5961.9375 | CC16: 512 | CD16: 202232.25 | CF16: 490 | CH16: 33 | CL16: 200359.28 | CN16: 6148.248 | CQ16: 523 | CR16: 206507.53 | CS16: =BB16-CR16 -> 20592.475 | CT16: RAID-6(14+2) | CX16: =DH16*16/14 -> 189088.57 | CY16: =DI16*8/7 -> 0 | CZ16: =DJ16*8/6 -> 0 | DA16: =DK16*2 -> 1249 | DB16: =CX16+CY16+CZ16+DA16 -> 190337.57 | DC16: =DB16-DL16 -> 24260.571 | DD16: 3696_450GB | DG16: DSE | DH16: =VLOOKUP(Source!DD:DD,Pool!C:H,2,FALSE) -> 165452.5 | DK16: 624.5 | DL16: =DH16+DI16+DJ16+DK16 -> 166077 | DM16: =VLOOKUP(DD:DD,Pool!C:H,3,FALSE) -> 31021.4 | DQ16: =DM16+DN16+DO16+DP16 -> 31021.4 | DR16: =DH16-DM16 -> 134431.1 | DS16: =DI16-DN16 -> 0 | DT16: =DJ16-DO16 -> 0 | DU16: =DK16-DP16 -> 624.5 | DV16: =DL16-DQ16 -> 135055.6 | DW16: =DQ16/DL16 -> 0.18678926 | DX16: =VLOOKUP(ED:ED,Pool!K:Q,7,FALSE) -> 35477.4 | DY16: =VLOOKUP(ED16,Pool!A87:C95,2,FALSE) -> 137563 | DZ16: =SUM(DX16:DY16) -> 173040.4 | EA16: =DZ16/DL16 -> 1.0419287 | EC16: 4595.96 | ED16: 292603696
A17: FDC | B17: 000292603875 | C17: 3875 | D17: Vmax | E17: VMAX-1 | F17: EMC | G17: EMC Symmetrix VMAX | H17: Rainbow | I17: Symm/Async | J17: Not FAST | K17: Thin | L17: 3875 | N17: 8 | P17: 2 | T17: 3600 | V17: 400 | Y17: 10 | Z17: 4000 | AB17: 240 | AD17: 32 | AH17: 108000 | AJ17: 6400 | AM17: 272 | AN17: 114400 | AP17: 248 | AR17: 34 | AV17: 111600 | AX17: 6800 | BA17: 282 | BB17: 118400 | BD17: 8 | BF17: 2 | BJ17: 3271.1719 | BL17: 372.62109 | BO17: 10 | BP17: 3643.793 | BR17: 240 | BT17: 32 | BX17: 98135.156 | BZ17: 5961.9375 | CC17: 272 | CD17: 104097.09 | CF17: 248 | CH17: 34 | CL17: 101406.33 | CN17: 6334.5586 | CQ17: 282 | CR17: 107740.89 | CS17: =BB17-CR17 -> 10659.113 | CT17: RAID-6(14+2) | CX17: =DH17*16/14 -> 94544.343 | CY17: =DI17*8/7 -> 0 | CZ17: =DJ17*8/6 -> 0 | DA17: =DK17*2 -> 1249 | DB17: =CX17+CY17+CZ17+DA17 -> 95793.343 | DC17: =DB17-DL17 -> 12442.543 | DD17: 3875_450GB | DG17: DSE | DH17: =VLOOKUP(Source!DD:DD,Pool!C:H,2,FALSE) -> 82726.3 | DK17: 624.5 | DL17: =DH17+DI17+DJ17+DK17 -> 83350.8 | DM17: =VLOOKUP(DD:DD,Pool!C:H,3,FALSE) -> 16003.1 | DQ17: =DM17+DN17+DO17+DP17 -> 16003.1 | DR17: =DH17-DM17 -> 66723.2 | DS17: =DI17-DN17 -> 0 | DT17: =DJ17-DO17 -> 0 | DU17: =DK17-DP17 -> 624.5 | DV17: =DL17-DQ17 -> 67347.7 | DW17: =DQ17/DL17 -> 0.19199696 | DX17: =VLOOKUP(ED:ED,Pool!K:Q,7,FALSE) -> 33121.5 | DY17: 0 | DZ17: =SUM(DX17:DY17) -> 33121.5 | EA17: =DZ17/DL17 -> 0.39737471 | EC17: 4595.96 | ED17: 292603875
A18: RDC | B18: 000292604330 | C18: 4330 | D18: Vmax | E18: VMAX20K | F18: EMC | G18: EMC Symmetrix VMAX | H18: TR | I18: Symm/Async | J18: Not FAST | K18: Thin | L18: 4330 | N18: 14 | T18: 6300 | Y18: 14 | Z18: 6300 | AB18: 624 | AH18: 280800 | AM18: 624 | AN18: 280800 | AP18: 638 | AV18: 287100 | BA18: 638 | BB18: 287100 | BD18: 14 | BJ18: 5724.5508 | BO18: 14 | BP18: 5724.5508 | BR18: 624 | BX18: 255151.41 | CC18: 624 | CD18: 255151.41 | CF18: 638 | CL18: 260875.96 | CQ18: 638 | CR18: 260875.96 | CS18: =BB18-CR18 -> 26224.043 | CT18: 2-Way Mir | CX18: =DH18*2 -> 242759.2 | CY18: =DI18*8/7 -> 0 | CZ18: =DJ18*8/6 -> 0 | DA18: =DK18*2 -> 5273 | DB18: =CX18+CY18+CZ18+DA18 -> 248032.2 | DC18: =DB18-DL18 -> 124016.1 | DD18: 4330_450GB | DG18: DSE | DH18: =VLOOKUP(Source!DD:DD,Pool!C:H,2,FALSE) -> 121379.6 | DK18: 2636.5 | DL18: =DH18+DI18+DJ18+DK18 -> 124016.1 | DM18: =VLOOKUP(DD:DD,Pool!C:H,3,FALSE) -> 90440.5 | DQ18: =DM18+DN18+DO18+DP18 -> 90440.5 | DR18: =DH18-DM18 -> 30939.1 | DS18: =DI18-DN18 -> 0 | DT18: =DJ18-DO18 -> 0 | DU18: =DK18-DP18 -> 2636.5 | DV18: =DL18-DQ18 -> 33575.6 | DW18: =DQ18/DL18 -> 0.72926418 | DX18: =VLOOKUP(ED:ED,Pool!K:Q,7,FALSE) -> 134742 | DY18: =VLOOKUP(ED18,Pool!A87:C95,2,FALSE) -> 37070 | DZ18: =SUM(DX18:DY18) -> 171812 | EA18: =DZ18/DL18 -> 1.3854008 | ED18: 292604330
A19: FDC | B19: 000292604652 | C19: 4652 | D19: Vmax | E19: VMAX20K | F19: EMC | G19: EMC Symmetrix VMAX | H19: BAU | I19: Symm/Async | J19: Not FAST | K19: Thin | L19: 4652 | N19: 20 | T19: 9000 | Y19: 20 | Z19: 9000 | AB19: 960 | AH19: 432000 | AM19: 960 | AN19: 432000 | AP19: 980 | AV19: 441000 | BA19: 980 | BB19: 441000 | BD19: 20 | BJ19: 8177.9297 | BO19: 20 | BP19: 8177.9297 | BR19: 960 | BX19: 392540.62 | CC19: 960 | CD19: 392540.62 | CF19: 980 | CL19: 400718.55 | CQ19: 980 | CR19: 400718.55 | CS19: =BB19-CR19 -> 40281.445 | CT19: Way Mir | CX19: =DH19*2 -> 377953.2 | CY19: =DI19*8/7 -> 0 | CZ19: =DJ19*8/6 -> 0 | DA19: =DK19*2 -> 5273 | DB19: =CX19+CY19+CZ19+DA19 -> 383226.2 | DC19: =DB19-DL19 -> 191613.1 | DD19: 4652_450GB | DG19: DSE | DH19: =VLOOKUP(Source!DD:DD,Pool!C:H,2,FALSE) -> 188976.6 | DK19: 2636.5 | DL19: =DH19+DI19+DJ19+DK19 -> 191613.1 | DM19: =VLOOKUP(DD:DD,Pool!C:H,3,FALSE) -> 147825.3 | DQ19: =DM19+DN19+DO19+DP19 -> 147825.3 | DR19: =DH19-DM19 -> 41151.3 | DS19: =DI19-DN19 -> 0 | DT19: =DJ19-DO19 -> 0 | DU19: =DK19-DP19 -> 2636.5 | DV19: =DL19-DQ19 -> 43787.8 | DW19: =DQ19/DL19 -> 0.77147805 | DX19: =VLOOKUP(ED:ED,Pool!K:Q,7,FALSE) -> 133175 | DY19: =VLOOKUP(ED19,Pool!A87:C95,2,FALSE) -> 144244 | DZ19: =SUM(DX19:DY19) -> 277419 | EA19: =DZ19/DL19 -> 1.4478081 | ED19: 292604652
A20: CGC | B20: 000292600623 | C20: 0623 | D20: Vmax | E20: VMAX-1 | F20: EMC | G20: EMC Symmetrix VMAX | H20: BAU | I20: Symm-NonSRDF | J20: FAST | K20: Thin | L20: 623 | N20: 10 | O20: 2 | P20: 3 | T20: 4500 | U20: 4096 | V20: 600 | Y20: 15 | Z20: 9196 | AB20: 416 | AC20: 64 | AD20: 64 | AH20: 187200 | AI20: 131072 | AJ20: 12800 | AM20: 544 | AN20: 331072 | AP20: 426 | AQ20: 66 | AR20: 67 | AV20: 191700 | AW20: 135168 | AX20: 13400 | BA20: 559 | BB20: 340268 | BD20: 10 | BE20: 2 | BF20: 3 | BJ20: 4088.9648 | BK20: 3561.6504 | BL20: 558.93164 | BO20: 15 | BP20: 8209.5469 | BR20: 416 | BS20: 64 | BT20: 64 | BX20: 170100.94 | BY20: 113972.81 | BZ20: 11923.875 | CC20: 544 | CD20: 295997.62 | CF20: 426 | CG20: 66 | CH20: 67 | CL20: 174189.9 | CM20: 117534.46 | CN20: 12482.807 | CQ20: 559 | CR20: 304207.17 | CS20: =BB20-CR20 -> 36060.828 | CT20: RAID-6(14+2 | CU20: RAID-5(7+1) | CV20: RAID-6(14+2) | CX20: =DH20*16/14 -> 163876.8 | CY20: =DI20*8/7 -> 10504.914 | CZ20: =DJ20*16/14 -> 111352.11 | DB20: =CX20+CY20+CZ20+DA20 -> 285733.83 | DC20: =DB20-DL20 -> 35716.729 | DD20: 0623_450_20 | DE20: 0623_200_SSD | DF20: 0623_2TBSATA | DH20: =VLOOKUP(Source!DD:DD,Pool!C:H,2,FALSE) -> 143392.2 | DI20: =VLOOKUP(DE:DE,Pool!C:H,2,FALSE) -> 9191.8 | DJ20: =VLOOKUP(DF:DF,Pool!C:H,2,FALSE) -> 97433.1 | DL20: =DH20+DI20+DJ20+DK20 -> 250017.1 | DM20: =VLOOKUP(DD:DD,Pool!C:H,3,FALSE) -> 3042.5 | DN20: =VLOOKUP(DE:DE,Pool!C:H,3,FALSE) -> 1363 | DO20: =VLOOKUP(DF:DF,Pool!C:H,3,FALSE) -> 13586.8 | DQ20: =DM20+DN20+DO20+DP20 -> 17992.3 | DR20: =DH20-DM20 -> 140349.7 | DS20: =DI20-DN20 -> 7828.8 | DT20: =DJ20-DO20 -> 83846.3 | DU20: =DK20-DP20 -> 0 | DV20: =DL20-DQ20 -> 232024.8 | DW20: =DQ20/DL20 -> 0.071964278 | DX20: =VLOOKUP(ED:ED,Pool!K:Q,7,FALSE) -> 25322.4 | DZ20: =SUM(DX20:DY20) -> 25322.4 | EA20: =DZ20/DL20 -> 0.10128267 | EB20: 77939.569 | ED20: 292600623
A21: Swiss | B21: 492600377 | C21: 377 | D21: Vmax | E21: VMAX-1 | F21: EMC | G21: EMC Symmetrix VMAX | H21: BAU | I21: Symm-NonSRDF | J21: FAST | K21: Thin | L21: 377 | N21: 8 | T21: 3600 | Y21: 8 | Z21: 3600 | AB21: 96 | AH21: 43200 | AM21: 96 | AN21: 43200 | AP21: 104 | AV21: 46800 | BA21: 104 | BB21: 46800 | BD21: 8 | BJ21: 3271 | BO21: 8 | BP21: 3271 | BR21: 96 | BX21: 39254 | CC21: 96 | CD21: 39254 | CF21: 104 | CL21: 42525 | CQ21: 104 | CR21: 42525 | CS21: =BB21-CR21 -> 4275 | CT21: RAID-6 (14+2) | CX21: =DH21*16/14 -> 37817.714 | CY21: =DI21*8/7 -> 0 | CZ21: =DJ21*8/6 -> 0 | DB21: =CX21+CY21+CZ21 -> 37817.714 | DC21: =DB21-DL21 -> 4727.2143 | DD21: 0377_450GB | DH21: =VLOOKUP(Source!DD:DD,Pool!C:H,2,FALSE) -> 33090.5 | DL21: =DH21+DI21+DJ21+DK21 -> 33090.5 | DM21: =VLOOKUP(DD:DD,Pool!C:H,3,FALSE) -> 14757.2 | DQ21: =DM21+DN21+DO21+DP21 -> 14757.2 | DR21: =DH21-DM21 -> 18333.3 | DS21: =DI21-DN21 -> 0 | DT21: =DJ21-DO21 -> 0 | DU21: =DK21-DP21 -> 0 | DV21: =DL21-DQ21 -> 18333.3 | DW21: =DQ21/DL21 -> 0.44596485 | DX21: =VLOOKUP(ED:ED,Pool!K:Q,7,FALSE) -> 42854.1 | DZ21: =SUM(DX21:DY21) -> 42854.1 | EA21: =DZ21/DL21 -> 1.2950575 | ED21: 492600377
A22: RDC | B22: CKM00101000576 | C22: rdc4-ac4-0576 | D22: Clariion | E22: CX4-240 | F22: EMC | G22: Clariion AX | H22: Exchange | I22: Clariion-NonSRDF | J22: Not FAST | K22: Thick | L22: CKM00101000576 | Y22: 2 | Z22: 1050.7964 | AM22: 24 | AN22: 17928 | BA22: 26 | BB22: 20876.676 | BO22: 2 | BP22: 1050.7964 | CC22: 24 | CD22: 17928 | CQ22: 26 | CR22: 18978.796 | CS22: =BB22-CR22 -> 1897.8796 | CT22: RAID1/0 | CX22: 10014.796 | DB22: 18978.796 | DC22: =DB22-DL22 -> 8964 | DH22: 10014.796 | DL22: =DH22+DI22+DK22 -> 10014.796 | DM22: 10014.796 | DQ22: =DM22+DN22+DP22 -> 10014.796 | DV22: =DL22-DQ22 -> 0 | DW22: =DQ22/DL22 -> 1 | DX22: =DQ22 -> 10014.796 | DZ22: =SUM(DX22:DY22) -> 10014.796 | EA22: =DZ22/DL22 -> 1
A23: Russia DC | B23: FCNMM113000103 | C23: prof-ax4-0103 | D23: Clariion | E23: CX4-240 | F23: EMC | G23: Clariion AX | H23: Exchange | I23: Clariion-NonSRDF | J23: Not FAST | K23: Thick | L23: FCNMM113000103 | AB23: 2262 | AD23: 160 | AF23: =AD23*450 -> 72000 | AJ23: 65423.438 | AN23: 8042.8594 | AO23: 160 | AP23: 65423.438 | AR23: 2262 | AT23: 168 | AU23: =AT23*450 -> 75600 | AZ23: 68694.609 | BB23: 8847.1453 | BE23: 168 | BF23: 68694.609 | BR23: 2262 | BT23: 160 | BV23: =BT23*450 -> 72000 | BZ23: 65423.438 | CD23: 8042.8594 | CE23: 160 | CF23: 65423.438 | CH23: 2262 | CJ23: 168 | CK23: =CJ23*450 -> 75600 | CP23: 68694.609 | CR23: 8042.8594 | CS23: =BB23-CR23 -> 804.28594 | CT23: RAID1/0 | CX23: 4021.4297 | DB23: 8042.8594 | DC23: =DB23-DL23 -> 4021.4297 | DH23: 4021.4297 | DL23: =DH23+DI23+DK23 -> 4021.4297 | DM23: 4021.4297 | DQ23: =DM23+DN23+DP23 -> 4021.4297 | DV23: =DL23-DQ23 -> 0 | DW23: =DQ23/DL23 -> 1 | DX23: =DQ23 -> 4021.4297 | DZ23: =SUM(DX23:DY23) -> 4021.4297 | EA23: =DZ23/DL23 -> 1
A24: Russia DC | B24: FCNMM113000127 | C24: prof-ax4-0127 | D24: Clariion | E24: CX4-240 | F24: EMC | G24: Clariion AX | H24: Exchange | I24: Clariion-NonSRDF | J24: Not FAST | K24: Thick | L24: FCNMM113000127 | AB24: 2262 | AD24: 160 | AF24: =AD24*450 -> 72000 | AJ24: 65423.438 | AN24: 8042.8594 | AO24: 160 | AP24: 65423.438 | AR24: 2262 | AT24: 168 | AU24: =AT24*450 -> 75600 | AZ24: 68694.609 | BB24: 8847.1453 | BE24: 168 | BF24: 68694.609 | BR24: 2262 | BT24: 160 | BV24: =BT24*450 -> 72000 | BZ24: 65423.438 | CD24: 8042.8594 | CE24: 160 | CF24: 65423.438 | CH24: 2262 | CJ24: 168 | CK24: =CJ24*450 -> 75600 | CP24: 68694.609 | CR24: 8042.8594 | CS24: =BB24-CR24 -> 804.28594 | CT24: RAID1/0 | CX24: 4021.4297 | DB24: 8042.8594 | DC24: =DB24-DL24 -> 4021.4297 | DH24: 4021.4297 | DL24: =DH24+DI24+DK24 -> 4021.4297 | DM24: 4021.4297 | DQ24: =DM24+DN24+DP24 -> 4021.4297 | DV24: =DL24-DQ24 -> 0 | DW24: =DQ24/DL24 -> 1 | DX24: =DQ24 -> 4021.4297 | DZ24: =SUM(DX24:DY24) -> 4021.4297 | EA24: =DZ24/DL24 -> 1
A25: FDC | B25: SL7EA101700033 | C25: fdc1a-ax4-0033 | D25: Clariion | E25: AX4-5F8 | F25: EMC | G25: Clariion AX | H25: Exchange | I25: Clariion-NonSRDF | J25: Not FAST | K25: Thick | L25: fdc1b-ax4-0033 | Y25: 1 | Z25: 268.09552 | AM25: 12 | AN25: 6880 | BA25: 13 | BB25: 7862.9051 | BO25: 1 | BP25: 268.09552 | CC25: 12 | CD25: 6880 | CQ25: 13 | CR25: =7148.09552001953+BP25 -> 7416.191 | CS25: =BB25-CR25 -> 446.71403 | CT25: RAID1/0 | CX25: 3708.0955 | DB25: 7148.0955 | DC25: =DB25-DL25 -> 3440 | DH25: 3708.0955 | DL25: =DH25+DI25+DK25 -> 3708.0955 | DM25: 3602 | DQ25: =DM25+DN25+DP25 -> 3602 | DV25: =DL25-DQ25 -> 106.09552 | DW25: =DQ25/DL25 -> 0.97138814 | DX25: =DQ25 -> 3602 | DZ25: =SUM(DX25:DY25) -> 3602 | EA25: =DZ25/DL25 -> 0.97138814
