Workbook

Sheet Summary
C1: All Sheets
A3: Sheet Name | B3: Market Standard | C3: Formatted | D3: format Lost | E3: Physical total | F3: Parity Lost | G3: Spare | H3: Pool Usable | I3: Pool Used | J3: Pool Free | K3: %Used | L3: Host Allocations | M3: %Allocated
A4: Final MOR | B4: ='Final MOR'!D33 -> 7318759.5 | C4: ='Final MOR'!E33 -> 6621301.1 | D4: ='Final MOR'!F33 -> 697458.35 | E4: ='Final MOR'!G33 -> 5904024.3 | F4: ='Final MOR'!H33 -> 1200924.1 | G4: ='Final MOR'!I33 -> 136775.18 | H4: ='Final MOR'!J33 -> 4703100.2 | I4: ='Final MOR'!K33 -> 2362085.1 | J4: ='Final MOR'!L33 -> 2341015.1 | K4: =I4/H4 -> 0.50224001 | L4: ='Final MOR'!N33 -> 4531349.1 | M4: =L4/H4 -> 0.9634813
A5: Tech-Refresh | B5: ='Tech-Refresh'!C22 -> 1993306 | C5: ='Tech-Refresh'!D22 -> 1812737.5 | D5: ='Tech-Refresh'!E22 -> 180568.51 | E5: ='Tech-Refresh'!F22 -> 1778188.3 | F5: ='Tech-Refresh'!G22 -> 222273.54 | G5: ='Tech-Refresh'!H22 -> 43814.805 | H5: ='Tech-Refresh'!I22 -> 1555914.8 | I5: ='Tech-Refresh'!J22 -> 457652.65 | J5: ='Tech-Refresh'!K22 -> 1098262.1 | K5: =I5/H5 -> 0.29413735 | L5: ='Tech-Refresh'!M22 -> 1176383.4 | M5: =L5/H5 -> 0.75607189
A6: New Installs | B6: ='New Installs'!C6 -> 715200 | C6: ='New Installs'!D6 -> 649872.81 | D6: ='New Installs'!E6 -> 65327.188 | E6: ='New Installs'!F6 -> 615900 | F6: ='New Installs'!G6 -> 307950 | G6: ='New Installs'!H6 -> 13084.688 | H6: ='New Installs'!I6 -> 307950 | I6: ='New Installs'!J6 -> 6.2 | J6: ='New Installs'!K6 -> 307943.8 | K6: =I6/H6 -> 2.0133138e-05 | L6: ='New Installs'!M6 -> 0 | M6: =L6/H6 -> 0
A7: Unable to Report | B7: ='Unable to Report'!D30 -> 3734330.6 | C7: ='Unable to Report'!E30 -> 3394846 | D7: ='Unable to Report'!F30 -> 339484.6 | E7: ='Unable to Report'!G30 -> 3394846 | F7: ='Unable to Report'!H30 -> 518407.64 | G7: ='Unable to Report'!I30 -> 11298.38 | H7: ='Unable to Report'!J30 -> 2876438.4 | I7: ='Unable to Report'!K30 -> 170403.99 | J7: ='Unable to Report'!L30 -> 2706034.4 | K7: =I7/H7 -> 0.059241313 | L7: ='Unable to Report'!N30 -> 170403.99 | M7: =L7/H7 -> 0.059241313
A8: Total | B8: =SUM(B4:B7) -> 13761596 | C8: =SUM(C4:C7) -> 12478757 | D8: =SUM(D4:D7) -> 1282838.6 | E8: =SUM(E4:E7) -> 11692959 | F8: =SUM(F4:F7) -> 2249555.3 | G8: =SUM(G4:G7) -> 204973.05 | H8: =SUM(H4:H7) -> 9443403.4 | I8: =SUM(I4:I7) -> 2990148 | J8: =SUM(J4:J7) -> 6453255.4 | K8: =I8/H8 -> 0.3166388 | L8: =SUM(L4:L7) -> 5878136.5 | M8: =L8/H8 -> 0.62245954
C10: Exclude the below Sheets from the final MOR Report
A12: Sheet | B12: Market Standard | C12: Formatted | D12: format Lost | E12: Physical total | F12: Parity Lost | G12: Spare | H12: Pool Usable | I12: Pool Used | J12: Pool Free | K12: %Used | L12: Host Allocations | M12: %Allocated
A13: Tech-Refresh | B13: =B5 -> 1993306 | C13: =C5 -> 1812737.5 | D13: =D5 -> 180568.51 | E13: =E5 -> 1778188.3 | F13: =F5 -> 222273.54 | G13: =G5 -> 43814.805 | H13: =H5 -> 1555914.8 | I13: =I5 -> 457652.65 | J13: =J5 -> 1098262.1 | K13: =I13/H13 -> 0.29413735 | L13: =L5 -> 1176383.4 | M13: =L13/H13 -> 0.75607189
A14: New Installs | B14: =B6 -> 715200 | C14: =C6 -> 649872.81 | D14: =D6 -> 65327.188 | E14: =E6 -> 615900 | F14: =F6 -> 307950 | G14: =G6 -> 13084.688 | H14: =H6 -> 307950 | I14: =I6 -> 6.2 | J14: =J6 -> 307943.8 | K14: =I14/H14 -> 2.0133138e-05 | L14: =L6 -> 0 | M14: =L14/H14 -> 0
A15: Unable to Report | B15: =B7 -> 3734330.6 | C15: =C7 -> 3394846 | D15: =D7 -> 339484.6 | E15: =E7 -> 3394846 | F15: =F7 -> 518407.64 | G15: =G7 -> 11298.38 | H15: =H7 -> 2876438.4 | I15: =I7 -> 170403.99 | J15: =J7 -> 2706034.4 | K15: =I15/H15 -> 0.059241313 | L15: =L7 -> 170403.99 | M15: =L15/H15 -> 0.059241313 | O15: Exchange
A16: Total | B16: =SUM(B13:B15) -> 6442836.6 | C16: =SUM(C13:C15) -> 5857456.3 | D16: =SUM(D13:D15) -> 585380.3 | E16: =SUM(E13:E15) -> 5788934.4 | F16: =SUM(F13:F15) -> 1048631.2 | G16: =SUM(G13:G15) -> 68197.873 | H16: =SUM(H13:H15) -> 4740303.2 | I16: =SUM(I13:I15) -> 628062.83 | J16: =SUM(J13:J15) -> 4112240.3 | K16: =I16/H16 -> 0.13249423 | L16: =SUM(L13:L15) -> 1346787.4 | M16: =L16/H16 -> 0.2841142
C18: Final MOR Report
A20: Sheet | B20: Market Standard | C20: Formatted | D20: format Lost | E20: Physical total | F20: Parity Lost | G20: Spare | H20: Pool Usable | I20: Pool Used | J20: Pool Free | K20: %Used | L20: Host Allocations | M20: %Allocated
A21: Final MOR | B21: =B8-B16 -> 7318759.5 | C21: =C8-C16 -> 6621301.1 | D21: =D8-D16 -> 697458.35 | E21: =E8-E16 -> 5904024.3 | F21: =F8-F16 -> 1200924.1 | G21: =G8-G16 -> 136775.18 | H21: =H8-H16 -> 4703100.2 | I21: =I8-I16 -> 2362085.1 | J21: =J8-J16 -> 2341015.1 | K21: =I21/H21 -> 0.50224001 | L21: =L8-L16 -> 4531349.1 | M21: =L21/H21 -> 0.9634813

Sheet Final MOR
A1: Location | B1: Type | C1: Array | D1: Market Standard | E1: Formatted | F1: format Lost | G1: Physical total | H1: Parity Lost | I1: Spare | J1: Pool Usable | K1: Pool Used | L1: Pool Free | M1: %Used | N1: Host Allocations | O1: %Allocated
A2: Swiss | B2: vmax | C2: 377 | D2: 46800 | E2: 42525 | F2: 4275 | G2: 37817.714 | H2: 4727.2143 | I2: 3271 | J2: 33090.5 | K2: 7333.1 | L2: 25757.4 | M2: =K2/J2 -> 0.22160741 | N2: 36650.3 | O2: =N2/J2 -> 1.1075777
A3: Swiss | B3: vmax | C3: 2262 | D3: 75600 | E3: 68695 | F3: 6905 | G3: 63029.714 | H3: 7878.7143 | I3: 3271 | J3: 55151 | K3: 14103.1 | L3: 41047.9 | M3: =K3/J3 -> 0.25571794 | N3: 56947 | O3: =N3/J3 -> 1.0325651
A4: RDC | B4: vmax | C4: 0347 | D4: 588456 | E4: 535316.42 | F4: 53139.582 | G4: 354225.8 | H4: 130154.5 | I4: 10868.48 | J4: 224071.3 | K4: 8789.9 | L4: 215281.4 | M4: =K4/J4 -> 0.039228139 | N4: 95846.3 | O4: =N4/J4 -> 0.42774911 | Q4: FAST installed >6mo
A5: FDC | B5: vmax | C5: 0349 | D5: 588456 | E5: 535316.42 | F5: 53139.582 | G5: 354225.8 | H5: 130154.5 | I5: 10868.48 | J5: 224071.3 | K5: 75144.5 | L5: 148926.8 | M5: =K5/J5 -> 0.33535977 | N5: 218748 | O5: =N5/J5 -> 0.97624283
A6: RDC | B6: vmax | C6: 0552 | D6: 202800 | E6: 184276.02 | F6: 18523.984 | G6: 172019.09 | H6: 21502.386 | I6: 3816.3672 | J6: 150516.7 | K6: 82614.8 | L6: 67901.9 | M6: =K6/J6 -> 0.54887464 | N6: 97374.1 | O6: =N6/J6 -> 0.6469322
A7: cgc | B7: vmax | C7: 0623 | D7: 340268 | E7: 304207.17 | F7: 36060.828 | G7: 285735.31 | H7: 35716.914 | I7: 8209.5469 | J7: 250018.4 | K7: 99639.3 | L7: 150379.1 | M7: =K7/J7 -> 0.39852787 | N7: 169949 | O7: =N7/J7 -> 0.67974597
A8: rdc | B8: vmax | C8: 0678 | D8: 243000 | E8: 220804.1 | F8: 22195.898 | G8: 207998.63 | H8: 25999.829 | I8: 4906.7578 | J8: 181998.8 | K8: 157009.9 | L8: 24988.9 | M8: =K8/J8 -> 0.86269745 | N8: 262762 | O8: =N8/J8 -> 1.4437568
A9: cgc | B9: vmax | C9: 0745 | D9: 202800 | E9: 184276.02 | F9: 18523.984 | G9: 172019.09 | H9: 21502.386 | I9: 3816.3672 | J9: 150516.7 | K9: 83956.6 | L9: 66560.1 | M9: =K9/J9 -> 0.55778927 | N9: 96362.6 | O9: =N9/J9 -> 0.64021202
A10: fdc | B10: vmax | C10: 0879 | D10: 257400 | E10: 233888.79 | F10: 23511.211 | G10: 220604.69 | H10: 27575.586 | I10: 4906.7578 | J10: 193029.1 | K10: 169963.8 | L10: 23065.3 | M10: =K10/J10 -> 0.88050869 | N10: 277512 | O10: =N10/J10 -> 1.4376692
A11: rdc | B11: vmax | C11: 2230 | D11: 227700 | E11: 206901.62 | F11: 20798.379 | G11: 195392.69 | H11: 24424.086 | I11: 4088.9648 | J11: 170968.6 | K11: 113314.3 | L11: 57654.3 | M11: =K11/J11 -> 0.66277843 | N11: 169530 | O11: =N11/J11 -> 0.99158559
A12: fdc | B12: vmax | C12: 2231 | D12: 367200 | E12: 333659.53 | F12: 33540.469 | G12: 315148.57 | H12: 39393.571 | I12: 6542.3438 | J12: 275755 | K12: 209054.6 | L12: 66700.4 | M12: =K12/J12 -> 0.75811717 | N12: 322248 | O12: =N12/J12 -> 1.1686026
A13: fdc | B13: vmax | C13: 2804 | D13: 118400 | E13: 107740.89 | F13: 10659.113 | G13: 94544.686 | H13: 11818.086 | I13: 3643.793 | J13: 82726.6 | K13: 57786.6 | L13: 24940 | M13: =K13/J13 -> 0.69852502 | N13: 126591 | O13: =N13/J13 -> 1.5302333
A14: fdc | B14: vmax | C14: 3004 | D14: 597408 | E14: 527587.59 | F14: 69820.406 | G14: 500822.74 | H14: 62602.843 | I14: 10767.094 | J14: 438219.9 | K14: 198285.4 | L14: 239934.5 | M14: =K14/J14 -> 0.45247922 | N14: 369005 | O14: =N14/J14 -> 0.84205441
A15: rdc | B15: vmax | C15: 3073 | D15: 531872 | E15: 470601.19 | F15: 61270.812 | G15: 445148.57 | H15: 55643.571 | I15: 10767.094 | J15: 389505 | K15: 199059.6 | L15: 190445.4 | M15: =K15/J15 -> 0.51105788 | N15: 445574 | O15: =N15/J15 -> 1.1439494
A16: rdc | B16: vmax | C16: 3286 | D16: 227300 | E16: 206693.84 | F16: 20606.164 | G16: 189089.71 | H16: 23636.214 | I16: 4461.5859 | J16: 165453.5 | K16: 111706.1 | L16: 53747.4 | M16: =K16/J16 -> 0.67515102 | N16: 236575 | O16: =N16/J16 -> 1.4298579
... A20: fdc | B20: vmax | C20: 4652 | D20: 441000 | E20: 400718.55 | F20: 40281.445 | G20: 377963.2 | H20: 188981.6 | I20: 8177.9297 | J20: 188981.6 | K20: 94288.5 | L20: 94693.1 | M20: =K20/J20 -> 0.49892953 | N20: 212038.6 | O20: =N20/J20 -> 1.1220066
A21: Mos | B21: Clariion | C21: pres-ax4-0062 | D21: 23002.583 | E21: 20911.439 | F21: 2091.1439 | G21: 20911.439 | H21: 10455.72 | J21: 10455.72 | K21: 10455.72 | L21: 0 | M21: =K21/J21 -> 1 | N21: 10455.72 | O21: =N21/J21 -> 1
A22: Mos | B22: Clariion | C22: prof-ax4-0054 | D22: 23002.583 | E22: 20911.439 | F22: 2091.1439 | G22: 20911.439 | H22: 10455.72 | J22: 10455.72 | K22: 10455.72 | L22: 0 | M22: =K22/J22 -> 1 | N22: 10455.72 | O22: =N22/J22 -> 1
A23: Mos | B23: Clariion | C23: prof-ax4-0127 | D23: 8847.1453 | E23: 8042.8594 | F23: 804.28594 | G23: 8042.8594 | H23: 4021.4297 | J23: 4021.4297 | K23: 4021.4297 | L23: 0 | M23: =K23/J23 -> 1 | N23: 4021.4297 | O23: =N23/J23 -> 1
A24: Mos | B24: Clariion | C24: FCNMM113000103 | D24: 8847.1453 | E24: 8042.8594 | F24: 804.28594 | G24: 8042.8594 | H24: 4021.4297 | J24: 4021.4297 | K24: 4021.4297 | L24: 0 | M24: =K24/J24 -> 1 | N24: 4021.4297 | O24: =N24/J24 -> 1
A25: cgc | B25: HDS | C25: CGCHDS10 | D25: 102000 | E25: 92820 | F25: 9180 | G25: 85486.606 | H25: 10685.826 | I25: 5460 | J25: 74800.78 | K25: 45613.09 | L25: 29187.69 | M25: =K25/J25 -> 0.60979431 | N25: 53138.16 | O25: =N25/J25 -> 0.7103958
A26: fdc | B26: HDS | C26: FDCHDS04 | D26: 270000 | E26: 245700 | F26: 24300 | G26: 240489.37 | H26: 30061.171 | I26: 1092 | J26: 210428.2 | K26: 68084.35 | L26: 142343.85 | M26: =K26/J26 -> 0.32355145 | N26: 261538.96 | O26: =N26/J26 -> 1.2428893
A27: fdc | B27: HDS | C27: FDCHDS05 | D27: 260400 | E27: 236964 | F27: 23436 | G27: 231894.87 | H27: 28986.859 | I27: 1092 | J27: 202908.01 | K27: 157034.98 | L27: 45873.03 | M27: =K27/J27 -> 0.77392203 | N27: 246604.44 | O27: =N27/J27 -> 1.2153509
A28: fdc | B28: HDS | C28: FDCHDS10 | D28: 58800 | E28: 53508 | F28: 5292 | G28: 51533.533 | H28: 12883.383 | I28: 1092 | J28: 38650.15 | K28: 0 | L28: 38650.15 | M28: =K28/J28 -> 0 | N28: 0.2 | O28: =N28/J28 -> 5.1746242e-06
A29: rdc | B29: HDS | C29: RDCHDS10 | D29: 58800 | E29: 53508 | F29: 5292 | G29: 51533.533 | H29: 12883.383 | I29: 1092 | J29: 38650.15 | K29: 534.44 | L29: 38115.71 | M29: =K29/J29 -> 0.013827631 | N29: 9171.13 | O29: =N29/J29 -> 0.23728575
A30: RDC | B30: HDS | C30: RDCHDS04 | D30: 270300 | E30: 245973 | F30: 24327 | G30: 190370.08 | H30: 47592.52 | I30: 3549 | J30: 142777.56 | K30: 115389.65 | L30: 27387.91 | M30: =K30/J30 -> 0.80817777 | N30: 93719.34 | O30: =N30/J30 -> 0.65640105
A31: rdc | B31: HDS | C31: RDCHDS05 | D31: 324000 | E31: 294840 | F31: 29160 | G31: 285077.29 | H31: 35634.661 | I31: 6552 | J31: 249442.63 | K31: 62944.26 | L31: 186498.37 | M31: =K31/J31 -> 0.25233963 | N31: 162906.14 | O31: =N31/J31 -> 0.65308059
A32: rdc | B32: HDS | C32: RDCHDS06 | D32: 221700 | E32: 201747 | F32: 19953 | G32: 197544.85 | H32: 24693.106 | I32: 819 | J32: 172851.74 | K32: 93061.95 | L32: 79789.79 | M32: =K32/J32 -> 0.53839175 | N32: 210022.53 | O32: =N32/J32 -> 1.2150443
B33: Total | D33: =SUM(D2:D32) -> 7318759.5 | E33: =SUM(E2:E32) -> 6621301.1 | F33: =SUM(F2:F32) -> 697458.35 | G33: =SUM(G2:G32) -> 5904024.3 | H33: =SUM(H2:H32) -> 1200924.1 | I33: =SUM(I2:I32) -> 136775.18 | J33: =SUM(J2:J32) -> 4703100.2 | K33: =SUM(K2:K32) -> 2362085.1 | L33: =SUM(L2:L32) -> 2341015.1 | M33: =K33/J33 -> 0.50224001 | N33: =SUM(N2:N32) -> 4531349.1 | O33: =N33/J33 -> 0.9634813

Sheet Tech-Refresh
A1: Type | B1: Array | C1: Market Standard | D1: Formatted | E1: format Lost | F1: Physical total | G1: Parity Lost | H1: Spare | I1: Pool Usable | J1: Pool Used | K1: Pool Free | L1: %Used | M1: Host Allocations | N1: %Allocated
A2: DMX/STAR | B2: 3336 | C2: 36097.359 | D2: 32815.781 | E2: 3281.5781 | F2: 37503.75 | G2: 4687.9688 | H2: 1093.8594 | I2: 32815.781 | J2: 0.08203125 | K2: 32815.699 | L2: =J2/I2 -> 2.49975e-06 | M2: 32815.699 | N2: =M2/I2 -> 0.9999975 | P2: 000290102838 | Q2: 2094.9121 | R2: 1688.1543
A3: DMX | B3: 3452 | C3: 131725.58 | D3: 119750.52 | E3: 11975.052 | F3: 136857.74 | G3: 17107.218 | H3: 3340.8945 | I3: 119750.52 | J3: 46304.18 | K3: 73446.344 | L3: =J3/I3 -> 0.38667204 | M3: 73446.344 | N3: =M3/I3 -> 0.61332796 | P3: 000290102839 | Q3: 15552.115 | R3: 12783.037
A4: DMX/STAR | B4: 3471 | C4: 36097.359 | D4: 32815.781 | E4: 3281.5781 | F4: 37503.75 | G4: 4687.9688 | H4: 1093.8594 | I4: 32815.781 | J4: 472.25977 | K4: 32343.521 | L4: =J4/I4 -> 0.014391239 | M4: 32343.521 | N4: =M4/I4 -> 0.98560876 | P4: 000290103544 | Q4: 23467.807 | R4: 12240.113
A5: DMX | B5: 3544 | C5: 116387.55 | D5: 105806.86 | E5: 10580.686 | F5: 120922.13 | G5: 15115.266 | H5: 2758.375 | I5: 105806.86 | J5: 3372.5957 | K5: 102434.27 | L5: =J5/I5 -> 0.031875018 | M5: 102434.27 | N5: =M5/I5 -> 0.96812498 | P5: 000290103550 | Q5: 472.25977 | R5: 472.25977
A6: DMX/STAR | B6: 3550 | C6: 72508.58 | D6: 65916.891 | E6: 6591.6891 | F6: 75333.589 | G6: 9416.6987 | H6: 2473.0469 | I6: 65916.891 | J6: 0.22265625 | K6: 65916.668 | L6: =J6/I6 -> 3.377833e-06 | M6: 65916.668 | N6: =M6/I6 -> 0.99999662 | P6: 000290103810 | Q6: 75835.021 | R6: 38406.51
A7: DMX | B7: 3564 | C7: 135842.57 | D7: 123493.25 | E7: 12349.325 | F7: 141135.14 | G7: 17641.892 | H7: 2793.9648 | I7: 123493.25 | J7: 0.046875 | K7: 123493.2 | L7: =J7/I7 -> 3.7957541e-07 | M7: 123493.2 | N7: =M7/I7 -> 0.99999962 | P7: 000290105373 | Q7: 3080.9854 | R7: 3080.9854
A8: DMX | B8: 3720 | C8: 72822.441 | D8: 66202.219 | E8: 6620.2219 | F8: 75659.679 | G8: 9457.4598 | H8: 1652.6523 | I8: 66202.219 | J8: 38642.527 | K8: 27559.691 | L8: =J8/I8 -> 0.58370441 | M8: 27559.691 | N8: =M8/I8 -> 0.41629559 | P8: 000290102819 | Q8: 117773.53 | R8: 35706.256
A9: DMX | B9: 3810 | C9: 145017.16 | D9: 131833.78 | E9: 13183.378 | F9: 150667.18 | G9: 18833.397 | H9: 2877.3125 | I9: 131833.78 | J9: 9005.4629 | K9: 122828.32 | L9: =J9/I9 -> 0.068309221 | M9: 122828.32 | N9: =M9/I9 -> 0.93169078 | P9: 000290103336 | Q9: 0.08203125 | R9: 0.08203125
A10: DMX | B10: 3943 | C10: 147521.34 | D10: 134110.31 | E10: 13411.031 | F10: 153268.93 | G10: 19158.616 | H10: 4470.3438 | I10: 134110.31 | J10: 53512.967 | K10: 80597.346 | L10: =J10/I10 -> 0.39902201 | M10: 80597.346 | N10: =M10/I10 -> 0.60097799 | P10: 000290103452 | Q10: 70654.875 | R10: 46304.18
A11: DMX | B11: 5349 | C11: 25193.97 | D11: 22903.609 | E11: 2290.3609 | F11: 26175.554 | G11: 3271.9442 | H11: 2477.3984 | I11: 22903.609 | J11: 11828.185 | K11: 11075.425 | L11: =J11/I11 -> 0.51643321 | M11: 11075.425 | N11: =M11/I11 -> 0.48356679 | P11: 000290103471 | Q11: 708.27832 | R11: 472.25977
A12: DMX | B12: 5373 | C12: 39390.596 | D12: 35809.633 | E12: 3580.9633 | F12: 40925.295 | G12: 5115.6618 | H12: 3303.8203 | I12: 35809.633 | J12: 1278.7783 | K12: 34530.854 | L12: =J12/I12 -> 0.035710456 | M12: 34530.854 | N12: =M12/I12 -> 0.96428954 | P12: 000290103564 | Q12: 82113.385 | R12: 48594.588
A13: DMX | B13: 2819 | C13: 137686.59 | D13: 125169.62 | E13: 12516.963 | F13: 143051 | G13: 17881.375 | H13: 2514.5684 | I13: 125169.62 | J13: 35706.256 | K13: 89463.369 | L13: =J13/I13 -> 0.28526295 | M13: 89463.369 | N13: =M13/I13 -> 0.71473705 | P13: 000290103720 | Q13: 76677.941 | R13: 38642.527
A14: DMX | B14: 2838 | C14: 72979.371 | D14: 66344.883 | E14: 6634.4883 | F14: 75822.723 | G14: 9477.8404 | H14: 1248.3867 | I14: 66344.883 | J14: 474.34961 | K14: 65870.533 | L14: =J14/I14 -> 0.0071497543 | M14: 65870.533 | N14: =M14/I14 -> 0.99285025 | P14: 000290103943 | Q14: 81333.627 | R14: 53512.967
A15: DMX | B15: 2839 | C15: 72508.58 | D15: 65916.891 | E15: 6591.6891 | F15: 75333.589 | G15: 9416.6987 | H15: 1105.7227 | I15: 65916.891 | J15: 8501.0039 | K15: 57415.887 | L15: =J15/I15 -> 0.12896549 | M15: 57415.887 | N15: =M15/I15 -> 0.87103451 | P15: 000290105349 | Q15: 11828.185 | R15: 11828.185
A16: HDS | B16: FDCHDS02 | C16: 159412 | D16: 145064.92 | E16: 14347.08 | F16: 108402.81 | G16: 13550.351 | H16: 2449.72 | I16: 94852.46 | J16: 80673.4 | K16: 14179.06 | L16: =J16/I16 -> 0.85051458 | M16: 59263 | N16: =M16/I16 -> 0.62479139 | P16: 000290105364 | Q16: 0.046875 | R16: 0.046875
A17: HDS | B17: RDCHDS02 | C17: 211912 | D17: 192839.92 | E17: 19072.08 | F17: 122902.09 | G17: 15362.761 | H17: 2176.72 | I17: 107539.33 | J17: 50749.98 | K17: 56789.35 | L17: =J17/I17 -> 0.47192018 | M17: 54482 | N17: =M17/I17 -> 0.50662395
A18: HDS | B18: FDCHDS03 | C18: 247956 | D18: 225639.96 | E18: 22316.04 | F18: 160967.2 | G18: 20120.9 | H18: 4080.44 | I18: 140846.3 | J18: 75011.42 | K18: 65834.88 | L18: =J18/I18 -> 0.53257643 | M18: 95669.74 | N18: =M18/I18 -> 0.67924922
A19: HDS | B19: RDCHDS03 | C19: 85964 | D19: 78227.24 | E19: 7736.76 | F19: 53680.754 | G19: 6710.0943 | H19: 1903.72 | I19: 46970.66 | J19: 17510.93 | K19: 29459.73 | L19: =J19/I19 -> 0.3728057 | M19: 22569.57 | N19: =M19/I19 -> 0.48050357
A20: HP/HDS | B20: XP24000 | C20: 22025.143 | D20: 20022.857 | E20: 2002.2857 | F20: 20022.857 | G20: 2502.8571 | I20: 17520 | J20: 12844 | K20: 4676 | L20: =J20/I20 -> 0.73310502 | M20: 12844 | N20: =M20/I20 -> 0.73310502
A21: HP/HDS | B21: XP1024 | C21: 24257.829 | D21: 22052.571 | E21: 2205.2571 | F21: 22052.571 | G21: 2756.5714 | I21: 19296 | J21: 11764 | K21: 7532 | L21: =J21/I21 -> 0.60966003 | M21: 11764 | N21: =M21/I21 -> 0.60966003
B22: Total | C22: =SUM(C2:C21) -> 1993306 | D22: =SUM(D2:D21) -> 1812737.5 | E22: =SUM(E2:E21) -> 180568.51 | F22: =SUM(F2:F21) -> 1778188.3 | G22: =SUM(G2:G21) -> 222273.54 | H22: =SUM(H2:H21) -> 43814.805 | I22: =SUM(I2:I21) -> 1555914.8 | J22: =SUM(J2:J21) -> 457652.65 | K22: =SUM(K2:K21) -> 1098262.1 | L22: =J22/I22 -> 0.29413735 | M22: =SUM(M2:M21) -> 1176383.4 | N22: =M22/I22 -> 0.75607189
J27: 457652.65

Sheet New Installs
A1: Type | B1: Array | C1: Market Standard | D1: Formatted | E1: format Lost | F1: Physical total | G1: Parity Lost | H1: Spare | I1: Pool Usable | J1: Pool Used | K1: Pool Free | L1: %Used | M1: Host Allocations | N1: %Allocated
A2: vmax | B2: 667 | C2: 235200 | D2: 213716.56 | E2: 21483.438 | F2: 200650 | G2: 100325 | H2: 4361.5625 | I2: 100325 | J2: 3.1 | K2: 100321.9 | L2: =J2/I2 -> 3.0899576e-05 | M2: 0 | N2: =M2/I2 -> 0
A3: vmax | B3: 671 | C3: 480000 | D3: 436156.25 | E3: 43843.75 | F3: 415250 | G3: 207625 | H3: 8723.125 | I3: 207625 | J3: 3.1 | K3: 207621.9 | L3: =J3/I3 -> 1.4930765e-05 | M3: 0 | N3: =M3/I3 -> 0
A6: Total | C6: =SUM(C2:C3) -> 715200 | D6: =SUM(D2:D3) -> 649872.81 | E6: =SUM(E2:E3) -> 65327.188 | F6: =SUM(F2:F3) -> 615900 | G6: =SUM(G2:G3) -> 307950 | H6: =SUM(H2:H3) -> 13084.688 | I6: =SUM(I2:I3) -> 307950 | J6: =SUM(J2:J3) -> 6.2 | K6: =SUM(K2:K3) -> 307943.8 | L6: =J6/I6 -> 2.0133138e-05 | M6: =SUM(M2:M3) -> 0 | N6: =M6/I6 -> 0

Sheet Centera
A1: Type | B1: Array | C1: Market Standard | D1: Formatted | E1: format Lost | F1: Physical total | G1: Parity Lost | H1: Spare | I1: Pool Usable | J1: Pool Used | K1: Pool Free | L1: %Used | M1: Host Allocations | N1: %Allocated
A2: Centera | B2: centera_CH_01E | C2: 50688 | D2: 46080 | E2: 4608 | F2: 15213.714 | G2: 1901.7143 | I2: 13312 | J2: 13312 | K2: 0 | L2: =J2/I2 -> 1 | M2: 13312 | N2: =M2/I2 -> 1
A3: Centera | B3: centera_CH_01R | C3: 50688 | D3: 46080 | E3: 4608 | F3: 19894.857 | G3: 2486.8571 | I3: 17408 | J3: 17408 | K3: 0 | L3: =J3/I3 -> 1 | M3: 17408 | N3: =M3/I3 -> 1
A4: Centera | B4: centera_DE_01F | C4: 272923.2 | D4: 248112 | E4: 24811.2 | F4: 176107.43 | G4: 22013.429 | I4: 154094 | J4: 154094 | K4: 0 | L4: =J4/I4 -> 1 | M4: 154094 | N4: =M4/I4 -> 1
A5: Centera | B5: centera_DE_02F | C5: 109422.5 | D5: 99475 | E5: 9947.5 | F5: 82211.429 | G5: 10276.429 | I5: 71935 | J5: 71935 | K5: 0 | L5: =J5/I5 -> 1 | M5: 71935 | N5: =M5/I5 -> 1
A6: Centera | B6: centera_PL_01G | C6: 64930.8 | D6: 59028 | E6: 5902.8 | F6: 55448 | G6: 6931 | I6: 48517 | J6: 48517 | K6: 0 | L6: =J6/I6 -> 1 | M6: 48517 | N6: =M6/I6 -> 1
A7: Centera | B7: centera_PL_01S | C7: 86168.5 | D7: 78335 | E7: 7833.5 | F7: 58121.143 | G7: 7265.1429 | I7: 50856 | J7: 50856 | K7: 0 | L7: =J7/I7 -> 1 | M7: 50856 | N7: =M7/I7 -> 1
A8: Centera | B8: centera_PL_02G | C8: 44002.2 | D8: 40002 | E8: 4000.2 | F8: 16625.143 | G8: 2078.1429 | I8: 14547 | J8: 14547 | K8: 0 | L8: =J8/I8 -> 1 | M8: 14547 | N8: =M8/I8 -> 1
A9: Centera | B9: centera_PL_02S | C9: 44003.3 | D9: 40003 | E9: 4000.3 | F9: 16627.429 | G9: 2078.4286 | I9: 14549 | J9: 14549 | K9: 0 | L9: =J9/I9 -> 1 | M9: 14549 | N9: =M9/I9 -> 1
A10: Centera | B10: centera_TK_01T | C10: 55559.9 | D10: 50509 | E10: 5050.9 | F10: 54083.429 | G10: 6760.4286 | I10: 47323 | J10: 47323 | K10: 0 | L10: =J10/I10 -> 1 | M10: 47323 | N10: =M10/I10 -> 1
A11: Centera | B11: centera_TK_01Y | C11: 54818.5 | D11: 49835 | E11: 4983.5 | F11: 46635.429 | G11: 5829.4286 | I11: 40806 | J11: 40806 | K11: 0 | L11: =J11/I11 -> 1 | M11: 40806 | N11: =M11/I11 -> 1
A12: Centera | B12: centera_UK_01R | C12: 269577 | D12: 245070 | E12: 24507 | F12: 176035.43 | G12: 22004.429 | I12: 154031 | J12: 154031 | K12: 0 | L12: =J12/I12 -> 1 | M12: 154031 | N12: =M12/I12 -> 1
A13: Centera | B13: centera_UK_02R | C13: 116045.6 | D13: 105496 | E13: 10549.6 | F13: 85177.143 | G13: 10647.143 | I13: 74530 | J13: 74530 | K13: 0 | L13: =J13/I13 -> 1 | M13: 74530 | N13: =M13/I13 -> 1
... A15: Centera | B15: rdccentera01 | C15: 28154.5 | D15: 25595 | E15: 2559.5 | F15: 4720 | G15: 590 | I15: 4130 | J15: 4130 | K15: 0 | L15: =J15/I15 -> 1 | M15: 4130 | N15: =M15/I15 -> 1
A16: Total | C16: =SUM(C2:C15) -> 1275146.4 | D16: =SUM(D2:D15) -> 1159224 | E16: =SUM(E2:E15) -> 115922.4 | F16: =SUM(F2:F15) -> 816288 | G16: =SUM(G2:G15) -> 102036 | H16: =SUM(H2:H15) -> 0 | I16: =SUM(I2:I15) -> 714252 | J16: =SUM(J2:J15) -> 714252 | K16: =SUM(K2:K15) -> 0 | L16: =J16/I16 -> 1 | M16: =SUM(M2:M15) -> 714252 | N16: =M16/I16 -> 1

Sheet Unable to Report
B1: Type | C1: Array | D1: Market Standard | E1: Formatted | F1: format Lost | G1: Physical total | H1: Parity Lost | I1: Spare | J1: Pool Usable | K1: Pool Used | L1: Pool Free | M1: %Used | N1: Host Allocations | O1: %Allocated
B2: Clariion | C2: fdc1a-ax4-0023 | D2: 8366.0141 | E2: 7605.4674 | F2: 760.54674 | G2: 7605.4674 | H2: 3602 | I2: 401.46741 | J2: 4003.4674 | K2: 3602 | L2: 401.46741 | M2: =K2/J2 -> 0.89972008 | N2: 3602 | O2: =N2/J2 -> 0.89972008
B3: Clariion | C3: fdc1a-ax4-0033 | D3: 7862.9051 | E3: 7148.0955 | F3: 714.80955 | G3: 7148.0955 | H3: 3440 | I3: 268.09552 | J3: 3708.0955 | K3: 3602 | L3: 106.09552 | M3: =K3/J3 -> 0.97138814 | N3: 3602 | O3: =N3/J3 -> 0.97138814
B4: Clariion | C4: fdc1a-ax4-0038 | D4: 8366.0141 | E4: 7605.4674 | F4: 760.54674 | G4: 7605.4674 | H4: 3602 | I4: 401.46741 | J4: 4003.4674 | K4: 3602 | L4: 401.46741 | M4: =K4/J4 -> 0.89972008 | N4: 3602 | O4: =N4/J4 -> 0.89972008
B5: Clariion | C5: fdc1a-ax4-0039 | D5: 7862.9051 | E5: 7148.0955 | F5: 714.80955 | G5: 7148.0955 | H5: 3440 | I5: 268.09552 | J5: 3708.0955 | K5: 3602 | L5: 106.09552 | M5: =K5/J5 -> 0.97138814 | N5: 3602 | O5: =N5/J5 -> 0.97138814
B6: Clariion | C6: fdc1a-ax4-0045 | D6: 8366.0141 | E6: 7605.4674 | F6: 760.54674 | G6: 7605.4674 | H6: 3602 | I6: 401.46741 | J6: 4003.4674 | K6: 3602 | L6: 401.46741 | M6: =K6/J6 -> 0.89972008 | N6: 3602 | O6: =N6/J6 -> 0.89972008
B7: Clariion | C7: fdc1a-ax4-0055 | D7: 8366.0141 | E7: 7605.4674 | F7: 760.54674 | G7: 7605.4674 | H7: 3602 | I7: 401.46741 | J7: 4003.4674 | K7: 3602 | L7: 401.46741 | M7: =K7/J7 -> 0.89972008 | N7: 3602 | O7: =N7/J7 -> 0.89972008
B8: Clariion | C8: fdc1a-ax4-0060 | D8: 8366.0141 | E8: 7605.4674 | F8: 760.54674 | G8: 7605.4674 | H8: 3602 | I8: 401.46741 | J8: 4003.4674 | K8: 3602 | L8: 401.46741 | M8: =K8/J8 -> 0.89972008 | N8: 3602 | O8: =N8/J8 -> 0.89972008
B9: Clariion | C9: fdc1a-ax4-0069 | D9: 4078.9051 | E9: 3708.0955 | F9: 370.80955 | G9: 3708.0955 | H9: 1720 | I9: 268.09552 | J9: 1988.0955 | K9: 1720 | L9: 268.09552 | M9: =K9/J9 -> 0.86514958 | N9: 1720 | O9: =N9/J9 -> 0.86514958
B10: Clariion | C10: fdc1a-ax4-0092 | D10: 8366.0141 | E10: 7605.4674 | F10: 760.54674 | G10: 7605.4674 | H10: 3602 | I10: 401.46741 | J10: 4003.4674 | K10: 3602 | L10: 401.46741 | M10: =K10/J10 -> 0.89972008 | N10: 3602 | O10: =N10/J10 -> 0.89972008
B11: Clariion | C11: fdc1a-ax4-0096 | D11: 8366.0141 | E11: 7605.4674 | F11: 760.54674 | G11: 7605.4674 | H11: 3602 | I11: 401.46741 | J11: 4003.4674 | K11: 3602 | L11: 401.46741 | M11: =K11/J11 -> 0.89972008 | N11: 3602 | O11: =N11/J11 -> 0.89972008
B12: Clariion | C12: fdc1a-ax4-0118 | D12: 8071.1091 | E12: 7337.3719 | F12: 733.73719 | G12: 7337.3719 | H12: 3602 | I12: 133.37189 | J12: 3735.3719 | K12: 3602 | L12: 133.37189 | M12: =K12/J12 -> 0.96429488 | N12: 3602 | O12: =N12/J12 -> 0.96429488
B13: Clariion | C13: rdc1-ax4-0021 | D13: 8366.0141 | E13: 7605.4674 | F13: 760.54674 | G13: 7605.4674 | H13: 3602 | I13: 401.46741 | J13: 4003.4674 | K13: 3602 | L13: 401.46741 | M13: =K13/J13 -> 0.89972008 | N13: 3602 | O13: =N13/J13 -> 0.89972008
... B15: Clariion | C15: rdc1-ax4-0024 | D15: 8366.0141 | E15: 7605.4674 | F15: 760.54674 | G15: 7605.4674 | H15: 3602 | I15: 401.46741 | J15: 4003.4674 | K15: 3602 | L15: 401.46741 | M15: =K15/J15 -> 0.89972008 | N15: 3602 | O15: =N15/J15 -> 0.89972008
B16: Clariion | C16: rdc1-ax4-0026 | D16: 7924.4 | E16: 7204 | F16: 720.4 | G16: 7204 | H16: 3602 | J16: 3602 | K16: 3602 | L16: 0 | M16: =K16/J16 -> 1 | N16: 3602 | O16: =N16/J16 -> 1
B17: Clariion | C17: rdc1-ax4-0033 | D17: 8366.0141 | E17: 7605.4674 | F17: 760.54674 | G17: 7605.4674 | H17: 3602 | I17: 401.46741 | J17: 4003.4674 | K17: 3602 | L17: 401.46741 | M17: =K17/J17 -> 0.89972008 | N17: 3602 | O17: =N17/J17 -> 0.89972008
B18: Clariion | C18: rdc1-ax4-0034 | D18: 8366.0141 | E18: 7605.4674 | F18: 760.54674 | G18: 7605.4674 | H18: 3602 | I18: 401.46741 | J18: 4003.4674 | K18: 3602 | L18: 401.46741 | M18: =K18/J18 -> 0.89972008 | N18: 3602 | O18: =N18/J18 -> 0.89972008
B19: Clariion | C19: rdc1-ax4-0040 | D19: 8366.0141 | E19: 7605.4674 | F19: 760.54674 | G19: 7605.4674 | H19: 3602 | I19: 401.46741 | J19: 4003.4674 | K19: 3602 | L19: 401.46741 | M19: =K19/J19 -> 0.89972008 | N19: 3602 | O19: =N19/J19 -> 0.89972008
B20: Clariion | C20: rdc1-ax4-0042 | D20: 8366.0141 | E20: 7605.4674 | F20: 760.54674 | G20: 7605.4674 | H20: 3602 | I20: 401.46741 | J20: 4003.4674 | K20: 3602 | L20: 401.46741 | M20: =K20/J20 -> 0.89972008 | N20: 3602 | O20: =N20/J20 -> 0.89972008
B21: Clariion | C21: rdc1-ax4-0082 | D21: 4078.9051 | E21: 3708.0955 | F21: 370.80955 | G21: 3708.0955 | H21: 1720 | I21: 268.09552 | J21: 1988.0955 | K21: 1720 | L21: 268.09552 | M21: =K21/J21 -> 0.86514958 | N21: 1720 | O21: =N21/J21 -> 0.86514958
B22: Clariion | C22: rdc4-ac4-0576 | D22: 20876.676 | E22: 18978.796 | F22: 1897.8796 | G22: 18978.796 | H22: 8964 | I22: 1050.7964 | J22: 10014.796 | K22: 10014.796 | L22: 0 | M22: =K22/J22 -> 1 | N22: 10014.796 | O22: =N22/J22 -> 1
B23: Clariion | C23: rdc4-ax4-0006 | D23: 7862.9051 | E23: 7148.0955 | F23: 714.80955 | G23: 7148.0955 | H23: 3440 | I23: 268.09552 | J23: 3708.0955 | K23: 3440 | L23: 268.09552 | M23: =K23/J23 -> 0.92769994 | N23: 3440 | O23: =N23/J23 -> 0.92769994
B24: Clariion | C24: rdc4-ax4-0007 | D24: 7645.6551 | E24: 6950.5955 | F24: 695.05955 | G24: 6950.5955 | H24: 3242.5 | I24: 268.09552 | J24: 3708.0955 | K24: 3708.0955 | L24: 0 | M24: =K24/J24 -> 1 | N24: 3708.0955 | O24: =N24/J24 -> 1
B25: Clariion | C25: rdc4-cx4-0696 | D25: 147581.6 | E25: 134165.09 | F25: 13416.509 | G25: 134165.09 | H25: 49199.998 | I25: 2885.0948 | J25: 84965.095 | K25: 84965.095 | L25: 0 | M25: =K25/J25 -> 1 | N25: 84965.095 | O25: =N25/J25 -> 1
B26: VNX | C26: GBOKC001N1737 | D26: 1081344 | E26: 983040 | F26: 98304 | G26: 983040 | H26: 122880 | J26: 860160 | K26: 0 | L26: 860160 | M26: =K26/J26 -> 0 | N26: 0 | O26: =N26/J26 -> 0
B27: VNX | C27: GBOKC002N0390 | D27: 1081344 | E27: 983040 | F27: 98304 | G27: 983040 | H27: 122880 | J27: 860160 | K27: 0 | L27: 860160 | M27: =K27/J27 -> 0 | N27: 0 | O27: =N27/J27 -> 0
B28: VNX | C28: DEOLC001N0374 | D28: 679701.94 | E28: 617910.86 | F28: 61791.086 | G28: 617910.86 | H28: 77238.857 | J28: 540672 | K28: 0 | L28: 540672 | M28: =K28/J28 -> 0 | N28: 0 | O28: =N28/J28 -> 0
B29: VNX | C29: DEOLC002N0375 | D29: 550970.51 | E29: 500882.29 | F29: 50088.229 | G29: 500882.29 | H29: 62610.286 | J29: 438272 | K29: 0 | L29: 438272 | M29: =K29/J29 -> 0 | N29: 0 | O29: =N29/J29 -> 0
C30: Total | D30: =SUM(D1:D29) -> 3734330.6 | E30: =SUM(E1:E29) -> 3394846 | F30: =SUM(F1:F29) -> 339484.6 | G30: =SUM(G1:G29) -> 3394846 | H30: =SUM(H1:H29) -> 518407.64 | I30: =SUM(I1:I29) -> 11298.38 | J30: =SUM(J1:J29) -> 2876438.4 | K30: =SUM(K1:K29) -> 170403.99 | L30: =SUM(L1:L29) -> 2706034.4 | M30: =K30/J30 -> 0.059241313 | N30: =SUM(N1:N29) -> 170403.99 | O30: =N30/J30 -> 0.059241313

Sheet MOR Report Purpose
A1: Location | B1: Raw installed (TB) | C1: Usable Installed (TB) | D1: Used Installed (TB) | E1: Allocated (TB) | F1: Percent Allocated (Allocated Usable) | G1: Percent Used (Used/Usable | I1: Row Labels | J1: Sum of Physical total | K1: Sum of Pool Usable | L1: Sum of Pool Used | M1: Sum of Host Allocations | N1: Percent Allocated (Allocated Usable) | O1: Percent Used (Used/Usable
A2: Swiss | B2: =SUMIF('Final MOR'!A:A,A2,'Final MOR'!G:G)/1024 -> 98.483817 | C2: =SUMIF('Final MOR'!A:A,A2,'Final MOR'!J:J)/1024 -> 86.17334 | D2: =SUMIF('Final MOR'!A:A,A2,'Final MOR'!K:K)/1024 -> 20.933789 | E2: =SUMIF('Final MOR'!A:A,A2,'Final MOR'!N:N)/1024 -> 91.403613 | F2: =E2/C2 -> 1.0606948 | G2: =D2/C2 -> 0.24292651 | I2: cgc | J2: 543241.01 | K2: 475335.88 | L2: 229208.99 | M2: 319449.76 | N2: =M2/K2 -> 0.67205059 | O2: =L2/K2 -> 0.48220427
A3: RDC | B3: =SUMIF('Final MOR'!A:A,A3,'Final MOR'!G:G)/1024 -> 2656.4992 | C3: =SUMIF('Final MOR'!A:A,A3,'Final MOR'!J:J)/1024 -> 2122.1407 | D3: =SUMIF('Final MOR'!A:A,A3,'Final MOR'!K:K)/1024 -> 1011.737 | E3: =SUMIF('Final MOR'!A:A,A3,'Final MOR'!N:N)/1024 -> 1952.3604 | F3: =E3/C3 -> 0.91999573 | G3: =D3/C3 -> 0.47675303 | I3: HDS | J3: 85486.606 | K3: 74800.78 | L3: 45613.09 | M3: 53138.16 | N3: =M3/K3 -> 0.7103958 | O3: =L3/K3 -> 0.60979431
A4: FDC | B4: =SUMIF('Final MOR'!A:A,A4,'Final MOR'!G:G)/1024 -> 2423.6056 | C4: =SUMIF('Final MOR'!A:A,A4,'Final MOR'!J:J)/1024 -> 1892.0864 | D4: =SUMIF('Final MOR'!A:A,A4,'Final MOR'!K:K)/1024 -> 1021.9404 | E4: =SUMIF('Final MOR'!A:A,A4,'Final MOR'!N:N)/1024 -> 2041.1433 | F4: =E4/C4 -> 1.0787791 | G4: =D4/C4 -> 0.54011295 | I4: vmax | J4: 457754.4 | K4: 400535.1 | L4: 183595.9 | M4: 266311.6 | N4: =M4/K4 -> 0.66488954 | O4: =L4/K4 -> 0.45837656
A5: cgc | B5: =SUMIF('Final MOR'!A:A,A5,'Final MOR'!G:G)/1024 -> 530.50879 | C5: =SUMIF('Final MOR'!A:A,A5,'Final MOR'!J:J)/1024 -> 464.1952 | D5: =SUMIF('Final MOR'!A:A,A5,'Final MOR'!K:K)/1024 -> 223.8369 | E5: =SUMIF('Final MOR'!A:A,A5,'Final MOR'!N:N)/1024 -> 311.96266 | F5: =E5/C5 -> 0.67205059 | G5: =D5/C5 -> 0.48220427 | I5: FDC | J5: 2481772.1 | K5: 1937496.5 | L5: 1046466.9 | M5: 2090130.7 | N5: =M5/K5 -> 1.0787791 | O5: =L5/K5 -> 0.54011295
A6: Mos | B6: =SUMIF('Final MOR'!A:A,A6,'Final MOR'!G:G)/1024 -> 56.551365 | C6: =SUMIF('Final MOR'!A:A,A6,'Final MOR'!J:J)/1024 -> 28.275682 | D6: =SUMIF('Final MOR'!A:A,A6,'Final MOR'!K:K)/1024 -> 28.275682 | E6: =SUMIF('Final MOR'!A:A,A6,'Final MOR'!N:N)/1024 -> 28.275682 | F6: =E6/C6 -> 1 | G6: =D6/C6 -> 1 | I6: HDS | J6: 523917.77 | K6: 451986.36 | L6: 225119.33 | M6: 508143.6 | N6: =M6/K6 -> 1.1242454 | O6: =L6/K6 -> 0.49806665
A7: Total | B7: =SUM(B2:B6) -> 5765.6488 | C7: =SUM(C2:C6) -> 4592.8713 | D7: =SUM(D2:D6) -> 2306.7237 | E7: =SUM(E2:E6) -> 4425.1456 | F7: =E7/C7 -> 0.9634813 | G7: =D7/C7 -> 0.50224001 | I7: vmax | J7: 1957854.4 | K7: 1485510.1 | L7: 821347.6 | M7: 1581987.1 | N7: =M7/K7 -> 1.0649454 | O7: =L7/K7 -> 0.5529061
I8: RDC | J8: 2720255.2 | K8: 2173072.1 | L8: 1036018.7 | M8: 1999217 | N8: =M8/K8 -> 0.91999573 | O8: =L8/K8 -> 0.47675303
I9: HDS | J9: 724525.75 | K9: 603722.08 | L9: 271930.3 | M9: 475819.14 | N9: =M9/K9 -> 0.78814268 | O9: =L9/K9 -> 0.45042298
A10: Location | B10: Raw installed (TB) | C10: Usable Installed (TB) | D10: Used Installed (TB) | E10: Allocated (TB) | F10: Percent Allocated (Allocated Usable) | G10: Percent Used (Used/Usable | I10: vmax | J10: 1995729.4 | K10: 1569350 | L10: 764088.4 | M10: 1523397.9 | N10: =M10/K10 -> 0.97071902 | O10: =L10/K10 -> 0.48688208
A11: vmax | B11: =SUMIF('Final MOR'!B:B,A11,'Final MOR'!G:G)/1024 -> 4406.4313 | C11: =SUMIF('Final MOR'!B:B,A11,'Final MOR'!J:J)/1024 -> 3460.5827 | D11: =SUMIF('Final MOR'!B:B,A11,'Final MOR'!K:K)/1024 -> 1748.504 | E11: =SUMIF('Final MOR'!B:B,A11,'Final MOR'!N:N)/1024 -> 3384.0761 | F11: =E11/C11 -> 0.97789198 | G11: =D11/C11 -> 0.50526288 | I11: Swiss | J11: 100847.43 | K11: 88241.5 | L11: 21436.2 | M11: 93597.3 | N11: =M11/K11 -> 1.0606948 | O11: =L11/K11 -> 0.24292651
A12: HDS | B12: =SUMIF('Final MOR'!B:B,A12,'Final MOR'!G:G)/1024 -> 1302.6661 | C12: =SUMIF('Final MOR'!B:B,A12,'Final MOR'!J:J)/1024 -> 1104.0129 | D12: =SUMIF('Final MOR'!B:B,A12,'Final MOR'!K:K)/1024 -> 529.94406 | E12: =SUMIF('Final MOR'!B:B,A12,'Final MOR'!N:N)/1024 -> 1012.7938 | F12: =E12/C12 -> 0.917375 | G12: =D12/C12 -> 0.48001618 | I12: vmax | J12: 100847.43 | K12: 88241.5 | L12: 21436.2 | M12: 93597.3 | N12: =M12/K12 -> 1.0606948 | O12: =L12/K12 -> 0.24292651
A13: Clariion | B13: =SUMIF('Final MOR'!B:B,A13,'Final MOR'!G:G)/1024 -> 56.551365 | C13: =SUMIF('Final MOR'!B:B,A13,'Final MOR'!J:J)/1024 -> 28.275682 | D13: =SUMIF('Final MOR'!B:B,A13,'Final MOR'!K:K)/1024 -> 28.275682 | E13: =SUMIF('Final MOR'!B:B,A13,'Final MOR'!N:N)/1024 -> 28.275682 | F13: =E13/C13 -> 1 | G13: =D13/C13 -> 1 | I13: Mos | J13: 57908.598 | K13: 28954.299 | L13: 28954.299 | M13: 28954.299 | N13: =M13/K13 -> 1 | O13: =L13/K13 -> 1
A14: Total | B14: =SUM(B11:B13) -> 5765.6488 | C14: =SUM(C11:C13) -> 4592.8713 | D14: =SUM(D11:D13) -> 2306.7237 | E14: =SUM(E11:E13) -> 4425.1456 | F14: =E14/C14 -> 0.9634813 | G14: =D14/C14 -> 0.50224001 | I14: Clariion | J14: 57908.598 | K14: 28954.299 | L14: 28954.299 | M14: 28954.299
I15: Grand Total | J15: 5904024.3 | K15: 4703100.2 | L15: 2362085.1 | M15: 4531349.1

Sheet Source
A1: 1 | B1: 2 | C1: 3 | D1: 4 | E1: 5 | F1: 6 | G1: 7 | H1: 8 | I1: 9 | J1: 10 | K1: 11 | L1: 12 | M1: 13 | N1: 14 | O1: 15 | P1: 16 | Q1: 17 | R1: 18 | S1: 19 | T1: 20 | U1: 21 | V1: 22 | W1: 23 | X1: 24 | Y1: 25 | Z1: 26 | AA1: 27 | AB1: 28 | AC1: 29 | AD1: 30 | AE1: 31 | AF1: 32 | AG1: 33 | AH1: 34 | AI1: 35 | AJ1: 36 | AK1: 37 | AL1: 38 | AM1: 39 | AN1: 40 | AO1: 41 | AP1: 42 | AQ1: 43 | AR1: 44 | AS1: 45 | AT1: 46 | AU1: 47 | AV1: 48 | AW1: 49 | AX1: 50 | AY1: 51 | AZ1: 52 | BA1: 53 | BB1: 54 | BC1: 55 | BD1: 56 | BE1: 57 | BF1: 58 | BG1: 59 | BH1: 60 | BI1: 61 | BJ1: 62 | BK1: 63 | BL1: 64 | BM1: 65 | BN1: 66 | BO1: 67 | BP1: 68 | BQ1: 69 | BR1: 70 | BS1: 71 | BT1: 72 | BU1: 73 | BV1: 74 | BW1: 75 | BX1: 76 | BY1: 77 | BZ1: 78 | CA1: 79 | CB1: 80 | CC1: 81 | CD1: 82 | CE1: 83 | CF1: 84 | CG1: 85 | CH1: 86 | CI1: 87 | CJ1: 88 | CK1: 89 | CL1: 90 | CM1: 91 | CN1: 92 | CO1: 93 | CP1: 94 | CQ1: 95 | CR1: 96 | CS1: 97 | CT1: 98 | CU1: 99 | CV1: 100 | CW1: 101 | CX1: 102 | CY1: 103 | CZ1: 104 | DA1: 105 | DB1: 106 | DC1: 107 | DD1: 108 | DE1: 108 | DF1: 109 | DG1: 110 | DH1: 111 | DI1: 112 | DJ1: 113 | DK1: 114 | DL1: 115 | DM1: 115 | DN1: 116 | DO1: 117 | DP1: 118 | DQ1: 119 | DR1: 120 | DS1: 121 | DT1: 122 | DU1: 123 | DV1: 124 | DW1: 125 | DX1: 126
M2: Market Raw Standard (GB) | BC2: formatted Disk (GB) | CS2: Disk Format Lost (GB) | CT2: RAID Type | CW2: RAID GB | DA2: Parity Loss | DB2: Pool Name | DF2: Pool Usable | DJ2: Pool Used | DO2: Pool Free | DS2: %Used | DT2: Host Allocated | DU2: R2-Bcv | DV2: Total Host Allocated + R2-BCV | DW2: %Allocated | DX2: UnCarved
M3: Spare | AA3: Disk | AO3: Disk + Spare | BC3: Spare | BQ3: Disk | CE3: Disk + Spare | CT3: SAS | CU3: SSD | CV3: SATA | CW3: SAS | CX3: SSD | CY3: SATA | CZ3: Raid Total | DB3: SAS | DC3: SSD | DD3: SATA | DE3: DSE | DF3: SAS | DG3: SSD | DH3: DSE | DI3: Total Pool Usable | DJ3: SAS | DK3: SSD | DL3: SATA | DM3: DSE | DN3: Total Pool Used | DO3: SAS | DP3: SSD | DQ3: SATA | DR3: Total Pool Free
A4: Site | B4: Array SN | C4: Array Name | D4: Array Type | E4: Array Model | F4: Array Vendor | G4: Array Label | H4: Business Use (BAU/TR/Dedicate) | I4: SRDF Type | J4: FAST | K4: Thick/Thin | L4: Array | M4: Count of Size | S4: Sum of Size | Y4: Total Count | Z4: Total Sum | AA4: Count of Size | AG4: Sum of Size | AM4: Total Count | AN4: Total Sum | AO4: Count of Size | AU4: Sum of Size | BA4: Total Count | BB4: Total Sum | BC4: Count of Size | BI4: Sum of Size | BO4: Total Count | BP4: Total Sum | BQ4: Count of Size | BW4: Sum of Size | CC4: Total Count | CD4: Total Sum | CE4: Count of Size | CK4: Sum of Size | CQ4: Total Count | CR4: Total Sum
B5: Array SN | C5: Array Name | D5: Array Type | E5: Array Model | F5: Array Vendor | G5: Array Label | H5: Business Use (BAU/TR/Dedicate) | I5: SRDF Type | J5: FAST | K5: Thick/Thin | L5: Array | M5: 300 | N5: 450 | O5: 2048 | P5: 200 | Q5: 100 | R5: 1024 | S5: 300 | T5: 450 | U5: 2048 | V5: 200 | W5: 100 | X5: 1024 | AA5: 300 | AB5: 450 | AC5: 2048 | AD5: 200 | AE5: 100 | AF5: 1024 | AG5: 300 | AH5: 450 | AI5: 2048 | AJ5: 200 | AK5: 100 | AL5: 1024 | AO5: 300 | AP5: 450 | AQ5: 2048 | AR5: 200 | AS5: 100 | AT5: 1024 | AU5: 300 | AV5: 450 | AW5: 2048 | AX5: 200 | AY5: 100 | AZ5: 1024 | BC5: 272.59766 | BD5: 408.89648 | BE5: 1780.8252 | BF5: 186.31055 | BG5: 93.160156 | BH5: 931.51367 | BI5: 272.59766 | BJ5: 408.89648 | BK5: 1780.8252 | BL5: 186.31055 | BM5: 93.160156 | BN5: 931.51367 | BQ5: 272.59766 | BR5: 408.89648 | BS5: 1780.8252 | BT5: 186.31055 | BU5: 93.160156 | BV5: 931.51367 | BW5: 272.59766 | BX5: 408.89648 | BY5: 1780.8252 | BZ5: 186.31055 | CA5: 93.160156 | CB5: 931.51367 | CE5: 272.59766 | CF5: 408.89648 | CG5: 1780.8252 | CH5: 186.31055 | CI5: 93.160156 | CJ5: 931.51367 | CK5: 272.59766 | CL5: 408.89648 | CM5: 1780.8252 | CN5: 186.31055 | CO5: 93.160156 | CP5: 931.51367 | DT5: Host Allocated | DV5: Total Host Allocated + R2-BCV | DW5: utilization % | DX5: Total Host Allocated + R2-BCV
A6: RDC | B6: 000295700347 | C6: 0347 | D6: Vmax | E6: VMAX40K | F6: EMC | G6: EMC Symmetrix VMAX | H6: BAU/TR | I6: Symm-NonSRDF | J6: FAST | K6: Thin | L6: 347 | M6: 18 | Q6: 4 | R6: 6 | S6: 5400 | W6: 400 | X6: 6144 | Y6: 28 | Z6: 11944 | AA6: 896 | AE6: 128 | AF6: 288 | AG6: 268800 | AK6: 12800 | AL6: 294912 | AM6: 1312 | AN6: 576512 | AO6: 914 | AS6: 132 | AT6: 294 | AU6: 274200 | AY6: 13200 | AZ6: 301056 | BA6: 1340 | BB6: 588456 | BC6: 18 | BG6: 4 | BH6: 6 | BI6: 4906.7578 | BM6: 372.64062 | BN6: 5589.082 | BO6: 28 | BP6: 10868.48 | BQ6: 896 | BU6: 128 | BV6: 288 | BW6: 244247.5 | CA6: 11924.5 | CB6: 268275.94 | CC6: 1312 | CD6: 524447.94 | CE6: 914 | CI6: 132 | CJ6: 294 | CK6: 249154.26 | CO6: 12297.141 | CP6: 273865.02 | CQ6: 1340 | CR6: 535316.42 | CS6: =BB6-CR6 -> 53139.582 | CT6: 2-Way Mir | CU6: RAID-6(6+2) | CV6: RAID-5(3+1) | CW6: =DF6*2 -> 166392.2 | CX6: =DG6*8/6 -> 176093.87 | CY6: =DH6*4/3 -> 0 | CZ6: =CW6+CX6+CY6 -> 342486.07 | DA6: =CZ6-DI6 -> 127219.57 | DB6: 0347_300GB | DC6: 0347_1TB | DD6: 0347_100_SSD | DF6: 83196.1 | DG6: 132070.4 | DI6: =DF6+DG6+DH6 -> 215266.5 | DJ6: 2662.4 | DK6: 4735.2 | DL6: 1392.3 | DN6: =DJ6+DK6+DM6 -> 7397.6 | DO6: =DF6-DJ6 -> 80533.7 | DP6: =DG6-DK6 -> 127335.2 | DQ6: =DH6-DM6 -> 0 | DR6: =DI6-DN6 -> 207868.9 | DS6: =DN6/DI6 -> 0.034364845 | DT6: 95846.3 | DV6: =SUM(DT6:DU6) -> 95846.3 | DW6: =DV6/DI6 -> 0.44524485
A7: FDC | B7: 000295700349 | C7: 0349 | D7: Vmax | E7: VMAX40K | F7: EMC | G7: EMC Symmetrix VMAX | H7: BAU | I7: Symm-NonSRDF | J7: FAST | K7: Thin | L7: 349 | M7: 18 | Q7: 4 | R7: 6 | S7: 5400 | W7: 400 | X7: 6144 | Y7: 28 | Z7: 11944 | AA7: 896 | AE7: 128 | AF7: 288 | AG7: 268800 | AK7: 12800 | AL7: 294912 | AM7: 1312 | AN7: 576512 | AO7: 914 | AS7: 132 | AT7: 294 | AU7: 274200 | AY7: 13200 | AZ7: 301056 | BA7: 1340 | BB7: 588456 | BC7: 18 | BG7: 4 | BH7: 6 | BI7: 4906.7578 | BM7: 372.64062 | BN7: 5589.082 | BO7: 28 | BP7: 10868.48 | BQ7: 896 | BU7: 128 | BV7: 288 | BW7: 244247.5 | CA7: 11924.5 | CB7: 268275.94 | CC7: 1312 | CD7: 524447.94 | CE7: 914 | CI7: 132 | CJ7: 294 | CK7: 249154.26 | CO7: 12297.141 | CP7: 273865.02 | CQ7: 1340 | CR7: 535316.42 | CS7: =BB7-CR7 -> 53139.582 | CT7: 2-Way Mir | CU7: RAID-6(6+2 | CV7: RAID-5(3+1) | CW7: =DF7*2 -> 166392.2 | CX7: =DG7*8/6 -> 176093.87 | CY7: =DH7*4/3 -> 0 | CZ7: =CW7+CX7+CY7 -> 342486.07 | DA7: =CZ7-DI7 -> 127219.57 | DB7: 0349_300GB | DC7: 0349_1TB | DD7: 0349_100_SSD | DF7: 83196.1 | DG7: 132070.4 | DI7: =DF7+DG7+DH7 -> 215266.5 | DJ7: 39527.6 | DK7: 27664.8 | DL7: 7952.1 | DN7: =DJ7+DK7+DM7 -> 67192.4 | DO7: =DF7-DJ7 -> 43668.5 | DP7: =DG7-DK7 -> 104405.6 | DQ7: =DH7-DM7 -> 0 | DR7: =DI7-DN7 -> 148074.1 | DS7: =DN7/DI7 -> 0.31213589 | DT7: 218748 | DV7: =SUM(DT7:DU7) -> 218748 | DW7: =DV7/DI7 -> 1.016173
A8: RDC | B8: 000292600552 | C8: 0552 | D8: Vmax | E8: VMAX-1 | F8: EMC | G8: EMC Symmetrix VMAX | H8: BAU | I8: Symm/Sync | J8: Not FAST | K8: Thin | L8: 552 | M8: 14 | S8: 4200 | Y8: 14 | Z8: 4200 | AA8: 662 | AG8: 198600 | AM8: 662 | AN8: 198600 | AO8: 676 | AU8: 202800 | BA8: 676 | BB8: 202800 | BC8: 14 | BI8: 3816.3672 | BO8: 14 | BP8: 3816.3672 | BQ8: 662 | BW8: 180459.65 | CC8: 662 | CD8: 180459.65 | CE8: 676 | CK8: 184276.02 | CQ8: 676 | CR8: 184276.02 | CS8: =BB8-CR8 -> 18523.984 | CT8: RAID-6(14+2) | CW8: =DF8*16/14 -> 172019.09 | CX8: =DG8*8/7 -> 0 | CY8: =DH8*16/14 -> 0 | CZ8: =CW8+CX8+CY8 -> 172019.09 | DA8: =CZ8-DI8 -> 21502.386 | DB8: 0552_300_10 | DF8: 150516.7 | DI8: =DF8+DG8+DH8 -> 150516.7 | DJ8: 82614.8 | DN8: =DJ8+DK8+DM8 -> 82614.8 | DO8: =DF8-DJ8 -> 67901.9 | DP8: =DG8-DK8 -> 0 | DQ8: =DH8-DM8 -> 0 | DR8: =DI8-DN8 -> 67901.9 | DS8: =DN8/DI8 -> 0.54887464 | DT8: 97374.1 | DV8: =SUM(DT8:DU8) -> 97374.1 | DW8: =DV8/DI8 -> 0.6469322 | DX8: 55880.287
A9: FDC | B9: 295700667 | C9: 667 | D9: Vmax | E9: VMAX40K | F9: EMC | G9: EMC Symmetrix VMAX | H9: BAU | I9: Symm/Sync | J9: Not FAST | K9: Thin | L9: 667 | M9: 16 | S9: 4800 | Y9: 16 | Z9: 4800 | AA9: 768 | AG9: 230400 | AM9: 768 | AN9: 230400 | AO9: 784 | AU9: 235200 | BA9: 784 | BB9: 235200 | BC9: 16 | BI9: 4361.5625 | BO9: 16 | BP9: 4361.5625 | BQ9: 768 | BW9: 209355 | CC9: 768 | CD9: 209355 | CE9: 784 | CK9: 213716.56 | CP9: =CQ9*CK5 -> 213716.56 | CQ9: 784 | CR9: 213716.56 | CS9: =BB9-CR9 -> 21483.438 | CT9: 2-Way Mir | CW9: =DF9*2 -> 200650 | CX9: =DG9*8/7 -> 0 | CY9: =DH9*16/14 -> 0 | CZ9: =CW9+CX9+CY9 -> 200650 | DA9: =CZ9-DI9 -> 100325 | DB9: 0667_300GB | DF9: 100325 | DI9: =DF9+DG9+DH9 -> 100325 | DJ9: 3.1 | DN9: =DJ9+DK9+DM9 -> 3.1 | DO9: =DF9-DJ9 -> 100321.9 | DP9: =DG9-DK9 -> 0 | DQ9: =DH9-DM9 -> 0 | DR9: =DI9-DN9 -> 100321.9 | DS9: =DN9/DI9 -> 3.0899576e-05 | DT9: 0 | DV9: =SUM(DT9:DU9) -> 0 | DW9: =DV9/DI9 -> 0
A10: RDC | B10: 295700671 | C10: 671 | D10: Vmax | E10: VMAX40K | F10: EMC | G10: EMC Symmetrix VMAX | H10: BAU | I10: Symm/Sync | J10: Not FAST | K10: Thin | L10: 671 | M10: 32 | S10: 9600 | Y10: 32 | Z10: 9600 | AA10: 1568 | AG10: 470400 | AM10: 1568 | AN10: 470400 | AO10: 1600 | AU10: 480000 | BA10: 1600 | BB10: 480000 | BC10: 32 | BI10: 8723.125 | BO10: 32 | BP10: 8723.125 | BQ10: 1568 | BW10: 427433.12 | CC10: 1568 | CD10: 427433.12 | CE10: 1600 | CK10: 436156.25 | CQ10: 1600 | CR10: 436156.25 | CS10: =BB10-CR10 -> 43843.75 | CT10: 2-Way Mir | CW10: =DF10*2 -> 415250 | CX10: =DG10*8/7 -> 0 | CY10: =DH10*16/14 -> 0 | CZ10: =CW10+CX10+CY10 -> 415250 | DA10: =CZ10-DI10 -> 207625 | DB10: 0671_300GB | DF10: 207625 | DI10: =DF10+DG10+DH10 -> 207625 | DJ10: 3.1 | DN10: =DJ10+DK10+DM10 -> 3.1 | DO10: =DF10-DJ10 -> 207621.9 | DP10: =DG10-DK10 -> 0 | DQ10: =DH10-DM10 -> 0 | DR10: =DI10-DN10 -> 207621.9 | DS10: =DN10/DI10 -> 1.4930765e-05 | DT10: 0 | DV10: =SUM(DT10:DU10) -> 0 | DW10: =DV10/DI10 -> 0
A11: RDC | B11: 000292600678 | C11: 0678 | D11: Vmax | E11: VMAX-1 | F11: EMC | G11: EMC Symmetrix VMAX | H11: BAU | I11: Symm-NonSRDF | J11: FAST | K11: Thin | L11: 678 | N11: 12 | T11: 5400 | Y11: 12 | Z11: 5400 | AB11: 528 | AH11: 237600 | AM11: 528 | AN11: 237600 | AP11: 540 | AV11: 243000 | BA11: 540 | BB11: 243000 | BD11: 12 | BJ11: 4906.7578 | BO11: 12 | BP11: 4906.7578 | BR11: 528 | BX11: 215897.34 | CC11: 528 | CD11: 215897.34 | CF11: 540 | CL11: 220804.1 | CQ11: 540 | CR11: 220804.1 | CS11: =BB11-CR11 -> 22195.898 | CT11: RAID-6(14+2) | CW11: =DF11*16/14 -> 207998.63 | CX11: =DG11*8/7 -> 0 | CY11: =DH11*16/14 -> 0 | CZ11: =CW11+CX11+CY11 -> 207998.63 | DA11: =CZ11-DI11 -> 25999.829 | DB11: 0678_450_20 | DF11: 181998.8 | DI11: =DF11+DG11+DH11 -> 181998.8 | DJ11: 157009.9 | DN11: =DJ11+DK11+DM11 -> 157009.9 | DO11: =DF11-DJ11 -> 24988.9 | DP11: =DG11-DK11 -> 0 | DQ11: =DH11-DM11 -> 0 | DR11: =DI11-DN11 -> 24988.9 | DS11: =DN11/DI11 -> 0.86269745 | DT11: 262762 | DV11: =SUM(DT11:DU11) -> 262762 | DW11: =DV11/DI11 -> 1.4437568
A12: CGC | B12: 000292600745 | C12: 0745 | D12: Vmax | E12: VMAX-1 | F12: EMC | G12: EMC Symmetrix VMAX | H12: BAU | I12: Symm/Sync | J12: Not FAST | K12: Thin | L12: 745 | M12: 14 | S12: 4200 | Y12: 14 | Z12: 4200 | AA12: 662 | AG12: 198600 | AM12: 662 | AN12: 198600 | AO12: 676 | AU12: 202800 | BA12: 676 | BB12: 202800 | BC12: 14 | BI12: 3816.3672 | BO12: 14 | BP12: 3816.3672 | BQ12: 662 | BW12: 180459.65 | CC12: 662 | CD12: 180459.65 | CE12: 676 | CK12: 184276.02 | CQ12: 676 | CR12: 184276.02 | CS12: =BB12-CR12 -> 18523.984 | CT12: RAID-6(14+2) | CW12: =DF12*16/14 -> 172019.09 | CX12: =DG12*8/7 -> 0 | CY12: =DH12*16/14 -> 0 | CZ12: =CW12+CX12+CY12 -> 172019.09 | DA12: =CZ12-DI12 -> 21502.386 | DB12: 0745_300_10 | DF12: 150516.7 | DI12: =DF12+DG12+DH12 -> 150516.7 | DJ12: 83956.6 | DN12: =DJ12+DK12+DM12 -> 83956.6 | DO12: =DF12-DJ12 -> 66560.1 | DP12: =DG12-DK12 -> 0 | DQ12: =DH12-DM12 -> 0 | DR12: =DI12-DN12 -> 66560.1 | DS12: =DN12/DI12 -> 0.55778927 | DT12: 96362.6 | DV12: =SUM(DT12:DU12) -> 96362.6 | DW12: =DV12/DI12 -> 0.64021202 | DX12: 55803.188
A13: FDC | B13: 000292600879 | C13: 0879 | D13: Vmax | E13: VMAX-1 | F13: EMC | G13: EMC Symmetrix VMAX | H13: BAU | I13: Symm-NonSRDF | J13: Not FAST | K13: Thin | L13: 879 | N13: 12 | T13: 5400 | Y13: 12 | Z13: 5400 | AB13: 560 | AH13: 252000 | AM13: 560 | AN13: 252000 | AP13: 572 | AV13: 257400 | BA13: 572 | BB13: 257400 | BD13: 12 | BJ13: 4906.7578 | BO13: 12 | BP13: 4906.7578 | BR13: 560 | BX13: 228982.03 | CC13: 560 | CD13: 228982.03 | CF13: 572 | CL13: 233888.79 | CQ13: 572 | CR13: 233888.79 | CS13: =BB13-CR13 -> 23511.211 | CT13: RAID-6(14+2) | CW13: =DF13*16/14 -> 220604.69 | CX13: =DG13*8/7 -> 0 | CY13: =DH13*16/14 -> 0 | CZ13: =CW13+CX13+CY13 -> 220604.69 | DA13: =CZ13-DI13 -> 27575.586 | DB13: 0879_450_20 | DF13: 193029.1 | DI13: =DF13+DG13+DH13 -> 193029.1 | DJ13: 169963.8 | DN13: =DJ13+DK13+DM13 -> 169963.8 | DO13: =DF13-DJ13 -> 23065.3 | DP13: =DG13-DK13 -> 0 | DQ13: =DH13-DM13 -> 0 | DR13: =DI13-DN13 -> 23065.3 | DS13: =DN13/DI13 -> 0.88050869 | DT13: 277512 | DV13: =SUM(DT13:DU13) -> 277512 | DW13: =DV13/DI13 -> 1.4376692
A14: RDC | B14: 000292602230 | C14: 2230 | D14: Vmax | E14: VMAX-1 | F14: EMC | G14: EMC Symmetrix VMAX | H14: BAU | I14: Symm/Async | J14: Not FAST | K14: Thin | L14: 2230 | N14: 10 | T14: 4500 | Y14: 10 | Z14: 4500 | AB14: 496 | AH14: 223200 | AM14: 496 | AN14: 223200 | AP14: 506 | AV14: 227700 | BA14: 506 | BB14: 227700 | BD14: 10 | BJ14: 4088.9648 | BO14: 10 | BP14: 4088.9648 | BR14: 496 | BX14: 202812.66 | CC14: 496 | CD14: 202812.66 | CF14: 506 | CL14: 206901.62 | CQ14: 506 | CR14: 206901.62 | CS14: =BB14-CR14 -> 20798.379 | CT14: RAID-6(14+2 | CW14: =DF14*16/14 -> 195392.69 | CX14: =DG14*8/7 -> 0 | CY14: =DH14*16/14 -> 0 | CZ14: =CW14+CX14+CY14 -> 195392.69 | DA14: =CZ14-DI14 -> 24424.086 | DB14: 2230_450GB | DF14: 170968.6 | DI14: =DF14+DG14+DH14 -> 170968.6 | DJ14: 113314.3 | DN14: =DJ14+DK14+DM14 -> 113314.3 | DO14: =DF14-DJ14 -> 57654.3 | DP14: =DG14-DK14 -> 0 | DQ14: =DH14-DM14 -> 0 | DR14: =DI14-DN14 -> 57654.3 | DS14: =DN14/DI14 -> 0.66277843 | DT14: 169530 | DV14: =SUM(DT14:DU14) -> 169530 | DW14: =DV14/DI14 -> 0.99158559
A15: FDC | B15: 000292602231 | C15: 2231 | D15: Vmax | E15: VMAX-1 | F15: EMC | G15: EMC Symmetrix VMAX | H15: BAU | I15: Symm/Async | J15: Not FAST | K15: Thin | L15: 2231 | N15: 16 | T15: 7200 | Y15: 16 | Z15: 7200 | AB15: 800 | AH15: 360000 | AM15: 800 | AN15: 360000 | AP15: 816 | AV15: 367200 | BA15: 816 | BB15: 367200 | BD15: 16 | BJ15: 6542.3438 | BO15: 16 | BP15: 6542.3438 | BR15: 800 | BX15: 327117.19 | CC15: 800 | CD15: 327117.19 | CF15: 816 | CL15: 333659.53 | CQ15: 816 | CR15: 333659.53 | CS15: =BB15-CR15 -> 33540.469 | CT15: RAID-6(14+2) | CW15: =DF15*16/14 -> 315148.57 | CX15: =DG15*8/7 -> 0 | CY15: =DH15*16/14 -> 0 | CZ15: =CW15+CX15+CY15 -> 315148.57 | DA15: =CZ15-DI15 -> 39393.571 | DB15: 2231_450_20 | DF15: 275755 | DI15: =DF15+DG15+DH15 -> 275755 | DJ15: 209054.6 | DN15: =DJ15+DK15+DM15 -> 209054.6 | DO15: =DF15-DJ15 -> 66700.4 | DP15: =DG15-DK15 -> 0 | DQ15: =DH15-DM15 -> 0 | DR15: =DI15-DN15 -> 66700.4 | DS15: =DN15/DI15 -> 0.75811717 | DT15: 165752 | DU15: 156496 | DV15: =SUM(DT15:DU15) -> 322248 | DW15: =DV15/DI15 -> 1.1686026
A16: FDC | B16: 000292602804 | C16: 2804 | D16: Vmax | E16: VMAX-1 | F16: EMC | G16: EMC Symmetrix VMAX | H16: Rainbow | I16: Symm/Async | J16: Not FAST | K16: Thin | L16: 2804 | N16: 8 | P16: 2 | T16: 3600 | V16: 400 | Y16: 10 | Z16: 4000 | AB16: 240 | AD16: 32 | AH16: 108000 | AJ16: 6400 | AM16: 272 | AN16: 114400 | AP16: 248 | AR16: 34 | AV16: 111600 | AX16: 6800 | BA16: 282 | BB16: 118400 | BD16: 8 | BF16: 2 | BJ16: 3271.1719 | BL16: 372.62109 | BO16: 10 | BP16: 3643.793 | BR16: 240 | BT16: 32 | BX16: 98135.156 | BZ16: 5961.9375 | CC16: 272 | CD16: 104097.09 | CF16: 248 | CH16: 34 | CL16: 101406.33 | CN16: 6334.5586 | CQ16: 282 | CR16: 107740.89 | CS16: =BB16-CR16 -> 10659.113 | CT16: RAID-6(14+2) | CW16: =DF16*16/14 -> 94544.686 | CX16: =DG16*8/7 -> 0 | CY16: =DH16*16/14 -> 0 | CZ16: =CW16+CX16+CY16 -> 94544.686 | DA16: =CZ16-DI16 -> 11818.086 | DB16: 2804_450GB | DF16: 82726.6 | DI16: =DF16+DG16+DH16 -> 82726.6 | DJ16: 57786.6 | DN16: =DJ16+DK16+DM16 -> 57786.6 | DO16: =DF16-DJ16 -> 24940 | DP16: =DG16-DK16 -> 0 | DQ16: =DH16-DM16 -> 0 | DR16: =DI16-DN16 -> 24940 | DS16: =DN16/DI16 -> 0.69852502 | DT16: 126591 | DU16: 0 | DV16: =SUM(DT16:DU16) -> 126591 | DW16: =DV16/DI16 -> 1.5302333
A17: FDC | B17: 000292603004 | C17: 3004 | D17: Vmax | E17: VMAX-1 | F17: EMC | G17: EMC Symmetrix VMAX | H17: BAU | I17: Symm-NonSRDF | J17: FAST | K17: Thin | L17: 3004 | N17: 8 | O17: 4 | P17: 2 | T17: 3600 | U17: 8192 | V17: 400 | Y17: 14 | Z17: 12192 | AB17: 384 | AC17: 192 | AD17: 96 | AH17: 172800 | AI17: 393216 | AJ17: 19200 | AM17: 672 | AN17: 585216 | AP17: 392 | AQ17: 196 | AR17: 98 | AV17: 176400 | AW17: 401408 | AX17: 19600 | BA17: 686 | BB17: 597408 | BD17: 8 | BE17: 4 | BF17: 2 | BJ17: 3271.1719 | BK17: 7123.3008 | BL17: 372.62109 | BO17: 14 | BP17: 10767.094 | BR17: 384 | BS17: 192 | BT17: 96 | BX17: 157016.25 | BY17: 341918.44 | BZ17: 17885.812 | CC17: 672 | CD17: 516820.5 | CF17: 392 | CG17: 196 | CH17: 98 | CL17: 160287.42 | CM17: 349041.74 | CN17: 18258.434 | CQ17: 686 | CR17: 527587.59 | CS17: =BB17-CR17 -> 69820.406 | CT17: RAID-6(14+2) | CU17: RAID-5(7+1) | CV17: RAID-6(14+2) | CW17: =DF17*16/14 -> 151009.03 | CX17: =DG17*8/7 -> 15757.371 | CY17: =DH17*16/14 -> 0 | CZ17: =CW17+CX17+CY17 -> 166766.4 | DA17: =CZ17-DI17 -> 20845.8 | DB17: 3004_450GB | DC17: 3004_200_SSD | DD17: 3004_2TBSATA | DF17: 132132.9 | DG17: 13787.7 | DI17: =DF17+DG17+DH17 -> 145920.6 | DJ17: 73079.7 | DK17: 13648.1 | DL17: 111557.6 | DN17: =DJ17+DK17+DM17 -> 86727.8 | DO17: =DF17-DJ17 -> 59053.2 | DP17: =DG17-DK17 -> 139.6 | DQ17: =DH17-DM17 -> 0 | DR17: =DI17-DN17 -> 59192.8 | DS17: =DN17/DI17 -> 0.59434926 | DT17: 369005 | DU17: 0 | DV17: =SUM(DT17:DU17) -> 369005 | DW17: =DV17/DI17 -> 2.5288068
A18: RDC | B18: 000292603073 | C18: 3073 | D18: Vmax | E18: VMAX-1 | F18: EMC | G18: EMC Symmetrix VMAX | H18: BAU | I18: Symm-NonSRDF | J18: FAST | K18: Thin | L18: 3073 | N18: 8 | O18: 4 | P18: 2 | T18: 3600 | U18: 8192 | V18: 400 | Y18: 14 | Z18: 12192 | AB18: 384 | AC18: 160 | AD18: 96 | AH18: 172800 | AI18: 327680 | AJ18: 19200 | AM18: 640 | AN18: 519680 | AP18: 392 | AQ18: 164 | AR18: 98 | AV18: 176400 | AW18: 335872 | AX18: 19600 | BA18: 654 | BB18: 531872 | BD18: 8 | BE18: 4 | BF18: 2 | BJ18: 3271.1719 | BK18: 7123.3008 | BL18: 372.62109 | BO18: 14 | BP18: 10767.094 | BR18: 384 | BS18: 160 | BT18: 96 | BX18: 157016.25 | BY18: 284932.03 | BZ18: 17885.812 | CC18: 640 | CD18: 459834.09 | CF18: 392 | CG18: 164 | CH18: 98 | CL18: 160287.42 | CM18: 292055.33 | CN18: 18258.434 | CQ18: 654 | CR18: 470601.19 | CS18: =BB18-CR18 -> 61270.812 | CT18: RAID-6(14+2) | CU18: RAID-5(7+1) | CV18: RAID-6(14+2) | CW18: =DF18*16/14 -> 151009.03 | CX18: =DG18*8/7 -> 15757.371 | CY18: =DH18*16/14 -> 0 | CZ18: =CW18+CX18+CY18 -> 166766.4 | DA18: =CZ18-DI18 -> 20845.8 | DB18: 3073_450GB | DC18: 3073_200_SSD | DD18: 3073_2TBSATA | DF18: 132132.9 | DG18: 13787.7 | DI18: =DF18+DG18+DH18 -> 145920.6 | DJ18: 64433.7 | DK18: 13648.8 | DL18: 120977.1 | DN18: =DJ18+DK18+DM18 -> 78082.5 | DO18: =DF18-DJ18 -> 67699.2 | DP18: =DG18-DK18 -> 138.9 | DQ18: =DH18-DM18 -> 0 | DR18: =DI18-DN18 -> 67838.1 | DS18: =DN18/DI18 -> 0.53510265 | DT18: 445574 | DU18: 0 | DV18: =SUM(DT18:DU18) -> 445574 | DW18: =DV18/DI18 -> 3.0535373
A19: RDC | B19: 000292603286 | C19: 3286 | D19: Vmax | E19: VMAX-1 | F19: EMC | G19: EMC Symmetrix VMAX | H19: Rainbow | I19: Symm/Async | J19: Not FAST | K19: Thin | L19: 3286 | N19: 10 | P19: 2 | T19: 4500 | V19: 400 | Y19: 12 | Z19: 4900 | AB19: 480 | AD19: 32 | AH19: 216000 | AJ19: 6400 | AM19: 512 | AN19: 222400 | AP19: 490 | AR19: 34 | AV19: 220500 | AX19: 6800 | BA19: 524 | BB19: 227300 | BD19: 10 | BF19: 2 | BJ19: 4088.9648 | BL19: 372.62109 | BO19: 12 | BP19: 4461.5859 | BR19: 480 | BT19: 32 | BX19: 196270.31 | BZ19: 5961.9375 | CC19: 512 | CD19: 202232.25 | CF19: 490 | CH19: 34 | CL19: 200359.28 | CN19: 6334.5586 | CQ19: 524 | CR19: 206693.84 | CS19: =BB19-CR19 -> 20606.164 | CT19: RAID-6(14+2) | CW19: =DF19*16/14 -> 189089.71 | CX19: =DG19*8/7 -> 0 | CY19: =DH19*16/14 -> 0 | CZ19: =CW19+CX19+CY19 -> 189089.71 | DA19: =CZ19-DI19 -> 23636.214 | DB19: 3286_450GB | DF19: 165453.5 | DI19: =DF19+DG19+DH19 -> 165453.5 | DJ19: 111706.1 | DN19: =DJ19+DK19+DM19 -> 111706.1 | DO19: =DF19-DJ19 -> 53747.4 | DP19: =DG19-DK19 -> 0 | DQ19: =DH19-DM19 -> 0 | DR19: =DI19-DN19 -> 53747.4 | DS19: =DN19/DI19 -> 0.67515102 | DT19: 119700 | DU19: 116875 | DV19: =SUM(DT19:DU19) -> 236575 | DW19: =DV19/DI19 -> 1.4298579
A20: RDC | B20: 000292603696 | C20: 3696 | D20: Vmax | E20: VMAX-1 | F20: EMC | G20: EMC Symmetrix VMAX | H20: Rainbow | I20: Symm/Async | J20: Not FAST | K20: Thin | L20: 3696 | N20: 10 | P20: 1 | T20: 4500 | V20: 200 | Y20: 11 | Z20: 4700 | AB20: 480 | AD20: 32 | AH20: 216000 | AJ20: 6400 | AM20: 512 | AN20: 222400 | AP20: 490 | AR20: 33 | AV20: 220500 | AX20: 6600 | BA20: 523 | BB20: 227100 | BD20: 10 | BF20: 1 | BJ20: 4088.9648 | BL20: 186.31055 | BO20: 11 | BP20: 4275.2754 | BR20: 480 | BT20: 32 | BX20: 196270.31 | BZ20: 5961.9375 | CC20: 512 | CD20: 202232.25 | CF20: 490 | CH20: 33 | CL20: 200359.28 | CN20: 6148.248 | CQ20: 523 | CR20: 206507.53 | CS20: =BB20-CR20 -> 20592.475 | CT20: RAID-6(14+2) | CW20: =DF20*16/14 -> 189089.71 | CX20: =DG20*8/7 -> 0 | CY20: =DH20*16/14 -> 0 | CZ20: =CW20+CX20+CY20 -> 189089.71 | DA20: =CZ20-DI20 -> 23636.214 | DB20: 3696_450GB | DF20: 165453.5 | DI20: =DF20+DG20+DH20 -> 165453.5 | DJ20: 32444.6 | DN20: =DJ20+DK20+DM20 -> 32444.6 | DO20: =DF20-DJ20 -> 133008.9 | DP20: =DG20-DK20 -> 0 | DQ20: =DH20-DM20 -> 0 | DR20: =DI20-DN20 -> 133008.9 | DS20: =DN20/DI20 -> 0.19609498 | DT20: 40733 | DU20: 40392.7 | DV20: =SUM(DT20:DU20) -> 81125.7 | DW20: =DV20/DI20 -> 0.49032326
A21: FDC | B21: 000292603875 | C21: 3875 | D21: Vmax | E21: VMAX-1 | F21: EMC | G21: EMC Symmetrix VMAX | H21: Rainbow | I21: Symm/Async | J21: Not FAST | K21: Thin | L21: 3875 | N21: 8 | P21: 2 | T21: 3600 | V21: 400 | Y21: 10 | Z21: 4000 | AB21: 240 | AD21: 32 | AH21: 108000 | AJ21: 6400 | AM21: 272 | AN21: 114400 | AP21: 248 | AR21: 34 | AV21: 111600 | AX21: 6800 | BA21: 282 | BB21: 118400 | BD21: 8 | BF21: 2 | BJ21: 3271.1719 | BL21: 372.62109 | BO21: 10 | BP21: 3643.793 | BR21: 240 | BT21: 32 | BX21: 98135.156 | BZ21: 5961.9375 | CC21: 272 | CD21: 104097.09 | CF21: 248 | CH21: 34 | CL21: 101406.33 | CN21: 6334.5586 | CQ21: 282 | CR21: 107740.89 | CS21: =BB21-CR21 -> 10659.113 | CT21: RAID-6(14+2) | CW21: =DF21*16/14 -> 94544.686 | CX21: =DG21*8/7 -> 0 | CY21: =DH21*16/14 -> 0 | CZ21: =CW21+CX21+CY21 -> 94544.686 | DA21: =CZ21-DI21 -> 11818.086 | DB21: 3875_450GB | DF21: 82726.6 | DI21: =DF21+DG21+DH21 -> 82726.6 | DJ21: 16824.2 | DN21: =DJ21+DK21+DM21 -> 16824.2 | DO21: =DF21-DJ21 -> 65902.4 | DP21: =DG21-DK21 -> 0 | DQ21: =DH21-DM21 -> 0 | DR21: =DI21-DN21 -> 65902.4 | DS21: =DN21/DI21 -> 0.2033711 | DT21: 55844.5 | DU21: 0 | DV21: =SUM(DT21:DU21) -> 55844.5 | DW21: =DV21/DI21 -> 0.6750489
A22: RDC | B22: 000292604330 | C22: 4330 | D22: Vmax | E22: VMAX20K | F22: EMC | G22: EMC Symmetrix VMAX | H22: TR | I22: Symm/Async | J22: Not FAST | K22: Thin | L22: 4330 | N22: 14 | T22: 6300 | Y22: 14 | Z22: 6300 | AB22: 624 | AH22: 280800 | AM22: 624 | AN22: 280800 | AP22: 638 | AV22: 287100 | BA22: 638 | BB22: 287100 | BD22: 14 | BJ22: 5724.5508 | BO22: 14 | BP22: 5724.5508 | BR22: 624 | BX22: 255151.41 | CC22: 624 | CD22: 255151.41 | CF22: 638 | CL22: 260875.96 | CQ22: 638 | CR22: 260875.96 | CS22: =BB22-CR22 -> 26224.043 | CT22: 2-Way Mir | CW22: =DF22*2 -> 242765.2 | CX22: =DG22*8/7 -> 0 | CY22: =DH22*16/14 -> 0 | CZ22: =CW22+CX22+CY22 -> 242765.2 | DA22: =CZ22-DI22 -> 121382.6 | DB22: 4330_450GB | DF22: 121382.6 | DI22: =DF22+DG22+DH22 -> 121382.6 | DJ22: 59149.2 | DN22: =DJ22+DK22+DM22 -> 59149.2 | DO22: =DF22-DJ22 -> 62233.4 | DP22: =DG22-DK22 -> 0 | DQ22: =DH22-DM22 -> 0 | DR22: =DI22-DN22 -> 62233.4 | DS22: =DN22/DI22 -> 0.48729554 | DT22: 120180 | DU22: 14430.8 | DV22: =SUM(DT22:DU22) -> 134610.8 | DW22: =DV22/DI22 -> 1.1089794
A23: FDC | B23: 000292604652 | C23: 4652 | D23: Vmax | E23: VMAX20K | F23: EMC | G23: EMC Symmetrix VMAX | H23: BAU | I23: Symm/Async | J23: Not FAST | K23: Thin | L23: 4652 | N23: 20 | T23: 9000 | Y23: 20 | Z23: 9000 | AB23: 960 | AH23: 432000 | AM23: 960 | AN23: 432000 | AP23: 980 | AV23: 441000 | BA23: 980 | BB23: 441000 | BD23: 20 | BJ23: 8177.9297 | BO23: 20 | BP23: 8177.9297 | BR23: 960 | BX23: 392540.62 | CC23: 960 | CD23: 392540.62 | CF23: 980 | CL23: 400718.55 | CQ23: 980 | CR23: 400718.55 | CS23: =BB23-CR23 -> 40281.445 | CT23: Way Mir | CW23: =DF23*2 -> 377963.2 | CX23: =DG23*8/7 -> 0 | CY23: =DH23*16/14 -> 0 | CZ23: =CW23+CX23+CY23 -> 377963.2 | DA23: =CZ23-DI23 -> 188981.6 | DB23: 4652_450GB | DF23: 188981.6 | DI23: =DF23+DG23+DH23 -> 188981.6 | DJ23: 94288.5 | DN23: =DJ23+DK23+DM23 -> 94288.5 | DO23: =DF23-DJ23 -> 94693.1 | DP23: =DG23-DK23 -> 0 | DQ23: =DH23-DM23 -> 0 | DR23: =DI23-DN23 -> 94693.1 | DS23: =DN23/DI23 -> 0.49892953 | DT23: 119115 | DU23: 92923.6 | DV23: =SUM(DT23:DU23) -> 212038.6 | DW23: =DV23/DI23 -> 1.1220066
A24: CGC | B24: 000292600623 | C24: 0623 | D24: Vmax | E24: VMAX-1 | F24: EMC | G24: EMC Symmetrix VMAX | H24: BAU | I24: Symm-NonSRDF | J24: FAST | K24: Thin | L24: 623 | N24: 10 | O24: 2 | P24: 3 | T24: 4500 | U24: 4096 | V24: 600 | Y24: 15 | Z24: 9196 | AB24: 416 | AC24: 64 | AD24: 64 | AH24: 187200 | AI24: 131072 | AJ24: 12800 | AM24: 544 | AN24: 331072 | AP24: 426 | AQ24: 66 | AR24: 67 | AV24: 191700 | AW24: 135168 | AX24: 13400 | BA24: 559 | BB24: 340268 | BD24: 10 | BE24: 2 | BF24: 3 | BJ24: 4088.9648 | BK24: 3561.6504 | BL24: 558.93164 | BO24: 15 | BP24: 8209.5469 | BR24: 416 | BS24: 64 | BT24: 64 | BX24: 170100.94 | BY24: 113972.81 | BZ24: 11923.875 | CC24: 544 | CD24: 295997.62 | CF24: 426 | CG24: 66 | CH24: 67 | CL24: 174189.9 | CM24: 117534.46 | CN24: 12482.807 | CQ24: 559 | CR24: 304207.17 | CS24: =BB24-CR24 -> 36060.828 | CT24: RAID-6(14+2 | CU24: RAID-5(7+1) | CV24: RAID-6(14+2) | CW24: =DF24*16/14 -> 163877.71 | CX24: =DG24*8/7 -> 10504.914 | CY24: =DH24*16/14 -> 0 | CZ24: =CW24+CX24+CY24 -> 174382.63 | DA24: =CZ24-DI24 -> 21797.829 | DB24: 0623_450_20 | DC24: 0623_200_SSD | DD24: 0623_2TBSATA | DF24: 143393 | DG24: 9191.8 | DI24: =DF24+DG24+DH24 -> 152584.8 | DJ24: 51681.8 | DK24: 8984.3 | DL24: 38973.2 | DN24: =DJ24+DK24+DM24 -> 60666.1 | DO24: =DF24-DJ24 -> 91711.2 | DP24: =DG24-DK24 -> 207.5 | DQ24: =DH24-DM24 -> 0 | DR24: =DI24-DN24 -> 91918.7 | DS24: =DN24/DI24 -> 0.39758941 | DT24: 169949 | DV24: =SUM(DT24:DU24) -> 169949 | DW24: =DV24/DI24 -> 1.1138003 | DX24: 77939.569
A25: Swiss | B25: 292602262 | C25: 2262 | D25: Vmax | E25: VMAX-1 | F25: EMC | G25: EMC Symmetrix VMAX | H25: BAU | I25: Symm-NonSRDF | J25: FAST | K25: Thin | L25: 2262 | N25: 8 | T25: 3600 | Y25: 8 | Z25: 3600 | AB25: 160 | AH25: 72000 | AM25: 160 | AN25: 72000 | AP25: 168 | AV25: 75600 | BA25: 168 | BB25: 75600 | BD25: 8 | BJ25: 3271 | BO25: 8 | BP25: 3271 | BR25: 160 | BX25: 65423 | CC25: 160 | CD25: 65423 | CF25: 168 | CL25: 68695 | CQ25: 168 | CR25: 68695 | CS25: =BB25-CR25 -> 6905 | CT25: RAID-6 (14+2) | CW25: =DF25*16/14 -> 63029.714 | CX25: =DG25*8/7 -> 0 | CY25: =DH25*16/14 -> 0 | CZ25: =CW25+CX25+CY25 -> 63029.714 | DA25: =CZ25-DI25 -> 7878.7143 | DB25: 2262_450GB | DF25: 55151 | DI25: =DF25+DG25+DH25 -> 55151 | DJ25: 14103.1 | DN25: =DJ25+DK25+DM25 -> 14103.1 | DO25: =DF25-DJ25 -> 41047.9 | DP25: =DG25-DK25 -> 0 | DQ25: =DH25-DM25 -> 0 | DR25: =DI25-DN25 -> 41047.9 | DS25: =DN25/DI25 -> 0.25571794 | DT25: 56947 | DV25: =SUM(DT25:DU25) -> 56947 | DW25: =DV25/DI25 -> 1.0325651
A26: Swiss | B26: 492600377 | C26: 377 | D26: Vmax | E26: VMAX-1 | F26: EMC | G26: EMC Symmetrix VMAX | H26: BAU | I26: Symm-NonSRDF | J26: FAST | K26: Thin | L26: 377 | N26: 8 | T26: 3600 | Y26: 8 | Z26: 3600 | AB26: 96 | AH26: 43200 | AM26: 96 | AN26: 43200 | AP26: 104 | AV26: 46800 | BA26: 104 | BB26: 46800 | BD26: 8 | BJ26: 3271 | BO26: 8 | BP26: 3271 | BR26: 96 | BX26: 39254 | CC26: 96 | CD26: 39254 | CF26: 104 | CL26: 42525 | CQ26: 104 | CR26: 42525 | CS26: =BB26-CR26 -> 4275 | CT26: RAID-6 (14+2) | CU26: =311508321/1024 -> 304207.34 | CV26: =CR24/BB24 -> 0.89402228 | CW26: =DF26*16/14 -> 37817.714 | CX26: =DG26*8/7 -> 0 | CY26: =DH26*16/14 -> 0 | CZ26: =CW26+CX26+CY26 -> 37817.714 | DA26: =CZ26-DI26 -> 4727.2143 | DB26: 0377_450GB | DF26: 33090.5 | DI26: =DF26+DG26+DH26 -> 33090.5 | DJ26: 7333.1 | DN26: =DJ26+DK26+DM26 -> 7333.1 | DO26: =DF26-DJ26 -> 25757.4 | DP26: =DG26-DK26 -> 0 | DQ26: =DH26-DM26 -> 0 | DR26: =DI26-DN26 -> 25757.4 | DS26: =DN26/DI26 -> 0.22160741 | DT26: 36650.3 | DV26: =SUM(DT26:DU26) -> 36650.3 | DW26: =DV26/DI26 -> 1.1075777
A27: RDC | B27: CKM00091100696 | C27: rdc4-cx4-0696 | D27: Clariion | E27: CX4-240 | F27: EMC | G27: Clariion AX | H27: Exchange | I27: Clariion-NonSRDF | J27: Not FAST | K27: Thick | L27: CKM00091100696 | Y27: 4 | Z27: 2885.0948 | AM27: 72 | AN27: 131280 | BA27: 76 | BB27: 147581.6 | BO27: 4 | BP27: 2885.0948 | CC27: 72 | CD27: 131280 | CQ27: 76 | CR27: 134165.09 | CS27: =BB27-CR27 -> 13416.509 | CT27: RAID1/0 | CU27: =CR23*1.1 -> 440790.41 | CW27: 84965.095 | CZ27: 134165.09 | DA27: =CZ27-DI27 -> 49199.998 | DF27: 84965.095 | DI27: =DF27+DG27+DH27 -> 84965.095 | DJ27: 84965.095 | DN27: =DJ27+DK27+DM27 -> 84965.095 | DR27: =DI27-DN27 -> 0 | DS27: =DN27/DI27 -> 1 | DT27: 84965.095 | DV27: =SUM(DT27:DU27) -> 84965.095 | DW27: =DV27/DI27 -> 1 | DX27: 4343.127
A28: RDC | B28: CKM00101000576 | C28: rdc4-ac4-0576 | D28: Clariion | E28: CX4-240 | F28: EMC | G28: Clariion AX | H28: Exchange | I28: Clariion-NonSRDF | J28: Not FAST | K28: Thick | L28: CKM00101000576 | Y28: 2 | Z28: 1050.7964 | AM28: 24 | AN28: 17928 | BA28: 26 | BB28: 20876.676 | BO28: 2 | BP28: 1050.7964 | CC28: 24 | CD28: 17928 | CQ28: 26 | CR28: 18978.796 | CS28: =BB28-CR28 -> 1897.8796 | CT28: RAID1/0 | CU28: =CR24*1.1 -> 334627.89 | CW28: 10014.796 | CZ28: 18978.796 | DA28: =CZ28-DI28 -> 8964 | DF28: 10014.796 | DI28: =DF28+DG28+DH28 -> 10014.796 | DJ28: 10014.796 | DN28: =DJ28+DK28+DM28 -> 10014.796 | DR28: =DI28-DN28 -> 0 | DS28: =DN28/DI28 -> 1 | DT28: 10014.796 | DV28: =SUM(DT28:DU28) -> 10014.796 | DW28: =DV28/DI28 -> 1
A29: Russia DC | B29: FCNMM113000103 | C29: prof-ax4-0103 | D29: Clariion | E29: CX4-240 | F29: EMC | G29: Clariion AX | H29: Exchange | I29: Clariion-NonSRDF | J29: Not FAST | K29: Thick | L29: FCNMM113000103 | AB29: 2262 | AD29: 160 | AF29: =AD29*450 -> 72000 | AJ29: 65423.438 | AN29: 8042.8594 | AO29: 160 | AP29: 65423.438 | AR29: 2262 | AT29: 168 | AU29: =AT29*450 -> 75600 | AZ29: 68694.609 | BB29: 8847.1453 | BE29: 168 | BF29: 68694.609 | BR29: 2262 | BT29: 160 | BV29: =BT29*450 -> 72000 | BZ29: 65423.438 | CD29: 8042.8594 | CE29: 160 | CF29: 65423.438 | CH29: 2262 | CJ29: 168 | CK29: =CJ29*450 -> 75600 | CP29: 68694.609 | CR29: 8042.8594 | CS29: =BB29-CR29 -> 804.28594 | CT29: RAID1/0 | CU29: 340268 | CW29: 4021.4297 | CZ29: 8042.8594 | DA29: =CZ29-DI29 -> 4021.4297 | DF29: 4021.4297 | DI29: =DF29+DG29+DH29 -> 4021.4297 | DJ29: 4021.4297 | DN29: =DJ29+DK29+DM29 -> 4021.4297 | DR29: =DI29-DN29 -> 0 | DS29: =DN29/DI29 -> 1 | DT29: 4021.4297 | DV29: =SUM(DT29:DU29) -> 4021.4297 | DW29: =DV29/DI29 -> 1
A30: Russia DC | B30: FCNMM113000127 | C30: prof-ax4-0127 | D30: Clariion | E30: CX4-240 | F30: EMC | G30: Clariion AX | H30: Exchange | I30: Clariion-NonSRDF | J30: Not FAST | K30: Thick | L30: FCNMM113000127 | AB30: 2262 | AD30: 160 | AF30: =AD30*450 -> 72000 | AJ30: 65423.438 | AN30: 8042.8594 | AO30: 160 | AP30: 65423.438 | AR30: 2262 | AT30: 168 | AU30: =AT30*450 -> 75600 | AZ30: 68694.609 | BB30: 8847.1453 | BE30: 168 | BF30: 68694.609 | BR30: 2262 | BT30: 160 | BV30: =BT30*450 -> 72000 | BZ30: 65423.438 | CD30: 8042.8594 | CE30: 160 | CF30: 65423.438 | CH30: 2262 | CJ30: 168 | CK30: =CJ30*450 -> 75600 | CP30: 68694.609 | CR30: 8042.8594 | CS30: =BB30-CR30 -> 804.28594 | CT30: RAID1/0 | CU30: =CU29-CU26 -> 36060.655 | CV30: =CU26/CU29 -> 0.89402278 | CW30: 4021.4297 | CZ30: 8042.8594 | DA30: =CZ30-DI30 -> 4021.4297 | DF30: 4021.4297 | DI30: =DF30+DG30+DH30 -> 4021.4297 | DJ30: 4021.4297 | DN30: =DJ30+DK30+DM30 -> 4021.4297 | DR30: =DI30-DN30 -> 0 | DS30: =DN30/DI30 -> 1 | DT30: 4021.4297 | DV30: =SUM(DT30:DU30) -> 4021.4297 | DW30: =DV30/DI30 -> 1
A31: FDC | B31: FCNMM092200023 | C31: fdc1a-ax4-0023 | D31: Clariion | E31: AX4-5 | F31: EMC | G31: Clariion AX | H31: Exchange | I31: Clariion-NonSRDF | J31: Not FAST | K31: Thick | L31: fdc1a_ax4_0023 | Y31: 2 | Z31: 401.46741 | AB31: 377 | AD31: 96 | AF31: =AD31*450 -> 43200 | AJ31: 39254.062 | AM31: 34 | AN31: 7204 | AO31: 96 | AP31: 39254.062 | AR31: 377 | AT31: 104 | AU31: =AT31*450 -> 46800 | AZ31: 42525.234 | BA31: 36 | BB31: 8366.0141 | BE31: 104 | BF31: 42525.234 | BO31: 2 | BP31: 401.46741 | BR31: 377 | BT31: 96 | BV31: =BT31*450 -> 43200 | BZ31: 39254.062 | CC31: 34 | CD31: 7204 | CE31: 96 | CF31: 39254.062 | CH31: 377 | CJ31: 104 | CK31: =CJ31*450 -> 46800 | CP31: 42525.234 | CQ31: 36 | CR31: 7605.4674 | CS31: =BB31-CR31 -> 760.54674 | CT31: RAID1/0 | CW31: 4003.4674 | CZ31: 7605.4674 | DA31: =CZ31-DI31 -> 3602 | DF31: 4003.4674 | DI31: =DF31+DG31+DH31 -> 4003.4674 | DJ31: 3602 | DN31: =DJ31+DK31+DM31 -> 3602 | DR31: =DI31-DN31 -> 401.46741 | DS31: =DN31/DI31 -> 0.89972008 | DT31: 3602 | DV31: =SUM(DT31:DU31) -> 3602 | DW31: =DV31/DI31 -> 0.89972008 | DX31: 1752.405
A32: FDC | B32: SL7E1091700038 | C32: fdc1a-ax4-0038 | D32: Clariion | E32: AX4-5 | F32: EMC | G32: Clariion AX | H32: Exchange | I32: Clariion-NonSRDF | J32: Not FAST | K32: Thick | L32: fdc1a_ax4_0038 | Y32: 2 | Z32: 401.46741 | AM32: 34 | AN32: 7204 | BA32: 36 | BB32: 8366.0141 | BO32: 2 | BP32: 401.46741 | CC32: 34 | CD32: 7204 | CQ32: 36 | CR32: 7605.4674 | CS32: =BB32-CR32 -> 760.54674 | CT32: RAID1/0 | CW32: 4003.4674 | CZ32: 7605.4674 | DA32: =CZ32-DI32 -> 3602 | DF32: 4003.4674 | DI32: =DF32+DG32+DH32 -> 4003.4674 | DJ32: 3602 | DN32: =DJ32+DK32+DM32 -> 3602 | DR32: =DI32-DN32 -> 401.46741 | DS32: =DN32/DI32 -> 0.89972008 | DT32: 3602 | DV32: =SUM(DT32:DU32) -> 3602 | DW32: =DV32/DI32 -> 0.89972008 | DX32: 1752.405
A33: FDC | B33: SL7E1090800045 | C33: fdc1a-ax4-0045 | D33: Clariion | E33: AX4-5 | F33: EMC | G33: Clariion AX | H33: Exchange | I33: Clariion-NonSRDF | J33: Not FAST | K33: Thick | L33: fdc1a_ax4_0045 | Y33: 2 | Z33: 401.46741 | AM33: 34 | AN33: 7204 | BA33: 36 | BB33: 8366.0141 | BO33: 2 | BP33: 401.46741 | CC33: 34 | CD33: 7204 | CQ33: 36 | CR33: 7605.4674 | CS33: =BB33-CR33 -> 760.54674 | CT33: RAID1/0 | CW33: 4003.4674 | CZ33: 7605.4674 | DA33: =CZ33-DI33 -> 3602 | DF33: 4003.4674 | DI33: =DF33+DG33+DH33 -> 4003.4674 | DJ33: 3602 | DN33: =DJ33+DK33+DM33 -> 3602 | DR33: =DI33-DN33 -> 401.46741 | DS33: =DN33/DI33 -> 0.89972008 | DT33: 3602 | DV33: =SUM(DT33:DU33) -> 3602 | DW33: =DV33/DI33 -> 0.89972008 | DX33: 1752.405
A34: FDC | B34: SL7E1090800055 | C34: fdc1a-ax4-0055 | D34: Clariion | E34: AX4-5 | F34: EMC | G34: Clariion AX | H34: Exchange | I34: Clariion-NonSRDF | J34: Not FAST | K34: Thick | L34: fdc1a_ax4_0055 | Y34: 2 | Z34: 401.46741 | AM34: 34 | AN34: 7204 | BA34: 36 | BB34: 8366.0141 | BO34: 2 | BP34: 401.46741 | CC34: 34 | CD34: 7204 | CQ34: 36 | CR34: 7605.4674 | CS34: =BB34-CR34 -> 760.54674 | CT34: RAID1/0 | CW34: 4003.4674 | CZ34: 7605.4674 | DA34: =CZ34-DI34 -> 3602 | DF34: 4003.4674 | DI34: =DF34+DG34+DH34 -> 4003.4674 | DJ34: 3602 | DN34: =DJ34+DK34+DM34 -> 3602 | DR34: =DI34-DN34 -> 401.46741 | DS34: =DN34/DI34 -> 0.89972008 | DT34: 3602 | DV34: =SUM(DT34:DU34) -> 3602 | DW34: =DV34/DI34 -> 0.89972008 | DX34: 1752.405
A35: FDC | B35: SL7E1091900060 | C35: fdc1a-ax4-0060 | D35: Clariion | E35: AX4-5 | F35: EMC | G35: Clariion AX | H35: Exchange | I35: Clariion-NonSRDF | J35: Not FAST | K35: Thick | L35: fdc1a_ax4_0060 | Y35: 2 | Z35: 401.46741 | AM35: 34 | AN35: 7204 | BA35: 36 | BB35: 8366.0141 | BO35: 2 | BP35: 401.46741 | CC35: 34 | CD35: 7204 | CQ35: 36 | CR35: 7605.4674 | CS35: =BB35-CR35 -> 760.54674 | CT35: RAID1/0 | CW35: 4003.4674 | CZ35: 7605.4674 | DA35: =CZ35-DI35 -> 3602 | DF35: 4003.4674 | DI35: =DF35+DG35+DH35 -> 4003.4674 | DJ35: 3602 | DN35: =DJ35+DK35+DM35 -> 3602 | DR35: =DI35-DN35 -> 401.46741 | DS35: =DN35/DI35 -> 0.89972008 | DT35: 3602 | DV35: =SUM(DT35:DU35) -> 3602 | DW35: =DV35/DI35 -> 0.89972008 | DX35: 1752.405
A36: FDC | B36: SL7E1091600092 | C36: fdc1a-ax4-0092 | D36: Clariion | E36: AX4-5 | F36: EMC | G36: Clariion AX | H36: Exchange | I36: Clariion-NonSRDF | J36: Not FAST | K36: Thick | L36: fdc1a_ax4_0092 | Y36: 2 | Z36: 401.46741 | AM36: 34 | AN36: 7204 | BA36: 36 | BB36: 8366.0141 | BO36: 2 | BP36: 401.46741 | CC36: 34 | CD36: 7204 | CQ36: 36 | CR36: 7605.4674 | CS36: =BB36-CR36 -> 760.54674 | CT36: RAID1/0 | CW36: 4003.4674 | CZ36: 7605.4674 | DA36: =CZ36-DI36 -> 3602 | DF36: 4003.4674 | DI36: =DF36+DG36+DH36 -> 4003.4674 | DJ36: 3602 | DN36: =DJ36+DK36+DM36 -> 3602 | DR36: =DI36-DN36 -> 401.46741 | DS36: =DN36/DI36 -> 0.89972008 | DT36: 3602 | DV36: =SUM(DT36:DU36) -> 3602 | DW36: =DV36/DI36 -> 0.89972008 | DX36: 1752.405
A37: FDC | B37: SL7E1091900096 | C37: fdc1a-ax4-0096 | D37: Clariion | E37: AX4-5 | F37: EMC | G37: Clariion AX | H37: Exchange | I37: Clariion-NonSRDF | J37: Not FAST | K37: Thick | L37: fdc1a_ax4_0096 | Y37: 2 | Z37: 401.46741 | AM37: 34 | AN37: 7204 | BA37: 36 | BB37: 8366.0141 | BO37: 2 | BP37: 401.46741 | CC37: 34 | CD37: 7204 | CQ37: 36 | CR37: 7605.4674 | CS37: =BB37-CR37 -> 760.54674 | CT37: RAID1/0 | CW37: 4003.4674 | CZ37: 7605.4674 | DA37: =CZ37-DI37 -> 3602 | DF37: 4003.4674 | DI37: =DF37+DG37+DH37 -> 4003.4674 | DJ37: 3602 | DN37: =DJ37+DK37+DM37 -> 3602 | DR37: =DI37-DN37 -> 401.46741 | DS37: =DN37/DI37 -> 0.89972008 | DT37: 3602 | DV37: =SUM(DT37:DU37) -> 3602 | DW37: =DV37/DI37 -> 0.89972008 | DX37: 1752.405
A38: FDC | B38: SL7E1091900118 | C38: fdc1a-ax4-0118 | D38: Clariion | E38: AX4-5 | F38: EMC | G38: Clariion AX | H38: Exchange | I38: Clariion-NonSRDF | J38: Not FAST | K38: Thick | L38: fdc1a_ax4_0118 | Y38: 1 | Z38: 133.37189 | AM38: 34 | AN38: 7204 | BA38: 35 | BB38: 8071.1091 | BO38: 1 | BP38: 133.37189 | CC38: 34 | CD38: 7204 | CQ38: 35 | CR38: 7337.3719 | CS38: =BB38-CR38 -> 733.73719 | CT38: RAID1/0 | CW38: 3735.3719 | CZ38: 7337.3719 | DA38: =CZ38-DI38 -> 3602 | DF38: 3735.3719 | DI38: =DF38+DG38+DH38 -> 3735.3719 | DJ38: 3602 | DN38: =DJ38+DK38+DM38 -> 3602 | DR38: =DI38-DN38 -> 133.37189 | DS38: =DN38/DI38 -> 0.96429488 | DT38: 3602 | DV38: =SUM(DT38:DU38) -> 3602 | DW38: =DV38/DI38 -> 0.96429488 | DX38: 1752.405
A39: FDC | B39: SL7EA101700033 | C39: fdc1a-ax4-0033 | D39: Clariion | E39: AX4-5F8 | F39: EMC | G39: Clariion AX | H39: Exchange | I39: Clariion-NonSRDF | J39: Not FAST | K39: Thick | L39: fdc1b-ax4-0033 | Y39: 1 | Z39: 268.09552 | AM39: 12 | AN39: 6880 | BA39: 13 | BB39: 7862.9051 | BO39: 1 | BP39: 268.09552 | CC39: 12 | CD39: 6880 | CQ39: 13 | CR39: 7148.0955 | CS39: =BB39-CR39 -> 714.80955 | CT39: RAID1/0 | CW39: 3708.0955 | CZ39: 7148.0955 | DA39: =CZ39-DI39 -> 3440 | DF39: 3708.0955 | DI39: =DF39+DG39+DH39 -> 3708.0955 | DJ39: 3602 | DN39: =DJ39+DK39+DM39 -> 3602 | DR39: =DI39-DN39 -> 106.09552 | DS39: =DN39/DI39 -> 0.97138814 | DT39: 3602 | DV39: =SUM(DT39:DU39) -> 3602 | DW39: =DV39/DI39 -> 0.97138814
A40: FDC | B40: SL7EA101700039 | C40: fdc1a-ax4-0039 | D40: Clariion | E40: AX4-5F8 | F40: EMC | G40: Clariion AX | H40: Exchange | I40: Clariion-NonSRDF | J40: Not FAST | K40: Thick | L40: fdc1b-ax4-0039 | Y40: 1 | Z40: 268.09552 | AM40: 12 | AN40: 6880 | BA40: 13 | BB40: 7862.9051 | BO40: 1 | BP40: 268.09552 | CC40: 12 | CD40: 6880 | CQ40: 13 | CR40: 7148.0955 | CS40: =BB40-CR40 -> 714.80955 | CT40: RAID1/0 | CW40: 3708.0955 | CZ40: 7148.0955 | DA40: =CZ40-DI40 -> 3440 | DF40: 3708.0955 | DI40: =DF40+DG40+DH40 -> 3708.0955 | DJ40: 3602 | DN40: =DJ40+DK40+DM40 -> 3602 | DR40: =DI40-DN40 -> 106.09552 | DS40: =DN40/DI40 -> 0.97138814 | DT40: 3602 | DV40: =SUM(DT40:DU40) -> 3602 | DW40: =DV40/DI40 -> 0.97138814
A41: FDC | B41: FCNMM111100069 | C41: fdc1a-ax4-0069 | D41: Clariion | E41: AX4-5F8 | F41: EMC | G41: Clariion AX | H41: Exchange | I41: Clariion-NonSRDF | J41: Not FAST | K41: Thick | L41: fdc1b-ax4-0069 | Y41: 1 | Z41: 268.09552 | AM41: 6 | AN41: 3440 | BA41: 7 | BB41: 4078.9051 | BO41: 1 | BP41: 268.09552 | CC41: 6 | CD41: 3440 | CQ41: 7 | CR41: 3708.0955 | CS41: =BB41-CR41 -> 370.80955 | CT41: RAID1/0 | CW41: 1988.0955 | CZ41: 3708.0955 | DA41: =CZ41-DI41 -> 1720 | DF41: 1988.0955 | DI41: =DF41+DG41+DH41 -> 1988.0955 | DJ41: 1720 | DN41: =DJ41+DK41+DM41 -> 1720 | DR41: =DI41-DN41 -> 268.09552 | DS41: =DN41/DI41 -> 0.86514958 | DT41: 1720 | DV41: =SUM(DT41:DU41) -> 1720 | DW41: =DV41/DI41 -> 0.86514958 | DX41: 5411.276
A42: RDC | B42: FCNMM092500021 | C42: rdc1-ax4-0021 | D42: Clariion | E42: AX4-5 | F42: EMC | G42: Clariion AX | H42: Exchange | I42: Clariion-NonSRDF | J42: Not FAST | K42: Thick | L42: rdc1_ax4_0021 | Y42: 2 | Z42: 401.46741 | AM42: 34 | AN42: 7204 | BA42: 36 | BB42: 8366.0141 | BO42: 2 | BP42: 401.46741 | CC42: 34 | CD42: 7204 | CQ42: 36 | CR42: 7605.4674 | CS42: =BB42-CR42 -> 760.54674 | CT42: RAID1/0 | CW42: 4003.4674 | CZ42: 7605.4674 | DA42: =CZ42-DI42 -> 3602 | DF42: 4003.4674 | DI42: =DF42+DG42+DH42 -> 4003.4674 | DJ42: 3602 | DN42: =DJ42+DK42+DM42 -> 3602 | DR42: =DI42-DN42 -> 401.46741 | DS42: =DN42/DI42 -> 0.89972008 | DT42: 3602 | DV42: =SUM(DT42:DU42) -> 3602 | DW42: =DV42/DI42 -> 0.89972008 | DX42: 1752.405
A43: RDC | B43: FCNMM092500023 | C43: rdc1-ax4-0023 | D43: Clariion | E43: AX4-5 | F43: EMC | G43: Clariion AX | H43: Exchange | I43: Clariion-NonSRDF | J43: Not FAST | K43: Thick | L43: rdc1_ax4_0023 | Y43: 2 | Z43: 401.46741 | AM43: 34 | AN43: 7204 | BA43: 36 | BB43: 8366.0141 | BO43: 2 | BP43: 401.46741 | CC43: 34 | CD43: 7204 | CQ43: 36 | CR43: 7605.4674 | CS43: =BB43-CR43 -> 760.54674 | CT43: RAID1/0 | CW43: 4003.4674 | CZ43: 7605.4674 | DA43: =CZ43-DI43 -> 3602 | DF43: 4003.4674 | DI43: =DF43+DG43+DH43 -> 4003.4674 | DJ43: 3602 | DN43: =DJ43+DK43+DM43 -> 3602 | DR43: =DI43-DN43 -> 401.46741 | DS43: =DN43/DI43 -> 0.89972008 | DT43: 3602 | DV43: =SUM(DT43:DU43) -> 3602 | DW43: =DV43/DI43 -> 0.89972008 | DX43: 1752.405
A44: RDC | B44: FCNMM092500024 | C44: rdc1-ax4-0024 | D44: Clariion | E44: AX4-5 | F44: EMC | G44: Clariion AX | H44: Exchange | I44: Clariion-NonSRDF | J44: Not FAST | K44: Thick | L44: rdc1_ax4_0024 | Y44: 2 | Z44: 401.46741 | AM44: 34 | AN44: 7204 | BA44: 36 | BB44: 8366.0141 | BO44: 2 | BP44: 401.46741 | CC44: 34 | CD44: 7204 | CQ44: 36 | CR44: 7605.4674 | CS44: =BB44-CR44 -> 760.54674 | CT44: RAID1/0 | CW44: 4003.4674 | CZ44: 7605.4674 | DA44: =CZ44-DI44 -> 3602 | DF44: 4003.4674 | DI44: =DF44+DG44+DH44 -> 4003.4674 | DJ44: 3602 | DN44: =DJ44+DK44+DM44 -> 3602 | DR44: =DI44-DN44 -> 401.46741 | DS44: =DN44/DI44 -> 0.89972008 | DT44: 3602 | DV44: =SUM(DT44:DU44) -> 3602 | DW44: =DV44/DI44 -> 0.89972008 | DX44: 1752.405
A45: RDC | B45: FCNMM092500026 | C45: rdc1-ax4-0026 | D45: Clariion | E45: AX4-5 | F45: EMC | G45: Clariion CX | H45: Exchange | I45: Clariion-NonSRDF | J45: Not FAST | K45: Thick | L45: rdc1_ax4_0026 | AM45: 34 | AN45: 7204 | BA45: 34 | BB45: 7924.4 | CC45: 34 | CD45: 7204 | CQ45: 34 | CR45: 7204 | CS45: =BB45-CR45 -> 720.4 | CT45: RAID1/0 | CW45: 3602 | CZ45: 7204 | DA45: =CZ45-DI45 -> 3602 | DF45: 3602 | DI45: =DF45+DG45+DH45 -> 3602 | DJ45: 3602 | DN45: =DJ45+DK45+DM45 -> 3602 | DR45: =DI45-DN45 -> 0 | DS45: =DN45/DI45 -> 1 | DT45: 3602 | DV45: =SUM(DT45:DU45) -> 3602 | DW45: =DV45/DI45 -> 1 | DX45: 1752.405
A46: RDC | B46: FCNMM092500033 | C46: rdc1-ax4-0033 | D46: Clariion | E46: AX4-5 | F46: EMC | G46: Clariion CX | H46: Exchange | I46: Clariion-NonSRDF | J46: Not FAST | K46: Thick | L46: rdc1_ax4_0033 | Y46: 2 | Z46: 401.46741 | AM46: 34 | AN46: 7204 | BA46: 36 | BB46: 8366.0141 | BO46: 2 | BP46: 401.46741 | CC46: 34 | CD46: 7204 | CQ46: 36 | CR46: 7605.4674 | CS46: =BB46-CR46 -> 760.54674 | CT46: RAID1/0 | CW46: 4003.4674 | CZ46: 7605.4674 | DA46: =CZ46-DI46 -> 3602 | DF46: 4003.4674 | DI46: =DF46+DG46+DH46 -> 4003.4674 | DJ46: 3602 | DN46: =DJ46+DK46+DM46 -> 3602 | DR46: =DI46-DN46 -> 401.46741 | DS46: =DN46/DI46 -> 0.89972008 | DT46: 3602 | DV46: =SUM(DT46:DU46) -> 3602 | DW46: =DV46/DI46 -> 0.89972008 | DX46: 1752.405
A47: RDC | B47: FCNMM092500034 | C47: rdc1-ax4-0034 | D47: Clariion | E47: AX4-5 | F47: EMC | G47: Clariion AX | H47: Exchange | I47: Clariion-NonSRDF | J47: Not FAST | K47: Thick | L47: rdc1_ax4_0034 | Y47: 2 | Z47: 401.46741 | AM47: 34 | AN47: 7204 | BA47: 36 | BB47: 8366.0141 | BO47: 2 | BP47: 401.46741 | CC47: 34 | CD47: 7204 | CQ47: 36 | CR47: 7605.4674 | CS47: =BB47-CR47 -> 760.54674 | CT47: RAID1/0 | CW47: 4003.4674 | CZ47: 7605.4674 | DA47: =CZ47-DI47 -> 3602 | DF47: 4003.4674 | DI47: =DF47+DG47+DH47 -> 4003.4674 | DJ47: 3602 | DN47: =DJ47+DK47+DM47 -> 3602 | DR47: =DI47-DN47 -> 401.46741 | DS47: =DN47/DI47 -> 0.89972008 | DT47: 3602 | DV47: =SUM(DT47:DU47) -> 3602 | DW47: =DV47/DI47 -> 0.89972008 | DX47: 1752.405
A48: RDC | B48: FCNMM092500040 | C48: rdc1-ax4-0040 | D48: Clariion | E48: AX4-5 | F48: EMC | G48: Clariion AX | H48: Exchange | I48: Clariion-NonSRDF | J48: Not FAST | K48: Thick | L48: rdc1_ax4_0040 | Y48: 2 | Z48: 401.46741 | AM48: 34 | AN48: 7204 | BA48: 36 | BB48: 8366.0141 | BO48: 2 | BP48: 401.46741 | CC48: 34 | CD48: 7204 | CQ48: 36 | CR48: 7605.4674 | CS48: =BB48-CR48 -> 760.54674 | CT48: RAID1/0 | CW48: 4003.4674 | CZ48: 7605.4674 | DA48: =CZ48-DI48 -> 3602 | DF48: 4003.4674 | DI48: =DF48+DG48+DH48 -> 4003.4674 | DJ48: 3602 | DN48: =DJ48+DK48+DM48 -> 3602 | DR48: =DI48-DN48 -> 401.46741 | DS48: =DN48/DI48 -> 0.89972008 | DT48: 3602 | DV48: =SUM(DT48:DU48) -> 3602 | DW48: =DV48/DI48 -> 0.89972008 | DX48: 1752.405
A49: RDC | B49: FCNMM092500042 | C49: rdc1-ax4-0042 | D49: Clariion | E49: AX4-5 | F49: EMC | G49: Clariion AX | H49: Exchange | I49: Clariion-NonSRDF | J49: Not FAST | K49: Thick | L49: rdc1_ax4_0042 | Y49: 2 | Z49: 401.46741 | AM49: 34 | AN49: 7204 | BA49: 36 | BB49: 8366.0141 | BO49: 2 | BP49: 401.46741 | CC49: 34 | CD49: 7204 | CQ49: 36 | CR49: 7605.4674 | CS49: =BB49-CR49 -> 760.54674 | CT49: RAID1/0 | CW49: 4003.4674 | CZ49: 7605.4674 | DA49: =CZ49-DI49 -> 3602 | DF49: 4003.4674 | DI49: =DF49+DG49+DH49 -> 4003.4674 | DJ49: 3602 | DN49: =DJ49+DK49+DM49 -> 3602 | DR49: =DI49-DN49 -> 401.46741 | DS49: =DN49/DI49 -> 0.89972008 | DT49: 3602 | DV49: =SUM(DT49:DU49) -> 3602 | DW49: =DV49/DI49 -> 0.89972008 | DX49: 1752.405
A50: RDC | B50: SL7EA102100006 | C50: rdc4-ax4-0006 | D50: Clariion | E50: AX4-5F8 | F50: EMC | G50: Clariion AX | H50: Exchange | I50: Clariion-NonSRDF | J50: Not FAST | K50: Thick | L50: rdc4-ax4-0006 | Y50: 1 | Z50: 268.09552 | AM50: 12 | AN50: 6880 | BA50: 13 | BB50: 7862.9051 | BO50: 1 | BP50: 268.09552 | CC50: 12 | CD50: 6880 | CQ50: 13 | CR50: 7148.0955 | CS50: =BB50-CR50 -> 714.80955 | CT50: RAID1/0 | CW50: 3708.0955 | CZ50: 7148.0955 | DA50: =CZ50-DI50 -> 3440 | DF50: 3708.0955 | DI50: =DF50+DG50+DH50 -> 3708.0955 | DJ50: 3440 | DN50: =DJ50+DK50+DM50 -> 3440 | DR50: =DI50-DN50 -> 268.09552 | DS50: =DN50/DI50 -> 0.92769994 | DT50: 3440 | DV50: =SUM(DT50:DU50) -> 3440 | DW50: =DV50/DI50 -> 0.92769994
A51: RDC | B51: SL7EA102100007 | C51: rdc4-ax4-0007 | D51: Clariion | E51: AX4-5F8 | F51: EMC | G51: Clariion AX | H51: Exchange | I51: Clariion-NonSRDF | J51: Not FAST | K51: Thick | L51: rdc4-ax4-0007 | Y51: 1 | Z51: 268.09552 | AM51: 12 | AN51: 6682.5 | BA51: 13 | BB51: 7645.6551 | BO51: 1 | BP51: 268.09552 | CC51: 12 | CD51: 6682.5 | CQ51: 13 | CR51: 6950.5955 | CS51: =BB51-CR51 -> 695.05955 | CT51: RAID1/0 | CW51: 3708.0955 | CZ51: 6950.5955 | DA51: =CZ51-DI51 -> 3242.5 | DF51: 3708.0955 | DI51: =DF51+DG51+DH51 -> 3708.0955 | DJ51: 3708.0955 | DN51: =DJ51+DK51+DM51 -> 3708.0955 | DR51: =DI51-DN51 -> 0 | DS51: =DN51/DI51 -> 1 | DT51: 3708.0955 | DV51: =SUM(DT51:DU51) -> 3708.0955 | DW51: =DV51/DI51 -> 1
A52: RDC | B52: FCNMM111600082 | C52: rdc1-ax4-0082 | D52: Clariion | E52: AX4-5F8 | F52: EMC | G52: Clariion AX | H52: Exchange | I52: Clariion-NonSRDF | J52: Not FAST | K52: Thick | L52: rdc4-ax4-0082 | Y52: 1 | Z52: 268.09552 | AM52: 6 | AN52: 3440 | BA52: 7 | BB52: 4078.9051 | BO52: 1 | BP52: 268.09552 | CC52: 6 | CD52: 3440 | CQ52: 7 | CR52: 3708.0955 | CS52: =BB52-CR52 -> 370.80955 | CT52: RAID1/0 | CW52: 1988.0955 | CZ52: 3708.0955 | DA52: =CZ52-DI52 -> 1720 | DF52: 1988.0955 | DI52: =DF52+DG52+DH52 -> 1988.0955 | DJ52: 1720 | DN52: =DJ52+DK52+DM52 -> 1720 | DR52: =DI52-DN52 -> 268.09552 | DS52: =DN52/DI52 -> 0.86514958 | DT52: 1720 | DV52: =SUM(DT52:DU52) -> 1720 | DW52: =DV52/DI52 -> 0.86514958
A53: Turkey DC | B53: SL7E1093200048 | C53: Turkey_AX4_Mailbox | E53: AX4-5F8 | F53: EMC | G53: Clariion AX | H53: Exchange | I53: Clariion-NonSRDF | J53: Not FAST | K53: Thick | L53: SL7E1093200048 | AN53: 3602 | BB53: 3962.2 | CD53: 3602 | CR53: 3602 | CS53: =BB53-CR53 -> 360.2 | CT53: RAID1/0 | CW53: 1801 | CZ53: 3602 | DA53: =CZ53-DI53 -> 1801 | DF53: 1801 | DI53: =DF53+DG53+DH53 -> 1801 | DJ53: 1801 | DN53: =DJ53+DK53+DM53 -> 1801 | DR53: =DI53-DN53 -> 0 | DS53: =DN53/DI53 -> 1 | DT53: 1801 | DV53: =SUM(DT53:DU53) -> 1801 | DW53: =DV53/DI53 -> 1
A54: Russia DC | B54: SL7E9101300054 | C54: prof-ax4-0054 | D54: Clariion | E54: AX4-5F8 | F54: EMC | G54: Clariion AX | H54: Exchange | I54: Clariion-NonSRDF | J54: Not FAST | K54: Thick | L54: SL7E9101300054 | AN54: 20911.439 | BB54: 23002.583 | CD54: 20911.439 | CR54: 20911.439 | CS54: =BB54-CR54 -> 2091.1439 | CT54: RAID1/0 | CW54: 10455.72 | CZ54: 20911.439 | DA54: =CZ54-DI54 -> 10455.72 | DF54: 10455.72 | DI54: =DF54+DG54+DH54 -> 10455.72 | DJ54: 10455.72 | DN54: =DJ54+DK54+DM54 -> 10455.72 | DR54: =DI54-DN54 -> 0 | DS54: =DN54/DI54 -> 1 | DT54: 10455.72 | DV54: =SUM(DT54:DU54) -> 10455.72 | DW54: =DV54/DI54 -> 1
A55: Russia DC | B55: SL7E9101300062 | C55: pres-ax4-0062 | D55: Clariion | E55: AX4-5F8 | F55: EMC | G55: Clariion AX | H55: Exchange | I55: Clariion-NonSRDF | J55: Not FAST | K55: Thick | L55: SL7E9101300062 | AN55: 20911.439 | BB55: 23002.583 | CD55: 20911.439 | CR55: 20911.439 | CS55: =BB55-CR55 -> 2091.1439 | CT55: RAID1/0 | CW55: 10455.72 | CZ55: 20911.439 | DA55: =CZ55-DI55 -> 10455.72 | DF55: 10455.72 | DI55: =DF55+DG55+DH55 -> 10455.72 | DJ55: 10455.72 | DN55: =DJ55+DK55+DM55 -> 10455.72 | DR55: =DI55-DN55 -> 0 | DS55: =DN55/DI55 -> 1 | DT55: 10455.72 | DV55: =SUM(DT55:DU55) -> 10455.72 | DW55: =DV55/DI55 -> 1
A56: rdc | B56: 290103452 | C56: 3452 | D56: DMX | E56: DMX4-24 | F56: EMC | G56: EMC Symmetrix DMX | H56: TR | I56: Symm/Sync | J56: Not FAST | K56: Thick | L56: 3452 | Y56: 14 | Z56: 3600 | AM56: 602 | AN56: 126150 | BA56: 616 | BB56: 131725.58 | BO56: 14 | BP56: 3340.8945 | CC56: 602 | CD56: 116409.63 | CQ56: 616 | CR56: 119750.52 | CS56: =BB56-CR56 -> 11975.052 | CT56: RAID-5 (7+1) | CW56: =DF56*8/7 -> 136857.74 | CZ56: =CW56+CX56+CY56 -> 136857.74 | DA56: =CZ56-DI56 -> 17107.218 | DF56: 119750.52 | DI56: =DF56+DG56+DH56 -> 119750.52 | DJ56: 46304.18 | DN56: =DJ56+DK56+DM56 -> 46304.18 | DR56: =DI56-DN56 -> 73446.344 | DS56: =DN56/DI56 -> 0.38667204 | DT56: =DN56 -> 46304.18 | DV56: =SUM(DT56:DU56) -> 46304.18 | DW56: =DV56/DI56 -> 0.38667204 | DX56: 7480.275
A57: rdc | B57: 290103471 | C57: 3471 | D57: DMX | E57: DMX4-24 | F57: EMC | G57: EMC Symmetrix DMX | H57: TR | I57: Symm/Sync | J57: Not FAST | K57: Thick | L57: 3471 | Y57: 8 | Z57: 1200 | AM57: 232 | AN57: 34800 | BA57: 240 | BB57: 36097.359 | BO57: 8 | BP57: 1093.8594 | CC57: 232 | CD57: 31721.922 | CQ57: 240 | CR57: 32815.781 | CS57: =BB57-CR57 -> 3281.5781 | CT57: RAID-5 (7+1) | CW57: =DF57*8/7 -> 37503.75 | CZ57: =CW57+CX57+CY57 -> 37503.75 | DA57: =CZ57-DI57 -> 4687.9688 | DF57: 32815.781 | DI57: =DF57+DG57+DH57 -> 32815.781 | DJ57: 472.25977 | DN57: =DJ57+DK57+DM57 -> 472.25977 | DR57: =DI57-DN57 -> 32343.521 | DS57: =DN57/DI57 -> 0.014391239 | DT57: =DN57 -> 472.25977 | DV57: =SUM(DT57:DU57) -> 472.25977 | DW57: =DV57/DI57 -> 0.014391239 | DX57: 2413.896
A58: rdc | B58: 290103720 | C58: 3720 | D58: DMX | E58: DMX4-24 | F58: EMC | G58: EMC Symmetrix DMX | H58: TR | I58: Symm/Sync | J58: Not FAST | K58: Thick | L58: 3720 | Y58: 10 | Z58: 1800 | AM58: 470 | AN58: 70800 | BA58: 480 | BB58: 72822.441 | BO58: 10 | BP58: 1652.6523 | CC58: 470 | CD58: 64549.566 | CQ58: 480 | CR58: 66202.219 | CS58: =BB58-CR58 -> 6620.2219 | CT58: RAID-5 (7+1) | CW58: =DF58*8/7 -> 75659.679 | CZ58: =CW58+CX58+CY58 -> 75659.679 | DA58: =CZ58-DI58 -> 9457.4598 | DF58: 66202.219 | DI58: =DF58+DG58+DH58 -> 66202.219 | DJ58: 38642.527 | DN58: =DJ58+DK58+DM58 -> 38642.527 | DR58: =DI58-DN58 -> 27559.691 | DS58: =DN58/DI58 -> 0.58370441 | DT58: =DN58 -> 38642.527 | DV58: =SUM(DT58:DU58) -> 38642.527 | DW58: =DV58/DI58 -> 0.58370441 | DX58: 4455.088
A59: rdc | B59: 000290105373 | C59: 5373 | D59: DMX | E59: DMX4-24 | F59: EMC | G59: EMC Symmetrix DMX | H59: BAU | I59: Symm/Sync | J59: Not FAST | K59: Thick | L59: 5373 | Y59: 16 | Z59: 3600 | AM59: 340 | AN59: 65250 | BA59: 356 | BB59: 68850 | BO59: 16 | BP59: 3322.08 | CC59: 340 | CD59: 60212.7 | CQ59: 356 | CR59: 63533.6 | CS59: =BB59-CR59 -> 5316.4 | CT59: RAID-5 (7+1) | CW59: =DF59*8/7 -> 40925.295 | CZ59: =CW59+CX59+CY59 -> 40925.295 | DA59: =CZ59-DI59 -> 5115.6618 | DF59: 35809.633 | DI59: =DF59+DG59+DH59 -> 35809.633 | DJ59: 3080.9854 | DN59: =DJ59+DK59+DM59 -> 3080.9854 | DR59: =DI59-DN59 -> 32728.647 | DS59: =DN59/DI59 -> 0.086037893 | DT59: =DN59 -> 3080.9854 | DU59: 1802.207 | DV59: =SUM(DT59:DU59) -> 4883.1924 | DW59: =DV59/DI59 -> 0.13636533 | DX59: 19126.172
A60: CGC | B60: 290103336 | C60: 3336 | D60: DMX | E60: DMX4-24 | F60: EMC | G60: EMC Symmetrix DMX | H60: TR | I60: Symm/Sync | J60: Not FAST | K60: Thick | L60: 3336 | Y60: 8 | Z60: 1200 | AM60: 232 | AN60: 34800 | BA60: 240 | BB60: 36097.359 | BO60: 8 | BP60: 1093.8594 | CC60: 232 | CD60: 31721.922 | CQ60: 240 | CR60: 32815.781 | CS60: =BB60-CR60 -> 3281.5781 | CT60: RAID-5 (7+1) | CW60: =DF60*8/7 -> 37503.75 | CZ60: =CW60+CX60+CY60 -> 37503.75 | DA60: =CZ60-DI60 -> 4687.9688 | DF60: 32815.781 | DI60: =DF60+DG60+DH60 -> 32815.781 | DJ60: 0.08 | DN60: =DJ60+DK60+DM60 -> 0.08 | DR60: =DI60-DN60 -> 32815.701 | DS60: =DN60/DI60 -> 2.4378515e-06 | DT60: =DN60 -> 0.08 | DV60: =SUM(DT60:DU60) -> 0.08 | DW60: =DV60/DI60 -> 2.4378515e-06 | DX60: 2414.271
A61: FDC | B61: 290103544 | C61: 3544 | D61: DMX | E61: DMX4-24 | F61: EMC | G61: EMC Symmetrix DMX | H61: TR | I61: Symm/Sync | J61: Not FAST | K61: Thick | L61: 3544 | Y61: 16 | Z61: 3000 | AM61: 738 | AN61: 112950 | BA61: 754 | BB61: 116387.55 | BO61: 16 | BP61: 2758.375 | CC61: 738 | CD61: 103048.49 | CQ61: 754 | CR61: 105806.86 | CS61: =BB61-CR61 -> 10580.686 | CT61: RAID-5 (7+1) | CW61: =DF61*8/7 -> 120922.13 | CZ61: =CW61+CX61+CY61 -> 120922.13 | DA61: =CZ61-DI61 -> 15115.266 | DF61: 105806.86 | DI61: =DF61+DG61+DH61 -> 105806.86 | DJ61: 12240.113 | DN61: =DJ61+DK61+DM61 -> 12240.113 | DR61: =DI61-DN61 -> 93566.75 | DS61: =DN61/DI61 -> 0.11568355 | DT61: =DN61 -> 12240.113 | DU61: 8867.5176 | DV61: =SUM(DT61:DU61) -> 21107.631 | DW61: =DV61/DI61 -> 0.19949208 | DX61: 8538.406
A62: FDC | B62: 290103550 | C62: 3550 | D62: DMX | E62: DMX4-24 | F62: EMC | G62: EMC Symmetrix DMX | H62: TR | I62: Symm/Sync | J62: Not FAST | K62: Thick | L62: 3550 | Y62: 16 | Z62: 2700 | AM62: 464 | AN62: 69600 | BA62: 480 | BB62: 72508.58 | BO62: 16 | BP62: 2473.0469 | CC62: 464 | CD62: 63443.844 | CQ62: 480 | CR62: 65916.891 | CS62: =BB62-CR62 -> 6591.6891 | CT62: RAID-5 (7+1) | CW62: =DF62*8/7 -> 75333.589 | CZ62: =CW62+CX62+CY62 -> 75333.589 | DA62: =CZ62-DI62 -> 9416.6987 | DF62: 65916.891 | DI62: =DF62+DG62+DH62 -> 65916.891 | DJ62: 472.259 | DN62: =DJ62+DK62+DM62 -> 472.259 | DR62: =DI62-DN62 -> 65444.632 | DS62: =DN62/DI62 -> 0.0071644611 | DT62: =DN62 -> 472.259 | DU62: 472.03 | DV62: =SUM(DT62:DU62) -> 944.289 | DW62: =DV62/DI62 -> 0.014325448 | DX62: 5151.217
A63: FDC | B63: 290103810 | C63: 3810 | D63: DMX | E63: DMX4-24 | F63: EMC | G63: EMC Symmetrix DMX | H63: TR | I63: Symm/Sync | J63: Not FAST | K63: Thick | L63: 3810 | Y63: 20 | Z63: 3150 | AM63: 940 | AN63: 141450 | BA63: 960 | BB63: 145017.16 | BO63: 20 | BP63: 2877.3125 | CC63: 940 | CD63: 128956.47 | CQ63: 960 | CR63: 131833.78 | CS63: =BB63-CR63 -> 13183.378 | CT63: RAID-5 (7+1) | CW63: =DF63*8/7 -> 150667.18 | CZ63: =CW63+CX63+CY63 -> 150667.18 | DA63: =CZ63-DI63 -> 18833.397 | DF63: 131833.78 | DI63: =DF63+DG63+DH63 -> 131833.78 | DJ63: 38406.51 | DN63: =DJ63+DK63+DM63 -> 38406.51 | DR63: =DI63-DN63 -> 93427.271 | DS63: =DN63/DI63 -> 0.29132525 | DT63: =DN63 -> 38406.51 | DU63: 29401.057 | DV63: =SUM(DT63:DU63) -> 67807.567 | DW63: =DV63/DI63 -> 0.51434136 | DX63: 7749.863
A64: FDC | B64: 290105349 | C64: 5349 | D64: DMX | E64: DMX4-24 | F64: EMC | G64: EMC Symmetrix DMX | H64: BAU | I64: Symm/Sync | J64: Not FAST | K64: Thick | L64: 5349 | Y64: 12 | Z64: 2700 | AM64: 228 | AN64: 40350 | BA64: 240 | BB64: 25193.97 | BO64: 12 | BP64: 2477.3984 | CC64: 116 | CD64: 20426.211 | CQ64: 128 | CR64: 22903.609 | CS64: =BB64-CR64 -> 2290.3609 | CT64: RAID-5 (7+1) | CW64: =DF64*8/7 -> 26175.554 | CZ64: =CW64+CX64+CY64 -> 26175.554 | DA64: =CZ64-DI64 -> 3271.9442 | DF64: 22903.609 | DI64: =DF64+DG64+DH64 -> 22903.609 | DJ64: 11828.185 | DN64: =DJ64+DK64+DM64 -> 11828.185 | DR64: =DI64-DN64 -> 11075.425 | DS64: =DN64/DI64 -> 0.51643321 | DT64: =DN64 -> 11828.185 | DV64: =SUM(DT64:DU64) -> 11828.185 | DW64: =DV64/DI64 -> 0.51643321 | DX64: 10090.811
A65: fdc | B65: 290103564 | C65: 3564 | D65: DMX | E65: DMX4-24 | F65: EMC | G65: EMC Symmetrix DMX | H65: TR | I65: Symm/Sync | J65: Not FAST | K65: Thick | L65: 3564 | Y65: 10 | Z65: 3000 | AM65: 432 | AN65: 129600 | BA65: 442 | BB65: 135842.57 | BO65: 10 | BP65: 2793.9648 | CC65: 432 | CD65: 120699.28 | CQ65: 442 | CR65: 123493.25 | CS65: =BB65-CR65 -> 12349.325 | CT65: RAID-5 (7+1) | CW65: =DF65*8/7 -> 141135.14 | CZ65: =CW65+CX65+CY65 -> 141135.14 | DA65: =CZ65-DI65 -> 17641.892 | DF65: 123493.25 | DI65: =DF65+DG65+DH65 -> 123493.25 | DJ65: 48594.588 | DN65: =DJ65+DK65+DM65 -> 48594.588 | DR65: =DI65-DN65 -> 74898.658 | DS65: =DN65/DI65 -> 0.39349996 | DT65: =DN65 -> 48594.588 | DV65: =SUM(DT65:DU65) -> 48594.588 | DW65: =DV65/DI65 -> 0.39349996 | DX65: 5557.016
A66: FDC | B66: 290103943 | C66: 3943 | D66: DMX | E66: DMX4-24 | F66: EMC | G66: EMC Symmetrix DMX | H66: TR | I66: Symm/Sync | J66: Not FAST | K66: Thick | L66: 3943 | Y66: 16 | Z66: 4800 | AM66: 464 | AN66: 139200 | BA66: 480 | BB66: 147521.34 | BO66: 16 | BP66: 4470.3438 | CC66: 464 | CD66: 129639.97 | CQ66: 480 | CR66: 134110.31 | CS66: =BB66-CR66 -> 13411.031 | CT66: RAID-5 (7+1) | CW66: =DF66*8/7 -> 153268.93 | CZ66: =CW66+CX66+CY66 -> 153268.93 | DA66: =CZ66-DI66 -> 19158.616 | DF66: 134110.31 | DI66: =DF66+DG66+DH66 -> 134110.31 | DJ66: 53512.967 | DN66: =DJ66+DK66+DM66 -> 53512.967 | DR66: =DI66-DN66 -> 80597.346 | DS66: =DN66/DI66 -> 0.39902201 | DT66: =DN66 -> 53512.967 | DV66: =SUM(DT66:DU66) -> 53512.967 | DW66: =DV66/DI66 -> 0.39902201 | DX66: 7344.189
A67: CGC | B67: 000290102838 | C67: 2838 | D67: DMX | E67: DMX3-24 | F67: EMC | G67: EMC Symmetrix DMX | H67: TR | I67: Symm/Sync | J67: Not FAST | K67: Thick | L67: 2838 | Y67: 6 | Z67: 1350 | AM67: 474 | AN67: 71400 | BA67: 480 | BB67: 72979.371 | BO67: 6 | BP67: 1248.3867 | CC67: 474 | CD67: 65096.496 | CQ67: 480 | CR67: 66344.883 | CS67: =BB67-CR67 -> 6634.4883 | CT67: RAID-5 (7+1) | CW67: =DF67*8/7 -> 75822.723 | CZ67: =CW67+CX67+CY67 -> 75822.723 | DA67: =CZ67-DI67 -> 9477.8404 | DF67: 66344.883 | DI67: =DF67+DG67+DH67 -> 66344.883 | DJ67: 1688.1543 | DN67: =DJ67+DK67+DM67 -> 1688.1543 | DR67: =DI67-DN67 -> 64656.729 | DS67: =DN67/DI67 -> 0.025445132 | DT67: =DN67 -> 1688.1543 | DV67: =SUM(DT67:DU67) -> 1688.1543 | DW67: =DV67/DI67 -> 0.025445132 | DX67: 3257.041
A68: rdc | B68: 000290102839 | C68: 2839 | D68: DMX | E68: DMX3-24 | F68: EMC | G68: EMC Symmetrix DMX | H68: TR | I68: Symm/Sync | J68: Not FAST | K68: Thick | L68: 2839 | Y68: 6 | Z68: 1200 | AM68: 474 | AN68: 71100 | BA68: 480 | BB68: 72508.58 | BO68: 6 | BP68: 1105.7227 | CC68: 474 | CD68: 64811.168 | CQ68: 480 | CR68: 65916.891 | CS68: =BB68-CR68 -> 6591.6891 | CT68: RAID-5 (7+1) | CW68: =DF68*8/7 -> 75333.589 | CZ68: =CW68+CX68+CY68 -> 75333.589 | DA68: =CZ68-DI68 -> 9416.6987 | DF68: 65916.891 | DI68: =DF68+DG68+DH68 -> 65916.891 | DJ68: 12783.037 | DN68: =DJ68+DK68+DM68 -> 12783.037 | DR68: =DI68-DN68 -> 53133.854 | DS68: =DN68/DI68 -> 0.19392658 | DT68: =DN68 -> 12783.037 | DV68: =SUM(DT68:DU68) -> 12783.037 | DW68: =DV68/DI68 -> 0.19392658 | DX68: 4677.861
A69: RDC | B69: 000290102819 | C69: 2819 | D69: DMX | E69: DMX3-24 | F69: EMC | G69: EMC Symmetrix DMX | H69: TR | I69: Symm-NonSRDF | J69: Not FAST | K69: Thick | L69: 2819 | Y69: 9 | Z69: 2700 | AM69: 439 | AN69: 131700 | BA69: 448 | BB69: 137686.59 | BO69: 9 | BP69: 2514.5684 | CC69: 439 | CD69: 122655.06 | CQ69: 448 | CR69: 125169.62 | CS69: =BB69-CR69 -> 12516.963 | CT69: RAID-5 (7+1) | CW69: =DF69*8/7 -> 143051 | CZ69: =CW69+CX69+CY69 -> 143051 | DA69: =CZ69-DI69 -> 17881.375 | DF69: 125169.62 | DI69: =DF69+DG69+DH69 -> 125169.62 | DJ69: 35706.256 | DN69: =DJ69+DK69+DM69 -> 35706.256 | DR69: =DI69-DN69 -> 89463.369 | DS69: =DN69/DI69 -> 0.28526295 | DT69: =DN69 -> 35706.256 | DV69: =SUM(DT69:DU69) -> 35706.256 | DW69: =DV69/DI69 -> 0.28526295 | DX69: 2829.049
A70: Switzerland | B70: CK200053010120 | C70: centera_CH_01E | D70: Centera | E70: Centera | F70: EMC | G70: Centera | H70: BAU | I70: Centera/Replicated | J70: Not FAST | K70: WORM | L70: centera_CH_01E CK200053010120 | BB70: 50688 | CR70: 46080 | CS70: =BB70-CR70 -> 4608 | CW70: =DF70*8/7 -> 15213.714 | CZ70: =CW70+CX70+CY70 -> 15213.714 | DA70: =CZ70-DI70 -> 1901.7143 | DF70: 13312 | DI70: =DF70+DG70+DH70 -> 13312 | DJ70: =DG70+DH70+DI70 -> 13312 | DN70: =DJ70+DK70+DM70 -> 13312 | DR70: =DI70-DN70 -> 0 | DS70: =DN70/DI70 -> 1 | DT70: 13312 | DV70: =SUM(DT70:DU70) -> 13312 | DW70: =DV70/DI70 -> 1
A71: Switzerland | B71: CK200054900163 | C71: centera_CH_01R | D71: Centera | E71: Centera | F71: EMC | G71: Centera | H71: BAU | I71: Centera/Replicated | J71: Not FAST | K71: WORM | L71: centera_CH_01R CK200054900163 | BB71: 50688 | CR71: 46080 | CS71: =BB71-CR71 -> 4608 | CW71: =DF71*8/7 -> 19894.857 | CZ71: =CW71+CX71+CY71 -> 19894.857 | DA71: =CZ71-DI71 -> 2486.8571 | DF71: 17408 | DI71: =DF71+DG71+DH71 -> 17408 | DJ71: =DG71+DH71+DI71 -> 17408 | DN71: =DJ71+DK71+DM71 -> 17408 | DR71: =DI71-DN71 -> 0 | DS71: =DN71/DI71 -> 1 | DT71: 17408 | DV71: =SUM(DT71:DU71) -> 17408 | DW71: =DV71/DI71 -> 1
A72: Germany | B72: CK200061900265 | C72: centera_DE_01F | D72: Centera | E72: Centera | F72: EMC | G72: Centera | H72: BAU | I72: Centera/Replicated | J72: Not FAST | K72: WORM | L72: centera_DE_01E CK200061900265 | BB72: 272923.2 | CR72: 248112 | CS72: =BB72-CR72 -> 24811.2 | CW72: =DF72*8/7 -> 176107.43 | CZ72: =CW72+CX72+CY72 -> 176107.43 | DA72: =CZ72-DI72 -> 22013.429 | DF72: 154094 | DI72: =DF72+DG72+DH72 -> 154094 | DJ72: =DG72+DH72+DI72 -> 154094 | DN72: =DJ72+DK72+DM72 -> 154094 | DR72: =DI72-DN72 -> 0 | DS72: =DN72/DI72 -> 1 | DT72: 154094 | DV72: =SUM(DT72:DU72) -> 154094 | DW72: =DV72/DI72 -> 1
A73: Germany | B73: CK200062000592 | C73: centera_DE_02F | D73: Centera | E73: Centera | F73: EMC | G73: Centera | H73: BAU | I73: Centera/Replicated | J73: Not FAST | K73: WORM | L73: centera_DE_02E CK200062000592 | BB73: 109422.5 | CR73: 99475 | CS73: =BB73-CR73 -> 9947.5 | CW73: =DF73*8/7 -> 82211.429 | CZ73: =CW73+CX73+CY73 -> 82211.429 | DA73: =CZ73-DI73 -> 10276.429 | DF73: 71935 | DI73: =DF73+DG73+DH73 -> 71935 | DJ73: =DG73+DH73+DI73 -> 71935 | DN73: =DJ73+DK73+DM73 -> 71935 | DR73: =DI73-DN73 -> 0 | DS73: =DN73/DI73 -> 1 | DT73: 71935 | DV73: =SUM(DT73:DU73) -> 71935 | DW73: =DV73/DI73 -> 1
A74: Poland | B74: APM00121102552 | C74: centera_PL_01G | D74: Centera | E74: Centera | F74: EMC | G74: Centera | H74: BAU | I74: Centera/Replicated | J74: Not FAST | K74: WORM | L74: centera_PL_01G CK200053810059 | BB74: 64930.8 | CR74: 59028 | CS74: =BB74-CR74 -> 5902.8 | CW74: =DF74*8/7 -> 55448 | CZ74: =CW74+CX74+CY74 -> 55448 | DA74: =CZ74-DI74 -> 6931 | DF74: 48517 | DI74: =DF74+DG74+DH74 -> 48517 | DJ74: =DG74+DH74+DI74 -> 48517 | DN74: =DJ74+DK74+DM74 -> 48517 | DR74: =DI74-DN74 -> 0 | DS74: =DN74/DI74 -> 1 | DT74: 48517 | DV74: =SUM(DT74:DU74) -> 48517 | DW74: =DV74/DI74 -> 1
A75: Poland | B75: APM00121204311 | C75: centera_PL_01S | D75: Centera | E75: Centera | F75: EMC | G75: Centera | H75: BAU | I75: Centera/Replicated | J75: Not FAST | K75: WORM | L75: centera_PL_01S CK200054900293 | BB75: 86168.5 | CR75: 78335 | CS75: =BB75-CR75 -> 7833.5 | CW75: =DF75*8/7 -> 58121.143 | CZ75: =CW75+CX75+CY75 -> 58121.143 | DA75: =CZ75-DI75 -> 7265.1429 | DF75: 50856 | DI75: =DF75+DG75+DH75 -> 50856 | DJ75: =DG75+DH75+DI75 -> 50856 | DN75: =DJ75+DK75+DM75 -> 50856 | DR75: =DI75-DN75 -> 0 | DS75: =DN75/DI75 -> 1 | DT75: 50856 | DV75: =SUM(DT75:DU75) -> 50856 | DW75: =DV75/DI75 -> 1
A76: Poland | B76: APM00121204573 | C76: centera_PL_02S | D76: Centera | E76: Centera | F76: EMC | G76: Centera | H76: BAU | I76: Centera/Replicated | J76: Not FAST | K76: WORM | L76: centera_PL_02G CK200042100431 | BB76: 44003.3 | CR76: 40003 | CS76: =BB76-CR76 -> 4000.3 | CW76: =DF76*8/7 -> 16627.429 | CZ76: =CW76+CX76+CY76 -> 16627.429 | DA76: =CZ76-DI76 -> 2078.4286 | DF76: 14549 | DI76: =DF76+DG76+DH76 -> 14549 | DJ76: =DG76+DH76+DI76 -> 14549 | DN76: =DJ76+DK76+DM76 -> 14549 | DR76: =DI76-DN76 -> 0 | DS76: =DN76/DI76 -> 1 | DT76: 14549 | DV76: =SUM(DT76:DU76) -> 14549 | DW76: =DV76/DI76 -> 1
A77: Poland | B77: APM00120503066 | C77: centera_PL_02G | D77: Centera | E77: Centera | F77: EMC | G77: Centera | H77: BAU | I77: Centera/Replicated | J77: Not FAST | K77: WORM | L77: centera_PL_02S CK200042100432 | BB77: 44002.2 | CR77: 40002 | CS77: =BB77-CR77 -> 4000.2 | CW77: =DF77*8/7 -> 16625.143 | CZ77: =CW77+CX77+CY77 -> 16625.143 | DA77: =CZ77-DI77 -> 2078.1429 | DF77: 14547 | DI77: =DF77+DG77+DH77 -> 14547 | DJ77: =DG77+DH77+DI77 -> 14547 | DN77: =DJ77+DK77+DM77 -> 14547 | DR77: =DI77-DN77 -> 0 | DS77: =DN77/DI77 -> 1 | DT77: 14547 | DV77: =SUM(DT77:DU77) -> 14547 | DW77: =DV77/DI77 -> 1
A78: Turkey | B78: CK200054900292 | C78: centera_TK_01T | D78: Centera | E78: Centera | F78: EMC | G78: Centera | H78: BAU | I78: Centera/Replicated | J78: Not FAST | K78: WORM | L78: centera_TK_01T CK200054900292 | BB78: 55559.9 | CR78: 50509 | CS78: =BB78-CR78 -> 5050.9 | CW78: =DF78*8/7 -> 54083.429 | CZ78: =CW78+CX78+CY78 -> 54083.429 | DA78: =CZ78-DI78 -> 6760.4286 | DF78: 47323 | DI78: =DF78+DG78+DH78 -> 47323 | DJ78: =DG78+DH78+DI78 -> 47323 | DN78: =DJ78+DK78+DM78 -> 47323 | DR78: =DI78-DN78 -> 0 | DS78: =DN78/DI78 -> 1 | DT78: 47323 | DV78: =SUM(DT78:DU78) -> 47323 | DW78: =DV78/DI78 -> 1
A79: Turkey | B79: CK200054900294 | C79: centera_TK_01Y | D79: Centera | E79: Centera | F79: EMC | G79: Centera | H79: BAU | I79: Centera/Replicated | J79: Not FAST | K79: WORM | L79: centera_TK_01Y CK200054900294 | BB79: 54818.5 | CR79: 49835 | CS79: =BB79-CR79 -> 4983.5 | CW79: =DF79*8/7 -> 46635.429 | CZ79: =CW79+CX79+CY79 -> 46635.429 | DA79: =CZ79-DI79 -> 5829.4286 | DF79: 40806 | DI79: =DF79+DG79+DH79 -> 40806 | DJ79: =DG79+DH79+DI79 -> 40806 | DN79: =DJ79+DK79+DM79 -> 40806 | DR79: =DI79-DN79 -> 0 | DS79: =DN79/DI79 -> 1 | DT79: 40806 | DV79: =SUM(DT79:DU79) -> 40806 | DW79: =DV79/DI79 -> 1
A80: rdc | B80: CK200061900567 | C80: centera_UK_01R | D80: Centera | E80: Centera | F80: EMC | G80: Centera | H80: BAU | I80: Centera/Replicated | J80: Not FAST | K80: WORM | L80: centera_UK_01R CK200061900567 | BB80: 269577 | CR80: 245070 | CS80: =BB80-CR80 -> 24507 | CW80: =DF80*8/7 -> 176035.43 | CZ80: =CW80+CX80+CY80 -> 176035.43 | DA80: =CZ80-DI80 -> 22004.429 | DF80: 154031 | DI80: =DF80+DG80+DH80 -> 154031 | DJ80: =DG80+DH80+DI80 -> 154031 | DN80: =DJ80+DK80+DM80 -> 154031 | DR80: =DI80-DN80 -> 0 | DS80: =DN80/DI80 -> 1 | DT80: 154031 | DV80: =SUM(DT80:DU80) -> 154031 | DW80: =DV80/DI80 -> 1
A81: rdc | B81: CK200062000593 | C81: centera_UK_02R | D81: Centera | E81: Centera | F81: EMC | G81: Centera | H81: BAU | I81: Centera/Replicated | J81: Not FAST | K81: WORM | L81: centera_UK_02R CK200062000593 | BB81: 116045.6 | CR81: 105496 | CS81: =BB81-CR81 -> 10549.6 | CW81: =DF81*8/7 -> 85177.143 | CZ81: =CW81+CX81+CY81 -> 85177.143 | DA81: =CZ81-DI81 -> 10647.143 | DF81: 74530 | DI81: =DF81+DG81+DH81 -> 74530 | DJ81: =DG81+DH81+DI81 -> 74530 | DN81: =DJ81+DK81+DM81 -> 74530 | DR81: =DI81-DN81 -> 0 | DS81: =DN81/DI81 -> 1 | DT81: 74530 | DV81: =SUM(DT81:DU81) -> 74530 | DW81: =DV81/DI81 -> 1
... A83: rdc | B83: CK200113804158 | C83: rdccentera01 | D83: Centera | E83: Centera | F83: EMC | G83: Centera | H83: BAU | I83: Centera/Replicated | J83: Not FAST | K83: WORM | L83: rdccentera01 CK200113804158 | BB83: 28154.5 | CR83: 25595 | CS83: =BB83-CR83 -> 2559.5 | CW83: =DF83*8/7 -> 4720 | CZ83: =CW83+CX83+CY83 -> 4720 | DA83: =CZ83-DI83 -> 590 | DF83: 4130 | DI83: =DF83+DG83+DH83 -> 4130 | DJ83: =DG83+DH83+DI83 -> 4130 | DN83: =DJ83+DK83+DM83 -> 4130 | DR83: =DI83-DN83 -> 0 | DS83: =DN83/DI83 -> 1 | DT83: 4130 | DV83: =SUM(DT83:DU83) -> 4130 | DW83: =DV83/DI83 -> 1
A84: CGC | B84: GBOQH010N0214 | C84: CGCHDS10 | D84: HDS | E84: HUSVM | F84: HDS | G84: Hitachi HUSVM | H84: BAU | I84: HDS-NonSRDF | J84: Not FAST | K84: Thin | L84: GBOQH010N0214 | Y84: 2 | Z84: 6000 | AM84: 32 | AN84: 96000 | BA84: 34 | BB84: 102000 | BO84: 2 | BP84: =Z84*0.91 -> 5460 | CC84: 34 | CD84: =AN84*0.91 -> 87360 | CQ84: 36 | CR84: =BB84*0.91 -> 92820 | CS84: =BB84-CR84 -> 9180 | CT84: raid6 (14d+2p) | CW84: =DF84*16/14 -> 85486.606 | CZ84: =CW84+CX84+CY84 -> 85486.606 | DA84: =CZ84-DI84 -> 10685.826 | DF84: 74800.78 | DI84: =DF84+DG84+DH84 -> 74800.78 | DJ84: 45613.09 | DN84: =DJ84+DK84+DM84 -> 45613.09 | DR84: =DI84-DN84 -> 29187.69 | DS84: =DN84/DI84 -> 0.60979431 | DT84: 53138.16 | DV84: =SUM(DT84:DU84) -> 53138.16 | DW84: =DV84/DI84 -> 0.7103958
A85: FDC | B85: DEOLH002R8779 | C85: FDCHDS02 | D85: HDS | E85: USPV | F85: HDS | G85: Hitachi USPV | H85: TR | I85: HDS-HUR | J85: Not FAST | K85: Thin | L85: DEOLH002R8779 | Y85: 8 | Z85: 2692 | AM85: 528 | AN85: 156720 | BA85: =Y85+AM85 -> 536 | BB85: =Z85+AN85 -> 159412 | BO85: 8 | BP85: =Z85*0.91 -> 2449.72 | CC85: 528 | CD85: =AN85*0.91 -> 142615.2 | CQ85: =BO85+CC85 -> 536 | CR85: =BB85*0.91 -> 145064.92 | CS85: =BB85-CR85 -> 14347.08 | CT85: Raid5(7d+1p) | CW85: =DF85*8/7 -> 108402.81 | CZ85: =CW85+CX85+CY85 -> 108402.81 | DA85: =CZ85-DI85 -> 13550.351 | DF85: 94852.46 | DI85: =DF85+DG85+DH85 -> 94852.46 | DJ85: 80673.4 | DN85: =DJ85+DK85+DM85 -> 80673.4 | DR85: =DI85-DN85 -> 14179.06 | DS85: =DN85/DI85 -> 0.85051458 | DT85: 59263 | DV85: =SUM(DT85:DU85) -> 59263 | DW85: =DV85/DI85 -> 0.62479139
A86: FDC | B86: DEOLH003R8398 | C86: FDCHDS03 | D86: HDS | E86: USPV | F86: HDS | G86: Hitachi USPV | H86: TR | I86: HDS-NonSRDF | J86: Not FAST | K86: Thin | L86: DEOLH003R8398 | Y86: 14 | Z86: 4484 | AM86: 678 | AN86: 243472 | BA86: =Y86+AM86 -> 692 | BB86: =Z86+AN86 -> 247956 | BO86: 14 | BP86: =Z86*0.91 -> 4080.44 | CC86: 678 | CD86: =AN86*0.91 -> 221559.52 | CQ86: =BO86+CC86 -> 692 | CR86: =BB86*0.91 -> 225639.96 | CS86: =BB86-CR86 -> 22316.04 | CT86: Raid5(7d+1p) | CW86: =DF86*8/7 -> 160967.2 | CZ86: =CW86+CX86+CY86 -> 160967.2 | DA86: =CZ86-DI86 -> 20120.9 | DF86: 140846.3 | DI86: =DF86+DG86+DH86 -> 140846.3 | DJ86: 75011.42 | DN86: =DJ86+DK86+DM86 -> 75011.42 | DR86: =DI86-DN86 -> 65834.88 | DS86: =DN86/DI86 -> 0.53257643 | DT86: 95669.74 | DV86: =SUM(DT86:DU86) -> 95669.74 | DW86: =DV86/DI86 -> 0.67924922 | DX86: 69890.587
A87: FDC | B87: DEOLH004N7026 | C87: FDCHDS04 | D87: HDS | E87: VSP | F87: HDS | G87: Hitachi VSP | H87: BAU | I87: HDS-NonSRDF | J87: Not FAST | K87: Thin | L87: DEOLH004N7026 | Y87: 2 | Z87: 1200 | AM87: 448 | AN87: 268800 | BA87: =Y87+AM87 -> 450 | BB87: =Z87+AN87 -> 270000 | BO87: 2 | BP87: =Z87*0.91 -> 1092 | CC87: 448 | CD87: =AN87*0.91 -> 244608 | CQ87: =BO87+CC87 -> 450 | CR87: =BB87*0.91 -> 245700 | CS87: =BB87-CR87 -> 24300 | CT87: raid6 (14d+2p) | CW87: =DF87*16/14 -> 240489.37 | CZ87: =CW87+CX87+CY87 -> 240489.37 | DA87: =CZ87-DI87 -> 30061.171 | DF87: 210428.2 | DI87: =DF87+DG87+DH87 -> 210428.2 | DJ87: 68084.35 | DN87: =DJ87+DK87+DM87 -> 68084.35 | DR87: =DI87-DN87 -> 142343.85 | DS87: =DN87/DI87 -> 0.32355145 | DT87: 261538.96 | DV87: =SUM(DT87:DU87) -> 261538.96 | DW87: =DV87/DI87 -> 1.2428893
A88: FDC | B88: DEOLH005N0365 | C88: FDCHDS05 | D88: HDS | E88: VSP | F88: HDS | G88: Hitachi VSP | H88: BAU | I88: HDS-NonSRDF | J88: Not FAST | K88: Thin | L88: DEOLH005N0365 | Y88: 2 | Z88: 1200 | AM88: 432 | AN88: 259200 | BA88: =Y88+AM88 -> 434 | BB88: =Z88+AN88 -> 260400 | BO88: 2 | BP88: =Z88*0.91 -> 1092 | CC88: 432 | CD88: =AN88*0.91 -> 235872 | CQ88: =BO88+CC88 -> 434 | CR88: =BB88*0.91 -> 236964 | CS88: =BB88-CR88 -> 23436 | CT88: raid6 (14d+2p) | CW88: =DF88*16/14 -> 231894.87 | CZ88: =CW88+CX88+CY88 -> 231894.87 | DA88: =CZ88-DI88 -> 28986.859 | DF88: 202908.01 | DI88: =DF88+DG88+DH88 -> 202908.01 | DJ88: 157034.98 | DN88: =DJ88+DK88+DM88 -> 157034.98 | DR88: =DI88-DN88 -> 45873.03 | DS88: =DN88/DI88 -> 0.77392203 | DT88: 246604.44 | DV88: =SUM(DT88:DU88) -> 246604.44 | DW88: =DV88/DI88 -> 1.2153509
A89: FDC | B89: DEOLH010N0516 | C89: FDCHDS10 | D89: HDS | E89: HUSVM | F89: HDS | G89: Hitachi HUSVM | H89: BAU | I89: HDS-NonSRDF | J89: Not FAST | K89: Thin | L89: DEOLH010N0516 | Y89: 2 | Z89: 1200 | AM89: 96 | AN89: 57600 | BA89: =Y89+AM89 -> 98 | BB89: =Z89+AN89 -> 58800 | BO89: 2 | BP89: =Z89*0.91 -> 1092 | CC89: 96 | CD89: =AN89*0.91 -> 52416 | CQ89: =BO89+CC89 -> 98 | CR89: =BB89*0.91 -> 53508 | CS89: =BB89-CR89 -> 5292 | CT89: Raid6(6d+2p) | CW89: =DF89*8/6 -> 51533.533 | CZ89: =CW89+CX89+CY89 -> 51533.533 | DA89: =CZ89-DI89 -> 12883.383 | DF89: 38650.15 | DI89: =DF89+DG89+DH89 -> 38650.15 | DJ89: 0 | DN89: =DJ89+DK89+DM89 -> 0 | DR89: =DI89-DN89 -> 38650.15 | DS89: =DN89/DI89 -> 0 | DT89: 0.2 | DV89: =SUM(DT89:DU89) -> 0.2 | DW89: =DV89/DI89 -> 5.1746242e-06
A90: RDC | B90: GBOKH002R8850 | C90: RDCHDS02 | D90: HDS | E90: USPV | F90: HDS | G90: Hitachi USPV | H90: TR | I90: HDS-HUR | J90: Not FAST | K90: Thin | L90: GBOKH002R8850 | Y90: 8 | Z90: 2392 | AM90: 680 | AN90: 209520 | BA90: =Y90+AM90 -> 688 | BB90: =Z90+AN90 -> 211912 | BO90: 8 | BP90: =Z90*0.91 -> 2176.72 | CC90: 680 | CD90: =AN90*0.91 -> 190663.2 | CQ90: =BO90+CC90 -> 688 | CR90: =BB90*0.91 -> 192839.92 | CS90: =BB90-CR90 -> 19072.08 | CT90: Raid5(7d+1p) | CW90: =DF90*8/7 -> 122902.09 | CZ90: =CW90+CX90+CY90 -> 122902.09 | DA90: =CZ90-DI90 -> 15362.761 | DF90: 107539.33 | DI90: =DF90+DG90+DH90 -> 107539.33 | DJ90: 50749.98 | DN90: =DJ90+DK90+DM90 -> 50749.98 | DR90: =DI90-DN90 -> 56789.35 | DS90: =DN90/DI90 -> 0.47192018 | DT90: 54482 | DV90: =SUM(DT90:DU90) -> 54482 | DW90: =DV90/DI90 -> 0.50662395 | DX90: 4068.846
A91: RDC | B91: GBOKH003R8378 | C91: RDCHDS03 | D91: HDS | E91: USPV | F91: HDS | G91: Hitachi USPV | H91: TR | I91: HDS-NonSRDF | J91: Not FAST | K91: Thin | L91: GBOKH003R8378 | Y91: 6 | Z91: 2092 | AM91: 264 | AN91: 83872 | BA91: =Y91+AM91 -> 270 | BB91: =Z91+AN91 -> 85964 | BO91: 6 | BP91: =Z91*0.91 -> 1903.72 | CC91: 264 | CD91: =AN91*0.91 -> 76323.52 | CQ91: =BO91+CC91 -> 270 | CR91: =BB91*0.91 -> 78227.24 | CS91: =BB91-CR91 -> 7736.76 | CT91: Raid5(7d+1p) | CW91: =DF91*8/7 -> 53680.754 | CZ91: =CW91+CX91+CY91 -> 53680.754 | DA91: =CZ91-DI91 -> 6710.0943 | DF91: 46970.66 | DI91: =DF91+DG91+DH91 -> 46970.66 | DJ91: 17510.93 | DN91: =DJ91+DK91+DM91 -> 17510.93 | DR91: =DI91-DN91 -> 29459.73 | DS91: =DN91/DI91 -> 0.3728057 | DT91: 22569.57 | DV91: =SUM(DT91:DU91) -> 22569.57 | DW91: =DV91/DI91 -> 0.48050357 | DX91: 40029.104
A92: RDC | B92: GBOKH004N8998 | C92: RDCHDS04 | D92: HDS | E92: USPV | F92: HDS | G92: Hitachi USPV | H92: BAU | I92: HDS-NonSRDF | J92: Not FAST | K92: Thin | L92: GBOKH004N8998 | Y92: 8 | Z92: 3900 | AM92: 560 | AN92: 266400 | BA92: =Y92+AM92 -> 568 | BB92: =Z92+AN92 -> 270300 | BO92: 8 | BP92: =Z92*0.91 -> 3549 | CC92: 560 | CD92: =AN92*0.91 -> 242424 | CQ92: =BO92+CC92 -> 568 | CR92: =BB92*0.91 -> 245973 | CS92: =BB92-CR92 -> 24327 | CT92: Raid6(6d+2p) | CW92: =DF92*8/6 -> 190370.08 | CZ92: =CW92+CX92+CY92 -> 190370.08 | DA92: =CZ92-DI92 -> 47592.52 | DF92: 142777.56 | DI92: =DF92+DG92+DH92 -> 142777.56 | DJ92: 115389.65 | DN92: =DJ92+DK92+DM92 -> 115389.65 | DR92: =DI92-DN92 -> 27387.91 | DS92: =DN92/DI92 -> 0.80817777 | DT92: 93719.34 | DV92: =SUM(DT92:DU92) -> 93719.34 | DW92: =DV92/DI92 -> 0.65640105 | DX92: 67720.736
A93: rdc | B93: GBOKH005N3518 | C93: RDCHDS05 | D93: HDS | E93: VSP | F93: HDS | G93: Hitachi VSP | H93: BAU | I93: HDS-NonSRDF | J93: Not FAST | K93: Thin | L93: GBOKH005N3518 | Y93: 4 | Z93: 7200 | AM93: 400 | AN93: 316800 | BA93: =Y93+AM93 -> 404 | BB93: =Z93+AN93 -> 324000 | BO93: 4 | BP93: =Z93*0.91 -> 6552 | CC93: 400 | CD93: =AN93*0.91 -> 288288 | CQ93: =BO93+CC93 -> 404 | CR93: =BB93*0.91 -> 294840 | CS93: =BB93-CR93 -> 29160 | CT93: raid6 (14d+2p) | CW93: =DF93*16/14 -> 285077.29 | CZ93: =CW93+CX93+CY93 -> 285077.29 | DA93: =CZ93-DI93 -> 35634.661 | DF93: 249442.63 | DI93: =DF93+DG93+DH93 -> 249442.63 | DJ93: 62944.26 | DN93: =DJ93+DK93+DM93 -> 62944.26 | DR93: =DI93-DN93 -> 186498.37 | DS93: =DN93/DI93 -> 0.25233963 | DT93: 162906.14 | DV93: =SUM(DT93:DU93) -> 162906.14 | DW93: =DV93/DI93 -> 0.65308059
A94: RDC | B94: GBOKH006N5362 | C94: RDCHDS06 | D94: HDS | E94: VSP | F94: HDS | G94: Hitachi VSP | H94: BAU | I94: HDS-NonSRDF | J94: Not FAST | K94: Thin | L94: GBOKH006N5362 | Y94: 2 | Z94: 900 | AM94: 368 | AN94: 220800 | BA94: =Y94+AM94 -> 370 | BB94: =Z94+AN94 -> 221700 | BO94: 2 | BP94: =Z94*0.91 -> 819 | CC94: 368 | CD94: =AN94*0.91 -> 200928 | CQ94: =BO94+CC94 -> 370 | CR94: =BB94*0.91 -> 201747 | CS94: =BB94-CR94 -> 19953 | CT94: raid6 (14d+2p) | CW94: =DF94*16/14 -> 197544.85 | CZ94: =CW94+CX94+CY94 -> 197544.85 | DA94: =CZ94-DI94 -> 24693.106 | DF94: 172851.74 | DI94: =DF94+DG94+DH94 -> 172851.74 | DJ94: 93061.95 | DN94: =DJ94+DK94+DM94 -> 93061.95 | DR94: =DI94-DN94 -> 79789.79 | DS94: =DN94/DI94 -> 0.53839175 | DT94: 210022.53 | DV94: =SUM(DT94:DU94) -> 210022.53 | DW94: =DV94/DI94 -> 1.2150443
A95: RDC | B95: GBOKH010N0204 | C95: RDCHDS10 | D95: HDS | E95: HUSVM | F95: HDS | G95: Hitachi HUSVM | H95: BAU | I95: HDS-NonSRDF | J95: Not FAST | K95: Thin | L95: GBOKH010N0204 | Y95: 2 | Z95: 1200 | AM95: 96 | AN95: 57600 | BA95: =Y95+AM95 -> 98 | BB95: =Z95+AN95 -> 58800 | BO95: 2 | BP95: =Z95*0.91 -> 1092 | CC95: 96 | CD95: =AN95*0.91 -> 52416 | CQ95: =BO95+CC95 -> 98 | CR95: =BB95*0.91 -> 53508 | CS95: =BB95-CR95 -> 5292 | CT95: Raid6(6d+2p) | CW95: =DF95*8/6 -> 51533.533 | CZ95: =CW95+CX95+CY95 -> 51533.533 | DA95: =CZ95-DI95 -> 12883.383 | DF95: 38650.15 | DI95: =DF95+DG95+DH95 -> 38650.15 | DJ95: 534.44 | DN95: =DJ95+DK95+DM95 -> 534.44 | DR95: =DI95-DN95 -> 38115.71 | DS95: =DN95/DI95 -> 0.013827631 | DT95: 9171.13 | DV95: =SUM(DT95:DU95) -> 9171.13 | DW95: =DV95/DI95 -> 0.23728575
A96: Senatorska DC | B96: XP24000 | C96: XP24000 | D96: HP/HDS | E96: HP/HDS | F96: HP/HDS | G96: XP24000 | H96: BAU | I96: non-rep | J96: Not FAST | K96: Thick | L96: XP24000 | BB96: 22025.143 | CR96: 20022.857 | CS96: =BB96-CR96 -> 2002.2857 | CW96: =DF96*8/7 -> 20022.857 | CZ96: =CW96+CX96+CY96 -> 20022.857 | DA96: =CZ96-DI96 -> 2502.8571 | DF96: 17520 | DI96: =DF96+DG96+DH96 -> 17520 | DJ96: 12844 | DN96: =DJ96+DK96+DM96 -> 12844 | DR96: =DI96-DN96 -> 4676 | DS96: =DN96/DI96 -> 0.73310502 | DT96: 12844 | DV96: =SUM(DT96:DU96) -> 12844 | DW96: =DV96/DI96 -> 0.73310502
A97: Goleszowska DC | B97: XP1024 | C97: XP1024 | D97: HP/HDS | E97: HP/HDS | F97: HP/HDS | G97: XP1024 | H97: BAU | I97: non-rep | J97: Not FAST | K97: Thick | L97: XP1024 | BB97: 24257.829 | CR97: 22052.571 | CS97: =BB97-CR97 -> 2205.2571 | CW97: =DF97*8/7 -> 22052.571 | CZ97: =CW97+CX97+CY97 -> 22052.571 | DA97: =CZ97-DI97 -> 2756.5714 | DF97: 19296 | DI97: =DF97+DG97+DH97 -> 19296 | DJ97: 11764 | DN97: =DJ97+DK97+DM97 -> 11764 | DR97: =DI97-DN97 -> 7532 | DS97: =DN97/DI97 -> 0.60966003 | DT97: 11764 | DV97: =SUM(DT97:DU97) -> 11764 | DW97: =DV97/DI97 -> 0.60966003
A98: Riverdale DC | B98: CKM00121201737 | C98: GBOKC001N1737 | D98: VNX | E98: VNX | F98: EMC | G98: VNX | H98: BAU | I98: VNX | J98: Not FAST | K98: Thick | L98: CKM00121201737 | BB98: 922300 | CR98: 838454.76 | CS98: =BB98-CR98 -> 83845.239 | CT98: RAID1/0 | CW98: =DF98*2 -> 839038 | CZ98: =CW98+CX98+CY98 -> 839038 | DA98: =CZ98-DI98 -> 419519 | DF98: 419519 | DI98: =DF98+DG98+DH98 -> 419519 | DJ98: 384952 | DN98: =DJ98+DK98+DM98 -> 384952 | DR98: =DI98-DN98 -> 34567 | DS98: =DN98/DI98 -> 0.91760326 | DT98: 0 | DV98: =SUM(DT98:DU98) -> 0 | DW98: =DV98/DI98 -> 0 | DX98: 68548.764
A99: Riverdale DC | B99: CKM00121300390 | C99: GBOKC002N0390 | D99: VNX | E99: VNX | F99: EMC | G99: VNX | H99: BAU | I99: VNX | J99: Not FAST | K99: Thick | L99: CKM00121300390 | BB99: 922300 | CR99: 838454.76 | CS99: =BB99-CR99 -> 83845.239 | CT99: RAID1/0 | CW99: =DF99*2 -> 839038 | CZ99: =CW99+CX99+CY99 -> 839038 | DA99: =CZ99-DI99 -> 419519 | DF99: 419519 | DI99: =DF99+DG99+DH99 -> 419519 | DJ99: 384952 | DN99: =DJ99+DK99+DM99 -> 384952 | DR99: =DI99-DN99 -> 34567 | DS99: =DN99/DI99 -> 0.91760326 | DT99: 0 | DV99: =SUM(DT99:DU99) -> 0 | DW99: =DV99/DI99 -> 0 | DX99: 68548.764
A100: Frankfurt DC | B100: CKM00121400374 | C100: DEOLC001N0374 | D100: VNX | E100: VNX | F100: EMC | G100: VNX | H100: BAU | I100: VNX | J100: Not FAST | K100: Thick | L100: CKM00121400374 | BB100: 583722.2 | CR100: 530656.54 | CS100: =BB100-CR100 -> 53065.654 | CT100: RAID1/0 | CW100: =DF100*8/7 -> 617910.86 | CZ100: =CW100+CX100+CY100 -> 617910.86 | DA100: =CZ100-DI100 -> 77238.857 | DF100: 540672 | DI100: =DF100+DG100+DH100 -> 540672 | DJ100: 0 | DN100: =DJ100+DK100+DM100 -> 0 | DR100: =DI100-DN100 -> 540672 | DS100: =DN100/DI100 -> 0 | DT100: 0 | DV100: =SUM(DT100:DU100) -> 0 | DW100: =DV100/DI100 -> 0 | DX100: 94010.275
A101: Frankfurt DC | B101: CKM00121400375 | C101: DEOLC002N0375 | D101: VNX | E101: VNX | F101: EMC | G101: VNX | H101: BAU | I101: VNX | J101: Not FAST | K101: Thick | L101: CKM00121400375 | BB101: 472031.98 | CR101: 429119.99 | CS101: =BB101-CR101 -> 42911.999 | CT101: RAID1/0 | CW101: =DF101*8/7 -> 500882.29 | CZ101: =CW101+CX101+CY101 -> 500882.29 | DA101: =CZ101-DI101 -> 62610.286 | DF101: 438272 | DI101: =DF101+DG101+DH101 -> 438272 | DJ101: 0 | DN101: =DJ101+DK101+DM101 -> 0 | DR101: =DI101-DN101 -> 438272 | DS101: =DN101/DI101 -> 0 | DT101: 0 | DV101: =SUM(DT101:DU101) -> 0 | DW101: =DV101/DI101 -> 0 | DX101: 136039.83
...

Sheet All_Pivot
A1: 1 | B1: (Multiple Items) | T1: Market Raw
A2: 4 | B2: (Multiple Items) | T2: Installed Raw = Market - format lost - spare lost
B3: 235088 | C3: 209355 | D3: 20935.5 | E3: =H3*2 -> 204386 | F3: =E3-H3 -> 102193 | G3: =4361.5625+436.15625 -> 4797.7188 | H3: 102193 | O3: =D3/$B3 -> 0.089053886 | P3: =G3/$B3 -> 0.020408182 | Q3: =F3/$B3 -> 0.43470105 | R3: =SUM(D3,F3,G3,H3,N4) -> 230119.22 | S3: =B3-R3 -> 4968.7812 | T3: Install usable = Market - format lost - spare lost - parity
A4: Row Labels | B4: Market | C4: Formatted | D4: format Lost | E4: Physical total | F4: Parity Lost | G4: Spare | H4: Usable | I4: Used | J4: Free | K4: Host Allocations | L4: uncurved | M4: formatted w/o spare | N4: save dav | O4: %format | P4: %spare | Q4: %parity | R4: sum(all) | S4: diff | T4: %diff
A5: 377 | B5: 46800 | C5: 42525 | D5: 4275 | E5: 37817.714 | F5: 4727.2143 | G5: 3271 | H5: 33090.5 | I5: 7333.1 | J5: 25757.4 | K5: 36650.3 | M5: 39254 | O5: =D5/$B5 -> 0.091346154 | P5: =G5/$B5 -> 0.069893162 | Q5: =F5/$B5 -> 0.10100885 | R5: =SUM(D5,F5,G5,H5,N6) -> 254718.71 | S5: =B5-R5 -> -207918.71 | T5: =S5/B5 -> -4.4427076
A6: 667 | B6: 235200 | C6: 213716.56 | D6: 21483.438 | E6: 200650 | F6: 100325 | G6: 4361.5625 | H6: 100325 | I6: 3.1 | J6: 100321.9 | K6: 0 | M6: 209355 | N6: 209355 | O6: =D6/$B6 -> 0.091341146 | P6: =G6/$B6 -> 0.018544058 | Q6: =F6/$B6 -> 0.42655187 | R6: =SUM(F6,G6,H6,N6) -> 414366.56 | S6: =B6-R6 -> -179166.56 | T6: =S6/B6 -> -0.7617626
A7: 671 | B7: 480000 | C7: 436156.25 | D7: 43843.75 | E7: 415250 | F7: 207625 | G7: 8723.125 | H7: 207625 | I7: 3.1 | J7: 207621.9 | K7: 0 | M7: 427433.12 | N7: 20935.5 | O7: =D7/$B7 -> 0.091341146 | P7: =G7/$B7 -> 0.018173177 | Q7: =F7/$B7 -> 0.43255208 | R7: =SUM(D7,F7,G7,H7) -> 467816.88 | S7: =B7-R7 -> 12183.125 | T7: =S7/B7 -> 0.02538151
A8: 2262 | B8: 75600 | C8: 68695 | D8: 6905 | E8: 63029.714 | F8: 7878.7143 | G8: 3271 | H8: 55151 | I8: 14103.1 | J8: 41047.9 | K8: 56947 | M8: 65423 | N8: 4361.5625 | O8: =D8/$B8 -> 0.091335979 | P8: =G8/$B8 -> 0.043267196 | Q8: =F8/$B8 -> 0.1042158 | R8: =SUM(D8,F8,G8,H8) -> 73205.714 | S8: =B8-R8 -> 2394.2857 | T8: =S8/B8 -> 0.031670446
A9: 3336 | B9: 36097.359 | C9: 32815.781 | D9: 3281.5781 | E9: 37503.75 | F9: 4687.9688 | G9: 1093.8594 | H9: 32815.781 | I9: 0.08 | J9: 32815.701 | K9: 0.08 | L9: 2414.271 | M9: 31721.922 | N9: 436.15625 | O9: =D9/$B9 -> 0.090909091 | P9: =G9/$B9 -> 0.03030303 | Q9: =F9/$B9 -> 0.12987013 | R9: =SUM(D9,F9,G9,H9) -> 41879.188 | S9: =B9-R9 -> -5781.8281 | T9: =S9/B9 -> -0.16017316
A10: 3452 | B10: 131725.58 | C10: 119750.52 | D10: 11975.052 | E10: 136857.74 | F10: 17107.218 | G10: 3340.8945 | H10: 119750.52 | I10: 46304.18 | J10: 73446.344 | K10: 46304.18 | L10: 7480.275 | M10: 116409.63 | N10: 213716.56 | O10: =D10/$B10 -> 0.090909091 | P10: =G10/$B10 -> 0.025362535 | Q10: =F10/$B10 -> 0.12987013 | R10: =SUM(D10,F10,G10,H10) -> 152173.69 | S10: =B10-R10 -> -20448.112 | T10: =S10/B10 -> -0.15523266
A11: 3471 | B11: 36097.359 | C11: 32815.781 | D11: 3281.5781 | E11: 37503.75 | F11: 4687.9688 | G11: 1093.8594 | H11: 32815.781 | I11: 472.25977 | J11: 32343.521 | K11: 472.25977 | L11: 2413.896 | M11: 31721.922 | N11: 784 | O11: =D11/$B11 -> 0.090909091 | P11: =G11/$B11 -> 0.03030303 | Q11: =F11/$B11 -> 0.12987013 | R11: =SUM(D11,F11,G11,H11) -> 41879.188 | S11: =B11-R11 -> -5781.8281 | T11: =S11/B11 -> -0.16017316
A12: 3544 | B12: 116387.55 | C12: 105806.86 | D12: 10580.686 | E12: 120922.13 | F12: 15115.266 | G12: 2758.375 | H12: 105806.86 | I12: 12240.113 | J12: 93566.75 | K12: 21107.631 | L12: 8538.406 | M12: 103048.49 | N12: 272.59766 | O12: =D12/$B12 -> 0.090909091 | P12: =G12/$B12 -> 0.023699915 | Q12: =F12/$B12 -> 0.12987013 | R12: =SUM(D12,F12,G12,H12) -> 134261.19 | S12: =B12-R12 -> -17873.641 | T12: =S12/B12 -> -0.15357004
A13: 3550 | B13: 72508.58 | C13: 65916.891 | D13: 6591.6891 | E13: 75333.589 | F13: 9416.6987 | G13: 2473.0469 | H13: 65916.891 | I13: 472.259 | J13: 65444.632 | K13: 944.289 | L13: 5151.217 | M13: 63443.844 | N13: 27.402344 | O13: =D13/$B13 -> 0.090909091 | P13: =G13/$B13 -> 0.034106955 | Q13: =F13/$B13 -> 0.12987013 | R13: =SUM(D13,F13,G13,H13) -> 84398.325 | S13: =B13-R13 -> -11889.746 | T13: =S13/B13 -> -0.16397709
A14: 3564 | B14: 135842.57 | C14: 123493.25 | D14: 12349.325 | E14: 141135.14 | F14: 17641.892 | G14: 2793.9648 | H14: 123493.25 | I14: 48594.588 | J14: 74898.658 | K14: 48594.588 | L14: 5557.016 | M14: 120699.28 | N14: 21483.438 | O14: =D14/$B14 -> 0.090909091 | P14: =G14/$B14 -> 0.020567668 | Q14: =F14/$B14 -> 0.12987013 | R14: =SUM(D14,F14,G14,H14) -> 156278.43 | S14: =B14-R14 -> -20435.857 | T14: =S14/B14 -> -0.1504378
A15: 3720 | B15: 72822.441 | C15: 66202.219 | D15: 6620.2219 | E15: 75659.679 | F15: 9457.4598 | G15: 1652.6523 | H15: 66202.219 | I15: 38642.527 | J15: 27559.691 | K15: 38642.527 | L15: 4455.088 | M15: 64549.566 | N15: 27.26 | O15: =D15/$B15 -> 0.090909091 | P15: =G15/$B15 -> 0.022694273 | Q15: =F15/$B15 -> 0.12987013 | R15: =SUM(D15,F15,G15,H15) -> 83932.553 | S15: =B15-R15 -> -11110.112 | T15: =S15/B15 -> -0.1525644
A16: 3810 | B16: 145017.16 | C16: 131833.78 | D16: 13183.378 | E16: 150667.18 | F16: 18833.397 | G16: 2877.3125 | H16: 131833.78 | I16: 38406.51 | J16: 93427.271 | K16: 67807.567 | L16: 7749.863 | M16: 128956.47 | O16: =D16/$B16 -> 0.090909091 | P16: =G16/$B16 -> 0.019841186 | Q16: =F16/$B16 -> 0.12987013 | R16: =SUM(D16,F16,G16,H16) -> 166727.87 | S16: =B16-R16 -> -21710.71 | T16: =S16/B16 -> -0.14971132
A17: 3943 | B17: 147521.34 | C17: 134110.31 | D17: 13411.031 | E17: 153268.93 | F17: 19158.616 | G17: 4470.3438 | H17: 134110.31 | I17: 53512.967 | J17: 80597.346 | K17: 53512.967 | L17: 7344.189 | M17: 129639.97 | O17: =D17/$B17 -> 0.090909091 | P17: =G17/$B17 -> 0.03030303 | Q17: =F17/$B17 -> 0.12987013 | R17: =SUM(D17,F17,G17,H17) -> 171150.3 | S17: =B17-R17 -> -23628.96 | T17: =S17/B17 -> -0.16017316
A18: 5349 | B18: 25193.97 | C18: 22903.609 | D18: 2290.3609 | E18: 26175.554 | F18: 3271.9442 | G18: 2477.3984 | H18: 22903.609 | I18: 11828.185 | J18: 11075.425 | K18: 11828.185 | L18: 10090.811 | M18: 20426.211 | O18: =D18/$B18 -> 0.090909091 | P18: =G18/$B18 -> 0.09833299 | Q18: =F18/$B18 -> 0.12987013 | R18: =SUM(D18,F18,G18,H18) -> 30943.313 | S18: =B18-R18 -> -5749.3426 | T18: =S18/B18 -> -0.22820312
A19: 5373 | B19: 68850 | C19: 63533.6 | D19: 5316.4 | E19: 40925.295 | F19: 5115.6618 | G19: 3322.08 | H19: 35809.633 | I19: 3080.9854 | J19: 32728.647 | K19: 4883.1924 | L19: 19126.172 | M19: 60212.7 | O19: =D19/$B19 -> 0.077217139 | P19: =G19/$B19 -> 0.04825098 | Q19: =F19/$B19 -> 0.074301552 | R19: =SUM(D19,F19,G19,H19) -> 49563.775 | S19: =B19-R19 -> 19286.225 | T19: =S19/B19 -> 0.28011947
A20: 0347 | B20: 588456 | C20: 535316.42 | D20: 53139.582 | E20: 342486.07 | F20: 127219.57 | G20: 10868.48 | H20: 215266.5 | I20: 7397.6 | J20: 207868.9 | K20: 95846.3 | M20: 524447.94 | O20: =D20/$B20 -> 0.090303408 | P20: =G20/$B20 -> 0.018469487 | Q20: =F20/$B20 -> 0.21619215 | R20: =SUM(D20,F20,G20,H20) -> 406494.13 | S20: =B20-R20 -> 181961.87 | T20: =S20/B20 -> 0.30921916
A21: 0349 | B21: 588456 | C21: 535316.42 | D21: 53139.582 | E21: 342486.07 | F21: 127219.57 | G21: 10868.48 | H21: 215266.5 | I21: 67192.4 | J21: 148074.1 | K21: 218748 | M21: 524447.94 | O21: =D21/$B21 -> 0.090303408 | P21: =G21/$B21 -> 0.018469487 | Q21: =F21/$B21 -> 0.21619215 | R21: =SUM(D21,F21,G21,H21) -> 406494.13 | S21: =B21-R21 -> 181961.87 | T21: =S21/B21 -> 0.30921916
A22: 0552 | B22: 202800 | C22: 184276.02 | D22: 18523.984 | E22: 172019.09 | F22: 21502.386 | G22: 3816.3672 | H22: 150516.7 | I22: 82614.8 | J22: 67901.9 | K22: 97374.1 | L22: 55880.287 | M22: 180459.65 | O22: =D22/$B22 -> 0.091341146 | P22: =G22/$B22 -> 0.018818379 | Q22: =F22/$B22 -> 0.10602754 | R22: =SUM(D22,F22,G22,H22) -> 194359.44 | S22: =B22-R22 -> 8440.5627 | T22: =S22/B22 -> 0.041620132
A23: 0623 | B23: 340268 | C23: 304207.17 | D23: 36060.828 | E23: 174382.63 | F23: 21797.829 | G23: 8209.5469 | H23: 152584.8 | I23: 60666.1 | J23: 91918.7 | K23: 169949 | L23: 77939.569 | M23: 295997.62 | O23: =D23/$B23 -> 0.10597772 | P23: =G23/$B23 -> 0.024126709 | Q23: =F23/$B23 -> 0.064060766 | R23: =SUM(D23,F23,G23,H23) -> 218653 | S23: =B23-R23 -> 121615 | T23: =S23/B23 -> 0.35740944
A24: 0678 | B24: 243000 | C24: 220804.1 | D24: 22195.898 | E24: 207998.63 | F24: 25999.829 | G24: 4906.7578 | H24: 181998.8 | I24: 157009.9 | J24: 24988.9 | K24: 262762 | M24: 215897.34 | O24: =D24/$B24 -> 0.091341146 | P24: =G24/$B24 -> 0.020192419 | Q24: =F24/$B24 -> 0.10699518 | R24: =SUM(D24,F24,G24,H24) -> 235101.28 | S24: =B24-R24 -> 7898.7152 | T24: =S24/B24 -> 0.032505001
A25: 0745 | B25: 202800 | C25: 184276.02 | D25: 18523.984 | E25: 172019.09 | F25: 21502.386 | G25: 3816.3672 | H25: 150516.7 | I25: 83956.6 | J25: 66560.1 | K25: 96362.6 | L25: 55803.188 | M25: 180459.65 | O25: =D25/$B25 -> 0.091341146 | P25: =G25/$B25 -> 0.018818379 | Q25: =F25/$B25 -> 0.10602754 | R25: =SUM(D25,F25,G25,H25) -> 194359.44 | S25: =B25-R25 -> 8440.5627 | T25: =S25/B25 -> 0.041620132
A26: 0879 | B26: 257400 | C26: 233888.79 | D26: 23511.211 | E26: 220604.69 | F26: 27575.586 | G26: 4906.7578 | H26: 193029.1 | I26: 169963.8 | J26: 23065.3 | K26: 277512 | M26: 228982.03 | O26: =D26/$B26 -> 0.091341146 | P26: =G26/$B26 -> 0.019062773 | Q26: =F26/$B26 -> 0.10713126 | R26: =SUM(D26,F26,G26,H26) -> 249022.65 | S26: =B26-R26 -> 8377.3455 | T26: =S26/B26 -> 0.03254602
A27: 2230 | B27: 227700 | C27: 206901.62 | D27: 20798.379 | E27: 195392.69 | F27: 24424.086 | G27: 4088.9648 | H27: 170968.6 | I27: 113314.3 | J27: 57654.3 | K27: 169530 | M27: 202812.66 | O27: =D27/$B27 -> 0.091341146 | P27: =G27/$B27 -> 0.017957685 | Q27: =F27/$B27 -> 0.10726432 | R27: =SUM(D27,F27,G27,H27) -> 220280.03 | S27: =B27-R27 -> 7419.9705 | T27: =S27/B27 -> 0.032586608
A28: 2231 | B28: 367200 | C28: 333659.53 | D28: 33540.469 | E28: 315148.57 | F28: 39393.571 | G28: 6542.3438 | H28: 275755 | I28: 209054.6 | J28: 66700.4 | K28: 322248 | M28: 327117.19 | O28: =D28/$B28 -> 0.091341146 | P28: =G28/$B28 -> 0.01781684 | Q28: =F28/$B28 -> 0.10728097 | R28: =SUM(D28,F28,G28,H28) -> 355231.38 | S28: =B28-R28 -> 11968.616 | T28: =S28/B28 -> 0.03259427
A29: 2804 | B29: 118400 | C29: 107740.89 | D29: 10659.113 | E29: 94544.686 | F29: 11818.086 | G29: 3643.793 | H29: 82726.6 | I29: 57786.6 | J29: 24940 | K29: 126591 | M29: 104097.09 | O29: =D29/$B29 -> 0.090026295 | P29: =G29/$B29 -> 0.030775278 | Q29: =F29/$B29 -> 0.099814913 | R29: =SUM(D29,F29,G29,H29) -> 108847.59 | S29: =B29-R29 -> 9552.408 | T29: =S29/B29 -> 0.080679122
A30: 2819 | B30: 137686.59 | C30: 125169.62 | D30: 12516.963 | E30: 143051 | F30: 17881.375 | G30: 2514.5684 | H30: 125169.62 | I30: 35706.256 | J30: 89463.369 | K30: 35706.256 | L30: 2829.049 | M30: 122655.06 | O30: =D30/$B30 -> 0.090909091 | P30: =G30/$B30 -> 0.018262987 | Q30: =F30/$B30 -> 0.12987013 | R30: =SUM(D30,F30,G30,H30) -> 158082.53 | S30: =B30-R30 -> -20395.943 | T30: =S30/B30 -> -0.14813312
A31: 2838 | B31: 72979.371 | C31: 66344.883 | D31: 6634.4883 | E31: 75822.723 | F31: 9477.8404 | G31: 1248.3867 | H31: 66344.883 | I31: 1688.1543 | J31: 64656.729 | K31: 1688.1543 | L31: 3257.041 | M31: 65096.496 | O31: =D31/$B31 -> 0.090909091 | P31: =G31/$B31 -> 0.017106022 | Q31: =F31/$B31 -> 0.12987013 | R31: =SUM(D31,F31,G31,H31) -> 83705.598 | S31: =B31-R31 -> -10726.227 | T31: =S31/B31 -> -0.14697615
A32: 2839 | B32: 72508.58 | C32: 65916.891 | D32: 6591.6891 | E32: 75333.589 | F32: 9416.6987 | G32: 1105.7227 | H32: 65916.891 | I32: 12783.037 | J32: 53133.854 | K32: 12783.037 | L32: 4677.861 | M32: 64811.168 | O32: =D32/$B32 -> 0.090909091 | P32: =G32/$B32 -> 0.015249542 | Q32: =F32/$B32 -> 0.12987013 | R32: =SUM(D32,F32,G32,H32) -> 83031.001 | S32: =B32-R32 -> -10522.421 | T32: =S32/B32 -> -0.14511967
A33: 3004 | B33: 597408 | C33: 527587.59 | D33: 69820.406 | E33: 166766.4 | F33: 20845.8 | G33: 10767.094 | H33: 145920.6 | I33: 86727.8 | J33: 59192.8 | K33: 369005 | M33: 516820.5 | O33: =D33/$B33 -> 0.11687223 | P33: =G33/$B33 -> 0.018023016 | Q33: =F33/$B33 -> 0.034893741 | R33: =SUM(D33,F33,G33,H33) -> 247353.9 | S33: =B33-R33 -> 350054.1 | T33: =S33/B33 -> 0.58595482
A34: 3073 | B34: 531872 | C34: 470601.19 | D34: 61270.812 | E34: 166766.4 | F34: 20845.8 | G34: 10767.094 | H34: 145920.6 | I34: 78082.5 | J34: 67838.1 | K34: 445574 | M34: 459834.09 | O34: =D34/$B34 -> 0.11519842 | P34: =G34/$B34 -> 0.020243769 | Q34: =F34/$B34 -> 0.039193265 | R34: =SUM(D34,F34,G34,H34) -> 238804.31 | S34: =B34-R34 -> 293067.69 | T34: =S34/B34 -> 0.5510117
A35: 3286 | B35: 227300 | C35: 206693.84 | D35: 20606.164 | E35: 189089.71 | F35: 23636.214 | G35: 4461.5859 | H35: 165453.5 | I35: 111706.1 | J35: 53747.4 | K35: 236575 | M35: 202232.25 | O35: =D35/$B35 -> 0.090656243 | P35: =G35/$B35 -> 0.019628623 | Q35: =F35/$B35 -> 0.10398686 | R35: =SUM(D35,F35,G35,H35) -> 214157.46 | S35: =B35-R35 -> 13142.536 | T35: =S35/B35 -> 0.057820219
A36: 3696 | B36: 227100 | C36: 206507.53 | D36: 20592.475 | E36: 189089.71 | F36: 23636.214 | G36: 4275.2754 | H36: 165453.5 | I36: 32444.6 | J36: 133008.9 | K36: 81125.7 | M36: 202232.25 | O36: =D36/$B36 -> 0.090675802 | P36: =G36/$B36 -> 0.018825519 | Q36: =F36/$B36 -> 0.10407844 | R36: =SUM(D36,F36,G36,H36) -> 213957.46 | S36: =B36-R36 -> 13142.536 | T36: =S36/B36 -> 0.057871139
A37: 3875 | B37: 118400 | C37: 107740.89 | D37: 10659.113 | E37: 94544.686 | F37: 11818.086 | G37: 3643.793 | H37: 82726.6 | I37: 16824.2 | J37: 65902.4 | K37: 55844.5 | M37: 104097.09 | O37: =D37/$B37 -> 0.090026295 | P37: =G37/$B37 -> 0.030775278 | Q37: =F37/$B37 -> 0.099814913 | R37: =SUM(D37,F37,G37,H37) -> 108847.59 | S37: =B37-R37 -> 9552.408 | T37: =S37/B37 -> 0.080679122
A38: 4330 | B38: 287100 | C38: 260875.96 | D38: 26224.043 | E38: 242765.2 | F38: 121382.6 | G38: 5724.5508 | H38: 121382.6 | I38: 59149.2 | J38: 62233.4 | K38: 134610.8 | M38: 255151.41 | O38: =D38/$B38 -> 0.091341146 | P38: =G38/$B38 -> 0.019939223 | Q38: =F38/$B38 -> 0.42278858 | R38: =SUM(D38,F38,G38,H38) -> 274713.79 | S38: =B38-R38 -> 12386.206 | T38: =S38/B38 -> 0.043142481
A39: 4652 | B39: 441000 | C39: 400718.55 | D39: 40281.445 | E39: 377963.2 | F39: 188981.6 | G39: 8177.9297 | H39: 188981.6 | I39: 94288.5 | J39: 94693.1 | K39: 212038.6 | M39: 392540.62 | O39: =D39/$B39 -> 0.091341146 | P39: =G39/$B39 -> 0.018544058 | Q39: =F39/$B39 -> 0.42852971 | R39: =SUM(D39,F39,G39,H39) -> 426422.58 | S39: =B39-R39 -> 14577.425 | T39: =S39/B39 -> 0.033055385
A40: centera_CH_01E | B40: 50688 | C40: 46080 | D40: 4608 | E40: 15213.714 | F40: 1901.7143 | H40: 13312 | I40: 13312 | J40: 0 | K40: 13312 | O40: =D40/$B40 -> 0.090909091 | P40: =G40/$B40 -> 0 | Q40: =F40/$B40 -> 0.037518038 | R40: =SUM(D40,F40,G40,H40) -> 19821.714 | S40: =B40-R40 -> 30866.286 | T40: =S40/B40 -> 0.60894661
A41: centera_CH_01R | B41: 50688 | C41: 46080 | D41: 4608 | E41: 19894.857 | F41: 2486.8571 | H41: 17408 | I41: 17408 | J41: 0 | K41: 17408 | O41: =D41/$B41 -> 0.090909091 | P41: =G41/$B41 -> 0 | Q41: =F41/$B41 -> 0.049062049 | R41: =SUM(D41,F41,G41,H41) -> 24502.857 | S41: =B41-R41 -> 26185.143 | T41: =S41/B41 -> 0.51659452
A42: centera_DE_01F | B42: 272923.2 | C42: 248112 | D42: 24811.2 | E42: 176107.43 | F42: 22013.429 | H42: 154094 | I42: 154094 | J42: 0 | K42: 154094 | O42: =D42/$B42 -> 0.090909091 | P42: =G42/$B42 -> 0 | Q42: =F42/$B42 -> 0.08065796 | R42: =SUM(D42,F42,G42,H42) -> 200918.63 | S42: =B42-R42 -> 72004.571 | T42: =S42/B42 -> 0.26382723
A43: centera_DE_02F | B43: 109422.5 | C43: 99475 | D43: 9947.5 | E43: 82211.429 | F43: 10276.429 | H43: 71935 | I43: 71935 | J43: 0 | K43: 71935 | O43: =D43/$B43 -> 0.090909091 | P43: =G43/$B43 -> 0 | Q43: =F43/$B43 -> 0.093915132 | R43: =SUM(D43,F43,G43,H43) -> 92158.929 | S43: =B43-R43 -> 17263.571 | T43: =S43/B43 -> 0.15776985
A44: centera_PL_01G | B44: 64930.8 | C44: 59028 | D44: 5902.8 | E44: 55448 | F44: 6931 | H44: 48517 | I44: 48517 | J44: 0 | K44: 48517 | O44: =D44/$B44 -> 0.090909091 | P44: =G44/$B44 -> 0 | Q44: =F44/$B44 -> 0.10674441 | R44: =SUM(D44,F44,G44,H44) -> 61350.8 | S44: =B44-R44 -> 3580 | T44: =S44/B44 -> 0.055135621
A45: centera_PL_01S | B45: 86168.5 | C45: 78335 | D45: 7833.5 | E45: 58121.143 | F45: 7265.1429 | H45: 50856 | I45: 50856 | J45: 0 | K45: 50856 | O45: =D45/$B45 -> 0.090909091 | P45: =G45/$B45 -> 0 | Q45: =F45/$B45 -> 0.08431321 | R45: =SUM(D45,F45,G45,H45) -> 65954.643 | S45: =B45-R45 -> 20213.857 | T45: =S45/B45 -> 0.23458523
A46: centera_PL_02G | B46: 44002.2 | C46: 40002 | D46: 4000.2 | E46: 16625.143 | F46: 2078.1429 | H46: 14547 | I46: 14547 | J46: 0 | K46: 14547 | O46: =D46/$B46 -> 0.090909091 | P46: =G46/$B46 -> 0 | Q46: =F46/$B46 -> 0.047228158 | R46: =SUM(D46,F46,G46,H46) -> 20625.343 | S46: =B46-R46 -> 23376.857 | T46: =S46/B46 -> 0.53126564
A47: centera_PL_02S | B47: 44003.3 | C47: 40003 | D47: 4000.3 | E47: 16627.429 | F47: 2078.4286 | H47: 14549 | I47: 14549 | J47: 0 | K47: 14549 | O47: =D47/$B47 -> 0.090909091 | P47: =G47/$B47 -> 0 | Q47: =F47/$B47 -> 0.04723347 | R47: =SUM(D47,F47,G47,H47) -> 20627.729 | S47: =B47-R47 -> 23375.571 | T47: =S47/B47 -> 0.53122315
A48: centera_TK_01T | B48: 55559.9 | C48: 50509 | D48: 5050.9 | E48: 54083.429 | F48: 6760.4286 | H48: 47323 | I48: 47323 | J48: 0 | K48: 47323 | O48: =D48/$B48 -> 0.090909091 | P48: =G48/$B48 -> 0 | Q48: =F48/$B48 -> 0.1216782 | R48: =SUM(D48,F48,G48,H48) -> 59134.329 | S48: =B48-R48 -> -3574.4286 | T48: =S48/B48 -> -0.064334683
A49: centera_TK_01Y | B49: 54818.5 | C49: 49835 | D49: 4983.5 | E49: 46635.429 | F49: 5829.4286 | H49: 40806 | I49: 40806 | J49: 0 | K49: 40806 | O49: =D49/$B49 -> 0.090909091 | P49: =G49/$B49 -> 0 | Q49: =F49/$B49 -> 0.10634053 | R49: =SUM(D49,F49,G49,H49) -> 51618.929 | S49: =B49-R49 -> 3199.5714 | T49: =S49/B49 -> 0.058366636
A50: centera_UK_01R | B50: 269577 | C50: 245070 | D50: 24507 | E50: 176035.43 | F50: 22004.429 | H50: 154031 | I50: 154031 | J50: 0 | K50: 154031 | O50: =D50/$B50 -> 0.090909091 | P50: =G50/$B50 -> 0 | Q50: =F50/$B50 -> 0.081625764 | R50: =SUM(D50,F50,G50,H50) -> 200542.43 | S50: =B50-R50 -> 69034.571 | T50: =S50/B50 -> 0.2560848
A51: centera_UK_02R | B51: 116045.6 | C51: 105496 | D51: 10549.6 | E51: 85177.143 | F51: 10647.143 | H51: 74530 | I51: 74530 | J51: 0 | K51: 74530 | O51: =D51/$B51 -> 0.090909091 | P51: =G51/$B51 -> 0 | Q51: =F51/$B51 -> 0.091749647 | R51: =SUM(D51,F51,G51,H51) -> 95726.743 | S51: =B51-R51 -> 20318.857 | T51: =S51/B51 -> 0.17509373
A52: fdc1a-ax4-0023 | B52: 8366.0141 | C52: 7605.4674 | D52: 760.54674 | E52: 7605.4674 | F52: 3602 | G52: 401.46741 | H52: 4003.4674 | I52: 3602 | J52: 401.46741 | K52: 3602 | L52: 1752.405 | M52: 7204 | O52: =D52/$B52 -> 0.090909091 | P52: =G52/$B52 -> 0.047987895 | Q52: =F52/$B52 -> 0.43055151 | R52: =SUM(D52,F52,G52,H52) -> 8767.4816 | S52: =B52-R52 -> -401.46741 | T52: =S52/B52 -> -0.047987895
A53: fdc1a-ax4-0033 | B53: 7862.9051 | C53: 7148.0955 | D53: 714.80955 | E53: 7148.0955 | F53: 3440 | G53: 268.09552 | H53: 3708.0955 | I53: 3602 | J53: 106.09552 | K53: 3602 | M53: 6880 | O53: =D53/$B53 -> 0.090909091 | P53: =G53/$B53 -> 0.034096243 | Q53: =F53/$B53 -> 0.43749733 | R53: =SUM(D53,F53,G53,H53) -> 8131.0006 | S53: =B53-R53 -> -268.09552 | T53: =S53/B53 -> -0.034096243
A54: fdc1a-ax4-0038 | B54: 8366.0141 | C54: 7605.4674 | D54: 760.54674 | E54: 7605.4674 | F54: 3602 | G54: 401.46741 | H54: 4003.4674 | I54: 3602 | J54: 401.46741 | K54: 3602 | L54: 1752.405 | M54: 7204 | O54: =D54/$B54 -> 0.090909091 | P54: =G54/$B54 -> 0.047987895 | Q54: =F54/$B54 -> 0.43055151 | R54: =SUM(D54,F54,G54,H54) -> 8767.4816 | S54: =B54-R54 -> -401.46741 | T54: =S54/B54 -> -0.047987895
A55: fdc1a-ax4-0039 | B55: 7862.9051 | C55: 7148.0955 | D55: 714.80955 | E55: 7148.0955 | F55: 3440 | G55: 268.09552 | H55: 3708.0955 | I55: 3602 | J55: 106.09552 | K55: 3602 | M55: 6880 | O55: =D55/$B55 -> 0.090909091 | P55: =G55/$B55 -> 0.034096243 | Q55: =F55/$B55 -> 0.43749733 | R55: =SUM(D55,F55,G55,H55) -> 8131.0006 | S55: =B55-R55 -> -268.09552 | T55: =S55/B55 -> -0.034096243
A56: fdc1a-ax4-0045 | B56: 8366.0141 | C56: 7605.4674 | D56: 760.54674 | E56: 7605.4674 | F56: 3602 | G56: 401.46741 | H56: 4003.4674 | I56: 3602 | J56: 401.46741 | K56: 3602 | L56: 1752.405 | M56: 7204 | O56: =D56/$B56 -> 0.090909091 | P56: =G56/$B56 -> 0.047987895 | Q56: =F56/$B56 -> 0.43055151 | R56: =SUM(D56,F56,G56,H56) -> 8767.4816 | S56: =B56-R56 -> -401.46741 | T56: =S56/B56 -> -0.047987895
A57: fdc1a-ax4-0055 | B57: 8366.0141 | C57: 7605.4674 | D57: 760.54674 | E57: 7605.4674 | F57: 3602 | G57: 401.46741 | H57: 4003.4674 | I57: 3602 | J57: 401.46741 | K57: 3602 | L57: 1752.405 | M57: 7204 | O57: =D57/$B57 -> 0.090909091 | P57: =G57/$B57 -> 0.047987895 | Q57: =F57/$B57 -> 0.43055151 | R57: =SUM(D57,F57,G57,H57) -> 8767.4816 | S57: =B57-R57 -> -401.46741 | T57: =S57/B57 -> -0.047987895
A58: fdc1a-ax4-0060 | B58: 8366.0141 | C58: 7605.4674 | D58: 760.54674 | E58: 7605.4674 | F58: 3602 | G58: 401.46741 | H58: 4003.4674 | I58: 3602 | J58: 401.46741 | K58: 3602 | L58: 1752.405 | M58: 7204 | O58: =D58/$B58 -> 0.090909091 | P58: =G58/$B58 -> 0.047987895 | Q58: =F58/$B58 -> 0.43055151 | R58: =SUM(D58,F58,G58,H58) -> 8767.4816 | S58: =B58-R58 -> -401.46741 | T58: =S58/B58 -> -0.047987895
A59: fdc1a-ax4-0069 | B59: 4078.9051 | C59: 3708.0955 | D59: 370.80955 | E59: 3708.0955 | F59: 1720 | G59: 268.09552 | H59: 1988.0955 | I59: 1720 | J59: 268.09552 | K59: 1720 | L59: 5411.276 | M59: 3440 | O59: =D59/$B59 -> 0.090909091 | P59: =G59/$B59 -> 0.065727325 | Q59: =F59/$B59 -> 0.42168179 | R59: =SUM(D59,F59,G59,H59) -> 4347.0006 | S59: =B59-R59 -> -268.09552 | T59: =S59/B59 -> -0.065727325
A60: fdc1a-ax4-0092 | B60: 8366.0141 | C60: 7605.4674 | D60: 760.54674 | E60: 7605.4674 | F60: 3602 | G60: 401.46741 | H60: 4003.4674 | I60: 3602 | J60: 401.46741 | K60: 3602 | L60: 1752.405 | M60: 7204 | O60: =D60/$B60 -> 0.090909091 | P60: =G60/$B60 -> 0.047987895 | Q60: =F60/$B60 -> 0.43055151 | R60: =SUM(D60,F60,G60,H60) -> 8767.4816 | S60: =B60-R60 -> -401.46741 | T60: =S60/B60 -> -0.047987895
A61: fdc1a-ax4-0096 | B61: 8366.0141 | C61: 7605.4674 | D61: 760.54674 | E61: 7605.4674 | F61: 3602 | G61: 401.46741 | H61: 4003.4674 | I61: 3602 | J61: 401.46741 | K61: 3602 | L61: 1752.405 | M61: 7204 | O61: =D61/$B61 -> 0.090909091 | P61: =G61/$B61 -> 0.047987895 | Q61: =F61/$B61 -> 0.43055151 | R61: =SUM(D61,F61,G61,H61) -> 8767.4816 | S61: =B61-R61 -> -401.46741 | T61: =S61/B61 -> -0.047987895
A62: fdc1a-ax4-0118 | B62: 8071.1091 | C62: 7337.3719 | D62: 733.73719 | E62: 7337.3719 | F62: 3602 | G62: 133.37189 | H62: 3735.3719 | I62: 3602 | J62: 133.37189 | K62: 3602 | L62: 1752.405 | M62: 7204 | O62: =D62/$B62 -> 0.090909091 | P62: =G62/$B62 -> 0.016524605 | Q62: =F62/$B62 -> 0.44628315 | R62: =SUM(D62,F62,G62,H62) -> 8204.481 | S62: =B62-R62 -> -133.37189 | T62: =S62/B62 -> -0.016524605
A63: fdccentera01 | B63: 28164.4 | C63: 25604 | D63: 2560.4 | E63: 9387.4286 | F63: 1173.4286 | H63: 8214 | I63: 8214 | J63: 0 | K63: 8214 | O63: =D63/$B63 -> 0.090909091 | P63: =G63/$B63 -> 0 | Q63: =F63/$B63 -> 0.041663539 | R63: =SUM(D63,F63,G63,H63) -> 11947.829 | S63: =B63-R63 -> 16216.571 | T63: =S63/B63 -> 0.5757826
A64: pres-ax4-0062 | B64: 23002.583 | C64: 20911.439 | D64: 2091.1439 | E64: 20911.439 | F64: 10455.72 | H64: 10455.72 | I64: 10455.72 | J64: 0 | K64: 10455.72 | M64: 20911.439 | O64: =D64/$B64 -> 0.090909091 | P64: =G64/$B64 -> 0 | Q64: =F64/$B64 -> 0.45454545 | R64: =SUM(D64,F64,G64,H64) -> 23002.583 | S64: =B64-R64 -> 0 | T64: =S64/B64 -> 0
A65: prof-ax4-0054 | B65: 23002.583 | C65: 20911.439 | D65: 2091.1439 | E65: 20911.439 | F65: 10455.72 | H65: 10455.72 | I65: 10455.72 | J65: 0 | K65: 10455.72 | M65: 20911.439 | O65: =D65/$B65 -> 0.090909091 | P65: =G65/$B65 -> 0 | Q65: =F65/$B65 -> 0.45454545 | R65: =SUM(D65,F65,G65,H65) -> 23002.583 | S65: =B65-R65 -> 0 | T65: =S65/B65 -> 0
A66: prof-ax4-0127 | B66: 8847.1453 | C66: 8042.8594 | D66: 804.28594 | E66: 8042.8594 | F66: 4021.4297 | H66: 4021.4297 | I66: 4021.4297 | J66: 0 | K66: 4021.4297 | M66: 8042.8594 | O66: =D66/$B66 -> 0.090909091 | P66: =G66/$B66 -> 0 | Q66: =F66/$B66 -> 0.45454545 | R66: =SUM(D66,F66,G66,H66) -> 8847.1453 | S66: =B66-R66 -> 0 | T66: =S66/B66 -> 0
A67: rdc1-ax4-0021 | B67: 8366.0141 | C67: 7605.4674 | D67: 760.54674 | E67: 7605.4674 | F67: 3602 | G67: 401.46741 | H67: 4003.4674 | I67: 3602 | J67: 401.46741 | K67: 3602 | L67: 1752.405 | M67: 7204 | O67: =D67/$B67 -> 0.090909091 | P67: =G67/$B67 -> 0.047987895 | Q67: =F67/$B67 -> 0.43055151 | R67: =SUM(D67,F67,G67,H67) -> 8767.4816 | S67: =B67-R67 -> -401.46741 | T67: =S67/B67 -> -0.047987895
A68: rdc1-ax4-0023 | B68: 8366.0141 | C68: 7605.4674 | D68: 760.54674 | E68: 7605.4674 | F68: 3602 | G68: 401.46741 | H68: 4003.4674 | I68: 3602 | J68: 401.46741 | K68: 3602 | L68: 1752.405 | M68: 7204 | O68: =D68/$B68 -> 0.090909091 | P68: =G68/$B68 -> 0.047987895 | Q68: =F68/$B68 -> 0.43055151 | R68: =SUM(D68,F68,G68,H68) -> 8767.4816 | S68: =B68-R68 -> -401.46741 | T68: =S68/B68 -> -0.047987895
A69: rdc1-ax4-0024 | B69: 8366.0141 | C69: 7605.4674 | D69: 760.54674 | E69: 7605.4674 | F69: 3602 | G69: 401.46741 | H69: 4003.4674 | I69: 3602 | J69: 401.46741 | K69: 3602 | L69: 1752.405 | M69: 7204 | O69: =D69/$B69 -> 0.090909091 | P69: =G69/$B69 -> 0.047987895 | Q69: =F69/$B69 -> 0.43055151 | R69: =SUM(D69,F69,G69,H69) -> 8767.4816 | S69: =B69-R69 -> -401.46741 | T69: =S69/B69 -> -0.047987895
A70: rdc1-ax4-0026 | B70: 7924.4 | C70: 7204 | D70: 720.4 | E70: 7204 | F70: 3602 | H70: 3602 | I70: 3602 | J70: 0 | K70: 3602 | L70: 1752.405 | M70: 7204 | O70: =D70/$B70 -> 0.090909091 | P70: =G70/$B70 -> 0 | Q70: =F70/$B70 -> 0.45454545 | R70: =SUM(D70,F70,G70,H70) -> 7924.4 | S70: =B70-R70 -> 0 | T70: =S70/B70 -> 0
A71: rdc1-ax4-0033 | B71: 8366.0141 | C71: 7605.4674 | D71: 760.54674 | E71: 7605.4674 | F71: 3602 | G71: 401.46741 | H71: 4003.4674 | I71: 3602 | J71: 401.46741 | K71: 3602 | L71: 1752.405 | M71: 7204 | O71: =D71/$B71 -> 0.090909091 | P71: =G71/$B71 -> 0.047987895 | Q71: =F71/$B71 -> 0.43055151 | R71: =SUM(D71,F71,G71,H71) -> 8767.4816 | S71: =B71-R71 -> -401.46741 | T71: =S71/B71 -> -0.047987895
A72: rdc1-ax4-0034 | B72: 8366.0141 | C72: 7605.4674 | D72: 760.54674 | E72: 7605.4674 | F72: 3602 | G72: 401.46741 | H72: 4003.4674 | I72: 3602 | J72: 401.46741 | K72: 3602 | L72: 1752.405 | M72: 7204 | O72: =D72/$B72 -> 0.090909091 | P72: =G72/$B72 -> 0.047987895 | Q72: =F72/$B72 -> 0.43055151 | R72: =SUM(D72,F72,G72,H72) -> 8767.4816 | S72: =B72-R72 -> -401.46741 | T72: =S72/B72 -> -0.047987895
A73: rdc1-ax4-0040 | B73: 8366.0141 | C73: 7605.4674 | D73: 760.54674 | E73: 7605.4674 | F73: 3602 | G73: 401.46741 | H73: 4003.4674 | I73: 3602 | J73: 401.46741 | K73: 3602 | L73: 1752.405 | M73: 7204 | O73: =D73/$B73 -> 0.090909091 | P73: =G73/$B73 -> 0.047987895 | Q73: =F73/$B73 -> 0.43055151 | R73: =SUM(D73,F73,G73,H73) -> 8767.4816 | S73: =B73-R73 -> -401.46741 | T73: =S73/B73 -> -0.047987895
A74: rdc1-ax4-0042 | B74: 8366.0141 | C74: 7605.4674 | D74: 760.54674 | E74: 7605.4674 | F74: 3602 | G74: 401.46741 | H74: 4003.4674 | I74: 3602 | J74: 401.46741 | K74: 3602 | L74: 1752.405 | M74: 7204 | O74: =D74/$B74 -> 0.090909091 | P74: =G74/$B74 -> 0.047987895 | Q74: =F74/$B74 -> 0.43055151 | R74: =SUM(D74,F74,G74,H74) -> 8767.4816 | S74: =B74-R74 -> -401.46741 | T74: =S74/B74 -> -0.047987895
A75: rdc1-ax4-0082 | B75: 4078.9051 | C75: 3708.0955 | D75: 370.80955 | E75: 3708.0955 | F75: 1720 | G75: 268.09552 | H75: 1988.0955 | I75: 1720 | J75: 268.09552 | K75: 1720 | M75: 3440 | O75: =D75/$B75 -> 0.090909091 | P75: =G75/$B75 -> 0.065727325 | Q75: =F75/$B75 -> 0.42168179 | R75: =SUM(D75,F75,G75,H75) -> 4347.0006 | S75: =B75-R75 -> -268.09552 | T75: =S75/B75 -> -0.065727325
A76: rdc4-ac4-0576 | B76: 20876.676 | C76: 18978.796 | D76: 1897.8796 | E76: 18978.796 | F76: 8964 | G76: 1050.7964 | H76: 10014.796 | I76: 10014.796 | J76: 0 | K76: 10014.796 | M76: 17928 | O76: =D76/$B76 -> 0.090909091 | P76: =G76/$B76 -> 0.050333513 | Q76: =F76/$B76 -> 0.4293787 | R76: =SUM(D76,F76,G76,H76) -> 21927.473 | S76: =B76-R76 -> -1050.7964 | T76: =S76/B76 -> -0.050333513
A77: rdc4-ax4-0006 | B77: 7862.9051 | C77: 7148.0955 | D77: 714.80955 | E77: 7148.0955 | F77: 3440 | G77: 268.09552 | H77: 3708.0955 | I77: 3440 | J77: 268.09552 | K77: 3440 | M77: 6880 | O77: =D77/$B77 -> 0.090909091 | P77: =G77/$B77 -> 0.034096243 | Q77: =F77/$B77 -> 0.43749733 | R77: =SUM(D77,F77,G77,H77) -> 8131.0006 | S77: =B77-R77 -> -268.09552 | T77: =S77/B77 -> -0.034096243
A78: rdc4-ax4-0007 | B78: 7645.6551 | C78: 6950.5955 | D78: 695.05955 | E78: 6950.5955 | F78: 3242.5 | G78: 268.09552 | H78: 3708.0955 | I78: 3708.0955 | J78: 0 | K78: 3708.0955 | M78: 6682.5 | O78: =D78/$B78 -> 0.090909091 | P78: =G78/$B78 -> 0.035065082 | Q78: =F78/$B78 -> 0.42409708 | R78: =SUM(D78,F78,G78,H78) -> 7913.7506 | S78: =B78-R78 -> -268.09552 | T78: =S78/B78 -> -0.035065082
A79: rdc4-cx4-0696 | B79: 147581.6 | C79: 134165.09 | D79: 13416.509 | E79: 134165.09 | F79: 49199.998 | G79: 2885.0948 | H79: 84965.095 | I79: 84965.095 | J79: 0 | K79: 84965.095 | L79: 4343.127 | M79: 131280 | O79: =D79/$B79 -> 0.090909091 | P79: =G79/$B79 -> 0.019549149 | Q79: =F79/$B79 -> 0.33337488 | R79: =SUM(D79,F79,G79,H79) -> 150466.7 | S79: =B79-R79 -> -2885.0948 | T79: =S79/B79 -> -0.019549149
A80: rdccentera01 | B80: 28154.5 | C80: 25595 | D80: 2559.5 | E80: 4720 | F80: 590 | H80: 4130 | I80: 4130 | J80: 0 | K80: 4130 | O80: =D80/$B80 -> 0.090909091 | P80: =G80/$B80 -> 0 | Q80: =F80/$B80 -> 0.020955797 | R80: =SUM(D80,F80,G80,H80) -> 7279.5 | S80: =B80-R80 -> 20875 | T80: =S80/B80 -> 0.74144453
A81: CGCHDS10 | B81: 102000 | C81: 92820 | D81: 9180 | E81: 85486.606 | F81: 10685.826 | G81: 5460 | H81: 74800.78 | I81: 45613.09 | J81: 29187.69 | K81: 53138.16 | M81: 87360 | O81: =D81/$B81 -> 0.09 | P81: =G81/$B81 -> 0.053529412 | Q81: =F81/$B81 -> 0.104763 | R81: =SUM(D81,F81,G81,H81) -> 100126.61 | S81: =B81-R81 -> 1873.3943 | T81: =S81/B81 -> 0.018366611
A82: FDCHDS02 | B82: 159412 | C82: 145064.92 | D82: 14347.08 | E82: 108402.81 | F82: 13550.351 | G82: 2449.72 | H82: 94852.46 | I82: 80673.4 | J82: 14179.06 | K82: 59263 | M82: 142615.2 | O82: =D82/$B82 -> 0.09 | P82: =G82/$B82 -> 0.015367225 | Q82: =F82/$B82 -> 0.085002079 | R82: =SUM(D82,F82,G82,H82) -> 125199.61 | S82: =B82-R82 -> 34212.389 | T82: =S82/B82 -> 0.21461614
A83: FDCHDS03 | B83: 247956 | C83: 225639.96 | D83: 22316.04 | E83: 160967.2 | F83: 20120.9 | G83: 4080.44 | H83: 140846.3 | I83: 75011.42 | J83: 65834.88 | K83: 95669.74 | L83: 69890.587 | M83: 221559.52 | O83: =D83/$B83 -> 0.09 | P83: =G83/$B83 -> 0.016456307 | Q83: =F83/$B83 -> 0.081147058 | R83: =SUM(D83,F83,G83,H83) -> 187363.68 | S83: =B83-R83 -> 60592.32 | T83: =S83/B83 -> 0.24436723
A84: FDCHDS04 | B84: 270000 | C84: 245700 | D84: 24300 | E84: 240489.37 | F84: 30061.171 | G84: 1092 | H84: 210428.2 | I84: 68084.35 | J84: 142343.85 | K84: 261538.96 | M84: 244608 | O84: =D84/$B84 -> 0.09 | P84: =G84/$B84 -> 0.0040444444 | Q84: =F84/$B84 -> 0.11133767 | R84: =SUM(D84,F84,G84,H84) -> 265881.37 | S84: =B84-R84 -> 4118.6286 | T84: =S84/B84 -> 0.01525418
A85: FDCHDS05 | B85: 260400 | C85: 236964 | D85: 23436 | E85: 231894.87 | F85: 28986.859 | G85: 1092 | H85: 202908.01 | I85: 157034.98 | J85: 45873.03 | K85: 246604.44 | M85: 235872 | O85: =D85/$B85 -> 0.09 | P85: =G85/$B85 -> 0.0041935484 | Q85: =F85/$B85 -> 0.11131666 | R85: =SUM(D85,F85,G85,H85) -> 256422.87 | S85: =B85-R85 -> 3977.1314 | T85: =S85/B85 -> 0.015273162
A86: FDCHDS10 | B86: 58800 | C86: 53508 | D86: 5292 | E86: 51533.533 | F86: 12883.383 | G86: 1092 | H86: 38650.15 | I86: 0 | J86: 38650.15 | K86: 0.2 | M86: 52416 | O86: =D86/$B86 -> 0.09 | P86: =G86/$B86 -> 0.018571429 | Q86: =F86/$B86 -> 0.21910516 | R86: =SUM(D86,F86,G86,H86) -> 57917.533 | S86: =B86-R86 -> 882.46667 | T86: =S86/B86 -> 0.015007937
A87: RDCHDS02 | B87: 211912 | C87: 192839.92 | D87: 19072.08 | E87: 122902.09 | F87: 15362.761 | G87: 2176.72 | H87: 107539.33 | I87: 50749.98 | J87: 56789.35 | K87: 54482 | L87: 4068.846 | M87: 190663.2 | O87: =D87/$B87 -> 0.09 | P87: =G87/$B87 -> 0.010271811 | Q87: =F87/$B87 -> 0.072495948 | R87: =SUM(D87,F87,G87,H87) -> 144150.89 | S87: =B87-R87 -> 67761.109 | T87: =S87/B87 -> 0.3197606
A88: RDCHDS03 | B88: 85964 | C88: 78227.24 | D88: 7736.76 | E88: 53680.754 | F88: 6710.0943 | G88: 1903.72 | H88: 46970.66 | I88: 17510.93 | J88: 29459.73 | K88: 22569.57 | L88: 40029.104 | M88: 76323.52 | O88: =D88/$B88 -> 0.09 | P88: =G88/$B88 -> 0.022145549 | Q88: =F88/$B88 -> 0.078057027 | R88: =SUM(D88,F88,G88,H88) -> 63321.234 | S88: =B88-R88 -> 22642.766 | T88: =S88/B88 -> 0.26339823
A89: RDCHDS04 | B89: 270300 | C89: 245973 | D89: 24327 | E89: 190370.08 | F89: 47592.52 | G89: 3549 | H89: 142777.56 | I89: 115389.65 | J89: 27387.91 | K89: 93719.34 | L89: 67720.736 | M89: 242424 | O89: =D89/$B89 -> 0.09 | P89: =G89/$B89 -> 0.013129856 | Q89: =F89/$B89 -> 0.17607296 | R89: =SUM(D89,F89,G89,H89) -> 218246.08 | S89: =B89-R89 -> 52053.92 | T89: =S89/B89 -> 0.19257832
A90: RDCHDS05 | B90: 324000 | C90: 294840 | D90: 29160 | E90: 285077.29 | F90: 35634.661 | G90: 6552 | H90: 249442.63 | I90: 62944.26 | J90: 186498.37 | K90: 162906.14 | M90: 288288 | O90: =D90/$B90 -> 0.09 | P90: =G90/$B90 -> 0.020222222 | Q90: =F90/$B90 -> 0.10998352 | R90: =SUM(D90,F90,G90,H90) -> 320789.29 | S90: =B90-R90 -> 3210.7086 | T90: =S90/B90 -> 0.0099095944
A91: RDCHDS06 | B91: 221700 | C91: 201747 | D91: 19953 | E91: 197544.85 | F91: 24693.106 | G91: 819 | H91: 172851.74 | I91: 93061.95 | J91: 79789.79 | K91: 210022.53 | M91: 200928 | O91: =D91/$B91 -> 0.09 | P91: =G91/$B91 -> 0.0036941813 | Q91: =F91/$B91 -> 0.11138072 | R91: =SUM(D91,F91,G91,H91) -> 218316.85 | S91: =B91-R91 -> 3383.1543 | T91: =S91/B91 -> 0.015260055
A92: RDCHDS10 | B92: 58800 | C92: 53508 | D92: 5292 | E92: 51533.533 | F92: 12883.383 | G92: 1092 | H92: 38650.15 | I92: 534.44 | J92: 38115.71 | K92: 9171.13 | M92: 52416 | O92: =D92/$B92 -> 0.09 | P92: =G92/$B92 -> 0.018571429 | Q92: =F92/$B92 -> 0.21910516 | R92: =SUM(D92,F92,G92,H92) -> 57917.533 | S92: =B92-R92 -> 882.46667 | T92: =S92/B92 -> 0.015007937
A93: XP24000 | B93: 22025.143 | C93: 20022.857 | D93: 2002.2857 | E93: 20022.857 | F93: 2502.8571 | H93: 17520 | I93: 12844 | J93: 4676 | K93: 12844 | O93: =D93/$B93 -> 0.090909091 | P93: =G93/$B93 -> 0 | Q93: =F93/$B93 -> 0.11363636 | R93: =SUM(D93,F93,G93,H93) -> 22025.143 | S93: =B93-R93 -> 0 | T93: =S93/B93 -> 0
A94: XP1024 | B94: 24257.829 | C94: 22052.571 | D94: 2205.2571 | E94: 22052.571 | F94: 2756.5714 | H94: 19296 | I94: 11764 | J94: 7532 | K94: 11764 | O94: =D94/$B94 -> 0.090909091 | P94: =G94/$B94 -> 0 | Q94: =F94/$B94 -> 0.11363636 | R94: =SUM(D94,F94,G94,H94) -> 24257.829 | S94: =B94-R94 -> 0 | T94: =S94/B94 -> 0
A95: GBOKC001N1737 | B95: 922300 | C95: 838454.76 | D95: 83845.239 | E95: 839038 | F95: 419519 | H95: 419519 | I95: 384952 | J95: 34567 | K95: 0 | L95: 68548.764 | O95: =D95/$B95 -> 0.090908857 | P95: =G95/$B95 -> 0 | Q95: =F95/$B95 -> 0.45486176 | R95: =SUM(D95,F95,G95,H95) -> 922883.24 | S95: =B95-R95 -> -583.239 | T95: =S95/B95 -> -0.0006323745
A96: GBOKC002N0390 | B96: 922300 | C96: 838454.76 | D96: 83845.239 | E96: 839038 | F96: 419519 | H96: 419519 | I96: 384952 | J96: 34567 | K96: 0 | L96: 68548.764 | O96: =D96/$B96 -> 0.090908857 | P96: =G96/$B96 -> 0 | Q96: =F96/$B96 -> 0.45486176 | R96: =SUM(D96,F96,G96,H96) -> 922883.24 | S96: =B96-R96 -> -583.239 | T96: =S96/B96 -> -0.0006323745
A97: DEOLC001N0374 | B97: 583722.2 | C97: 530656.54 | D97: 53065.654 | E97: 617910.86 | F97: 77238.857 | H97: 540672 | I97: 0 | J97: 540672 | K97: 0 | L97: 94010.275 | O97: =D97/$B97 -> 0.090909091 | P97: =G97/$B97 -> 0 | Q97: =F97/$B97 -> 0.13232126 | R97: =SUM(D97,F97,G97,H97) -> 670976.51 | S97: =B97-R97 -> -87254.316 | T97: =S97/B97 -> -0.14947918
A98: DEOLC002N0375 | B98: 472031.98 | C98: 429119.99 | D98: 42911.999 | E98: 500882.29 | F98: 62610.286 | H98: 438272 | I98: 0 | J98: 438272 | K98: 0 | L98: 136039.83 | O98: =D98/$B98 -> 0.090909091 | P98: =G98/$B98 -> 0 | Q98: =F98/$B98 -> 0.13263992 | R98: =SUM(D98,F98,G98,H98) -> 543794.28 | S98: =B98-R98 -> -71762.3 | T98: =S98/B98 -> -0.15202847
A99: prof-ax4-0103 | B99: 8847.1453 | C99: 8042.8594 | D99: 804.28594 | E99: 8042.8594 | F99: 4021.4297 | H99: 4021.4297 | I99: 4021.4297 | J99: 0 | K99: 4021.4297 | M99: 8042.8594 | O99: =D99/$B99 -> 0.090909091 | P99: =G99/$B99 -> 0 | Q99: =F99/$B99 -> 0.45454545 | R99: =SUM(D99,F99,G99,H99) -> 8847.1453 | S99: =B99-R99 -> 0 | T99: =S99/B99 -> 0
A100: Grand Total | B100: 14573196 | C100: 13217518 | D100: 1355677.3 | E100: 11473972 | F100: 2848525.5 | G100: 204991.31 | H100: 8625446.5 | I100: 4288084.8 | J100: 4337361.7 | K100: 6016872.3 | L100: 867357.99 | M100: 9174541.7 | O100: =D100/$B100 -> 0.093025396 | P100: =G100/$B100 -> 0.014066326 | Q100: =F100/$B100 -> 0.19546334 | R100: =SUM(D100,F100,G100,H100) -> 13034641 | S100: =B100-R100 -> 1538555 | T100: =S100/B100 -> 0.1055743

Sheet Sheet1
A3: market | F3: =408/450 -> 0.90666667
A4: disk+spare | B4: 218846008 | C4: =B4/1024 -> 213716.8 | D4: =C3*F3 -> 0 | F4: 1
A5: spare | B5: 4466245 | C5: =B5/1024 -> 4361.5674 | F5: =SUM(F3:F4) -> 1.9066667
A6: without spare | C6: =C4-C5 -> 209355.24
