Workbook

Sheet Summary
C1: All Sheets
A3: Sheet Name | B3: Market Standard | C3: Formatted | D3: format Lost | E3: Physical total | F3: Parity Lost | G3: Spare | H3: Pool Usable | I3: Pool Used | J3: Pool Free | K3: %Used | L3: Host Allocations | M3: %Allocated
A4: Final MOR | B4: ='Final MOR'!D33 -> 7318759.5 | C4: ='Final MOR'!E33 -> 6621301.1 | D4: ='Final MOR'!F33 -> 697458.35 | E4: ='Final MOR'!G33 -> 5904024.3 | F4: ='Final MOR'!H33 -> 1200924.1 | G4: ='Final MOR'!I33 -> 136775.18 | H4: ='Final MOR'!J33 -> 4703100.2 | I4: ='Final MOR'!K33 -> 2362085.1 | J4: ='Final MOR'!L33 -> 2341015.1 | K4: =I4/H4 -> 0.50224001 | L4: ='Final MOR'!N33 -> 4531349.1 | M4: =L4/H4 -> 0.9634813
A5: Tech-Refresh | B5: ='Tech-Refresh'!C22 -> 1993306 | C5: ='Tech-Refresh'!D22 -> 1812737.5 | D5: ='Tech-Refresh'!E22 -> 180568.51 | E5: ='Tech-Refresh'!F22 -> 1778188.3 | F5: ='Tech-Refresh'!G22 -> 222273.54 | G5: ='Tech-Refresh'!H22 -> 43814.805 | H5: ='Tech-Refresh'!I22 -> 1555914.8 | I5: ='Tech-Refresh'!J22 -> 457652.65 | J5: ='Tech-Refresh'!K22 -> 1098262.1 | K5: =I5/H5 -> 0.29413735 | L5: ='Tech-Refresh'!M22 -> 1176383.4 | M5: =L5/H5 -> 0.75607189
A6: New Installs | B6: ='New Installs'!C6 -> 715200 | C6: ='New Installs'!D6 -> 649872.81 | D6: ='New Installs'!E6 -> 65327.188 | E6: ='New Installs'!F6 -> 615900 | F6: ='New Installs'!G6 -> 307950 | G6: ='New Installs'!H6 -> 13084.688 | H6: ='New Installs'!I6 -> 307950 | I6: ='New Installs'!J6 -> 6.2 | J6: ='New Installs'!K6 -> 307943.8 | K6: =I6/H6 -> 2.0133138e-05 | L6: ='New Installs'!M6 -> 0 | M6: =L6/H6 -> 0
A7: Unable to Report | B7: ='Unable to Report'!D30 -> 3734330.6 | C7: ='Unable to Report'!E30 -> 3394846 | D7: ='Unable to Report'!F30 -> 339484.6 | E7: ='Unable to Report'!G30 -> 3394846 | F7: ='Unable to Report'!H30 -> 518407.64 | G7: ='Unable to Report'!I30 -> 11298.38 | H7: ='Unable to Report'!J30 -> 2876438.4 | I7: ='Unable to Report'!K30 -> 170403.99 | J7: ='Unable to Report'!L30 -> 2706034.4 | K7: =I7/H7 -> 0.059241313 | L7: ='Unable to Report'!N30 -> 170403.99 | M7: =L7/H7 -> 0.059241313
A8: Total | B8: =SUM(B4:B7) -> 13761596 | C8: =SUM(C4:C7) -> 12478757 | D8: =SUM(D4:D7) -> 1282838.6 | E8: =SUM(E4:E7) -> 11692959 | F8: =SUM(F4:F7) -> 2249555.3 | G8: =SUM(G4:G7) -> 204973.05 | H8: =SUM(H4:H7) -> 9443403.4 | I8: =SUM(I4:I7) -> 2990148 | J8: =SUM(J4:J7) -> 6453255.4 | K8: =I8/H8 -> 0.3166388 | L8: =SUM(L4:L7) -> 5878136.5 | M8: =L8/H8 -> 0.62245954
C10: Exclude the below Sheets from the final MOR Report
A12: Sheet | B12: Market Standard | C12: Formatted | D12: format Lost | E12: Physical total | F12: Parity Lost | G12: Spare | H12: Pool Usable | I12: Pool Used | J12: Pool Free | K12: %Used | L12: Host Allocations | M12: %Allocated
A13: Tech-Refresh | B13: =B5 -> 1993306 | C13: =C5 -> 1812737.5 | D13: =D5 -> 180568.51 | E13: =E5 -> 1778188.3 | F13: =F5 -> 222273.54 | G13: =G5 -> 43814.805 | H13: =H5 -> 1555914.8 | I13: =I5 -> 457652.65 | J13: =J5 -> 1098262.1 | K13: =I13/H13 -> 0.29413735 | L13: =L5 -> 1176383.4 | M13: =L13/H13 -> 0.75607189
A14: New Installs | B14: =B6 -> 715200 | C14: =C6 -> 649872.81 | D14: =D6 -> 65327.188 | E14: =E6 -> 615900 | F14: =F6 -> 307950 | G14: =G6 -> 13084.688 | H14: =H6 -> 307950 | I14: =I6 -> 6.2 | J14: =J6 -> 307943.8 | K14: =I14/H14 -> 2.0133138e-05 | L14: =L6 -> 0 | M14: =L14/H14 -> 0
A15: Unable to Report | B15: =B7 -> 3734330.6 | C15: =C7 -> 3394846 | D15: =D7 -> 339484.6 | E15: =E7 -> 3394846 | F15: =F7 -> 518407.64 | G15: =G7 -> 11298.38 | H15: =H7 -> 2876438.4 | I15: =I7 -> 170403.99 | J15: =J7 -> 2706034.4 | K15: =I15/H15 -> 0.059241313 | L15: =L7 -> 170403.99 | M15: =L15/H15 -> 0.059241313 | O15: Exchange
A16: Total | B16: =SUM(B13:B15) -> 6442836.6 | C16: =SUM(C13:C15) -> 5857456.3 | D16: =SUM(D13:D15) -> 585380.3 | E16: =SUM(E13:E15) -> 5788934.4 | F16: =SUM(F13:F15) -> 1048631.2 | G16: =SUM(G13:G15) -> 68197.873 | H16: =SUM(H13:H15) -> 4740303.2 | I16: =SUM(I13:I15) -> 628062.83 | J16: =SUM(J13:J15) -> 4112240.3 | K16: =I16/H16 -> 0.13249423 | L16: =SUM(L13:L15) -> 1346787.4 | M16: =L16/H16 -> 0.2841142
C18: Final MOR Report
A20: Sheet | B20: Market Standard | C20: Formatted | D20: format Lost | E20: Physical total | F20: Parity Lost | G20: Spare | H20: Pool Usable | I20: Pool Used | J20: Pool Free | K20: %Used | L20: Host Allocations | M20: %Allocated
A21: Final MOR | B21: =B8-B16 -> 7318759.5 | C21: =C8-C16 -> 6621301.1 | D21: =D8-D16 -> 697458.35 | E21: =E8-E16 -> 5904024.3 | F21: =F8-F16 -> 1200924.1 | G21: =G8-G16 -> 136775.18 | H21: =H8-H16 -> 4703100.2 | I21: =I8-I16 -> 2362085.1 | J21: =J8-J16 -> 2341015.1 | K21: =I21/H21 -> 0.50224001 | L21: =L8-L16 -> 4531349.1 | M21: =L21/H21 -> 0.9634813

Sheet Final MOR
A1: Location | B1: Type | C1: Array | D1: Market Standard | E1: Formatted | F1: format Lost | G1: Physical total | H1: Parity Lost | I1: Spare | J1: Pool Usable | K1: Pool Used | L1: Pool Free | M1: %Used | N1: Host Allocations | O1: %Allocated
A2: Swiss | B2: vmax | C2: 377 | D2: 46800 | E2: 42525 | F2: 4275 | G2: 37817.714 | H2: 4727.2143 | I2: 3271 | J2: 33090.5 | K2: 7333.1 | L2: 25757.4 | M2: =K2/J2 -> 0.22160741 | N2: 36650.3 | O2: =N2/J2 -> 1.1075777
A3: Swiss | B3: vmax | C3: 2262 | D3: 75600 | E3: 68695 | F3: 6905 | G3: 63029.714 | H3: 7878.7143 | I3: 3271 | J3: 55151 | K3: 14103.1 | L3: 41047.9 | M3: =K3/J3 -> 0.25571794 | N3: 56947 | O3: =N3/J3 -> 1.0325651
A4: RDC | B4: vmax | C4: 0347 | D4: 588456 | E4: 535316.42 | F4: 53139.582 | G4: 354225.8 | H4: 130154.5 | I4: 10868.48 | J4: 224071.3 | K4: 8789.9 | L4: 215281.4 | M4: =K4/J4 -> 0.039228139 | N4: 95846.3 | O4: =N4/J4 -> 0.42774911 | Q4: FAST installed >6mo
A5: FDC | B5: vmax | C5: 0349 | D5: 588456 | E5: 535316.42 | F5: 53139.582 | G5: 354225.8 | H5: 130154.5 | I5: 10868.48 | J5: 224071.3 | K5: 75144.5 | L5: 148926.8 | M5: =K5/J5 -> 0.33535977 | N5: 218748 | O5: =N5/J5 -> 0.97624283
A6: RDC | B6: vmax | C6: 0552 | D6: 202800 | E6: 184276.02 | F6: 18523.984 | G6: 172019.09 | H6: 21502.386 | I6: 3816.3672 | J6: 150516.7 | K6: 82614.8 | L6: 67901.9 | M6: =K6/J6 -> 0.54887464 | N6: 97374.1 | O6: =N6/J6 -> 0.6469322
A7: cgc | B7: vmax | C7: 0623 | D7: 340268 | E7: 304207.17 | F7: 36060.828 | G7: 285735.31 | H7: 35716.914 | I7: 8209.5469 | J7: 250018.4 | K7: 99639.3 | L7: 150379.1 | M7: =K7/J7 -> 0.39852787 | N7: 169949 | O7: =N7/J7 -> 0.67974597
A8: rdc | B8: vmax | C8: 0678 | D8: 243000 | E8: 220804.1 | F8: 22195.898 | G8: 207998.63 | H8: 25999.829 | I8: 4906.7578 | J8: 181998.8 | K8: 157009.9 | L8: 24988.9 | M8: =K8/J8 -> 0.86269745 | N8: 262762 | O8: =N8/J8 -> 1.4437568
A9: cgc | B9: vmax | C9: 0745 | D9: 202800 | E9: 184276.02 | F9: 18523.984 | G9: 172019.09 | H9: 21502.386 | I9: 3816.3672 | J9: 150516.7 | K9: 83956.6 | L9: 66560.1 | M9: =K9/J9 -> 0.55778927 | N9: 96362.6 | O9: =N9/J9 -> 0.64021202
A10: fdc | B10: vmax | C10: 0879 | D10: 257400 | E10: 233888.79 | F10: 23511.211 | G10: 220604.69 | H10: 27575.586 | I10: 4906.7578 | J10: 193029.1 | K10: 169963.8 | L10: 23065.3 | M10: =K10/J10 -> 0.88050869 | N10: 277512 | O10: =N10/J10 -> 1.4376692
A11: rdc | B11: vmax | C11: 2230 | D11: 227700 | E11: 206901.62 | F11: 20798.379 | G11: 195392.69 | H11: 24424.086 | I11: 4088.9648 | J11: 170968.6 | K11: 113314.3 | L11: 57654.3 | M11: =K11/J11 -> 0.66277843 | N11: 169530 | O11: =N11/J11 -> 0.99158559
A12: fdc | B12: vmax | C12: 2231 | D12: 367200 | E12: 333659.53 | F12: 33540.469 | G12: 315148.57 | H12: 39393.571 | I12: 6542.3438 | J12: 275755 | K12: 209054.6 | L12: 66700.4 | M12: =K12/J12 -> 0.75811717 | N12: 322248 | O12: =N12/J12 -> 1.1686026
A13: fdc | B13: vmax | C13: 2804 | D13: 118400 | E13: 107740.89 | F13: 10659.113 | G13: 94544.686 | H13: 11818.086 | I13: 3643.793 | J13: 82726.6 | K13: 57786.6 | L13: 24940 | M13: =K13/J13 -> 0.69852502 | N13: 126591 | O13: =N13/J13 -> 1.5302333
A14: fdc | B14: vmax | C14: 3004 | D14: 597408 | E14: 527587.59 | F14: 69820.406 | G14: 500822.74 | H14: 62602.843 | I14: 10767.094 | J14: 438219.9 | K14: 198285.4 | L14: 239934.5 | M14: =K14/J14 -> 0.45247922 | N14: 369005 | O14: =N14/J14 -> 0.84205441
A15: rdc | B15: vmax | C15: 3073 | D15: 531872 | E15: 470601.19 | F15: 61270.812 | G15: 445148.57 | H15: 55643.571 | I15: 10767.094 | J15: 389505 | K15: 199059.6 | L15: 190445.4 | M15: =K15/J15 -> 0.51105788 | N15: 445574 | O15: =N15/J15 -> 1.1439494
A16: rdc | B16: vmax | C16: 3286 | D16: 227300 | E16: 206693.84 | F16: 20606.164 | G16: 189089.71 | H16: 23636.214 | I16: 4461.5859 | J16: 165453.5 | K16: 111706.1 | L16: 53747.4 | M16: =K16/J16 -> 0.67515102 | N16: 236575 | O16: =N16/J16 -> 1.4298579
... A20: fdc | B20: vmax | C20: 4652 | D20: 441000 | E20: 400718.55 | F20: 40281.445 | G20: 377963.2 | H20: 188981.6 | I20: 8177.9297 | J20: 188981.6 | K20: 94288.5 | L20: 94693.1 | M20: =K20/J20 -> 0.49892953 | N20: 212038.6 | O20: =N20/J20 -> 1.1220066
A21: Mos | B21: Clariion | C21: pres-ax4-0062 | D21: 23002.583 | E21: 20911.439 | F21: 2091.1439 | G21: 20911.439 | H21: 10455.72 | J21: 10455.72 | K21: 10455.72 | L21: 0 | M21: =K21/J21 -> 1 | N21: 10455.72 | O21: =N21/J21 -> 1
A22: Mos | B22: Clariion | C22: prof-ax4-0054 | D22: 23002.583 | E22: 20911.439 | F22: 2091.1439 | G22: 20911.439 | H22: 10455.72 | J22: 10455.72 | K22: 10455.72 | L22: 0 | M22: =K22/J22 -> 1 | N22: 10455.72 | O22: =N22/J22 -> 1
A23: Mos | B23: Clariion | C23: prof-ax4-0127 | D23: 8847.1453 | E23: 8042.8594 | F23: 804.28594 | G23: 8042.8594 | H23: 4021.4297 | J23: 4021.4297 | K23: 4021.4297 | L23: 0 | M23: =K23/J23 -> 1 | N23: 4021.4297 | O23: =N23/J23 -> 1
A24: Mos | B24: Clariion | C24: FCNMM113000103 | D24: 8847.1453 | E24: 8042.8594 | F24: 804.28594 | G24: 8042.8594 | H24: 4021.4297 | J24: 4021.4297 | K24: 4021.4297 | L24: 0 | M24: =K24/J24 -> 1 | N24: 4021.4297 | O24: =N24/J24 -> 1
A25: cgc | B25: HDS | C25: CGCHDS10 | D25: 102000 | E25: 92820 | F25: 9180 | G25: 85486.606 | H25: 10685.826 | I25: 5460 | J25: 74800.78 | K25: 45613.09 | L25: 29187.69 | M25: =K25/J25 -> 0.60979431 | N25: 53138.16 | O25: =N25/J25 -> 0.7103958
A26: fdc | B26: HDS | C26: FDCHDS04 | D26: 270000 | E26: 245700 | F26: 24300 | G26: 240489.37 | H26: 30061.171 | I26: 1092 | J26: 210428.2 | K26: 68084.35 | L26: 142343.85 | M26: =K26/J26 -> 0.32355145 | N26: 261538.96 | O26: =N26/J26 -> 1.2428893
A27: fdc | B27: HDS | C27: FDCHDS05 | D27: 260400 | E27: 236964 | F27: 23436 | G27: 231894.87 | H27: 28986.859 | I27: 1092 | J27: 202908.01 | K27: 157034.98 | L27: 45873.03 | M27: =K27/J27 -> 0.77392203 | N27: 246604.44 | O27: =N27/J27 -> 1.2153509
A28: fdc | B28: HDS | C28: FDCHDS10 | D28: 58800 | E28: 53508 | F28: 5292 | G28: 51533.533 | H28: 12883.383 | I28: 1092 | J28: 38650.15 | K28: 0 | L28: 38650.15 | M28: =K28/J28 -> 0 | N28: 0.2 | O28: =N28/J28 -> 5.1746242e-06
A29: rdc | B29: HDS | C29: RDCHDS10 | D29: 58800 | E29: 53508 | F29: 5292 | G29: 51533.533 | H29: 12883.383 | I29: 1092 | J29: 38650.15 | K29: 534.44 | L29: 38115.71 | M29: =K29/J29 -> 0.013827631 | N29: 9171.13 | O29: =N29/J29 -> 0.23728575
A30: RDC | B30: HDS | C30: RDCHDS04 | D30: 270300 | E30: 245973 | F30: 24327 | G30: 190370.08 | H30: 47592.52 | I30: 3549 | J30: 142777.56 | K30: 115389.65 | L30: 27387.91 | M30: =K30/J30 -> 0.80817777 | N30: 93719.34 | O30: =N30/J30 -> 0.65640105
A31: rdc | B31: HDS | C31: RDCHDS05 | D31: 324000 | E31: 294840 | F31: 29160 | G31: 285077.29 | H31: 35634.661 | I31: 6552 | J31: 249442.63 | K31: 62944.26 | L31: 186498.37 | M31: =K31/J31 -> 0.25233963 | N31: 162906.14 | O31: =N31/J31 -> 0.65308059
A32: rdc | B32: HDS | C32: RDCHDS06 | D32: 221700 | E32: 201747 | F32: 19953 | G32: 197544.85 | H32: 24693.106 | I32: 819 | J32: 172851.74 | K32: 93061.95 | L32: 79789.79 | M32: =K32/J32 -> 0.53839175 | N32: 210022.53 | O32: =N32/J32 -> 1.2150443
B33: Total | D33: =SUM(D2:D32) -> 7318759.5 | E33: =SUM(E2:E32) -> 6621301.1 | F33: =SUM(F2:F32) -> 697458.35 | G33: =SUM(G2:G32) -> 5904024.3 | H33: =SUM(H2:H32) -> 1200924.1 | I33: =SUM(I2:I32) -> 136775.18 | J33: =SUM(J2:J32) -> 4703100.2 | K33: =SUM(K2:K32) -> 2362085.1 | L33: =SUM(L2:L32) -> 2341015.1 | M33: =K33/J33 -> 0.50224001 | N33: =SUM(N2:N32) -> 4531349.1 | O33: =N33/J33 -> 0.9634813

Sheet Tech-Refresh
A1: Type | B1: Array | C1: Market Standard | D1: Formatted | E1: format Lost | F1: Physical total | G1: Parity Lost | H1: Spare | I1: Pool Usable | J1: Pool Used | K1: Pool Free | L1: %Used | M1: Host Allocations | N1: %Allocated
A2: DMX/STAR | B2: 3336 | C2: 36097.359 | D2: 32815.781 | E2: 3281.5781 | F2: 37503.75 | G2: 4687.9688 | H2: 1093.8594 | I2: 32815.781 | J2: 0.08203125 | K2: 32815.699 | L2: =J2/I2 -> 2.49975e-06 | M2: 32815.699 | N2: =M2/I2 -> 0.9999975 | P2: 000290102838 | Q2: 2094.9121 | R2: 1688.1543
A3: DMX | B3: 3452 | C3: 131725.58 | D3: 119750.52 | E3: 11975.052 | F3: 136857.74 | G3: 17107.218 | H3: 3340.8945 | I3: 119750.52 | J3: 46304.18 | K3: 73446.344 | L3: =J3/I3 -> 0.38667204 | M3: 73446.344 | N3: =M3/I3 -> 0.61332796 | P3: 000290102839 | Q3: 15552.115 | R3: 12783.037
A4: DMX/STAR | B4: 3471 | C4: 36097.359 | D4: 32815.781 | E4: 3281.5781 | F4: 37503.75 | G4: 4687.9688 | H4: 1093.8594 | I4: 32815.781 | J4: 472.25977 | K4: 32343.521 | L4: =J4/I4 -> 0.014391239 | M4: 32343.521 | N4: =M4/I4 -> 0.98560876 | P4: 000290103544 | Q4: 23467.807 | R4: 12240.113
A5: DMX | B5: 3544 | C5: 116387.55 | D5: 105806.86 | E5: 10580.686 | F5: 120922.13 | G5: 15115.266 | H5: 2758.375 | I5: 105806.86 | J5: 3372.5957 | K5: 102434.27 | L5: =J5/I5 -> 0.031875018 | M5: 102434.27 | N5: =M5/I5 -> 0.96812498 | P5: 000290103550 | Q5: 472.25977 | R5: 472.25977
A6: DMX/STAR | B6: 3550 | C6: 72508.58 | D6: 65916.891 | E6: 6591.6891 | F6: 75333.589 | G6: 9416.6987 | H6: 2473.0469 | I6: 65916.891 | J6: 0.22265625 | K6: 65916.668 | L6: =J6/I6 -> 3.377833e-06 | M6: 65916.668 | N6: =M6/I6 -> 0.99999662 | P6: 000290103810 | Q6: 75835.021 | R6: 38406.51
A7: DMX | B7: 3564 | C7: 135842.57 | D7: 123493.25 | E7: 12349.325 | F7: 141135.14 | G7: 17641.892 | H7: 2793.9648 | I7: 123493.25 | J7: 0.046875 | K7: 123493.2 | L7: =J7/I7 -> 3.7957541e-07 | M7: 123493.2 | N7: =M7/I7 -> 0.99999962 | P7: 000290105373 | Q7: 3080.9854 | R7: 3080.9854
A8: DMX | B8: 3720 | C8: 72822.441 | D8: 66202.219 | E8: 6620.2219 | F8: 75659.679 | G8: 9457.4598 | H8: 1652.6523 | I8: 66202.219 | J8: 38642.527 | K8: 27559.691 | L8: =J8/I8 -> 0.58370441 | M8: 27559.691 | N8: =M8/I8 -> 0.41629559 | P8: 000290102819 | Q8: 117773.53 | R8: 35706.256
A9: DMX | B9: 3810 | C9: 145017.16 | D9: 131833.78 | E9: 13183.378 | F9: 150667.18 | G9: 18833.397 | H9: 2877.3125 | I9: 131833.78 | J9: 9005.4629 | K9: 122828.32 | L9: =J9/I9 -> 0.068309221 | M9: 122828.32 | N9: =M9/I9 -> 0.93169078 | P9: 000290103336 | Q9: 0.08203125 | R9: 0.08203125
A10: DMX | B10: 3943 | C10: 147521.34 | D10: 134110.31 | E10: 13411.031 | F10: 153268.93 | G10: 19158.616 | H10: 4470.3438 | I10: 134110.31 | J10: 53512.967 | K10: 80597.346 | L10: =J10/I10 -> 0.39902201 | M10: 80597.346 | N10: =M10/I10 -> 0.60097799 | P10: 000290103452 | Q10: 70654.875 | R10: 46304.18
A11: DMX | B11: 5349 | C11: 25193.97 | D11: 22903.609 | E11: 2290.3609 | F11: 26175.554 | G11: 3271.9442 | H11: 2477.3984 | I11: 22903.609 | J11: 11828.185 | K11: 11075.425 | L11: =J11/I11 -> 0.51643321 | M11: 11075.425 | N11: =M11/I11 -> 0.48356679 | P11: 000290103471 | Q11: 708.27832 | R11: 472.25977
A12: DMX | B12: 5373 | C12: 39390.596 | D12: 35809.633 | E12: 3580.9633 | F12: 40925.295 | G12: 5115.6618 | H12: 3303.8203 | I12: 35809.633 | J12: 1278.7783 | K12: 34530.854 | L12: =J12/I12 -> 0.035710456 | M12: 34530.854 | N12: =M12/I12 -> 0.96428954 | P12: 000290103564 | Q12: 82113.385 | R12: 48594.588
A13: DMX | B13: 2819 | C13: 137686.59 | D13: 125169.62 | E13: 12516.963 | F13: 143051 | G13: 17881.375 | H13: 2514.5684 | I13: 125169.62 | J13: 35706.256 | K13: 89463.369 | L13: =J13/I13 -> 0.28526295 | M13: 89463.369 | N13: =M13/I13 -> 0.71473705 | P13: 000290103720 | Q13: 76677.941 | R13: 38642.527
A14: DMX | B14: 2838 | C14: 72979.371 | D14: 66344.883 | E14: 6634.4883 | F14: 75822.723 | G14: 9477.8404 | H14: 1248.3867 | I14: 66344.883 | J14: 474.34961 | K14: 65870.533 | L14: =J14/I14 -> 0.0071497543 | M14: 65870.533 | N14: =M14/I14 -> 0.99285025 | P14: 000290103943 | Q14: 81333.627 | R14: 53512.967
A15: DMX | B15: 2839 | C15: 72508.58 | D15: 65916.891 | E15: 6591.6891 | F15: 75333.589 | G15: 9416.6987 | H15: 1105.7227 | I15: 65916.891 | J15: 8501.0039 | K15: 57415.887 | L15: =J15/I15 -> 0.12896549 | M15: 57415.887 | N15: =M15/I15 -> 0.87103451 | P15: 000290105349 | Q15: 11828.185 | R15: 11828.185
A16: HDS | B16: FDCHDS02 | C16: 159412 | D16: 145064.92 | E16: 14347.08 | F16: 108402.81 | G16: 13550.351 | H16: 2449.72 | I16: 94852.46 | J16: 80673.4 | K16: 14179.06 | L16: =J16/I16 -> 0.85051458 | M16: 59263 | N16: =M16/I16 -> 0.62479139 | P16: 000290105364 | Q16: 0.046875 | R16: 0.046875
A17: HDS | B17: RDCHDS02 | C17: 211912 | D17: 192839.92 | E17: 19072.08 | F17: 122902.09 | G17: 15362.761 | H17: 2176.72 | I17: 107539.33 | J17: 50749.98 | K17: 56789.35 | L17: =J17/I17 -> 0.47192018 | M17: 54482 | N17: =M17/I17 -> 0.50662395
A18: HDS | B18: FDCHDS03 | C18: 247956 | D18: 225639.96 | E18: 22316.04 | F18: 160967.2 | G18: 20120.9 | H18: 4080.44 | I18: 140846.3 | J18: 75011.42 | K18: 65834.88 | L18: =J18/I18 -> 0.53257643 | M18: 95669.74 | N18: =M18/I18 -> 0.67924922
A19: HDS | B19: RDCHDS03 | C19: 85964 | D19: 78227.24 | E19: 7736.76 | F19: 53680.754 | G19: 6710.0943 | H19: 1903.72 | I19: 46970.66 | J19: 17510.93 | K19: 29459.73 | L19: =J19/I19 -> 0.3728057 | M19: 22569.57 | N19: =M19/I19 -> 0.48050357
A20: HP/HDS | B20: XP24000 | C20: 22025.143 | D20: 20022.857 | E20: 2002.2857 | F20: 20022.857 | G20: 2502.8571 | I20: 17520 | J20: 12844 | K20: 4676 | L20: =J20/I20 -> 0.73310502 | M20: 12844 | N20: =M20/I20 -> 0.73310502
A21: HP/HDS | B21: XP1024 | C21: 24257.829 | D21: 22052.571 | E21: 2205.2571 | F21: 22052.571 | G21: 2756.5714 | I21: 19296 | J21: 11764 | K21: 7532 | L21: =J21/I21 -> 0.60966003 | M21: 11764 | N21: =M21/I21 -> 0.60966003
B22: Total | C22: =SUM(C2:C21) -> 1993306 | D22: =SUM(D2:D21) -> 1812737.5 | E22: =SUM(E2:E21) -> 180568.51 | F22: =SUM(F2:F21) -> 1778188.3 | G22: =SUM(G2:G21) -> 222273.54 | H22: =SUM(H2:H21) -> 43814.805 | I22: =SUM(I2:I21) -> 1555914.8 | J22: =SUM(J2:J21) -> 457652.65 | K22: =SUM(K2:K21) -> 1098262.1 | L22: =J22/I22 -> 0.29413735 | M22: =SUM(M2:M21) -> 1176383.4 | N22: =M22/I22 -> 0.75607189
J27: 457652.65

Sheet New Installs
A1: Type | B1: Array | C1: Market Standard | D1: Formatted | E1: format Lost | F1: Physical total | G1: Parity Lost | H1: Spare | I1: Pool Usable | J1: Pool Used | K1: Pool Free | L1: %Used | M1: Host Allocations | N1: %Allocated
A2: vmax | B2: 667 | C2: 235200 | D2: 213716.56 | E2: 21483.438 | F2: 200650 | G2: 100325 | H2: 4361.5625 | I2: 100325 | J2: 3.1 | K2: 100321.9 | L2: =J2/I2 -> 3.0899576e-05 | M2: 0 | N2: =M2/I2 -> 0
A3: vmax | B3: 671 | C3: 480000 | D3: 436156.25 | E3: 43843.75 | F3: 415250 | G3: 207625 | H3: 8723.125 | I3: 207625 | J3: 3.1 | K3: 207621.9 | L3: =J3/I3 -> 1.4930765e-05 | M3: 0 | N3: =M3/I3 -> 0
A6: Total | C6: =SUM(C2:C3) -> 715200 | D6: =SUM(D2:D3) -> 649872.81 | E6: =SUM(E2:E3) -> 65327.188 | F6: =SUM(F2:F3) -> 615900 | G6: =SUM(G2:G3) -> 307950 | H6: =SUM(H2:H3) -> 13084.688 | I6: =SUM(I2:I3) -> 307950 | J6: =SUM(J2:J3) -> 6.2 | K6: =SUM(K2:K3) -> 307943.8 | L6: =J6/I6 -> 2.0133138e-05 | M6: =SUM(M2:M3) -> 0 | N6: =M6/I6 -> 0

Sheet Centera
A1: Type | B1: Array | C1: Market Standard | D1: Formatted | E1: format Lost | F1: Physical total | G1: Parity Lost | H1: Spare | I1: Pool Usable | J1: Pool Used | K1: Pool Free | L1: %Used | M1: Host Allocations | N1: %Allocated
A2: Centera | B2: centera_CH_01E | C2: 50688 | D2: 46080 | E2: 4608 | F2: 15213.714 | G2: 1901.7143 | I2: 13312 | J2: 13312 | K2: 0 | L2: =J2/I2 -> 1 | M2: 13312 | N2: =M2/I2 -> 1
A3: Centera | B3: centera_CH_01R | C3: 50688 | D3: 46080 | E3: 4608 | F3: 19894.857 | G3: 2486.8571 | I3: 17408 | J3: 17408 | K3: 0 | L3: =J3/I3 -> 1 | M3: 17408 | N3: =M3/I3 -> 1
A4: Centera | B4: centera_DE_01F | C4: 272923.2 | D4: 248112 | E4: 24811.2 | F4: 176107.43 | G4: 22013.429 | I4: 154094 | J4: 154094 | K4: 0 | L4: =J4/I4 -> 1 | M4: 154094 | N4: =M4/I4 -> 1
A5: Centera | B5: centera_DE_02F | C5: 109422.5 | D5: 99475 | E5: 9947.5 | F5: 82211.429 | G5: 10276.429 | I5: 71935 | J5: 71935 | K5: 0 | L5: =J5/I5 -> 1 | M5: 71935 | N5: =M5/I5 -> 1
A6: Centera | B6: centera_PL_01G | C6: 64930.8 | D6: 59028 | E6: 5902.8 | F6: 55448 | G6: 6931 | I6: 48517 | J6: 48517 | K6: 0 | L6: =J6/I6 -> 1 | M6: 48517 | N6: =M6/I6 -> 1
A7: Centera | B7: centera_PL_01S | C7: 86168.5 | D7: 78335 | E7: 7833.5 | F7: 58121.143 | G7: 7265.1429 | I7: 50856 | J7: 50856 | K7: 0 | L7: =J7/I7 -> 1 | M7: 50856 | N7: =M7/I7 -> 1
A8: Centera | B8: centera_PL_02G | C8: 44002.2 | D8: 40002 | E8: 4000.2 | F8: 16625.143 | G8: 2078.1429 | I8: 14547 | J8: 14547 | K8: 0 | L8: =J8/I8 -> 1 | M8: 14547 | N8: =M8/I8 -> 1
A9: Centera | B9: centera_PL_02S | C9: 44003.3 | D9: 40003 | E9: 4000.3 | F9: 16627.429 | G9: 2078.4286 | I9: 14549 | J9: 14549 | K9: 0 | L9: =J9/I9 -> 1 | M9: 14549 | N9: =M9/I9 -> 1
A10: Centera | B10: centera_TK_01T | C10: 55559.9 | D10: 50509 | E10: 5050.9 | F10: 54083.429 | G10: 6760.4286 | I10: 47323 | J10: 47323 | K10: 0 | L10: =J10/I10 -> 1 | M10: 47323 | N10: =M10/I10 -> 1
A11: Centera | B11: centera_TK_01Y | C11: 54818.5 | D11: 49835 | E11: 4983.5 | F11: 46635.429 | G11: 5829.4286 | I11: 40806 | J11: 40806 | K11: 0 | L11: =J11/I11 -> 1 | M11: 40806 | N11: =M11/I11 -> 1
A12: Centera | B12: centera_UK_01R | C12: 269577 | D12: 245070 | E12: 24507 | F12: 176035.43 | G12: 22004.429 | I12: 154031 | J12: 154031 | K12: 0 | L12: =J12/I12 -> 1 | M12: 154031 | N12: =M12/I12 -> 1
A13: Centera | B13: centera_UK_02R | C13: 116045.6 | D13: 105496 | E13: 10549.6 | F13: 85177.143 | G13: 10647.143 | I13: 74530 | J13: 74530 | K13: 0 | L13: =J13/I13 -> 1 | M13: 74530 | N13: =M13/I13 -> 1
... A15: Centera | B15: rdccentera01 | C15: 28154.5 | D15: 25595 | E15: 2559.5 | F15: 4720 | G15: 590 | I15: 4130 | J15: 4130 | K15: 0 | L15: =J15/I15 -> 1 | M15: 4130 | N15: =M15/I15 -> 1
A16: Total | C16: =SUM(C2:C15) -> 1275146.4 | D16: =SUM(D2:D15) -> 1159224 | E16: =SUM(E2:E15) -> 115922.4 | F16: =SUM(F2:F15) -> 816288 | G16: =SUM(G2:G15) -> 102036 | H16: =SUM(H2:H15) -> 0 | I16: =SUM(I2:I15) -> 714252 | J16: =SUM(J2:J15) -> 714252 | K16: =SUM(K2:K15) -> 0 | L16: =J16/I16 -> 1 | M16: =SUM(M2:M15) -> 714252 | N16: =M16/I16 -> 1

Sheet Unable to Report
B1: Type | C1: Array | D1: Market Standard | E1: Formatted | F1: format Lost | G1: Physical total | H1: Parity Lost | I1: Spare | J1: Pool Usable | K1: Pool Used | L1: Pool Free | M1: %Used | N1: Host Allocations | O1: %Allocated
B2: Clariion | C2: fdc1a-ax4-0023 | D2: 8366.0141 | E2: 7605.4674 | F2: 760.54674 | G2: 7605.4674 | H2: 3602 | I2: 401.46741 | J2: 4003.4674 | K2: 3602 | L2: 401.46741 | M2: =K2/J2 -> 0.89972008 | N2: 3602 | O2: =N2/J2 -> 0.89972008
B3: Clariion | C3: fdc1a-ax4-0033 | D3: 7862.9051 | E3: 7148.0955 | F3: 714.80955 | G3: 7148.0955 | H3: 3440 | I3: 268.09552 | J3: 3708.0955 | K3: 3602 | L3: 106.09552 | M3: =K3/J3 -> 0.97138814 | N3: 3602 | O3: =N3/J3 -> 0.97138814
B4: Clariion | C4: fdc1a-ax4-0038 | D4: 8366.0141 | E4: 7605.4674 | F4: 760.54674 | G4: 7605.4674 | H4: 3602 | I4: 401.46741 | J4: 4003.4674 | K4: 3602 | L4: 401.46741 | M4: =K4/J4 -> 0.89972008 | N4: 3602 | O4: =N4/J4 -> 0.89972008
B5: Clariion | C5: fdc1a-ax4-0039 | D5: 7862.9051 | E5: 7148.0955 | F5: 714.80955 | G5: 7148.0955 | H5: 3440 | I5: 268.09552 | J5: 3708.0955 | K5: 3602 | L5: 106.09552 | M5: =K5/J5 -> 0.97138814 | N5: 3602 | O5: =N5/J5 -> 0.97138814
B6: Clariion | C6: fdc1a-ax4-0045 | D6: 8366.0141 | E6: 7605.4674 | F6: 760.54674 | G6: 7605.4674 | H6: 3602 | I6: 401.46741 | J6: 4003.4674 | K6: 3602 | L6: 401.46741 | M6: =K6/J6 -> 0.89972008 | N6: 3602 | O6: =N6/J6 -> 0.89972008
B7: Clariion | C7: fdc1a-ax4-0055 | D7: 8366.0141 | E7: 7605.4674 | F7: 760.54674 | G7: 7605.4674 | H7: 3602 | I7: 401.46741 | J7: 4003.4674 | K7: 3602 | L7: 401.46741 | M7: =K7/J7 -> 0.89972008 | N7: 3602 | O7: =N7/J7 -> 0.89972008
B8: Clariion | C8: fdc1a-ax4-0060 | D8: 8366.0141 | E8: 7605.4674 | F8: 760.54674 | G8: 7605.4674 | H8: 3602 | I8: 401.46741 | J8: 4003.4674 | K8: 3602 | L8: 401.46741 | M8: =K8/J8 -> 0.89972008 | N8: 3602 | O8: =N8/J8 -> 0.89972008
B9: Clariion | C9: fdc1a-ax4-0069 | D9: 4078.9051 | E9: 3708.0955 | F9: 370.80955 | G9: 3708.0955 | H9: 1720 | I9: 268.09552 | J9: 1988.0955 | K9: 1720 | L9: 268.09552 | M9: =K9/J9 -> 0.86514958 | N9: 1720 | O9: =N9/J9 -> 0.86514958
B10: Clariion | C10: fdc1a-ax4-0092 | D10: 8366.0141 | E10: 7605.4674 | F10: 760.54674 | G10: 7605.4674 | H10: 3602 | I10: 401.46741 | J10: 4003.4674 | K10: 3602 | L10: 401.46741 | M10: =K10/J10 -> 0.89972008 | N10: 3602 | O10: =N10/J10 -> 0.89972008
B11: Clariion | C11: fdc1a-ax4-0096 | D11: 8366.0141 | E11: 7605.4674 | F11: 760.54674 | G11: 7605.4674 | H11: 3602 | I11: 401.46741 | J11: 4003.4674 | K11: 3602 | L11: 401.46741 | M11: =K11/J11 -> 0.89972008 | N11: 3602 | O11: =N11/J11 -> 0.89972008
B12: Clariion | C12: fdc1a-ax4-0118 | D12: 8071.1091 | E12: 7337.3719 | F12: 733.73719 | G12: 7337.3719 | H12: 3602 | I12: 133.37189 | J12: 3735.3719 | K12: 3602 | L12: 133.37189 | M12: =K12/J12 -> 0.96429488 | N12: 3602 | O12: =N12/J12 -> 0.96429488
B13: Clariion | C13: rdc1-ax4-0021 | D13: 8366.0141 | E13: 7605.4674 | F13: 760.54674 | G13: 7605.4674 | H13: 3602 | I13: 401.46741 | J13: 4003.4674 | K13: 3602 | L13: 401.46741 | M13: =K13/J13 -> 0.89972008 | N13: 3602 | O13: =N13/J13 -> 0.89972008
... B15: Clariion | C15: rdc1-ax4-0024 | D15: 8366.0141 | E15: 7605.4674 | F15: 760.54674 | G15: 7605.4674 | H15: 3602 | I15: 401.46741 | J15: 4003.4674 | K15: 3602 | L15: 401.46741 | M15: =K15/J15 -> 0.89972008 | N15: 3602 | O15: =N15/J15 -> 0.89972008
B16: Clariion | C16: rdc1-ax4-0026 | D16: 7924.4 | E16: 7204 | F16: 720.4 | G16: 7204 | H16: 3602 | J16: 3602 | K16: 3602 | L16: 0 | M16: =K16/J16 -> 1 | N16: 3602 | O16: =N16/J16 -> 1
B17: Clariion | C17: rdc1-ax4-0033 | D17: 8366.0141 | E17: 7605.4674 | F17: 760.54674 | G17: 7605.4674 | H17: 3602 | I17: 401.46741 | J17: 4003.4674 | K17: 3602 | L17: 401.46741 | M17: =K17/J17 -> 0.89972008 | N17: 3602 | O17: =N17/J17 -> 0.89972008
B18: Clariion | C18: rdc1-ax4-0034 | D18: 8366.0141 | E18: 7605.4674 | F18: 760.54674 | G18: 7605.4674 | H18: 3602 | I18: 401.46741 | J18: 4003.4674 | K18: 3602 | L18: 401.46741 | M18: =K18/J18 -> 0.89972008 | N18: 3602 | O18: =N18/J18 -> 0.89972008
B19: Clariion | C19: rdc1-ax4-0040 | D19: 8366.0141 | E19: 7605.4674 | F19: 760.54674 | G19: 7605.4674 | H19: 3602 | I19: 401.46741 | J19: 4003.4674 | K19: 3602 | L19: 401.46741 | M19: =K19/J19 -> 0.89972008 | N19: 3602 | O19: =N19/J19 -> 0.89972008
B20: Clariion | C20: rdc1-ax4-0042 | D20: 8366.0141 | E20: 7605.4674 | F20: 760.54674 | G20: 7605.4674 | H20: 3602 | I20: 401.46741 | J20: 4003.4674 | K20: 3602 | L20: 401.46741 | M20: =K20/J20 -> 0.89972008 | N20: 3602 | O20: =N20/J20 -> 0.89972008
B21: Clariion | C21: rdc1-ax4-0082 | D21: 4078.9051 | E21: 3708.0955 | F21: 370.80955 | G21: 3708.0955 | H21: 1720 | I21: 268.09552 | J21: 1988.0955 | K21: 1720 | L21: 268.09552 | M21: =K21/J21 -> 0.86514958 | N21: 1720 | O21: =N21/J21 -> 0.86514958
B22: Clariion | C22: rdc4-ac4-0576 | D22: 20876.676 | E22: 18978.796 | F22: 1897.8796 | G22: 18978.796 | H22: 8964 | I22: 1050.7964 | J22: 10014.796 | K22: 10014.796 | L22: 0 | M22: =K22/J22 -> 1 | N22: 10014.796 | O22: =N22/J22 -> 1
B23: Clariion | C23: rdc4-ax4-0006 | D23: 7862.9051 | E23: 7148.0955 | F23: 714.80955 | G23: 7148.0955 | H23: 3440 | I23: 268.09552 | J23: 3708.0955 | K23: 3440 | L23: 268.09552 | M23: =K23/J23 -> 0.92769994 | N23: 3440 | O23: =N23/J23 -> 0.92769994
B24: Clariion | C24: rdc4-ax4-0007 | D24: 7645.6551 | E24: 6950.5955 | F24: 695.05955 | G24: 6950.5955 | H24: 3242.5 | I24: 268.09552 | J24: 3708.0955 | K24: 3708.0955 | L24: 0 | M24: =K24/J24 -> 1 | N24: 3708.0955 | O24: =N24/J24 -> 1
B25: Clariion | C25: rdc4-cx4-0696 | D25: 147581.6 | E25: 134165.09 | F25: 13416.509 | G25: 134165.09 | H25: 49199.998 | I25: 2885.0948 | J25: 84965.095 | K25: 84965.095 | L25: 0 | M25: =K25/J25 -> 1 | N25: 84965.095 | O25: =N25/J25 -> 1
B26: VNX | C26: GBOKC001N1737 | D26: 1081344 | E26: 983040 | F26: 98304 | G26: 983040 | H26: 122880 | J26: 860160 | K26: 0 | L26: 860160 | M26: =K26/J26 -> 0 | N26: 0 | O26: =N26/J26 -> 0
B27: VNX | C27: GBOKC002N0390 | D27: 1081344 | E27: 983040 | F27: 98304 | G27: 983040 | H27: 122880 | J27: 860160 | K27: 0 | L27: 860160 | M27: =K27/J27 -> 0 | N27: 0 | O27: =N27/J27 -> 0
B28: VNX | C28: DEOLC001N0374 | D28: 679701.94 | E28: 617910.86 | F28: 61791.086 | G28: 617910.86 | H28: 77238.857 | J28: 540672 | K28: 0 | L28: 540672 | M28: =K28/J28 -> 0 | N28: 0 | O28: =N28/J28 -> 0
B29: VNX | C29: DEOLC002N0375 | D29: 550970.51 | E29: 500882.29 | F29: 50088.229 | G29: 500882.29 | H29: 62610.286 | J29: 438272 | K29: 0 | L29: 438272 | M29: =K29/J29 -> 0 | N29: 0 | O29: =N29/J29 -> 0
C30: Total | D30: =SUM(D1:D29) -> 3734330.6 | E30: =SUM(E1:E29) -> 3394846 | F30: =SUM(F1:F29) -> 339484.6 | G30: =SUM(G1:G29) -> 3394846 | H30: =SUM(H1:H29) -> 518407.64 | I30: =SUM(I1:I29) -> 11298.38 | J30: =SUM(J1:J29) -> 2876438.4 | K30: =SUM(K1:K29) -> 170403.99 | L30: =SUM(L1:L29) -> 2706034.4 | M30: =K30/J30 -> 0.059241313 | N30: =SUM(N1:N29) -> 170403.99 | O30: =N30/J30 -> 0.059241313

Sheet MOR Report Purpose
A1: Location | B1: Raw installed (TB) | C1: Usable Installed (TB) | D1: Used Installed (TB) | E1: Allocated (TB) | F1: Percent Allocated (Allocated Usable) | G1: Percent Used (Used/Usable | I1: Row Labels | J1: Sum of Physical total | K1: Sum of Pool Usable | L1: Sum of Pool Used | M1: Sum of Host Allocations | N1: Percent Allocated (Allocated Usable) | O1: Percent Used (Used/Usable
A2: Swiss | B2: =SUMIF('Final MOR'!A:A,A2,'Final MOR'!G:G)/1024 -> 98.483817 | C2: =SUMIF('Final MOR'!A:A,A2,'Final MOR'!J:J)/1024 -> 86.17334 | D2: =SUMIF('Final MOR'!A:A,A2,'Final MOR'!K:K)/1024 -> 20.933789 | E2: =SUMIF('Final MOR'!A:A,A2,'Final MOR'!N:N)/1024 -> 91.403613 | F2: =E2/C2 -> 1.0606948 | G2: =D2/C2 -> 0.24292651 | I2: cgc | J2: 543241.01 | K2: 475335.88 | L2: 229208.99 | M2: 319449.76 | N2: =M2/K2 -> 0.67205059 | O2: =L2/K2 -> 0.48220427
A3: RDC | B3: =SUMIF('Final MOR'!A:A,A3,'Final MOR'!G:G)/1024 -> 2656.4992 | C3: =SUMIF('Final MOR'!A:A,A3,'Final MOR'!J:J)/1024 -> 2122.1407 | D3: =SUMIF('Final MOR'!A:A,A3,'Final MOR'!K:K)/1024 -> 1011.737 | E3: =SUMIF('Final MOR'!A:A,A3,'Final MOR'!N:N)/1024 -> 1952.3604 | F3: =E3/C3 -> 0.91999573 | G3: =D3/C3 -> 0.47675303 | I3: HDS | J3: 85486.606 | K3: 74800.78 | L3: 45613.09 | M3: 53138.16 | N3: =M3/K3 -> 0.7103958 | O3: =L3/K3 -> 0.60979431
A4: FDC | B4: =SUMIF('Final MOR'!A:A,A4,'Final MOR'!G:G)/1024 -> 2423.6056 | C4: =SUMIF('Final MOR'!A:A,A4,'Final MOR'!J:J)/1024 -> 1892.0864 | D4: =SUMIF('Final MOR'!A:A,A4,'Final MOR'!K:K)/1024 -> 1021.9404 | E4: =SUMIF('Final MOR'!A:A,A4,'Final MOR'!N:N)/1024 -> 2041.1433 | F4: =E4/C4 -> 1.0787791 | G4: =D4/C4 -> 0.54011295 | I4: vmax | J4: 457754.4 | K4: 400535.1 | L4: 183595.9 | M4: 266311.6 | N4: =M4/K4 -> 0.66488954 | O4: =L4/K4 -> 0.45837656
A5: cgc | B5: =SUMIF('Final MOR'!A:A,A5,'Final MOR'!G:G)/1024 -> 530.50879 | C5: =SUMIF('Final MOR'!A:A,A5,'Final MOR'!J:J)/1024 -> 464.1952 | D5: =SUMIF('Final MOR'!A:A,A5,'Final MOR'!K:K)/1024 -> 223.8369 | E5: =SUMIF('Final MOR'!A:A,A5,'Final MOR'!N:N)/1024 -> 311.96266 | F5: =E5/C5 -> 0.67205059 | G5: =D5/C5 -> 0.48220427 | I5: FDC | J5: 2481772.1 | K5: 1937496.5 | L5: 1046466.9 | M5: 2090130.7 | N5: =M5/K5 -> 1.0787791 | O5: =L5/K5 -> 0.54011295
A6: Mos | B6: =SUMIF('Final MOR'!A:A,A6,'Final MOR'!G:G)/1024 -> 56.551365 | C6: =SUMIF('Final MOR'!A:A,A6,'Final MOR'!J:J)/1024 -> 28.275682 | D6: =SUMIF('Final MOR'!A:A,A6,'Final MOR'!K:K)/1024 -> 28.275682 | E6: =SUMIF('Final MOR'!A:A,A6,'Final MOR'!N:N)/1024 -> 28.275682 | F6: =E6/C6 -> 1 | G6: =D6/C6 -> 1 | I6: HDS | J6: 523917.77 | K6: 451986.36 | L6: 225119.33 | M6: 508143.6 | N6: =M6/K6 -> 1.1242454 | O6: =L6/K6 -> 0.49806665
A7: Total | B7: =SUM(B2:B6) -> 5765.6488 | C7: =SUM(C2:C6) -> 4592.8713 | D7: =SUM(D2:D6) -> 2306.7237 | E7: =SUM(E2:E6) -> 4425.1456 | F7: =E7/C7 -> 0.9634813 | G7: =D7/C7 -> 0.50224001 | I7: vmax | J7: 1957854.4 | K7: 1485510.1 | L7: 821347.6 | M7: 1581987.1 | N7: =M7/K7 -> 1.0649454 | O7: =L7/K7 -> 0.5529061
I8: RDC | J8: 2720255.2 | K8: 2173072.1 | L8: 1036018.7 | M8: 1999217 | N8: =M8/K8 -> 0.91999573 | O8: =L8/K8 -> 0.47675303
I9: HDS | J9: 724525.75 | K9: 603722.08 | L9: 271930.3 | M9: 475819.14 | N9: =M9/K9 -> 0.78814268 | O9: =L9/K9 -> 0.45042298
A10: Location | B10: Raw installed (TB) | C10: Usable Installed (TB) | D10: Used Installed (TB) | E10: Allocated (TB) | F10: Percent Allocated (Allocated Usable) | G10: Percent Used (Used/Usable | I10: vmax | J10: 1995729.4 | K10: 1569350 | L10: 764088.4 | M10: 1523397.9 | N10: =M10/K10 -> 0.97071902 | O10: =L10/K10 -> 0.48688208
A11: vmax | B11: =SUMIF('Final MOR'!B:B,A11,'Final MOR'!G:G)/1024 -> 4406.4313 | C11: =SUMIF('Final MOR'!B:B,A11,'Final MOR'!J:J)/1024 -> 3460.5827 | D11: =SUMIF('Final MOR'!B:B,A11,'Final MOR'!K:K)/1024 -> 1748.504 | E11: =SUMIF('Final MOR'!B:B,A11,'Final MOR'!N:N)/1024 -> 3384.0761 | F11: =E11/C11 -> 0.97789198 | G11: =D11/C11 -> 0.50526288 | I11: Swiss | J11: 100847.43 | K11: 88241.5 | L11: 21436.2 | M11: 93597.3 | N11: =M11/K11 -> 1.0606948 | O11: =L11/K11 -> 0.24292651
A12: HDS | B12: =SUMIF('Final MOR'!B:B,A12,'Final MOR'!G:G)/1024 -> 1302.6661 | C12: =SUMIF('Final MOR'!B:B,A12,'Final MOR'!J:J)/1024 -> 1104.0129 | D12: =SUMIF('Final MOR'!B:B,A12,'Final MOR'!K:K)/1024 -> 529.94406 | E12: =SUMIF('Final MOR'!B:B,A12,'Final MOR'!N:N)/1024 -> 1012.7938 | F12: =E12/C12 -> 0.917375 | G12: =D12/C12 -> 0.48001618 | I12: vmax | J12: 100847.43 | K12: 88241.5 | L12: 21436.2 | M12: 93597.3 | N12: =M12/K12 -> 1.0606948 | O12: =L12/K12 -> 0.24292651
A13: Clariion | B13: =SUMIF('Final MOR'!B:B,A13,'Final MOR'!G:G)/1024 -> 56.551365 | C13: =SUMIF('Final MOR'!B:B,A13,'Final MOR'!J:J)/1024 -> 28.275682 | D13: =SUMIF('Final MOR'!B:B,A13,'Final MOR'!K:K)/1024 -> 28.275682 | E13: =SUMIF('Final MOR'!B:B,A13,'Final MOR'!N:N)/1024 -> 28.275682 | F13: =E13/C13 -> 1 | G13: =D13/C13 -> 1 | I13: Mos | J13: 57908.598 | K13: 28954.299 | L13: 28954.299 | M13: 28954.299 | N13: =M13/K13 -> 1 | O13: =L13/K13 -> 1
A14: Total | B14: =SUM(B11:B13) -> 5765.6488 | C14: =SUM(C11:C13) -> 4592.8713 | D14: =SUM(D11:D13) -> 2306.7237 | E14: =SUM(E11:E13) -> 4425.1456 | F14: =E14/C14 -> 0.9634813 | G14: =D14/C14 -> 0.50224001 | I14: Clariion | J14: 57908.598 | K14: 28954.299 | L14: 28954.299 | M14: 28954.299
I15: Grand Total | J15: 5904024.3 | K15: 4703100.2 | L15: 2362085.1 | M15: 4531349.1

Sheet Source
A1: 1 | B1: 2 | C1: 3 | D1: 4 | E1: 5 | F1: 6 | G1: 7 | H1: 8 | I1: 9 | J1: 10 | K1: 11 | L1: 12 | M1: 13 | N1: 14 | O1: 15 | P1: 16 | Q1: 17 | R1: 18 | S1: 19 | T1: 20 | U1: 21 | V1: 22 | W1: 23 | X1: 24 | Y1: 25 | Z1: 26 | AA1: 27 | AB1: 28 | AC1: 29 | AD1: 30 | AE1: 31 | AF1: 32 | AG1: 33 | AH1: 34 | AI1: 35 | AJ1: 36 | AK1: 37 | AL1: 38 | AM1: 39 | AN1: 40 | AO1: 41 | AP1: 42 | AQ1: 43 | AR1: 44 | AS1: 45 | AT1: 46 | AU1: 47 | AV1: 48 | AW1: 49 | AX1: 50 | AY1: 51 | AZ1: 52 | BA1: 53 | BB1: 54 | BC1: 55 | BD1: 56 | BE1: 57 | BF1: 58 | BG1: 59 | BH1: 60 | BI1: 61 | BJ1: 62 | BK1: 63 | BL1: 64 | BM1: 65 | BN1: 66 | BO1: 67 | BP1: 68 | BQ1: 69 | BR1: 70 | BS1: 71 | BT1: 72 | BU1: 73 | BV1: 74 | BW1: 75 | BX1: 76 | BY1: 77 | BZ1: 78 | CA1: 79 | CB1: 80 | CC1: 81 | CD1: 82 | CE1: 83 | CF1: 84 | CG1: 85 | CH1: 86 | CI1: 87 | CJ1: 88 | CK1: 89 | CL1: 90 | CM1: 91 | CN1: 92 | CO1: 93 | CP1: 94 | CQ1: 95 | CR1: 96 | CS1: 97 | CT1: 98 | CU1: 99 | CV1: 100 | CW1: 101 | CX1: 102 | CY1: 103 | CZ1: 104 | DA1: 105 | DB1: 106 | DC1: 107 | DD1: 108 | DE1: 108 | DF1: 109 | DG1: 110 | DH1: 111 | DI1: 112 | DJ1: 113 | DK1: 114 | DL1: 115 | DM1: 115 | DN1: 116 | DO1: 117 | DP1: 118 | DQ1: 119 | DR1: 120 | DS1: 121 | DT1: 122 | DU1: 123 | DV1: 124 | DW1: 125 | DX1: 126
M2: Market Raw Standard (GB) | BC2: formatted Disk (GB) | CS2: Disk Format Lost (GB) | CT2: RAID Type | CW2: RAID GB | DA2: Parity Loss | DB2: Pool Name | DF2: Pool Usable | DJ2: Pool Used | DO2: Pool Free | DS2: %Used | DT2: Host Allocated | DU2: R2-Bcv | DV2: Total Host Allocated + R2-BCV | DW2: %Allocated | DX2: UnCarved
M3: Spare | AA3: Disk | AO3: Disk + Spare | BC3: Spare | BQ3: Disk | CE3: Disk + Spare | CT3: SAS | CU3: SSD | CV3: SATA | CW3: SAS | CX3: SSD | CY3: SATA | CZ3: Raid Total | DB3: SAS | DC3: SSD | DD3: SATA | DE3: DSE | DF3: SAS | DG3: SSD | DH3: DSE | DI3: Total Pool Usable | DJ3: SAS | DK3: SSD | DL3: SATA | DM3: DSE | DN3: Total Pool Used | DO3: SAS | DP3: SSD | DQ3: SATA | DR3: Total Pool Free
A4: Site | B4: Array SN | C4: Array Name | D4: Array Type | E4: Array Model | F4: Array Vendor | G4: Array Label | H4: Business Use (BAU/TR/Dedicate) | I4: SRDF Type | J4: FAST | K4: Thick/Thin | L4: Array | M4: Count of Size | S4: Sum of Size | Y4: Total Count | Z4: Total Sum | AA4: Count of Size | AG4: Sum of Size | AM4: Total Count | AN4: Total Sum | AO4: Count of Size | AU4: Sum of Size | BA4: Total Count | BB4: Total Sum | BC4: Count of Size | BI4: Sum of Size | BO4: Total Count | BP4: Total Sum | BQ4: Count of Size | BW4: Sum of Size | CC4: Total Count | CD4: Total Sum | CE4: Count of Size | CK4: Sum of Size | CQ4: Total Count | CR4: Total Sum
B5: Array SN | C5: Array Name | D5: Array Type | E5: Array Model | F5: Array Vendor | G5: Array Label | H5: Business Use (BAU/TR/Dedicate) | I5: SRDF Type | J5: FAST | K5: Thick/Thin | L5: Array | M5: 300 | N5: 450 | O5: 2048 | P5: 200 | Q5: 100 | R5: 1024 | S5: 300 | T5: 450 | U5: 2048 | V5: 200 | W5: 100 | X5: 1024 | AA5: 300 | AB5: 450 | AC5: 2048 | AD5: 200 | AE5: 100 | AF5: 1024 | AG5: 300 | AH5: 450 | AI5: 2048 | AJ5: 200 | AK5: 100 | AL5: 1024 | AO5: 300 | AP5: 450 | AQ5: 2048 | AR5: 200 | AS5: 100 | AT5: 1024 | AU5: 300 | AV5: 450 | AW5: 2048 | AX5: 200 | AY5: 100 | AZ5: 1024 | BC5: 272.59766 | BD5: 408.89648 | BE5: 1780.8252 | BF5: 186.31055 | BG5: 93.160156 | BH5: 931.51367 | BI5: 272.59766 | BJ5: 408.89648 | BK5: 1780.8252 | BL5: 186.31055 | BM5: 93.160156 | BN5: 931.51367 | BQ5: 272.59766 | BR5: 408.89648 | BS5: 1780.8252 | BT5: 186.31055 | BU5: 93.160156 | BV5: 931.51367 | BW5: 272.59766 | BX5: 408.89648 | BY5: 1780.8252 | BZ5: 186.31055 | CA5: 93.160156 | CB5: 931.51367 | CE5: 272.59766 | CF5: 408.89648 | CG5: 1780.8252 | CH5: 186.31055 | CI5: 93.160156 | CJ5: 931.51367 | CK5: 272.59766 | CL5: 408.89648 | CM5: 1780.8252 | CN5: 186.31055 | CO5: 93.160156 | CP5: 931.51367 | DT5: Host Allocated | DV5: Total Host Allocated + R2-BCV | DW5: utilization % | DX5: Total Host Allocated + R2-BCV
A6: RDC | B6: 000295700347 | C6: 0347 | D6: Vmax | E6: VMAX40K | F6: EMC | G6: EMC Symmetrix VMAX | H6: BAU/TR | I6: Symm-NonSRDF | J6: FAST | K6: Thin | L6: 347 | M6: 18 | Q6: 4 | R6: 6 | S6: 5400 | W6: 400 | X6: 6144 | Y6: 28 | Z6: 11944 | AA6: 896 | AE6: 128 | AF6: 288 | AG6: 268800 | AK6: 12800 | AL6: 294912 | AM6: 1312 | AN6: 576512 | AO6: 914 | AS6: 132 | AT6: 294 | AU6: 274200 | AY6: 13200 | AZ6: 301056 | BA6: 1340 | BB6: 588456 | BC6: 18 | BG6: 4 | BH6: 6 | BI6: 4906.7578 | BM6: 372.64062 | BN6: 5589.082 | BO6: 28 | BP6: 10868.48 | BQ6: 896 | BU6: 128 | BV6: 288 | BW6: 244247.5 | CA6: 11924.5 | CB6: 268275.94 | CC6: 1312 | CD6: 524447.94 | CE6: 914 | CI6: 132 | CJ6: 294 | CK6: 249154.26 | CO6: 12297.141 | CP6: 273865.02 | CQ6: 1340 | CR6: 535316.42 | CS6: =BB6-CR6 -> 53139.582 | CT6: 2-Way Mir | CU6: RAID-6(6+2) | CV6: RAID-5(3+1) | CW6: =DF6*2 -> 166392.2 | CX6: =DG6*8/6 -> 176093.87 | CY6: =DH6*4/3 -> 0 | CZ6: =CW6+CX6+CY6 -> 342486.07 | DA6: =CZ6-DI6 -> 127219.57 | DB6: 0347_300GB | DC6: 0347_1TB | DD6: 0347_100_SSD | DF6: 83196.1 | DG6: 132070.4 | DI6: =DF6+DG6+DH6 -> 215266.5 | DJ6: 2662.4 | DK6: 4735.2 | DL6: 1392.3 | DN6: =DJ6+DK6+DM6 -> 7397.6 | DO6: =DF6-DJ6 -> 80533.7 | DP6: =DG6-DK6 -> 127335.2 | DQ6: =DH6-DM6 -> 0 | DR6: =DI6-DN6 -> 207868.9 | DS6: =DN6/DI6 -> 0.034364845 | DT6: 95846.3 | DV6: =SUM(DT6:DU6) -> 95846.3 | DW6: =DV6/DI6 -> 0.44524485
A7: FDC | B7: 000295700349 | C7: 0349 | D7: Vmax | E7: VMAX40K | F7: EMC | G7: EMC Symmetrix VMAX | H7: BAU | I7: Symm-NonSRDF | J7: FAST | K7: Thin | L7: 349 | M7: 18 | Q7: 4 | R7: 6 | S7: 5400 | W7: 400 | X7: 6144 | Y7: 28 | Z7: 11944 | AA7: 896 | AE7: 128 | AF7: 288 | AG7: 268800 | AK7: 12800 | AL7: 294912 | AM7: 1312 | AN7: 576512 | AO7: 914 | AS7: 132 | AT7: 294 | AU7: 274200 | AY7: 13200 | AZ7: 301056 | BA7: 1340 | BB7: 588456 | BC7: 18 | BG7: 4 | BH7: 6 | BI7: 4906.7578 | BM7: 372.64062 | BN7: 5589.082 | BO7: 28 | BP7: 10868.48 | BQ7: 896 | BU7: 128 | BV7: 288 | BW7: 244247.5 | CA7: 11924.5 | CB7: 268275.94 | CC7: 1312 | CD7: 524447.94 | CE7: 914 | CI7: 132 | CJ7: 294 | CK7: 249154.26 | CO7: 12297.141 | CP7: 273865.02 | CQ7: 1340 | CR7: 535316.42 | CS7: =BB7-CR7 -> 53139.582 | CT7: 2-Way Mir | CU7: RAID-6(6+2 | CV7: RAID-5(3+1) | CW7: =DF7*2 -> 166392.2 | CX7: =DG7*8/6 -> 176093.87 | CY7: =DH7*4/3 -> 0 | CZ7: =CW7+CX7+CY7 -> 342486.07 | DA7: =CZ7-DI7 -> 127219.57 | DB7: 0349_300GB | DC7: 0349_1TB | DD7: 0349_100_SSD | DF7: 83196.1 | DG7: 132070.4 | DI7: =DF7+DG7+DH7 -> 215266.5 | DJ7: 39527.6 | DK7: 27664.8 | DL7: 7952.1 | DN7: =DJ7+DK7+DM7 -> 67192.4 | DO7: =DF7-DJ7 -> 43668.5 | DP7: =DG7-DK7 -> 104405.6 | DQ7: =DH7-DM7 -> 0 | DR7: =DI7-DN7 -> 148074.1 | DS7: =DN7/DI7 -> 0.31213589 | DT7: 218748 | DV7: =SUM(DT7:DU7) -> 218748 | DW7: =DV7/DI7 -> 1.016173
A8: RDC | B8: 000292600552 | C8: 0552 | D8: Vmax | E8: VMAX-1 | F8: EMC | G8: EMC Symmetrix VMAX | H8: BAU | I8: Symm/Sync | J8: Not FAST | K8: Thin | L8: 552 | M8: 14 | S8: 4200 | Y8: 14 | Z8: 4200 | AA8: 662 | AG8: 198600 | AM8: 662 | AN8: 198600 | AO8: 676 | AU8: 202800 | BA8: 676 | BB8: 202800 | BC8: 14 | BI8: 3816.3672 | BO8: 14 | BP8: 3816.3672 | BQ8: 662 | BW8: 180459.65 | CC8: 662 | CD8: 180459.65 | CE8: 676 | CK8: 184276.02 | CQ8: 676 | CR8: 184276.02 | CS8: =BB8-CR8 -> 18523.984 | CT8: RAID-6(14+2) | CW8: =DF8*16/14 -> 172019.09 | CX8: =DG8*8/7 -> 0 | CY8: =DH8*16/14 -> 0 | CZ8: =CW8+CX8+CY8 -> 172019.09 | DA8: =CZ8-DI8 -> 21502.386 | DB8: 0552_300_10 | DF8: 150516.7 | DI8: =DF8+DG8+DH8 -> 150516.7 | DJ8: 82614.8 | DN8: =DJ8+DK8+DM8 -> 82614.8 | DO8: =DF8-DJ8 -> 67901.9 | DP8: =DG8-DK8 -> 0 | DQ8: =DH8-DM8 -> 0 | DR8: =DI8-DN8 -> 67901.9 | DS8: =DN8/DI8 -> 0.54887464 | DT8: 97374.1 | DV8: =SUM(DT8:DU8) -> 97374.1 | DW8: =DV8/DI8 -> 0.6469322 | DX8: 55880.287
A9: FDC | B9: 295700667 | C9: 667 | D9: Vmax | E9: VMAX40K | F9: EMC | G9: EMC Symmetrix VMAX | H9: BAU | I9: Symm/Sync | J9: Not FAST | K9: Thin | L9: 667 | M9: 16 | S9: 4800 | Y9: 16 | Z9: 4800 | AA9: 768 | AG9: 230400 | AM9: 768 | AN9: 230400 | AO9: 784 | AU9: 235200 | BA9: 784 | BB9: 235200 | BC9: 16 | BI9: 4361.5625 | BO9: 16 | BP9: 4361.5625 | BQ9: 768 | BW9: 209355 | CC9: 768 | CD9: 209355 | CE9: 784 | CK9: 213716.56 | CP9: =CQ9*CK5 -> 213716.56 | CQ9: 784 | CR9: 213716.56 | CS9: =BB9-CR9 -> 21483.438 | CT9: 2-Way Mir | CW9: =DF9*2 -> 200650 | CX9: =DG9*8/7 -> 0 | CY9: =DH9*16/14 -> 0 | CZ9: =CW9+CX9+CY9 -> 200650 | DA9: =CZ9-DI9 -> 100325 | DB9: 0667_300GB | DF9: 100325 | DI9: =DF9+DG9+DH9 -> 100325 | DJ9: 3.1 | DN9: =DJ9+DK9+DM9 -> 3.1 | DO9: =DF9-DJ9 -> 100321.9 | DP9: =DG9-DK9 -> 0 | DQ9: =DH9-DM9 -> 0 | DR9: =DI9-DN9 -> 100321.9 | DS9: =DN9/DI9 -> 3.0899576e-05 | DT9: 0 | DV9: =SUM(DT9:DU9) -> 0 | DW9: =DV9/DI9 -> 0
A10: RDC | B10: 295700671 | C10: 671 | D10: Vmax | E10: VMAX40K | F10: EMC | G10: EMC Symmetrix VMAX | H10: BAU | I10: Symm/Sync | J10: Not FAST | K10: Thin | L10: 671 | M10: 32 | S10: 9600 | Y10: 32 | Z10: 9600 | AA10: 1568 | AG10: 470400 | AM10: 1568 | AN10: 470400 | AO10: 1600 | AU10: 480000 | BA10: 1600 | BB10: 480000 | BC10: 32 | BI10: 8723.125 | BO10: 32 | BP10: 8723.125 | BQ10: 1568 | BW10: 427433.12 | CC10: 1568 | CD10: 427433.12 | CE10: 1600 | CK10: 436156.25 | CQ10: 1600 | CR10: 436156.25 | CS10: =BB10-CR10 -> 43843.75 | CT10: 2-Way Mir | CW10: =DF10*2 -> 415250 | CX10: =DG10*8/7 -> 0 | CY10: =DH10*16/14 -> 0 | CZ10: =CW10+CX10+CY10 -> 415250 | DA10: =CZ10-DI10 -> 207625 | DB10: 0671_300GB | DF10: 207625 | DI10: =DF10+DG10+DH10 -> 207625 | DJ10: 3.1 | DN10: =DJ10+DK10+DM10 -> 3.1 | DO10: =DF10-DJ10 -> 207621.9 | DP10: =DG10-DK10 -> 0 | DQ10: =DH10-DM10 -> 0 | DR10: =DI10-DN10 -> 207621.9 | DS10: =DN10/DI10 -> 1.4930765e-05 | DT10: 0 | DV10: =SUM(DT10:DU10) -> 0 | DW10: =DV10/DI10 -> 0
A11: RDC | B11: 000292600678 | C11: 0678 | D11: Vmax | E11: VMAX-1 | F11: EMC | G11: EMC Symmetrix VMAX | H11: BAU | I11: Symm-NonSRDF | J11: FAST | K11: Thin | L11: 678 | N11: 12 | T11: 5400 | Y11: 12 | Z11: 5400 | AB11: 528 | AH11: 237600 | AM11: 528 | AN11: 237600 | AP11: 540 | AV11: 243000 | BA11: 540 | BB11: 243000 | BD11: 12 | BJ11: 4906.7578 | BO11: 12 | BP11: 4906.7578 | BR11: 528 | BX11: 215897.34 | CC11: 528 | CD11: 215897.34 | CF11: 540 | CL11: 220804.1 | CQ11: 540 | CR11: 220804.1 | CS11: =BB11-CR11 -> 22195.898 | CT11: RAID-6(14+2) | CW11: =DF11*16/14 -> 207998.63 | CX11: =DG11*8/7 -> 0 | CY11: =DH11*16/14 -> 0 | CZ11: =CW11+CX11+CY11 -> 207998.63 | DA11: =CZ11-DI11 -> 25999.829 | DB11: 0678_450_20 | DF11: 181998.8 | DI11: =DF11+DG11+DH11 -> 181998.8 | DJ11: 157009.9 | DN11: =DJ11+DK11+DM11 -> 157009.9 | DO11: =DF11-DJ11 -> 24988.9 | DP11: =DG11-DK11 -> 0 | DQ11: =DH11-DM11 -> 0 | DR11: =DI11-DN11 -> 24988.9 | DS11: =DN11/DI11 -> 0.86269745 | DT11: 262762 | DV11: =SUM(DT11:DU11) -> 262762 | DW11: =DV11/DI11 -> 1.4437568
A12: CGC | B12: 000292600745 | C12: 0745 | D12: Vmax | E12: VMAX-1 | F12: EMC | G12: EMC Symmetrix VMAX | H12: BAU | I12: Symm/Sync | J12: Not FAST | K12: Thin | L12: 745 | M12: 14 | S12: 4200 | Y12: 14 | Z12: 4200 | AA12: 662 | AG12: 198600 | AM12: 662 | AN12: 198600 | AO12: 676 | AU12: 202800 | BA12: 676 | BB12: 202800 | BC12: 14 | BI12: 3816.3672 | BO12: 14 | BP12: 3816.3672 | BQ12: 662 | BW12: 180459.65 | CC12: 662 | CD12: 180459.65 | CE12: 676 | CK12: 184276.02 | CQ12: 676 | CR12: 184276.02 | CS12: =BB12-CR12 -> 18523.984 | CT12: RAID-6(14+2) | CW12: =DF12*16/14 -> 172019.09 | CX12: =DG12*8/7 -> 0 | CY12: =DH12*16/14 -> 0 | CZ12: =CW12+CX12+CY12 -> 172019.09 | DA12: =CZ12-DI12 -> 21502.386 | DB12: 0745_300_10 | DF12: 150516.7 | DI12: =DF12+DG12+DH12 -> 150516.7 | DJ12: 83956.6 | DN12: =DJ12+DK12+DM12 -> 83956.6 | DO12: =DF12-DJ12 -> 66560.1 | DP12: =DG12-DK12 -> 0 | DQ12: =DH12-DM12 -> 0 | DR12: =DI12-DN12 -> 66560.1 | DS12: =DN12/DI12 -> 0.55778927 | DT12: 96362.6 | DV12: =SUM(DT12:DU12) -> 96362.6 | DW12: =DV12/DI12 -> 0.64021202 | DX12: 55803.188
A13: FDC | B13: 000292600879 | C13: 0879 | D13: Vmax | E13: VMAX-1 | F13: EMC | G13: EMC Symmetrix VMAX | H13: BAU | I13: Symm-NonSRDF | J13: Not FAST | K13: Thin | L13: 879 | N13: 12 | T13: 5400 | Y13: 12 | Z13: 5400 | AB13: 560 | AH13: 252000 | AM13: 560 | AN13: 252000 | AP13: 572 | AV13: 257400 | BA13: 572 | BB13: 257400 | BD13: 12 | BJ13: 4906.7578 | BO13: 12 | BP13: 4906.7578 | BR13: 560 | BX13: 228982.03 | CC13: 560 | CD13: 228982.03 | CF13: 572 | CL13: 233888.79 | CQ13: 572 | CR13: 233888.79 | CS13: =BB13-CR13 -> 23511.211 | CT13: RAID-6(14+2) | CW13: =DF13*16/14 -> 220604.69 | CX13: =DG13*8/7 -> 0 | CY13: =DH13*16/14 -> 0 | CZ13: =CW13+CX13+CY13 -> 220604.69 | DA13: =CZ13-DI13 -> 27575.586 | DB13: 0879_450_20 | DF13: 193029.1 | DI13: =DF13+DG13+DH13 -> 193029.1 | DJ13: 169963.8 | DN13: =DJ13+DK13+DM13 -> 169963.8 | DO13: =DF13-DJ13 -> 23065.3 | DP13: =DG13-DK13 -> 0 | DQ13: =DH13-DM13 -> 0 | DR13: =DI13-DN13 -> 23065.3 | DS13: =DN13/DI13 -> 0.88050869 | DT13: 277512 | DV13: =SUM(DT13:DU13) -> 277512 | DW13: =DV13/DI13 -> 1.4376692
A14: RDC | B14: 000292602230 | C14: 2230 | D14: Vmax | E14: VMAX-1 | F14: EMC | G14: EMC Symmetrix VMAX | H14: BAU | I14: Symm/Async | J14: Not FAST | K14: Thin | L14: 2230 | N14: 10 | T14: 4500 | Y14: 10 | Z14: 4500 | AB14: 496 | AH14: 223200 | AM14: 496 | AN14: 223200 | AP14: 506 | AV14: 227700 | BA14: 506 | BB14: 227700 | BD14: 10 | BJ14: 4088.9648 | BO14: 10 | BP14: 4088.9648 | BR14: 496 | BX14: 202812.66 | CC14: 496 | CD14: 202812.66 | CF14: 506 | CL14: 206901.62 | CQ14: 506 | CR14: 206901.62 | CS14: =BB14-CR14 -> 20798.379 | CT14: RAID-6(14+2 | CW14: =DF14*16/14 -> 195392.69 | CX14: =DG14*8/7 -> 0 | CY14: =DH14*16/14 -> 0 | CZ14: =CW14+CX14+CY14 -> 195392.69 | DA14: =CZ14-DI14 -> 24424.086 | DB14: 2230_450GB | DF14: 170968.6 | DI14: =DF14+DG14+DH14 -> 170968.6 | DJ14: 113314.3 | DN14: =DJ14+DK14+DM14 -> 113314.3 | DO14: =DF14-DJ14 -> 57654.3 | DP14: =DG14-DK14 -> 0 | DQ14: =DH14-DM14 -> 0 | DR14: =DI14-DN14 -> 57654.3 | DS14: =DN14/DI14 -> 0.66277843 | DT14: 169530 | DV14: =SUM(DT14:DU14) -> 169530 | DW14: =DV14/DI14 -> 0.99158559
A15: FDC | B15: 000292602231 | C15: 2231 | D15: Vmax | E15: VMAX-1 | F15: EMC | G15: EMC Symmetrix VMAX | H15: BAU | I15: Symm/Async | J15: Not FAST | K15: Thin | L15: 2231 | N15: 16 | T15: 7200 | Y15: 16 | Z15: 7200 | AB15: 800 | AH15: 360000 | AM15: 800 | AN15: 360000 | AP15: 816 | AV15: 367200 | BA15: 816 | BB15: 367200 | BD15: 16 | BJ15: 6542.3438 | BO15: 16 | BP15: 6542.3438 | BR15: 800 | BX15: 327117.19 | CC15: 800 | CD15: 327117.19 | CF15: 816 | CL15: 333659.53 | CQ15: 816 | CR15: 333659.53 | CS15: =BB15-CR15 -> 33540.469 | CT15: RAID-6(14+2) | CW15: =DF15*16/14 -> 315148.57 | CX15: =DG15*8/7 -> 0 | CY15: =DH15*16/14 -> 0 | CZ15: =CW15+CX15+CY15 -> 315148.57 | DA15: =CZ15-DI15 -> 39393.571 | DB15: 2231_450_20 | DF15: 275755 | DI15: =DF15+DG15+DH15 -> 275755 | DJ15: 209054.6 | DN15: =DJ15+DK15+DM15 -> 209054.6 | DO15: =DF15-DJ15 -> 66700.4 | DP15: =DG15-DK15 -> 0 | DQ15: =DH15-DM15 -> 0 | DR15: =DI15-DN15 -> 66700.4 | DS15: =DN15/DI15 -> 0.75811717 | DT15: 165752 | DU15: 156496 | DV15: =SUM(DT15:DU15) -> 322248 | DW15: =DV15/DI15 -> 1.1686026
A16: FDC | B16: 000292602804 | C16: 2804 | D16: Vmax | E16: VMAX-1 | F16: EMC | G16: EMC Symmetrix VMAX | H16: Rainbow | I16: Symm/Async | J16: Not FAST | K16: Thin | L16: 2804 | N16: 8 | P16: 2 | T16: 3600 | V16: 400 | Y16: 10 | Z16: 4000 | AB16: 240 | AD16: 32 | AH16: 108000 | AJ16: 6400 | AM16: 272 | AN16: 114400 | AP16: 248 | AR16: 34 | AV16: 111600 | AX16: 6800 | BA16: 282 | BB16: 118400 | BD16: 8 | BF16: 2 | BJ16: 3271.1719 | BL16: 372.62109 | BO16: 10 | BP16: 3643.793 | BR16: 240 | BT16: 32 | BX16: 98135.156 | BZ16: 5961.9375 | CC16: 272 | CD16: 104097.09 | CF16: 248 | CH16: 34 | CL16: 101406.33 | CN16: 6334.5586 | CQ16: 282 | CR16: 107740.89 | CS16: =BB16-CR16 -> 10659.113 | CT16: RAID-6(14+2) | CW16: =DF16*16/14 -> 94544.686 | CX16: =DG16*8/7 -> 0 | CY16: =DH16*16/14 -> 0 | CZ16: =CW16+CX16+CY16 -> 94544.686 | DA16: =CZ16-DI16 -> 11818.086 | DB16: 2804_450GB | DF16: 82726.6 | DI16: =DF16+DG16+DH16 -> 82726.6 | DJ16: 57786.6 | DN16: =DJ16+DK16+DM16 -> 57786.6 | DO16: =DF16-DJ16 -> 24940 | DP16: =DG16-DK16 -> 0 | DQ16: =DH16-DM16 -> 0 | DR16: =DI16-DN16 -> 24940 | DS16: =DN16/DI16 -> 0.69852502 | DT16: 126591 | DU16: 0 | DV16: =SUM(DT16:DU16) -> 126591 | DW16: =DV16/DI16 -> 1.5302333
A17: FDC | B17: 000292603004 | C17: 3004 | D17: Vmax | E17: VMAX-1 | F17: EMC | G17: EMC Symmetrix VMAX | H17: BAU | I17: Symm-NonSRDF | J17: FAST | K17: Thin | L17: 3004 | N17: 8 | O17: 4 | P17: 2 | T17: 3600 | U17: 8192 | V17: 400 | Y17: 14 | Z17: 12192 | AB17: 384 | AC17: 192 | AD17: 96 | AH17: 172800 | AI17: 393216 | AJ17: 19200 | AM17: 672 | AN17: 585216 | AP17: 392 | AQ17: 196 | AR17: 98 | AV17: 176400 | AW17: 401408 | AX17: 19600 | BA17: 686 | BB17: 597408 | BD17: 8 | BE17: 4 | BF17: 2 | BJ17: 3271.1719 | BK17: 7123.3008 | BL17: 372.62109 | BO17: 14 | BP17: 10767.094 | BR17: 384 | BS17: 192 | BT17: 96 | BX17: 157016.25 | BY17: 341918.44 | BZ17: 17885.812 | CC17: 672 | CD17: 516820.5 | CF17: 392 | CG17: 196 | CH17: 98 | CL17: 160287.42 | CM17: 349041.74 | CN17: 18258.434 | CQ17: 686 | CR17: 527587.59 | CS17: =BB17-CR17 -> 69820.406 | CT17: RAID-6(14+2) | CU17: RAID-5(7+1) | CV17: RAID-6(14+2) | CW17: =DF17*16/14 -> 151009.03 | CX17: =DG17*8/7 -> 15757.371 | CY17: =DH17*16/14 -> 0 | CZ17: =CW17+CX17+CY17 -> 166766.4 | DA17: =CZ17-DI17 -> 20845.8 | DB17: 3004_450GB | DC17: 3004_200_SSD | DD17: 3004_2TBSATA | DF17: 132132.9 | DG17: 13787.7 | DI17: =DF17+DG17+DH17 -> 145920.6 | DJ17: 73079.7 | DK17: 13648.1 | DL17: 111557.6 | DN17: =DJ17+DK17+DM17 -> 86727.8 | DO17: =DF17-DJ17 -> 59053.2 | DP17: =DG17-DK17 -> 139.6 | DQ17: =DH17-DM17 -> 0 | DR17: =DI17-DN17 -> 59192.8 | DS17: =DN17/DI17 -> 0.59434926 | DT17: 369005 | DU17: 0 | DV17: =SUM(DT17:DU17) -> 369005 | DW17: =DV17/DI17 -> 2.5288068
A18: RDC | B18: 000292603073 | C18: 3073 | D18: Vmax | E18: VMAX-1 | F18: EMC | G18: EMC Symmetrix VMAX | H18: BAU | I18: Symm-NonSRDF | J18: FAST | K18: Thin | L18: 3073 | N18: 8 | O18: 4 | P18: 2 | T18: 3600 | U18: 8192 | V18: 400 | Y18: 14 | Z18: 12192 | AB18: 384 | AC18: 160 | AD18: 96 | AH18: 172800 | AI18: 327680 | AJ18: 19200 | AM18: 640 | AN18: 519680 | AP18: 392 | AQ18: 164 | AR18: 98 | AV18: 176400 | AW18: 335872 | AX18: 19600 | BA18: 654 | BB18: 531872 | BD18: 8 | BE18: 4 | BF18: 2 | BJ18: 3271.1719 | BK18: 7123.3008 | BL18: 372.62109 | BO18: 14 | BP18: 10767.094 | BR18: 384 | BS18: 160 | BT18: 96 | BX18: 157016.25 | BY18: 284932.03 | BZ18: 17885.812 | CC18: 640 | CD18: 459834.09 | CF18: 392 | CG18: 164 | CH18: 98 | CL18: 160287.42 | CM18: 292055.33 | CN18: 18258.434 | CQ18: 654 | CR18: 470601.19 | CS18: =BB18-CR18 -> 61270.812 | CT18: RAID-6(14+2) | CU18: RAID-5(7+1) | CV18: RAID-6(14+2) | CW18: =DF18*16/14 -> 151009.03 | CX18: =DG18*8/7 -> 15757.371 | CY18: =DH18*16/14 -> 0 | CZ18: =CW18+CX18+CY18 -> 166766.4 | DA18: =CZ18-DI18 -> 20845.8 | DB18: 3073_450GB | DC18: 3073_200_SSD | DD18: 3073_2TBSATA | DF18: 132132.9 | DG18: 13787.7 | DI18: =DF18+DG18+DH18 -> 145920.6 | DJ18: 64433.7 | DK18: 13648.8 | DL18: 120977.1 | DN18: =DJ18+DK18+DM18 -> 78082.5 | DO18: =DF18-DJ18 -> 67699.2 | DP18: =DG18-DK18 -> 138.9 | DQ18: =DH18-DM18 -> 0 | DR18: =DI18-DN18 -> 67838.1 | DS18: =DN18/DI18 -> 0.53510265 | DT18: 445574 | DU18: 0 | DV18: =SUM(DT18:DU18) -> 445574 | DW18: =DV18/DI18 -> 3.0535373
A19: RDC | B19: 000292603286 | C19: 3286 | D19: Vmax | E19: VMAX-1 | F19: EMC | G19: EMC Symmetrix VMAX | H19: Rainbow | I19: Symm/Async | J19: Not FAST | K19: Thin | L19: 3286 | N19: 10 | P19: 2 | T19: 4500 | V19: 400 | Y19: 12 | Z19: 4900 | AB19: 480 | AD19: 32 | AH19: 216000 | AJ19: 6400 | AM19: 512 | AN19: 222400 | AP19: 490 | AR19: 34 | AV19: 220500 | AX19: 6800 | BA19: 524 | BB19: 227300 | BD19: 10 | BF19: 2 | BJ19: 4088.9648 | BL19: 372.62109 | BO19: 12 | BP19: 4461.5859 | BR19: 480 | BT19: 32 | BX19: 196270.31 | BZ19: 5961.9375 | CC19: 512 | CD19: 202232.25 | CF19: 490 | CH19: 34 | CL19: 200359.28 | CN19: 6334.5586 | CQ19: 524 | CR19: 206693.84 | CS19: =BB19-CR19 -> 20606.164 | CT19: RAID-6(14+2) | CW19: =DF19*16/14 -> 189089.71 | CX19: =DG19*8/7 -> 0 | CY19: =DH19*16/14 -> 0 | CZ19: =CW19+CX19+CY19 -> 189089.71 | DA19: =CZ19-DI19 -> 23636.214 | DB19: 3286_450GB | DF19: 165453.5 | DI19: =DF19+DG19+DH19 -> 165453.5 | DJ19: 111706.1 | DN19: =DJ19+DK19+DM19 -> 111706.1 | DO19: =DF19-DJ19 -> 53747.4 | DP19: =DG19-DK19 -> 0 | DQ19: =DH19-DM19 -> 0 | DR19: =DI19-DN19 -> 53747.4 | DS19: =DN19/DI19 -> 0.67515102 | DT19: 119700 | DU19: 116875 | DV19: =SUM(DT19:DU19) -> 236575 | DW19: =DV19/DI19 -> 1.4298579
A20: RDC | B20: 000292603696 | C20: 3696 | D20: Vmax | E20: VMAX-1 | F20: EMC | G20: EMC Symmetrix VMAX | H20: Rainbow | I20: Symm/Async | J20: Not FAST | K20: Thin | L20: 3696 | N20: 10 | P20: 1 | T20: 4500 | V20: 200 | Y20: 11 | Z20: 4700 | AB20: 480 | AD20: 32 | AH20: 216000 | AJ20: 6400 | AM20: 512 | AN20: 222400 | AP20: 490 | AR20: 33 | AV20: 220500 | AX20: 6600 | BA20: 523 | BB20: 227100 | BD20: 10 | BF20: 1 | BJ20: 4088.9648 | BL20: 186.31055 | BO20: 11 | BP20: 4275.2754 | BR20: 480 | BT20: 32 | BX20: 196270.31 | BZ20: 5961.9375 | CC20: 512 | CD20: 202232.25 | CF20: 490 | CH20: 33 | CL20: 200359.28 | CN20: 6148.248 | CQ20: 523 | CR20: 206507.53 | CS20: =BB20-CR20 -> 20592.475 | CT20: RAID-6(14+2) | CW20: =DF20*16/14 -> 189089.71 | CX20: =DG20*8/7 -> 0 | CY20: =DH20*16/14 -> 0 | CZ20: =CW20+CX20+CY20 -> 189089.71 | DA20: =CZ20-DI20 -> 23636.214 | DB20: 3696_450GB | DF20: 165453.5 | DI20: =DF20+DG20+DH20 -> 165453.5 | DJ20: 32444.6 | DN20: =DJ20+DK20+DM20 -> 32444.6 | DO20: =DF20-DJ20 -> 133008.9 | DP20: =DG20-DK20 -> 0 | DQ20: =DH20-DM20 -> 0 | DR20: =DI20-DN20 -> 133008.9 | DS20: =DN20/DI20 -> 0.19609498 | DT20: 40733 | DU20: 40392.7 | DV20: =SUM(DT20:DU20) -> 81125.7 | DW20: =DV20/DI20 -> 0.49032326
A21: FDC | B21: 000292603875 | C21: 3875 | D21: Vmax | E21: VMAX-1 | F21: EMC | G21: EMC Symmetrix VMAX | H21: Rainbow | I21: Symm/Async | J21: Not FAST | K21: Thin | L21: 3875 | N21: 8 | P21: 2 | T21: 3600 | V21: 400 | Y21: 10 | Z21: 4000 | AB21: 240 | AD21: 32 | AH21: 108000 | AJ21: 6400 | AM21: 272 | AN21: 114400 | AP21: 248 | AR21: 34 | AV21: 111600 | AX21: 6800 | BA21: 282 | BB21: 118400 | BD21: 8 | BF21: 2 | BJ21: 3271.1719 | BL21: 372.62109 | BO21: 10 | BP21: 3643.793 | BR21: 240 | BT21: 32 | BX21: 98135.156 | BZ21: 5961.9375 | CC21: 272 | CD21: 104097.09 | CF21: 248 | CH21: 34 | CL21: 101406.33 | CN21: 6334.5586 | CQ21: 282 | CR21: 107740.89 | CS21: =BB21-CR21 -> 10659.113 | CT21: RAID-6(14+2) | CW21: =DF21*16/14 -> 94544.686 | CX21: =DG21*8/7 -> 0 | CY21: =DH21*16/14 -> 0 | CZ21: =CW21+CX21+CY21 -> 94544.686 | DA21: =CZ21-DI21 -> 11818.086 | DB21: 3875_450GB | DF21: 82726.6 | DI21: =DF21+DG21+DH21 -> 82726.6 | DJ21: 16824.2 | DN21: =DJ21+DK21+DM21 -> 16824.2 | DO21: =DF21-DJ21 -> 65902.4 | DP21: =DG21-DK21 -> 0 | DQ21: =DH21-DM21 -> 0 | DR21: =DI21-DN21 -> 65902.4 | DS21: =DN21/DI21 -> 0.2033711 | DT21: 55844.5 | DU21: 0 | DV21: =SUM(DT21:DU21) -> 55844.5 | DW21: =DV21/DI21 -> 0.6750489
A22: RDC | B22: 000292604330 | C22: 4330 | D22: Vmax | E22: VMAX20K | F22: EMC | G22: EMC Symmetrix VMAX | H22: TR | I22: Symm/Async | J22: Not FAST | K22: Thin | L22: 4330 | N22: 14 | T22: 6300 | Y22: 14 | Z22: 6300 | AB22: 624 | AH22: 280800 | AM22: 624 | AN22: 280800 | AP22: 638 | AV22: 287100 | BA22: 638 | BB22: 287100 | BD22: 14 | BJ22: 5724.5508 | BO22: 14 | BP22: 5724.5508 | BR22: 624 | BX22: 255151.41 | CC22: 624 | CD22: 255151.41 | CF22: 638 | CL22: 260875.96 | CQ22: 638 | CR22: 260875.96 | CS22: =BB22-CR22 -> 26224.043 | CT22: 2-Way Mir | CW22: =DF22*2 -> 242765.2 | CX22: =DG22*8/7 -> 0 | CY22: =DH22*16/14 -> 0 | CZ22: =CW22+CX22+CY22 -> 242765.2 | DA22: =CZ22-DI22 -> 121382.6 | DB22: 4330_450GB | DF22: 121382.6 | DI22: =DF22+DG22+DH22 -> 121382.6 | DJ22: 59149.2 | DN22: =DJ22+DK22+DM22 -> 59149.2 | DO22: =DF22-DJ22 -> 62233.4 | DP22: =DG22-DK22 -> 0 | DQ22: =DH22-DM22 -> 0 | DR22: =DI22-DN22 -> 62233.4 | DS22: =DN22/DI22 -> 0.48729554 | DT22: 120180 | DU22: 14430.8 | DV22: =SUM(DT22:DU22) -> 134610.8 | DW22: =DV22/DI22 -> 1.1089794
A23: FDC | B23: 000292604652 | C23: 4652 | D23: Vmax | E23: VMAX20K | F23: EMC | G23: EMC Symmetrix VMAX | H23: BAU | I23: Symm/Async | J23: Not FAST | K23: Thin | L23: 4652 | N23: 20 | T23: 9000 | Y23: 20 | Z23: 9000 | AB23: 960 | AH23: 432000 | AM23: 960 | AN23: 432000 | AP23: 980 | AV23: 441000 | BA23: 980 | BB23: 441000 | BD23: 20 | BJ23: 8177.9297 | BO23: 20 | BP23: 8177.9297 | BR23: 960 | BX23: 392540.62 | CC23: 960 | CD23: 392540.62 | CF23: 980 | CL23: 400718.55 | CQ23: 980 | CR23: 400718.55 | CS23: =BB23-CR23 -> 40281.445 | CT23: Way Mir | CW23: =DF23*2 -> 377963.2 | CX23: =DG23*8/7 -> 0 | CY23: =DH23*16/14 -> 0 | CZ23: =CW23+CX23+CY23 -> 377963.2 | DA23: =CZ23-DI23 -> 188981.6 | DB23: 4652_450GB | DF23: 188981.6 | DI23: =DF23+DG23+DH23 -> 188981.6 | DJ23: 94288.5 | DN23: =DJ23+DK23+DM23 -> 94288.5 | DO23: =DF23-DJ23 -> 94693.1 | DP23: =DG23-DK23 -> 0 | DQ23: =DH23-DM23 -> 0 | DR23: =DI23-DN23 -> 94693.1 | DS23: =DN23/DI23 -> 0.49892953 | DT23: 119115 | DU23: 92923.6 | DV23: =SUM(DT23:DU23) -> 212038.6 | DW23: =DV23/DI23 -> 1.1220066
