Workbook

Sheet Source
A1: ARRAY | B1: Usable GBs | C1: Free GBs | D1: Used GBs | E1: Configured Devices | F1: Available Devices | G1: Mapped Storage Total | H1: CGC | J1: ARRAY | K1: Usable GBs | L1: Free GBs | M1: Used GBs | N1: Configured Devices | O1: Available Devices | P1: Mapped Storage Total
A2: 292600623 | B2: 250018.4 | C2: 195678.7 | D2: 54338.4 | E2: 3713 | F2: 1723 | G2: 57121.6 | J2: 292600623 | K2: 250018.4 | L2: 195704.9 | M2: 54312.2 | N2: 3713 | O2: 1723 | P2: 57121.6 | S2: ZDC T4 VMAX 1383
A3: 292600745 | B3: 150516.7 | C3: 63410.6 | D3: 87105.2 | E3: 3620 | F3: 1971 | G3: 55194.4 | J3: 292600745 | K3: 150516.7 | L3: 63410.6 | M3: 87105.2 | N3: 3620 | O3: 1971 | P3: 55194.4
A4: 295700703 | B4: 224071.2 | C4: 142149.1 | D4: 81921.3 | E4: 6399 | F4: 2427 | G4: 133975 | J4: 295700703 | K4: 224071.2 | L4: 143691 | M4: 80379.3 | N4: 6399 | O4: 2488 | P4: 131918
A5: 295700705 | B5: 156194.1 | C5: 123223.2 | D5: 32968.9 | E5: 4800 | F5: 3238 | G5: 52690.9 | J5: 295700705 | K5: 156194.1 | L5: 123235.5 | M5: 32956.5 | N5: 4800 | O5: 3357 | P5: 48678.6
A8: ARRAY | B8: Usable GBs | C8: Free GBs | D8: Used GBs | E8: Configured Devices | F8: Available Devices | G8: Mapped Storage Total | H8: RDC | J8: ARRAY | K8: Usable GBs | L8: Free GBs | M8: Used GBs | N8: Configured Devices | O8: Available Devices | P8: Mapped Storage Total
A9: 292600552 | B9: 150516.7 | C9: 63663.3 | D9: 86852.6 | E9: 3560 | F9: 2298 | G9: 42146 | J9: 292600552 | K9: 150516.7 | L9: 63663.3 | M9: 86852.5 | N9: 3560 | O9: 2298 | P9: 42146
A10: 292600678 | B10: 181998.8 | C10: 79318.5 | D10: 102679.2 | E10: 6588 | F10: 2001 | G10: 122319 | J10: 292600678 | K10: 181998.8 | L10: 79344.5 | M10: 102653.3 | N10: 6588 | O10: 2001 | P10: 122319
A11: 292602230 | B11: 171975.5 | C11: 73628.3 | D11: 98346.3 | E11: 7076 | F11: 3745 | G11: 109776 | J11: 292602230 | K11: 171975.5 | L11: 73752.9 | M11: 98221.5 | N11: 7076 | O11: 3745 | P11: 109776
A12: 292603073 | B12: 389505 | C12: 177955.6 | D12: 211547.4 | E12: 14882 | F12: 2470 | G12: 422468 | J12: 292603073 | K12: 389505 | L12: 178396.8 | M12: 211105.9 | N12: 14882 | O12: 2470 | P12: 422468
A13: 292603286 | B13: 165765.7 | C13: 45046 | D13: 120718.8 | E13: 8432 | F13: 5095 | G13: 110224 | J13: 292603286 | K13: 165765.7 | L13: 45198.8 | M13: 120565.9 | N13: 8432 | O13: 5095 | P13: 110224
A14: 292603696 | B14: 166078 | C14: 112602.6 | D14: 53474.4 | E14: 9599 | F14: 8093 | G14: 50818.6 | J14: 292603696 | K14: 166078 | L14: 112665.5 | M14: 53411.5 | N14: 9599 | O14: 8130 | P14: 49571.1
A15: 292604330 | B15: 124019.2 | C15: 22662.9 | D15: 101353.3 | E15: 6863 | F15: 2631 | G15: 143613 | J15: 292604330 | K15: 124019.2 | L15: 23205 | M15: 100811.1 | N15: 6863 | O15: 2637 | P15: 143410
A16: 295700347 | B16: 224071.2 | C16: 122681 | D16: 101389.3 | E16: 9273 | F16: 2783 | G16: 219211 | J16: 295700347 | K16: 224071.2 | L16: 123009.7 | M16: 101060.6 | N16: 9273 | O16: 2784 | P16: 219177
A17: 295700485 | B17: 190871.2 | C17: 190870 | D17: 4.9 | E17: 6400 | F17: 6400 | G17: 0 | J17: 295700485 | K17: 190871.2 | L17: 190870 | M17: 4.9 | N17: 6400 | O17: 6400 | P17: 0
A18: 295700671 | B18: 209496.5 | C18: 177250 | D18: 32240.4 | E18: 7999 | F18: 5509 | G18: 62682.8 | J18: 295700671 | K18: 209496.5 | L18: 177272.6 | M18: 32218 | N18: 7999 | O18: 5509 | P18: 62682.8
A19: 295700688 | B19: 156194.1 | C19: 123195.8 | D19: 32996.2 | E19: 4800 | F19: 3238 | G19: 52705.6 | J19: 295700688 | K19: 156194.1 | L19: 123208.3 | M19: 32983.7 | N19: 4800 | O19: 3357 | P19: 48693.3
A20: 295700689 | B20: 102196.5 | C20: 57774.2 | D20: 44419.9 | E20: 3999 | F20: 1921 | G20: 70122.7 | J20: 295700689 | K20: 102196.5 | L20: 58560.5 | M20: 43633.5 | N20: 3999 | O20: 1921 | P20: 70122.7
... A23: 295700706 | B23: 102196.5 | C23: 60004.5 | D23: 42189.6 | E23: 3999 | F23: 1447 | G23: 86114.1 | J23: 295700706 | K23: 102196.5 | L23: 60806 | M23: 41388.1 | N23: 3999 | O23: 1447 | P23: 86114.1
H25: FDC
A26: ARRAY | B26: Usable GBs | C26: Free GBs | D26: Used GBs | E26: Configured Devices | F26: Available Devices | G26: Mapped Storage Total | J26: ARRAY | K26: Usable GBs | L26: Free GBs | M26: Used GBs | N26: Configured Devices | O26: Available Devices | P26: Mapped Storage Total
A27: 292600879 | B27: 193029.1 | C27: 111707.8 | D27: 81320.2 | E27: 5429 | F27: 1679 | G27: 139133 | J27: 292600879 | K27: 193029.1 | L27: 111887.8 | M27: 81140.1 | N27: 5429 | O27: 1662 | P27: 139706
A28: 292602231 | B28: 276130.4 | C28: 90974.7 | D28: 185154.8 | E28: 8508 | F28: 4933 | G28: 92441.6 | J28: 292602231 | K28: 276130.4 | L28: 91202.9 | M28: 184926.8 | N28: 8508 | O28: 4933 | P28: 92441.6
A29: 292602804 | B29: 83038.8 | C29: 22105.8 | D29: 60932.7 | E29: 4357 | F29: 878 | G29: 117345 | J29: 292602804 | K29: 83038.8 | L29: 22156.7 | M29: 60881.8 | N29: 4357 | O29: 878 | P29: 117345
A30: 292603004 | B30: 438219.9 | C30: 221715.3 | D30: 216504.2 | E30: 14829 | F30: 1733 | G30: 441635 | J30: 292603004 | K30: 438219.9 | L30: 222403.1 | M30: 215816.2 | N30: 14829 | O30: 1733 | P30: 441635
A31: 292603875 | B31: 83038.8 | C31: 55414.1 | D31: 27624.5 | E31: 4799 | F31: 2845 | G31: 65934.2 | J31: 292603875 | K31: 83038.8 | L31: 55445.5 | M31: 27593 | N31: 4799 | O31: 2882 | P31: 64686.7
A32: 292604652 | B32: 191618.2 | C32: 39758.8 | D32: 151854.7 | E32: 9395 | F32: 4759 | G32: 142414 | J32: 292604652 | K32: 191618.2 | L32: 40319 | M32: 151294.1 | N32: 9395 | O32: 4765 | P32: 142212
A33: 295700349 | B33: 262288.9 | C33: 105246.1 | D33: 157041.2 | E33: 10561 | F33: 1998 | G33: 288880 | J33: 295700349 | K33: 262288.9 | L33: 105808 | M33: 156479.4 | N33: 10561 | O33: 1999 | P33: 288847
A34: 295700667 | B34: 102196.5 | C34: 86068.1 | D34: 16126.2 | E34: 3999 | F34: 2092 | G34: 64335 | J34: 295700667 | K34: 102196.5 | L34: 86079.2 | M34: 16114.9 | N34: 3999 | O34: 2092 | P34: 64335
A35: 295700709 | B35: 328695.2 | C35: 186464 | D35: 142227.6 | E35: 11649 | F35: 4632 | G35: 236737 | J35: 295700709 | K35: 328695.2 | L35: 187062.7 | M35: 141628.9 | N35: 11649 | O35: 4677 | P35: 235220
A36: 295700710 | B36: 209496.5 | C36: 121529.2 | D36: 87961.7 | E36: 7999 | F36: 5298 | G36: 70088.9 | J36: 295700710 | K36: 209496.5 | L36: 123105.9 | M36: 86385.1 | N36: 7999 | O36: 5298 | P36: 70088.9
A37: 295700712 | B37: 209496.5 | C37: 132547.1 | D37: 76943.9 | E37: 7999 | F37: 4088 | G37: 82434.8 | J37: 295700712 | K37: 209496.5 | L37: 133835.6 | M37: 75655.4 | N37: 7999 | O37: 4088 | P37: 82434.8
A38: 295700713 | B38: 190871.2 | C38: 190870 | D38: 4.9 | E38: 6400 | F38: 6400 | G38: 0 | J38: 295700713 | K38: 190871.2 | L38: 190870 | M38: 4.9 | N38: 6400 | O38: 6400 | P38: 0
H40: ZDC
A41: ARRAY | B41: Usable GBs | C41: Free GBs | D41: Used GBs | E41: Configured Devices | F41: Available Devices | G41: Mapped Storage Total | J41: ARRAY | K41: Usable GBs | L41: Free GBs | M41: Used GBs | N41: Configured Devices | O41: Available Devices | P41: Mapped Storage Total
A42: 492600377 | B42: 33090.5 | C42: 18801.7 | D42: 14288.8 | E42: 1570 | F42: 299 | G42: 42854.1 | J42: 492600377 | K42: 33090.5 | L42: 18801.7 | M42: 14288.8 | N42: 1570 | O42: 299 | P42: 42854.1
A43: 298701383 | B43: 59723.7 | C43: 19227.8 | D43: 40495.1 | E43: 2479 | F43: 662 | G43: 61297.2 | J43: 298701383 | K43: 59723.7 | L43: 19227.8 | M43: 40495.1 | N43: 2479 | O43: 662 | P43: 61297.2

Sheet Table
A1: 41977
A2: Site | C2: CGC | D2: CGC | E2: RDC | F2: RDC | G2: RDC | H2: RDC | I2: RDC | J2: RDC | K2: RDC | L2: RDC | M2: FDC | N2: FDC | O2: FDC | P2: FDC | Q2: FDC | R2: FDC | S2: ZDC T4 VMAX 1383 | T2: ZDC | U2: ZDC | V2: FDC | W2: RDC | X2: RDC | Y2: FDC | Z2: RDC | AA2: FDC | AB2: FDC | AC2: FDC | AD2: RDC | AE2: CGC | AF2: RDC | AG2: CGC | AH2: RDC | AI2: RDC | AJ2: Total | AK2: VMAX | AW2: Site | AY2: CGC | AZ2: RDC | BB2: FDC
A3: VMAX | C3: 0623 | D3: 0745 | E3: 0552 | F3: 0678 | G3: 3286 | H3: 3073 | I3: 2230 | J3: 3696 | K3: 4330 | L3: 0347 | M3: 0879 | N3: 3004 | O3: 2804 | P3: 2231 | Q3: 3875 | R3: 4652 | S3: 0349 | T3: 1383 | U3: 0377 | V3: 0667 | W3: 0671 | X3: 0689 | Y3: 0710 | Z3: 0706 | AA3: 0712 | AB3: 0709 | AC3: 0713 | AD3: 0704 | AE3: 0703 | AF3: 0688 | AG3: 0705 | AH3: 0699 | AI3: 0485 | AK3: Site | AL3: CGC Non-Rep | AM3: CGC-Rep | AN3: RDC Non-Rep | AO3: RDC-Rep | AP3: FDC Non-Rep | AQ3: FDC-Rep | AR3: ZDC Non-Rep | AS3: Total Rep | AT3: Total Non-Rep | AU3: Total Rep+Non-Rep | AW3: VMAX | AY3: 0623 | AZ3: 3073 | BA3: 0347 | BB3: 3004 | BC3: 0349
A4: Enabled Pool Devices | B4: Total GB | C4: =Source!B2 -> 250018.4 | D4: =Source!B3 -> 150516.7 | E4: =Source!B9 -> 150516.7 | F4: =Source!B10 -> 181998.8 | G4: =Source!B13 -> 165765.7 | H4: =Source!B12 -> 389505 | I4: =Source!B11 -> 171975.5 | J4: =Source!B14 -> 166078 | K4: =Source!B15 -> 124019.2 | L4: =Source!B16 -> 224071.2 | M4: =Source!B27 -> 193029.1 | N4: =Source!B30 -> 438219.9 | O4: =Source!B29 -> 83038.8 | P4: =Source!B28 -> 276130.4 | Q4: =Source!B31 -> 83038.8 | R4: =Source!B32 -> 191618.2 | S4: =Source!B33 -> 262288.9 | T4: =Source!B43 -> 59723.7 | U4: =Source!B42 -> 33090.5 | V4: =Source!B34 -> 102196.5 | W4: =Source!B18 -> 209496.5 | X4: =Source!B20 -> 102196.5 | Y4: =Source!B36 -> 209496.5 | Z4: =Source!B23 -> 102196.5 | AA4: =Source!B37 -> 209496.5 | AB4: =Source!B35 -> 328695.2 | AC4: =Source!B38 -> 190871.2 | AD4: =Source!B22 -> 224071.2 | AE4: =Source!B4 -> 224071.2 | AF4: =Source!B19 -> 156194.1 | AG4: =Source!B5 -> 156194.1 | AH4: =Source!B21 -> 224071.2 | AI4: =Source!B17 -> 190871.2 | AJ4: =SUM(C4:AI4) -> 6224761.9 | AK4: Total GB | AL4: =C4+AE4 -> 474089.6 | AM4: =D4+AG4 -> 306710.8 | AN4: =F4+H4+L4+AD4+AH4+AI4 -> 1434588.6 | AO4: =E4+G4+I4+J4+K4+W4+X4+Z4+AF4 -> 1348438.7 | AP4: =M4+N4+S4+AB4+AC4 -> 1413104.3 | AQ4: =O4+P4+Q4+R4+V4+Y4+AA4 -> 1155015.7 | AR4: =T4+U4 -> 92814.2 | AS4: =AM4+AO4+AQ4 -> 2810165.2 | AT4: =AL4+AN4+AP4+AR4 -> 3414596.7 | AU4: =SUM(AS4:AT4) -> 6224761.9 | AW4: FC Pool Devices | AX4: Total GB | AY4: 143393 | AZ4: 132132 | BA4: 83196.1 | BB4: 132132.2 | BC4: 83196.1
B5: Used GB | C5: =Source!D2 -> 54338.4 | D5: =Source!D3 -> 87105.2 | E5: =Source!D9 -> 86852.6 | F5: =Source!D10 -> 102679.2 | G5: =Source!D13 -> 120718.8 | H5: =Source!D12 -> 211547.4 | I5: =Source!D11 -> 98346.3 | J5: =Source!D14 -> 53474.4 | K5: =Source!D15 -> 101353.3 | L5: =Source!D16 -> 101389.3 | M5: =Source!D27 -> 81320.2 | N5: =Source!D30 -> 216504.2 | O5: =Source!D29 -> 60932.7 | P5: =Source!D28 -> 185154.8 | Q5: =Source!D31 -> 27624.5 | R5: =Source!D32 -> 151854.7 | S5: =Source!D33 -> 157041.2 | T5: =Source!D43 -> 40495.1 | U5: =Source!D42 -> 14288.8 | V5: =Source!D34 -> 16126.2 | W5: =Source!D18 -> 32240.4 | X5: =Source!D20 -> 44419.9 | Y5: =Source!D36 -> 87961.7 | Z5: =Source!D23 -> 42189.6 | AA5: =Source!D37 -> 76943.9 | AB5: =Source!D35 -> 142227.6 | AC5: =Source!D38 -> 4.9 | AD5: =Source!D22 -> 55477.3 | AE5: =Source!D4 -> 81921.3 | AF5: =Source!D19 -> 32996.2 | AG5: =Source!D5 -> 32968.9 | AH5: =Source!D21 -> 23829.6 | AI5: =Source!D17 -> 4.9 | AJ5: =SUM(C5:AI5) -> 2622333.5 | AK5: Used GB | AL5: =C5+AE5 -> 136259.7 | AM5: =D5+AG5 -> 120074.1 | AN5: =H5+F5+L5+AD5+AH5+AI5 -> 494927.7 | AO5: =E5+G5+I5+J5+K5+W5+X5+Z5+AF5 -> 612591.5 | AP5: =M5+N5+S5+AB5+AC5 -> 597098.1 | AQ5: =O5+P5+Q5+R5+V5+Y5+AA5 -> 606598.5 | AR5: =T5+U5 -> 54783.9 | AS5: =AM5+AO5+AQ5 -> 1339264.1 | AT5: =AL5+AN5+AP5+AR5 -> 1283069.4 | AU5: =SUM(AS5:AT5) -> 2622333.5 | AX5: Used GB | AY5: 51964.9 | AZ5: 58542 | BA5: 2519 | BB5: 70731 | BC5: 31444.9
B6: % full | C6: =C5/C4 -> 0.2173376 | D6: =D5/D4 -> 0.57870788 | E6: =E5/E4 -> 0.57702966 | F6: =F5/F4 -> 0.56417515 | G6: =G5/G4 -> 0.72824957 | H6: =H5/H4 -> 0.54311857 | I6: =I5/I4 -> 0.57186227 | J6: =J5/J4 -> 0.32198365 | ... AJ6: =AJ5/AJ4 -> 0.42127451 | AK6: % full | AL6: =AL5/AL4 -> 0.28741339 | AM6: =AM5/AM4 -> 0.39148964 | AN6: =AN5/AN4 -> 0.34499626 | AO6: =AO5/AO4 -> 0.45429688 | AP6: =AP5/AP4 -> 0.42254354 | AQ6: =AQ5/AQ4 -> 0.52518637 | AR6: =AR5/AR4 -> 0.59025343 | AS6: =AS5/AS4 -> 0.47657842 | ... AU6: =AU5/AU4 -> 0.42127451 | AX6: % full | AY6: =AY5/AY4 -> 0.36239496 | AZ6: =AZ5/AZ4 -> 0.44305694 | BA6: =BA5/BA4 -> 0.030277862 | BB6: =BB5/BB4 -> 0.53530479 | BC6: =BC5/BC4 -> 0.37796123
A7: Thin Devices | B7: # Devices | C7: =Source!E2 -> 3713 | D7: =Source!E3 -> 3620 | E7: =Source!E9 -> 3560 | F7: =Source!E10 -> 6588 | G7: =Source!E13 -> 8432 | H7: =Source!E12 -> 14882 | I7: =Source!E11 -> 7076 | J7: =Source!E14 -> 9599 | K7: =Source!E15 -> 6863 | L7: =Source!E16 -> 9273 | M7: =Source!E27 -> 5429 | N7: =Source!E30 -> 14829 | O7: =Source!E29 -> 4357 | P7: =Source!E28 -> 8508 | Q7: =Source!E31 -> 4799 | R7: =Source!E32 -> 9395 | S7: =Source!E33 -> 10561 | T7: =Source!E43 -> 2479 | U7: =Source!E42 -> 1570 | V7: =Source!E34 -> 3999 | W7: =Source!E18 -> 7999 | X7: =Source!E20 -> 3999 | Y7: =Source!E36 -> 7999 | Z7: =Source!E23 -> 3999 | AA7: =Source!E37 -> 7999 | AB7: =Source!E35 -> 11649 | AC7: =Source!E38 -> 6400 | AD7: =Source!E22 -> 6399 | AE7: =Source!E4 -> 6399 | AF7: =Source!E19 -> 4800 | AG7: =Source!E5 -> 4800 | AH7: =Source!E21 -> 6399 | AI7: =Source!E17 -> 6400 | AJ7: =SUM(C7:AI7) -> 224773 | AK7: # Devices | AL7: =C7+AE7 -> 10112 | AM7: =D7+AG7 -> 8420 | AN7: =F7+H7+L7+AD7+AH7+AI7 -> 49941 | AO7: =E7+G7+I7+J7+K7+W7+X7+Z7+AF7 -> 56327 | AP7: =M7+N7+S7+AB7+AC7 -> 48868 | AQ7: =O7+P7+Q7+R7+V7+Y7+AA7 -> 47056 | AR7: =T7+U7 -> 4049 | AS7: =AM7+AO7+AQ7 -> 111803 | AT7: =AL7+AN7+AP7+AR7 -> 112970 | AU7: =SUM(AS7:AT7) -> 224773 | AW7: EFD Pool Devices | AX7: Total GB | AY7: 9191.8 | AZ7: 13787.7 | BA7: 8804.8 | BB7: 13787.7 | BC7: 8804.8
B8: Virtual Capacity GB | C8: =C7*33.717 -> 125191.22 | D8: =D7*33.717 -> 122055.54 | E8: =E7*33.717 -> 120032.52 | F8: =F7*33.717 -> 222127.6 | G8: =G7*33.717 -> 284301.74 | H8: =H7*33.717 -> 501776.39 | I8: =I7*33.717 -> 238581.49 | J8: =J7*33.717 -> 323649.48 | ... AI8: =AI7*33.717 -> 215788.8 | AJ8: =SUM(C8:AI8) -> 7578671.2 | AK8: Virtual Capacity GB | AL8: =AL7*33.717 -> 340946.3 | AM8: =AM7*33.717 -> 283897.14 | AN8: =AN7*33.717 -> 1683860.7 | AO8: =AO7*33.717 -> 1899177.5 | AP8: =AP7*33.717 -> 1647682.4 | AQ8: =AQ7*33.717 -> 1586587.2 | AR8: =AR7*33.717 -> 136520.13 | AS8: =AS7*33.717 -> 3769661.8 | AT8: =AT7*33.717 -> 3809009.5 | AU8: =SUM(AS8:AT8) -> 7578671.2 | AX8: Used GB | AY8: 7975.5 | AZ8: 13649 | BA8: 1289.9 | BB8: 13642 | BC8: 5483.9
B9: capacity threshold | C9: 164000 | D9: 109880 | E9: 109880 | F9: 328000 | G9: 330905 | H9: 264264 | I9: 242663.6 | J9: 328000 | K9: 328000 | L9: 328000 | M9: 328000 | N9: 264264.4 | O9: 328000 | P9: 352965.4 | Q9: 328000 | R9: 328000 | S9: 328000 | T9: =2*T4 -> 119447.4 | U9: =2*U4 -> 66181 | V9: =2*V4 -> 204393 | W9: =2*W4 -> 418993 | X9: =2*X4 -> 204393 | Y9: =2*Y4 -> 418993 | Z9: =2*Z4 -> 204393 | AA9: =2*AA4 -> 418993 | ... AI9: =2*AI4 -> 381742.4 | AJ9: =SUM(C9:AI9) -> 10236688 | AK9: capacity threshold | AL9: =2*AL4 -> 948179.2 | AM9: =2*AM4 -> 613421.6 | AN9: =2*AN4 -> 2869177.2 | AO9: =2*AO4 -> 2696877.4 | AP9: =2*AP4 -> 2826208.6 | AQ9: =2*AQ4 -> 2310031.4 | AR9: =2*AR4 -> 185628.4 | AS9: =2*AS4 -> 5620330.4 | AT9: =2*AT4 -> 6829193.4 | AU9: =SUM(AS9:AT9) -> 12449524 | AX9: % full | AY9: =AY8/AY7 -> 0.86767554 | AZ9: =AZ8/AZ7 -> 0.98994031 | BA9: =BA8/BA7 -> 0.14649964 | BB9: =BB8/BB7 -> 0.98943261 | BC9: =BC8/BC7 -> 0.62283073
B10: # Allocated | C10: =SUM(C7-Source!F2) -> 1990 | D10: =SUM(D7-Source!F3) -> 1649 | E10: =SUM(E7-Source!F9) -> 1262 | F10: =SUM(F7-Source!F10) -> 4587 | G10: =SUM(G7-Source!F13) -> 3337 | H10: =SUM(H7-Source!F12) -> 12412 | I10: =SUM(I7-(Source!F11-2216)) -> 5547 | J10: =SUM(J7-Source!F14) -> 1506 | K10: =SUM(K7-(Source!F15-1760)) -> 5992 | L10: =SUM(L7-Source!F16) -> 6490 | M10: =SUM(M7-Source!F27) -> 3750 | N10: =SUM(N7-Source!F30) -> 13096 | O10: =SUM(O7-Source!F29) -> 3479 | P10: =SUM(P7-(Source!F28-2614)) -> 6189 | Q10: =SUM(Q7-Source!F31) -> 1954 | R10: =SUM(R7-Source!F32) -> 4636 | S10: =SUM(S7-Source!F33) -> 8563 | T10: =SUM(T7-Source!F43) -> 1817 | U10: =SUM(U7-Source!F42) -> 1271 | V10: =SUM(V7-Source!F34) -> 1907 | W10: =SUM(W7-Source!F18) -> 2490 | X10: =SUM(X7-Source!F20) -> 2078 | Y10: =SUM(Y7-Source!F36) -> 2701 | Z10: =SUM(Z7-Source!F23) -> 2552 | AA10: =SUM(AA7-Source!F37) -> 3911 | AB10: =SUM(AB7-Source!F35) -> 7017 | AC10: =SUM(AC7-Source!F38) -> 0 | AD10: =SUM(AD7-Source!F22) -> 4092 | AE10: =SUM(AE7-Source!F4) -> 3972 | AF10: =SUM(AF7-Source!F19) -> 1562 | AG10: =SUM(AG7-Source!F5) -> 1562 | AH10: =SUM(AH7-Source!F21) -> 4143 | AI10: =SUM(AI7-Source!F17) -> 0 | AJ10: =SUM(C10:AI10) -> 127514 | AK10: # Allocated | AL10: =C10+AE10 -> 5962 | AM10: =D10+AG10 -> 3211 | AN10: =F10+H10+L10+AD10+AH10+AI10 -> 31724 | AO10: =E10+G10+I10+J10+K10+W10+X10+Z10+AF10 -> 26326 | AP10: =M10+N10+S10+AB10+AC10 -> 32426 | AQ10: =O10+P10+Q10+R10+V10+Y10+AA10 -> 24777 | AR10: =T10+U10 -> 3088 | AS10: =AM10+AO10+AQ10 -> 54314 | AT10: =AL10+AN10+AP10+AR10 -> 73200 | AU10: =SUM(AS10:AT10) -> 127514 | AW10: SATA Pool Devices | AX10: Total GB | AY10: 97433.6 | AZ10: 243584.4 | BA10: 132070.3 | BB10: 292299.3 | BC10: 132070.4
B11: GB Allocated | C11: =C10*33.717 -> 67096.83 | D11: =D10*33.717 -> 55599.333 | E11: =E10*33.717 -> 42550.854 | F11: =F10*33.717 -> 154659.88 | G11: =G10*33.717 -> 112513.63 | H11: =H10*33.717 -> 418495.4 | I11: =I10*33.717 -> 187028.2 | J11: =J10*33.717 -> 50777.802 | ... N11: =N10*33.717 -> 441557.83 | O11: =(O10*33.717) -> 117301.44 | P11: =P10*33.717-(2614*33.717) -> 120538.28 | Q11: =Q10*33.717 -> 65883.018 | R11: =R10*33.717 -> 156312.01 | S11: =S10*33.717 -> 288718.67 | T11: =T10*33.717 -> 61263.789 | U11: =U10*33.717 -> 42854.307 | V11: =V10*33.717 -> 64298.319 | W11: =W10*33.717 -> 83955.33 | X11: =X10*33.717 -> 70063.926 | ... AI11: =AI10*33.717 -> 0 | AJ11: =SUM(C11:AI11) -> 4211253.3 | AK11: GB Allocated | AL11: =AL10*33.717 -> 201020.75 | AM11: =AM10*33.717 -> 108265.29 | AN11: =AN10*33.717 -> 1069638.1 | AO11: =AO10*33.717 -> 887633.74 | AP11: =AP10*33.717 -> 1093307.4 | AQ11: =AQ10*33.717 -> 835406.11 | AR11: =AR10*33.717 -> 104118.1 | AS11: =AS10*33.717 -> 1831305.1 | AT11: =AT10*33.717 -> 2468084.4 | AU11: =SUM(AS11:AT11) -> 4299389.5 | AX11: Used GB | AY11: 38973.2 | AZ11: 124350.5 | BA11: 3817.1 | BB11: 109009 | BC11: 33401
B12: subscription vs allocated | C12: =C11/C4 -> 0.26836757 | D12: =D11/D4 -> 0.3693898 | E12: =E11/E4 -> 0.28269856 | F12: =F11/F4 -> 0.84978516 | G12: =G11/G4 -> 0.67875097 | H12: =H11/H4 -> 1.0744288 | I12: =I11/I4 -> 1.0875282 | J12: =J11/J4 -> 0.30574671 | ... AJ12: =AJ11/AJ4 -> 0.67653243 | AK12: subscription vs allocated | AL12: =AL11/AL4 -> 0.42401427 | AM12: =AM11/AM4 -> 0.35298818 | AN12: =AN11/AN4 -> 0.74560617 | AO12: =AO11/AO4 -> 0.65826777 | AP12: =AP11/AP4 -> 0.77369196 | AQ12: =AQ11/AQ4 -> 0.7232855 | AR12: =AR11/AR4 -> 1.1217906 | AS12: =AS11/AS4 -> 0.6516717 | ... AU12: =AU11/AU4 -> 0.6906914 | AX12: % full | AY12: =AY11/AY10 -> 0.39999754 | AZ12: =AZ11/AZ10 -> 0.51050273 | BA12: =BA11/BA10 -> 0.028902032 | BB12: =BB11/BB10 -> 0.37293623 | BC12: =BC11/BC10 -> 0.252903
B13: GB Mapped(First Port) | C13: =Source!G2 -> 57121.6 | D13: =Source!G3 -> 55194.4 | E13: =Source!G9 -> 42146 | F13: =Source!G10 -> 122319 | G13: =Source!G13 -> 110224 | H13: =Source!G12 -> 422468 | I13: =Source!G11 -> 109776 | J13: =Source!G14 -> 50818.6 | K13: =Source!G15 -> 143613 | L13: =Source!G16 -> 219211 | M13: =Source!G27 -> 139133 | N13: =Source!G30 -> 441635 | O13: =Source!G29 -> 117345 | P13: =Source!G28 -> 92441.6 | Q13: =Source!G31 -> 65934.2 | R13: =Source!G32 -> 142414 | S13: =Source!G33 -> 288880 | T13: =Source!G43 -> 61297.2 | U13: =Source!G42 -> 42854.1 | V13: =Source!G34 -> 64335 | W13: =Source!G18 -> 62682.8 | X13: =Source!G20 -> 70122.7 | Y13: =Source!G36 -> 70088.9 | Z13: =Source!G23 -> 86114.1 | AA13: =Source!G37 -> 82434.8 | AB13: =Source!G35 -> 236737 | AC13: =Source!G38 -> 0 | AD13: =Source!G22 -> 138063 | AE13: =Source!G4 -> 133975 | AF13: =Source!G19 -> 52705.6 | AG13: =Source!G5 -> 52690.9 | AH13: =Source!G21 -> 139723 | AI13: =Source!G17 -> 0 | AJ13: =SUM(C13:AI13) -> 3914498.5 | AK13: GB Mapped(First Port) | AL13: =C13+AE13 -> 191096.6 | AM13: =D13+AG13 -> 107885.3 | AN13: =F13+H13+L13+AD13+AH13+AI13 -> 1041784 | AO13: =E13+G13+I13+J13+K13+W13+X13+Z13+AF13 -> 728202.8 | AP13: =M13+N13+S13+AB13+AC13 -> 1106385 | AQ13: =O13+P13+Q13+R13+V13+Y13+AA13 -> 634993.5 | AR13: =T13+U13 -> 104151.3 | AS13: =AM13+AO13+AQ13 -> 1471081.6 | AT13: =AL13+AN13+AP13+AR13 -> 2443416.9 | AU13: =SUM(AS13:AT13) -> 3914498.5 | AW13: Total | AX13: % full | AY13: =(AY6+AY12)/2 -> 0.38119625 | AZ13: =(AZ6+AZ12)/2 -> 0.47677983 | BA13: =(BA6+BA12)/2 -> 0.029589947 | BB13: =(BB6+BB12)/2 -> 0.45412051 | BC13: =(BC6+BC12)/2 -> 0.31543211
B14: subscription vs Mapped | C14: =C13/C4 -> 0.22846958 | D14: =D13/D4 -> 0.36669951 | E14: =E13/E4 -> 0.2800088 | F14: =F13/F4 -> 0.67208685 | G14: =G13/G4 -> 0.66493852 | H14: =H13/H4 -> 1.0846279 | I14: =I13/I4 -> 0.63832348 | J14: =J13/J4 -> 0.30599237 | ... AJ14: =AJ13/AJ4 -> 0.62885915 | AK14: subscription vs Mapped | AL14: =AL13/AL4 -> 0.40308119 | AM14: =AM13/AM4 -> 0.35174927 | AN14: =AN13/AN4 -> 0.72619007 | AO14: =AO13/AO4 -> 0.54003404 | AP14: =AP13/AP4 -> 0.78294645 | AQ14: =AQ13/AQ4 -> 0.54977045 | AR14: =AR13/AR4 -> 1.1221483 | AS14: =AS13/AS4 -> 0.52348581 | ... AU14: =AU13/AU4 -> 0.62885915
A15: 41970
A16: Site | C16: CGC | D16: CGC | E16: RDC | F16: RDC | G16: RDC | H16: RDC | I16: RDC | J16: RDC | K16: RDC | L16: RDC | M16: FDC | N16: FDC | O16: FDC | P16: FDC | Q16: FDC | R16: FDC | S16: FDC | T16: ZDC | U16: ZDC | V16: FDC | W16: RDC | X16: RDC | Y16: FDC | Z16: RDC | AA16: FDC | AB16: FDC | AC16: FDC | AD16: RDC | AE16: CGC | AF16: RDC | AG16: CGC | AH16: RDC | AI16: RDC | AJ16: Total | AK16: VMAX | AW16: Site | AY16: CGC | AZ16: RDC | BB16: FDC
A17: VMAX | C17: 0623 | D17: 0745 | E17: 0552 | F17: 0678 | G17: 3286 | H17: 3073 | I17: 2230 | J17: 3696 | K17: 4330 | L17: 0347 | M17: 0879 | N17: 3004 | O17: 2804 | P17: 2231 | Q17: 3875 | R17: 4652 | S17: 0349 | T17: 1383 | U17: 0377 | V17: 0667 | W17: 0671 | X17: 0689 | Y17: 0710 | Z17: 0706 | AA17: 0712 | AB17: 0709 | AC17: 0713 | AD17: 0704 | AE17: 0703 | AF17: 0688 | AG17: 0705 | AH17: 0699 | AI17: 0485 | AK17: Site | AL17: CGC Non-Rep | AM17: CGC-Rep | AN17: RDC Non-Rep | AO17: RDC-Rep | AP17: FDC Non-Rep | AQ17: FDC-Rep | AR17: ZDC Non-Rep | AS17: Total Rep | AT17: Total Non-Rep | AU17: Total Rep+Non-Rep | AW17: VMAX | AY17: 0623 | AZ17: 3073 | BA17: 0347 | BB17: 3004 | BC17: 0349
A18: Enabled Pool Devices | B18: Total GB | C18: 250018.4 | D18: 150516.7 | E18: 150516.7 | F18: 181998.8 | G18: 165765.7 | H18: 389505 | I18: 171975.5 | J18: 166078 | K18: 124019.2 | L18: 224071.2 | M18: 193029.1 | N18: 438219.9 | O18: 83038.8 | P18: 276130.4 | Q18: 83038.8 | R18: 191618.2 | S18: 262288.9 | T18: 59723.7 | U18: 33090.5 | V18: 102196.5 | W18: 209496.5 | X18: 102196.5 | Y18: 209496.5 | Z18: 102196.5 | AA18: 209496.5 | AB18: 328695.2 | AC18: 190871.2 | AD18: 224071.2 | AE18: 224071.2 | AF18: 156194.1 | AG18: 156194.1 | AH18: 224071.2 | AI18: 190871.2 | AJ18: 6224761.9 | AK18: Total GB | AL18: 474089.6 | AM18: 306710.8 | AN18: 1434588.6 | AO18: 1348438.7 | AP18: 1413104.3 | AQ18: 1155015.7 | AR18: 92814.2 | AS18: 2810165.2 | AT18: 3414596.7 | AU18: 6224761.9 | AW18: FC Pool Devices | AX18: Total GB | AY18: 143393 | AZ18: 132132 | BA18: 83196.1 | BB18: 132132.2 | BC18: 83196.1
B19: Used GB | C19: 54312.2 | D19: 87105.2 | E19: 86852.5 | F19: 102653.3 | G19: 120565.9 | H19: 211105.9 | I19: 98221.5 | J19: 53411.5 | K19: 100811.1 | L19: 101060.6 | M19: 81140.1 | N19: 215816.2 | O19: 60881.8 | P19: 184926.8 | Q19: 27593 | R19: 151294.1 | S19: 156479.4 | T19: 40495.1 | U19: 14288.8 | V19: 16114.9 | W19: 32218 | X19: 43633.5 | Y19: 86385.1 | Z19: 41388.1 | AA19: 75655.4 | AB19: 141628.9 | AC19: 4.9 | AD19: 54793.5 | AE19: 80379.3 | AF19: 32983.7 | AG19: 32956.5 | AH19: 21966.9 | AI19: 4.9 | AJ19: 2609128.6 | AK19: Used GB | AL19: 134691.5 | AM19: 120061.7 | AN19: 491585.1 | AO19: 610085.8 | AP19: 595069.5 | AQ19: 602851.1 | AR19: 54783.9 | AS19: 1332998.6 | AT19: 1276130 | AU19: 2609128.6 | AX19: Used GB | AY19: 51964.9 | AZ19: 58542 | BA19: 2519 | BB19: 70731 | BC19: 31444.9
B20: % full | C20: 0.21723281 | D20: 0.57870788 | E20: 0.57702899 | F20: 0.56403284 | G20: 0.72732719 | H20: 0.54198508 | I20: 0.57113659 | J20: 0.32160491 | K20: 0.81286688 | L20: 0.45102003 | M20: 0.42035165 | N20: 0.4924838 | O20: 0.73317293 | P20: 0.66970822 | Q20: 0.33229045 | R20: 0.78956018 | S20: 0.59659177 | T20: 0.67804071 | U20: 0.43180973 | V20: 0.15768544 | W20: 0.15378777 | X20: 0.42695689 | Y20: 0.41234627 | Z20: 0.40498549 | AA20: 0.36112966 | AB20: 0.43088217 | AC20: 2.5671762e-05 | AD20: 0.24453611 | AE20: 0.35872214 | AF20: 0.21117123 | AG20: 0.21099709 | AH20: 0.098035357 | AI20: 2.5671762e-05 | AJ20: 0.41915316 | AK20: % full | AL20: 0.28410558 | AM20: 0.39144921 | AN20: 0.34266625 | AO20: 0.45243866 | AP20: 0.42110798 | AQ20: 0.52194191 | AR20: 0.59025343 | AS20: 0.47434884 | AT20: 0.37372788 | AU20: 0.41915316 | AX20: % full | AY20: 0.36239496 | AZ20: 0.44305694 | BA20: 0.030277862 | BB20: 0.53530479 | BC20: 0.37796123
A21: Thin Devices | B21: # Devices | C21: 3713 | D21: 3620 | E21: 3560 | F21: 6588 | G21: 8432 | H21: 14882 | I21: 7076 | J21: 9599 | K21: 6863 | L21: 9273 | M21: 5429 | N21: 14829 | O21: 4357 | P21: 8508 | Q21: 4799 | R21: 9395 | S21: 10561 | T21: 2479 | U21: 1570 | V21: 3999 | W21: 7999 | X21: 3999 | Y21: 7999 | Z21: 3999 | AA21: 7999 | AB21: 11649 | AC21: 6400 | AD21: 6399 | AE21: 6399 | AF21: 4800 | AG21: 4800 | AH21: 6399 | AI21: 6400 | AJ21: 224773 | AK21: # Devices | AL21: 10112 | AM21: 8420 | AN21: 49941 | AO21: 56327 | AP21: 48868 | AQ21: 47056 | AR21: 4049 | AS21: 111803 | AT21: 112970 | AU21: 224773 | AW21: EFD Pool Devices | AX21: Total GB | AY21: 9191.8 | AZ21: 13787.7 | BA21: 8804.8 | BB21: 13787.7 | BC21: 8804.8
B22: Virtual Capacity GB | C22: 125191.22 | D22: 122055.54 | E22: 120032.52 | F22: 222127.6 | G22: 284301.74 | H22: 501776.39 | I22: 238581.49 | J22: 323649.48 | K22: 231399.77 | L22: 312657.74 | M22: 183049.59 | N22: 499989.39 | O22: 146904.97 | P22: 286864.24 | Q22: 161807.88 | R22: 316771.21 | S22: 356085.24 | T22: 83584.443 | U22: 52935.69 | V22: 134834.28 | W22: 269702.28 | X22: 134834.28 | Y22: 269702.28 | Z22: 134834.28 | AA22: 269702.28 | AB22: 392769.33 | AC22: 215788.8 | AD22: 215755.08 | AE22: 215755.08 | AF22: 161841.6 | AG22: 161841.6 | AH22: 215755.08 | AI22: 215788.8 | AJ22: 7578671.2 | AK22: Virtual Capacity GB | AL22: 340946.3 | AM22: 283897.14 | AN22: 1683860.7 | AO22: 1899177.5 | AP22: 1647682.4 | AQ22: 1586587.2 | AR22: 136520.13 | AS22: 3769661.8 | AT22: 3809009.5 | AU22: 7578671.2 | AX22: Used GB | AY22: 7975.5 | AZ22: 13649 | BA22: 1289.9 | BB22: 13642 | BC22: 5483.9
B23: capacity threshold | C23: 164000 | D23: 109880 | E23: 109880 | F23: 328000 | G23: 330905 | H23: 264264 | I23: 242663.6 | J23: 328000 | K23: 328000 | L23: 328000 | M23: 328000 | N23: 264264.4 | O23: 328000 | P23: 352965.4 | Q23: 328000 | R23: 328000 | S23: 328000 | T23: 119447.4 | U23: 66181 | V23: 204393 | W23: 418993 | X23: 204393 | Y23: 418993 | Z23: 204393 | AA23: 418993 | AB23: 657390.4 | AC23: 381742.4 | AD23: 448142.4 | AE23: 448142.4 | AF23: 312388.2 | AG23: 312388.2 | AH23: 448142.4 | AI23: 381742.4 | AJ23: 10236688 | AK23: capacity threshold | AL23: 948179.2 | AM23: 613421.6 | AN23: 2869177.2 | AO23: 2696877.4 | AP23: 2826208.6 | AQ23: 2310031.4 | AR23: 185628.4 | AS23: 5620330.4 | AT23: 6829193.4 | AU23: 12449524 | AX23: % full | AY23: 0.86767554 | AZ23: 0.98994031 | BA23: 0.14649964 | BB23: 0.98943261 | BC23: 0.62283073
B24: # Allocated | C24: 1990 | D24: 1649 | E24: 1262 | F24: 4587 | G24: 3337 | H24: 12412 | I24: 5547 | J24: 1469 | K24: 5986 | L24: 6489 | M24: 3767 | N24: 13096 | O24: 3479 | P24: 6189 | Q24: 1917 | R24: 4630 | S24: 8562 | T24: 1817 | U24: 1271 | V24: 1907 | W24: 2490 | X24: 2078 | Y24: 2701 | Z24: 2552 | AA24: 3911 | AB24: 6972 | AC24: 0 | AD24: 4016 | AE24: 3911 | AF24: 1443 | AG24: 1443 | AH24: 4143 | AI24: 0 | AJ24: 127023 | AK24: # Allocated | AL24: 5901 | AM24: 3092 | AN24: 31647 | AO24: 26164 | AP24: 32397 | AQ24: 24734 | AR24: 3088 | AS24: 53990 | AT24: 73033 | AU24: 127023 | AW24: SATA Pool Devices | AX24: Total GB | AY24: 97433.6 | AZ24: 243584.4 | BA24: 132070.3 | BB24: 292299.3 | BC24: 132070.4
B25: GB Allocated | C25: 67096.83 | D25: 55599.333 | E25: 42550.854 | F25: 154659.88 | G25: 112513.63 | H25: 418495.4 | I25: 187028.2 | J25: 49530.273 | K25: 201829.96 | L25: 218789.61 | M25: 127011.94 | N25: 441557.83 | O25: 117301.44 | P25: 120538.28 | Q25: 64635.489 | R25: 156109.71 | S25: 288684.95 | T25: 61263.789 | U25: 42854.307 | V25: 64298.319 | W25: 83955.33 | X25: 70063.926 | Y25: 91069.617 | Z25: 86045.784 | AA25: 131867.19 | AB25: 235074.92 | AC25: 0 | AD25: 135407.47 | AE25: 131867.19 | AF25: 48653.631 | AG25: 48653.631 | AH25: 139689.53 | AI25: 0 | AJ25: 4194698.3 | AK25: GB Allocated | AL25: 198964.02 | AM25: 104252.96 | AN25: 1067041.9 | AO25: 882171.59 | AP25: 1092329.6 | AQ25: 833956.28 | AR25: 104118.1 | AS25: 1820380.8 | AT25: 2462453.7 | AU25: 4282834.5 | AX25: Used GB | AY25: 38973.2 | AZ25: 124350.5 | BA25: 3817.1 | BB25: 109009 | BC25: 33401
B26: subscription vs allocated | C26: 0.26836757 | D26: 0.3693898 | E26: 0.28269856 | F26: 0.84978516 | G26: 0.67875097 | H26: 1.0744288 | I26: 1.0875282 | J26: 0.298235 | K26: 1.627409 | L26: 0.97642898 | M26: 0.65799374 | N26: 1.007617 | O26: 1.41261 | P26: 0.43652664 | Q26: 0.77837696 | R26: 0.81469145 | S26: 1.1006373 | T26: 1.0257869 | U26: 1.2950637 | V26: 0.62916361 | W26: 0.40074813 | X26: 0.68558048 | Y26: 0.4347071 | Z26: 0.8419641 | AA26: 0.62944816 | AB26: 0.71517602 | AC26: 0 | AD26: 0.60430556 | AE26: 0.58850574 | AF26: 0.31149468 | AG26: 0.31149468 | AH26: 0.62341582 | AI26: 0 | AJ26: 0.67387288 | AK26: subscription vs allocated | AL26: 0.41967598 | AM26: 0.3399064 | AN26: 0.74379644 | AO26: 0.65421705 | AP26: 0.77300002 | AQ26: 0.72203025 | AR26: 1.1217906 | AS26: 0.64778428 | AT26: 0.72115505 | AU26: 0.68803186 | AX26: % full | AY26: 0.39999754 | AZ26: 0.51050273 | BA26: 0.028902032 | BB26: 0.37293623 | BC26: 0.252903
B27: GB Mapped(First Port) | C27: 57121.6 | D27: 55194.4 | E27: 42146 | F27: 122319 | G27: 110224 | H27: 422468 | I27: 109776 | J27: 49571.1 | K27: 143410 | L27: 219177 | M27: 139706 | N27: 441635 | O27: 117345 | P27: 92441.6 | Q27: 64686.7 | R27: 142212 | S27: 288847 | T27: 61297.2 | U27: 42854.1 | V27: 64335 | W27: 62682.8 | X27: 70122.7 | Y27: 70088.9 | Z27: 86114.1 | AA27: 82434.8 | AB27: 235220 | AC27: 0 | AD27: 135501 | AE27: 131918 | AF27: 48693.3 | AG27: 48678.6 | AH27: 139723 | AI27: 0 | AJ27: 3897943.9 | AK27: GB Mapped(First Port) | AL27: 189039.6 | AM27: 103873 | AN27: 1039188 | AO27: 722740 | AP27: 1105408 | AQ27: 633544 | AR27: 104151.3 | AS27: 1460157 | AT27: 2437786.9 | AU27: 3897943.9 | AW27: Total | AX27: % full | AY27: 0.38119625 | AZ27: 0.47677983 | BA27: 0.029589947 | BB27: 0.45412051 | BC27: 0.31543211
B28: subscription vs Mapped | C28: 0.22846958 | D28: 0.36669951 | E28: 0.2800088 | F28: 0.67208685 | G28: 0.66493852 | H28: 1.0846279 | I28: 0.63832348 | J28: 0.29848083 | K28: 1.1563532 | L28: 0.97815784 | M28: 0.72375616 | N28: 1.0077931 | O28: 1.4131346 | P28: 0.33477516 | Q28: 0.77899368 | R28: 0.74216332 | S28: 1.1012551 | T28: 1.0263463 | U28: 1.2950575 | V28: 0.62952254 | W28: 0.29920691 | X28: 0.68615559 | Y28: 0.33455881 | Z28: 0.84263258 | AA28: 0.39349011 | AB28: 0.71561739 | AC28: 0 | AD28: 0.60472296 | AE28: 0.58873251 | AF28: 0.31174865 | AG28: 0.31165454 | AH28: 0.62356519 | AI28: 0 | AJ28: 0.62619968 | AK28: subscription vs Mapped | AL28: 0.39874235 | AM28: 0.33866757 | AN28: 0.72438049 | AO28: 0.53598284 | AP28: 0.78225507 | AQ28: 0.54851549 | AR28: 1.1221483 | AS28: 0.51959828 | AT28: 0.71393114 | AU28: 0.62619968
A29: 41963
A30: Site | C30: CGC | D30: CGC | E30: RDC | F30: RDC | G30: RDC | H30: RDC | I30: RDC | J30: RDC | K30: RDC | L30: RDC | M30: FDC | N30: FDC | O30: FDC | P30: FDC | Q30: FDC | R30: FDC | S30: ZDC T4 VMAX 1383 | T30: ZDC | U30: ZDC | V30: FDC | W30: RDC | X30: RDC | Y30: FDC | Z30: RDC | AA30: FDC | AB30: FDC | AC30: FDC | AD30: RDC | AE30: CGC | AF30: RDC | AG30: CGC | AH30: RDC | AI30: RDC | AJ30: Total | AK30: VMAX | AW30: Site | AY30: CGC | AZ30: RDC | BB30: FDC
A31: VMAX | C31: 0623 | D31: 0745 | E31: 0552 | F31: 0678 | G31: 3286 | H31: 3073 | I31: 2230 | J31: 3696 | K31: 4330 | L31: 0347 | M31: 0879 | N31: 3004 | O31: 2804 | P31: 2231 | Q31: 3875 | R31: 4652 | S31: 0349 | T31: 1383 | U31: 0377 | V31: 0667 | W31: 0671 | X31: 0689 | Y31: 0710 | Z31: 0706 | AA31: 0712 | AB31: 0709 | AC31: 0713 | AD31: 0704 | AE31: 0703 | AF31: 0688 | AG31: 0705 | AH31: 0699 | AI31: 0485 | AK31: Site | AL31: CGC Non-Rep | AM31: CGC-Rep | AN31: RDC Non-Rep | AO31: RDC-Rep | AP31: FDC Non-Rep | AQ31: FDC-Rep | AR31: ZDC Non-Rep | AS31: Total Rep | AT31: Total Non-Rep | AU31: Total Rep+Non-Rep | AW31: VMAX | AY31: 0623 | AZ31: 3073 | BA31: 0347 | BB31: 3004 | BC31: 0349
A32: Enabled Pool Devices | B32: Total GB | C32: 250018.4 | D32: 150516.7 | E32: 150516.7 | F32: 181998.8 | G32: 165765.7 | H32: 389505 | I32: 171975.5 | J32: 166078 | K32: 124019.2 | L32: 224071.2 | M32: 193029.1 | N32: 438219.9 | O32: 83038.8 | P32: 276130.4 | Q32: 83038.8 | R32: 191618.2 | S32: 262288.9 | T32: 59723.7 | U32: 33090.5 | V32: 102196.5 | W32: 209496.5 | X32: 102196.5 | Y32: 209496.5 | Z32: 102196.5 | AA32: 209496.5 | AB32: 328695.2 | AC32: 190871.2 | AD32: 224071.2 | AE32: 224071.2 | AF32: 156194.1 | AG32: 156194.1 | AH32: 224071.2 | AI32: 190871.2 | AJ32: 6224761.9 | AK32: Total GB | AL32: 474089.6 | AM32: 306710.8 | AN32: 1434588.6 | AO32: 1348438.7 | AP32: 1413104.3 | AQ32: 1155015.7 | AR32: 92814.2 | AS32: 2810165.2 | AT32: 3414596.7 | AU32: 6224761.9 | AW32: FC Pool Devices | AX32: Total GB | AY32: 143393 | AZ32: 132132 | BA32: 83196.1 | BB32: 132132.2 | BC32: 83196.1
B33: Used GB | C33: 54262.5 | D33: 87105.2 | E33: 86852.5 | F33: 102628.1 | G33: 120466.2 | H33: 210310.3 | I33: 98060.7 | J33: 53353.6 | K33: 103854.5 | L33: 100848.8 | M33: 81108.2 | N33: 219330.6 | O33: 60848.9 | P33: 184627.7 | Q33: 27564.1 | R33: 157662.1 | S33: 188003 | T33: 40495.1 | U33: 14288.8 | V33: 16111.8 | W33: 32211.8 | X33: 42586.2 | Y33: 84285.3 | Z33: 39660.8 | AA33: 72224.5 | AB33: 139780.8 | AC33: 4.9 | AD33: 48411.4 | AE33: 77674.9 | AF33: 32214.4 | AG33: 32187.1 | AH33: 21874.3 | AI33: 4.9 | AJ33: 2630904 | AK33: Used GB | AL33: 131937.4 | AM33: 119292.3 | AN33: 484077.8 | AO33: 609260.7 | AP33: 628227.5 | AQ33: 603324.4 | AR33: 54783.9 | AS33: 1331877.4 | AT33: 1299026.6 | AU33: 2630904 | AX33: Used GB | AY33: 51964.9 | AZ33: 58542 | BA33: 2519 | BB33: 70731 | BC33: 31444.9
B34: % full | C34: 0.21703403 | D34: 0.57870788 | E34: 0.57702899 | F34: 0.56389438 | G34: 0.72672573 | H34: 0.53994249 | I34: 0.57020157 | J34: 0.32125628 | K34: 0.83740663 | L34: 0.4500748 | M34: 0.42018639 | N34: 0.50050351 | O34: 0.73277673 | P34: 0.66862504 | Q34: 0.33194242 | R34: 0.82279293 | S34: 0.71677833 | T34: 0.67804071 | U34: 0.43180973 | V34: 0.15765511 | W34: 0.15375818 | X34: 0.41670899 | Y34: 0.40232319 | Z34: 0.38808374 | AA34: 0.34475278 | AB34: 0.42525963 | AC34: 2.5671762e-05 | AD34: 0.21605365 | AE34: 0.34665276 | AF34: 0.20624595 | AG34: 0.20607116 | AH34: 0.097622095 | AI34: 2.5671762e-05 | AJ34: 0.42265135 | AK34: % full | AL34: 0.27829634 | AM34: 0.38894066 | AN34: 0.33743318 | AO34: 0.45182677 | AP34: 0.44457263 | AQ34: 0.52235169 | AR34: 0.59025343 | AS34: 0.47394986 | AT34: 0.38043339 | AU34: 0.42265135 | AX34: % full | AY34: 0.36239496 | AZ34: 0.44305694 | BA34: 0.030277862 | BB34: 0.53530479 | BC34: 0.37796123
A35: Thin Devices | B35: # Devices | C35: 3713 | D35: 3620 | E35: 3560 | F35: 6588 | G35: 8432 | H35: 14882 | I35: 7076 | J35: 9599 | K35: 6970 | L35: 9273 | M35: 5429 | N35: 14951 | O35: 4357 | P35: 8508 | Q35: 4799 | R35: 9609 | S35: 11560 | T35: 2479 | U35: 1570 | V35: 3999 | W35: 7999 | X35: 3999 | Y35: 7999 | Z35: 3999 | AA35: 7999 | AB35: 12000 | AC35: 6400 | AD35: 6399 | AE35: 6399 | AF35: 4800 | AG35: 4800 | AH35: 6399 | AI35: 6400 | AJ35: 226566 | AK35: # Devices | AL35: 10112 | AM35: 8420 | AN35: 49941 | AO35: 56434 | AP35: 50340 | AQ35: 47270 | AR35: 4049 | AS35: 112124 | AT35: 114442 | AU35: 226566 | AW35: EFD Pool Devices | AX35: Total GB | AY35: 9191.8 | AZ35: 13787.7 | BA35: 8804.8 | BB35: 13787.7 | BC35: 8804.8
B36: Virtual Capacity GB | C36: 125191.22 | D36: 122055.54 | E36: 120032.52 | F36: 222127.6 | G36: 284301.74 | H36: 501776.39 | I36: 238581.49 | J36: 323649.48 | K36: 235007.49 | L36: 312657.74 | M36: 183049.59 | N36: 504102.87 | O36: 146904.97 | P36: 286864.24 | Q36: 161807.88 | R36: 323986.65 | S36: 389768.52 | T36: 83584.443 | U36: 52935.69 | V36: 134834.28 | W36: 269702.28 | X36: 134834.28 | Y36: 269702.28 | Z36: 134834.28 | AA36: 269702.28 | AB36: 404604 | AC36: 215788.8 | AD36: 215755.08 | AE36: 215755.08 | AF36: 161841.6 | AG36: 161841.6 | AH36: 215755.08 | AI36: 215788.8 | AJ36: 7639125.8 | AK36: Virtual Capacity GB | AL36: 340946.3 | AM36: 283897.14 | AN36: 1683860.7 | AO36: 1902785.2 | AP36: 1697313.8 | AQ36: 1593802.6 | AR36: 136520.13 | AS36: 3780484.9 | AT36: 3858640.9 | AU36: 7639125.8 | AX36: Used GB | AY36: 7975.5 | AZ36: 13649 | BA36: 1289.9 | BB36: 13642 | BC36: 5483.9
B37: capacity threshold | C37: 164000 | D37: 109880 | E37: 109880 | F37: 328000 | G37: 330905 | H37: 264264 | I37: 242663.6 | J37: 328000 | K37: 328000 | L37: 328000 | M37: 328000 | N37: 264264.4 | O37: 328000 | P37: 352965.4 | Q37: 328000 | R37: 328000 | S37: 328000 | T37: 119447.4 | U37: 66181 | V37: 204393 | W37: 418993 | X37: 204393 | Y37: 418993 | Z37: 204393 | AA37: 418993 | AB37: 657390.4 | AC37: 381742.4 | AD37: 448142.4 | AE37: 448142.4 | AF37: 312388.2 | AG37: 312388.2 | AH37: 448142.4 | AI37: 381742.4 | AJ37: 10236688 | AK37: capacity threshold | AL37: 948179.2 | AM37: 613421.6 | AN37: 2869177.2 | AO37: 2696877.4 | AP37: 2826208.6 | AQ37: 2310031.4 | AR37: 185628.4 | AS37: 5620330.4 | AT37: 6829193.4 | AU37: 12449524 | AX37: % full | AY37: 0.86767554 | AZ37: 0.98994031 | BA37: 0.14649964 | BB37: 0.98943261 | BC37: 0.62283073
B38: # Allocated | C38: 1990 | D38: 1712 | E38: 1272 | F38: 4588 | G38: 3337 | H38: 12412 | I38: 5547 | J38: 1391 | K38: 6093 | L38: 6489 | M38: 3767 | N38: 13096 | O38: 3479 | P38: 6205 | Q38: 1839 | R38: 4620 | S38: 8685 | T38: 1817 | U38: 1271 | V38: 1907 | W38: 2490 | X38: 2558 | Y38: 3673 | Z38: 2608 | AA38: 4023 | AB38: 7267 | AC38: 0 | AD38: 3731 | AE38: 3842 | AF38: 1343 | AG38: 1343 | AH38: 4143 | AI38: 0 | AJ38: 128538 | AK38: # Allocated | AL38: 5832 | AM38: 3055 | AN38: 31363 | AO38: 26639 | AP38: 32815 | AQ38: 25746 | AR38: 3088 | AS38: 55440 | AT38: 73098 | AU38: 128538 | AW38: SATA Pool Devices | AX38: Total GB | AY38: 97433.6 | AZ38: 243584.4 | BA38: 132070.3 | BB38: 292299.3 | BC38: 132070.4
B39: GB Allocated | C39: 67096.83 | D39: 57723.504 | E39: 42888.024 | F39: 154693.6 | G39: 112513.63 | H39: 418495.4 | I39: 187028.2 | J39: 46900.347 | K39: 205437.68 | L39: 218789.61 | M39: 127011.94 | N39: 441557.83 | O39: 117301.44 | P39: 121077.75 | Q39: 62005.563 | R39: 155772.54 | S39: 292832.14 | T39: 61263.789 | U39: 42854.307 | V39: 64298.319 | W39: 83955.33 | X39: 86248.086 | Y39: 123842.54 | Z39: 87933.936 | AA39: 135643.49 | AB39: 245021.44 | AC39: 0 | AD39: 125798.13 | AE39: 129540.71 | AF39: 45281.931 | AG39: 45281.931 | AH39: 139689.53 | AI39: 0 | AJ39: 4245779.5 | AK39: GB Allocated | AL39: 196637.54 | AM39: 103005.43 | AN39: 1057466.3 | AO39: 898187.16 | AP39: 1106423.4 | AQ39: 868077.88 | AR39: 104118.1 | AS39: 1869270.5 | AT39: 2464645.3 | AU39: 4333915.7 | AX39: Used GB | AY39: 38973.2 | AZ39: 124350.5 | BA39: 3817.1 | BB39: 109009 | BC39: 33401
B40: subscription vs allocated | C40: 0.26836757 | D40: 0.38350232 | E40: 0.28493864 | F40: 0.84997042 | G40: 0.67875097 | H40: 1.0744288 | I40: 1.0875282 | J40: 0.28239952 | K40: 1.656499 | L40: 0.97642898 | M40: 0.65799374 | N40: 1.007617 | O40: 1.41261 | P40: 0.43848032 | Q40: 0.74670591 | R40: 0.81293186 | S40: 1.1164489 | T40: 1.0257869 | U40: 1.2950637 | V40: 0.62916361 | W40: 0.40074813 | X40: 0.84394364 | Y40: 0.59114372 | Z40: 0.8604398 | AA40: 0.64747378 | AB40: 0.74543662 | AC40: 0 | AD40: 0.56142033 | AE40: 0.578123 | AF40: 0.28990808 | AG40: 0.28990808 | AH40: 0.62341582 | AI40: 0 | AJ40: 0.68207902 | AK40: subscription vs allocated | AL40: 0.41476874 | AM40: 0.33583896 | AN40: 0.73712162 | AO40: 0.66609417 | AP40: 0.7829736 | AQ40: 0.75157237 | AR40: 1.1217906 | AS40: 0.66518171 | AT40: 0.72179689 | AU40: 0.696238 | AX40: % full | AY40: 0.39999754 | AZ40: 0.51050273 | BA40: 0.028902032 | BB40: 0.37293623 | BC40: 0.252903
B41: GB Mapped(First Port) | C41: 57121.6 | D41: 57318.6 | E41: 42483.2 | F41: 143392 | G41: 110224 | H41: 422469 | I41: 109776 | J41: 46941.2 | K41: 147020 | L41: 219177 | M41: 139706 | N41: 441635 | O41: 117345 | P41: 93189.2 | Q41: 62056.8 | R41: 141875 | S41: 290033 | T41: 61297.2 | U41: 42854.1 | V41: 64335 | W41: 62682.8 | X41: 86306.8 | Y41: 86273.1 | Z41: 88002.3 | AA41: 84322.9 | AB41: 245160 | AC41: 0 | AD41: 125885 | AE41: 129592 | AF41: 45318.5 | AG41: 45303.8 | AH41: 139723 | AI41: 0 | AJ41: 3948819.1 | AK41: GB Mapped(First Port) | AL41: 186713.6 | AM41: 102622.4 | AN41: 1050646 | AO41: 738754.8 | AP41: 1116534 | AQ41: 649397 | AR41: 104151.3 | AS41: 1490774.2 | AT41: 2458044.9 | AU41: 3948819.1 | AW41: Total | AX41: % full | AY41: 0.38119625 | AZ41: 0.47677983 | BA41: 0.029589947 | BB41: 0.45412051 | BC41: 0.31543211
B42: subscription vs Mapped | C42: 0.22846958 | D42: 0.38081223 | E42: 0.28224908 | F42: 0.78787333 | G42: 0.66493852 | H42: 1.0846305 | I42: 0.63832348 | J42: 0.2826455 | K42: 1.1854616 | L42: 0.97815784 | M42: 0.72375616 | N42: 1.0077931 | O42: 1.4131346 | P42: 0.33748258 | Q42: 0.74732294 | R42: 0.74040462 | S42: 1.1057769 | T42: 1.0263463 | U42: 1.2950575 | V42: 0.62952254 | W42: 0.29920691 | X42: 0.84451816 | Y42: 0.41181165 | Z42: 0.86110875 | AA42: 0.40250267 | AB42: 0.74585817 | AC42: 0 | AD42: 0.56180803 | AE42: 0.57835188 | AF42: 0.2901422 | AG42: 0.29004809 | AH42: 0.62356519 | AI42: 0 | AJ42: 0.63437271 | AK42: subscription vs Mapped | AL42: 0.3938361 | AM42: 0.33459011 | AN42: 0.73236745 | AO42: 0.54785939 | AP42: 0.79012851 | AQ42: 0.56224084 | AR42: 1.1221483 | AS42: 0.53049344 | AT42: 0.7198639 | AU42: 0.63437271
A43: 41956
A44: Site | C44: CGC | D44: CGC | E44: RDC | F44: RDC | G44: RDC | H44: RDC | I44: RDC | J44: RDC | K44: RDC | L44: RDC | M44: FDC | N44: FDC | O44: FDC | P44: FDC | Q44: FDC | R44: FDC | S44: FDC | T44: ZDC | U44: ZDC | V44: FDC | W44: RDC | X44: RDC | Y44: FDC | Z44: RDC | AA44: FDC | AB44: FDC | AC44: FDC | AD44: RDC | AE44: CGC | AF44: RDC | AG44: CGC | AH44: RDC | AI44: RDC | AJ44: Total | AK44: VMAX | AW44: Site | AY44: CGC | AZ44: RDC | BB44: FDC
A45: VMAX | C45: 0623 | D45: 0745 | E45: 0552 | F45: 0678 | G45: 3286 | H45: 3073 | I45: 2230 | J45: 3696 | K45: 4330 | L45: 0347 | M45: 0879 | N45: 3004 | O45: 2804 | P45: 2231 | Q45: 3875 | R45: 4652 | S45: 0349 | T45: 1383 | U45: 0377 | V45: 0667 | W45: 0671 | X45: 0689 | Y45: 0710 | Z45: 0706 | AA45: 0712 | AB45: 0709 | AC45: 0713 | AD45: 0704 | AE45: 0703 | AF45: 0688 | AG45: 0705 | AH45: 0699 | AI45: 0485 | AK45: Site | AL45: CGC Non-Rep | AM45: CGC-Rep | AN45: RDC Non-Rep | AO45: RDC-Rep | AP45: FDC Non-Rep | AQ45: FDC-Rep | AR45: ZDC Non-Rep | AS45: Total Rep | AT45: Total Non-Rep | AU45: Total Rep+Non-Rep | AW45: VMAX | AY45: 0623 | AZ45: 3073 | BA45: 0347 | BB45: 3004 | BC45: 0349
A46: Enabled Pool Devices | B46: Total GB | C46: 250018.4 | D46: 150516.7 | E46: 150516.7 | F46: 181998.8 | G46: 165765.7 | H46: 389505 | I46: 171975.5 | J46: 166078 | K46: 124019.2 | L46: 224071.2 | M46: 193029.1 | N46: 438219.9 | O46: 83038.8 | P46: 276130.4 | Q46: 83038.8 | R46: 191618.2 | S46: 262288.9 | T46: 59723.7 | U46: 33090.5 | V46: 102196.5 | W46: 209496.5 | X46: 102196.5 | Y46: 209496.5 | Z46: 102196.5 | AA46: 209496.5 | AB46: 328695.2 | AC46: 190871.2 | AD46: 224071.2 | AE46: 224071.2 | AF46: 156194.1 | AG46: 156194.1 | AH46: 224071.2 | AI46: 190871.2 | AJ46: 6224761.9 | AK46: Total GB | AL46: 474089.6 | AM46: 306710.8 | AN46: 1434588.6 | AO46: 1348438.7 | AP46: 1413104.3 | AQ46: 1155015.7 | AR46: 92814.2 | AS46: 2810165.2 | AT46: 3414596.7 | AU46: 6224761.9 | AW46: FC Pool Devices | AX46: Total GB | AY46: 143393 | AZ46: 132132 | BA46: 83196.1 | BB46: 132132.2 | BC46: 83196.1
B47: Used GB | C47: 54215.6 | D47: 87105.2 | E47: 86852.5 | F47: 102501.2 | G47: 120394.4 | H47: 209660 | I47: 97887.3 | J47: 53025.3 | K47: 103298.9 | L47: 100281.6 | M47: 81076.4 | N47: 217670.1 | O47: 60810.6 | P47: 184306 | Q47: 27399.9 | R47: 157141.8 | S47: 186863.5 | T47: 40495.1 | U47: 14288.8 | V47: 16095.5 | W47: 32179.2 | X47: 41653.1 | Y47: 82416.8 | Z47: 35546 | AA47: 64666 | AB47: 139253.1 | AC47: 4.9 | AD47: 47528.2 | AE47: 76433.5 | AF47: 26066.7 | AG47: 26039.4 | AH47: 21290.2 | AI47: 4.9 | AJ47: 2594451.7 | AK47: Used GB | AL47: 130649.1 | AM47: 113144.6 | AN47: 481266.1 | AO47: 596903.4 | AP47: 624868 | AQ47: 592836.6 | AR47: 54783.9 | AS47: 1302884.6 | AT47: 1291567.1 | AU47: 2594451.7 | AX47: Used GB | AY47: 51964.9 | AZ47: 58542 | BA47: 2519 | BB47: 70731 | BC47: 31444.9
B48: % full | C48: 0.21684644 | D48: 0.57870788 | E48: 0.57702899 | F48: 0.56319712 | G48: 0.72629259 | H48: 0.53827294 | I48: 0.56919329 | J48: 0.3192795 | K48: 0.83292668 | L48: 0.44754346 | M48: 0.42002164 | N48: 0.49671432 | O48: 0.7323155 | P48: 0.66746001 | Q48: 0.32996503 | R48: 0.82007763 | S48: 0.71243388 | T48: 0.67804071 | U48: 0.43180973 | V48: 0.15749561 | W48: 0.15360257 | X48: 0.40757854 | Y48: 0.39340419 | Z48: 0.34782013 | AA48: 0.30867341 | AB48: 0.42365419 | AC48: 2.5671762e-05 | AD48: 0.21211204 | AE48: 0.34111256 | AF48: 0.16688659 | AG48: 0.1667118 | AH48: 0.095015334 | AI48: 2.5671762e-05 | AJ48: 0.41679533 | AK48: % full | AL48: 0.27557892 | AM48: 0.36889669 | AN48: 0.33547325 | AO48: 0.44266261 | AP48: 0.44219524 | AQ48: 0.51327146 | AR48: 0.59025343 | AS48: 0.46363274 | AT48: 0.3782488 | AU48: 0.41679533 | AX48: % full | AY48: 0.36239496 | AZ48: 0.44305694 | BA48: 0.030277862 | BB48: 0.53530479 | BC48: 0.37796123
A49: Thin Devices | B49: # Devices | C49: 3713 | D49: 3620 | E49: 3560 | F49: 6588 | G49: 8432 | H49: 14882 | I49: 7076 | J49: 9599 | K49: 6970 | L49: 9273 | M49: 5429 | N49: 14951 | O49: 4357 | P49: 8508 | Q49: 4799 | R49: 9609 | S49: 11560 | T49: 2479 | U49: 1570 | V49: 3999 | W49: 7999 | X49: 3999 | Y49: 7999 | Z49: 3999 | AA49: 7999 | AB49: 12000 | AC49: 6400 | AD49: 6399 | AE49: 6399 | AF49: 4800 | AG49: 4800 | AH49: 6399 | AI49: 6400 | AJ49: 226566 | AK49: # Devices | AL49: 10112 | AM49: 8420 | AN49: 49941 | AO49: 56434 | AP49: 50340 | AQ49: 47270 | AR49: 4049 | AS49: 112124 | AT49: 114442 | AU49: 226566 | AW49: EFD Pool Devices | AX49: Total GB | AY49: 9191.8 | AZ49: 13787.7 | BA49: 8804.8 | BB49: 13787.7 | BC49: 8804.8
B50: Virtual Capacity GB | C50: 125191.22 | D50: 122055.54 | E50: 120032.52 | F50: 222127.6 | G50: 284301.74 | H50: 501776.39 | I50: 238581.49 | J50: 323649.48 | K50: 235007.49 | L50: 312657.74 | M50: 183049.59 | N50: 504102.87 | O50: 146904.97 | P50: 286864.24 | Q50: 161807.88 | R50: 323986.65 | S50: 389768.52 | T50: 83584.443 | U50: 52935.69 | V50: 134834.28 | W50: 269702.28 | X50: 134834.28 | Y50: 269702.28 | Z50: 134834.28 | AA50: 269702.28 | AB50: 404604 | AC50: 215788.8 | AD50: 215755.08 | AE50: 215755.08 | AF50: 161841.6 | AG50: 161841.6 | AH50: 215755.08 | AI50: 215788.8 | AJ50: 7639125.8 | AK50: Virtual Capacity GB | AL50: 340946.3 | AM50: 283897.14 | AN50: 1683860.7 | AO50: 1902785.2 | AP50: 1697313.8 | AQ50: 1593802.6 | AR50: 136520.13 | AS50: 3780484.9 | AT50: 3858640.9 | AU50: 7639125.8 | AX50: Used GB | AY50: 7975.5 | AZ50: 13649 | BA50: 1289.9 | BB50: 13642 | BC50: 5483.9
B51: capacity threshold | C51: 164000 | D51: 109880 | E51: 109880 | F51: 328000 | G51: 330905 | H51: 264264 | I51: 242663.6 | J51: 328000 | K51: 328000 | L51: 328000 | M51: 328000 | N51: 264264.4 | O51: 328000 | P51: 352965.4 | Q51: 328000 | R51: 328000 | S51: 328000 | T51: 119447.4 | U51: 66181 | V51: 204393 | W51: 418993 | X51: 204393 | Y51: 418993 | Z51: 204393 | AA51: 418993 | AB51: 657390.4 | AC51: 381742.4 | AD51: 448142.4 | AE51: 448142.4 | AF51: 312388.2 | AG51: 312388.2 | AH51: 448142.4 | AI51: 381742.4 | AJ51: 10236688 | AK51: capacity threshold | AL51: 948179.2 | AM51: 613421.6 | AN51: 2869177.2 | AO51: 2696877.4 | AP51: 2826208.6 | AQ51: 2310031.4 | AR51: 185628.4 | AS51: 5620330.4 | AT51: 6829193.4 | AU51: 12449524 | AX51: % full | AY51: 0.86767554 | AZ51: 0.98994031 | BA51: 0.14649964 | BB51: 0.98943261 | BC51: 0.62283073
B52: # Allocated | C52: 2000 | D52: 1741 | E52: 1419 | F52: 4588 | G52: 3337 | H52: 12412 | I52: 5584 | J52: 1391 | K52: 6093 | L52: 6489 | M52: 3767 | N52: 13096 | O52: 3479 | P52: 6242 | Q52: 1839 | R52: 4620 | S52: 8685 | T52: 1817 | U52: 1271 | V52: 1907 | W52: 2490 | X52: 2519 | Y52: 3595 | Z52: 2608 | AA52: 4023 | AB52: 7265 | AC52: 0 | AD52: 3730 | AE52: 3800 | AF52: 1096 | AG52: 1096 | AH52: 3183 | AI52: 0 | AJ52: 127182 | AK52: # Allocated | AL52: 5800 | AM52: 2837 | AN52: 30402 | AO52: 26537 | AP52: 32813 | AQ52: 25705 | AR52: 3088 | AS52: 55079 | AT52: 72103 | AU52: 127182 | AW52: SATA Pool Devices | AX52: Total GB | AY52: 97433.6 | AZ52: 243584.4 | BA52: 132070.3 | BB52: 292299.3 | BC52: 132070.4
B53: GB Allocated | C53: 67434 | D53: 58701.297 | E53: 47844.423 | F53: 154693.6 | G53: 112513.63 | H53: 418495.4 | I53: 188275.73 | J53: 46900.347 | K53: 205437.68 | L53: 218789.61 | M53: 127011.94 | N53: 441557.83 | O53: 117301.44 | P53: 122325.28 | Q53: 62005.563 | R53: 155772.54 | S53: 292832.14 | T53: 61263.789 | U53: 42854.307 | V53: 64298.319 | W53: 83955.33 | X53: 84933.123 | Y53: 121212.61 | Z53: 87933.936 | AA53: 135643.49 | AB53: 244954.01 | AC53: 0 | AD53: 125764.41 | AE53: 128124.6 | AF53: 36953.832 | AG53: 36953.832 | AH53: 107321.21 | AI53: 0 | AJ53: 4200059.3 | AK53: GB Allocated | AL53: 195558.6 | AM53: 95655.129 | AN53: 1025064.2 | AO53: 894748.03 | AP53: 1106355.9 | AQ53: 866695.48 | AR53: 104118.1 | AS53: 1857098.6 | AT53: 2431096.9 | AU53: 4288195.5 | AX53: Used GB | AY53: 38973.2 | AZ53: 124350.5 | BA53: 3817.1 | BB53: 109009 | BC53: 33401
B54: subscription vs allocated | C54: 0.26971615 | D54: 0.38999856 | E54: 0.31786787 | F54: 0.84997042 | G54: 0.67875097 | H54: 1.0744288 | I54: 1.0947823 | J54: 0.28239952 | K54: 1.656499 | L54: 0.97642898 | M54: 0.65799374 | N54: 1.007617 | O54: 1.41261 | P54: 0.44299822 | Q54: 0.74670591 | R54: 0.81293186 | S54: 1.1164489 | T54: 1.0257869 | U54: 1.2950637 | V54: 0.62916361 | W54: 0.40074813 | X54: 0.83107663 | Y54: 0.57859017 | Z54: 0.8604398 | AA54: 0.64747378 | AB54: 0.74523146 | AC54: 0 | AD54: 0.56126986 | AE54: 0.57180307 | AF54: 0.23658917 | AG54: 0.23658917 | AH54: 0.47896031 | AI54: 0 | AJ54: 0.67473412 | AK54: subscription vs allocated | AL54: 0.41249291 | AM54: 0.31187402 | AN54: 0.71453533 | AO54: 0.66354372 | AP54: 0.78292588 | AQ54: 0.7503755 | AR54: 1.1217906 | AS54: 0.66085035 | AT54: 0.71197189 | AU54: 0.6888931 | AX54: % full | AY54: 0.39999754 | AZ54: 0.51050273 | BA54: 0.028902032 | BB54: 0.37293623 | BC54: 0.252903
B55: GB Mapped(First Port) | C55: 57458.8 | D55: 58296.3 | E55: 47439.5 | F55: 153372 | G55: 110224 | H55: 422469 | I55: 112777 | J55: 46941.2 | K55: 147020 | L55: 219177 | M55: 139706 | N55: 441635 | O55: 117345 | P55: 96190.1 | Q55: 62056.8 | R55: 141875 | S55: 290033 | T55: 61297.2 | U55: 42854.1 | V55: 64335 | W55: 62682.8 | X55: 84991.9 | Y55: 84958.2 | Z55: 88002.3 | AA55: 84322.9 | AB55: 245093 | AC55: 0 | AD55: 125849 | AE55: 128171 | AF55: 36990.5 | AG55: 36975.7 | AH55: 107355 | AI55: 0 | AJ55: 3917894.3 | AK55: GB Mapped(First Port) | AL55: 185629.8 | AM55: 95272 | AN55: 1028222 | AO55: 737069.2 | AP55: 1116467 | AQ55: 651083 | AR55: 104151.3 | AS55: 1483424.2 | AT55: 2434470.1 | AU55: 3917894.3 | AW55: Total | AX55: % full | AY55: 0.38119625 | AZ55: 0.47677983 | BA55: 0.029589947 | BB55: 0.45412051 | BC55: 0.31543211
B56: subscription vs Mapped | C56: 0.22981829 | D56: 0.38730785 | E56: 0.31517765 | F56: 0.84270885 | G56: 0.66493852 | H56: 1.0846305 | I56: 0.65577364 | J56: 0.2826455 | K56: 1.1854616 | L56: 0.97815784 | M56: 0.72375616 | N56: 1.0077931 | O56: 1.4131346 | P56: 0.34835027 | Q56: 0.74732294 | R56: 0.74040462 | S56: 1.1057769 | T56: 1.0263463 | U56: 1.2950575 | V56: 0.62952254 | W56: 0.29920691 | X56: 0.83165177 | Y56: 0.40553518 | Z56: 0.86110875 | AA56: 0.40250267 | AB56: 0.74565433 | AC56: 0 | AD56: 0.56164737 | AE56: 0.57201015 | AF56: 0.23682393 | AG56: 0.23672917 | AH56: 0.4791111 | AI56: 0 | AJ56: 0.62940468 | AK56: subscription vs Mapped | AL56: 0.39155004 | AM56: 0.31062486 | AN56: 0.71673649 | AO56: 0.54660935 | AP56: 0.7900811 | AQ56: 0.56370056 | AR56: 1.1221483 | AS56: 0.52787793 | AT56: 0.71295978 | AU56: 0.62940468
A57: 41949
A58: Site | C58: CGC | D58: CGC | E58: RDC | F58: RDC | G58: RDC | H58: RDC | I58: RDC | J58: RDC | K58: RDC | L58: RDC | M58: FDC | N58: FDC | O58: FDC | P58: FDC | Q58: FDC | R58: FDC | S58: FDC | T58: ZDC | U58: ZDC | V58: FDC | W58: RDC | X58: RDC | Y58: FDC | Z58: RDC | AA58: FDC | AB58: FDC | AC58: FDC | AD58: RDC | AE58: CGC | AF58: RDC | AG58: CGC | AH58: RDC | AI58: RDC | AJ58: Total | AK58: VMAX | AW58: Site | AY58: CGC | AZ58: RDC | BB58: FDC
A59: VMAX | C59: 0623 | D59: 0745 | E59: 0552 | F59: 0678 | G59: 3286 | H59: 3073 | I59: 2230 | J59: 3696 | K59: 4330 | L59: 0347 | M59: 0879 | N59: 3004 | O59: 2804 | P59: 2231 | Q59: 3875 | R59: 4652 | S59: 0349 | T59: 1383 | U59: 0377 | V59: 0667 | W59: 0671 | X59: 0689 | Y59: 0710 | Z59: 0706 | AA59: 0712 | AB59: 0709 | AC59: 0713 | AD59: 0704 | AE59: 0703 | AF59: 0688 | AG59: 0705 | AH59: 0699 | AI59: 0485 | AK59: Site | AL59: CGC Non-Rep | AM59: CGC-Rep | AN59: RDC Non-Rep | AO59: RDC-Rep | AP59: FDC Non-Rep | AQ59: FDC-Rep | AR59: ZDC Non-Rep | AS59: Total Rep | AT59: Total Non-Rep | AU59: Total Rep+Non-Rep | AW59: VMAX | AY59: 0623 | AZ59: 3073 | BA59: 0347 | BB59: 3004 | BC59: 0349
A60: Enabled Pool Devices | B60: Total GB | C60: 250018.4 | D60: 150516.7 | E60: 150516.7 | F60: 181998.8 | G60: 165765.7 | H60: 389505 | I60: 171975.5 | J60: 166078 | K60: 124019.2 | L60: 224071.2 | M60: 193029.1 | N60: 438219.9 | O60: 83038.8 | P60: 276130.4 | Q60: 83038.8 | R60: 191618.2 | S60: 262288.9 | T60: 59723.7 | U60: 33090.5 | V60: 102196.5 | W60: 209496.5 | X60: 102196.5 | Y60: 209496.5 | Z60: 102196.5 | AA60: 209496.5 | AB60: 328695.2 | AC60: 190871.2 | AD60: 224071.2 | AE60: 224071.2 | AF60: 156194.1 | AG60: 156194.1 | AH60: 224071.2 | AI60: 190871.2 | AJ60: 6224761.9 | AK60: Total GB | AL60: 474089.6 | AM60: 306710.8 | AN60: 1434588.6 | AO60: 1348438.7 | AP60: 1413104.3 | AQ60: 1155015.7 | AR60: 92814.2 | AS60: 2810165.2 | AT60: 3414596.7 | AU60: 6224761.9 | AW60: FC Pool Devices | AX60: Total GB | AY60: 143393 | AZ60: 132132 | BA60: 83196.1 | BB60: 132132.2 | BC60: 83196.1
B61: Used GB | C61: 54167.6 | D61: 87105 | E61: 86852.4 | F61: 102455.5 | G61: 120123.6 | H61: 209693.7 | I61: 97823.7 | J61: 52921.4 | K61: 102265.4 | L61: 99852.6 | M61: 81061.9 | N61: 215185.5 | O61: 60665.7 | P61: 184100.8 | Q61: 27328.5 | R61: 155494.4 | S61: 186650.2 | T61: 40495.1 | U61: 14288.8 | V61: 15668.2 | W61: 31338.7 | X61: 38082.7 | Y61: 75242.1 | Z61: 29403.5 | AA61: 50799.1 | AB61: 137891.1 | AC61: 4.9 | AD61: 45661.4 | AE61: 76269.8 | AF61: 24807.2 | AG61: 24778.3 | AH61: 14107 | AI61: 4.9 | AJ61: 2542590.7 | AK61: Used GB | AL61: 130437.4 | AM61: 111883.3 | AN61: 471775.1 | AO61: 583618.6 | AP61: 620793.6 | AQ61: 569298.8 | AR61: 54783.9 | AS61: 1264800.7 | AT61: 1277790 | AU61: 2542590.7 | AX61: Used GB | AY61: 51964.9 | AZ61: 58542 | BA61: 2519 | BB61: 70731 | BC61: 31444.9
B62: % full | C62: 0.21665445 | D62: 0.57870655 | E62: 0.57702833 | F62: 0.56294602 | G62: 0.72465896 | H62: 0.53835946 | I62: 0.56882347 | J62: 0.31865389 | K62: 0.82459329 | L62: 0.44562889 | M62: 0.41994653 | N62: 0.49104456 | O62: 0.73057053 | P62: 0.66671688 | Q62: 0.32910519 | R62: 0.81148033 | S62: 0.71162066 | T62: 0.67804071 | U62: 0.43180973 | V62: 0.15331445 | W62: 0.14959057 | X62: 0.37264192 | Y62: 0.35915684 | Z62: 0.28771533 | AA62: 0.24248186 | AB62: 0.41951054 | AC62: 2.5671762e-05 | AD62: 0.20378076 | AE62: 0.34038199 | AF62: 0.1588229 | AG62: 0.15863787 | AH62: 0.062957667 | AI62: 2.5671762e-05 | AJ62: 0.40846393 | AK62: % full | AL62: 0.27513238 | AM62: 0.36478435 | AN62: 0.32885742 | AO62: 0.43281063 | AP62: 0.43931195 | AQ62: 0.49289269 | AR62: 0.59025343 | AS62: 0.45008055 | AT62: 0.37421403 | AU62: 0.40846393 | AX62: % full | AY62: 0.36239496 | AZ62: 0.44305694 | BA62: 0.030277862 | BB62: 0.53530479 | BC62: 0.37796123
A63: Thin Devices | B63: # Devices | C63: 3713 | D63: 3620 | E63: 3560 | F63: 6588 | G63: 8432 | H63: 15082 | I63: 7076 | J63: 9599 | K63: 6970 | L63: 9334 | M63: 5429 | N63: 14951 | O63: 4357 | P63: 8508 | Q63: 4799 | R63: 9609 | S63: 11560 | T63: 2479 | U63: 1570 | V63: 3999 | W63: 7999 | X63: 3999 | Y63: 7999 | Z63: 3999 | AA63: 7999 | AB63: 12000 | AC63: 6400 | AD63: 6399 | AE63: 6399 | AF63: 4800 | AG63: 4800 | AH63: 6399 | AI63: 6400 | AJ63: 226827 | AK63: # Devices | AL63: 10112 | AM63: 8420 | AN63: 50202 | AO63: 56434 | AP63: 50340 | AQ63: 47270 | AR63: 4049 | AS63: 112124 | AT63: 114703 | AU63: 226827 | AW63: EFD Pool Devices | AX63: Total GB | AY63: 9191.8 | AZ63: 13787.7 | BA63: 8804.8 | BB63: 13787.7 | BC63: 8804.8
B64: Virtual Capacity GB | C64: 125191.22 | D64: 122055.54 | E64: 120032.52 | F64: 222127.6 | G64: 284301.74 | H64: 508519.79 | I64: 238581.49 | J64: 323649.48 | K64: 235007.49 | L64: 314714.48 | M64: 183049.59 | N64: 504102.87 | O64: 146904.97 | P64: 286864.24 | Q64: 161807.88 | R64: 323986.65 | S64: 389768.52 | T64: 83584.443 | U64: 52935.69 | V64: 134834.28 | W64: 269702.28 | X64: 134834.28 | Y64: 269702.28 | Z64: 134834.28 | AA64: 269702.28 | AB64: 404604 | AC64: 215788.8 | AD64: 215755.08 | AE64: 215755.08 | AF64: 161841.6 | AG64: 161841.6 | AH64: 215755.08 | AI64: 215788.8 | AJ64: 7647926 | AK64: Virtual Capacity GB | AL64: 340946.3 | AM64: 283897.14 | AN64: 1692660.8 | AO64: 1902785.2 | AP64: 1697313.8 | AQ64: 1593802.6 | AR64: 136520.13 | AS64: 3780484.9 | AT64: 3867441.1 | AU64: 7647926 | AX64: Used GB | AY64: 7975.5 | AZ64: 13649 | BA64: 1289.9 | BB64: 13642 | BC64: 5483.9
B65: capacity threshold | C65: 164000 | D65: 109880 | E65: 109880 | F65: 328000 | G65: 330905 | H65: 264264 | I65: 242663.6 | J65: 328000 | K65: 328000 | L65: 328000 | M65: 328000 | N65: 264264.4 | O65: 328000 | P65: 352965.4 | Q65: 328000 | R65: 328000 | S65: 328000 | T65: 119447.4 | U65: 66181 | V65: 204393 | W65: 418993 | X65: 204393 | Y65: 418993 | Z65: 204393 | AA65: 418993 | AB65: 657390.4 | AC65: 381742.4 | AD65: 448142.4 | AE65: 448142.4 | AF65: 312388.2 | AG65: 312388.2 | AH65: 448142.4 | AI65: 381742.4 | AJ65: 10236688 | AK65: capacity threshold | AL65: 948179.2 | AM65: 613421.6 | AN65: 2869177.2 | AO65: 2696877.4 | AP65: 2826208.6 | AQ65: 2310031.4 | AR65: 185628.4 | AS65: 5620330.4 | AT65: 6829193.4 | AU65: 12449524 | AX65: % full | AY65: 0.86767554 | AZ65: 0.98994031 | BA65: 0.14649964 | BB65: 0.98943261 | BC65: 0.62283073
B66: # Allocated | C66: 2000 | D66: 1769 | E66: 1456 | F66: 4676 | G66: 3337 | H66: 12456 | I66: 5589 | J66: 1385 | K66: 6084 | L66: 6489 | M66: 3775 | N66: 13096 | O66: 3479 | P66: 6247 | Q66: 1833 | R66: 4710 | S66: 9596 | T66: 1817 | U66: 1271 | V66: 1892 | W66: 2475 | X66: 2331 | Y66: 3219 | Z66: 2501 | AA66: 3916 | AB66: 7260 | AC66: 0 | AD66: 3644 | AE66: 3800 | AF66: 1031 | AG66: 1031 | AH66: 3183 | AI66: 0 | AJ66: 127348 | AK66: # Allocated | AL66: 5800 | AM66: 2800 | AN66: 30448 | AO66: 26189 | AP66: 33727 | AQ66: 25296 | AR66: 3088 | AS66: 54285 | AT66: 73063 | AU66: 127348 | AW66: SATA Pool Devices | AX66: Total GB | AY66: 97433.6 | AZ66: 243584.4 | BA66: 132070.3 | BB66: 292299.3 | BC66: 132070.4
B67: GB Allocated | C67: 67434 | D67: 59645.373 | E67: 49091.952 | F67: 157660.69 | G67: 112513.63 | H67: 419978.95 | I67: 188444.31 | J67: 46698.045 | K67: 205134.23 | L67: 218789.61 | M67: 127281.67 | N67: 441557.83 | O67: 117301.44 | P67: 122493.86 | Q67: 61803.261 | R67: 158807.07 | S67: 323548.33 | T67: 61263.789 | U67: 42854.307 | V67: 63792.564 | W67: 83449.575 | X67: 78594.327 | Y67: 108535.02 | Z67: 84326.217 | AA67: 132035.77 | AB67: 244785.42 | AC67: 0 | AD67: 122864.75 | AE67: 128124.6 | AF67: 34762.227 | AG67: 34762.227 | AH67: 107321.21 | AI67: 0 | AJ67: 4205656.3 | AK67: GB Allocated | AL67: 195558.6 | AM67: 94407.6 | AN67: 1026615.2 | AO67: 883014.51 | AP67: 1137173.3 | AQ67: 852905.23 | AR67: 104118.1 | AS67: 1830327.3 | AT67: 2463465.2 | AU67: 4293792.5 | AX67: Used GB | AY67: 38973.2 | AZ67: 124350.5 | BA67: 3817.1 | BB67: 109009 | BC67: 33401
B68: subscription vs allocated | C68: 0.26971615 | D68: 0.3962708 | E68: 0.32615618 | F68: 0.86627325 | G68: 0.67875097 | H68: 1.0782376 | I68: 1.0957626 | J68: 0.2811814 | K68: 1.6540522 | L68: 0.97642898 | M68: 0.65939112 | N68: 1.007617 | O68: 1.41261 | P68: 0.44360875 | Q68: 0.74426968 | R68: 0.8287682 | S68: 1.2335571 | T68: 1.0257869 | U68: 1.2950637 | V68: 0.62421476 | W68: 0.39833398 | X68: 0.76905106 | Y68: 0.51807559 | Z68: 0.82513801 | AA68: 0.63025288 | AB68: 0.74471857 | AC68: 0 | AD68: 0.54832905 | AE68: 0.57180307 | AF68: 0.22255788 | AG68: 0.22255788 | AH68: 0.47896031 | AI68: 0 | AJ68: 0.67563328 | AK68: subscription vs allocated | AL68: 0.41249291 | AM68: 0.30780657 | AN68: 0.71561646 | AO68: 0.65484216 | AP68: 0.80473413 | AQ68: 0.73843605 | AR68: 1.1217906 | AS68: 0.65132375 | AT68: 0.72145128 | AU68: 0.68979225 | AX68: % full | AY68: 0.39999754 | AZ68: 0.51050273 | BA68: 0.028902032 | BB68: 0.37293623 | BC68: 0.252903
B69: GB Mapped(First Port) | C69: 57458.8 | D69: 59240.4 | E69: 48687.1 | F69: 156339 | G69: 110224 | H69: 423177 | I69: 112945 | J69: 46738.8 | K69: 146717 | L69: 219177 | M69: 139976 | N69: 441635 | O69: 117345 | P69: 96532.1 | Q69: 61854.5 | R69: 145044 | S69: 320751 | T69: 61297.2 | U69: 42854.1 | V69: 63826.1 | W69: 62173.9 | X69: 78653.1 | Y69: 78619.3 | Z69: 84055.3 | AA69: 80375.9 | AB69: 244379 | AC69: 0 | AD69: 122949 | AE69: 128171 | AF69: 34792.6 | AG69: 34777.8 | AH69: 107355 | AI69: 0 | AJ69: 3928121 | AK69: GB Mapped(First Port) | AL69: 185629.8 | AM69: 94018.2 | AN69: 1028997 | AO69: 724986.8 | AP69: 1146741 | AQ69: 643596.9 | AR69: 104151.3 | AS69: 1462601.9 | AT69: 2465519.1 | AU69: 3928121 | AW69: Total | AX69: % full | AY69: 0.38119625 | AZ69: 0.47677983 | BA69: 0.029589947 | BB69: 0.45412051 | BC69: 0.31543211
B70: subscription vs Mapped | C70: 0.22981829 | D70: 0.39358025 | E70: 0.32346643 | F70: 0.85901116 | G70: 0.66493852 | H70: 1.0864482 | I70: 0.65675053 | J70: 0.2814268 | K70: 1.1830184 | L70: 0.97815784 | M70: 0.72515491 | N70: 1.0077931 | O70: 1.4131346 | P70: 0.34958882 | Q70: 0.74488673 | R70: 0.75694271 | S70: 1.222892 | T70: 1.0263463 | U70: 1.2950575 | V70: 0.62454291 | W70: 0.29677775 | X70: 0.76962616 | Y70: 0.37527739 | Z70: 0.82248707 | AA70: 0.38366226 | AB70: 0.74348211 | AC70: 0 | AD70: 0.54870505 | AE70: 0.57201015 | AF70: 0.22275233 | AG70: 0.22265758 | AH70: 0.4791111 | AI70: 0 | AJ70: 0.63104759 | AK70: subscription vs Mapped | AL70: 0.39155004 | AM70: 0.30653697 | AN70: 0.71727672 | AO70: 0.53764906 | AP70: 0.81150485 | AQ70: 0.55721918 | AR70: 1.1221483 | AS70: 0.5204683 | AT70: 0.7220528 | AU70: 0.63104759
A71: 41942
A72: Site | C72: CGC | D72: CGC | E72: RDC | F72: RDC | G72: RDC | H72: RDC | I72: RDC | J72: RDC | K72: RDC | L72: RDC | M72: FDC | N72: FDC | O72: FDC | P72: FDC | Q72: FDC | R72: FDC | S72: FDC | T72: ZDC | U72: ZDC | V72: FDC | W72: RDC | X72: RDC | Y72: FDC | Z72: RDC | AA72: FDC | AB72: FDC | AC72: FDC | AD72: RDC | AE72: CGC | AF72: RDC | AG72: CGC | AH72: RDC | AI72: RDC | AJ72: Total | AK72: VMAX | AW72: Site | AY72: CGC | AZ72: RDC | BB72: FDC
A73: VMAX | C73: 0623 | D73: 0745 | E73: 0552 | F73: 0678 | G73: 3286 | H73: 3073 | I73: 2230 | J73: 3696 | K73: 4330 | L73: 0347 | M73: 0879 | N73: 3004 | O73: 2804 | P73: 2231 | Q73: 3875 | R73: 4652 | S73: 0349 | T73: 1383 | U73: 0377 | V73: 0667 | W73: 0671 | X73: 0689 | Y73: 0710 | Z73: 0706 | AA73: 0712 | AB73: 0709 | AC73: 0713 | AD73: 0704 | AE73: 0703 | AF73: 0688 | AG73: 0705 | AH73: 0699 | AI73: 0485 | AK73: Site | AL73: CGC Non-Rep | AM73: CGC-Rep | AN73: RDC Non-Rep | AO73: RDC-Rep | AP73: FDC Non-Rep | AQ73: FDC-Rep | AR73: ZDC Non-Rep | AS73: Total Rep | AT73: Total Non-Rep | AU73: Total Rep+Non-Rep | AW73: VMAX | AY73: 0623 | AZ73: 3073 | BA73: 0347 | BB73: 3004 | BC73: 0349
A74: Enabled Pool Devices | B74: Total GB | C74: 250018.4 | D74: 150516.7 | E74: 150516.7 | F74: 181998.8 | G74: 165765.7 | H74: 389505 | I74: 171975.5 | J74: 166078 | K74: 124019.2 | L74: 224071.2 | M74: 193029.1 | N74: 438219.9 | O74: 83038.8 | P74: 276130.4 | Q74: 83038.8 | R74: 191618.2 | S74: 262288.9 | T74: 59723.7 | U74: 33090.5 | V74: 102196.5 | W74: 209496.5 | X74: 102196.5 | Y74: 209496.5 | Z74: 102196.5 | AA74: 209496.5 | AB74: 328695.2 | AC74: 190871.2 | AD74: 224071.2 | AE74: 224071.2 | AF74: 156194.1 | AG74: 156194.1 | AH74: 224071.2 | AI74: 190871.2 | AJ74: 6224761.9 | AK74: Total GB | AL74: 474089.6 | AM74: 306710.8 | AN74: 1434588.6 | AO74: 1348438.7 | AP74: 1413104.3 | AQ74: 1155015.7 | AR74: 92814.2 | AS74: 2810165.2 | AT74: 3414596.7 | AU74: 6224761.9 | AW74: FC Pool Devices | AX74: Total GB | AY74: 143393 | AZ74: 132132 | BA74: 83196.1 | BB74: 132132.2 | BC74: 83196.1
B75: Used GB | C75: 54141.2 | D75: 87105 | E75: 86852.2 | F75: 102398.8 | G75: 119019.1 | H75: 208510.6 | I75: 97323.3 | J75: 52718.5 | K75: 101081.4 | L75: 99489.3 | M75: 80891.4 | N75: 214327.4 | O75: 59987.5 | P75: 183226.1 | Q75: 27244.5 | R75: 154508.1 | S75: 185533.9 | T75: 40495.1 | U75: 14288.8 | V75: 15649.2 | W75: 31298.1 | X75: 37847.3 | Y75: 74798.7 | Z75: 22481.9 | AA75: 38997.9 | AB75: 136677 | AC75: 4.9 | AD75: 39942.4 | AE75: 76166.9 | AF75: 24765.9 | AG75: 24743.2 | AH75: 3250.5 | AI75: 4.9 | AJ75: 2495771 | AK75: Used GB | AL75: 130308.1 | AM75: 111848.2 | AN75: 453596.5 | AO75: 573387.7 | AP75: 617434.6 | AQ75: 554412 | AR75: 54783.9 | AS75: 1239647.9 | AT75: 1256123.1 | AU75: 2495771 | AX75: Used GB | AY75: 51964.9 | AZ75: 58542 | BA75: 2519 | BB75: 70731 | BC75: 31444.9
B76: % full | C76: 0.21654886 | D76: 0.57870655 | E76: 0.577027 | F76: 0.56263448 | G76: 0.71799594 | H76: 0.53532201 | I76: 0.56591375 | J76: 0.31743217 | K76: 0.81504638 | L76: 0.44400753 | M76: 0.41906324 | N76: 0.48908642 | O76: 0.72240326 | P76: 0.66354918 | Q76: 0.32809361 | R76: 0.80633311 | S76: 0.70736467 | T76: 0.67804071 | U76: 0.43180973 | V76: 0.15312853 | W76: 0.14939677 | X76: 0.37033851 | Y76: 0.35704033 | Z76: 0.21998699 | AA76: 0.1861506 | AB76: 0.41581684 | AC76: 2.5671762e-05 | AD76: 0.17825763 | AE76: 0.33992276 | AF76: 0.15855849 | AG76: 0.15841315 | AH76: 0.01450655 | AI76: 2.5671762e-05 | AJ76: 0.4009424 | AK76: % full | AL76: 0.27485965 | AM76: 0.36466991 | AN76: 0.31618577 | AO76: 0.42522341 | AP76: 0.43693491 | AQ76: 0.48000386 | AR76: 0.59025343 | AS76: 0.4411299 | AT76: 0.36786866 | AU76: 0.4009424 | AX76: % full | AY76: 0.36239496 | AZ76: 0.44305694 | BA76: 0.030277862 | BB76: 0.53530479 | BC76: 0.37796123
A77: Thin Devices | B77: # Devices | C77: 3713 | D77: 3620 | E77: 3560 | F77: 6588 | G77: 8432 | H77: 15082 | I77: 7076 | J77: 9599 | K77: 6970 | L77: 9334 | M77: 5429 | N77: 14951 | O77: 4357 | P77: 8508 | Q77: 4799 | R77: 9609 | S77: 11560 | T77: 2479 | U77: 1570 | V77: 3999 | W77: 7999 | X77: 3999 | Y77: 7999 | Z77: 3999 | AA77: 7999 | AB77: 12000 | AC77: 6400 | AD77: 6399 | AE77: 6399 | AF77: 4800 | AG77: 4800 | AH77: 6399 | AI77: 6400 | AJ77: 226827 | AK77: # Devices | AL77: 10112 | AM77: 8420 | AN77: 50202 | AO77: 56434 | AP77: 50340 | AQ77: 47270 | AR77: 4049 | AS77: 112124 | AT77: 114703 | AU77: 226827 | AW77: EFD Pool Devices | AX77: Total GB | AY77: 9191.8 | AZ77: 13787.7 | BA77: 8804.8 | BB77: 13787.7 | BC77: 8804.8
B78: Virtual Capacity GB | C78: 125191.22 | D78: 122055.54 | E78: 120032.52 | F78: 222127.6 | G78: 284301.74 | H78: 508519.79 | I78: 238581.49 | J78: 323649.48 | K78: 235007.49 | L78: 314714.48 | M78: 183049.59 | N78: 504102.87 | O78: 146904.97 | P78: 286864.24 | Q78: 161807.88 | R78: 323986.65 | S78: 389768.52 | T78: 83584.443 | U78: 52935.69 | V78: 134834.28 | W78: 269702.28 | X78: 134834.28 | Y78: 269702.28 | Z78: 134834.28 | AA78: 269702.28 | AB78: 404604 | AC78: 215788.8 | AD78: 215755.08 | AE78: 215755.08 | AF78: 161841.6 | AG78: 161841.6 | AH78: 215755.08 | AI78: 215788.8 | AJ78: 7647926 | AK78: Virtual Capacity GB | AL78: 340946.3 | AM78: 283897.14 | AN78: 1692660.8 | AO78: 1902785.2 | AP78: 1697313.8 | AQ78: 1593802.6 | AR78: 136520.13 | AS78: 3780484.9 | AT78: 3867441.1 | AU78: 7647926 | AX78: Used GB | AY78: 7975.5 | AZ78: 13649 | BA78: 1289.9 | BB78: 13642 | BC78: 5483.9
B79: capacity threshold | C79: 164000 | D79: 109880 | E79: 109880 | F79: 328000 | G79: 330905 | H79: 264264 | I79: 242663.6 | J79: 328000 | K79: 328000 | L79: 328000 | M79: 328000 | N79: 264264.4 | O79: 328000 | P79: 352965.4 | Q79: 328000 | R79: 328000 | S79: 328000 | T79: 119447.4 | U79: 66181 | V79: 204393 | W79: 418993 | X79: 204393 | Y79: 418993 | Z79: 204393 | AA79: 418993 | AB79: 657390.4 | AC79: 381742.4 | AD79: 448142.4 | AE79: 448142.4 | AF79: 312388.2 | AG79: 312388.2 | AH79: 448142.4 | AI79: 381742.4 | AJ79: 10236688 | AK79: capacity threshold | AL79: 948179.2 | AM79: 613421.6 | AN79: 2869177.2 | AO79: 2696877.4 | AP79: 2826208.6 | AQ79: 2310031.4 | AR79: 185628.4 | AS79: 5620330.4 | AT79: 6829193.4 | AU79: 12449524 | AX79: % full | AY79: 0.86767554 | AZ79: 0.98994031 | BA79: 0.14649964 | BB79: 0.98943261 | BC79: 0.62283073
B80: # Allocated | C80: 2114 | D80: 1926 | E80: 1607 | F80: 4784 | G80: 3294 | H80: 12456 | I80: 5589 | J80: 1385 | K80: 6080 | L80: 6641 | M80: 3775 | N80: 13096 | O80: 3436 | P80: 6247 | Q80: 1833 | R80: 4709 | S80: 9596 | T80: 1817 | U80: 1271 | V80: 1892 | W80: 2475 | X80: 2235 | Y80: 3047 | Z80: 2481 | AA80: 3896 | AB80: 7046 | AC80: 0 | AD80: 3545 | AE80: 3800 | AF80: 983 | AG80: 999 | AH80: 3183 | AI80: 0 | AJ80: 127238 | AK80: # Allocated | AL80: 5914 | AM80: 2925 | AN80: 30609 | AO80: 26129 | AP80: 33513 | AQ80: 25060 | AR80: 3088 | AS80: 54114 | AT80: 73124 | AU80: 127238 | AW80: SATA Pool Devices | AX80: Total GB | AY80: 97433.6 | AZ80: 243584.4 | BA80: 132070.3 | BB80: 292299.3 | BC80: 132070.4
B81: GB Allocated | C81: 71277.738 | D81: 64938.942 | E81: 54183.219 | F81: 161302.13 | G81: 111063.8 | H81: 419978.95 | I81: 188444.31 | J81: 46698.045 | K81: 204999.36 | L81: 223914.6 | M81: 127281.67 | N81: 441557.83 | O81: 115851.61 | P81: 122493.86 | Q81: 61803.261 | R81: 158773.35 | S81: 323548.33 | T81: 61263.789 | U81: 42854.307 | V81: 63792.564 | W81: 83449.575 | X81: 75357.495 | Y81: 102735.7 | Z81: 83651.877 | AA81: 131361.43 | AB81: 237569.98 | AC81: 0 | AD81: 119526.76 | AE81: 128124.6 | AF81: 33143.811 | AG81: 33683.283 | AH81: 107321.21 | AI81: 0 | AJ81: 4201947.4 | AK81: GB Allocated | AL81: 199402.34 | AM81: 98622.225 | AN81: 1032043.7 | AO81: 880991.49 | AP81: 1129957.8 | AQ81: 844948.02 | AR81: 104118.1 | AS81: 1824561.7 | AT81: 2465521.9 | AU81: 4290083.6 | AX81: Used GB | AY81: 38973.2 | AZ81: 124350.5 | BA81: 3817.1 | BB81: 109009 | BC81: 33401
B82: subscription vs allocated | C82: 0.28508997 | D82: 0.43144011 | E82: 0.35998144 | F82: 0.88628127 | G82: 0.6700047 | H82: 1.0782376 | I82: 1.0957626 | J82: 0.2811814 | K82: 1.6529647 | L82: 0.9993011 | M82: 0.65939112 | N82: 1.007617 | O82: 1.3951504 | P82: 0.44360875 | Q82: 0.74426968 | R82: 0.82859224 | S82: 1.2335571 | T82: 1.0257869 | U82: 1.2950637 | V82: 0.62421476 | W82: 0.39833398 | X82: 0.73737843 | Y82: 0.49039339 | Z82: 0.81853955 | AA82: 0.62703402 | AB82: 0.72276681 | AC82: 0 | AD82: 0.53343207 | AE82: 0.57180307 | AF82: 0.21219631 | AG82: 0.21565016 | AH82: 0.47896031 | AI82: 0 | AJ82: 0.67503745 | AK82: subscription vs allocated | AL82: 0.42060053 | AM82: 0.32154794 | AN82: 0.71940043 | AO82: 0.65334189 | AP82: 0.79962804 | AQ82: 0.73154678 | AR82: 1.1217906 | AS82: 0.64927206 | AT82: 0.72205362 | AU82: 0.68919642 | AX82: % full | AY82: 0.39999754 | AZ82: 0.51050273 | BA82: 0.028902032 | BB82: 0.37293623 | BC82: 0.252903
B83: GB Mapped(First Port) | C83: 61302.5 | D83: 64533.9 | E83: 53778.3 | F83: 159981 | G83: 108775 | H83: 423177 | I83: 112945 | J83: 46738.8 | K83: 146582 | L83: 224302 | M83: 139976 | N83: 441635 | O83: 115895 | P83: 96532.1 | Q83: 61854.5 | R83: 145011 | S83: 320751 | T83: 61297.2 | U83: 42854.1 | V83: 63826.1 | W83: 62173.9 | X83: 75416.2 | Y83: 75382.5 | Z83: 83379.9 | AA83: 79700.5 | AB83: 237699 | AC83: 0 | AD83: 119611 | AE83: 128171 | AF83: 33174.1 | AG83: 33698.9 | AH83: 107355 | AI83: 0 | AJ83: 3927509.5 | AK83: GB Mapped(First Port) | AL83: 189473.5 | AM83: 98232.8 | AN83: 1034426 | AO83: 722963.2 | AP83: 1140061 | AQ83: 638201.7 | AR83: 104151.3 | AS83: 1459397.7 | AT83: 2468111.8 | AU83: 3927509.5 | AW83: Total | AX83: % full | AY83: 0.38119625 | AZ83: 0.47677983 | BA83: 0.029589947 | BB83: 0.45412051 | BC83: 0.31543211
B84: subscription vs Mapped | C84: 0.24519195 | D84: 0.4287491 | E84: 0.35729125 | F84: 0.87902228 | G84: 0.65619727 | H84: 1.0864482 | I84: 0.65675053 | J84: 0.2814268 | K84: 1.1819299 | L84: 1.00103 | M84: 0.72515491 | N84: 1.0077931 | O84: 1.3956729 | P84: 0.34958882 | Q84: 0.74488673 | R84: 0.75677049 | S84: 1.222892 | T84: 1.0263463 | U84: 1.2950575 | V84: 0.62454291 | W84: 0.29677775 | X84: 0.73795287 | Y84: 0.35982701 | Z84: 0.81587823 | AA84: 0.38043834 | AB84: 0.72315933 | AC84: 0 | AD84: 0.533808 | AE84: 0.57201015 | AF84: 0.21239022 | AG84: 0.21575015 | AH84: 0.4791111 | AI84: 0 | AJ84: 0.63094935 | AK84: subscription vs Mapped | AL84: 0.39965758 | AM84: 0.32027826 | AN84: 0.72106108 | AO84: 0.53614836 | AP84: 0.80677767 | AQ84: 0.55254807 | AR84: 1.1221483 | AS84: 0.51932808 | AT84: 0.7228121 | AU84: 0.63094935
A85: 41935
A86: Site | C86: CGC | D86: CGC | E86: RDC | F86: RDC | G86: RDC | H86: RDC | I86: RDC | J86: RDC | K86: RDC | L86: RDC | M86: FDC | N86: FDC | O86: FDC | P86: FDC | Q86: FDC | R86: FDC | S86: FDC | T86: ZDC | U86: ZDC | V86: FDC | W86: RDC | X86: RDC | Y86: FDC | Z86: RDC | AA86: FDC | AB86: FDC | AC86: FDC | AD86: RDC | AE86: CGC | AF86: RDC | AG86: CGC | AH86: RDC | AI86: RDC | AJ86: Total | AK86: VMAX | AW86: Site | AY86: CGC | AZ86: RDC | BB86: FDC
A87: VMAX | C87: 0623 | D87: 0745 | E87: 0552 | F87: 0678 | G87: 3286 | H87: 3073 | I87: 2230 | J87: 3696 | K87: 4330 | L87: 0347 | M87: 0879 | N87: 3004 | O87: 2804 | P87: 2231 | Q87: 3875 | R87: 4652 | S87: 0349 | T87: 2262 | U87: 0377 | V87: 0667 | W87: 0671 | X87: 0689 | Y87: 0710 | Z87: 0706 | AA87: 0712 | AB87: 0709 | AC87: 0713 | AD87: 0704 | AE87: 0703 | AF87: 0688 | AG87: 0705 | AH87: 0699 | AI87: 0485 | AK87: Site | AL87: CGC Non-Rep | AM87: CGC-Rep | AN87: RDC Non-Rep | AO87: RDC-Rep | AP87: FDC Non-Rep | AQ87: FDC-Rep | AR87: ZDC Non-Rep | AS87: Total Rep | AT87: Total Non-Rep | AU87: Total Rep+Non-Rep | AW87: VMAX | AY87: 0623 | AZ87: 3073 | BA87: 0347 | BB87: 3004 | BC87: 0349
A88: Enabled Pool Devices | B88: Total GB | C88: 250018.4 | D88: 150516.7 | E88: 150516.7 | F88: 181998.8 | G88: 165765.7 | H88: 389505 | I88: 171975.5 | J88: 166078 | K88: 124019.2 | L88: 224071.2 | M88: 193029.1 | N88: 438219.9 | O88: 83038.8 | P88: 276130.4 | Q88: 83038.8 | R88: 191618.2 | S88: 262288.9 | T88: 55151 | U88: 33090.5 | V88: 102196.5 | W88: 209496.5 | X88: 102196.5 | Y88: 209496.5 | Z88: 102196.5 | AA88: 209496.5 | AB88: 328695.2 | AC88: 190871.2 | AD88: 224071.2 | AE88: 224071.2 | AF88: 156194.1 | AG88: 156194.1 | AH88: 224071.2 | AI88: 190871.2 | AJ88: 6220189.2 | AK88: Total GB | AL88: 474089.6 | AM88: 306710.8 | AN88: 1434588.6 | AO88: 1348438.7 | AP88: 1413104.3 | AQ88: 1155015.7 | AR88: 88241.5 | AS88: 2810165.2 | AT88: 3410024 | AU88: 6220189.2 | AW88: FC Pool Devices | AX88: Total GB | AY88: 143393 | AZ88: 132132 | BA88: 83196.1 | BB88: 132132.2 | BC88: 83196.1
B89: Used GB | C89: 54100.1 | D89: 87104.7 | E89: 86852 | F89: 102326.8 | G89: 118840.4 | H89: 208123.3 | I89: 96849.6 | J89: 52630.6 | K89: 100882.7 | L89: 97529.7 | M89: 80744.2 | N89: 213335.4 | O89: 59898.8 | P89: 182287.2 | Q89: 27199 | R89: 154491.3 | S89: 185249.5 | T89: 17841 | U89: 11553.4 | V89: 15621.4 | W89: 31242.7 | X89: 34565.8 | Y89: 68246.8 | Z89: 16335.3 | AA89: 32492.6 | AB89: 136218.4 | AC89: 4.9 | AD89: 36259.1 | AE89: 72548.3 | AF89: 21405.1 | AG89: 21377.7 | AH89: 2814.7 | AI89: 4.9 | AJ89: 2426977.4 | AK89: Used GB | AL89: 126648.4 | AM89: 108482.4 | AN89: 447058.5 | AO89: 559604.2 | AP89: 615552.4 | AQ89: 540237.1 | AR89: 29394.4 | AS89: 1208323.7 | AT89: 1218653.7 | AU89: 2426977.4 | AX89: Used GB | AY89: 51964.9 | AZ89: 58542 | BA89: 2519 | BB89: 70731 | BC89: 31444.9
B90: % full | C90: 0.21638447 | D90: 0.57870456 | E90: 0.57702567 | F90: 0.56223887 | G90: 0.71691791 | H90: 0.53432767 | I90: 0.56315929 | J90: 0.3169029 | K90: 0.81344421 | L90: 0.4352621 | M90: 0.41830066 | N90: 0.48682271 | O90: 0.72133509 | P90: 0.66014897 | Q90: 0.32754568 | R90: 0.80624544 | S90: 0.70628036 | T90: 0.32349368 | U90: 0.34914553 | V90: 0.15285651 | W90: 0.14913232 | X90: 0.3382288 | Y90: 0.32576582 | Z90: 0.15984207 | AA90: 0.15509853 | AB90: 0.41442163 | AC90: 2.5671762e-05 | AD90: 0.16181955 | AE90: 0.32377343 | AF90: 0.13704167 | AG90: 0.13686625 | AH90: 0.012561632 | AI90: 2.5671762e-05 | AJ90: 0.39017742 | AK90: % full | AL90: 0.26714022 | AM90: 0.35369606 | AN90: 0.31162837 | AO90: 0.41500159 | AP90: 0.43560295 | AQ90: 0.46773139 | AR90: 0.3331131 | AS90: 0.42998316 | AT90: 0.35737394 | AU90: 0.39017742 | AX90: % full | AY90: 0.36239496 | AZ90: 0.44305694 | BA90: 0.030277862 | BB90: 0.53530479 | BC90: 0.37796123
A91: Thin Devices | B91: # Devices | C91: 3713 | D91: 3620 | E91: 3560 | F91: 6588 | G91: 8432 | H91: 15082 | I91: 7076 | J91: 9599 | K91: 6955 | L91: 9334 | M91: 5429 | N91: 14951 | O91: 4357 | P91: 8508 | Q91: 4799 | R91: 9594 | S91: 11560 | T91: 2480 | U91: 1570 | V91: 3999 | W91: 7999 | X91: 3999 | Y91: 7999 | Z91: 3999 | AA91: 7999 | AB91: 12000 | AC91: 6400 | AD91: 6399 | AE91: 6399 | AF91: 4800 | AG91: 4800 | AH91: 6399 | AI91: 6400 | AJ91: 226798 | AK91: # Devices | AL91: 10112 | AM91: 8420 | AN91: 50202 | AO91: 56419 | AP91: 50340 | AQ91: 47255 | AR91: 4050 | AS91: 112094 | AT91: 114704 | AU91: 226798 | AW91: EFD Pool Devices | AX91: Total GB | AY91: 9191.8 | AZ91: 13787.7 | BA91: 8804.8 | BB91: 13787.7 | BC91: 8804.8
B92: Virtual Capacity GB | C92: 125191.22 | D92: 122055.54 | E92: 120032.52 | F92: 222127.6 | G92: 284301.74 | H92: 508519.79 | I92: 238581.49 | J92: 323649.48 | K92: 234501.73 | L92: 314714.48 | M92: 183049.59 | N92: 504102.87 | O92: 146904.97 | P92: 286864.24 | Q92: 161807.88 | R92: 323480.9 | S92: 389768.52 | T92: 83618.16 | U92: 52935.69 | V92: 134834.28 | W92: 269702.28 | X92: 134834.28 | Y92: 269702.28 | Z92: 134834.28 | AA92: 269702.28 | AB92: 404604 | AC92: 215788.8 | AD92: 215755.08 | AE92: 215755.08 | AF92: 161841.6 | AG92: 161841.6 | AH92: 215755.08 | AI92: 215788.8 | AJ92: 7646948.2 | AK92: Virtual Capacity GB | AL92: 340946.3 | AM92: 283897.14 | AN92: 1692660.8 | AO92: 1902279.4 | AP92: 1697313.8 | AQ92: 1593296.8 | AR92: 136553.85 | AS92: 3779473.4 | AT92: 3867474.8 | AU92: 7646948.2 | AX92: Used GB | AY92: 7975.5 | AZ92: 13649 | BA92: 1289.9 | BB92: 13642 | BC92: 5483.9
B93: capacity threshold | C93: 164000 | D93: 109880 | E93: 109880 | F93: 328000 | G93: 330905 | H93: 264264 | I93: 242663.6 | J93: 328000 | K93: 328000 | L93: 328000 | M93: 328000 | N93: 264264.4 | O93: 328000 | P93: 352965.4 | Q93: 328000 | R93: 328000 | S93: 328000 | T93: 110302 | U93: 66181 | V93: 204393 | W93: 418993 | X93: 204393 | Y93: 418993 | Z93: 204393 | AA93: 418993 | AB93: 657390.4 | AC93: 381742.4 | AD93: 448142.4 | AE93: 448142.4 | AF93: 312388.2 | AG93: 312388.2 | AH93: 448142.4 | AI93: 381742.4 | AJ93: 10227542 | AK93: capacity threshold | AL93: 948179.2 | AM93: 613421.6 | AN93: 2869177.2 | AO93: 2696877.4 | AP93: 2826208.6 | AQ93: 2310031.4 | AR93: 176483 | AS93: 5620330.4 | AT93: 6820048 | AU93: 12440378 | AX93: % full | AY93: 0.86767554 | AZ93: 0.98994031 | BA93: 0.14649964 | BB93: 0.98943261 | BC93: 0.62283073
B94: # Allocated | C94: 2114 | D94: 1985 | E94: 1622 | F94: 4784 | G94: 3298 | H94: 12462 | I94: 5651 | J94: 1385 | K94: 6065 | L94: 6631 | M94: 3799 | N94: 13096 | O94: 3436 | P94: 6563 | Q94: 1833 | R94: 4694 | S94: 9596 | T94: 1888 | U94: 1197 | V94: 1892 | W94: 2483 | X94: 2159 | Y94: 2971 | Z94: 2226 | AA94: 3750 | AB94: 6813 | AC94: 0 | AD94: 3514 | AE94: 3613 | AF94: 846 | AG94: 846 | AH94: 3183 | AI94: 0 | AJ94: 126395 | AK94: # Allocated | AL94: 5727 | AM94: 2831 | AN94: 30574 | AO94: 25735 | AP94: 33304 | AQ94: 25139 | AR94: 3085 | AS94: 53705 | AT94: 72690 | AU94: 126395 | AW94: SATA Pool Devices | AX94: Total GB | AY94: 97433.6 | AZ94: 243584.4 | BA94: 132070.3 | BB94: 292299.3 | BC94: 132070.4
B95: GB Allocated | C95: 71277.738 | D95: 66928.245 | E95: 54688.974 | F95: 161302.13 | G95: 111198.67 | H95: 420181.25 | I95: 190534.77 | J95: 46698.045 | K95: 204493.6 | L95: 223577.43 | M95: 128090.88 | N95: 441557.83 | O95: 115851.61 | P95: 133148.43 | Q95: 61803.261 | R95: 158267.6 | S95: 323548.33 | T95: 63657.696 | U95: 40359.249 | V95: 63792.564 | W95: 83719.311 | X95: 72795.003 | Y95: 100173.21 | Z95: 75054.042 | AA95: 126438.75 | AB95: 229713.92 | AC95: 0 | AD95: 118481.54 | AE95: 121819.52 | AF95: 28524.582 | AG95: 28524.582 | AH95: 107321.21 | AI95: 0 | AJ95: 4173524 | AK95: GB Allocated | AL95: 193097.26 | AM95: 95452.827 | AN95: 1030863.6 | AO95: 867706.99 | AP95: 1122911 | AQ95: 847611.66 | AR95: 104016.94 | AS95: 1810771.5 | AT95: 2450888.7 | AU95: 4261660.2 | AX95: Used GB | AY95: 38973.2 | AZ95: 124350.5 | BA95: 3817.1 | BB95: 109009 | BC95: 33401
B96: subscription vs allocated | C96: 0.28508997 | D96: 0.44465661 | E96: 0.36334157 | F96: 0.88628127 | G96: 0.67081831 | H96: 1.078757 | I96: 1.1079181 | J96: 0.2811814 | K96: 1.6488867 | L96: 0.99779636 | M96: 0.66358328 | N96: 1.007617 | O96: 1.3951504 | P96: 0.48219404 | Q96: 0.74426968 | R96: 0.82595285 | S96: 1.2335571 | T96: 1.1542437 | U96: 1.2196627 | V96: 0.62421476 | W96: 0.39962153 | X96: 0.71230427 | Y96: 0.47816172 | Z96: 0.73440912 | AA96: 0.60353634 | AB96: 0.69886606 | AC96: 0 | AD96: 0.52876737 | AE96: 0.54366434 | AF96: 0.18262266 | AG96: 0.18262266 | AH96: 0.47896031 | AI96: 0 | AJ96: 0.67096415 | AK96: subscription vs allocated | AL96: 0.40730119 | AM96: 0.31121443 | AN96: 0.71857783 | AO96: 0.64349013 | AP96: 0.79464125 | AQ96: 0.73385294 | AR96: 1.1787758 | AS96: 0.64436478 | AT96: 0.71873064 | AU96: 0.68513354 | AX96: % full | AY96: 0.39999754 | AZ96: 0.51050273 | BA96: 0.028902032 | BB96: 0.37293623 | BC96: 0.252903
B97: GB Mapped(First Port) | C97: 61302.5 | D97: 66523.2 | E97: 54284 | F97: 159981 | G97: 108909 | H97: 423379 | I97: 115036 | J97: 46738.8 | K97: 146076 | L97: 223965 | M97: 140785 | N97: 441635 | O97: 115895 | P97: 107187 | Q97: 61854.5 | R97: 144505 | S97: 320751 | T97: 63657.4 | U97: 40359.1 | V97: 63826.1 | W97: 62443.7 | X97: 72853.8 | Y97: 66616.1 | Z97: 66149.5 | AA97: 66145.3 | AB97: 229837 | AC97: 0 | AD97: 118559 | AE97: 121863 | AF97: 28547.6 | AG97: 28537 | AH97: 107355 | AI97: 0 | AJ97: 3875556.6 | AK97: GB Mapped(First Port) | AL97: 183165.5 | AM97: 95060.2 | AN97: 1033239 | AO97: 701038.4 | AP97: 1133008 | AQ97: 626029 | AR97: 104016.5 | AS97: 1422127.6 | AT97: 2453429 | AU97: 3875556.6 | AW97: Total | AX97: % full | AY97: 0.38119625 | AZ97: 0.47677983 | BA97: 0.029589947 | BB97: 0.45412051 | BC97: 0.31543211
B98: subscription vs Mapped | C98: 0.24519195 | D98: 0.44196558 | E98: 0.36065101 | F98: 0.87902228 | G98: 0.65700564 | H98: 1.0869668 | I98: 0.66890923 | J98: 0.2814268 | K98: 1.1778499 | L98: 0.99952604 | M98: 0.72934599 | N98: 1.0077931 | O98: 1.3956729 | P98: 0.3881753 | Q98: 0.74488673 | R98: 0.75412983 | S98: 1.222892 | T98: 1.1542384 | U98: 1.2196582 | V98: 0.62454291 | W98: 0.2980656 | X98: 0.7128796 | Y98: 0.31798192 | Z98: 0.64727755 | AA98: 0.31573463 | AB98: 0.69924051 | AC98: 0 | AD98: 0.52911307 | AE98: 0.54385838 | AF98: 0.18277003 | AG98: 0.18270216 | AH98: 0.4791111 | AI98: 0 | AJ98: 0.62306089 | AK98: subscription vs Mapped | AL98: 0.38635207 | AM98: 0.30993431 | AN98: 0.72023366 | AO98: 0.51988896 | AP98: 0.80178653 | AQ98: 0.54200908 | AR98: 1.1787708 | AS98: 0.50606548 | AT98: 0.71947558 | AU98: 0.62306089
A99: 41928
A100: Site | C100: CGC | D100: CGC | E100: RDC | F100: RDC | G100: RDC | H100: RDC | I100: RDC | J100: RDC | K100: RDC | L100: RDC | M100: FDC | N100: FDC | O100: FDC | P100: FDC | Q100: FDC | R100: FDC | S100: FDC | T100: ZDC | U100: ZDC | V100: FDC | W100: RDC | X100: RDC | Y100: FDC | Z100: RDC | AA100: FDC | AB100: FDC | AC100: FDC | AD100: RDC | AE100: CGC | AF100: RDC | AG100: CGC | AH100: RDC | AI100: RDC | AJ100: Total | AK100: VMAX | AW100: Site | AY100: CGC | AZ100: RDC | BB100: FDC
...

Sheet used space Charts
B1: 0623 | C1: 0745 | D1: 0552 | E1: 0678 | F1: 3286 | G1: 3073 | H1: 2230 | I1: 3696 | J1: 4330 | K1: 0347 | L1: 0879 | M1: 3004 | N1: 2804 | O1: 2231 | P1: 3875 | Q1: 4652 | R1: 0349 | S1: 1383 | T1: 0377 | U1: 0667 | V1: 0671 | W1: 0689 | X1: 0710 | Y1: 0706 | Z1: 0712 | AA1: 0709 | AB1: 0713 | AC1: 0704 | AD1: 0703 | AE1: 0688 | AF1: 0705 | AG1: 0699 | AH1: 0485
B2: CGC T4 V-MAX 0623 | C2: CGC T3 V-MAX 0745 | D2: RDC T3 V-MAX 0552 | E2: RDC T4 V-MAX 0678 | F2: RDC T3 V-MAX 3286 | G2: RDC T4 V-MAX 3073 | H2: RDC T3 V-MAX 2230 | I2: RDC T3 V-MAX 3696 | J2: RDC T3 V-MAX 4330 | K2: RDC T4 V-MAX 0347 | L2: FDC T4 V-MAX 0879 | M2: FDC T4 V-MAX 3004 | N2: FDC T3 V-MAX 2804 | O2: FDC T3 V-MAX 2231 | P2: FDC T3 V-MAX 3875 | Q2: FDC T3 V-MAX 4652 | R2: FDC T4 V-MAX 0349 | S2: ZDC T4 VMAX 1383 | T2: ZDC T4 VMAX 0377 | U2: FDC T3 VMAX 667 | V2: RDC T3 VMAX 0671 | W2: RDC T3 V-Max 0689 | X2: FDC T3 V-Max 0710 | Y2: RDC T3 V-Max 0706 | Z2: FDC T3 V-Max 0712 | AA2: FDC T4 V-Max 0709 | AB2: FDC T4 V-Max 0713 | AC2: RDC T4 V-Max 0704 | AD2: CGC T4 V-Max 0703 | AE2: RDC T3 V-Max 0688 | AF2: CGC T3 V-Max 0705 | AG2: RDC T4 V-Max 0699 | AH2: RDC T4 V-Max 0485 | AI2: Row | AJ2: % full | AK2: =MATCH(AJ2,Table!$B:$B,0) -> 6 | AM2: Row | AN2: VMAX | AO2: =MATCH(AN2,Table!$A:$A,0) -> 3 | AP2: Max Column
A3: 41977 | B3: =IF(ISERROR(MATCH(B$1,INDIRECT("Table!A"&$AM3):INDIRECT("Table!" & $AP$113 & $AM3),0)),"",INDIRECT(CONCATENATE("Table!",ADDRESS($AI3,MATCH(B$1,INDIRECT("Table!A" & $AM3):INDIRECT("Table!" & $AP$112 & $AM3),0))))) -> 0.2173376 | C3: =IF(ISERROR(MATCH(C$1,INDIRECT("Table!A"&$AM3):INDIRECT("Table!" & $AP$112 & $AM3),0)),"",INDIRECT(CONCATENATE("Table!",ADDRESS($AI3,MATCH(C$1,INDIRECT("Table!A" & $AM3):INDIRECT("Table!" & $AP$112 & $AM3),0))))) -> 0.57870788 | D3: =IF(ISERROR(MATCH(D$1,INDIRECT("Table!A"&$AM3):INDIRECT("Table!" & $AP$112 & $AM3),0)),"",INDIRECT(CONCATENATE("Table!",ADDRESS($AI3,MATCH(D$1,INDIRECT("Table!A" & $AM3):INDIRECT("Table!" & $AP$112 & $AM3),0))))) -> 0.57702966 | E3: =IF(ISERROR(MATCH(E$1,INDIRECT("Table!A"&$AM3):INDIRECT("Table!" & $AP$112 & $AM3),0)),"",INDIRECT(CONCATENATE("Table!",ADDRESS($AI3,MATCH(E$1,INDIRECT("Table!A" & $AM3):INDIRECT("Table!" & $AP$112 & $AM3),0))))) -> 0.56417515 | F3: =IF(ISERROR(MATCH(F$1,INDIRECT("Table!A"&$AM3):INDIRECT("Table!" & $AP$112 & $AM3),0)),"",INDIRECT(CONCATENATE("Table!",ADDRESS($AI3,MATCH(F$1,INDIRECT("Table!A" & $AM3):INDIRECT("Table!" & $AP$112 & $AM3),0))))) -> 0.72824957 | G3: =IF(ISERROR(MATCH(G$1,INDIRECT("Table!A"&$AM3):INDIRECT("Table!" & $AP$112 & $AM3),0)),"",INDIRECT(CONCATENATE("Table!",ADDRESS($AI3,MATCH(G$1,INDIRECT("Table!A" & $AM3):INDIRECT("Table!" & $AP$112 & $AM3),0))))) -> 0.54311857 | H3: =IF(ISERROR(MATCH(H$1,INDIRECT("Table!A"&$AM3):INDIRECT("Table!" & $AP$112 & $AM3),0)),"",INDIRECT(CONCATENATE("Table!",ADDRESS($AI3,MATCH(H$1,INDIRECT("Table!A" & $AM3):INDIRECT("Table!" & $AP$112 & $AM3),0))))) -> 0.57186227 | I3: =IF(ISERROR(MATCH(I$1,INDIRECT("Table!A"&$AM3):INDIRECT("Table!" & $AP$91 & $AM3),0)),"",INDIRECT(CONCATENATE("Table!",ADDRESS($AI3,MATCH(I$1,INDIRECT("Table!A" & $AM3):INDIRECT("Table!" & $AP$91 & $AM3),0))))) -> 0.32198365 | J3: =IF(ISERROR(MATCH(J$1,INDIRECT("Table!A"&$AM3):INDIRECT("Table!" & $AP$91 & $AM3),0)),"",INDIRECT(CONCATENATE("Table!",ADDRESS($AI3,MATCH(J$1,INDIRECT("Table!A" & $AM3):INDIRECT("Table!" & $AP$91 & $AM3),0))))) -> 0.81723878 | K3: =IF(ISERROR(MATCH(K$1,INDIRECT("Table!A"&$AM3):INDIRECT("Table!" & $AP$91 & $AM3),0)),"",INDIRECT(CONCATENATE("Table!",ADDRESS($AI3,MATCH(K$1,INDIRECT("Table!A" & $AM3):INDIRECT("Table!" & $AP$91 & $AM3),0))))) -> 0.45248698 | L3: =IF(ISERROR(MATCH(L$1,INDIRECT("Table!A"&$AM3):INDIRECT("Table!" & $AP$91 & $AM3),0)),"",INDIRECT(CONCATENATE("Table!",ADDRESS($AI3,MATCH(L$1,INDIRECT("Table!A" & $AM3):INDIRECT("Table!" & $AP$91 & $AM3),0))))) -> 0.42128467 | M3: =IF(ISERROR(MATCH(M$1,INDIRECT("Table!A"&$AM3):INDIRECT("Table!" & $AP$91 & $AM3),0)),"",INDIRECT(CONCATENATE("Table!",ADDRESS($AI3,MATCH(M$1,INDIRECT("Table!A" & $AM3):INDIRECT("Table!" & $AP$91 & $AM3),0))))) -> 0.49405378 | N3: =IF(ISERROR(MATCH(N$1,INDIRECT("Table!A"&$AM3):INDIRECT("Table!" & $AP$91 & $AM3),0)),"",INDIRECT(CONCATENATE("Table!",ADDRESS($AI3,MATCH(N$1,INDIRECT("Table!A" & $AM3):INDIRECT("Table!" & $AP$91 & $AM3),0))))) -> 0.73378589 | O3: =IF(ISERROR(MATCH(O$1,INDIRECT("Table!A"&$AM3):INDIRECT("Table!" & $AP$91 & $AM3),0)),"",INDIRECT(CONCATENATE("Table!",ADDRESS($AI3,MATCH(O$1,INDIRECT("Table!A" & $AM3):INDIRECT("Table!" & $AP$91 & $AM3),0))))) -> 0.67053392 | P3: =IF(ISERROR(MATCH(P$1,INDIRECT("Table!A"&$AM3):INDIRECT("Table!" & $AP$91 & $AM3),0)),"",INDIRECT(CONCATENATE("Table!",ADDRESS($AI3,MATCH(P$1,INDIRECT("Table!A" & $AM3):INDIRECT("Table!" & $AP$91 & $AM3),0))))) -> 0.33266979 | ... S3: =IF(ISERROR(MATCH(S$1,INDIRECT("Table!A"&$AM3):INDIRECT("Table!" & $AP$91 & $AM3),0)),"",INDIRECT(CONCATENATE("Table!",ADDRESS($AI3,MATCH(S$1,INDIRECT("Table!A" & $AM3):INDIRECT("Table!" & $AP$91 & $AM3),0))))) -> 0.67804071 | T3: =IF(ISERROR(MATCH(T$1,INDIRECT("Table!A"&$AM3):INDIRECT("Table!" & $AP$65 & $AM3),0)),"",INDIRECT(CONCATENATE("Table!",ADDRESS($AI3,MATCH(T$1,INDIRECT("Table!A" & $AM3):INDIRECT("Table!" & $AP$65 & $AM3),0))))) -> 0.43180973 | U3: =IF(ISERROR(MATCH(U$1,INDIRECT("Table!A"&$AM3):INDIRECT("Table!" & $AP$65 & $AM3),0)),"",INDIRECT(CONCATENATE("Table!",ADDRESS($AI3,MATCH(U$1,INDIRECT("Table!A" & $AM3):INDIRECT("Table!" & $AP$65 & $AM3),0))))) -> 0.15779601 | V3: =IF(ISERROR(MATCH(V$1,INDIRECT("Table!A"&$AM3):INDIRECT("Table!" & $AP$65 & $AM3),0)),"",INDIRECT(CONCATENATE("Table!",ADDRESS($AI3,MATCH(V$1,INDIRECT("Table!A" & $AM3):INDIRECT("Table!" & $AP$65 & $AM3),0))))) -> 0.1538947 | W3: =IF(ISERROR(MATCH(W$1,INDIRECT("Table!A"&$AM3):INDIRECT("Table!" & $AP$65 & $AM3),0)),"",INDIRECT(CONCATENATE("Table!",ADDRESS($AI3,MATCH(W$1,INDIRECT("Table!A" & $AM3):INDIRECT("Table!" & $AP$65 & $AM3),0))))) -> 0.43465187 | X3: =IF(ISERROR(MATCH(X$1,INDIRECT("Table!A"&$AM3):INDIRECT("Table!" & $AP$65 & $AM3),0)),"",INDIRECT(CONCATENATE("Table!",ADDRESS($AI3,MATCH(X$1,INDIRECT("Table!A" & $AM3):INDIRECT("Table!" & $AP$65 & $AM3),0))))) -> 0.41987193 | Y3: =IF(ISERROR(MATCH(Y$1,INDIRECT("Table!A"&$AM3):INDIRECT("Table!" & $AP$65 & $AM3),0)),"",INDIRECT(CONCATENATE("Table!",ADDRESS($AI3,MATCH(Y$1,INDIRECT("Table!A" & $AM3):INDIRECT("Table!" & $AP$65 & $AM3),0))))) -> 0.41282823 | Z3: =IF(ISERROR(MATCH(Z$1,INDIRECT("Table!A"&$AM3):INDIRECT("Table!" & $AP$65 & $AM3),0)),"",INDIRECT(CONCATENATE("Table!",ADDRESS($AI3,MATCH(Z$1,INDIRECT("Table!A" & $AM3):INDIRECT("Table!" & $AP$65 & $AM3),0))))) -> 0.36728012 | AA3: =IF(ISERROR(MATCH(AA$1,INDIRECT("Table!A"&$AM3):INDIRECT("Table!" & $AP$65 & $AM3),0)),"",INDIRECT(CONCATENATE("Table!",ADDRESS($AI3,MATCH(AA$1,INDIRECT("Table!A" & $AM3):INDIRECT("Table!" & $AP$65 & $AM3),0))))) -> 0.43270361 | ... AH3: =IF(ISERROR(MATCH(AH$1,INDIRECT("Table!A"&$AM3):INDIRECT("Table!" & $AP$65 & $AM3),0)),"",INDIRECT(CONCATENATE("Table!",ADDRESS($AI3,MATCH(AH$1,INDIRECT("Table!A" & $AM3):INDIRECT("Table!" & $AP$65 & $AM3),0))))) -> 2.5671762e-05 | AI3: =MATCH($A3,Table!$A:$A,0)+$AK$2-1 -> 6 | AM3: =MATCH($A3,Table!$A:$A,0)+$AO$2-1 -> 3 | AP3: AI
A4: 41970 | B4: =IF(ISERROR(MATCH(B$1,INDIRECT("Table!A"&$AM4):INDIRECT("Table!" & $AP$113 & $AM4),0)),"",INDIRECT(CONCATENATE("Table!",ADDRESS($AI4,MATCH(B$1,INDIRECT("Table!A" & $AM4):INDIRECT("Table!" & $AP$112 & $AM4),0))))) -> 0.21723281 | C4: =IF(ISERROR(MATCH(C$1,INDIRECT("Table!A"&$AM4):INDIRECT("Table!" & $AP$112 & $AM4),0)),"",INDIRECT(CONCATENATE("Table!",ADDRESS($AI4,MATCH(C$1,INDIRECT("Table!A" & $AM4):INDIRECT("Table!" & $AP$112 & $AM4),0))))) -> 0.57870788 | D4: =IF(ISERROR(MATCH(D$1,INDIRECT("Table!A"&$AM4):INDIRECT("Table!" & $AP$112 & $AM4),0)),"",INDIRECT(CONCATENATE("Table!",ADDRESS($AI4,MATCH(D$1,INDIRECT("Table!A" & $AM4):INDIRECT("Table!" & $AP$112 & $AM4),0))))) -> 0.57702899 | E4: =IF(ISERROR(MATCH(E$1,INDIRECT("Table!A"&$AM4):INDIRECT("Table!" & $AP$112 & $AM4),0)),"",INDIRECT(CONCATENATE("Table!",ADDRESS($AI4,MATCH(E$1,INDIRECT("Table!A" & $AM4):INDIRECT("Table!" & $AP$112 & $AM4),0))))) -> 0.56403284 | F4: =IF(ISERROR(MATCH(F$1,INDIRECT("Table!A"&$AM4):INDIRECT("Table!" & $AP$112 & $AM4),0)),"",INDIRECT(CONCATENATE("Table!",ADDRESS($AI4,MATCH(F$1,INDIRECT("Table!A" & $AM4):INDIRECT("Table!" & $AP$112 & $AM4),0))))) -> 0.72732719 | G4: =IF(ISERROR(MATCH(G$1,INDIRECT("Table!A"&$AM4):INDIRECT("Table!" & $AP$112 & $AM4),0)),"",INDIRECT(CONCATENATE("Table!",ADDRESS($AI4,MATCH(G$1,INDIRECT("Table!A" & $AM4):INDIRECT("Table!" & $AP$112 & $AM4),0))))) -> 0.54198508 | H4: =IF(ISERROR(MATCH(H$1,INDIRECT("Table!A"&$AM4):INDIRECT("Table!" & $AP$112 & $AM4),0)),"",INDIRECT(CONCATENATE("Table!",ADDRESS($AI4,MATCH(H$1,INDIRECT("Table!A" & $AM4):INDIRECT("Table!" & $AP$112 & $AM4),0))))) -> 0.57113659 | I4: =IF(ISERROR(MATCH(I$1,INDIRECT("Table!A"&$AM4):INDIRECT("Table!" & $AP$91 & $AM4),0)),"",INDIRECT(CONCATENATE("Table!",ADDRESS($AI4,MATCH(I$1,INDIRECT("Table!A" & $AM4):INDIRECT("Table!" & $AP$91 & $AM4),0))))) -> 0.32160491 | J4: =IF(ISERROR(MATCH(J$1,INDIRECT("Table!A"&$AM4):INDIRECT("Table!" & $AP$91 & $AM4),0)),"",INDIRECT(CONCATENATE("Table!",ADDRESS($AI4,MATCH(J$1,INDIRECT("Table!A" & $AM4):INDIRECT("Table!" & $AP$91 & $AM4),0))))) -> 0.81286688 | K4: =IF(ISERROR(MATCH(K$1,INDIRECT("Table!A"&$AM4):INDIRECT("Table!" & $AP$91 & $AM4),0)),"",INDIRECT(CONCATENATE("Table!",ADDRESS($AI4,MATCH(K$1,INDIRECT("Table!A" & $AM4):INDIRECT("Table!" & $AP$91 & $AM4),0))))) -> 0.45102003 | L4: =IF(ISERROR(MATCH(L$1,INDIRECT("Table!A"&$AM4):INDIRECT("Table!" & $AP$91 & $AM4),0)),"",INDIRECT(CONCATENATE("Table!",ADDRESS($AI4,MATCH(L$1,INDIRECT("Table!A" & $AM4):INDIRECT("Table!" & $AP$91 & $AM4),0))))) -> 0.42035165 | M4: =IF(ISERROR(MATCH(M$1,INDIRECT("Table!A"&$AM4):INDIRECT("Table!" & $AP$91 & $AM4),0)),"",INDIRECT(CONCATENATE("Table!",ADDRESS($AI4,MATCH(M$1,INDIRECT("Table!A" & $AM4):INDIRECT("Table!" & $AP$91 & $AM4),0))))) -> 0.4924838 | N4: =IF(ISERROR(MATCH(N$1,INDIRECT("Table!A"&$AM4):INDIRECT("Table!" & $AP$91 & $AM4),0)),"",INDIRECT(CONCATENATE("Table!",ADDRESS($AI4,MATCH(N$1,INDIRECT("Table!A" & $AM4):INDIRECT("Table!" & $AP$91 & $AM4),0))))) -> 0.73317293 | O4: =IF(ISERROR(MATCH(O$1,INDIRECT("Table!A"&$AM4):INDIRECT("Table!" & $AP$91 & $AM4),0)),"",INDIRECT(CONCATENATE("Table!",ADDRESS($AI4,MATCH(O$1,INDIRECT("Table!A" & $AM4):INDIRECT("Table!" & $AP$91 & $AM4),0))))) -> 0.66970822 | P4: =IF(ISERROR(MATCH(P$1,INDIRECT("Table!A"&$AM4):INDIRECT("Table!" & $AP$91 & $AM4),0)),"",INDIRECT(CONCATENATE("Table!",ADDRESS($AI4,MATCH(P$1,INDIRECT("Table!A" & $AM4):INDIRECT("Table!" & $AP$91 & $AM4),0))))) -> 0.33229045 | ... S4: =IF(ISERROR(MATCH(S$1,INDIRECT("Table!A"&$AM4):INDIRECT("Table!" & $AP$91 & $AM4),0)),"",INDIRECT(CONCATENATE("Table!",ADDRESS($AI4,MATCH(S$1,INDIRECT("Table!A" & $AM4):INDIRECT("Table!" & $AP$91 & $AM4),0))))) | T4: =IF(ISERROR(MATCH(T$1,INDIRECT("Table!A"&$AM4):INDIRECT("Table!" & $AP$65 & $AM4),0)),"",INDIRECT(CONCATENATE("Table!",ADDRESS($AI4,MATCH(T$1,INDIRECT("Table!A" & $AM4):INDIRECT("Table!" & $AP$65 & $AM4),0))))) -> 0.43180973 | U4: =IF(ISERROR(MATCH(U$1,INDIRECT("Table!A"&$AM4):INDIRECT("Table!" & $AP$65 & $AM4),0)),"",INDIRECT(CONCATENATE("Table!",ADDRESS($AI4,MATCH(U$1,INDIRECT("Table!A" & $AM4):INDIRECT("Table!" & $AP$65 & $AM4),0))))) -> 0.15768544 | V4: =IF(ISERROR(MATCH(V$1,INDIRECT("Table!A"&$AM4):INDIRECT("Table!" & $AP$65 & $AM4),0)),"",INDIRECT(CONCATENATE("Table!",ADDRESS($AI4,MATCH(V$1,INDIRECT("Table!A" & $AM4):INDIRECT("Table!" & $AP$65 & $AM4),0))))) -> 0.15378777 | W4: =IF(ISERROR(MATCH(W$1,INDIRECT("Table!A"&$AM4):INDIRECT("Table!" & $AP$65 & $AM4),0)),"",INDIRECT(CONCATENATE("Table!",ADDRESS($AI4,MATCH(W$1,INDIRECT("Table!A" & $AM4):INDIRECT("Table!" & $AP$65 & $AM4),0))))) -> 0.42695689 | X4: =IF(ISERROR(MATCH(X$1,INDIRECT("Table!A"&$AM4):INDIRECT("Table!" & $AP$65 & $AM4),0)),"",INDIRECT(CONCATENATE("Table!",ADDRESS($AI4,MATCH(X$1,INDIRECT("Table!A" & $AM4):INDIRECT("Table!" & $AP$65 & $AM4),0))))) -> 0.41234627 | Y4: =IF(ISERROR(MATCH(Y$1,INDIRECT("Table!A"&$AM4):INDIRECT("Table!" & $AP$65 & $AM4),0)),"",INDIRECT(CONCATENATE("Table!",ADDRESS($AI4,MATCH(Y$1,INDIRECT("Table!A" & $AM4):INDIRECT("Table!" & $AP$65 & $AM4),0))))) -> 0.40498549 | Z4: =IF(ISERROR(MATCH(Z$1,INDIRECT("Table!A"&$AM4):INDIRECT("Table!" & $AP$65 & $AM4),0)),"",INDIRECT(CONCATENATE("Table!",ADDRESS($AI4,MATCH(Z$1,INDIRECT("Table!A" & $AM4):INDIRECT("Table!" & $AP$65 & $AM4),0))))) -> 0.36112966 | AA4: =IF(ISERROR(MATCH(AA$1,INDIRECT("Table!A"&$AM4):INDIRECT("Table!" & $AP$65 & $AM4),0)),"",INDIRECT(CONCATENATE("Table!",ADDRESS($AI4,MATCH(AA$1,INDIRECT("Table!A" & $AM4):INDIRECT("Table!" & $AP$65 & $AM4),0))))) -> 0.43088217 | ... AH4: =IF(ISERROR(MATCH(AH$1,INDIRECT("Table!A"&$AM4):INDIRECT("Table!" & $AP$65 & $AM4),0)),"",INDIRECT(CONCATENATE("Table!",ADDRESS($AI4,MATCH(AH$1,INDIRECT("Table!A" & $AM4):INDIRECT("Table!" & $AP$65 & $AM4),0))))) -> 2.5671762e-05 | AI4: =MATCH($A4,Table!$A:$A,0)+$AK$2-1 -> 20 | AM4: =MATCH($A4,Table!$A:$A,0)+$AO$2-1 -> 17 | AP4: AI
A5: 41963 | B5: =IF(ISERROR(MATCH(B$1,INDIRECT("Table!A"&$AM5):INDIRECT("Table!" & $AP$113 & $AM5),0)),"",INDIRECT(CONCATENATE("Table!",ADDRESS($AI5,MATCH(B$1,INDIRECT("Table!A" & $AM5):INDIRECT("Table!" & $AP$112 & $AM5),0))))) -> 0.21703403 | C5: =IF(ISERROR(MATCH(C$1,INDIRECT("Table!A"&$AM5):INDIRECT("Table!" & $AP$112 & $AM5),0)),"",INDIRECT(CONCATENATE("Table!",ADDRESS($AI5,MATCH(C$1,INDIRECT("Table!A" & $AM5):INDIRECT("Table!" & $AP$112 & $AM5),0))))) -> 0.57870788 | D5: =IF(ISERROR(MATCH(D$1,INDIRECT("Table!A"&$AM5):INDIRECT("Table!" & $AP$112 & $AM5),0)),"",INDIRECT(CONCATENATE("Table!",ADDRESS($AI5,MATCH(D$1,INDIRECT("Table!A" & $AM5):INDIRECT("Table!" & $AP$112 & $AM5),0))))) -> 0.57702899 | E5: =IF(ISERROR(MATCH(E$1,INDIRECT("Table!A"&$AM5):INDIRECT("Table!" & $AP$112 & $AM5),0)),"",INDIRECT(CONCATENATE("Table!",ADDRESS($AI5,MATCH(E$1,INDIRECT("Table!A" & $AM5):INDIRECT("Table!" & $AP$112 & $AM5),0))))) -> 0.56389438 | F5: =IF(ISERROR(MATCH(F$1,INDIRECT("Table!A"&$AM5):INDIRECT("Table!" & $AP$112 & $AM5),0)),"",INDIRECT(CONCATENATE("Table!",ADDRESS($AI5,MATCH(F$1,INDIRECT("Table!A" & $AM5):INDIRECT("Table!" & $AP$112 & $AM5),0))))) -> 0.72672573 | G5: =IF(ISERROR(MATCH(G$1,INDIRECT("Table!A"&$AM5):INDIRECT("Table!" & $AP$112 & $AM5),0)),"",INDIRECT(CONCATENATE("Table!",ADDRESS($AI5,MATCH(G$1,INDIRECT("Table!A" & $AM5):INDIRECT("Table!" & $AP$112 & $AM5),0))))) -> 0.53994249 | H5: =IF(ISERROR(MATCH(H$1,INDIRECT("Table!A"&$AM5):INDIRECT("Table!" & $AP$112 & $AM5),0)),"",INDIRECT(CONCATENATE("Table!",ADDRESS($AI5,MATCH(H$1,INDIRECT("Table!A" & $AM5):INDIRECT("Table!" & $AP$112 & $AM5),0))))) -> 0.57020157 | I5: =IF(ISERROR(MATCH(I$1,INDIRECT("Table!A"&$AM5):INDIRECT("Table!" & $AP$91 & $AM5),0)),"",INDIRECT(CONCATENATE("Table!",ADDRESS($AI5,MATCH(I$1,INDIRECT("Table!A" & $AM5):INDIRECT("Table!" & $AP$91 & $AM5),0))))) -> 0.32125628 | J5: =IF(ISERROR(MATCH(J$1,INDIRECT("Table!A"&$AM5):INDIRECT("Table!" & $AP$91 & $AM5),0)),"",INDIRECT(CONCATENATE("Table!",ADDRESS($AI5,MATCH(J$1,INDIRECT("Table!A" & $AM5):INDIRECT("Table!" & $AP$91 & $AM5),0))))) -> 0.83740663 | K5: =IF(ISERROR(MATCH(K$1,INDIRECT("Table!A"&$AM5):INDIRECT("Table!" & $AP$91 & $AM5),0)),"",INDIRECT(CONCATENATE("Table!",ADDRESS($AI5,MATCH(K$1,INDIRECT("Table!A" & $AM5):INDIRECT("Table!" & $AP$91 & $AM5),0))))) -> 0.4500748 | L5: =IF(ISERROR(MATCH(L$1,INDIRECT("Table!A"&$AM5):INDIRECT("Table!" & $AP$91 & $AM5),0)),"",INDIRECT(CONCATENATE("Table!",ADDRESS($AI5,MATCH(L$1,INDIRECT("Table!A" & $AM5):INDIRECT("Table!" & $AP$91 & $AM5),0))))) -> 0.42018639 | M5: =IF(ISERROR(MATCH(M$1,INDIRECT("Table!A"&$AM5):INDIRECT("Table!" & $AP$91 & $AM5),0)),"",INDIRECT(CONCATENATE("Table!",ADDRESS($AI5,MATCH(M$1,INDIRECT("Table!A" & $AM5):INDIRECT("Table!" & $AP$91 & $AM5),0))))) -> 0.50050351 | N5: =IF(ISERROR(MATCH(N$1,INDIRECT("Table!A"&$AM5):INDIRECT("Table!" & $AP$91 & $AM5),0)),"",INDIRECT(CONCATENATE("Table!",ADDRESS($AI5,MATCH(N$1,INDIRECT("Table!A" & $AM5):INDIRECT("Table!" & $AP$91 & $AM5),0))))) -> 0.73277673 | O5: =IF(ISERROR(MATCH(O$1,INDIRECT("Table!A"&$AM5):INDIRECT("Table!" & $AP$91 & $AM5),0)),"",INDIRECT(CONCATENATE("Table!",ADDRESS($AI5,MATCH(O$1,INDIRECT("Table!A" & $AM5):INDIRECT("Table!" & $AP$91 & $AM5),0))))) -> 0.66862504 | P5: =IF(ISERROR(MATCH(P$1,INDIRECT("Table!A"&$AM5):INDIRECT("Table!" & $AP$91 & $AM5),0)),"",INDIRECT(CONCATENATE("Table!",ADDRESS($AI5,MATCH(P$1,INDIRECT("Table!A" & $AM5):INDIRECT("Table!" & $AP$91 & $AM5),0))))) -> 0.33194242 | ... S5: =IF(ISERROR(MATCH(S$1,INDIRECT("Table!A"&$AM5):INDIRECT("Table!" & $AP$91 & $AM5),0)),"",INDIRECT(CONCATENATE("Table!",ADDRESS($AI5,MATCH(S$1,INDIRECT("Table!A" & $AM5):INDIRECT("Table!" & $AP$91 & $AM5),0))))) -> 0.67804071 | T5: =IF(ISERROR(MATCH(T$1,INDIRECT("Table!A"&$AM5):INDIRECT("Table!" & $AP$65 & $AM5),0)),"",INDIRECT(CONCATENATE("Table!",ADDRESS($AI5,MATCH(T$1,INDIRECT("Table!A" & $AM5):INDIRECT("Table!" & $AP$65 & $AM5),0))))) -> 0.43180973 | U5: =IF(ISERROR(MATCH(U$1,INDIRECT("Table!A"&$AM5):INDIRECT("Table!" & $AP$65 & $AM5),0)),"",INDIRECT(CONCATENATE("Table!",ADDRESS($AI5,MATCH(U$1,INDIRECT("Table!A" & $AM5):INDIRECT("Table!" & $AP$65 & $AM5),0))))) -> 0.15765511 | V5: =IF(ISERROR(MATCH(V$1,INDIRECT("Table!A"&$AM5):INDIRECT("Table!" & $AP$65 & $AM5),0)),"",INDIRECT(CONCATENATE("Table!",ADDRESS($AI5,MATCH(V$1,INDIRECT("Table!A" & $AM5):INDIRECT("Table!" & $AP$65 & $AM5),0))))) -> 0.15375818 | W5: =IF(ISERROR(MATCH(W$1,INDIRECT("Table!A"&$AM5):INDIRECT("Table!" & $AP$65 & $AM5),0)),"",INDIRECT(CONCATENATE("Table!",ADDRESS($AI5,MATCH(W$1,INDIRECT("Table!A" & $AM5):INDIRECT("Table!" & $AP$65 & $AM5),0))))) -> 0.41670899 | X5: =IF(ISERROR(MATCH(X$1,INDIRECT("Table!A"&$AM5):INDIRECT("Table!" & $AP$65 & $AM5),0)),"",INDIRECT(CONCATENATE("Table!",ADDRESS($AI5,MATCH(X$1,INDIRECT("Table!A" & $AM5):INDIRECT("Table!" & $AP$65 & $AM5),0))))) -> 0.40232319 | Y5: =IF(ISERROR(MATCH(Y$1,INDIRECT("Table!A"&$AM5):INDIRECT("Table!" & $AP$65 & $AM5),0)),"",INDIRECT(CONCATENATE("Table!",ADDRESS($AI5,MATCH(Y$1,INDIRECT("Table!A" & $AM5):INDIRECT("Table!" & $AP$65 & $AM5),0))))) -> 0.38808374 | Z5: =IF(ISERROR(MATCH(Z$1,INDIRECT("Table!A"&$AM5):INDIRECT("Table!" & $AP$65 & $AM5),0)),"",INDIRECT(CONCATENATE("Table!",ADDRESS($AI5,MATCH(Z$1,INDIRECT("Table!A" & $AM5):INDIRECT("Table!" & $AP$65 & $AM5),0))))) -> 0.34475278 | AA5: =IF(ISERROR(MATCH(AA$1,INDIRECT("Table!A"&$AM5):INDIRECT("Table!" & $AP$65 & $AM5),0)),"",INDIRECT(CONCATENATE("Table!",ADDRESS($AI5,MATCH(AA$1,INDIRECT("Table!A" & $AM5):INDIRECT("Table!" & $AP$65 & $AM5),0))))) -> 0.42525963 | ... AH5: =IF(ISERROR(MATCH(AH$1,INDIRECT("Table!A"&$AM5):INDIRECT("Table!" & $AP$65 & $AM5),0)),"",INDIRECT(CONCATENATE("Table!",ADDRESS($AI5,MATCH(AH$1,INDIRECT("Table!A" & $AM5):INDIRECT("Table!" & $AP$65 & $AM5),0))))) -> 2.5671762e-05 | AI5: =MATCH($A5,Table!$A:$A,0)+$AK$2-1 -> 34 | AM5: =MATCH($A5,Table!$A:$A,0)+$AO$2-1 -> 31 | AP5: AI
A6: 41956 | B6: =IF(ISERROR(MATCH(B$1,INDIRECT("Table!A"&$AM6):INDIRECT("Table!" & $AP$113 & $AM6),0)),"",INDIRECT(CONCATENATE("Table!",ADDRESS($AI6,MATCH(B$1,INDIRECT("Table!A" & $AM6):INDIRECT("Table!" & $AP$112 & $AM6),0))))) -> 0.21684644 | C6: =IF(ISERROR(MATCH(C$1,INDIRECT("Table!A"&$AM6):INDIRECT("Table!" & $AP$112 & $AM6),0)),"",INDIRECT(CONCATENATE("Table!",ADDRESS($AI6,MATCH(C$1,INDIRECT("Table!A" & $AM6):INDIRECT("Table!" & $AP$112 & $AM6),0))))) -> 0.57870788 | D6: =IF(ISERROR(MATCH(D$1,INDIRECT("Table!A"&$AM6):INDIRECT("Table!" & $AP$112 & $AM6),0)),"",INDIRECT(CONCATENATE("Table!",ADDRESS($AI6,MATCH(D$1,INDIRECT("Table!A" & $AM6):INDIRECT("Table!" & $AP$112 & $AM6),0))))) -> 0.57702899 | E6: =IF(ISERROR(MATCH(E$1,INDIRECT("Table!A"&$AM6):INDIRECT("Table!" & $AP$112 & $AM6),0)),"",INDIRECT(CONCATENATE("Table!",ADDRESS($AI6,MATCH(E$1,INDIRECT("Table!A" & $AM6):INDIRECT("Table!" & $AP$112 & $AM6),0))))) -> 0.56319712 | F6: =IF(ISERROR(MATCH(F$1,INDIRECT("Table!A"&$AM6):INDIRECT("Table!" & $AP$112 & $AM6),0)),"",INDIRECT(CONCATENATE("Table!",ADDRESS($AI6,MATCH(F$1,INDIRECT("Table!A" & $AM6):INDIRECT("Table!" & $AP$112 & $AM6),0))))) -> 0.72629259 | G6: =IF(ISERROR(MATCH(G$1,INDIRECT("Table!A"&$AM6):INDIRECT("Table!" & $AP$112 & $AM6),0)),"",INDIRECT(CONCATENATE("Table!",ADDRESS($AI6,MATCH(G$1,INDIRECT("Table!A" & $AM6):INDIRECT("Table!" & $AP$112 & $AM6),0))))) -> 0.53827294 | H6: =IF(ISERROR(MATCH(H$1,INDIRECT("Table!A"&$AM6):INDIRECT("Table!" & $AP$112 & $AM6),0)),"",INDIRECT(CONCATENATE("Table!",ADDRESS($AI6,MATCH(H$1,INDIRECT("Table!A" & $AM6):INDIRECT("Table!" & $AP$112 & $AM6),0))))) -> 0.56919329 | I6: =IF(ISERROR(MATCH(I$1,INDIRECT("Table!A"&$AM6):INDIRECT("Table!" & $AP$91 & $AM6),0)),"",INDIRECT(CONCATENATE("Table!",ADDRESS($AI6,MATCH(I$1,INDIRECT("Table!A" & $AM6):INDIRECT("Table!" & $AP$91 & $AM6),0))))) -> 0.3192795 | J6: =IF(ISERROR(MATCH(J$1,INDIRECT("Table!A"&$AM6):INDIRECT("Table!" & $AP$91 & $AM6),0)),"",INDIRECT(CONCATENATE("Table!",ADDRESS($AI6,MATCH(J$1,INDIRECT("Table!A" & $AM6):INDIRECT("Table!" & $AP$91 & $AM6),0))))) -> 0.83292668 | K6: =IF(ISERROR(MATCH(K$1,INDIRECT("Table!A"&$AM6):INDIRECT("Table!" & $AP$91 & $AM6),0)),"",INDIRECT(CONCATENATE("Table!",ADDRESS($AI6,MATCH(K$1,INDIRECT("Table!A" & $AM6):INDIRECT("Table!" & $AP$91 & $AM6),0))))) -> 0.44754346 | L6: =IF(ISERROR(MATCH(L$1,INDIRECT("Table!A"&$AM6):INDIRECT("Table!" & $AP$91 & $AM6),0)),"",INDIRECT(CONCATENATE("Table!",ADDRESS($AI6,MATCH(L$1,INDIRECT("Table!A" & $AM6):INDIRECT("Table!" & $AP$91 & $AM6),0))))) -> 0.42002164 | M6: =IF(ISERROR(MATCH(M$1,INDIRECT("Table!A"&$AM6):INDIRECT("Table!" & $AP$91 & $AM6),0)),"",INDIRECT(CONCATENATE("Table!",ADDRESS($AI6,MATCH(M$1,INDIRECT("Table!A" & $AM6):INDIRECT("Table!" & $AP$91 & $AM6),0))))) -> 0.49671432 | N6: =IF(ISERROR(MATCH(N$1,INDIRECT("Table!A"&$AM6):INDIRECT("Table!" & $AP$91 & $AM6),0)),"",INDIRECT(CONCATENATE("Table!",ADDRESS($AI6,MATCH(N$1,INDIRECT("Table!A" & $AM6):INDIRECT("Table!" & $AP$91 & $AM6),0))))) -> 0.7323155 | O6: =IF(ISERROR(MATCH(O$1,INDIRECT("Table!A"&$AM6):INDIRECT("Table!" & $AP$91 & $AM6),0)),"",INDIRECT(CONCATENATE("Table!",ADDRESS($AI6,MATCH(O$1,INDIRECT("Table!A" & $AM6):INDIRECT("Table!" & $AP$91 & $AM6),0))))) -> 0.66746001 | P6: =IF(ISERROR(MATCH(P$1,INDIRECT("Table!A"&$AM6):INDIRECT("Table!" & $AP$91 & $AM6),0)),"",INDIRECT(CONCATENATE("Table!",ADDRESS($AI6,MATCH(P$1,INDIRECT("Table!A" & $AM6):INDIRECT("Table!" & $AP$91 & $AM6),0))))) -> 0.32996503 | ... S6: =IF(ISERROR(MATCH(S$1,INDIRECT("Table!A"&$AM6):INDIRECT("Table!" & $AP$91 & $AM6),0)),"",INDIRECT(CONCATENATE("Table!",ADDRESS($AI6,MATCH(S$1,INDIRECT("Table!A" & $AM6):INDIRECT("Table!" & $AP$91 & $AM6),0))))) -> 0.67804071 | T6: =IF(ISERROR(MATCH(T$1,INDIRECT("Table!A"&$AM6):INDIRECT("Table!" & $AP$65 & $AM6),0)),"",INDIRECT(CONCATENATE("Table!",ADDRESS($AI6,MATCH(T$1,INDIRECT("Table!A" & $AM6):INDIRECT("Table!" & $AP$65 & $AM6),0))))) -> 0.43180973 | U6: =IF(ISERROR(MATCH(U$1,INDIRECT("Table!A"&$AM6):INDIRECT("Table!" & $AP$65 & $AM6),0)),"",INDIRECT(CONCATENATE("Table!",ADDRESS($AI6,MATCH(U$1,INDIRECT("Table!A" & $AM6):INDIRECT("Table!" & $AP$65 & $AM6),0))))) -> 0.15749561 | V6: =IF(ISERROR(MATCH(V$1,INDIRECT("Table!A"&$AM6):INDIRECT("Table!" & $AP$65 & $AM6),0)),"",INDIRECT(CONCATENATE("Table!",ADDRESS($AI6,MATCH(V$1,INDIRECT("Table!A" & $AM6):INDIRECT("Table!" & $AP$65 & $AM6),0))))) -> 0.15360257 | W6: =IF(ISERROR(MATCH(W$1,INDIRECT("Table!A"&$AM6):INDIRECT("Table!" & $AP$65 & $AM6),0)),"",INDIRECT(CONCATENATE("Table!",ADDRESS($AI6,MATCH(W$1,INDIRECT("Table!A" & $AM6):INDIRECT("Table!" & $AP$65 & $AM6),0))))) -> 0.40757854 | X6: =IF(ISERROR(MATCH(X$1,INDIRECT("Table!A"&$AM6):INDIRECT("Table!" & $AP$65 & $AM6),0)),"",INDIRECT(CONCATENATE("Table!",ADDRESS($AI6,MATCH(X$1,INDIRECT("Table!A" & $AM6):INDIRECT("Table!" & $AP$65 & $AM6),0))))) -> 0.39340419 | Y6: =IF(ISERROR(MATCH(Y$1,INDIRECT("Table!A"&$AM6):INDIRECT("Table!" & $AP$65 & $AM6),0)),"",INDIRECT(CONCATENATE("Table!",ADDRESS($AI6,MATCH(Y$1,INDIRECT("Table!A" & $AM6):INDIRECT("Table!" & $AP$65 & $AM6),0))))) -> 0.34782013 | Z6: =IF(ISERROR(MATCH(Z$1,INDIRECT("Table!A"&$AM6):INDIRECT("Table!" & $AP$65 & $AM6),0)),"",INDIRECT(CONCATENATE("Table!",ADDRESS($AI6,MATCH(Z$1,INDIRECT("Table!A" & $AM6):INDIRECT("Table!" & $AP$65 & $AM6),0))))) -> 0.30867341 | AA6: =IF(ISERROR(MATCH(AA$1,INDIRECT("Table!A"&$AM6):INDIRECT("Table!" & $AP$65 & $AM6),0)),"",INDIRECT(CONCATENATE("Table!",ADDRESS($AI6,MATCH(AA$1,INDIRECT("Table!A" & $AM6):INDIRECT("Table!" & $AP$65 & $AM6),0))))) -> 0.42365419 | ... AH6: =IF(ISERROR(MATCH(AH$1,INDIRECT("Table!A"&$AM6):INDIRECT("Table!" & $AP$65 & $AM6),0)),"",INDIRECT(CONCATENATE("Table!",ADDRESS($AI6,MATCH(AH$1,INDIRECT("Table!A" & $AM6):INDIRECT("Table!" & $AP$65 & $AM6),0))))) -> 2.5671762e-05 | AI6: =MATCH($A6,Table!$A:$A,0)+$AK$2-1 -> 48 | AM6: =MATCH($A6,Table!$A:$A,0)+$AO$2-1 -> 45 | AP6: AI
A7: 41949 | B7: =IF(ISERROR(MATCH(B$1,INDIRECT("Table!A"&$AM7):INDIRECT("Table!" & $AP$113 & $AM7),0)),"",INDIRECT(CONCATENATE("Table!",ADDRESS($AI7,MATCH(B$1,INDIRECT("Table!A" & $AM7):INDIRECT("Table!" & $AP$112 & $AM7),0))))) -> 0.21665445 | C7: =IF(ISERROR(MATCH(C$1,INDIRECT("Table!A"&$AM7):INDIRECT("Table!" & $AP$112 & $AM7),0)),"",INDIRECT(CONCATENATE("Table!",ADDRESS($AI7,MATCH(C$1,INDIRECT("Table!A" & $AM7):INDIRECT("Table!" & $AP$112 & $AM7),0))))) -> 0.57870655 | D7: =IF(ISERROR(MATCH(D$1,INDIRECT("Table!A"&$AM7):INDIRECT("Table!" & $AP$112 & $AM7),0)),"",INDIRECT(CONCATENATE("Table!",ADDRESS($AI7,MATCH(D$1,INDIRECT("Table!A" & $AM7):INDIRECT("Table!" & $AP$112 & $AM7),0))))) -> 0.57702833 | E7: =IF(ISERROR(MATCH(E$1,INDIRECT("Table!A"&$AM7):INDIRECT("Table!" & $AP$112 & $AM7),0)),"",INDIRECT(CONCATENATE("Table!",ADDRESS($AI7,MATCH(E$1,INDIRECT("Table!A" & $AM7):INDIRECT("Table!" & $AP$112 & $AM7),0))))) -> 0.56294602 | F7: =IF(ISERROR(MATCH(F$1,INDIRECT("Table!A"&$AM7):INDIRECT("Table!" & $AP$112 & $AM7),0)),"",INDIRECT(CONCATENATE("Table!",ADDRESS($AI7,MATCH(F$1,INDIRECT("Table!A" & $AM7):INDIRECT("Table!" & $AP$112 & $AM7),0))))) -> 0.72465896 | G7: =IF(ISERROR(MATCH(G$1,INDIRECT("Table!A"&$AM7):INDIRECT("Table!" & $AP$112 & $AM7),0)),"",INDIRECT(CONCATENATE("Table!",ADDRESS($AI7,MATCH(G$1,INDIRECT("Table!A" & $AM7):INDIRECT("Table!" & $AP$112 & $AM7),0))))) -> 0.53835946 | H7: =IF(ISERROR(MATCH(H$1,INDIRECT("Table!A"&$AM7):INDIRECT("Table!" & $AP$112 & $AM7),0)),"",INDIRECT(CONCATENATE("Table!",ADDRESS($AI7,MATCH(H$1,INDIRECT("Table!A" & $AM7):INDIRECT("Table!" & $AP$112 & $AM7),0))))) -> 0.56882347 | I7: =IF(ISERROR(MATCH(I$1,INDIRECT("Table!A"&$AM7):INDIRECT("Table!" & $AP$91 & $AM7),0)),"",INDIRECT(CONCATENATE("Table!",ADDRESS($AI7,MATCH(I$1,INDIRECT("Table!A" & $AM7):INDIRECT("Table!" & $AP$91 & $AM7),0))))) -> 0.31865389 | J7: =IF(ISERROR(MATCH(J$1,INDIRECT("Table!A"&$AM7):INDIRECT("Table!" & $AP$91 & $AM7),0)),"",INDIRECT(CONCATENATE("Table!",ADDRESS($AI7,MATCH(J$1,INDIRECT("Table!A" & $AM7):INDIRECT("Table!" & $AP$91 & $AM7),0))))) -> 0.82459329 | K7: =IF(ISERROR(MATCH(K$1,INDIRECT("Table!A"&$AM7):INDIRECT("Table!" & $AP$91 & $AM7),0)),"",INDIRECT(CONCATENATE("Table!",ADDRESS($AI7,MATCH(K$1,INDIRECT("Table!A" & $AM7):INDIRECT("Table!" & $AP$91 & $AM7),0))))) -> 0.44562889 | L7: =IF(ISERROR(MATCH(L$1,INDIRECT("Table!A"&$AM7):INDIRECT("Table!" & $AP$91 & $AM7),0)),"",INDIRECT(CONCATENATE("Table!",ADDRESS($AI7,MATCH(L$1,INDIRECT("Table!A" & $AM7):INDIRECT("Table!" & $AP$91 & $AM7),0))))) -> 0.41994653 | M7: =IF(ISERROR(MATCH(M$1,INDIRECT("Table!A"&$AM7):INDIRECT("Table!" & $AP$91 & $AM7),0)),"",INDIRECT(CONCATENATE("Table!",ADDRESS($AI7,MATCH(M$1,INDIRECT("Table!A" & $AM7):INDIRECT("Table!" & $AP$91 & $AM7),0))))) -> 0.49104456 | N7: =IF(ISERROR(MATCH(N$1,INDIRECT("Table!A"&$AM7):INDIRECT("Table!" & $AP$91 & $AM7),0)),"",INDIRECT(CONCATENATE("Table!",ADDRESS($AI7,MATCH(N$1,INDIRECT("Table!A" & $AM7):INDIRECT("Table!" & $AP$91 & $AM7),0))))) -> 0.73057053 | O7: =IF(ISERROR(MATCH(O$1,INDIRECT("Table!A"&$AM7):INDIRECT("Table!" & $AP$91 & $AM7),0)),"",INDIRECT(CONCATENATE("Table!",ADDRESS($AI7,MATCH(O$1,INDIRECT("Table!A" & $AM7):INDIRECT("Table!" & $AP$91 & $AM7),0))))) -> 0.66671688 | P7: =IF(ISERROR(MATCH(P$1,INDIRECT("Table!A"&$AM7):INDIRECT("Table!" & $AP$91 & $AM7),0)),"",INDIRECT(CONCATENATE("Table!",ADDRESS($AI7,MATCH(P$1,INDIRECT("Table!A" & $AM7):INDIRECT("Table!" & $AP$91 & $AM7),0))))) -> 0.32910519 | ... S7: =IF(ISERROR(MATCH(S$1,INDIRECT("Table!A"&$AM7):INDIRECT("Table!" & $AP$91 & $AM7),0)),"",INDIRECT(CONCATENATE("Table!",ADDRESS($AI7,MATCH(S$1,INDIRECT("Table!A" & $AM7):INDIRECT("Table!" & $AP$91 & $AM7),0))))) -> 0.67804071 | T7: =IF(ISERROR(MATCH(T$1,INDIRECT("Table!A"&$AM7):INDIRECT("Table!" & $AP$65 & $AM7),0)),"",INDIRECT(CONCATENATE("Table!",ADDRESS($AI7,MATCH(T$1,INDIRECT("Table!A" & $AM7):INDIRECT("Table!" & $AP$65 & $AM7),0))))) -> 0.43180973 | U7: =IF(ISERROR(MATCH(U$1,INDIRECT("Table!A"&$AM7):INDIRECT("Table!" & $AP$65 & $AM7),0)),"",INDIRECT(CONCATENATE("Table!",ADDRESS($AI7,MATCH(U$1,INDIRECT("Table!A" & $AM7):INDIRECT("Table!" & $AP$65 & $AM7),0))))) -> 0.15331445 | V7: =IF(ISERROR(MATCH(V$1,INDIRECT("Table!A"&$AM7):INDIRECT("Table!" & $AP$65 & $AM7),0)),"",INDIRECT(CONCATENATE("Table!",ADDRESS($AI7,MATCH(V$1,INDIRECT("Table!A" & $AM7):INDIRECT("Table!" & $AP$65 & $AM7),0))))) -> 0.14959057 | W7: =IF(ISERROR(MATCH(W$1,INDIRECT("Table!A"&$AM7):INDIRECT("Table!" & $AP$65 & $AM7),0)),"",INDIRECT(CONCATENATE("Table!",ADDRESS($AI7,MATCH(W$1,INDIRECT("Table!A" & $AM7):INDIRECT("Table!" & $AP$65 & $AM7),0))))) -> 0.37264192 | X7: =IF(ISERROR(MATCH(X$1,INDIRECT("Table!A"&$AM7):INDIRECT("Table!" & $AP$65 & $AM7),0)),"",INDIRECT(CONCATENATE("Table!",ADDRESS($AI7,MATCH(X$1,INDIRECT("Table!A" & $AM7):INDIRECT("Table!" & $AP$65 & $AM7),0))))) -> 0.35915684 | Y7: =IF(ISERROR(MATCH(Y$1,INDIRECT("Table!A"&$AM7):INDIRECT("Table!" & $AP$65 & $AM7),0)),"",INDIRECT(CONCATENATE("Table!",ADDRESS($AI7,MATCH(Y$1,INDIRECT("Table!A" & $AM7):INDIRECT("Table!" & $AP$65 & $AM7),0))))) -> 0.28771533 | Z7: =IF(ISERROR(MATCH(Z$1,INDIRECT("Table!A"&$AM7):INDIRECT("Table!" & $AP$65 & $AM7),0)),"",INDIRECT(CONCATENATE("Table!",ADDRESS($AI7,MATCH(Z$1,INDIRECT("Table!A" & $AM7):INDIRECT("Table!" & $AP$65 & $AM7),0))))) -> 0.24248186 | AA7: =IF(ISERROR(MATCH(AA$1,INDIRECT("Table!A"&$AM7):INDIRECT("Table!" & $AP$65 & $AM7),0)),"",INDIRECT(CONCATENATE("Table!",ADDRESS($AI7,MATCH(AA$1,INDIRECT("Table!A" & $AM7):INDIRECT("Table!" & $AP$65 & $AM7),0))))) -> 0.41951054 | ... AH7: =IF(ISERROR(MATCH(AH$1,INDIRECT("Table!A"&$AM7):INDIRECT("Table!" & $AP$65 & $AM7),0)),"",INDIRECT(CONCATENATE("Table!",ADDRESS($AI7,MATCH(AH$1,INDIRECT("Table!A" & $AM7):INDIRECT("Table!" & $AP$65 & $AM7),0))))) -> 2.5671762e-05 | AI7: =MATCH($A7,Table!$A:$A,0)+$AK$2-1 -> 62 | AM7: =MATCH($A7,Table!$A:$A,0)+$AO$2-1 -> 59 | AP7: AI
A8: 41942 | B8: =IF(ISERROR(MATCH(B$1,INDIRECT("Table!A"&$AM8):INDIRECT("Table!" & $AP$113 & $AM8),0)),"",INDIRECT(CONCATENATE("Table!",ADDRESS($AI8,MATCH(B$1,INDIRECT("Table!A" & $AM8):INDIRECT("Table!" & $AP$112 & $AM8),0))))) -> 0.21654886 | C8: =IF(ISERROR(MATCH(C$1,INDIRECT("Table!A"&$AM8):INDIRECT("Table!" & $AP$112 & $AM8),0)),"",INDIRECT(CONCATENATE("Table!",ADDRESS($AI8,MATCH(C$1,INDIRECT("Table!A" & $AM8):INDIRECT("Table!" & $AP$112 & $AM8),0))))) -> 0.57870655 | D8: =IF(ISERROR(MATCH(D$1,INDIRECT("Table!A"&$AM8):INDIRECT("Table!" & $AP$112 & $AM8),0)),"",INDIRECT(CONCATENATE("Table!",ADDRESS($AI8,MATCH(D$1,INDIRECT("Table!A" & $AM8):INDIRECT("Table!" & $AP$112 & $AM8),0))))) -> 0.577027 | E8: =IF(ISERROR(MATCH(E$1,INDIRECT("Table!A"&$AM8):INDIRECT("Table!" & $AP$112 & $AM8),0)),"",INDIRECT(CONCATENATE("Table!",ADDRESS($AI8,MATCH(E$1,INDIRECT("Table!A" & $AM8):INDIRECT("Table!" & $AP$112 & $AM8),0))))) -> 0.56263448 | F8: =IF(ISERROR(MATCH(F$1,INDIRECT("Table!A"&$AM8):INDIRECT("Table!" & $AP$112 & $AM8),0)),"",INDIRECT(CONCATENATE("Table!",ADDRESS($AI8,MATCH(F$1,INDIRECT("Table!A" & $AM8):INDIRECT("Table!" & $AP$112 & $AM8),0))))) -> 0.71799594 | G8: =IF(ISERROR(MATCH(G$1,INDIRECT("Table!A"&$AM8):INDIRECT("Table!" & $AP$112 & $AM8),0)),"",INDIRECT(CONCATENATE("Table!",ADDRESS($AI8,MATCH(G$1,INDIRECT("Table!A" & $AM8):INDIRECT("Table!" & $AP$112 & $AM8),0))))) -> 0.53532201 | H8: =IF(ISERROR(MATCH(H$1,INDIRECT("Table!A"&$AM8):INDIRECT("Table!" & $AP$112 & $AM8),0)),"",INDIRECT(CONCATENATE("Table!",ADDRESS($AI8,MATCH(H$1,INDIRECT("Table!A" & $AM8):INDIRECT("Table!" & $AP$112 & $AM8),0))))) -> 0.56591375 | I8: =IF(ISERROR(MATCH(I$1,INDIRECT("Table!A"&$AM8):INDIRECT("Table!" & $AP$91 & $AM8),0)),"",INDIRECT(CONCATENATE("Table!",ADDRESS($AI8,MATCH(I$1,INDIRECT("Table!A" & $AM8):INDIRECT("Table!" & $AP$91 & $AM8),0))))) -> 0.31743217 | J8: =IF(ISERROR(MATCH(J$1,INDIRECT("Table!A"&$AM8):INDIRECT("Table!" & $AP$91 & $AM8),0)),"",INDIRECT(CONCATENATE("Table!",ADDRESS($AI8,MATCH(J$1,INDIRECT("Table!A" & $AM8):INDIRECT("Table!" & $AP$91 & $AM8),0))))) -> 0.81504638 | K8: =IF(ISERROR(MATCH(K$1,INDIRECT("Table!A"&$AM8):INDIRECT("Table!" & $AP$91 & $AM8),0)),"",INDIRECT(CONCATENATE("Table!",ADDRESS($AI8,MATCH(K$1,INDIRECT("Table!A" & $AM8):INDIRECT("Table!" & $AP$91 & $AM8),0))))) -> 0.44400753 | L8: =IF(ISERROR(MATCH(L$1,INDIRECT("Table!A"&$AM8):INDIRECT("Table!" & $AP$91 & $AM8),0)),"",INDIRECT(CONCATENATE("Table!",ADDRESS($AI8,MATCH(L$1,INDIRECT("Table!A" & $AM8):INDIRECT("Table!" & $AP$91 & $AM8),0))))) -> 0.41906324 | M8: =IF(ISERROR(MATCH(M$1,INDIRECT("Table!A"&$AM8):INDIRECT("Table!" & $AP$91 & $AM8),0)),"",INDIRECT(CONCATENATE("Table!",ADDRESS($AI8,MATCH(M$1,INDIRECT("Table!A" & $AM8):INDIRECT("Table!" & $AP$91 & $AM8),0))))) -> 0.48908642 | N8: =IF(ISERROR(MATCH(N$1,INDIRECT("Table!A"&$AM8):INDIRECT("Table!" & $AP$91 & $AM8),0)),"",INDIRECT(CONCATENATE("Table!",ADDRESS($AI8,MATCH(N$1,INDIRECT("Table!A" & $AM8):INDIRECT("Table!" & $AP$91 & $AM8),0))))) -> 0.72240326 | O8: =IF(ISERROR(MATCH(O$1,INDIRECT("Table!A"&$AM8):INDIRECT("Table!" & $AP$91 & $AM8),0)),"",INDIRECT(CONCATENATE("Table!",ADDRESS($AI8,MATCH(O$1,INDIRECT("Table!A" & $AM8):INDIRECT("Table!" & $AP$91 & $AM8),0))))) -> 0.66354918 | P8: =IF(ISERROR(MATCH(P$1,INDIRECT("Table!A"&$AM8):INDIRECT("Table!" & $AP$91 & $AM8),0)),"",INDIRECT(CONCATENATE("Table!",ADDRESS($AI8,MATCH(P$1,INDIRECT("Table!A" & $AM8):INDIRECT("Table!" & $AP$91 & $AM8),0))))) -> 0.32809361 | ... S8: =IF(ISERROR(MATCH(S$1,INDIRECT("Table!A"&$AM8):INDIRECT("Table!" & $AP$91 & $AM8),0)),"",INDIRECT(CONCATENATE("Table!",ADDRESS($AI8,MATCH(S$1,INDIRECT("Table!A" & $AM8):INDIRECT("Table!" & $AP$91 & $AM8),0))))) -> 0.67804071 | T8: =IF(ISERROR(MATCH(T$1,INDIRECT("Table!A"&$AM8):INDIRECT("Table!" & $AP$65 & $AM8),0)),"",INDIRECT(CONCATENATE("Table!",ADDRESS($AI8,MATCH(T$1,INDIRECT("Table!A" & $AM8):INDIRECT("Table!" & $AP$65 & $AM8),0))))) -> 0.43180973 | U8: =IF(ISERROR(MATCH(U$1,INDIRECT("Table!A"&$AM8):INDIRECT("Table!" & $AP$65 & $AM8),0)),"",INDIRECT(CONCATENATE("Table!",ADDRESS($AI8,MATCH(U$1,INDIRECT("Table!A" & $AM8):INDIRECT("Table!" & $AP$65 & $AM8),0))))) -> 0.15312853 | V8: =IF(ISERROR(MATCH(V$1,INDIRECT("Table!A"&$AM8):INDIRECT("Table!" & $AP$65 & $AM8),0)),"",INDIRECT(CONCATENATE("Table!",ADDRESS($AI8,MATCH(V$1,INDIRECT("Table!A" & $AM8):INDIRECT("Table!" & $AP$65 & $AM8),0))))) -> 0.14939677 | W8: =IF(ISERROR(MATCH(W$1,INDIRECT("Table!A"&$AM8):INDIRECT("Table!" & $AP$65 & $AM8),0)),"",INDIRECT(CONCATENATE("Table!",ADDRESS($AI8,MATCH(W$1,INDIRECT("Table!A" & $AM8):INDIRECT("Table!" & $AP$65 & $AM8),0))))) -> 0.37033851 | X8: =IF(ISERROR(MATCH(X$1,INDIRECT("Table!A"&$AM8):INDIRECT("Table!" & $AP$65 & $AM8),0)),"",INDIRECT(CONCATENATE("Table!",ADDRESS($AI8,MATCH(X$1,INDIRECT("Table!A" & $AM8):INDIRECT("Table!" & $AP$65 & $AM8),0))))) -> 0.35704033 | Y8: =IF(ISERROR(MATCH(Y$1,INDIRECT("Table!A"&$AM8):INDIRECT("Table!" & $AP$65 & $AM8),0)),"",INDIRECT(CONCATENATE("Table!",ADDRESS($AI8,MATCH(Y$1,INDIRECT("Table!A" & $AM8):INDIRECT("Table!" & $AP$65 & $AM8),0))))) -> 0.21998699 | Z8: =IF(ISERROR(MATCH(Z$1,INDIRECT("Table!A"&$AM8):INDIRECT("Table!" & $AP$65 & $AM8),0)),"",INDIRECT(CONCATENATE("Table!",ADDRESS($AI8,MATCH(Z$1,INDIRECT("Table!A" & $AM8):INDIRECT("Table!" & $AP$65 & $AM8),0))))) -> 0.1861506 | AA8: =IF(ISERROR(MATCH(AA$1,INDIRECT("Table!A"&$AM8):INDIRECT("Table!" & $AP$65 & $AM8),0)),"",INDIRECT(CONCATENATE("Table!",ADDRESS($AI8,MATCH(AA$1,INDIRECT("Table!A" & $AM8):INDIRECT("Table!" & $AP$65 & $AM8),0))))) -> 0.41581684 | ... AH8: =IF(ISERROR(MATCH(AH$1,INDIRECT("Table!A"&$AM8):INDIRECT("Table!" & $AP$65 & $AM8),0)),"",INDIRECT(CONCATENATE("Table!",ADDRESS($AI8,MATCH(AH$1,INDIRECT("Table!A" & $AM8):INDIRECT("Table!" & $AP$65 & $AM8),0))))) -> 2.5671762e-05 | AI8: =MATCH($A8,Table!$A:$A,0)+$AK$2-1 -> 76 | AM8: =MATCH($A8,Table!$A:$A,0)+$AO$2-1 -> 73 | AP8: AI
A9: 41935 | B9: =IF(ISERROR(MATCH(B$1,INDIRECT("Table!A"&$AM9):INDIRECT("Table!" & $AP$113 & $AM9),0)),"",INDIRECT(CONCATENATE("Table!",ADDRESS($AI9,MATCH(B$1,INDIRECT("Table!A" & $AM9):INDIRECT("Table!" & $AP$112 & $AM9),0))))) -> 0.21638447 | C9: =IF(ISERROR(MATCH(C$1,INDIRECT("Table!A"&$AM9):INDIRECT("Table!" & $AP$112 & $AM9),0)),"",INDIRECT(CONCATENATE("Table!",ADDRESS($AI9,MATCH(C$1,INDIRECT("Table!A" & $AM9):INDIRECT("Table!" & $AP$112 & $AM9),0))))) -> 0.57870456 | D9: =IF(ISERROR(MATCH(D$1,INDIRECT("Table!A"&$AM9):INDIRECT("Table!" & $AP$112 & $AM9),0)),"",INDIRECT(CONCATENATE("Table!",ADDRESS($AI9,MATCH(D$1,INDIRECT("Table!A" & $AM9):INDIRECT("Table!" & $AP$112 & $AM9),0))))) -> 0.57702567 | E9: =IF(ISERROR(MATCH(E$1,INDIRECT("Table!A"&$AM9):INDIRECT("Table!" & $AP$112 & $AM9),0)),"",INDIRECT(CONCATENATE("Table!",ADDRESS($AI9,MATCH(E$1,INDIRECT("Table!A" & $AM9):INDIRECT("Table!" & $AP$112 & $AM9),0))))) -> 0.56223887 | F9: =IF(ISERROR(MATCH(F$1,INDIRECT("Table!A"&$AM9):INDIRECT("Table!" & $AP$112 & $AM9),0)),"",INDIRECT(CONCATENATE("Table!",ADDRESS($AI9,MATCH(F$1,INDIRECT("Table!A" & $AM9):INDIRECT("Table!" & $AP$112 & $AM9),0))))) -> 0.71691791 | G9: =IF(ISERROR(MATCH(G$1,INDIRECT("Table!A"&$AM9):INDIRECT("Table!" & $AP$112 & $AM9),0)),"",INDIRECT(CONCATENATE("Table!",ADDRESS($AI9,MATCH(G$1,INDIRECT("Table!A" & $AM9):INDIRECT("Table!" & $AP$112 & $AM9),0))))) -> 0.53432767 | H9: =IF(ISERROR(MATCH(H$1,INDIRECT("Table!A"&$AM9):INDIRECT("Table!" & $AP$112 & $AM9),0)),"",INDIRECT(CONCATENATE("Table!",ADDRESS($AI9,MATCH(H$1,INDIRECT("Table!A" & $AM9):INDIRECT("Table!" & $AP$112 & $AM9),0))))) -> 0.56315929 | I9: =IF(ISERROR(MATCH(I$1,INDIRECT("Table!A"&$AM9):INDIRECT("Table!" & $AP$91 & $AM9),0)),"",INDIRECT(CONCATENATE("Table!",ADDRESS($AI9,MATCH(I$1,INDIRECT("Table!A" & $AM9):INDIRECT("Table!" & $AP$91 & $AM9),0))))) -> 0.3169029 | J9: =IF(ISERROR(MATCH(J$1,INDIRECT("Table!A"&$AM9):INDIRECT("Table!" & $AP$91 & $AM9),0)),"",INDIRECT(CONCATENATE("Table!",ADDRESS($AI9,MATCH(J$1,INDIRECT("Table!A" & $AM9):INDIRECT("Table!" & $AP$91 & $AM9),0))))) -> 0.81344421 | K9: =IF(ISERROR(MATCH(K$1,INDIRECT("Table!A"&$AM9):INDIRECT("Table!" & $AP$91 & $AM9),0)),"",INDIRECT(CONCATENATE("Table!",ADDRESS($AI9,MATCH(K$1,INDIRECT("Table!A" & $AM9):INDIRECT("Table!" & $AP$91 & $AM9),0))))) -> 0.4352621 | L9: =IF(ISERROR(MATCH(L$1,INDIRECT("Table!A"&$AM9):INDIRECT("Table!" & $AP$91 & $AM9),0)),"",INDIRECT(CONCATENATE("Table!",ADDRESS($AI9,MATCH(L$1,INDIRECT("Table!A" & $AM9):INDIRECT("Table!" & $AP$91 & $AM9),0))))) -> 0.41830066 | M9: =IF(ISERROR(MATCH(M$1,INDIRECT("Table!A"&$AM9):INDIRECT("Table!" & $AP$91 & $AM9),0)),"",INDIRECT(CONCATENATE("Table!",ADDRESS($AI9,MATCH(M$1,INDIRECT("Table!A" & $AM9):INDIRECT("Table!" & $AP$91 & $AM9),0))))) -> 0.48682271 | N9: =IF(ISERROR(MATCH(N$1,INDIRECT("Table!A"&$AM9):INDIRECT("Table!" & $AP$91 & $AM9),0)),"",INDIRECT(CONCATENATE("Table!",ADDRESS($AI9,MATCH(N$1,INDIRECT("Table!A" & $AM9):INDIRECT("Table!" & $AP$91 & $AM9),0))))) -> 0.72133509 | O9: =IF(ISERROR(MATCH(O$1,INDIRECT("Table!A"&$AM9):INDIRECT("Table!" & $AP$91 & $AM9),0)),"",INDIRECT(CONCATENATE("Table!",ADDRESS($AI9,MATCH(O$1,INDIRECT("Table!A" & $AM9):INDIRECT("Table!" & $AP$91 & $AM9),0))))) -> 0.66014897 | P9: =IF(ISERROR(MATCH(P$1,INDIRECT("Table!A"&$AM9):INDIRECT("Table!" & $AP$91 & $AM9),0)),"",INDIRECT(CONCATENATE("Table!",ADDRESS($AI9,MATCH(P$1,INDIRECT("Table!A" & $AM9):INDIRECT("Table!" & $AP$91 & $AM9),0))))) -> 0.32754568 | ... S9: =IF(ISERROR(MATCH(S$1,INDIRECT("Table!A"&$AM9):INDIRECT("Table!" & $AP$91 & $AM9),0)),"",INDIRECT(CONCATENATE("Table!",ADDRESS($AI9,MATCH(S$1,INDIRECT("Table!A" & $AM9):INDIRECT("Table!" & $AP$91 & $AM9),0))))) | T9: =IF(ISERROR(MATCH(T$1,INDIRECT("Table!A"&$AM9):INDIRECT("Table!" & $AP$65 & $AM9),0)),"",INDIRECT(CONCATENATE("Table!",ADDRESS($AI9,MATCH(T$1,INDIRECT("Table!A" & $AM9):INDIRECT("Table!" & $AP$65 & $AM9),0))))) -> 0.34914553 | U9: =IF(ISERROR(MATCH(U$1,INDIRECT("Table!A"&$AM9):INDIRECT("Table!" & $AP$65 & $AM9),0)),"",INDIRECT(CONCATENATE("Table!",ADDRESS($AI9,MATCH(U$1,INDIRECT("Table!A" & $AM9):INDIRECT("Table!" & $AP$65 & $AM9),0))))) -> 0.15285651 | V9: =IF(ISERROR(MATCH(V$1,INDIRECT("Table!A"&$AM9):INDIRECT("Table!" & $AP$65 & $AM9),0)),"",INDIRECT(CONCATENATE("Table!",ADDRESS($AI9,MATCH(V$1,INDIRECT("Table!A" & $AM9):INDIRECT("Table!" & $AP$65 & $AM9),0))))) -> 0.14913232 | W9: =IF(ISERROR(MATCH(W$1,INDIRECT("Table!A"&$AM9):INDIRECT("Table!" & $AP$65 & $AM9),0)),"",INDIRECT(CONCATENATE("Table!",ADDRESS($AI9,MATCH(W$1,INDIRECT("Table!A" & $AM9):INDIRECT("Table!" & $AP$65 & $AM9),0))))) -> 0.3382288 | X9: =IF(ISERROR(MATCH(X$1,INDIRECT("Table!A"&$AM9):INDIRECT("Table!" & $AP$65 & $AM9),0)),"",INDIRECT(CONCATENATE("Table!",ADDRESS($AI9,MATCH(X$1,INDIRECT("Table!A" & $AM9):INDIRECT("Table!" & $AP$65 & $AM9),0))))) -> 0.32576582 | Y9: =IF(ISERROR(MATCH(Y$1,INDIRECT("Table!A"&$AM9):INDIRECT("Table!" & $AP$65 & $AM9),0)),"",INDIRECT(CONCATENATE("Table!",ADDRESS($AI9,MATCH(Y$1,INDIRECT("Table!A" & $AM9):INDIRECT("Table!" & $AP$65 & $AM9),0))))) -> 0.15984207 | Z9: =IF(ISERROR(MATCH(Z$1,INDIRECT("Table!A"&$AM9):INDIRECT("Table!" & $AP$65 & $AM9),0)),"",INDIRECT(CONCATENATE("Table!",ADDRESS($AI9,MATCH(Z$1,INDIRECT("Table!A" & $AM9):INDIRECT("Table!" & $AP$65 & $AM9),0))))) -> 0.15509853 | AA9: =IF(ISERROR(MATCH(AA$1,INDIRECT("Table!A"&$AM9):INDIRECT("Table!" & $AP$65 & $AM9),0)),"",INDIRECT(CONCATENATE("Table!",ADDRESS($AI9,MATCH(AA$1,INDIRECT("Table!A" & $AM9):INDIRECT("Table!" & $AP$65 & $AM9),0))))) -> 0.41442163 | ... AH9: =IF(ISERROR(MATCH(AH$1,INDIRECT("Table!A"&$AM9):INDIRECT("Table!" & $AP$65 & $AM9),0)),"",INDIRECT(CONCATENATE("Table!",ADDRESS($AI9,MATCH(AH$1,INDIRECT("Table!A" & $AM9):INDIRECT("Table!" & $AP$65 & $AM9),0))))) -> 2.5671762e-05 | AI9: =MATCH($A9,Table!$A:$A,0)+$AK$2-1 -> 90 | AM9: =MATCH($A9,Table!$A:$A,0)+$AO$2-1 -> 87 | AP9: AI
A10: 41928 | B10: =IF(ISERROR(MATCH(B$1,INDIRECT("Table!A"&$AM10):INDIRECT("Table!" & $AP$113 & $AM10),0)),"",INDIRECT(CONCATENATE("Table!",ADDRESS($AI10,MATCH(B$1,INDIRECT("Table!A" & $AM10):INDIRECT("Table!" & $AP$112 & $AM10),0))))) -> 0.21511457 | C10: =IF(ISERROR(MATCH(C$1,INDIRECT("Table!A"&$AM10):INDIRECT("Table!" & $AP$112 & $AM10),0)),"",INDIRECT(CONCATENATE("Table!",ADDRESS($AI10,MATCH(C$1,INDIRECT("Table!A" & $AM10):INDIRECT("Table!" & $AP$112 & $AM10),0))))) -> 0.57869326 | D10: =IF(ISERROR(MATCH(D$1,INDIRECT("Table!A"&$AM10):INDIRECT("Table!" & $AP$112 & $AM10),0)),"",INDIRECT(CONCATENATE("Table!",ADDRESS($AI10,MATCH(D$1,INDIRECT("Table!A" & $AM10):INDIRECT("Table!" & $AP$112 & $AM10),0))))) -> 0.57701438 | E10: =IF(ISERROR(MATCH(E$1,INDIRECT("Table!A"&$AM10):INDIRECT("Table!" & $AP$112 & $AM10),0)),"",INDIRECT(CONCATENATE("Table!",ADDRESS($AI10,MATCH(E$1,INDIRECT("Table!A" & $AM10):INDIRECT("Table!" & $AP$112 & $AM10),0))))) -> 0.56239547 | F10: =IF(ISERROR(MATCH(F$1,INDIRECT("Table!A"&$AM10):INDIRECT("Table!" & $AP$112 & $AM10),0)),"",INDIRECT(CONCATENATE("Table!",ADDRESS($AI10,MATCH(F$1,INDIRECT("Table!A" & $AM10):INDIRECT("Table!" & $AP$112 & $AM10),0))))) -> 0.7166929 | G10: =IF(ISERROR(MATCH(G$1,INDIRECT("Table!A"&$AM10):INDIRECT("Table!" & $AP$112 & $AM10),0)),"",INDIRECT(CONCATENATE("Table!",ADDRESS($AI10,MATCH(G$1,INDIRECT("Table!A" & $AM10):INDIRECT("Table!" & $AP$112 & $AM10),0))))) -> 0.5336522 | H10: =IF(ISERROR(MATCH(H$1,INDIRECT("Table!A"&$AM10):INDIRECT("Table!" & $AP$112 & $AM10),0)),"",INDIRECT(CONCATENATE("Table!",ADDRESS($AI10,MATCH(H$1,INDIRECT("Table!A" & $AM10):INDIRECT("Table!" & $AP$112 & $AM10),0))))) -> 0.56273423 | I10: =IF(ISERROR(MATCH(I$1,INDIRECT("Table!A"&$AM10):INDIRECT("Table!" & $AP$91 & $AM10),0)),"",INDIRECT(CONCATENATE("Table!",ADDRESS($AI10,MATCH(I$1,INDIRECT("Table!A" & $AM10):INDIRECT("Table!" & $AP$91 & $AM10),0))))) -> 0.31640856 | J10: =IF(ISERROR(MATCH(J$1,INDIRECT("Table!A"&$AM10):INDIRECT("Table!" & $AP$91 & $AM10),0)),"",INDIRECT(CONCATENATE("Table!",ADDRESS($AI10,MATCH(J$1,INDIRECT("Table!A" & $AM10):INDIRECT("Table!" & $AP$91 & $AM10),0))))) -> 0.81202427 | K10: =IF(ISERROR(MATCH(K$1,INDIRECT("Table!A"&$AM10):INDIRECT("Table!" & $AP$91 & $AM10),0)),"",INDIRECT(CONCATENATE("Table!",ADDRESS($AI10,MATCH(K$1,INDIRECT("Table!A" & $AM10):INDIRECT("Table!" & $AP$91 & $AM10),0))))) -> 0.43053235 | L10: =IF(ISERROR(MATCH(L$1,INDIRECT("Table!A"&$AM10):INDIRECT("Table!" & $AP$91 & $AM10),0)),"",INDIRECT(CONCATENATE("Table!",ADDRESS($AI10,MATCH(L$1,INDIRECT("Table!A" & $AM10):INDIRECT("Table!" & $AP$91 & $AM10),0))))) -> 0.4182473 | M10: =IF(ISERROR(MATCH(M$1,INDIRECT("Table!A"&$AM10):INDIRECT("Table!" & $AP$91 & $AM10),0)),"",INDIRECT(CONCATENATE("Table!",ADDRESS($AI10,MATCH(M$1,INDIRECT("Table!A" & $AM10):INDIRECT("Table!" & $AP$91 & $AM10),0))))) -> 0.48611964 | N10: =IF(ISERROR(MATCH(N$1,INDIRECT("Table!A"&$AM10):INDIRECT("Table!" & $AP$91 & $AM10),0)),"",INDIRECT(CONCATENATE("Table!",ADDRESS($AI10,MATCH(N$1,INDIRECT("Table!A" & $AM10):INDIRECT("Table!" & $AP$91 & $AM10),0))))) -> 0.7211689 | O10: =IF(ISERROR(MATCH(O$1,INDIRECT("Table!A"&$AM10):INDIRECT("Table!" & $AP$91 & $AM10),0)),"",INDIRECT(CONCATENATE("Table!",ADDRESS($AI10,MATCH(O$1,INDIRECT("Table!A" & $AM10):INDIRECT("Table!" & $AP$91 & $AM10),0))))) -> 0.6596637 | P10: =IF(ISERROR(MATCH(P$1,INDIRECT("Table!A"&$AM10):INDIRECT("Table!" & $AP$91 & $AM10),0)),"",INDIRECT(CONCATENATE("Table!",ADDRESS($AI10,MATCH(P$1,INDIRECT("Table!A" & $AM10):INDIRECT("Table!" & $AP$91 & $AM10),0))))) -> 0.32700978 | ... S10: =IF(ISERROR(MATCH(S$1,INDIRECT("Table!A"&$AM10):INDIRECT("Table!" & $AP$91 & $AM10),0)),"",INDIRECT(CONCATENATE("Table!",ADDRESS($AI10,MATCH(S$1,INDIRECT("Table!A" & $AM10):INDIRECT("Table!" & $AP$91 & $AM10),0))))) | T10: =IF(ISERROR(MATCH(T$1,INDIRECT("Table!A"&$AM10):INDIRECT("Table!" & $AP$65 & $AM10),0)),"",INDIRECT(CONCATENATE("Table!",ADDRESS($AI10,MATCH(T$1,INDIRECT("Table!A" & $AM10):INDIRECT("Table!" & $AP$65 & $AM10),0))))) -> 0.34914553 | U10: =IF(ISERROR(MATCH(U$1,INDIRECT("Table!A"&$AM10):INDIRECT("Table!" & $AP$65 & $AM10),0)),"",INDIRECT(CONCATENATE("Table!",ADDRESS($AI10,MATCH(U$1,INDIRECT("Table!A" & $AM10):INDIRECT("Table!" & $AP$65 & $AM10),0))))) -> 0.15266668 | V10: =IF(ISERROR(MATCH(V$1,INDIRECT("Table!A"&$AM10):INDIRECT("Table!" & $AP$65 & $AM10),0)),"",INDIRECT(CONCATENATE("Table!",ADDRESS($AI10,MATCH(V$1,INDIRECT("Table!A" & $AM10):INDIRECT("Table!" & $AP$65 & $AM10),0))))) -> 0.14894712 | W10: =IF(ISERROR(MATCH(W$1,INDIRECT("Table!A"&$AM10):INDIRECT("Table!" & $AP$65 & $AM10),0)),"",INDIRECT(CONCATENATE("Table!",ADDRESS($AI10,MATCH(W$1,INDIRECT("Table!A" & $AM10):INDIRECT("Table!" & $AP$65 & $AM10),0))))) -> 0.33802136 | X10: =IF(ISERROR(MATCH(X$1,INDIRECT("Table!A"&$AM10):INDIRECT("Table!" & $AP$65 & $AM10),0)),"",INDIRECT(CONCATENATE("Table!",ADDRESS($AI10,MATCH(X$1,INDIRECT("Table!A" & $AM10):INDIRECT("Table!" & $AP$65 & $AM10),0))))) -> 0.32554816 | Y10: =IF(ISERROR(MATCH(Y$1,INDIRECT("Table!A"&$AM10):INDIRECT("Table!" & $AP$65 & $AM10),0)),"",INDIRECT(CONCATENATE("Table!",ADDRESS($AI10,MATCH(Y$1,INDIRECT("Table!A" & $AM10):INDIRECT("Table!" & $AP$65 & $AM10),0))))) -> 0.12785761 | Z10: =IF(ISERROR(MATCH(Z$1,INDIRECT("Table!A"&$AM10):INDIRECT("Table!" & $AP$65 & $AM10),0)),"",INDIRECT(CONCATENATE("Table!",ADDRESS($AI10,MATCH(Z$1,INDIRECT("Table!A" & $AM10):INDIRECT("Table!" & $AP$65 & $AM10),0))))) -> 0.12397534 | AA10: =IF(ISERROR(MATCH(AA$1,INDIRECT("Table!A"&$AM10):INDIRECT("Table!" & $AP$65 & $AM10),0)),"",INDIRECT(CONCATENATE("Table!",ADDRESS($AI10,MATCH(AA$1,INDIRECT("Table!A" & $AM10):INDIRECT("Table!" & $AP$65 & $AM10),0))))) -> 0.41183565 | ... AH10: =IF(ISERROR(MATCH(AH$1,INDIRECT("Table!A"&$AM10):INDIRECT("Table!" & $AP$65 & $AM10),0)),"",INDIRECT(CONCATENATE("Table!",ADDRESS($AI10,MATCH(AH$1,INDIRECT("Table!A" & $AM10):INDIRECT("Table!" & $AP$65 & $AM10),0))))) -> 2.5671762e-05 | AI10: =MATCH($A10,Table!$A:$A,0)+$AK$2-1 -> 104 | AM10: =MATCH($A10,Table!$A:$A,0)+$AO$2-1 -> 101 | AP10: AI
A11: 41921 | B11: =IF(ISERROR(MATCH(B$1,INDIRECT("Table!A"&$AM11):INDIRECT("Table!" & $AP$113 & $AM11),0)),"",INDIRECT(CONCATENATE("Table!",ADDRESS($AI11,MATCH(B$1,INDIRECT("Table!A" & $AM11):INDIRECT("Table!" & $AP$112 & $AM11),0))))) -> 0.21498338 | C11: =IF(ISERROR(MATCH(C$1,INDIRECT("Table!A"&$AM11):INDIRECT("Table!" & $AP$112 & $AM11),0)),"",INDIRECT(CONCATENATE("Table!",ADDRESS($AI11,MATCH(C$1,INDIRECT("Table!A" & $AM11):INDIRECT("Table!" & $AP$112 & $AM11),0))))) -> 0.57850458 | D11: =IF(ISERROR(MATCH(D$1,INDIRECT("Table!A"&$AM11):INDIRECT("Table!" & $AP$112 & $AM11),0)),"",INDIRECT(CONCATENATE("Table!",ADDRESS($AI11,MATCH(D$1,INDIRECT("Table!A" & $AM11):INDIRECT("Table!" & $AP$112 & $AM11),0))))) -> 0.57682503 | E11: =IF(ISERROR(MATCH(E$1,INDIRECT("Table!A"&$AM11):INDIRECT("Table!" & $AP$112 & $AM11),0)),"",INDIRECT(CONCATENATE("Table!",ADDRESS($AI11,MATCH(E$1,INDIRECT("Table!A" & $AM11):INDIRECT("Table!" & $AP$112 & $AM11),0))))) -> 0.5622136 | F11: =IF(ISERROR(MATCH(F$1,INDIRECT("Table!A"&$AM11):INDIRECT("Table!" & $AP$112 & $AM11),0)),"",INDIRECT(CONCATENATE("Table!",ADDRESS($AI11,MATCH(F$1,INDIRECT("Table!A" & $AM11):INDIRECT("Table!" & $AP$112 & $AM11),0))))) -> 0.71628087 | G11: =IF(ISERROR(MATCH(G$1,INDIRECT("Table!A"&$AM11):INDIRECT("Table!" & $AP$112 & $AM11),0)),"",INDIRECT(CONCATENATE("Table!",ADDRESS($AI11,MATCH(G$1,INDIRECT("Table!A" & $AM11):INDIRECT("Table!" & $AP$112 & $AM11),0))))) -> 0.53243296 | H11: =IF(ISERROR(MATCH(H$1,INDIRECT("Table!A"&$AM11):INDIRECT("Table!" & $AP$112 & $AM11),0)),"",INDIRECT(CONCATENATE("Table!",ADDRESS($AI11,MATCH(H$1,INDIRECT("Table!A" & $AM11):INDIRECT("Table!" & $AP$112 & $AM11),0))))) -> 0.56152592 | I11: =IF(ISERROR(MATCH(I$1,INDIRECT("Table!A"&$AM11):INDIRECT("Table!" & $AP$91 & $AM11),0)),"",INDIRECT(CONCATENATE("Table!",ADDRESS($AI11,MATCH(I$1,INDIRECT("Table!A" & $AM11):INDIRECT("Table!" & $AP$91 & $AM11),0))))) -> 0.31553728 | J11: =IF(ISERROR(MATCH(J$1,INDIRECT("Table!A"&$AM11):INDIRECT("Table!" & $AP$91 & $AM11),0)),"",INDIRECT(CONCATENATE("Table!",ADDRESS($AI11,MATCH(J$1,INDIRECT("Table!A" & $AM11):INDIRECT("Table!" & $AP$91 & $AM11),0))))) -> 0.80884492 | K11: =IF(ISERROR(MATCH(K$1,INDIRECT("Table!A"&$AM11):INDIRECT("Table!" & $AP$91 & $AM11),0)),"",INDIRECT(CONCATENATE("Table!",ADDRESS($AI11,MATCH(K$1,INDIRECT("Table!A" & $AM11):INDIRECT("Table!" & $AP$91 & $AM11),0))))) -> 0.42795861 | L11: =IF(ISERROR(MATCH(L$1,INDIRECT("Table!A"&$AM11):INDIRECT("Table!" & $AP$91 & $AM11),0)),"",INDIRECT(CONCATENATE("Table!",ADDRESS($AI11,MATCH(L$1,INDIRECT("Table!A" & $AM11):INDIRECT("Table!" & $AP$91 & $AM11),0))))) -> 0.41784995 | M11: =IF(ISERROR(MATCH(M$1,INDIRECT("Table!A"&$AM11):INDIRECT("Table!" & $AP$91 & $AM11),0)),"",INDIRECT(CONCATENATE("Table!",ADDRESS($AI11,MATCH(M$1,INDIRECT("Table!A" & $AM11):INDIRECT("Table!" & $AP$91 & $AM11),0))))) -> 0.48530567 | N11: =IF(ISERROR(MATCH(N$1,INDIRECT("Table!A"&$AM11):INDIRECT("Table!" & $AP$91 & $AM11),0)),"",INDIRECT(CONCATENATE("Table!",ADDRESS($AI11,MATCH(N$1,INDIRECT("Table!A" & $AM11):INDIRECT("Table!" & $AP$91 & $AM11),0))))) -> 0.72077511 | O11: =IF(ISERROR(MATCH(O$1,INDIRECT("Table!A"&$AM11):INDIRECT("Table!" & $AP$91 & $AM11),0)),"",INDIRECT(CONCATENATE("Table!",ADDRESS($AI11,MATCH(O$1,INDIRECT("Table!A" & $AM11):INDIRECT("Table!" & $AP$91 & $AM11),0))))) -> 0.65815861 | P11: =IF(ISERROR(MATCH(P$1,INDIRECT("Table!A"&$AM11):INDIRECT("Table!" & $AP$91 & $AM11),0)),"",INDIRECT(CONCATENATE("Table!",ADDRESS($AI11,MATCH(P$1,INDIRECT("Table!A" & $AM11):INDIRECT("Table!" & $AP$91 & $AM11),0))))) -> 0.32611502 | ... S11: =IF(ISERROR(MATCH(S$1,INDIRECT("Table!A"&$AM11):INDIRECT("Table!" & $AP$91 & $AM11),0)),"",INDIRECT(CONCATENATE("Table!",ADDRESS($AI11,MATCH(S$1,INDIRECT("Table!A" & $AM11):INDIRECT("Table!" & $AP$91 & $AM11),0))))) | T11: =IF(ISERROR(MATCH(T$1,INDIRECT("Table!A"&$AM11):INDIRECT("Table!" & $AP$65 & $AM11),0)),"",INDIRECT(CONCATENATE("Table!",ADDRESS($AI11,MATCH(T$1,INDIRECT("Table!A" & $AM11):INDIRECT("Table!" & $AP$65 & $AM11),0))))) -> 0.34914553 | U11: =IF(ISERROR(MATCH(U$1,INDIRECT("Table!A"&$AM11):INDIRECT("Table!" & $AP$65 & $AM11),0)),"",INDIRECT(CONCATENATE("Table!",ADDRESS($AI11,MATCH(U$1,INDIRECT("Table!A" & $AM11):INDIRECT("Table!" & $AP$65 & $AM11),0))))) -> 0.15244553 | V11: =IF(ISERROR(MATCH(V$1,INDIRECT("Table!A"&$AM11):INDIRECT("Table!" & $AP$65 & $AM11),0)),"",INDIRECT(CONCATENATE("Table!",ADDRESS($AI11,MATCH(V$1,INDIRECT("Table!A" & $AM11):INDIRECT("Table!" & $AP$65 & $AM11),0))))) -> 0.14873136 | W11: =IF(ISERROR(MATCH(W$1,INDIRECT("Table!A"&$AM11):INDIRECT("Table!" & $AP$65 & $AM11),0)),"",INDIRECT(CONCATENATE("Table!",ADDRESS($AI11,MATCH(W$1,INDIRECT("Table!A" & $AM11):INDIRECT("Table!" & $AP$65 & $AM11),0))))) -> 0.26455798 | X11: =IF(ISERROR(MATCH(X$1,INDIRECT("Table!A"&$AM11):INDIRECT("Table!" & $AP$65 & $AM11),0)),"",INDIRECT(CONCATENATE("Table!",ADDRESS($AI11,MATCH(X$1,INDIRECT("Table!A" & $AM11):INDIRECT("Table!" & $AP$65 & $AM11),0))))) -> 0.2538515 | Y11: =IF(ISERROR(MATCH(Y$1,INDIRECT("Table!A"&$AM11):INDIRECT("Table!" & $AP$65 & $AM11),0)),"",INDIRECT(CONCATENATE("Table!",ADDRESS($AI11,MATCH(Y$1,INDIRECT("Table!A" & $AM11):INDIRECT("Table!" & $AP$65 & $AM11),0))))) -> 0.097138356 | Z11: =IF(ISERROR(MATCH(Z$1,INDIRECT("Table!A"&$AM11):INDIRECT("Table!" & $AP$65 & $AM11),0)),"",INDIRECT(CONCATENATE("Table!",ADDRESS($AI11,MATCH(Z$1,INDIRECT("Table!A" & $AM11):INDIRECT("Table!" & $AP$65 & $AM11),0))))) -> 0.094009685 | AA11: =IF(ISERROR(MATCH(AA$1,INDIRECT("Table!A"&$AM11):INDIRECT("Table!" & $AP$65 & $AM11),0)),"",INDIRECT(CONCATENATE("Table!",ADDRESS($AI11,MATCH(AA$1,INDIRECT("Table!A" & $AM11):INDIRECT("Table!" & $AP$65 & $AM11),0))))) -> 0.41023903 | ... AH11: =IF(ISERROR(MATCH(AH$1,INDIRECT("Table!A"&$AM11):INDIRECT("Table!" & $AP$65 & $AM11),0)),"",INDIRECT(CONCATENATE("Table!",ADDRESS($AI11,MATCH(AH$1,INDIRECT("Table!A" & $AM11):INDIRECT("Table!" & $AP$65 & $AM11),0))))) -> 0 | AI11: =MATCH($A11,Table!$A:$A,0)+$AK$2-1 -> 118 | AM11: =MATCH($A11,Table!$A:$A,0)+$AO$2-1 -> 115 | AP11: AI
A12: 41914 | B12: =IF(ISERROR(MATCH(B$1,INDIRECT("Table!A"&$AM12):INDIRECT("Table!" & $AP$113 & $AM12),0)),"",INDIRECT(CONCATENATE("Table!",ADDRESS($AI12,MATCH(B$1,INDIRECT("Table!A" & $AM12):INDIRECT("Table!" & $AP$112 & $AM12),0))))) -> 0.21444582 | C12: =IF(ISERROR(MATCH(C$1,INDIRECT("Table!A"&$AM12):INDIRECT("Table!" & $AP$112 & $AM12),0)),"",INDIRECT(CONCATENATE("Table!",ADDRESS($AI12,MATCH(C$1,INDIRECT("Table!A" & $AM12):INDIRECT("Table!" & $AP$112 & $AM12),0))))) -> 0.57813851 | D12: =IF(ISERROR(MATCH(D$1,INDIRECT("Table!A"&$AM12):INDIRECT("Table!" & $AP$112 & $AM12),0)),"",INDIRECT(CONCATENATE("Table!",ADDRESS($AI12,MATCH(D$1,INDIRECT("Table!A" & $AM12):INDIRECT("Table!" & $AP$112 & $AM12),0))))) -> 0.57645896 | E12: =IF(ISERROR(MATCH(E$1,INDIRECT("Table!A"&$AM12):INDIRECT("Table!" & $AP$112 & $AM12),0)),"",INDIRECT(CONCATENATE("Table!",ADDRESS($AI12,MATCH(E$1,INDIRECT("Table!A" & $AM12):INDIRECT("Table!" & $AP$112 & $AM12),0))))) -> 0.56193997 | F12: =IF(ISERROR(MATCH(F$1,INDIRECT("Table!A"&$AM12):INDIRECT("Table!" & $AP$112 & $AM12),0)),"",INDIRECT(CONCATENATE("Table!",ADDRESS($AI12,MATCH(F$1,INDIRECT("Table!A" & $AM12):INDIRECT("Table!" & $AP$112 & $AM12),0))))) -> 0.71590806 | G12: =IF(ISERROR(MATCH(G$1,INDIRECT("Table!A"&$AM12):INDIRECT("Table!" & $AP$112 & $AM12),0)),"",INDIRECT(CONCATENATE("Table!",ADDRESS($AI12,MATCH(G$1,INDIRECT("Table!A" & $AM12):INDIRECT("Table!" & $AP$112 & $AM12),0))))) -> 0.53158984 | H12: =IF(ISERROR(MATCH(H$1,INDIRECT("Table!A"&$AM12):INDIRECT("Table!" & $AP$112 & $AM12),0)),"",INDIRECT(CONCATENATE("Table!",ADDRESS($AI12,MATCH(H$1,INDIRECT("Table!A" & $AM12):INDIRECT("Table!" & $AP$112 & $AM12),0))))) -> 0.55836442 | I12: =IF(ISERROR(MATCH(I$1,INDIRECT("Table!A"&$AM12):INDIRECT("Table!" & $AP$91 & $AM12),0)),"",INDIRECT(CONCATENATE("Table!",ADDRESS($AI12,MATCH(I$1,INDIRECT("Table!A" & $AM12):INDIRECT("Table!" & $AP$91 & $AM12),0))))) -> 0.3153163 | J12: =IF(ISERROR(MATCH(J$1,INDIRECT("Table!A"&$AM12):INDIRECT("Table!" & $AP$91 & $AM12),0)),"",INDIRECT(CONCATENATE("Table!",ADDRESS($AI12,MATCH(J$1,INDIRECT("Table!A" & $AM12):INDIRECT("Table!" & $AP$91 & $AM12),0))))) -> 0.79045986 | K12: =IF(ISERROR(MATCH(K$1,INDIRECT("Table!A"&$AM12):INDIRECT("Table!" & $AP$91 & $AM12),0)),"",INDIRECT(CONCATENATE("Table!",ADDRESS($AI12,MATCH(K$1,INDIRECT("Table!A" & $AM12):INDIRECT("Table!" & $AP$91 & $AM12),0))))) -> 0.42259871 | L12: =IF(ISERROR(MATCH(L$1,INDIRECT("Table!A"&$AM12):INDIRECT("Table!" & $AP$91 & $AM12),0)),"",INDIRECT(CONCATENATE("Table!",ADDRESS($AI12,MATCH(L$1,INDIRECT("Table!A" & $AM12):INDIRECT("Table!" & $AP$91 & $AM12),0))))) -> 0.42058529 | M12: =IF(ISERROR(MATCH(M$1,INDIRECT("Table!A"&$AM12):INDIRECT("Table!" & $AP$91 & $AM12),0)),"",INDIRECT(CONCATENATE("Table!",ADDRESS($AI12,MATCH(M$1,INDIRECT("Table!A" & $AM12):INDIRECT("Table!" & $AP$91 & $AM12),0))))) -> 0.48447321 | N12: =IF(ISERROR(MATCH(N$1,INDIRECT("Table!A"&$AM12):INDIRECT("Table!" & $AP$91 & $AM12),0)),"",INDIRECT(CONCATENATE("Table!",ADDRESS($AI12,MATCH(N$1,INDIRECT("Table!A" & $AM12):INDIRECT("Table!" & $AP$91 & $AM12),0))))) -> 0.72044032 | O12: =IF(ISERROR(MATCH(O$1,INDIRECT("Table!A"&$AM12):INDIRECT("Table!" & $AP$91 & $AM12),0)),"",INDIRECT(CONCATENATE("Table!",ADDRESS($AI12,MATCH(O$1,INDIRECT("Table!A" & $AM12):INDIRECT("Table!" & $AP$91 & $AM12),0))))) -> 0.65564023 | P12: =IF(ISERROR(MATCH(P$1,INDIRECT("Table!A"&$AM12):INDIRECT("Table!" & $AP$91 & $AM12),0)),"",INDIRECT(CONCATENATE("Table!",ADDRESS($AI12,MATCH(P$1,INDIRECT("Table!A" & $AM12):INDIRECT("Table!" & $AP$91 & $AM12),0))))) -> 0.32589223 | ... S12: =IF(ISERROR(MATCH(S$1,INDIRECT("Table!A"&$AM12):INDIRECT("Table!" & $AP$91 & $AM12),0)),"",INDIRECT(CONCATENATE("Table!",ADDRESS($AI12,MATCH(S$1,INDIRECT("Table!A" & $AM12):INDIRECT("Table!" & $AP$91 & $AM12),0))))) | T12: =IF(ISERROR(MATCH(T$1,INDIRECT("Table!A"&$AM12):INDIRECT("Table!" & $AP$65 & $AM12),0)),"",INDIRECT(CONCATENATE("Table!",ADDRESS($AI12,MATCH(T$1,INDIRECT("Table!A" & $AM12):INDIRECT("Table!" & $AP$65 & $AM12),0))))) -> 0.34914553 | U12: =IF(ISERROR(MATCH(U$1,INDIRECT("Table!A"&$AM12):INDIRECT("Table!" & $AP$65 & $AM12),0)),"",INDIRECT(CONCATENATE("Table!",ADDRESS($AI12,MATCH(U$1,INDIRECT("Table!A" & $AM12):INDIRECT("Table!" & $AP$65 & $AM12),0))))) -> 0.15231246 | V12: =IF(ISERROR(MATCH(V$1,INDIRECT("Table!A"&$AM12):INDIRECT("Table!" & $AP$65 & $AM12),0)),"",INDIRECT(CONCATENATE("Table!",ADDRESS($AI12,MATCH(V$1,INDIRECT("Table!A" & $AM12):INDIRECT("Table!" & $AP$65 & $AM12),0))))) -> 0.14860153 | W12: =IF(ISERROR(MATCH(W$1,INDIRECT("Table!A"&$AM12):INDIRECT("Table!" & $AP$65 & $AM12),0)),"",INDIRECT(CONCATENATE("Table!",ADDRESS($AI12,MATCH(W$1,INDIRECT("Table!A" & $AM12):INDIRECT("Table!" & $AP$65 & $AM12),0))))) -> 0.26439066 | X12: =IF(ISERROR(MATCH(X$1,INDIRECT("Table!A"&$AM12):INDIRECT("Table!" & $AP$65 & $AM12),0)),"",INDIRECT(CONCATENATE("Table!",ADDRESS($AI12,MATCH(X$1,INDIRECT("Table!A" & $AM12):INDIRECT("Table!" & $AP$65 & $AM12),0))))) -> 0.25366295 | Y12: =IF(ISERROR(MATCH(Y$1,INDIRECT("Table!A"&$AM12):INDIRECT("Table!" & $AP$65 & $AM12),0)),"",INDIRECT(CONCATENATE("Table!",ADDRESS($AI12,MATCH(Y$1,INDIRECT("Table!A" & $AM12):INDIRECT("Table!" & $AP$65 & $AM12),0))))) -> 0.092822161 | Z12: =IF(ISERROR(MATCH(Z$1,INDIRECT("Table!A"&$AM12):INDIRECT("Table!" & $AP$65 & $AM12),0)),"",INDIRECT(CONCATENATE("Table!",ADDRESS($AI12,MATCH(Z$1,INDIRECT("Table!A" & $AM12):INDIRECT("Table!" & $AP$65 & $AM12),0))))) -> 0.090089811 | AA12: =IF(ISERROR(MATCH(AA$1,INDIRECT("Table!A"&$AM12):INDIRECT("Table!" & $AP$65 & $AM12),0)),"",INDIRECT(CONCATENATE("Table!",ADDRESS($AI12,MATCH(AA$1,INDIRECT("Table!A" & $AM12):INDIRECT("Table!" & $AP$65 & $AM12),0))))) -> 0.39081952 | ... AH12: =IF(ISERROR(MATCH(AH$1,INDIRECT("Table!A"&$AM12):INDIRECT("Table!" & $AP$65 & $AM12),0)),"",INDIRECT(CONCATENATE("Table!",ADDRESS($AI12,MATCH(AH$1,INDIRECT("Table!A" & $AM12):INDIRECT("Table!" & $AP$65 & $AM12),0))))) -> 0 | AI12: =MATCH($A12,Table!$A:$A,0)+$AK$2-1 -> 132 | AM12: =MATCH($A12,Table!$A:$A,0)+$AO$2-1 -> 129 | AP12: AI
A13: 41907 | B13: =IF(ISERROR(MATCH(B$1,INDIRECT("Table!A"&$AM13):INDIRECT("Table!" & $AP$113 & $AM13),0)),"",INDIRECT(CONCATENATE("Table!",ADDRESS($AI13,MATCH(B$1,INDIRECT("Table!A" & $AM13):INDIRECT("Table!" & $AP$112 & $AM13),0))))) -> 0.21429823 | C13: =IF(ISERROR(MATCH(C$1,INDIRECT("Table!A"&$AM13):INDIRECT("Table!" & $AP$112 & $AM13),0)),"",INDIRECT(CONCATENATE("Table!",ADDRESS($AI13,MATCH(C$1,INDIRECT("Table!A" & $AM13):INDIRECT("Table!" & $AP$112 & $AM13),0))))) -> 0.5778402 | D13: =IF(ISERROR(MATCH(D$1,INDIRECT("Table!A"&$AM13):INDIRECT("Table!" & $AP$112 & $AM13),0)),"",INDIRECT(CONCATENATE("Table!",ADDRESS($AI13,MATCH(D$1,INDIRECT("Table!A" & $AM13):INDIRECT("Table!" & $AP$112 & $AM13),0))))) -> 0.57616132 | E13: =IF(ISERROR(MATCH(E$1,INDIRECT("Table!A"&$AM13):INDIRECT("Table!" & $AP$112 & $AM13),0)),"",INDIRECT(CONCATENATE("Table!",ADDRESS($AI13,MATCH(E$1,INDIRECT("Table!A" & $AM13):INDIRECT("Table!" & $AP$112 & $AM13),0))))) -> 0.56173612 | F13: =IF(ISERROR(MATCH(F$1,INDIRECT("Table!A"&$AM13):INDIRECT("Table!" & $AP$112 & $AM13),0)),"",INDIRECT(CONCATENATE("Table!",ADDRESS($AI13,MATCH(F$1,INDIRECT("Table!A" & $AM13):INDIRECT("Table!" & $AP$112 & $AM13),0))))) -> 0.71529876 | G13: =IF(ISERROR(MATCH(G$1,INDIRECT("Table!A"&$AM13):INDIRECT("Table!" & $AP$112 & $AM13),0)),"",INDIRECT(CONCATENATE("Table!",ADDRESS($AI13,MATCH(G$1,INDIRECT("Table!A" & $AM13):INDIRECT("Table!" & $AP$112 & $AM13),0))))) -> 0.53079447 | H13: =IF(ISERROR(MATCH(H$1,INDIRECT("Table!A"&$AM13):INDIRECT("Table!" & $AP$112 & $AM13),0)),"",INDIRECT(CONCATENATE("Table!",ADDRESS($AI13,MATCH(H$1,INDIRECT("Table!A" & $AM13):INDIRECT("Table!" & $AP$112 & $AM13),0))))) -> 0.55801146 | I13: =IF(ISERROR(MATCH(I$1,INDIRECT("Table!A"&$AM13):INDIRECT("Table!" & $AP$91 & $AM13),0)),"",INDIRECT(CONCATENATE("Table!",ADDRESS($AI13,MATCH(I$1,INDIRECT("Table!A" & $AM13):INDIRECT("Table!" & $AP$91 & $AM13),0))))) -> 0.31398018 | J13: =IF(ISERROR(MATCH(J$1,INDIRECT("Table!A"&$AM13):INDIRECT("Table!" & $AP$91 & $AM13),0)),"",INDIRECT(CONCATENATE("Table!",ADDRESS($AI13,MATCH(J$1,INDIRECT("Table!A" & $AM13):INDIRECT("Table!" & $AP$91 & $AM13),0))))) -> 0.78940358 | K13: =IF(ISERROR(MATCH(K$1,INDIRECT("Table!A"&$AM13):INDIRECT("Table!" & $AP$91 & $AM13),0)),"",INDIRECT(CONCATENATE("Table!",ADDRESS($AI13,MATCH(K$1,INDIRECT("Table!A" & $AM13):INDIRECT("Table!" & $AP$91 & $AM13),0))))) -> 0.41810951 | L13: =IF(ISERROR(MATCH(L$1,INDIRECT("Table!A"&$AM13):INDIRECT("Table!" & $AP$91 & $AM13),0)),"",INDIRECT(CONCATENATE("Table!",ADDRESS($AI13,MATCH(L$1,INDIRECT("Table!A" & $AM13):INDIRECT("Table!" & $AP$91 & $AM13),0))))) -> 0.42040397 | M13: =IF(ISERROR(MATCH(M$1,INDIRECT("Table!A"&$AM13):INDIRECT("Table!" & $AP$91 & $AM13),0)),"",INDIRECT(CONCATENATE("Table!",ADDRESS($AI13,MATCH(M$1,INDIRECT("Table!A" & $AM13):INDIRECT("Table!" & $AP$91 & $AM13),0))))) -> 0.4837035 | N13: =IF(ISERROR(MATCH(N$1,INDIRECT("Table!A"&$AM13):INDIRECT("Table!" & $AP$91 & $AM13),0)),"",INDIRECT(CONCATENATE("Table!",ADDRESS($AI13,MATCH(N$1,INDIRECT("Table!A" & $AM13):INDIRECT("Table!" & $AP$91 & $AM13),0))))) -> 0.71988275 | O13: =IF(ISERROR(MATCH(O$1,INDIRECT("Table!A"&$AM13):INDIRECT("Table!" & $AP$91 & $AM13),0)),"",INDIRECT(CONCATENATE("Table!",ADDRESS($AI13,MATCH(O$1,INDIRECT("Table!A" & $AM13):INDIRECT("Table!" & $AP$91 & $AM13),0))))) -> 0.65523282 | P13: =IF(ISERROR(MATCH(P$1,INDIRECT("Table!A"&$AM13):INDIRECT("Table!" & $AP$91 & $AM13),0)),"",INDIRECT(CONCATENATE("Table!",ADDRESS($AI13,MATCH(P$1,INDIRECT("Table!A" & $AM13):INDIRECT("Table!" & $AP$91 & $AM13),0))))) -> 0.32452781 | ... S13: =IF(ISERROR(MATCH(S$1,INDIRECT("Table!A"&$AM13):INDIRECT("Table!" & $AP$91 & $AM13),0)),"",INDIRECT(CONCATENATE("Table!",ADDRESS($AI13,MATCH(S$1,INDIRECT("Table!A" & $AM13):INDIRECT("Table!" & $AP$91 & $AM13),0))))) | T13: =IF(ISERROR(MATCH(T$1,INDIRECT("Table!A"&$AM13):INDIRECT("Table!" & $AP$65 & $AM13),0)),"",INDIRECT(CONCATENATE("Table!",ADDRESS($AI13,MATCH(T$1,INDIRECT("Table!A" & $AM13):INDIRECT("Table!" & $AP$65 & $AM13),0))))) -> 0.34914553 | U13: =IF(ISERROR(MATCH(U$1,INDIRECT("Table!A"&$AM13):INDIRECT("Table!" & $AP$65 & $AM13),0)),"",INDIRECT(CONCATENATE("Table!",ADDRESS($AI13,MATCH(U$1,INDIRECT("Table!A" & $AM13):INDIRECT("Table!" & $AP$65 & $AM13),0))))) -> 0.15195432 | V13: =IF(ISERROR(MATCH(V$1,INDIRECT("Table!A"&$AM13):INDIRECT("Table!" & $AP$65 & $AM13),0)),"",INDIRECT(CONCATENATE("Table!",ADDRESS($AI13,MATCH(V$1,INDIRECT("Table!A" & $AM13):INDIRECT("Table!" & $AP$65 & $AM13),0))))) -> 0.14825164 | W13: =IF(ISERROR(MATCH(W$1,INDIRECT("Table!A"&$AM13):INDIRECT("Table!" & $AP$65 & $AM13),0)),"",INDIRECT(CONCATENATE("Table!",ADDRESS($AI13,MATCH(W$1,INDIRECT("Table!A" & $AM13):INDIRECT("Table!" & $AP$65 & $AM13),0))))) -> 0.26219978 | X13: =IF(ISERROR(MATCH(X$1,INDIRECT("Table!A"&$AM13):INDIRECT("Table!" & $AP$65 & $AM13),0)),"",INDIRECT(CONCATENATE("Table!",ADDRESS($AI13,MATCH(X$1,INDIRECT("Table!A" & $AM13):INDIRECT("Table!" & $AP$65 & $AM13),0))))) -> 0.25144382 | Y13: =IF(ISERROR(MATCH(Y$1,INDIRECT("Table!A"&$AM13):INDIRECT("Table!" & $AP$65 & $AM13),0)),"",INDIRECT(CONCATENATE("Table!",ADDRESS($AI13,MATCH(Y$1,INDIRECT("Table!A" & $AM13):INDIRECT("Table!" & $AP$65 & $AM13),0))))) -> 0.091120537 | Z13: =IF(ISERROR(MATCH(Z$1,INDIRECT("Table!A"&$AM13):INDIRECT("Table!" & $AP$65 & $AM13),0)),"",INDIRECT(CONCATENATE("Table!",ADDRESS($AI13,MATCH(Z$1,INDIRECT("Table!A" & $AM13):INDIRECT("Table!" & $AP$65 & $AM13),0))))) -> 0.088429162 | AA13: =IF(ISERROR(MATCH(AA$1,INDIRECT("Table!A"&$AM13):INDIRECT("Table!" & $AP$65 & $AM13),0)),"",INDIRECT(CONCATENATE("Table!",ADDRESS($AI13,MATCH(AA$1,INDIRECT("Table!A" & $AM13):INDIRECT("Table!" & $AP$65 & $AM13),0))))) -> 0.3658943 | ... AH13: =IF(ISERROR(MATCH(AH$1,INDIRECT("Table!A"&$AM13):INDIRECT("Table!" & $AP$65 & $AM13),0)),"",INDIRECT(CONCATENATE("Table!",ADDRESS($AI13,MATCH(AH$1,INDIRECT("Table!A" & $AM13):INDIRECT("Table!" & $AP$65 & $AM13),0))))) -> 0 | AI13: =MATCH($A13,Table!$A:$A,0)+$AK$2-1 -> 146 | AM13: =MATCH($A13,Table!$A:$A,0)+$AO$2-1 -> 143 | AP13: AI
A14: 41900 | B14: =IF(ISERROR(MATCH(B$1,INDIRECT("Table!A"&$AM14):INDIRECT("Table!" & $AP$113 & $AM14),0)),"",INDIRECT(CONCATENATE("Table!",ADDRESS($AI14,MATCH(B$1,INDIRECT("Table!A" & $AM14):INDIRECT("Table!" & $AP$112 & $AM14),0))))) -> 0.21409504 | C14: =IF(ISERROR(MATCH(C$1,INDIRECT("Table!A"&$AM14):INDIRECT("Table!" & $AP$112 & $AM14),0)),"",INDIRECT(CONCATENATE("Table!",ADDRESS($AI14,MATCH(C$1,INDIRECT("Table!A" & $AM14):INDIRECT("Table!" & $AP$112 & $AM14),0))))) -> 0.5767752 | D14: =IF(ISERROR(MATCH(D$1,INDIRECT("Table!A"&$AM14):INDIRECT("Table!" & $AP$112 & $AM14),0)),"",INDIRECT(CONCATENATE("Table!",ADDRESS($AI14,MATCH(D$1,INDIRECT("Table!A" & $AM14):INDIRECT("Table!" & $AP$112 & $AM14),0))))) -> 0.57509565 | E14: =IF(ISERROR(MATCH(E$1,INDIRECT("Table!A"&$AM14):INDIRECT("Table!" & $AP$112 & $AM14),0)),"",INDIRECT(CONCATENATE("Table!",ADDRESS($AI14,MATCH(E$1,INDIRECT("Table!A" & $AM14):INDIRECT("Table!" & $AP$112 & $AM14),0))))) -> 0.56153777 | F14: =IF(ISERROR(MATCH(F$1,INDIRECT("Table!A"&$AM14):INDIRECT("Table!" & $AP$112 & $AM14),0)),"",INDIRECT(CONCATENATE("Table!",ADDRESS($AI14,MATCH(F$1,INDIRECT("Table!A" & $AM14):INDIRECT("Table!" & $AP$112 & $AM14),0))))) -> 0.71461527 | G14: =IF(ISERROR(MATCH(G$1,INDIRECT("Table!A"&$AM14):INDIRECT("Table!" & $AP$112 & $AM14),0)),"",INDIRECT(CONCATENATE("Table!",ADDRESS($AI14,MATCH(G$1,INDIRECT("Table!A" & $AM14):INDIRECT("Table!" & $AP$112 & $AM14),0))))) -> 0.52902813 | H14: =IF(ISERROR(MATCH(H$1,INDIRECT("Table!A"&$AM14):INDIRECT("Table!" & $AP$112 & $AM14),0)),"",INDIRECT(CONCATENATE("Table!",ADDRESS($AI14,MATCH(H$1,INDIRECT("Table!A" & $AM14):INDIRECT("Table!" & $AP$112 & $AM14),0))))) -> 0.5572253 | I14: =IF(ISERROR(MATCH(I$1,INDIRECT("Table!A"&$AM14):INDIRECT("Table!" & $AP$91 & $AM14),0)),"",INDIRECT(CONCATENATE("Table!",ADDRESS($AI14,MATCH(I$1,INDIRECT("Table!A" & $AM14):INDIRECT("Table!" & $AP$91 & $AM14),0))))) -> 0.31345934 | J14: =IF(ISERROR(MATCH(J$1,INDIRECT("Table!A"&$AM14):INDIRECT("Table!" & $AP$91 & $AM14),0)),"",INDIRECT(CONCATENATE("Table!",ADDRESS($AI14,MATCH(J$1,INDIRECT("Table!A" & $AM14):INDIRECT("Table!" & $AP$91 & $AM14),0))))) -> 0.78568318 | K14: =IF(ISERROR(MATCH(K$1,INDIRECT("Table!A"&$AM14):INDIRECT("Table!" & $AP$91 & $AM14),0)),"",INDIRECT(CONCATENATE("Table!",ADDRESS($AI14,MATCH(K$1,INDIRECT("Table!A" & $AM14):INDIRECT("Table!" & $AP$91 & $AM14),0))))) -> 0.40864913 | L14: =IF(ISERROR(MATCH(L$1,INDIRECT("Table!A"&$AM14):INDIRECT("Table!" & $AP$91 & $AM14),0)),"",INDIRECT(CONCATENATE("Table!",ADDRESS($AI14,MATCH(L$1,INDIRECT("Table!A" & $AM14):INDIRECT("Table!" & $AP$91 & $AM14),0))))) -> 0.42031849 | M14: =IF(ISERROR(MATCH(M$1,INDIRECT("Table!A"&$AM14):INDIRECT("Table!" & $AP$91 & $AM14),0)),"",INDIRECT(CONCATENATE("Table!",ADDRESS($AI14,MATCH(M$1,INDIRECT("Table!A" & $AM14):INDIRECT("Table!" & $AP$91 & $AM14),0))))) -> 0.48227682 | N14: =IF(ISERROR(MATCH(N$1,INDIRECT("Table!A"&$AM14):INDIRECT("Table!" & $AP$91 & $AM14),0)),"",INDIRECT(CONCATENATE("Table!",ADDRESS($AI14,MATCH(N$1,INDIRECT("Table!A" & $AM14):INDIRECT("Table!" & $AP$91 & $AM14),0))))) -> 0.71942032 | O14: =IF(ISERROR(MATCH(O$1,INDIRECT("Table!A"&$AM14):INDIRECT("Table!" & $AP$91 & $AM14),0)),"",INDIRECT(CONCATENATE("Table!",ADDRESS($AI14,MATCH(O$1,INDIRECT("Table!A" & $AM14):INDIRECT("Table!" & $AP$91 & $AM14),0))))) -> 0.65417498 | P14: =IF(ISERROR(MATCH(P$1,INDIRECT("Table!A"&$AM14):INDIRECT("Table!" & $AP$91 & $AM14),0)),"",INDIRECT(CONCATENATE("Table!",ADDRESS($AI14,MATCH(P$1,INDIRECT("Table!A" & $AM14):INDIRECT("Table!" & $AP$91 & $AM14),0))))) -> 0.32397506 | ... S14: =IF(ISERROR(MATCH(S$1,INDIRECT("Table!A"&$AM14):INDIRECT("Table!" & $AP$91 & $AM14),0)),"",INDIRECT(CONCATENATE("Table!",ADDRESS($AI14,MATCH(S$1,INDIRECT("Table!A" & $AM14):INDIRECT("Table!" & $AP$91 & $AM14),0))))) | T14: =IF(ISERROR(MATCH(T$1,INDIRECT("Table!A"&$AM14):INDIRECT("Table!" & $AP$65 & $AM14),0)),"",INDIRECT(CONCATENATE("Table!",ADDRESS($AI14,MATCH(T$1,INDIRECT("Table!A" & $AM14):INDIRECT("Table!" & $AP$65 & $AM14),0))))) -> 0.34914553 | U14: =IF(ISERROR(MATCH(U$1,INDIRECT("Table!A"&$AM14):INDIRECT("Table!" & $AP$65 & $AM14),0)),"",INDIRECT(CONCATENATE("Table!",ADDRESS($AI14,MATCH(U$1,INDIRECT("Table!A" & $AM14):INDIRECT("Table!" & $AP$65 & $AM14),0))))) -> 0.15174199 | V14: =IF(ISERROR(MATCH(V$1,INDIRECT("Table!A"&$AM14):INDIRECT("Table!" & $AP$65 & $AM14),0)),"",INDIRECT(CONCATENATE("Table!",ADDRESS($AI14,MATCH(V$1,INDIRECT("Table!A" & $AM14):INDIRECT("Table!" & $AP$65 & $AM14),0))))) -> 0.14804496 | W14: =IF(ISERROR(MATCH(W$1,INDIRECT("Table!A"&$AM14):INDIRECT("Table!" & $AP$65 & $AM14),0)),"",INDIRECT(CONCATENATE("Table!",ADDRESS($AI14,MATCH(W$1,INDIRECT("Table!A" & $AM14):INDIRECT("Table!" & $AP$65 & $AM14),0))))) -> 0.2612154 | X14: =IF(ISERROR(MATCH(X$1,INDIRECT("Table!A"&$AM14):INDIRECT("Table!" & $AP$65 & $AM14),0)),"",INDIRECT(CONCATENATE("Table!",ADDRESS($AI14,MATCH(X$1,INDIRECT("Table!A" & $AM14):INDIRECT("Table!" & $AP$65 & $AM14),0))))) -> 0.2505407 | Y14: =IF(ISERROR(MATCH(Y$1,INDIRECT("Table!A"&$AM14):INDIRECT("Table!" & $AP$65 & $AM14),0)),"",INDIRECT(CONCATENATE("Table!",ADDRESS($AI14,MATCH(Y$1,INDIRECT("Table!A" & $AM14):INDIRECT("Table!" & $AP$65 & $AM14),0))))) -> 0.084891361 | Z14: =IF(ISERROR(MATCH(Z$1,INDIRECT("Table!A"&$AM14):INDIRECT("Table!" & $AP$65 & $AM14),0)),"",INDIRECT(CONCATENATE("Table!",ADDRESS($AI14,MATCH(Z$1,INDIRECT("Table!A" & $AM14):INDIRECT("Table!" & $AP$65 & $AM14),0))))) -> 0.082365577 | AA14: =IF(ISERROR(MATCH(AA$1,INDIRECT("Table!A"&$AM14):INDIRECT("Table!" & $AP$65 & $AM14),0)),"",INDIRECT(CONCATENATE("Table!",ADDRESS($AI14,MATCH(AA$1,INDIRECT("Table!A" & $AM14):INDIRECT("Table!" & $AP$65 & $AM14),0))))) -> 0.31035074 | ... AH14: =IF(ISERROR(MATCH(AH$1,INDIRECT("Table!A"&$AM14):INDIRECT("Table!" & $AP$65 & $AM14),0)),"",INDIRECT(CONCATENATE("Table!",ADDRESS($AI14,MATCH(AH$1,INDIRECT("Table!A" & $AM14):INDIRECT("Table!" & $AP$65 & $AM14),0))))) -> 0 | AI14: =MATCH($A14,Table!$A:$A,0)+$AK$2-1 -> 160 | AM14: =MATCH($A14,Table!$A:$A,0)+$AO$2-1 -> 157 | AP14: AI
... A27: 41808 | B27: =IF(ISERROR(MATCH(B$1,INDIRECT("Table!A"&$AM27):INDIRECT("Table!" & $AP$113 & $AM27),0)),"",INDIRECT(CONCATENATE("Table!",ADDRESS($AI27,MATCH(B$1,INDIRECT("Table!A" & $AM27):INDIRECT("Table!" & $AP$112 & $AM27),0))))) -> 0.41078537 | C27: =IF(ISERROR(MATCH(C$1,INDIRECT("Table!A"&$AM27):INDIRECT("Table!" & $AP$112 & $AM27),0)),"",INDIRECT(CONCATENATE("Table!",ADDRESS($AI27,MATCH(C$1,INDIRECT("Table!A" & $AM27):INDIRECT("Table!" & $AP$112 & $AM27),0))))) -> 0.55513973 | D27: =IF(ISERROR(MATCH(D$1,INDIRECT("Table!A"&$AM27):INDIRECT("Table!" & $AP$112 & $AM27),0)),"",INDIRECT(CONCATENATE("Table!",ADDRESS($AI27,MATCH(D$1,INDIRECT("Table!A" & $AM27):INDIRECT("Table!" & $AP$112 & $AM27),0))))) -> 0.56013452 | E27: =IF(ISERROR(MATCH(E$1,INDIRECT("Table!A"&$AM27):INDIRECT("Table!" & $AP$112 & $AM27),0)),"",INDIRECT(CONCATENATE("Table!",ADDRESS($AI27,MATCH(E$1,INDIRECT("Table!A" & $AM27):INDIRECT("Table!" & $AP$112 & $AM27),0))))) -> 0.75893138 | F27: =IF(ISERROR(MATCH(F$1,INDIRECT("Table!A"&$AM27):INDIRECT("Table!" & $AP$112 & $AM27),0)),"",INDIRECT(CONCATENATE("Table!",ADDRESS($AI27,MATCH(F$1,INDIRECT("Table!A" & $AM27):INDIRECT("Table!" & $AP$112 & $AM27),0))))) -> 0.6966779 | G27: =IF(ISERROR(MATCH(G$1,INDIRECT("Table!A"&$AM27):INDIRECT("Table!" & $AP$112 & $AM27),0)),"",INDIRECT(CONCATENATE("Table!",ADDRESS($AI27,MATCH(G$1,INDIRECT("Table!A" & $AM27):INDIRECT("Table!" & $AP$112 & $AM27),0))))) -> 0.5515806 | H27: =IF(ISERROR(MATCH(H$1,INDIRECT("Table!A"&$AM27):INDIRECT("Table!" & $AP$112 & $AM27),0)),"",INDIRECT(CONCATENATE("Table!",ADDRESS($AI27,MATCH(H$1,INDIRECT("Table!A" & $AM27):INDIRECT("Table!" & $AP$112 & $AM27),0))))) -> 0.70945629 | I27: =IF(ISERROR(MATCH(I$1,INDIRECT("Table!A"&$AM27):INDIRECT("Table!" & $AP$91 & $AM27),0)),"",INDIRECT(CONCATENATE("Table!",ADDRESS($AI27,MATCH(I$1,INDIRECT("Table!A" & $AM27):INDIRECT("Table!" & $AP$91 & $AM27),0))))) -> 0.30148304 | J27: =IF(ISERROR(MATCH(J$1,INDIRECT("Table!A"&$AM27):INDIRECT("Table!" & $AP$91 & $AM27),0)),"",INDIRECT(CONCATENATE("Table!",ADDRESS($AI27,MATCH(J$1,INDIRECT("Table!A" & $AM27):INDIRECT("Table!" & $AP$91 & $AM27),0))))) -> 0.67201208 | K27: =IF(ISERROR(MATCH(K$1,INDIRECT("Table!A"&$AM27):INDIRECT("Table!" & $AP$91 & $AM27),0)),"",INDIRECT(CONCATENATE("Table!",ADDRESS($AI27,MATCH(K$1,INDIRECT("Table!A" & $AM27):INDIRECT("Table!" & $AP$91 & $AM27),0))))) -> 0.32340747 | L27: =IF(ISERROR(MATCH(L$1,INDIRECT("Table!A"&$AM27):INDIRECT("Table!" & $AP$91 & $AM27),0)),"",INDIRECT(CONCATENATE("Table!",ADDRESS($AI27,MATCH(L$1,INDIRECT("Table!A" & $AM27):INDIRECT("Table!" & $AP$91 & $AM27),0))))) -> 0.7006757 | M27: =IF(ISERROR(MATCH(M$1,INDIRECT("Table!A"&$AM27):INDIRECT("Table!" & $AP$91 & $AM27),0)),"",INDIRECT(CONCATENATE("Table!",ADDRESS($AI27,MATCH(M$1,INDIRECT("Table!A" & $AM27):INDIRECT("Table!" & $AP$91 & $AM27),0))))) -> 0.48248722 | N27: =IF(ISERROR(MATCH(N$1,INDIRECT("Table!A"&$AM27):INDIRECT("Table!" & $AP$91 & $AM27),0)),"",INDIRECT(CONCATENATE("Table!",ADDRESS($AI27,MATCH(N$1,INDIRECT("Table!A" & $AM27):INDIRECT("Table!" & $AP$91 & $AM27),0))))) -> 0.70197667 | O27: =IF(ISERROR(MATCH(O$1,INDIRECT("Table!A"&$AM27):INDIRECT("Table!" & $AP$91 & $AM27),0)),"",INDIRECT(CONCATENATE("Table!",ADDRESS($AI27,MATCH(O$1,INDIRECT("Table!A" & $AM27):INDIRECT("Table!" & $AP$91 & $AM27),0))))) -> 0.81713205 | P27: =IF(ISERROR(MATCH(P$1,INDIRECT("Table!A"&$AM27):INDIRECT("Table!" & $AP$91 & $AM27),0)),"",INDIRECT(CONCATENATE("Table!",ADDRESS($AI27,MATCH(P$1,INDIRECT("Table!A" & $AM27):INDIRECT("Table!" & $AP$91 & $AM27),0))))) -> 0.31180846 | ... S27: =IF(ISERROR(MATCH(S$1,INDIRECT("Table!A"&$AM27):INDIRECT("Table!" & $AP$91 & $AM27),0)),"",INDIRECT(CONCATENATE("Table!",ADDRESS($AI27,MATCH(S$1,INDIRECT("Table!A" & $AM27):INDIRECT("Table!" & $AP$91 & $AM27),0))))) | T27: =IF(ISERROR(MATCH(T$1,INDIRECT("Table!A"&$AM27):INDIRECT("Table!" & $AP$65 & $AM27),0)),"",INDIRECT(CONCATENATE("Table!",ADDRESS($AI27,MATCH(T$1,INDIRECT("Table!A" & $AM27):INDIRECT("Table!" & $AP$65 & $AM27),0))))) -> 0.30904943 | U27: =IF(ISERROR(MATCH(U$1,INDIRECT("Table!A"&$AM27):INDIRECT("Table!" & $AP$65 & $AM27),0)),"",INDIRECT(CONCATENATE("Table!",ADDRESS($AI27,MATCH(U$1,INDIRECT("Table!A" & $AM27):INDIRECT("Table!" & $AP$65 & $AM27),0))))) -> 0.14429066 | V27: =IF(ISERROR(MATCH(V$1,INDIRECT("Table!A"&$AM27):INDIRECT("Table!" & $AP$65 & $AM27),0)),"",INDIRECT(CONCATENATE("Table!",ADDRESS($AI27,MATCH(V$1,INDIRECT("Table!A" & $AM27):INDIRECT("Table!" & $AP$65 & $AM27),0))))) -> 0.14077514 | W27: =IF(ISERROR(MATCH(W$1,INDIRECT("Table!A"&$AM27):INDIRECT("Table!" & $AP$65 & $AM27),0)),"",INDIRECT(CONCATENATE("Table!",ADDRESS($AI27,MATCH(W$1,INDIRECT("Table!A" & $AM27):INDIRECT("Table!" & $AP$65 & $AM27),0))))) -> 0.148008 | X27: =IF(ISERROR(MATCH(X$1,INDIRECT("Table!A"&$AM27):INDIRECT("Table!" & $AP$65 & $AM27),0)),"",INDIRECT(CONCATENATE("Table!",ADDRESS($AI27,MATCH(X$1,INDIRECT("Table!A" & $AM27):INDIRECT("Table!" & $AP$65 & $AM27),0))))) -> 0.14432938 | Y27: =IF(ISERROR(MATCH(Y$1,INDIRECT("Table!A"&$AM27):INDIRECT("Table!" & $AP$65 & $AM27),0)),"",INDIRECT(CONCATENATE("Table!",ADDRESS($AI27,MATCH(Y$1,INDIRECT("Table!A" & $AM27):INDIRECT("Table!" & $AP$65 & $AM27),0))))) -> 3.033372e-05 | Z27: =IF(ISERROR(MATCH(Z$1,INDIRECT("Table!A"&$AM27):INDIRECT("Table!" & $AP$65 & $AM27),0)),"",INDIRECT(CONCATENATE("Table!",ADDRESS($AI27,MATCH(Z$1,INDIRECT("Table!A" & $AM27):INDIRECT("Table!" & $AP$65 & $AM27),0))))) -> 2.8640097e-05 | AA27: =IF(ISERROR(MATCH(AA$1,INDIRECT("Table!A"&$AM27):INDIRECT("Table!" & $AP$65 & $AM27),0)),"",INDIRECT(CONCATENATE("Table!",ADDRESS($AI27,MATCH(AA$1,INDIRECT("Table!A" & $AM27):INDIRECT("Table!" & $AP$65 & $AM27),0))))) -> 0.069917943 | ... AH27: =IF(ISERROR(MATCH(AH$1,INDIRECT("Table!A"&$AM27):INDIRECT("Table!" & $AP$65 & $AM27),0)),"",INDIRECT(CONCATENATE("Table!",ADDRESS($AI27,MATCH(AH$1,INDIRECT("Table!A" & $AM27):INDIRECT("Table!" & $AP$65 & $AM27),0))))) | AI27: =MATCH($A27,Table!$A:$A,0)+$AK$2-1 -> 356 | AM27: =MATCH($A27,Table!$A:$A,0)+$AO$2-1 -> 353 | AP27: AI
A28: 41801 | B28: =IF(ISERROR(MATCH(B$1,INDIRECT("Table!A"&$AM28):INDIRECT("Table!" & $AP$113 & $AM28),0)),"",INDIRECT(CONCATENATE("Table!",ADDRESS($AI28,MATCH(B$1,INDIRECT("Table!A" & $AM28):INDIRECT("Table!" & $AP$112 & $AM28),0))))) -> 0.41078537 | C28: =IF(ISERROR(MATCH(C$1,INDIRECT("Table!A"&$AM28):INDIRECT("Table!" & $AP$112 & $AM28),0)),"",INDIRECT(CONCATENATE("Table!",ADDRESS($AI28,MATCH(C$1,INDIRECT("Table!A" & $AM28):INDIRECT("Table!" & $AP$112 & $AM28),0))))) -> 0.55513973 | D28: =IF(ISERROR(MATCH(D$1,INDIRECT("Table!A"&$AM28):INDIRECT("Table!" & $AP$112 & $AM28),0)),"",INDIRECT(CONCATENATE("Table!",ADDRESS($AI28,MATCH(D$1,INDIRECT("Table!A" & $AM28):INDIRECT("Table!" & $AP$112 & $AM28),0))))) -> 0.55985083 | E28: =IF(ISERROR(MATCH(E$1,INDIRECT("Table!A"&$AM28):INDIRECT("Table!" & $AP$112 & $AM28),0)),"",INDIRECT(CONCATENATE("Table!",ADDRESS($AI28,MATCH(E$1,INDIRECT("Table!A" & $AM28):INDIRECT("Table!" & $AP$112 & $AM28),0))))) -> 0.8121559 | F28: =IF(ISERROR(MATCH(F$1,INDIRECT("Table!A"&$AM28):INDIRECT("Table!" & $AP$112 & $AM28),0)),"",INDIRECT(CONCATENATE("Table!",ADDRESS($AI28,MATCH(F$1,INDIRECT("Table!A" & $AM28):INDIRECT("Table!" & $AP$112 & $AM28),0))))) -> 0.69209131 | G28: =IF(ISERROR(MATCH(G$1,INDIRECT("Table!A"&$AM28):INDIRECT("Table!" & $AP$112 & $AM28),0)),"",INDIRECT(CONCATENATE("Table!",ADDRESS($AI28,MATCH(G$1,INDIRECT("Table!A" & $AM28):INDIRECT("Table!" & $AP$112 & $AM28),0))))) -> 0.5500656 | H28: =IF(ISERROR(MATCH(H$1,INDIRECT("Table!A"&$AM28):INDIRECT("Table!" & $AP$112 & $AM28),0)),"",INDIRECT(CONCATENATE("Table!",ADDRESS($AI28,MATCH(H$1,INDIRECT("Table!A" & $AM28):INDIRECT("Table!" & $AP$112 & $AM28),0))))) -> 0.70824391 | I28: =IF(ISERROR(MATCH(I$1,INDIRECT("Table!A"&$AM28):INDIRECT("Table!" & $AP$91 & $AM28),0)),"",INDIRECT(CONCATENATE("Table!",ADDRESS($AI28,MATCH(I$1,INDIRECT("Table!A" & $AM28):INDIRECT("Table!" & $AP$91 & $AM28),0))))) -> 0.3011055 | J28: =IF(ISERROR(MATCH(J$1,INDIRECT("Table!A"&$AM28):INDIRECT("Table!" & $AP$91 & $AM28),0)),"",INDIRECT(CONCATENATE("Table!",ADDRESS($AI28,MATCH(J$1,INDIRECT("Table!A" & $AM28):INDIRECT("Table!" & $AP$91 & $AM28),0))))) -> 0.66655808 | K28: =IF(ISERROR(MATCH(K$1,INDIRECT("Table!A"&$AM28):INDIRECT("Table!" & $AP$91 & $AM28),0)),"",INDIRECT(CONCATENATE("Table!",ADDRESS($AI28,MATCH(K$1,INDIRECT("Table!A" & $AM28):INDIRECT("Table!" & $AP$91 & $AM28),0))))) -> 0.31912937 | L28: =IF(ISERROR(MATCH(L$1,INDIRECT("Table!A"&$AM28):INDIRECT("Table!" & $AP$91 & $AM28),0)),"",INDIRECT(CONCATENATE("Table!",ADDRESS($AI28,MATCH(L$1,INDIRECT("Table!A" & $AM28):INDIRECT("Table!" & $AP$91 & $AM28),0))))) -> 0.76297978 | M28: =IF(ISERROR(MATCH(M$1,INDIRECT("Table!A"&$AM28):INDIRECT("Table!" & $AP$91 & $AM28),0)),"",INDIRECT(CONCATENATE("Table!",ADDRESS($AI28,MATCH(M$1,INDIRECT("Table!A" & $AM28):INDIRECT("Table!" & $AP$91 & $AM28),0))))) -> 0.48167256 | N28: =IF(ISERROR(MATCH(N$1,INDIRECT("Table!A"&$AM28):INDIRECT("Table!" & $AP$91 & $AM28),0)),"",INDIRECT(CONCATENATE("Table!",ADDRESS($AI28,MATCH(N$1,INDIRECT("Table!A" & $AM28):INDIRECT("Table!" & $AP$91 & $AM28),0))))) -> 0.69744385 | O28: =IF(ISERROR(MATCH(O$1,INDIRECT("Table!A"&$AM28):INDIRECT("Table!" & $AP$91 & $AM28),0)),"",INDIRECT(CONCATENATE("Table!",ADDRESS($AI28,MATCH(O$1,INDIRECT("Table!A" & $AM28):INDIRECT("Table!" & $AP$91 & $AM28),0))))) -> 0.81565521 | P28: =IF(ISERROR(MATCH(P$1,INDIRECT("Table!A"&$AM28):INDIRECT("Table!" & $AP$91 & $AM28),0)),"",INDIRECT(CONCATENATE("Table!",ADDRESS($AI28,MATCH(P$1,INDIRECT("Table!A" & $AM28):INDIRECT("Table!" & $AP$91 & $AM28),0))))) -> 0.31143032 | ... S28: =IF(ISERROR(MATCH(S$1,INDIRECT("Table!A"&$AM28):INDIRECT("Table!" & $AP$91 & $AM28),0)),"",INDIRECT(CONCATENATE("Table!",ADDRESS($AI28,MATCH(S$1,INDIRECT("Table!A" & $AM28):INDIRECT("Table!" & $AP$91 & $AM28),0))))) | T28: =IF(ISERROR(MATCH(T$1,INDIRECT("Table!A"&$AM28):INDIRECT("Table!" & $AP$65 & $AM28),0)),"",INDIRECT(CONCATENATE("Table!",ADDRESS($AI28,MATCH(T$1,INDIRECT("Table!A" & $AM28):INDIRECT("Table!" & $AP$65 & $AM28),0))))) -> 0.30904943 | U28: =IF(ISERROR(MATCH(U$1,INDIRECT("Table!A"&$AM28):INDIRECT("Table!" & $AP$65 & $AM28),0)),"",INDIRECT(CONCATENATE("Table!",ADDRESS($AI28,MATCH(U$1,INDIRECT("Table!A" & $AM28):INDIRECT("Table!" & $AP$65 & $AM28),0))))) -> 0.14120934 | V28: =IF(ISERROR(MATCH(V$1,INDIRECT("Table!A"&$AM28):INDIRECT("Table!" & $AP$65 & $AM28),0)),"",INDIRECT(CONCATENATE("Table!",ADDRESS($AI28,MATCH(V$1,INDIRECT("Table!A" & $AM28):INDIRECT("Table!" & $AP$65 & $AM28),0))))) -> 0.13776937 | W28: =IF(ISERROR(MATCH(W$1,INDIRECT("Table!A"&$AM28):INDIRECT("Table!" & $AP$65 & $AM28),0)),"",INDIRECT(CONCATENATE("Table!",ADDRESS($AI28,MATCH(W$1,INDIRECT("Table!A" & $AM28):INDIRECT("Table!" & $AP$65 & $AM28),0))))) -> 0.07864555 | X28: =IF(ISERROR(MATCH(X$1,INDIRECT("Table!A"&$AM28):INDIRECT("Table!" & $AP$65 & $AM28),0)),"",INDIRECT(CONCATENATE("Table!",ADDRESS($AI28,MATCH(X$1,INDIRECT("Table!A" & $AM28):INDIRECT("Table!" & $AP$65 & $AM28),0))))) -> 0.076656173 | Y28: =IF(ISERROR(MATCH(Y$1,INDIRECT("Table!A"&$AM28):INDIRECT("Table!" & $AP$65 & $AM28),0)),"",INDIRECT(CONCATENATE("Table!",ADDRESS($AI28,MATCH(Y$1,INDIRECT("Table!A" & $AM28):INDIRECT("Table!" & $AP$65 & $AM28),0))))) -> 3.033372e-05 | Z28: =IF(ISERROR(MATCH(Z$1,INDIRECT("Table!A"&$AM28):INDIRECT("Table!" & $AP$65 & $AM28),0)),"",INDIRECT(CONCATENATE("Table!",ADDRESS($AI28,MATCH(Z$1,INDIRECT("Table!A" & $AM28):INDIRECT("Table!" & $AP$65 & $AM28),0))))) -> 2.8640097e-05 | AA28: =IF(ISERROR(MATCH(AA$1,INDIRECT("Table!A"&$AM28):INDIRECT("Table!" & $AP$65 & $AM28),0)),"",INDIRECT(CONCATENATE("Table!",ADDRESS($AI28,MATCH(AA$1,INDIRECT("Table!A" & $AM28):INDIRECT("Table!" & $AP$65 & $AM28),0))))) -> 0.079003438 | AB28: =IF(ISERROR(MATCH(AB$1,INDIRECT("Table!A"&$AM28):INDIRECT("Table!" & $AP$65 & $AM28),0)),"",INDIRECT(CONCATENATE("Table!",ADDRESS($AI28,MATCH(AB$1,INDIRECT("Table!A" & $AM28):INDIRECT("Table!" & $AP$65 & $AM28),0))))) | AI28: =MATCH($A28,Table!$A:$A,0)+$AK$2-1 -> 370 | AM28: =MATCH($A28,Table!$A:$A,0)+$AO$2-1 -> 367 | AP28: AI
A29: 41794 | B29: =IF(ISERROR(MATCH(B$1,INDIRECT("Table!A"&$AM29):INDIRECT("Table!" & $AP$113 & $AM29),0)),"",INDIRECT(CONCATENATE("Table!",ADDRESS($AI29,MATCH(B$1,INDIRECT("Table!A" & $AM29):INDIRECT("Table!" & $AP$112 & $AM29),0))))) -> 0.40852113 | C29: =IF(ISERROR(MATCH(C$1,INDIRECT("Table!A"&$AM29):INDIRECT("Table!" & $AP$112 & $AM29),0)),"",INDIRECT(CONCATENATE("Table!",ADDRESS($AI29,MATCH(C$1,INDIRECT("Table!A" & $AM29):INDIRECT("Table!" & $AP$112 & $AM29),0))))) -> 0.55490985 | D29: =IF(ISERROR(MATCH(D$1,INDIRECT("Table!A"&$AM29):INDIRECT("Table!" & $AP$112 & $AM29),0)),"",INDIRECT(CONCATENATE("Table!",ADDRESS($AI29,MATCH(D$1,INDIRECT("Table!A" & $AM29):INDIRECT("Table!" & $AP$112 & $AM29),0))))) -> 0.55941434 | E29: =IF(ISERROR(MATCH(E$1,INDIRECT("Table!A"&$AM29):INDIRECT("Table!" & $AP$112 & $AM29),0)),"",INDIRECT(CONCATENATE("Table!",ADDRESS($AI29,MATCH(E$1,INDIRECT("Table!A" & $AM29):INDIRECT("Table!" & $AP$112 & $AM29),0))))) -> 0.81107897 | F29: =IF(ISERROR(MATCH(F$1,INDIRECT("Table!A"&$AM29):INDIRECT("Table!" & $AP$112 & $AM29),0)),"",INDIRECT(CONCATENATE("Table!",ADDRESS($AI29,MATCH(F$1,INDIRECT("Table!A" & $AM29):INDIRECT("Table!" & $AP$112 & $AM29),0))))) -> 0.69008788 | G29: =IF(ISERROR(MATCH(G$1,INDIRECT("Table!A"&$AM29):INDIRECT("Table!" & $AP$112 & $AM29),0)),"",INDIRECT(CONCATENATE("Table!",ADDRESS($AI29,MATCH(G$1,INDIRECT("Table!A" & $AM29):INDIRECT("Table!" & $AP$112 & $AM29),0))))) -> 0.54898525 | H29: =IF(ISERROR(MATCH(H$1,INDIRECT("Table!A"&$AM29):INDIRECT("Table!" & $AP$112 & $AM29),0)),"",INDIRECT(CONCATENATE("Table!",ADDRESS($AI29,MATCH(H$1,INDIRECT("Table!A" & $AM29):INDIRECT("Table!" & $AP$112 & $AM29),0))))) -> 0.70301991 | I29: =IF(ISERROR(MATCH(I$1,INDIRECT("Table!A"&$AM29):INDIRECT("Table!" & $AP$91 & $AM29),0)),"",INDIRECT(CONCATENATE("Table!",ADDRESS($AI29,MATCH(I$1,INDIRECT("Table!A" & $AM29):INDIRECT("Table!" & $AP$91 & $AM29),0))))) -> 0.29703754 | J29: =IF(ISERROR(MATCH(J$1,INDIRECT("Table!A"&$AM29):INDIRECT("Table!" & $AP$91 & $AM29),0)),"",INDIRECT(CONCATENATE("Table!",ADDRESS($AI29,MATCH(J$1,INDIRECT("Table!A" & $AM29):INDIRECT("Table!" & $AP$91 & $AM29),0))))) -> 0.66562194 | K29: =IF(ISERROR(MATCH(K$1,INDIRECT("Table!A"&$AM29):INDIRECT("Table!" & $AP$91 & $AM29),0)),"",INDIRECT(CONCATENATE("Table!",ADDRESS($AI29,MATCH(K$1,INDIRECT("Table!A" & $AM29):INDIRECT("Table!" & $AP$91 & $AM29),0))))) -> 0.29859304 | L29: =IF(ISERROR(MATCH(L$1,INDIRECT("Table!A"&$AM29):INDIRECT("Table!" & $AP$91 & $AM29),0)),"",INDIRECT(CONCATENATE("Table!",ADDRESS($AI29,MATCH(L$1,INDIRECT("Table!A" & $AM29):INDIRECT("Table!" & $AP$91 & $AM29),0))))) -> 0.76165407 | M29: =IF(ISERROR(MATCH(M$1,INDIRECT("Table!A"&$AM29):INDIRECT("Table!" & $AP$91 & $AM29),0)),"",INDIRECT(CONCATENATE("Table!",ADDRESS($AI29,MATCH(M$1,INDIRECT("Table!A" & $AM29):INDIRECT("Table!" & $AP$91 & $AM29),0))))) -> 0.48081523 | N29: =IF(ISERROR(MATCH(N$1,INDIRECT("Table!A"&$AM29):INDIRECT("Table!" & $AP$91 & $AM29),0)),"",INDIRECT(CONCATENATE("Table!",ADDRESS($AI29,MATCH(N$1,INDIRECT("Table!A" & $AM29):INDIRECT("Table!" & $AP$91 & $AM29),0))))) -> 0.69554955 | O29: =IF(ISERROR(MATCH(O$1,INDIRECT("Table!A"&$AM29):INDIRECT("Table!" & $AP$91 & $AM29),0)),"",INDIRECT(CONCATENATE("Table!",ADDRESS($AI29,MATCH(O$1,INDIRECT("Table!A" & $AM29):INDIRECT("Table!" & $AP$91 & $AM29),0))))) -> 0.80929662 | P29: =IF(ISERROR(MATCH(P$1,INDIRECT("Table!A"&$AM29):INDIRECT("Table!" & $AP$91 & $AM29),0)),"",INDIRECT(CONCATENATE("Table!",ADDRESS($AI29,MATCH(P$1,INDIRECT("Table!A" & $AM29):INDIRECT("Table!" & $AP$91 & $AM29),0))))) -> 0.30736234 | ... S29: =IF(ISERROR(MATCH(S$1,INDIRECT("Table!A"&$AM29):INDIRECT("Table!" & $AP$91 & $AM29),0)),"",INDIRECT(CONCATENATE("Table!",ADDRESS($AI29,MATCH(S$1,INDIRECT("Table!A" & $AM29):INDIRECT("Table!" & $AP$91 & $AM29),0))))) | T29: =IF(ISERROR(MATCH(T$1,INDIRECT("Table!A"&$AM29):INDIRECT("Table!" & $AP$65 & $AM29),0)),"",INDIRECT(CONCATENATE("Table!",ADDRESS($AI29,MATCH(T$1,INDIRECT("Table!A" & $AM29):INDIRECT("Table!" & $AP$65 & $AM29),0))))) -> 0.30904943 | U29: =IF(ISERROR(MATCH(U$1,INDIRECT("Table!A"&$AM29):INDIRECT("Table!" & $AP$65 & $AM29),0)),"",INDIRECT(CONCATENATE("Table!",ADDRESS($AI29,MATCH(U$1,INDIRECT("Table!A" & $AM29):INDIRECT("Table!" & $AP$65 & $AM29),0))))) -> 0.12244451 | V29: =IF(ISERROR(MATCH(V$1,INDIRECT("Table!A"&$AM29):INDIRECT("Table!" & $AP$65 & $AM29),0)),"",INDIRECT(CONCATENATE("Table!",ADDRESS($AI29,MATCH(V$1,INDIRECT("Table!A" & $AM29):INDIRECT("Table!" & $AP$65 & $AM29),0))))) -> 0.11946118 | W29: =IF(ISERROR(MATCH(W$1,INDIRECT("Table!A"&$AM29):INDIRECT("Table!" & $AP$65 & $AM29),0)),"",INDIRECT(CONCATENATE("Table!",ADDRESS($AI29,MATCH(W$1,INDIRECT("Table!A" & $AM29):INDIRECT("Table!" & $AP$65 & $AM29),0))))) -> 0.067088403 | X29: =IF(ISERROR(MATCH(X$1,INDIRECT("Table!A"&$AM29):INDIRECT("Table!" & $AP$65 & $AM29),0)),"",INDIRECT(CONCATENATE("Table!",ADDRESS($AI29,MATCH(X$1,INDIRECT("Table!A" & $AM29):INDIRECT("Table!" & $AP$65 & $AM29),0))))) -> 0.065378658 | Y29: =IF(ISERROR(MATCH(Y$1,INDIRECT("Table!A"&$AM29):INDIRECT("Table!" & $AP$65 & $AM29),0)),"",INDIRECT(CONCATENATE("Table!",ADDRESS($AI29,MATCH(Y$1,INDIRECT("Table!A" & $AM29):INDIRECT("Table!" & $AP$65 & $AM29),0))))) -> 3.033372e-05 | Z29: =IF(ISERROR(MATCH(Z$1,INDIRECT("Table!A"&$AM29):INDIRECT("Table!" & $AP$65 & $AM29),0)),"",INDIRECT(CONCATENATE("Table!",ADDRESS($AI29,MATCH(Z$1,INDIRECT("Table!A" & $AM29):INDIRECT("Table!" & $AP$65 & $AM29),0))))) -> 2.8640097e-05 | AA29: =IF(ISERROR(MATCH(AA$1,INDIRECT("Table!A"&$AM29):INDIRECT("Table!" & $AP$65 & $AM29),0)),"",INDIRECT(CONCATENATE("Table!",ADDRESS($AI29,MATCH(AA$1,INDIRECT("Table!A" & $AM29):INDIRECT("Table!" & $AP$65 & $AM29),0))))) -> 0.06442845 | AB29: =IF(ISERROR(MATCH(AB$1,INDIRECT("Table!A"&$AM29):INDIRECT("Table!" & $AP$65 & $AM29),0)),"",INDIRECT(CONCATENATE("Table!",ADDRESS($AI29,MATCH(AB$1,INDIRECT("Table!A" & $AM29):INDIRECT("Table!" & $AP$65 & $AM29),0))))) | AI29: =MATCH($A29,Table!$A:$A,0)+$AK$2-1 -> 384 | AM29: =MATCH($A29,Table!$A:$A,0)+$AO$2-1 -> 381 | AP29: AI
A30: 41787 | B30: =IF(ISERROR(MATCH(B$1,INDIRECT("Table!A"&$AM30):INDIRECT("Table!" & $AP$113 & $AM30),0)),"",INDIRECT(CONCATENATE("Table!",ADDRESS($AI30,MATCH(B$1,INDIRECT("Table!A" & $AM30):INDIRECT("Table!" & $AP$112 & $AM30),0))))) -> 0.4171529 | C30: =IF(ISERROR(MATCH(C$1,INDIRECT("Table!A"&$AM30):INDIRECT("Table!" & $AP$112 & $AM30),0)),"",INDIRECT(CONCATENATE("Table!",ADDRESS($AI30,MATCH(C$1,INDIRECT("Table!A" & $AM30):INDIRECT("Table!" & $AP$112 & $AM30),0))))) -> 0.55433716 | D30: =IF(ISERROR(MATCH(D$1,INDIRECT("Table!A"&$AM30):INDIRECT("Table!" & $AP$112 & $AM30),0)),"",INDIRECT(CONCATENATE("Table!",ADDRESS($AI30,MATCH(D$1,INDIRECT("Table!A" & $AM30):INDIRECT("Table!" & $AP$112 & $AM30),0))))) -> 0.56324581 | E30: =IF(ISERROR(MATCH(E$1,INDIRECT("Table!A"&$AM30):INDIRECT("Table!" & $AP$112 & $AM30),0)),"",INDIRECT(CONCATENATE("Table!",ADDRESS($AI30,MATCH(E$1,INDIRECT("Table!A" & $AM30):INDIRECT("Table!" & $AP$112 & $AM30),0))))) -> 0.80957292 | F30: =IF(ISERROR(MATCH(F$1,INDIRECT("Table!A"&$AM30):INDIRECT("Table!" & $AP$112 & $AM30),0)),"",INDIRECT(CONCATENATE("Table!",ADDRESS($AI30,MATCH(F$1,INDIRECT("Table!A" & $AM30):INDIRECT("Table!" & $AP$112 & $AM30),0))))) -> 0.68725979 | G30: =IF(ISERROR(MATCH(G$1,INDIRECT("Table!A"&$AM30):INDIRECT("Table!" & $AP$112 & $AM30),0)),"",INDIRECT(CONCATENATE("Table!",ADDRESS($AI30,MATCH(G$1,INDIRECT("Table!A" & $AM30):INDIRECT("Table!" & $AP$112 & $AM30),0))))) -> 0.54726923 | H30: =IF(ISERROR(MATCH(H$1,INDIRECT("Table!A"&$AM30):INDIRECT("Table!" & $AP$112 & $AM30),0)),"",INDIRECT(CONCATENATE("Table!",ADDRESS($AI30,MATCH(H$1,INDIRECT("Table!A" & $AM30):INDIRECT("Table!" & $AP$112 & $AM30),0))))) -> 0.71789819 | I30: =IF(ISERROR(MATCH(I$1,INDIRECT("Table!A"&$AM30):INDIRECT("Table!" & $AP$91 & $AM30),0)),"",INDIRECT(CONCATENATE("Table!",ADDRESS($AI30,MATCH(I$1,INDIRECT("Table!A" & $AM30):INDIRECT("Table!" & $AP$91 & $AM30),0))))) -> 0.2961783 | J30: =IF(ISERROR(MATCH(J$1,INDIRECT("Table!A"&$AM30):INDIRECT("Table!" & $AP$91 & $AM30),0)),"",INDIRECT(CONCATENATE("Table!",ADDRESS($AI30,MATCH(J$1,INDIRECT("Table!A" & $AM30):INDIRECT("Table!" & $AP$91 & $AM30),0))))) -> 0.66391575 | K30: =IF(ISERROR(MATCH(K$1,INDIRECT("Table!A"&$AM30):INDIRECT("Table!" & $AP$91 & $AM30),0)),"",INDIRECT(CONCATENATE("Table!",ADDRESS($AI30,MATCH(K$1,INDIRECT("Table!A" & $AM30):INDIRECT("Table!" & $AP$91 & $AM30),0))))) -> 0.2628294 | L30: =IF(ISERROR(MATCH(L$1,INDIRECT("Table!A"&$AM30):INDIRECT("Table!" & $AP$91 & $AM30),0)),"",INDIRECT(CONCATENATE("Table!",ADDRESS($AI30,MATCH(L$1,INDIRECT("Table!A" & $AM30):INDIRECT("Table!" & $AP$91 & $AM30),0))))) -> 0.79776314 | M30: =IF(ISERROR(MATCH(M$1,INDIRECT("Table!A"&$AM30):INDIRECT("Table!" & $AP$91 & $AM30),0)),"",INDIRECT(CONCATENATE("Table!",ADDRESS($AI30,MATCH(M$1,INDIRECT("Table!A" & $AM30):INDIRECT("Table!" & $AP$91 & $AM30),0))))) -> 0.47945518 | N30: =IF(ISERROR(MATCH(N$1,INDIRECT("Table!A"&$AM30):INDIRECT("Table!" & $AP$91 & $AM30),0)),"",INDIRECT(CONCATENATE("Table!",ADDRESS($AI30,MATCH(N$1,INDIRECT("Table!A" & $AM30):INDIRECT("Table!" & $AP$91 & $AM30),0))))) -> 0.69311695 | O30: =IF(ISERROR(MATCH(O$1,INDIRECT("Table!A"&$AM30):INDIRECT("Table!" & $AP$91 & $AM30),0)),"",INDIRECT(CONCATENATE("Table!",ADDRESS($AI30,MATCH(O$1,INDIRECT("Table!A" & $AM30):INDIRECT("Table!" & $AP$91 & $AM30),0))))) -> 0.82789472 | P30: =IF(ISERROR(MATCH(P$1,INDIRECT("Table!A"&$AM30):INDIRECT("Table!" & $AP$91 & $AM30),0)),"",INDIRECT(CONCATENATE("Table!",ADDRESS($AI30,MATCH(P$1,INDIRECT("Table!A" & $AM30):INDIRECT("Table!" & $AP$91 & $AM30),0))))) -> 0.3065025 | ... S30: =IF(ISERROR(MATCH(S$1,INDIRECT("Table!A"&$AM30):INDIRECT("Table!" & $AP$91 & $AM30),0)),"",INDIRECT(CONCATENATE("Table!",ADDRESS($AI30,MATCH(S$1,INDIRECT("Table!A" & $AM30):INDIRECT("Table!" & $AP$91 & $AM30),0))))) | T30: =IF(ISERROR(MATCH(T$1,INDIRECT("Table!A"&$AM30):INDIRECT("Table!" & $AP$65 & $AM30),0)),"",INDIRECT(CONCATENATE("Table!",ADDRESS($AI30,MATCH(T$1,INDIRECT("Table!A" & $AM30):INDIRECT("Table!" & $AP$65 & $AM30),0))))) -> 0.30904943 | U30: =IF(ISERROR(MATCH(U$1,INDIRECT("Table!A"&$AM30):INDIRECT("Table!" & $AP$65 & $AM30),0)),"",INDIRECT(CONCATENATE("Table!",ADDRESS($AI30,MATCH(U$1,INDIRECT("Table!A" & $AM30):INDIRECT("Table!" & $AP$65 & $AM30),0))))) -> 0.12180554 | V30: =IF(ISERROR(MATCH(V$1,INDIRECT("Table!A"&$AM30):INDIRECT("Table!" & $AP$65 & $AM30),0)),"",INDIRECT(CONCATENATE("Table!",ADDRESS($AI30,MATCH(V$1,INDIRECT("Table!A" & $AM30):INDIRECT("Table!" & $AP$65 & $AM30),0))))) -> 0.11883826 | W30: =IF(ISERROR(MATCH(W$1,INDIRECT("Table!A"&$AM30):INDIRECT("Table!" & $AP$65 & $AM30),0)),"",INDIRECT(CONCATENATE("Table!",ADDRESS($AI30,MATCH(W$1,INDIRECT("Table!A" & $AM30):INDIRECT("Table!" & $AP$65 & $AM30),0))))) -> 0.064641157 | X30: =IF(ISERROR(MATCH(X$1,INDIRECT("Table!A"&$AM30):INDIRECT("Table!" & $AP$65 & $AM30),0)),"",INDIRECT(CONCATENATE("Table!",ADDRESS($AI30,MATCH(X$1,INDIRECT("Table!A" & $AM30):INDIRECT("Table!" & $AP$65 & $AM30),0))))) -> 0.062974799 | Y30: =IF(ISERROR(MATCH(Y$1,INDIRECT("Table!A"&$AM30):INDIRECT("Table!" & $AP$65 & $AM30),0)),"",INDIRECT(CONCATENATE("Table!",ADDRESS($AI30,MATCH(Y$1,INDIRECT("Table!A" & $AM30):INDIRECT("Table!" & $AP$65 & $AM30),0))))) -> 3.033372e-05 | Z30: =IF(ISERROR(MATCH(Z$1,INDIRECT("Table!A"&$AM30):INDIRECT("Table!" & $AP$65 & $AM30),0)),"",INDIRECT(CONCATENATE("Table!",ADDRESS($AI30,MATCH(Z$1,INDIRECT("Table!A" & $AM30):INDIRECT("Table!" & $AP$65 & $AM30),0))))) -> 2.8640097e-05 | AA30: =IF(ISERROR(MATCH(AA$1,INDIRECT("Table!A"&$AM30):INDIRECT("Table!" & $AP$65 & $AM30),0)),"",INDIRECT(CONCATENATE("Table!",ADDRESS($AI30,MATCH(AA$1,INDIRECT("Table!A" & $AM30):INDIRECT("Table!" & $AP$65 & $AM30),0))))) -> 0.026374163 | AB30: =IF(ISERROR(MATCH(AB$1,INDIRECT("Table!A"&$AM30):INDIRECT("Table!" & $AP$65 & $AM30),0)),"",INDIRECT(CONCATENATE("Table!",ADDRESS($AI30,MATCH(AB$1,INDIRECT("Table!A" & $AM30):INDIRECT("Table!" & $AP$65 & $AM30),0))))) | AI30: =MATCH($A30,Table!$A:$A,0)+$AK$2-1 -> 398 | AM30: =MATCH($A30,Table!$A:$A,0)+$AO$2-1 -> 395 | AP30: AI
A31: 41780 | B31: =IF(ISERROR(MATCH(B$1,INDIRECT("Table!A"&$AM31):INDIRECT("Table!" & $AP$113 & $AM31),0)),"",INDIRECT(CONCATENATE("Table!",ADDRESS($AI31,MATCH(B$1,INDIRECT("Table!A" & $AM31):INDIRECT("Table!" & $AP$112 & $AM31),0))))) -> 0.41723449 | C31: =IF(ISERROR(MATCH(C$1,INDIRECT("Table!A"&$AM31):INDIRECT("Table!" & $AP$112 & $AM31),0)),"",INDIRECT(CONCATENATE("Table!",ADDRESS($AI31,MATCH(C$1,INDIRECT("Table!A" & $AM31):INDIRECT("Table!" & $AP$112 & $AM31),0))))) -> 0.56120949 | D31: =IF(ISERROR(MATCH(D$1,INDIRECT("Table!A"&$AM31):INDIRECT("Table!" & $AP$112 & $AM31),0)),"",INDIRECT(CONCATENATE("Table!",ADDRESS($AI31,MATCH(D$1,INDIRECT("Table!A" & $AM31):INDIRECT("Table!" & $AP$112 & $AM31),0))))) -> 0.57010285 | E31: =IF(ISERROR(MATCH(E$1,INDIRECT("Table!A"&$AM31):INDIRECT("Table!" & $AP$112 & $AM31),0)),"",INDIRECT(CONCATENATE("Table!",ADDRESS($AI31,MATCH(E$1,INDIRECT("Table!A" & $AM31):INDIRECT("Table!" & $AP$112 & $AM31),0))))) -> 0.83210439 | F31: =IF(ISERROR(MATCH(F$1,INDIRECT("Table!A"&$AM31):INDIRECT("Table!" & $AP$112 & $AM31),0)),"",INDIRECT(CONCATENATE("Table!",ADDRESS($AI31,MATCH(F$1,INDIRECT("Table!A" & $AM31):INDIRECT("Table!" & $AP$112 & $AM31),0))))) -> 0.68662214 | G31: =IF(ISERROR(MATCH(G$1,INDIRECT("Table!A"&$AM31):INDIRECT("Table!" & $AP$112 & $AM31),0)),"",INDIRECT(CONCATENATE("Table!",ADDRESS($AI31,MATCH(G$1,INDIRECT("Table!A" & $AM31):INDIRECT("Table!" & $AP$112 & $AM31),0))))) -> 0.54451881 | H31: =IF(ISERROR(MATCH(H$1,INDIRECT("Table!A"&$AM31):INDIRECT("Table!" & $AP$112 & $AM31),0)),"",INDIRECT(CONCATENATE("Table!",ADDRESS($AI31,MATCH(H$1,INDIRECT("Table!A" & $AM31):INDIRECT("Table!" & $AP$112 & $AM31),0))))) -> 0.73213568 | I31: =IF(ISERROR(MATCH(I$1,INDIRECT("Table!A"&$AM31):INDIRECT("Table!" & $AP$91 & $AM31),0)),"",INDIRECT(CONCATENATE("Table!",ADDRESS($AI31,MATCH(I$1,INDIRECT("Table!A" & $AM31):INDIRECT("Table!" & $AP$91 & $AM31),0))))) -> 0.29508966 | J31: =IF(ISERROR(MATCH(J$1,INDIRECT("Table!A"&$AM31):INDIRECT("Table!" & $AP$91 & $AM31),0)),"",INDIRECT(CONCATENATE("Table!",ADDRESS($AI31,MATCH(J$1,INDIRECT("Table!A" & $AM31):INDIRECT("Table!" & $AP$91 & $AM31),0))))) -> 0.66205797 | K31: =IF(ISERROR(MATCH(K$1,INDIRECT("Table!A"&$AM31):INDIRECT("Table!" & $AP$91 & $AM31),0)),"",INDIRECT(CONCATENATE("Table!",ADDRESS($AI31,MATCH(K$1,INDIRECT("Table!A" & $AM31):INDIRECT("Table!" & $AP$91 & $AM31),0))))) -> 0.26014811 | L31: =IF(ISERROR(MATCH(L$1,INDIRECT("Table!A"&$AM31):INDIRECT("Table!" & $AP$91 & $AM31),0)),"",INDIRECT(CONCATENATE("Table!",ADDRESS($AI31,MATCH(L$1,INDIRECT("Table!A" & $AM31):INDIRECT("Table!" & $AP$91 & $AM31),0))))) -> 0.82850565 | M31: =IF(ISERROR(MATCH(M$1,INDIRECT("Table!A"&$AM31):INDIRECT("Table!" & $AP$91 & $AM31),0)),"",INDIRECT(CONCATENATE("Table!",ADDRESS($AI31,MATCH(M$1,INDIRECT("Table!A" & $AM31):INDIRECT("Table!" & $AP$91 & $AM31),0))))) -> 0.47754153 | N31: =IF(ISERROR(MATCH(N$1,INDIRECT("Table!A"&$AM31):INDIRECT("Table!" & $AP$91 & $AM31),0)),"",INDIRECT(CONCATENATE("Table!",ADDRESS($AI31,MATCH(N$1,INDIRECT("Table!A" & $AM31):INDIRECT("Table!" & $AP$91 & $AM31),0))))) -> 0.69082044 | O31: =IF(ISERROR(MATCH(O$1,INDIRECT("Table!A"&$AM31):INDIRECT("Table!" & $AP$91 & $AM31),0)),"",INDIRECT(CONCATENATE("Table!",ADDRESS($AI31,MATCH(O$1,INDIRECT("Table!A" & $AM31):INDIRECT("Table!" & $AP$91 & $AM31),0))))) -> 0.84565589 | P31: =IF(ISERROR(MATCH(P$1,INDIRECT("Table!A"&$AM31):INDIRECT("Table!" & $AP$91 & $AM31),0)),"",INDIRECT(CONCATENATE("Table!",ADDRESS($AI31,MATCH(P$1,INDIRECT("Table!A" & $AM31):INDIRECT("Table!" & $AP$91 & $AM31),0))))) -> 0.30540542 | ... S31: =IF(ISERROR(MATCH(S$1,INDIRECT("Table!A"&$AM31):INDIRECT("Table!" & $AP$91 & $AM31),0)),"",INDIRECT(CONCATENATE("Table!",ADDRESS($AI31,MATCH(S$1,INDIRECT("Table!A" & $AM31):INDIRECT("Table!" & $AP$91 & $AM31),0))))) | T31: =IF(ISERROR(MATCH(T$1,INDIRECT("Table!A"&$AM31):INDIRECT("Table!" & $AP$65 & $AM31),0)),"",INDIRECT(CONCATENATE("Table!",ADDRESS($AI31,MATCH(T$1,INDIRECT("Table!A" & $AM31):INDIRECT("Table!" & $AP$65 & $AM31),0))))) -> 0.30904943 | U31: =IF(ISERROR(MATCH(U$1,INDIRECT("Table!A"&$AM31):INDIRECT("Table!" & $AP$65 & $AM31),0)),"",INDIRECT(CONCATENATE("Table!",ADDRESS($AI31,MATCH(U$1,INDIRECT("Table!A" & $AM31):INDIRECT("Table!" & $AP$65 & $AM31),0))))) -> 0.11861659 | V31: =IF(ISERROR(MATCH(V$1,INDIRECT("Table!A"&$AM31):INDIRECT("Table!" & $AP$65 & $AM31),0)),"",INDIRECT(CONCATENATE("Table!",ADDRESS($AI31,MATCH(V$1,INDIRECT("Table!A" & $AM31):INDIRECT("Table!" & $AP$65 & $AM31),0))))) -> 0.11573033 | W31: =IF(ISERROR(MATCH(W$1,INDIRECT("Table!A"&$AM31):INDIRECT("Table!" & $AP$65 & $AM31),0)),"",INDIRECT(CONCATENATE("Table!",ADDRESS($AI31,MATCH(W$1,INDIRECT("Table!A" & $AM31):INDIRECT("Table!" & $AP$65 & $AM31),0))))) -> 0.036915159 | X31: =IF(ISERROR(MATCH(X$1,INDIRECT("Table!A"&$AM31):INDIRECT("Table!" & $AP$65 & $AM31),0)),"",INDIRECT(CONCATENATE("Table!",ADDRESS($AI31,MATCH(X$1,INDIRECT("Table!A" & $AM31):INDIRECT("Table!" & $AP$65 & $AM31),0))))) -> 0.035969575 | Y31: =IF(ISERROR(MATCH(Y$1,INDIRECT("Table!A"&$AM31):INDIRECT("Table!" & $AP$65 & $AM31),0)),"",INDIRECT(CONCATENATE("Table!",ADDRESS($AI31,MATCH(Y$1,INDIRECT("Table!A" & $AM31):INDIRECT("Table!" & $AP$65 & $AM31),0))))) -> 3.033372e-05 | Z31: =IF(ISERROR(MATCH(Z$1,INDIRECT("Table!A"&$AM31):INDIRECT("Table!" & $AP$65 & $AM31),0)),"",INDIRECT(CONCATENATE("Table!",ADDRESS($AI31,MATCH(Z$1,INDIRECT("Table!A" & $AM31):INDIRECT("Table!" & $AP$65 & $AM31),0))))) -> 2.8640097e-05 | AA31: =IF(ISERROR(MATCH(AA$1,INDIRECT("Table!A"&$AM31):INDIRECT("Table!" & $AP$65 & $AM31),0)),"",INDIRECT(CONCATENATE("Table!",ADDRESS($AI31,MATCH(AA$1,INDIRECT("Table!A" & $AM31):INDIRECT("Table!" & $AP$65 & $AM31),0))))) -> 3.939186e-05 | AB31: =IF(ISERROR(MATCH(AB$1,INDIRECT("Table!A"&$AM31):INDIRECT("Table!" & $AP$65 & $AM31),0)),"",INDIRECT(CONCATENATE("Table!",ADDRESS($AI31,MATCH(AB$1,INDIRECT("Table!A" & $AM31):INDIRECT("Table!" & $AP$65 & $AM31),0))))) | AI31: =MATCH($A31,Table!$A:$A,0)+$AK$2-1 -> 412 | AM31: =MATCH($A31,Table!$A:$A,0)+$AO$2-1 -> 409 | AP31: AI
A32: 41773 | B32: =IF(ISERROR(MATCH(B$1,INDIRECT("Table!A"&$AM32):INDIRECT("Table!" & $AP$113 & $AM32),0)),"",INDIRECT(CONCATENATE("Table!",ADDRESS($AI32,MATCH(B$1,INDIRECT("Table!A" & $AM32):INDIRECT("Table!" & $AP$112 & $AM32),0))))) -> 0.41590379 | C32: =IF(ISERROR(MATCH(C$1,INDIRECT("Table!A"&$AM32):INDIRECT("Table!" & $AP$112 & $AM32),0)),"",INDIRECT(CONCATENATE("Table!",ADDRESS($AI32,MATCH(C$1,INDIRECT("Table!A" & $AM32):INDIRECT("Table!" & $AP$112 & $AM32),0))))) -> 0.56102612 | D32: =IF(ISERROR(MATCH(D$1,INDIRECT("Table!A"&$AM32):INDIRECT("Table!" & $AP$112 & $AM32),0)),"",INDIRECT(CONCATENATE("Table!",ADDRESS($AI32,MATCH(D$1,INDIRECT("Table!A" & $AM32):INDIRECT("Table!" & $AP$112 & $AM32),0))))) -> 0.56992613 | E32: =IF(ISERROR(MATCH(E$1,INDIRECT("Table!A"&$AM32):INDIRECT("Table!" & $AP$112 & $AM32),0)),"",INDIRECT(CONCATENATE("Table!",ADDRESS($AI32,MATCH(E$1,INDIRECT("Table!A" & $AM32):INDIRECT("Table!" & $AP$112 & $AM32),0))))) -> 0.83164175 | F32: =IF(ISERROR(MATCH(F$1,INDIRECT("Table!A"&$AM32):INDIRECT("Table!" & $AP$112 & $AM32),0)),"",INDIRECT(CONCATENATE("Table!",ADDRESS($AI32,MATCH(F$1,INDIRECT("Table!A" & $AM32):INDIRECT("Table!" & $AP$112 & $AM32),0))))) -> 0.68186603 | G32: =IF(ISERROR(MATCH(G$1,INDIRECT("Table!A"&$AM32):INDIRECT("Table!" & $AP$112 & $AM32),0)),"",INDIRECT(CONCATENATE("Table!",ADDRESS($AI32,MATCH(G$1,INDIRECT("Table!A" & $AM32):INDIRECT("Table!" & $AP$112 & $AM32),0))))) -> 0.54150832 | H32: =IF(ISERROR(MATCH(H$1,INDIRECT("Table!A"&$AM32):INDIRECT("Table!" & $AP$112 & $AM32),0)),"",INDIRECT(CONCATENATE("Table!",ADDRESS($AI32,MATCH(H$1,INDIRECT("Table!A" & $AM32):INDIRECT("Table!" & $AP$112 & $AM32),0))))) -> 0.72797928 | I32: =IF(ISERROR(MATCH(I$1,INDIRECT("Table!A"&$AM32):INDIRECT("Table!" & $AP$91 & $AM32),0)),"",INDIRECT(CONCATENATE("Table!",ADDRESS($AI32,MATCH(I$1,INDIRECT("Table!A" & $AM32):INDIRECT("Table!" & $AP$91 & $AM32),0))))) -> 0.29272992 | J32: =IF(ISERROR(MATCH(J$1,INDIRECT("Table!A"&$AM32):INDIRECT("Table!" & $AP$91 & $AM32),0)),"",INDIRECT(CONCATENATE("Table!",ADDRESS($AI32,MATCH(J$1,INDIRECT("Table!A" & $AM32):INDIRECT("Table!" & $AP$91 & $AM32),0))))) -> 0.6600857 | K32: =IF(ISERROR(MATCH(K$1,INDIRECT("Table!A"&$AM32):INDIRECT("Table!" & $AP$91 & $AM32),0)),"",INDIRECT(CONCATENATE("Table!",ADDRESS($AI32,MATCH(K$1,INDIRECT("Table!A" & $AM32):INDIRECT("Table!" & $AP$91 & $AM32),0))))) -> 0.24417774 | L32: =IF(ISERROR(MATCH(L$1,INDIRECT("Table!A"&$AM32):INDIRECT("Table!" & $AP$91 & $AM32),0)),"",INDIRECT(CONCATENATE("Table!",ADDRESS($AI32,MATCH(L$1,INDIRECT("Table!A" & $AM32):INDIRECT("Table!" & $AP$91 & $AM32),0))))) -> 0.8279907 | M32: =IF(ISERROR(MATCH(M$1,INDIRECT("Table!A"&$AM32):INDIRECT("Table!" & $AP$91 & $AM32),0)),"",INDIRECT(CONCATENATE("Table!",ADDRESS($AI32,MATCH(M$1,INDIRECT("Table!A" & $AM32):INDIRECT("Table!" & $AP$91 & $AM32),0))))) -> 0.4761865 | N32: =IF(ISERROR(MATCH(N$1,INDIRECT("Table!A"&$AM32):INDIRECT("Table!" & $AP$91 & $AM32),0)),"",INDIRECT(CONCATENATE("Table!",ADDRESS($AI32,MATCH(N$1,INDIRECT("Table!A" & $AM32):INDIRECT("Table!" & $AP$91 & $AM32),0))))) -> 0.68623101 | O32: =IF(ISERROR(MATCH(O$1,INDIRECT("Table!A"&$AM32):INDIRECT("Table!" & $AP$91 & $AM32),0)),"",INDIRECT(CONCATENATE("Table!",ADDRESS($AI32,MATCH(O$1,INDIRECT("Table!A" & $AM32):INDIRECT("Table!" & $AP$91 & $AM32),0))))) -> 0.84107545 | P32: =IF(ISERROR(MATCH(P$1,INDIRECT("Table!A"&$AM32):INDIRECT("Table!" & $AP$91 & $AM32),0)),"",INDIRECT(CONCATENATE("Table!",ADDRESS($AI32,MATCH(P$1,INDIRECT("Table!A" & $AM32):INDIRECT("Table!" & $AP$91 & $AM32),0))))) -> 0.30302943 | ... S32: =IF(ISERROR(MATCH(S$1,INDIRECT("Table!A"&$AM32):INDIRECT("Table!" & $AP$91 & $AM32),0)),"",INDIRECT(CONCATENATE("Table!",ADDRESS($AI32,MATCH(S$1,INDIRECT("Table!A" & $AM32):INDIRECT("Table!" & $AP$91 & $AM32),0))))) | T32: =IF(ISERROR(MATCH(T$1,INDIRECT("Table!A"&$AM32):INDIRECT("Table!" & $AP$65 & $AM32),0)),"",INDIRECT(CONCATENATE("Table!",ADDRESS($AI32,MATCH(T$1,INDIRECT("Table!A" & $AM32):INDIRECT("Table!" & $AP$65 & $AM32),0))))) -> 0.28577386 | U32: =IF(ISERROR(MATCH(U$1,INDIRECT("Table!A"&$AM32):INDIRECT("Table!" & $AP$65 & $AM32),0)),"",INDIRECT(CONCATENATE("Table!",ADDRESS($AI32,MATCH(U$1,INDIRECT("Table!A" & $AM32):INDIRECT("Table!" & $AP$65 & $AM32),0))))) -> 0.11014565 | V32: =IF(ISERROR(MATCH(V$1,INDIRECT("Table!A"&$AM32):INDIRECT("Table!" & $AP$65 & $AM32),0)),"",INDIRECT(CONCATENATE("Table!",ADDRESS($AI32,MATCH(V$1,INDIRECT("Table!A" & $AM32):INDIRECT("Table!" & $AP$65 & $AM32),0))))) -> 0.10746146 | W32: =IF(ISERROR(MATCH(W$1,INDIRECT("Table!A"&$AM32):INDIRECT("Table!" & $AP$65 & $AM32),0)),"",INDIRECT(CONCATENATE("Table!",ADDRESS($AI32,MATCH(W$1,INDIRECT("Table!A" & $AM32):INDIRECT("Table!" & $AP$65 & $AM32),0))))) -> 0.012744076 | X32: =IF(ISERROR(MATCH(X$1,INDIRECT("Table!A"&$AM32):INDIRECT("Table!" & $AP$65 & $AM32),0)),"",INDIRECT(CONCATENATE("Table!",ADDRESS($AI32,MATCH(X$1,INDIRECT("Table!A" & $AM32):INDIRECT("Table!" & $AP$65 & $AM32),0))))) -> 0.012382068 | Y32: =IF(ISERROR(MATCH(Y$1,INDIRECT("Table!A"&$AM32):INDIRECT("Table!" & $AP$65 & $AM32),0)),"",INDIRECT(CONCATENATE("Table!",ADDRESS($AI32,MATCH(Y$1,INDIRECT("Table!A" & $AM32):INDIRECT("Table!" & $AP$65 & $AM32),0))))) -> 3.033372e-05 | Z32: =IF(ISERROR(MATCH(Z$1,INDIRECT("Table!A"&$AM32):INDIRECT("Table!" & $AP$65 & $AM32),0)),"",INDIRECT(CONCATENATE("Table!",ADDRESS($AI32,MATCH(Z$1,INDIRECT("Table!A" & $AM32):INDIRECT("Table!" & $AP$65 & $AM32),0))))) -> 2.8640097e-05 | AA32: =IF(ISERROR(MATCH(AA$1,INDIRECT("Table!A"&$AM32):INDIRECT("Table!" & $AP$65 & $AM32),0)),"",INDIRECT(CONCATENATE("Table!",ADDRESS($AI32,MATCH(AA$1,INDIRECT("Table!A" & $AM32):INDIRECT("Table!" & $AP$65 & $AM32),0))))) | AB32: =IF(ISERROR(MATCH(AB$1,INDIRECT("Table!A"&$AM32):INDIRECT("Table!" & $AP$65 & $AM32),0)),"",INDIRECT(CONCATENATE("Table!",ADDRESS($AI32,MATCH(AB$1,INDIRECT("Table!A" & $AM32):INDIRECT("Table!" & $AP$65 & $AM32),0))))) | AI32: =MATCH($A32,Table!$A:$A,0)+$AK$2-1 -> 426 | AM32: =MATCH($A32,Table!$A:$A,0)+$AO$2-1 -> 423 | AP32: AI
