Workbook

Sheet Source
A1: ARRAY | B1: Usable GBs | C1: Free GBs | D1: Used GBs | E1: Configured Devices | F1: Available Devices | G1: Mapped Storage Total | H1: CGC | J1: ARRAY | K1: Usable GBs | L1: Free GBs | M1: Used GBs | N1: Configured Devices | O1: Available Devices | P1: Mapped Storage Total
A2: 292600623 | B2: 250018.4 | C2: 195678.7 | D2: 54338.4 | E2: 3713 | F2: 1723 | G2: 57121.6 | J2: 292600623 | K2: 250018.4 | L2: 195704.9 | M2: 54312.2 | N2: 3713 | O2: 1723 | P2: 57121.6 | S2: ZDC T4 VMAX 1383
A3: 292600745 | B3: 150516.7 | C3: 63410.6 | D3: 87105.2 | E3: 3620 | F3: 1971 | G3: 55194.4 | J3: 292600745 | K3: 150516.7 | L3: 63410.6 | M3: 87105.2 | N3: 3620 | O3: 1971 | P3: 55194.4
A4: 295700703 | B4: 224071.2 | C4: 142149.1 | D4: 81921.3 | E4: 6399 | F4: 2427 | G4: 133975 | J4: 295700703 | K4: 224071.2 | L4: 143691 | M4: 80379.3 | N4: 6399 | O4: 2488 | P4: 131918
A5: 295700705 | B5: 156194.1 | C5: 123223.2 | D5: 32968.9 | E5: 4800 | F5: 3238 | G5: 52690.9 | J5: 295700705 | K5: 156194.1 | L5: 123235.5 | M5: 32956.5 | N5: 4800 | O5: 3357 | P5: 48678.6
A8: ARRAY | B8: Usable GBs | C8: Free GBs | D8: Used GBs | E8: Configured Devices | F8: Available Devices | G8: Mapped Storage Total | H8: RDC | J8: ARRAY | K8: Usable GBs | L8: Free GBs | M8: Used GBs | N8: Configured Devices | O8: Available Devices | P8: Mapped Storage Total
A9: 292600552 | B9: 150516.7 | C9: 63663.3 | D9: 86852.6 | E9: 3560 | F9: 2298 | G9: 42146 | J9: 292600552 | K9: 150516.7 | L9: 63663.3 | M9: 86852.5 | N9: 3560 | O9: 2298 | P9: 42146
A10: 292600678 | B10: 181998.8 | C10: 79318.5 | D10: 102679.2 | E10: 6588 | F10: 2001 | G10: 122319 | J10: 292600678 | K10: 181998.8 | L10: 79344.5 | M10: 102653.3 | N10: 6588 | O10: 2001 | P10: 122319
A11: 292602230 | B11: 171975.5 | C11: 73628.3 | D11: 98346.3 | E11: 7076 | F11: 3745 | G11: 109776 | J11: 292602230 | K11: 171975.5 | L11: 73752.9 | M11: 98221.5 | N11: 7076 | O11: 3745 | P11: 109776
A12: 292603073 | B12: 389505 | C12: 177955.6 | D12: 211547.4 | E12: 14882 | F12: 2470 | G12: 422468 | J12: 292603073 | K12: 389505 | L12: 178396.8 | M12: 211105.9 | N12: 14882 | O12: 2470 | P12: 422468
A13: 292603286 | B13: 165765.7 | C13: 45046 | D13: 120718.8 | E13: 8432 | F13: 5095 | G13: 110224 | J13: 292603286 | K13: 165765.7 | L13: 45198.8 | M13: 120565.9 | N13: 8432 | O13: 5095 | P13: 110224
A14: 292603696 | B14: 166078 | C14: 112602.6 | D14: 53474.4 | E14: 9599 | F14: 8093 | G14: 50818.6 | J14: 292603696 | K14: 166078 | L14: 112665.5 | M14: 53411.5 | N14: 9599 | O14: 8130 | P14: 49571.1
A15: 292604330 | B15: 124019.2 | C15: 22662.9 | D15: 101353.3 | E15: 6863 | F15: 2631 | G15: 143613 | J15: 292604330 | K15: 124019.2 | L15: 23205 | M15: 100811.1 | N15: 6863 | O15: 2637 | P15: 143410
A16: 295700347 | B16: 224071.2 | C16: 122681 | D16: 101389.3 | E16: 9273 | F16: 2783 | G16: 219211 | J16: 295700347 | K16: 224071.2 | L16: 123009.7 | M16: 101060.6 | N16: 9273 | O16: 2784 | P16: 219177
A17: 295700485 | B17: 190871.2 | C17: 190870 | D17: 4.9 | E17: 6400 | F17: 6400 | G17: 0 | J17: 295700485 | K17: 190871.2 | L17: 190870 | M17: 4.9 | N17: 6400 | O17: 6400 | P17: 0
A18: 295700671 | B18: 209496.5 | C18: 177250 | D18: 32240.4 | E18: 7999 | F18: 5509 | G18: 62682.8 | J18: 295700671 | K18: 209496.5 | L18: 177272.6 | M18: 32218 | N18: 7999 | O18: 5509 | P18: 62682.8
A19: 295700688 | B19: 156194.1 | C19: 123195.8 | D19: 32996.2 | E19: 4800 | F19: 3238 | G19: 52705.6 | J19: 295700688 | K19: 156194.1 | L19: 123208.3 | M19: 32983.7 | N19: 4800 | O19: 3357 | P19: 48693.3
A20: 295700689 | B20: 102196.5 | C20: 57774.2 | D20: 44419.9 | E20: 3999 | F20: 1921 | G20: 70122.7 | J20: 295700689 | K20: 102196.5 | L20: 58560.5 | M20: 43633.5 | N20: 3999 | O20: 1921 | P20: 70122.7
... A23: 295700706 | B23: 102196.5 | C23: 60004.5 | D23: 42189.6 | E23: 3999 | F23: 1447 | G23: 86114.1 | J23: 295700706 | K23: 102196.5 | L23: 60806 | M23: 41388.1 | N23: 3999 | O23: 1447 | P23: 86114.1
H25: FDC
A26: ARRAY | B26: Usable GBs | C26: Free GBs | D26: Used GBs | E26: Configured Devices | F26: Available Devices | G26: Mapped Storage Total | J26: ARRAY | K26: Usable GBs | L26: Free GBs | M26: Used GBs | N26: Configured Devices | O26: Available Devices | P26: Mapped Storage Total
A27: 292600879 | B27: 193029.1 | C27: 111707.8 | D27: 81320.2 | E27: 5429 | F27: 1679 | G27: 139133 | J27: 292600879 | K27: 193029.1 | L27: 111887.8 | M27: 81140.1 | N27: 5429 | O27: 1662 | P27: 139706
A28: 292602231 | B28: 276130.4 | C28: 90974.7 | D28: 185154.8 | E28: 8508 | F28: 4933 | G28: 92441.6 | J28: 292602231 | K28: 276130.4 | L28: 91202.9 | M28: 184926.8 | N28: 8508 | O28: 4933 | P28: 92441.6
A29: 292602804 | B29: 83038.8 | C29: 22105.8 | D29: 60932.7 | E29: 4357 | F29: 878 | G29: 117345 | J29: 292602804 | K29: 83038.8 | L29: 22156.7 | M29: 60881.8 | N29: 4357 | O29: 878 | P29: 117345
A30: 292603004 | B30: 438219.9 | C30: 221715.3 | D30: 216504.2 | E30: 14829 | F30: 1733 | G30: 441635 | J30: 292603004 | K30: 438219.9 | L30: 222403.1 | M30: 215816.2 | N30: 14829 | O30: 1733 | P30: 441635
A31: 292603875 | B31: 83038.8 | C31: 55414.1 | D31: 27624.5 | E31: 4799 | F31: 2845 | G31: 65934.2 | J31: 292603875 | K31: 83038.8 | L31: 55445.5 | M31: 27593 | N31: 4799 | O31: 2882 | P31: 64686.7
A32: 292604652 | B32: 191618.2 | C32: 39758.8 | D32: 151854.7 | E32: 9395 | F32: 4759 | G32: 142414 | J32: 292604652 | K32: 191618.2 | L32: 40319 | M32: 151294.1 | N32: 9395 | O32: 4765 | P32: 142212
A33: 295700349 | B33: 262288.9 | C33: 105246.1 | D33: 157041.2 | E33: 10561 | F33: 1998 | G33: 288880 | J33: 295700349 | K33: 262288.9 | L33: 105808 | M33: 156479.4 | N33: 10561 | O33: 1999 | P33: 288847
A34: 295700667 | B34: 102196.5 | C34: 86068.1 | D34: 16126.2 | E34: 3999 | F34: 2092 | G34: 64335 | J34: 295700667 | K34: 102196.5 | L34: 86079.2 | M34: 16114.9 | N34: 3999 | O34: 2092 | P34: 64335
A35: 295700709 | B35: 328695.2 | C35: 186464 | D35: 142227.6 | E35: 11649 | F35: 4632 | G35: 236737 | J35: 295700709 | K35: 328695.2 | L35: 187062.7 | M35: 141628.9 | N35: 11649 | O35: 4677 | P35: 235220
A36: 295700710 | B36: 209496.5 | C36: 121529.2 | D36: 87961.7 | E36: 7999 | F36: 5298 | G36: 70088.9 | J36: 295700710 | K36: 209496.5 | L36: 123105.9 | M36: 86385.1 | N36: 7999 | O36: 5298 | P36: 70088.9
A37: 295700712 | B37: 209496.5 | C37: 132547.1 | D37: 76943.9 | E37: 7999 | F37: 4088 | G37: 82434.8 | J37: 295700712 | K37: 209496.5 | L37: 133835.6 | M37: 75655.4 | N37: 7999 | O37: 4088 | P37: 82434.8
A38: 295700713 | B38: 190871.2 | C38: 190870 | D38: 4.9 | E38: 6400 | F38: 6400 | G38: 0 | J38: 295700713 | K38: 190871.2 | L38: 190870 | M38: 4.9 | N38: 6400 | O38: 6400 | P38: 0
H40: ZDC
A41: ARRAY | B41: Usable GBs | C41: Free GBs | D41: Used GBs | E41: Configured Devices | F41: Available Devices | G41: Mapped Storage Total | J41: ARRAY | K41: Usable GBs | L41: Free GBs | M41: Used GBs | N41: Configured Devices | O41: Available Devices | P41: Mapped Storage Total
A42: 492600377 | B42: 33090.5 | C42: 18801.7 | D42: 14288.8 | E42: 1570 | F42: 299 | G42: 42854.1 | J42: 492600377 | K42: 33090.5 | L42: 18801.7 | M42: 14288.8 | N42: 1570 | O42: 299 | P42: 42854.1
A43: 298701383 | B43: 59723.7 | C43: 19227.8 | D43: 40495.1 | E43: 2479 | F43: 662 | G43: 61297.2 | J43: 298701383 | K43: 59723.7 | L43: 19227.8 | M43: 40495.1 | N43: 2479 | O43: 662 | P43: 61297.2

Sheet Table
A1: 41977
A2: Site | C2: CGC | D2: CGC | E2: RDC | F2: RDC | G2: RDC | H2: RDC | I2: RDC | J2: RDC | K2: RDC | L2: RDC | M2: FDC | N2: FDC | O2: FDC | P2: FDC | Q2: FDC | R2: FDC | S2: ZDC T4 VMAX 1383 | T2: ZDC | U2: ZDC | V2: FDC | W2: RDC | X2: RDC | Y2: FDC | Z2: RDC | AA2: FDC | AB2: FDC | AC2: FDC | AD2: RDC | AE2: CGC | AF2: RDC | AG2: CGC | AH2: RDC | AI2: RDC | AJ2: Total | AK2: VMAX | AW2: Site | AY2: CGC | AZ2: RDC | BB2: FDC
A3: VMAX | C3: 0623 | D3: 0745 | E3: 0552 | F3: 0678 | G3: 3286 | H3: 3073 | I3: 2230 | J3: 3696 | K3: 4330 | L3: 0347 | M3: 0879 | N3: 3004 | O3: 2804 | P3: 2231 | Q3: 3875 | R3: 4652 | S3: 0349 | T3: 1383 | U3: 0377 | V3: 0667 | W3: 0671 | X3: 0689 | Y3: 0710 | Z3: 0706 | AA3: 0712 | AB3: 0709 | AC3: 0713 | AD3: 0704 | AE3: 0703 | AF3: 0688 | AG3: 0705 | AH3: 0699 | AI3: 0485 | AK3: Site | AL3: CGC Non-Rep | AM3: CGC-Rep | AN3: RDC Non-Rep | AO3: RDC-Rep | AP3: FDC Non-Rep | AQ3: FDC-Rep | AR3: ZDC Non-Rep | AS3: Total Rep | AT3: Total Non-Rep | AU3: Total Rep+Non-Rep | AW3: VMAX | AY3: 0623 | AZ3: 3073 | BA3: 0347 | BB3: 3004 | BC3: 0349
A4: Enabled Pool Devices | B4: Total GB | C4: =Source!B2 -> 250018.4 | D4: =Source!B3 -> 150516.7 | E4: =Source!B9 -> 150516.7 | F4: =Source!B10 -> 181998.8 | G4: =Source!B13 -> 165765.7 | H4: =Source!B12 -> 389505 | I4: =Source!B11 -> 171975.5 | J4: =Source!B14 -> 166078 | K4: =Source!B15 -> 124019.2 | L4: =Source!B16 -> 224071.2 | M4: =Source!B27 -> 193029.1 | N4: =Source!B30 -> 438219.9 | O4: =Source!B29 -> 83038.8 | P4: =Source!B28 -> 276130.4 | Q4: =Source!B31 -> 83038.8 | R4: =Source!B32 -> 191618.2 | S4: =Source!B33 -> 262288.9 | T4: =Source!B43 -> 59723.7 | U4: =Source!B42 -> 33090.5 | V4: =Source!B34 -> 102196.5 | W4: =Source!B18 -> 209496.5 | X4: =Source!B20 -> 102196.5 | Y4: =Source!B36 -> 209496.5 | Z4: =Source!B23 -> 102196.5 | AA4: =Source!B37 -> 209496.5 | AB4: =Source!B35 -> 328695.2 | AC4: =Source!B38 -> 190871.2 | AD4: =Source!B22 -> 224071.2 | AE4: =Source!B4 -> 224071.2 | AF4: =Source!B19 -> 156194.1 | AG4: =Source!B5 -> 156194.1 | AH4: =Source!B21 -> 224071.2 | AI4: =Source!B17 -> 190871.2 | AJ4: =SUM(C4:AI4) -> 6224761.9 | AK4: Total GB | AL4: =C4+AE4 -> 474089.6 | AM4: =D4+AG4 -> 306710.8 | AN4: =F4+H4+L4+AD4+AH4+AI4 -> 1434588.6 | AO4: =E4+G4+I4+J4+K4+W4+X4+Z4+AF4 -> 1348438.7 | AP4: =M4+N4+S4+AB4+AC4 -> 1413104.3 | AQ4: =O4+P4+Q4+R4+V4+Y4+AA4 -> 1155015.7 | AR4: =T4+U4 -> 92814.2 | AS4: =AM4+AO4+AQ4 -> 2810165.2 | AT4: =AL4+AN4+AP4+AR4 -> 3414596.7 | AU4: =SUM(AS4:AT4) -> 6224761.9 | AW4: FC Pool Devices | AX4: Total GB | AY4: 143393 | AZ4: 132132 | BA4: 83196.1 | BB4: 132132.2 | BC4: 83196.1
B5: Used GB | C5: =Source!D2 -> 54338.4 | D5: =Source!D3 -> 87105.2 | E5: =Source!D9 -> 86852.6 | F5: =Source!D10 -> 102679.2 | G5: =Source!D13 -> 120718.8 | H5: =Source!D12 -> 211547.4 | I5: =Source!D11 -> 98346.3 | J5: =Source!D14 -> 53474.4 | K5: =Source!D15 -> 101353.3 | L5: =Source!D16 -> 101389.3 | M5: =Source!D27 -> 81320.2 | N5: =Source!D30 -> 216504.2 | O5: =Source!D29 -> 60932.7 | P5: =Source!D28 -> 185154.8 | Q5: =Source!D31 -> 27624.5 | R5: =Source!D32 -> 151854.7 | S5: =Source!D33 -> 157041.2 | T5: =Source!D43 -> 40495.1 | U5: =Source!D42 -> 14288.8 | V5: =Source!D34 -> 16126.2 | W5: =Source!D18 -> 32240.4 | X5: =Source!D20 -> 44419.9 | Y5: =Source!D36 -> 87961.7 | Z5: =Source!D23 -> 42189.6 | AA5: =Source!D37 -> 76943.9 | AB5: =Source!D35 -> 142227.6 | AC5: =Source!D38 -> 4.9 | AD5: =Source!D22 -> 55477.3 | AE5: =Source!D4 -> 81921.3 | AF5: =Source!D19 -> 32996.2 | AG5: =Source!D5 -> 32968.9 | AH5: =Source!D21 -> 23829.6 | AI5: =Source!D17 -> 4.9 | AJ5: =SUM(C5:AI5) -> 2622333.5 | AK5: Used GB | AL5: =C5+AE5 -> 136259.7 | AM5: =D5+AG5 -> 120074.1 | AN5: =H5+F5+L5+AD5+AH5+AI5 -> 494927.7 | AO5: =E5+G5+I5+J5+K5+W5+X5+Z5+AF5 -> 612591.5 | AP5: =M5+N5+S5+AB5+AC5 -> 597098.1 | AQ5: =O5+P5+Q5+R5+V5+Y5+AA5 -> 606598.5 | AR5: =T5+U5 -> 54783.9 | AS5: =AM5+AO5+AQ5 -> 1339264.1 | AT5: =AL5+AN5+AP5+AR5 -> 1283069.4 | AU5: =SUM(AS5:AT5) -> 2622333.5 | AX5: Used GB | AY5: 51964.9 | AZ5: 58542 | BA5: 2519 | BB5: 70731 | BC5: 31444.9
B6: % full | C6: =C5/C4 -> 0.2173376 | D6: =D5/D4 -> 0.57870788 | E6: =E5/E4 -> 0.57702966 | F6: =F5/F4 -> 0.56417515 | G6: =G5/G4 -> 0.72824957 | H6: =H5/H4 -> 0.54311857 | I6: =I5/I4 -> 0.57186227 | J6: =J5/J4 -> 0.32198365 | ... AJ6: =AJ5/AJ4 -> 0.42127451 | AK6: % full | AL6: =AL5/AL4 -> 0.28741339 | AM6: =AM5/AM4 -> 0.39148964 | AN6: =AN5/AN4 -> 0.34499626 | AO6: =AO5/AO4 -> 0.45429688 | AP6: =AP5/AP4 -> 0.42254354 | AQ6: =AQ5/AQ4 -> 0.52518637 | AR6: =AR5/AR4 -> 0.59025343 | AS6: =AS5/AS4 -> 0.47657842 | ... AU6: =AU5/AU4 -> 0.42127451 | AX6: % full | AY6: =AY5/AY4 -> 0.36239496 | AZ6: =AZ5/AZ4 -> 0.44305694 | BA6: =BA5/BA4 -> 0.030277862 | BB6: =BB5/BB4 -> 0.53530479 | BC6: =BC5/BC4 -> 0.37796123
A7: Thin Devices | B7: # Devices | C7: =Source!E2 -> 3713 | D7: =Source!E3 -> 3620 | E7: =Source!E9 -> 3560 | F7: =Source!E10 -> 6588 | G7: =Source!E13 -> 8432 | H7: =Source!E12 -> 14882 | I7: =Source!E11 -> 7076 | J7: =Source!E14 -> 9599 | K7: =Source!E15 -> 6863 | L7: =Source!E16 -> 9273 | M7: =Source!E27 -> 5429 | N7: =Source!E30 -> 14829 | O7: =Source!E29 -> 4357 | P7: =Source!E28 -> 8508 | Q7: =Source!E31 -> 4799 | R7: =Source!E32 -> 9395 | S7: =Source!E33 -> 10561 | T7: =Source!E43 -> 2479 | U7: =Source!E42 -> 1570 | V7: =Source!E34 -> 3999 | W7: =Source!E18 -> 7999 | X7: =Source!E20 -> 3999 | Y7: =Source!E36 -> 7999 | Z7: =Source!E23 -> 3999 | AA7: =Source!E37 -> 7999 | AB7: =Source!E35 -> 11649 | AC7: =Source!E38 -> 6400 | AD7: =Source!E22 -> 6399 | AE7: =Source!E4 -> 6399 | AF7: =Source!E19 -> 4800 | AG7: =Source!E5 -> 4800 | AH7: =Source!E21 -> 6399 | AI7: =Source!E17 -> 6400 | AJ7: =SUM(C7:AI7) -> 224773 | AK7: # Devices | AL7: =C7+AE7 -> 10112 | AM7: =D7+AG7 -> 8420 | AN7: =F7+H7+L7+AD7+AH7+AI7 -> 49941 | AO7: =E7+G7+I7+J7+K7+W7+X7+Z7+AF7 -> 56327 | AP7: =M7+N7+S7+AB7+AC7 -> 48868 | AQ7: =O7+P7+Q7+R7+V7+Y7+AA7 -> 47056 | AR7: =T7+U7 -> 4049 | AS7: =AM7+AO7+AQ7 -> 111803 | AT7: =AL7+AN7+AP7+AR7 -> 112970 | AU7: =SUM(AS7:AT7) -> 224773 | AW7: EFD Pool Devices | AX7: Total GB | AY7: 9191.8 | AZ7: 13787.7 | BA7: 8804.8 | BB7: 13787.7 | BC7: 8804.8
B8: Virtual Capacity GB | C8: =C7*33.717 -> 125191.22 | D8: =D7*33.717 -> 122055.54 | E8: =E7*33.717 -> 120032.52 | F8: =F7*33.717 -> 222127.6 | G8: =G7*33.717 -> 284301.74 | H8: =H7*33.717 -> 501776.39 | I8: =I7*33.717 -> 238581.49 | J8: =J7*33.717 -> 323649.48 | ... AI8: =AI7*33.717 -> 215788.8 | AJ8: =SUM(C8:AI8) -> 7578671.2 | AK8: Virtual Capacity GB | AL8: =AL7*33.717 -> 340946.3 | AM8: =AM7*33.717 -> 283897.14 | AN8: =AN7*33.717 -> 1683860.7 | AO8: =AO7*33.717 -> 1899177.5 | AP8: =AP7*33.717 -> 1647682.4 | AQ8: =AQ7*33.717 -> 1586587.2 | AR8: =AR7*33.717 -> 136520.13 | AS8: =AS7*33.717 -> 3769661.8 | AT8: =AT7*33.717 -> 3809009.5 | AU8: =SUM(AS8:AT8) -> 7578671.2 | AX8: Used GB | AY8: 7975.5 | AZ8: 13649 | BA8: 1289.9 | BB8: 13642 | BC8: 5483.9
B9: capacity threshold | C9: 164000 | D9: 109880 | E9: 109880 | F9: 328000 | G9: 330905 | H9: 264264 | I9: 242663.6 | J9: 328000 | K9: 328000 | L9: 328000 | M9: 328000 | N9: 264264.4 | O9: 328000 | P9: 352965.4 | Q9: 328000 | R9: 328000 | S9: 328000 | T9: =2*T4 -> 119447.4 | U9: =2*U4 -> 66181 | V9: =2*V4 -> 204393 | W9: =2*W4 -> 418993 | X9: =2*X4 -> 204393 | Y9: =2*Y4 -> 418993 | Z9: =2*Z4 -> 204393 | AA9: =2*AA4 -> 418993 | ... AI9: =2*AI4 -> 381742.4 | AJ9: =SUM(C9:AI9) -> 10236688 | AK9: capacity threshold | AL9: =2*AL4 -> 948179.2 | AM9: =2*AM4 -> 613421.6 | AN9: =2*AN4 -> 2869177.2 | AO9: =2*AO4 -> 2696877.4 | AP9: =2*AP4 -> 2826208.6 | AQ9: =2*AQ4 -> 2310031.4 | AR9: =2*AR4 -> 185628.4 | AS9: =2*AS4 -> 5620330.4 | AT9: =2*AT4 -> 6829193.4 | AU9: =SUM(AS9:AT9) -> 12449524 | AX9: % full | AY9: =AY8/AY7 -> 0.86767554 | AZ9: =AZ8/AZ7 -> 0.98994031 | BA9: =BA8/BA7 -> 0.14649964 | BB9: =BB8/BB7 -> 0.98943261 | BC9: =BC8/BC7 -> 0.62283073
B10: # Allocated | C10: =SUM(C7-Source!F2) -> 1990 | D10: =SUM(D7-Source!F3) -> 1649 | E10: =SUM(E7-Source!F9) -> 1262 | F10: =SUM(F7-Source!F10) -> 4587 | G10: =SUM(G7-Source!F13) -> 3337 | H10: =SUM(H7-Source!F12) -> 12412 | I10: =SUM(I7-(Source!F11-2216)) -> 5547 | J10: =SUM(J7-Source!F14) -> 1506 | K10: =SUM(K7-(Source!F15-1760)) -> 5992 | L10: =SUM(L7-Source!F16) -> 6490 | M10: =SUM(M7-Source!F27) -> 3750 | N10: =SUM(N7-Source!F30) -> 13096 | O10: =SUM(O7-Source!F29) -> 3479 | P10: =SUM(P7-(Source!F28-2614)) -> 6189 | Q10: =SUM(Q7-Source!F31) -> 1954 | R10: =SUM(R7-Source!F32) -> 4636 | S10: =SUM(S7-Source!F33) -> 8563 | T10: =SUM(T7-Source!F43) -> 1817 | U10: =SUM(U7-Source!F42) -> 1271 | V10: =SUM(V7-Source!F34) -> 1907 | W10: =SUM(W7-Source!F18) -> 2490 | X10: =SUM(X7-Source!F20) -> 2078 | Y10: =SUM(Y7-Source!F36) -> 2701 | Z10: =SUM(Z7-Source!F23) -> 2552 | AA10: =SUM(AA7-Source!F37) -> 3911 | AB10: =SUM(AB7-Source!F35) -> 7017 | AC10: =SUM(AC7-Source!F38) -> 0 | AD10: =SUM(AD7-Source!F22) -> 4092 | AE10: =SUM(AE7-Source!F4) -> 3972 | AF10: =SUM(AF7-Source!F19) -> 1562 | AG10: =SUM(AG7-Source!F5) -> 1562 | AH10: =SUM(AH7-Source!F21) -> 4143 | AI10: =SUM(AI7-Source!F17) -> 0 | AJ10: =SUM(C10:AI10) -> 127514 | AK10: # Allocated | AL10: =C10+AE10 -> 5962 | AM10: =D10+AG10 -> 3211 | AN10: =F10+H10+L10+AD10+AH10+AI10 -> 31724 | AO10: =E10+G10+I10+J10+K10+W10+X10+Z10+AF10 -> 26326 | AP10: =M10+N10+S10+AB10+AC10 -> 32426 | AQ10: =O10+P10+Q10+R10+V10+Y10+AA10 -> 24777 | AR10: =T10+U10 -> 3088 | AS10: =AM10+AO10+AQ10 -> 54314 | AT10: =AL10+AN10+AP10+AR10 -> 73200 | AU10: =SUM(AS10:AT10) -> 127514 | AW10: SATA Pool Devices | AX10: Total GB | AY10: 97433.6 | AZ10: 243584.4 | BA10: 132070.3 | BB10: 292299.3 | BC10: 132070.4
B11: GB Allocated | C11: =C10*33.717 -> 67096.83 | D11: =D10*33.717 -> 55599.333 | E11: =E10*33.717 -> 42550.854 | F11: =F10*33.717 -> 154659.88 | G11: =G10*33.717 -> 112513.63 | H11: =H10*33.717 -> 418495.4 | I11: =I10*33.717 -> 187028.2 | J11: =J10*33.717 -> 50777.802 | ... N11: =N10*33.717 -> 441557.83 | O11: =(O10*33.717) -> 117301.44 | P11: =P10*33.717-(2614*33.717) -> 120538.28 | Q11: =Q10*33.717 -> 65883.018 | R11: =R10*33.717 -> 156312.01 | S11: =S10*33.717 -> 288718.67 | T11: =T10*33.717 -> 61263.789 | U11: =U10*33.717 -> 42854.307 | V11: =V10*33.717 -> 64298.319 | W11: =W10*33.717 -> 83955.33 | X11: =X10*33.717 -> 70063.926 | ... AI11: =AI10*33.717 -> 0 | AJ11: =SUM(C11:AI11) -> 4211253.3 | AK11: GB Allocated | AL11: =AL10*33.717 -> 201020.75 | AM11: =AM10*33.717 -> 108265.29 | AN11: =AN10*33.717 -> 1069638.1 | AO11: =AO10*33.717 -> 887633.74 | AP11: =AP10*33.717 -> 1093307.4 | AQ11: =AQ10*33.717 -> 835406.11 | AR11: =AR10*33.717 -> 104118.1 | AS11: =AS10*33.717 -> 1831305.1 | AT11: =AT10*33.717 -> 2468084.4 | AU11: =SUM(AS11:AT11) -> 4299389.5 | AX11: Used GB | AY11: 38973.2 | AZ11: 124350.5 | BA11: 3817.1 | BB11: 109009 | BC11: 33401
B12: subscription vs allocated | C12: =C11/C4 -> 0.26836757 | D12: =D11/D4 -> 0.3693898 | E12: =E11/E4 -> 0.28269856 | F12: =F11/F4 -> 0.84978516 | G12: =G11/G4 -> 0.67875097 | H12: =H11/H4 -> 1.0744288 | I12: =I11/I4 -> 1.0875282 | J12: =J11/J4 -> 0.30574671 | ... AJ12: =AJ11/AJ4 -> 0.67653243 | AK12: subscription vs allocated | AL12: =AL11/AL4 -> 0.42401427 | AM12: =AM11/AM4 -> 0.35298818 | AN12: =AN11/AN4 -> 0.74560617 | AO12: =AO11/AO4 -> 0.65826777 | AP12: =AP11/AP4 -> 0.77369196 | AQ12: =AQ11/AQ4 -> 0.7232855 | AR12: =AR11/AR4 -> 1.1217906 | AS12: =AS11/AS4 -> 0.6516717 | ... AU12: =AU11/AU4 -> 0.6906914 | AX12: % full | AY12: =AY11/AY10 -> 0.39999754 | AZ12: =AZ11/AZ10 -> 0.51050273 | BA12: =BA11/BA10 -> 0.028902032 | BB12: =BB11/BB10 -> 0.37293623 | BC12: =BC11/BC10 -> 0.252903
B13: GB Mapped(First Port) | C13: =Source!G2 -> 57121.6 | D13: =Source!G3 -> 55194.4 | E13: =Source!G9 -> 42146 | F13: =Source!G10 -> 122319 | G13: =Source!G13 -> 110224 | H13: =Source!G12 -> 422468 | I13: =Source!G11 -> 109776 | J13: =Source!G14 -> 50818.6 | K13: =Source!G15 -> 143613 | L13: =Source!G16 -> 219211 | M13: =Source!G27 -> 139133 | N13: =Source!G30 -> 441635 | O13: =Source!G29 -> 117345 | P13: =Source!G28 -> 92441.6 | Q13: =Source!G31 -> 65934.2 | R13: =Source!G32 -> 142414 | S13: =Source!G33 -> 288880 | T13: =Source!G43 -> 61297.2 | U13: =Source!G42 -> 42854.1 | V13: =Source!G34 -> 64335 | W13: =Source!G18 -> 62682.8 | X13: =Source!G20 -> 70122.7 | Y13: =Source!G36 -> 70088.9 | Z13: =Source!G23 -> 86114.1 | AA13: =Source!G37 -> 82434.8 | AB13: =Source!G35 -> 236737 | AC13: =Source!G38 -> 0 | AD13: =Source!G22 -> 138063 | AE13: =Source!G4 -> 133975 | AF13: =Source!G19 -> 52705.6 | AG13: =Source!G5 -> 52690.9 | AH13: =Source!G21 -> 139723 | AI13: =Source!G17 -> 0 | AJ13: =SUM(C13:AI13) -> 3914498.5 | AK13: GB Mapped(First Port) | AL13: =C13+AE13 -> 191096.6 | AM13: =D13+AG13 -> 107885.3 | AN13: =F13+H13+L13+AD13+AH13+AI13 -> 1041784 | AO13: =E13+G13+I13+J13+K13+W13+X13+Z13+AF13 -> 728202.8 | AP13: =M13+N13+S13+AB13+AC13 -> 1106385 | AQ13: =O13+P13+Q13+R13+V13+Y13+AA13 -> 634993.5 | AR13: =T13+U13 -> 104151.3 | AS13: =AM13+AO13+AQ13 -> 1471081.6 | AT13: =AL13+AN13+AP13+AR13 -> 2443416.9 | AU13: =SUM(AS13:AT13) -> 3914498.5 | AW13: Total | AX13: % full | AY13: =(AY6+AY12)/2 -> 0.38119625 | AZ13: =(AZ6+AZ12)/2 -> 0.47677983 | BA13: =(BA6+BA12)/2 -> 0.029589947 | BB13: =(BB6+BB12)/2 -> 0.45412051 | BC13: =(BC6+BC12)/2 -> 0.31543211
B14: subscription vs Mapped | C14: =C13/C4 -> 0.22846958 | D14: =D13/D4 -> 0.36669951 | E14: =E13/E4 -> 0.2800088 | F14: =F13/F4 -> 0.67208685 | G14: =G13/G4 -> 0.66493852 | H14: =H13/H4 -> 1.0846279 | I14: =I13/I4 -> 0.63832348 | J14: =J13/J4 -> 0.30599237 | ... AJ14: =AJ13/AJ4 -> 0.62885915 | AK14: subscription vs Mapped | AL14: =AL13/AL4 -> 0.40308119 | AM14: =AM13/AM4 -> 0.35174927 | AN14: =AN13/AN4 -> 0.72619007 | AO14: =AO13/AO4 -> 0.54003404 | AP14: =AP13/AP4 -> 0.78294645 | AQ14: =AQ13/AQ4 -> 0.54977045 | AR14: =AR13/AR4 -> 1.1221483 | AS14: =AS13/AS4 -> 0.52348581 | ... AU14: =AU13/AU4 -> 0.62885915
A15: 41970
A16: Site | C16: CGC | D16: CGC | E16: RDC | F16: RDC | G16: RDC | H16: RDC | I16: RDC | J16: RDC | K16: RDC | L16: RDC | M16: FDC | N16: FDC | O16: FDC | P16: FDC | Q16: FDC | R16: FDC | S16: FDC | T16: ZDC | U16: ZDC | V16: FDC | W16: RDC | X16: RDC | Y16: FDC | Z16: RDC | AA16: FDC | AB16: FDC | AC16: FDC | AD16: RDC | AE16: CGC | AF16: RDC | AG16: CGC | AH16: RDC | AI16: RDC | AJ16: Total | AK16: VMAX | AW16: Site | AY16: CGC | AZ16: RDC | BB16: FDC
A17: VMAX | C17: 0623 | D17: 0745 | E17: 0552 | F17: 0678 | G17: 3286 | H17: 3073 | I17: 2230 | J17: 3696 | K17: 4330 | L17: 0347 | M17: 0879 | N17: 3004 | O17: 2804 | P17: 2231 | Q17: 3875 | R17: 4652 | S17: 0349 | T17: 1383 | U17: 0377 | V17: 0667 | W17: 0671 | X17: 0689 | Y17: 0710 | Z17: 0706 | AA17: 0712 | AB17: 0709 | AC17: 0713 | AD17: 0704 | AE17: 0703 | AF17: 0688 | AG17: 0705 | AH17: 0699 | AI17: 0485 | AK17: Site | AL17: CGC Non-Rep | AM17: CGC-Rep | AN17: RDC Non-Rep | AO17: RDC-Rep | AP17: FDC Non-Rep | AQ17: FDC-Rep | AR17: ZDC Non-Rep | AS17: Total Rep | AT17: Total Non-Rep | AU17: Total Rep+Non-Rep | AW17: VMAX | AY17: 0623 | AZ17: 3073 | BA17: 0347 | BB17: 3004 | BC17: 0349
A18: Enabled Pool Devices | B18: Total GB | C18: 250018.4 | D18: 150516.7 | E18: 150516.7 | F18: 181998.8 | G18: 165765.7 | H18: 389505 | I18: 171975.5 | J18: 166078 | K18: 124019.2 | L18: 224071.2 | M18: 193029.1 | N18: 438219.9 | O18: 83038.8 | P18: 276130.4 | Q18: 83038.8 | R18: 191618.2 | S18: 262288.9 | T18: 59723.7 | U18: 33090.5 | V18: 102196.5 | W18: 209496.5 | X18: 102196.5 | Y18: 209496.5 | Z18: 102196.5 | AA18: 209496.5 | AB18: 328695.2 | AC18: 190871.2 | AD18: 224071.2 | AE18: 224071.2 | AF18: 156194.1 | AG18: 156194.1 | AH18: 224071.2 | AI18: 190871.2 | AJ18: 6224761.9 | AK18: Total GB | AL18: 474089.6 | AM18: 306710.8 | AN18: 1434588.6 | AO18: 1348438.7 | AP18: 1413104.3 | AQ18: 1155015.7 | AR18: 92814.2 | AS18: 2810165.2 | AT18: 3414596.7 | AU18: 6224761.9 | AW18: FC Pool Devices | AX18: Total GB | AY18: 143393 | AZ18: 132132 | BA18: 83196.1 | BB18: 132132.2 | BC18: 83196.1
B19: Used GB | C19: 54312.2 | D19: 87105.2 | E19: 86852.5 | F19: 102653.3 | G19: 120565.9 | H19: 211105.9 | I19: 98221.5 | J19: 53411.5 | K19: 100811.1 | L19: 101060.6 | M19: 81140.1 | N19: 215816.2 | O19: 60881.8 | P19: 184926.8 | Q19: 27593 | R19: 151294.1 | S19: 156479.4 | T19: 40495.1 | U19: 14288.8 | V19: 16114.9 | W19: 32218 | X19: 43633.5 | Y19: 86385.1 | Z19: 41388.1 | AA19: 75655.4 | AB19: 141628.9 | AC19: 4.9 | AD19: 54793.5 | AE19: 80379.3 | AF19: 32983.7 | AG19: 32956.5 | AH19: 21966.9 | AI19: 4.9 | AJ19: 2609128.6 | AK19: Used GB | AL19: 134691.5 | AM19: 120061.7 | AN19: 491585.1 | AO19: 610085.8 | AP19: 595069.5 | AQ19: 602851.1 | AR19: 54783.9 | AS19: 1332998.6 | AT19: 1276130 | AU19: 2609128.6 | AX19: Used GB | AY19: 51964.9 | AZ19: 58542 | BA19: 2519 | BB19: 70731 | BC19: 31444.9
B20: % full | C20: 0.21723281 | D20: 0.57870788 | E20: 0.57702899 | F20: 0.56403284 | G20: 0.72732719 | H20: 0.54198508 | I20: 0.57113659 | J20: 0.32160491 | K20: 0.81286688 | L20: 0.45102003 | M20: 0.42035165 | N20: 0.4924838 | O20: 0.73317293 | P20: 0.66970822 | Q20: 0.33229045 | R20: 0.78956018 | S20: 0.59659177 | T20: 0.67804071 | U20: 0.43180973 | V20: 0.15768544 | W20: 0.15378777 | X20: 0.42695689 | Y20: 0.41234627 | Z20: 0.40498549 | AA20: 0.36112966 | AB20: 0.43088217 | AC20: 2.5671762e-05 | AD20: 0.24453611 | AE20: 0.35872214 | AF20: 0.21117123 | AG20: 0.21099709 | AH20: 0.098035357 | AI20: 2.5671762e-05 | AJ20: 0.41915316 | AK20: % full | AL20: 0.28410558 | AM20: 0.39144921 | AN20: 0.34266625 | AO20: 0.45243866 | AP20: 0.42110798 | AQ20: 0.52194191 | AR20: 0.59025343 | AS20: 0.47434884 | AT20: 0.37372788 | AU20: 0.41915316 | AX20: % full | AY20: 0.36239496 | AZ20: 0.44305694 | BA20: 0.030277862 | BB20: 0.53530479 | BC20: 0.37796123
A21: Thin Devices | B21: # Devices | C21: 3713 | D21: 3620 | E21: 3560 | F21: 6588 | G21: 8432 | H21: 14882 | I21: 7076 | J21: 9599 | K21: 6863 | L21: 9273 | M21: 5429 | N21: 14829 | O21: 4357 | P21: 8508 | Q21: 4799 | R21: 9395 | S21: 10561 | T21: 2479 | U21: 1570 | V21: 3999 | W21: 7999 | X21: 3999 | Y21: 7999 | Z21: 3999 | AA21: 7999 | AB21: 11649 | AC21: 6400 | AD21: 6399 | AE21: 6399 | AF21: 4800 | AG21: 4800 | AH21: 6399 | AI21: 6400 | AJ21: 224773 | AK21: # Devices | AL21: 10112 | AM21: 8420 | AN21: 49941 | AO21: 56327 | AP21: 48868 | AQ21: 47056 | AR21: 4049 | AS21: 111803 | AT21: 112970 | AU21: 224773 | AW21: EFD Pool Devices | AX21: Total GB | AY21: 9191.8 | AZ21: 13787.7 | BA21: 8804.8 | BB21: 13787.7 | BC21: 8804.8
B22: Virtual Capacity GB | C22: 125191.22 | D22: 122055.54 | E22: 120032.52 | F22: 222127.6 | G22: 284301.74 | H22: 501776.39 | I22: 238581.49 | J22: 323649.48 | K22: 231399.77 | L22: 312657.74 | M22: 183049.59 | N22: 499989.39 | O22: 146904.97 | P22: 286864.24 | Q22: 161807.88 | R22: 316771.21 | S22: 356085.24 | T22: 83584.443 | U22: 52935.69 | V22: 134834.28 | W22: 269702.28 | X22: 134834.28 | Y22: 269702.28 | Z22: 134834.28 | AA22: 269702.28 | AB22: 392769.33 | AC22: 215788.8 | AD22: 215755.08 | AE22: 215755.08 | AF22: 161841.6 | AG22: 161841.6 | AH22: 215755.08 | AI22: 215788.8 | AJ22: 7578671.2 | AK22: Virtual Capacity GB | AL22: 340946.3 | AM22: 283897.14 | AN22: 1683860.7 | AO22: 1899177.5 | AP22: 1647682.4 | AQ22: 1586587.2 | AR22: 136520.13 | AS22: 3769661.8 | AT22: 3809009.5 | AU22: 7578671.2 | AX22: Used GB | AY22: 7975.5 | AZ22: 13649 | BA22: 1289.9 | BB22: 13642 | BC22: 5483.9
B23: capacity threshold | C23: 164000 | D23: 109880 | E23: 109880 | F23: 328000 | G23: 330905 | H23: 264264 | I23: 242663.6 | J23: 328000 | K23: 328000 | L23: 328000 | M23: 328000 | N23: 264264.4 | O23: 328000 | P23: 352965.4 | Q23: 328000 | R23: 328000 | S23: 328000 | T23: 119447.4 | U23: 66181 | V23: 204393 | W23: 418993 | X23: 204393 | Y23: 418993 | Z23: 204393 | AA23: 418993 | AB23: 657390.4 | AC23: 381742.4 | AD23: 448142.4 | AE23: 448142.4 | AF23: 312388.2 | AG23: 312388.2 | AH23: 448142.4 | AI23: 381742.4 | AJ23: 10236688 | AK23: capacity threshold | AL23: 948179.2 | AM23: 613421.6 | AN23: 2869177.2 | AO23: 2696877.4 | AP23: 2826208.6 | AQ23: 2310031.4 | AR23: 185628.4 | AS23: 5620330.4 | AT23: 6829193.4 | AU23: 12449524 | AX23: % full | AY23: 0.86767554 | AZ23: 0.98994031 | BA23: 0.14649964 | BB23: 0.98943261 | BC23: 0.62283073
B24: # Allocated | C24: 1990 | D24: 1649 | E24: 1262 | F24: 4587 | G24: 3337 | H24: 12412 | I24: 5547 | J24: 1469 | K24: 5986 | L24: 6489 | M24: 3767 | N24: 13096 | O24: 3479 | P24: 6189 | Q24: 1917 | R24: 4630 | S24: 8562 | T24: 1817 | U24: 1271 | V24: 1907 | W24: 2490 | X24: 2078 | Y24: 2701 | Z24: 2552 | AA24: 3911 | AB24: 6972 | AC24: 0 | AD24: 4016 | AE24: 3911 | AF24: 1443 | AG24: 1443 | AH24: 4143 | AI24: 0 | AJ24: 127023 | AK24: # Allocated | AL24: 5901 | AM24: 3092 | AN24: 31647 | AO24: 26164 | AP24: 32397 | AQ24: 24734 | AR24: 3088 | AS24: 53990 | AT24: 73033 | AU24: 127023 | AW24: SATA Pool Devices | AX24: Total GB | AY24: 97433.6 | AZ24: 243584.4 | BA24: 132070.3 | BB24: 292299.3 | BC24: 132070.4
B25: GB Allocated | C25: 67096.83 | D25: 55599.333 | E25: 42550.854 | F25: 154659.88 | G25: 112513.63 | H25: 418495.4 | I25: 187028.2 | J25: 49530.273 | K25: 201829.96 | L25: 218789.61 | M25: 127011.94 | N25: 441557.83 | O25: 117301.44 | P25: 120538.28 | Q25: 64635.489 | R25: 156109.71 | S25: 288684.95 | T25: 61263.789 | U25: 42854.307 | V25: 64298.319 | W25: 83955.33 | X25: 70063.926 | Y25: 91069.617 | Z25: 86045.784 | AA25: 131867.19 | AB25: 235074.92 | AC25: 0 | AD25: 135407.47 | AE25: 131867.19 | AF25: 48653.631 | AG25: 48653.631 | AH25: 139689.53 | AI25: 0 | AJ25: 4194698.3 | AK25: GB Allocated | AL25: 198964.02 | AM25: 104252.96 | AN25: 1067041.9 | AO25: 882171.59 | AP25: 1092329.6 | AQ25: 833956.28 | AR25: 104118.1 | AS25: 1820380.8 | AT25: 2462453.7 | AU25: 4282834.5 | AX25: Used GB | AY25: 38973.2 | AZ25: 124350.5 | BA25: 3817.1 | BB25: 109009 | BC25: 33401
B26: subscription vs allocated | C26: 0.26836757 | D26: 0.3693898 | E26: 0.28269856 | F26: 0.84978516 | G26: 0.67875097 | H26: 1.0744288 | I26: 1.0875282 | J26: 0.298235 | K26: 1.627409 | L26: 0.97642898 | M26: 0.65799374 | N26: 1.007617 | O26: 1.41261 | P26: 0.43652664 | Q26: 0.77837696 | R26: 0.81469145 | S26: 1.1006373 | T26: 1.0257869 | U26: 1.2950637 | V26: 0.62916361 | W26: 0.40074813 | X26: 0.68558048 | Y26: 0.4347071 | Z26: 0.8419641 | AA26: 0.62944816 | AB26: 0.71517602 | AC26: 0 | AD26: 0.60430556 | AE26: 0.58850574 | AF26: 0.31149468 | AG26: 0.31149468 | AH26: 0.62341582 | AI26: 0 | AJ26: 0.67387288 | AK26: subscription vs allocated | AL26: 0.41967598 | AM26: 0.3399064 | AN26: 0.74379644 | AO26: 0.65421705 | AP26: 0.77300002 | AQ26: 0.72203025 | AR26: 1.1217906 | AS26: 0.64778428 | AT26: 0.72115505 | AU26: 0.68803186 | AX26: % full | AY26: 0.39999754 | AZ26: 0.51050273 | BA26: 0.028902032 | BB26: 0.37293623 | BC26: 0.252903
B27: GB Mapped(First Port) | C27: 57121.6 | D27: 55194.4 | E27: 42146 | F27: 122319 | G27: 110224 | H27: 422468 | I27: 109776 | J27: 49571.1 | K27: 143410 | L27: 219177 | M27: 139706 | N27: 441635 | O27: 117345 | P27: 92441.6 | Q27: 64686.7 | R27: 142212 | S27: 288847 | T27: 61297.2 | U27: 42854.1 | V27: 64335 | W27: 62682.8 | X27: 70122.7 | Y27: 70088.9 | Z27: 86114.1 | AA27: 82434.8 | AB27: 235220 | AC27: 0 | AD27: 135501 | AE27: 131918 | AF27: 48693.3 | AG27: 48678.6 | AH27: 139723 | AI27: 0 | AJ27: 3897943.9 | AK27: GB Mapped(First Port) | AL27: 189039.6 | AM27: 103873 | AN27: 1039188 | AO27: 722740 | AP27: 1105408 | AQ27: 633544 | AR27: 104151.3 | AS27: 1460157 | AT27: 2437786.9 | AU27: 3897943.9 | AW27: Total | AX27: % full | AY27: 0.38119625 | AZ27: 0.47677983 | BA27: 0.029589947 | BB27: 0.45412051 | BC27: 0.31543211
B28: subscription vs Mapped | C28: 0.22846958 | D28: 0.36669951 | E28: 0.2800088 | F28: 0.67208685 | G28: 0.66493852 | H28: 1.0846279 | I28: 0.63832348 | J28: 0.29848083 | K28: 1.1563532 | L28: 0.97815784 | M28: 0.72375616 | N28: 1.0077931 | O28: 1.4131346 | P28: 0.33477516 | Q28: 0.77899368 | R28: 0.74216332 | S28: 1.1012551 | T28: 1.0263463 | U28: 1.2950575 | V28: 0.62952254 | W28: 0.29920691 | X28: 0.68615559 | Y28: 0.33455881 | Z28: 0.84263258 | AA28: 0.39349011 | AB28: 0.71561739 | AC28: 0 | AD28: 0.60472296 | AE28: 0.58873251 | AF28: 0.31174865 | AG28: 0.31165454 | AH28: 0.62356519 | AI28: 0 | AJ28: 0.62619968 | AK28: subscription vs Mapped | AL28: 0.39874235 | AM28: 0.33866757 | AN28: 0.72438049 | AO28: 0.53598284 | AP28: 0.78225507 | AQ28: 0.54851549 | AR28: 1.1221483 | AS28: 0.51959828 | AT28: 0.71393114 | AU28: 0.62619968
A29: 41963
A30: Site | C30: CGC | D30: CGC | E30: RDC | F30: RDC | G30: RDC | H30: RDC | I30: RDC | J30: RDC | K30: RDC | L30: RDC | M30: FDC | N30: FDC | O30: FDC | P30: FDC | Q30: FDC | R30: FDC | S30: ZDC T4 VMAX 1383 | T30: ZDC | U30: ZDC | V30: FDC | W30: RDC | X30: RDC | Y30: FDC | Z30: RDC | AA30: FDC | AB30: FDC | AC30: FDC | AD30: RDC | AE30: CGC | AF30: RDC | AG30: CGC | AH30: RDC | AI30: RDC | AJ30: Total | AK30: VMAX | AW30: Site | AY30: CGC | AZ30: RDC | BB30: FDC
A31: VMAX | C31: 0623 | D31: 0745 | E31: 0552 | F31: 0678 | G31: 3286 | H31: 3073 | I31: 2230 | J31: 3696 | K31: 4330 | L31: 0347 | M31: 0879 | N31: 3004 | O31: 2804 | P31: 2231 | Q31: 3875 | R31: 4652 | S31: 0349 | T31: 1383 | U31: 0377 | V31: 0667 | W31: 0671 | X31: 0689 | Y31: 0710 | Z31: 0706 | AA31: 0712 | AB31: 0709 | AC31: 0713 | AD31: 0704 | AE31: 0703 | AF31: 0688 | AG31: 0705 | AH31: 0699 | AI31: 0485 | AK31: Site | AL31: CGC Non-Rep | AM31: CGC-Rep | AN31: RDC Non-Rep | AO31: RDC-Rep | AP31: FDC Non-Rep | AQ31: FDC-Rep | AR31: ZDC Non-Rep | AS31: Total Rep | AT31: Total Non-Rep | AU31: Total Rep+Non-Rep | AW31: VMAX | AY31: 0623 | AZ31: 3073 | BA31: 0347 | BB31: 3004 | BC31: 0349
A32: Enabled Pool Devices | B32: Total GB | C32: 250018.4 | D32: 150516.7 | E32: 150516.7 | F32: 181998.8 | G32: 165765.7 | H32: 389505 | I32: 171975.5 | J32: 166078 | K32: 124019.2 | L32: 224071.2 | M32: 193029.1 | N32: 438219.9 | O32: 83038.8 | P32: 276130.4 | Q32: 83038.8 | R32: 191618.2 | S32: 262288.9 | T32: 59723.7 | U32: 33090.5 | V32: 102196.5 | W32: 209496.5 | X32: 102196.5 | Y32: 209496.5 | Z32: 102196.5 | AA32: 209496.5 | AB32: 328695.2 | AC32: 190871.2 | AD32: 224071.2 | AE32: 224071.2 | AF32: 156194.1 | AG32: 156194.1 | AH32: 224071.2 | AI32: 190871.2 | AJ32: 6224761.9 | AK32: Total GB | AL32: 474089.6 | AM32: 306710.8 | AN32: 1434588.6 | AO32: 1348438.7 | AP32: 1413104.3 | AQ32: 1155015.7 | AR32: 92814.2 | AS32: 2810165.2 | AT32: 3414596.7 | AU32: 6224761.9 | AW32: FC Pool Devices | AX32: Total GB | AY32: 143393 | AZ32: 132132 | BA32: 83196.1 | BB32: 132132.2 | BC32: 83196.1
B33: Used GB | C33: 54262.5 | D33: 87105.2 | E33: 86852.5 | F33: 102628.1 | G33: 120466.2 | H33: 210310.3 | I33: 98060.7 | J33: 53353.6 | K33: 103854.5 | L33: 100848.8 | M33: 81108.2 | N33: 219330.6 | O33: 60848.9 | P33: 184627.7 | Q33: 27564.1 | R33: 157662.1 | S33: 188003 | T33: 40495.1 | U33: 14288.8 | V33: 16111.8 | W33: 32211.8 | X33: 42586.2 | Y33: 84285.3 | Z33: 39660.8 | AA33: 72224.5 | AB33: 139780.8 | AC33: 4.9 | AD33: 48411.4 | AE33: 77674.9 | AF33: 32214.4 | AG33: 32187.1 | AH33: 21874.3 | AI33: 4.9 | AJ33: 2630904 | AK33: Used GB | AL33: 131937.4 | AM33: 119292.3 | AN33: 484077.8 | AO33: 609260.7 | AP33: 628227.5 | AQ33: 603324.4 | AR33: 54783.9 | AS33: 1331877.4 | AT33: 1299026.6 | AU33: 2630904 | AX33: Used GB | AY33: 51964.9 | AZ33: 58542 | BA33: 2519 | BB33: 70731 | BC33: 31444.9
B34: % full | C34: 0.21703403 | D34: 0.57870788 | E34: 0.57702899 | F34: 0.56389438 | G34: 0.72672573 | H34: 0.53994249 | I34: 0.57020157 | J34: 0.32125628 | K34: 0.83740663 | L34: 0.4500748 | M34: 0.42018639 | N34: 0.50050351 | O34: 0.73277673 | P34: 0.66862504 | Q34: 0.33194242 | R34: 0.82279293 | S34: 0.71677833 | T34: 0.67804071 | U34: 0.43180973 | V34: 0.15765511 | W34: 0.15375818 | X34: 0.41670899 | Y34: 0.40232319 | Z34: 0.38808374 | AA34: 0.34475278 | AB34: 0.42525963 | AC34: 2.5671762e-05 | AD34: 0.21605365 | AE34: 0.34665276 | AF34: 0.20624595 | AG34: 0.20607116 | AH34: 0.097622095 | AI34: 2.5671762e-05 | AJ34: 0.42265135 | AK34: % full | AL34: 0.27829634 | AM34: 0.38894066 | AN34: 0.33743318 | AO34: 0.45182677 | AP34: 0.44457263 | AQ34: 0.52235169 | AR34: 0.59025343 | AS34: 0.47394986 | AT34: 0.38043339 | AU34: 0.42265135 | AX34: % full | AY34: 0.36239496 | AZ34: 0.44305694 | BA34: 0.030277862 | BB34: 0.53530479 | BC34: 0.37796123
A35: Thin Devices | B35: # Devices | C35: 3713 | D35: 3620 | E35: 3560 | F35: 6588 | G35: 8432 | H35: 14882 | I35: 7076 | J35: 9599 | K35: 6970 | L35: 9273 | M35: 5429 | N35: 14951 | O35: 4357 | P35: 8508 | Q35: 4799 | R35: 9609 | S35: 11560 | T35: 2479 | U35: 1570 | V35: 3999 | W35: 7999 | X35: 3999 | Y35: 7999 | Z35: 3999 | AA35: 7999 | AB35: 12000 | AC35: 6400 | AD35: 6399 | AE35: 6399 | AF35: 4800 | AG35: 4800 | AH35: 6399 | AI35: 6400 | AJ35: 226566 | AK35: # Devices | AL35: 10112 | AM35: 8420 | AN35: 49941 | AO35: 56434 | AP35: 50340 | AQ35: 47270 | AR35: 4049 | AS35: 112124 | AT35: 114442 | AU35: 226566 | AW35: EFD Pool Devices | AX35: Total GB | AY35: 9191.8 | AZ35: 13787.7 | BA35: 8804.8 | BB35: 13787.7 | BC35: 8804.8
B36: Virtual Capacity GB | C36: 125191.22 | D36: 122055.54 | E36: 120032.52 | F36: 222127.6 | G36: 284301.74 | H36: 501776.39 | I36: 238581.49 | J36: 323649.48 | K36: 235007.49 | L36: 312657.74 | M36: 183049.59 | N36: 504102.87 | O36: 146904.97 | P36: 286864.24 | Q36: 161807.88 | R36: 323986.65 | S36: 389768.52 | T36: 83584.443 | U36: 52935.69 | V36: 134834.28 | W36: 269702.28 | X36: 134834.28 | Y36: 269702.28 | Z36: 134834.28 | AA36: 269702.28 | AB36: 404604 | AC36: 215788.8 | AD36: 215755.08 | AE36: 215755.08 | AF36: 161841.6 | AG36: 161841.6 | AH36: 215755.08 | AI36: 215788.8 | AJ36: 7639125.8 | AK36: Virtual Capacity GB | AL36: 340946.3 | AM36: 283897.14 | AN36: 1683860.7 | AO36: 1902785.2 | AP36: 1697313.8 | AQ36: 1593802.6 | AR36: 136520.13 | AS36: 3780484.9 | AT36: 3858640.9 | AU36: 7639125.8 | AX36: Used GB | AY36: 7975.5 | AZ36: 13649 | BA36: 1289.9 | BB36: 13642 | BC36: 5483.9
B37: capacity threshold | C37: 164000 | D37: 109880 | E37: 109880 | F37: 328000 | G37: 330905 | H37: 264264 | I37: 242663.6 | J37: 328000 | K37: 328000 | L37: 328000 | M37: 328000 | N37: 264264.4 | O37: 328000 | P37: 352965.4 | Q37: 328000 | R37: 328000 | S37: 328000 | T37: 119447.4 | U37: 66181 | V37: 204393 | W37: 418993 | X37: 204393 | Y37: 418993 | Z37: 204393 | AA37: 418993 | AB37: 657390.4 | AC37: 381742.4 | AD37: 448142.4 | AE37: 448142.4 | AF37: 312388.2 | AG37: 312388.2 | AH37: 448142.4 | AI37: 381742.4 | AJ37: 10236688 | AK37: capacity threshold | AL37: 948179.2 | AM37: 613421.6 | AN37: 2869177.2 | AO37: 2696877.4 | AP37: 2826208.6 | AQ37: 2310031.4 | AR37: 185628.4 | AS37: 5620330.4 | AT37: 6829193.4 | AU37: 12449524 | AX37: % full | AY37: 0.86767554 | AZ37: 0.98994031 | BA37: 0.14649964 | BB37: 0.98943261 | BC37: 0.62283073
B38: # Allocated | C38: 1990 | D38: 1712 | E38: 1272 | F38: 4588 | G38: 3337 | H38: 12412 | I38: 5547 | J38: 1391 | K38: 6093 | L38: 6489 | M38: 3767 | N38: 13096 | O38: 3479 | P38: 6205 | Q38: 1839 | R38: 4620 | S38: 8685 | T38: 1817 | U38: 1271 | V38: 1907 | W38: 2490 | X38: 2558 | Y38: 3673 | Z38: 2608 | AA38: 4023 | AB38: 7267 | AC38: 0 | AD38: 3731 | AE38: 3842 | AF38: 1343 | AG38: 1343 | AH38: 4143 | AI38: 0 | AJ38: 128538 | AK38: # Allocated | AL38: 5832 | AM38: 3055 | AN38: 31363 | AO38: 26639 | AP38: 32815 | AQ38: 25746 | AR38: 3088 | AS38: 55440 | AT38: 73098 | AU38: 128538 | AW38: SATA Pool Devices | AX38: Total GB | AY38: 97433.6 | AZ38: 243584.4 | BA38: 132070.3 | BB38: 292299.3 | BC38: 132070.4
B39: GB Allocated | C39: 67096.83 | D39: 57723.504 | E39: 42888.024 | F39: 154693.6 | G39: 112513.63 | H39: 418495.4 | I39: 187028.2 | J39: 46900.347 | K39: 205437.68 | L39: 218789.61 | M39: 127011.94 | N39: 441557.83 | O39: 117301.44 | P39: 121077.75 | Q39: 62005.563 | R39: 155772.54 | S39: 292832.14 | T39: 61263.789 | U39: 42854.307 | V39: 64298.319 | W39: 83955.33 | X39: 86248.086 | Y39: 123842.54 | Z39: 87933.936 | AA39: 135643.49 | AB39: 245021.44 | AC39: 0 | AD39: 125798.13 | AE39: 129540.71 | AF39: 45281.931 | AG39: 45281.931 | AH39: 139689.53 | AI39: 0 | AJ39: 4245779.5 | AK39: GB Allocated | AL39: 196637.54 | AM39: 103005.43 | AN39: 1057466.3 | AO39: 898187.16 | AP39: 1106423.4 | AQ39: 868077.88 | AR39: 104118.1 | AS39: 1869270.5 | AT39: 2464645.3 | AU39: 4333915.7 | AX39: Used GB | AY39: 38973.2 | AZ39: 124350.5 | BA39: 3817.1 | BB39: 109009 | BC39: 33401
B40: subscription vs allocated | C40: 0.26836757 | D40: 0.38350232 | E40: 0.28493864 | F40: 0.84997042 | G40: 0.67875097 | H40: 1.0744288 | I40: 1.0875282 | J40: 0.28239952 | K40: 1.656499 | L40: 0.97642898 | M40: 0.65799374 | N40: 1.007617 | O40: 1.41261 | P40: 0.43848032 | Q40: 0.74670591 | R40: 0.81293186 | S40: 1.1164489 | T40: 1.0257869 | U40: 1.2950637 | V40: 0.62916361 | W40: 0.40074813 | X40: 0.84394364 | Y40: 0.59114372 | Z40: 0.8604398 | AA40: 0.64747378 | AB40: 0.74543662 | AC40: 0 | AD40: 0.56142033 | AE40: 0.578123 | AF40: 0.28990808 | AG40: 0.28990808 | AH40: 0.62341582 | AI40: 0 | AJ40: 0.68207902 | AK40: subscription vs allocated | AL40: 0.41476874 | AM40: 0.33583896 | AN40: 0.73712162 | AO40: 0.66609417 | AP40: 0.7829736 | AQ40: 0.75157237 | AR40: 1.1217906 | AS40: 0.66518171 | AT40: 0.72179689 | AU40: 0.696238 | AX40: % full | AY40: 0.39999754 | AZ40: 0.51050273 | BA40: 0.028902032 | BB40: 0.37293623 | BC40: 0.252903
...

Sheet used space Charts
B1: 0623 | C1: 0745 | D1: 0552 | E1: 0678 | F1: 3286 | G1: 3073 | H1: 2230 | I1: 3696 | J1: 4330 | K1: 0347 | L1: 0879 | M1: 3004 | N1: 2804 | O1: 2231 | P1: 3875 | Q1: 4652 | R1: 0349 | S1: 1383 | T1: 0377 | U1: 0667 | V1: 0671 | W1: 0689 | X1: 0710 | Y1: 0706 | Z1: 0712 | AA1: 0709 | AB1: 0713 | AC1: 0704 | AD1: 0703 | AE1: 0688 | AF1: 0705 | AG1: 0699 | AH1: 0485
B2: CGC T4 V-MAX 0623 | C2: CGC T3 V-MAX 0745 | D2: RDC T3 V-MAX 0552 | E2: RDC T4 V-MAX 0678 | F2: RDC T3 V-MAX 3286 | G2: RDC T4 V-MAX 3073 | H2: RDC T3 V-MAX 2230 | I2: RDC T3 V-MAX 3696 | J2: RDC T3 V-MAX 4330 | K2: RDC T4 V-MAX 0347 | L2: FDC T4 V-MAX 0879 | M2: FDC T4 V-MAX 3004 | N2: FDC T3 V-MAX 2804 | O2: FDC T3 V-MAX 2231 | P2: FDC T3 V-MAX 3875 | Q2: FDC T3 V-MAX 4652 | R2: FDC T4 V-MAX 0349 | S2: ZDC T4 VMAX 1383 | T2: ZDC T4 VMAX 0377 | U2: FDC T3 VMAX 667 | V2: RDC T3 VMAX 0671 | W2: RDC T3 V-Max 0689 | X2: FDC T3 V-Max 0710 | Y2: RDC T3 V-Max 0706 | Z2: FDC T3 V-Max 0712 | AA2: FDC T4 V-Max 0709 | AB2: FDC T4 V-Max 0713 | AC2: RDC T4 V-Max 0704 | AD2: CGC T4 V-Max 0703 | AE2: RDC T3 V-Max 0688 | AF2: CGC T3 V-Max 0705 | AG2: RDC T4 V-Max 0699 | AH2: RDC T4 V-Max 0485 | AI2: Row | AJ2: % full | AK2: =MATCH(AJ2,Table!$B:$B,0) -> 6 | AM2: Row | AN2: VMAX | AO2: =MATCH(AN2,Table!$A:$A,0) -> 3 | AP2: Max Column
A3: 41977 | B3: =IF(ISERROR(MATCH(B$1,INDIRECT("Table!A"&$AM3):INDIRECT("Table!" & $AP$113 & $AM3),0)),"",INDIRECT(CONCATENATE("Table!",ADDRESS($AI3,MATCH(B$1,INDIRECT("Table!A" & $AM3):INDIRECT("Table!" & $AP$112 & $AM3),0))))) -> 0.2173376 | C3: =IF(ISERROR(MATCH(C$1,INDIRECT("Table!A"&$AM3):INDIRECT("Table!" & $AP$112 & $AM3),0)),"",INDIRECT(CONCATENATE("Table!",ADDRESS($AI3,MATCH(C$1,INDIRECT("Table!A" & $AM3):INDIRECT("Table!" & $AP$112 & $AM3),0))))) -> 0.57870788 | D3: =IF(ISERROR(MATCH(D$1,INDIRECT("Table!A"&$AM3):INDIRECT("Table!" & $AP$112 & $AM3),0)),"",INDIRECT(CONCATENATE("Table!",ADDRESS($AI3,MATCH(D$1,INDIRECT("Table!A" & $AM3):INDIRECT("Table!" & $AP$112 & $AM3),0))))) -> 0.57702966 | E3: =IF(ISERROR(MATCH(E$1,INDIRECT("Table!A"&$AM3):INDIRECT("Table!" & $AP$112 & $AM3),0)),"",INDIRECT(CONCATENATE("Table!",ADDRESS($AI3,MATCH(E$1,INDIRECT("Table!A" & $AM3):INDIRECT("Table!" & $AP$112 & $AM3),0))))) -> 0.56417515 | F3: =IF(ISERROR(MATCH(F$1,INDIRECT("Table!A"&$AM3):INDIRECT("Table!" & $AP$112 & $AM3),0)),"",INDIRECT(CONCATENATE("Table!",ADDRESS($AI3,MATCH(F$1,INDIRECT("Table!A" & $AM3):INDIRECT("Table!" & $AP$112 & $AM3),0))))) -> 0.72824957 | G3: =IF(ISERROR(MATCH(G$1,INDIRECT("Table!A"&$AM3):INDIRECT("Table!" & $AP$112 & $AM3),0)),"",INDIRECT(CONCATENATE("Table!",ADDRESS($AI3,MATCH(G$1,INDIRECT("Table!A" & $AM3):INDIRECT("Table!" & $AP$112 & $AM3),0))))) -> 0.54311857 | H3: =IF(ISERROR(MATCH(H$1,INDIRECT("Table!A"&$AM3):INDIRECT("Table!" & $AP$112 & $AM3),0)),"",INDIRECT(CONCATENATE("Table!",ADDRESS($AI3,MATCH(H$1,INDIRECT("Table!A" & $AM3):INDIRECT("Table!" & $AP$112 & $AM3),0))))) -> 0.57186227 | I3: =IF(ISERROR(MATCH(I$1,INDIRECT("Table!A"&$AM3):INDIRECT("Table!" & $AP$91 & $AM3),0)),"",INDIRECT(CONCATENATE("Table!",ADDRESS($AI3,MATCH(I$1,INDIRECT("Table!A" & $AM3):INDIRECT("Table!" & $AP$91 & $AM3),0))))) -> 0.32198365 | J3: =IF(ISERROR(MATCH(J$1,INDIRECT("Table!A"&$AM3):INDIRECT("Table!" & $AP$91 & $AM3),0)),"",INDIRECT(CONCATENATE("Table!",ADDRESS($AI3,MATCH(J$1,INDIRECT("Table!A" & $AM3):INDIRECT("Table!" & $AP$91 & $AM3),0))))) -> 0.81723878 | K3: =IF(ISERROR(MATCH(K$1,INDIRECT("Table!A"&$AM3):INDIRECT("Table!" & $AP$91 & $AM3),0)),"",INDIRECT(CONCATENATE("Table!",ADDRESS($AI3,MATCH(K$1,INDIRECT("Table!A" & $AM3):INDIRECT("Table!" & $AP$91 & $AM3),0))))) -> 0.45248698 | L3: =IF(ISERROR(MATCH(L$1,INDIRECT("Table!A"&$AM3):INDIRECT("Table!" & $AP$91 & $AM3),0)),"",INDIRECT(CONCATENATE("Table!",ADDRESS($AI3,MATCH(L$1,INDIRECT("Table!A" & $AM3):INDIRECT("Table!" & $AP$91 & $AM3),0))))) -> 0.42128467 | M3: =IF(ISERROR(MATCH(M$1,INDIRECT("Table!A"&$AM3):INDIRECT("Table!" & $AP$91 & $AM3),0)),"",INDIRECT(CONCATENATE("Table!",ADDRESS($AI3,MATCH(M$1,INDIRECT("Table!A" & $AM3):INDIRECT("Table!" & $AP$91 & $AM3),0))))) -> 0.49405378 | N3: =IF(ISERROR(MATCH(N$1,INDIRECT("Table!A"&$AM3):INDIRECT("Table!" & $AP$91 & $AM3),0)),"",INDIRECT(CONCATENATE("Table!",ADDRESS($AI3,MATCH(N$1,INDIRECT("Table!A" & $AM3):INDIRECT("Table!" & $AP$91 & $AM3),0))))) -> 0.73378589 | O3: =IF(ISERROR(MATCH(O$1,INDIRECT("Table!A"&$AM3):INDIRECT("Table!" & $AP$91 & $AM3),0)),"",INDIRECT(CONCATENATE("Table!",ADDRESS($AI3,MATCH(O$1,INDIRECT("Table!A" & $AM3):INDIRECT("Table!" & $AP$91 & $AM3),0))))) -> 0.67053392 | P3: =IF(ISERROR(MATCH(P$1,INDIRECT("Table!A"&$AM3):INDIRECT("Table!" & $AP$91 & $AM3),0)),"",INDIRECT(CONCATENATE("Table!",ADDRESS($AI3,MATCH(P$1,INDIRECT("Table!A" & $AM3):INDIRECT("Table!" & $AP$91 & $AM3),0))))) -> 0.33266979 | ... S3: =IF(ISERROR(MATCH(S$1,INDIRECT("Table!A"&$AM3):INDIRECT("Table!" & $AP$91 & $AM3),0)),"",INDIRECT(CONCATENATE("Table!",ADDRESS($AI3,MATCH(S$1,INDIRECT("Table!A" & $AM3):INDIRECT("Table!" & $AP$91 & $AM3),0))))) -> 0.67804071 | T3: =IF(ISERROR(MATCH(T$1,INDIRECT("Table!A"&$AM3):INDIRECT("Table!" & $AP$65 & $AM3),0)),"",INDIRECT(CONCATENATE("Table!",ADDRESS($AI3,MATCH(T$1,INDIRECT("Table!A" & $AM3):INDIRECT("Table!" & $AP$65 & $AM3),0))))) -> 0.43180973 | U3: =IF(ISERROR(MATCH(U$1,INDIRECT("Table!A"&$AM3):INDIRECT("Table!" & $AP$65 & $AM3),0)),"",INDIRECT(CONCATENATE("Table!",ADDRESS($AI3,MATCH(U$1,INDIRECT("Table!A" & $AM3):INDIRECT("Table!" & $AP$65 & $AM3),0))))) -> 0.15779601 | V3: =IF(ISERROR(MATCH(V$1,INDIRECT("Table!A"&$AM3):INDIRECT("Table!" & $AP$65 & $AM3),0)),"",INDIRECT(CONCATENATE("Table!",ADDRESS($AI3,MATCH(V$1,INDIRECT("Table!A" & $AM3):INDIRECT("Table!" & $AP$65 & $AM3),0))))) -> 0.1538947 | W3: =IF(ISERROR(MATCH(W$1,INDIRECT("Table!A"&$AM3):INDIRECT("Table!" & $AP$65 & $AM3),0)),"",INDIRECT(CONCATENATE("Table!",ADDRESS($AI3,MATCH(W$1,INDIRECT("Table!A" & $AM3):INDIRECT("Table!" & $AP$65 & $AM3),0))))) -> 0.43465187 | X3: =IF(ISERROR(MATCH(X$1,INDIRECT("Table!A"&$AM3):INDIRECT("Table!" & $AP$65 & $AM3),0)),"",INDIRECT(CONCATENATE("Table!",ADDRESS($AI3,MATCH(X$1,INDIRECT("Table!A" & $AM3):INDIRECT("Table!" & $AP$65 & $AM3),0))))) -> 0.41987193 | Y3: =IF(ISERROR(MATCH(Y$1,INDIRECT("Table!A"&$AM3):INDIRECT("Table!" & $AP$65 & $AM3),0)),"",INDIRECT(CONCATENATE("Table!",ADDRESS($AI3,MATCH(Y$1,INDIRECT("Table!A" & $AM3):INDIRECT("Table!" & $AP$65 & $AM3),0))))) -> 0.41282823 | Z3: =IF(ISERROR(MATCH(Z$1,INDIRECT("Table!A"&$AM3):INDIRECT("Table!" & $AP$65 & $AM3),0)),"",INDIRECT(CONCATENATE("Table!",ADDRESS($AI3,MATCH(Z$1,INDIRECT("Table!A" & $AM3):INDIRECT("Table!" & $AP$65 & $AM3),0))))) -> 0.36728012 | AA3: =IF(ISERROR(MATCH(AA$1,INDIRECT("Table!A"&$AM3):INDIRECT("Table!" & $AP$65 & $AM3),0)),"",INDIRECT(CONCATENATE("Table!",ADDRESS($AI3,MATCH(AA$1,INDIRECT("Table!A" & $AM3):INDIRECT("Table!" & $AP$65 & $AM3),0))))) -> 0.43270361 | ... AH3: =IF(ISERROR(MATCH(AH$1,INDIRECT("Table!A"&$AM3):INDIRECT("Table!" & $AP$65 & $AM3),0)),"",INDIRECT(CONCATENATE("Table!",ADDRESS($AI3,MATCH(AH$1,INDIRECT("Table!A" & $AM3):INDIRECT("Table!" & $AP$65 & $AM3),0))))) -> 2.5671762e-05 | AI3: =MATCH($A3,Table!$A:$A,0)+$AK$2-1 -> 6 | AM3: =MATCH($A3,Table!$A:$A,0)+$AO$2-1 -> 3 | AP3: AI
A4: 41970 | B4: =IF(ISERROR(MATCH(B$1,INDIRECT("Table!A"&$AM4):INDIRECT("Table!" & $AP$113 & $AM4),0)),"",INDIRECT(CONCATENATE("Table!",ADDRESS($AI4,MATCH(B$1,INDIRECT("Table!A" & $AM4):INDIRECT("Table!" & $AP$112 & $AM4),0))))) -> 0.21723281 | C4: =IF(ISERROR(MATCH(C$1,INDIRECT("Table!A"&$AM4):INDIRECT("Table!" & $AP$112 & $AM4),0)),"",INDIRECT(CONCATENATE("Table!",ADDRESS($AI4,MATCH(C$1,INDIRECT("Table!A" & $AM4):INDIRECT("Table!" & $AP$112 & $AM4),0))))) -> 0.57870788 | D4: =IF(ISERROR(MATCH(D$1,INDIRECT("Table!A"&$AM4):INDIRECT("Table!" & $AP$112 & $AM4),0)),"",INDIRECT(CONCATENATE("Table!",ADDRESS($AI4,MATCH(D$1,INDIRECT("Table!A" & $AM4):INDIRECT("Table!" & $AP$112 & $AM4),0))))) -> 0.57702899 | E4: =IF(ISERROR(MATCH(E$1,INDIRECT("Table!A"&$AM4):INDIRECT("Table!" & $AP$112 & $AM4),0)),"",INDIRECT(CONCATENATE("Table!",ADDRESS($AI4,MATCH(E$1,INDIRECT("Table!A" & $AM4):INDIRECT("Table!" & $AP$112 & $AM4),0))))) -> 0.56403284 | F4: =IF(ISERROR(MATCH(F$1,INDIRECT("Table!A"&$AM4):INDIRECT("Table!" & $AP$112 & $AM4),0)),"",INDIRECT(CONCATENATE("Table!",ADDRESS($AI4,MATCH(F$1,INDIRECT("Table!A" & $AM4):INDIRECT("Table!" & $AP$112 & $AM4),0))))) -> 0.72732719 | G4: =IF(ISERROR(MATCH(G$1,INDIRECT("Table!A"&$AM4):INDIRECT("Table!" & $AP$112 & $AM4),0)),"",INDIRECT(CONCATENATE("Table!",ADDRESS($AI4,MATCH(G$1,INDIRECT("Table!A" & $AM4):INDIRECT("Table!" & $AP$112 & $AM4),0))))) -> 0.54198508 | H4: =IF(ISERROR(MATCH(H$1,INDIRECT("Table!A"&$AM4):INDIRECT("Table!" & $AP$112 & $AM4),0)),"",INDIRECT(CONCATENATE("Table!",ADDRESS($AI4,MATCH(H$1,INDIRECT("Table!A" & $AM4):INDIRECT("Table!" & $AP$112 & $AM4),0))))) -> 0.57113659 | I4: =IF(ISERROR(MATCH(I$1,INDIRECT("Table!A"&$AM4):INDIRECT("Table!" & $AP$91 & $AM4),0)),"",INDIRECT(CONCATENATE("Table!",ADDRESS($AI4,MATCH(I$1,INDIRECT("Table!A" & $AM4):INDIRECT("Table!" & $AP$91 & $AM4),0))))) -> 0.32160491 | J4: =IF(ISERROR(MATCH(J$1,INDIRECT("Table!A"&$AM4):INDIRECT("Table!" & $AP$91 & $AM4),0)),"",INDIRECT(CONCATENATE("Table!",ADDRESS($AI4,MATCH(J$1,INDIRECT("Table!A" & $AM4):INDIRECT("Table!" & $AP$91 & $AM4),0))))) -> 0.81286688 | K4: =IF(ISERROR(MATCH(K$1,INDIRECT("Table!A"&$AM4):INDIRECT("Table!" & $AP$91 & $AM4),0)),"",INDIRECT(CONCATENATE("Table!",ADDRESS($AI4,MATCH(K$1,INDIRECT("Table!A" & $AM4):INDIRECT("Table!" & $AP$91 & $AM4),0))))) -> 0.45102003 | L4: =IF(ISERROR(MATCH(L$1,INDIRECT("Table!A"&$AM4):INDIRECT("Table!" & $AP$91 & $AM4),0)),"",INDIRECT(CONCATENATE("Table!",ADDRESS($AI4,MATCH(L$1,INDIRECT("Table!A" & $AM4):INDIRECT("Table!" & $AP$91 & $AM4),0))))) -> 0.42035165 | M4: =IF(ISERROR(MATCH(M$1,INDIRECT("Table!A"&$AM4):INDIRECT("Table!" & $AP$91 & $AM4),0)),"",INDIRECT(CONCATENATE("Table!",ADDRESS($AI4,MATCH(M$1,INDIRECT("Table!A" & $AM4):INDIRECT("Table!" & $AP$91 & $AM4),0))))) -> 0.4924838 | N4: =IF(ISERROR(MATCH(N$1,INDIRECT("Table!A"&$AM4):INDIRECT("Table!" & $AP$91 & $AM4),0)),"",INDIRECT(CONCATENATE("Table!",ADDRESS($AI4,MATCH(N$1,INDIRECT("Table!A" & $AM4):INDIRECT("Table!" & $AP$91 & $AM4),0))))) -> 0.73317293 | O4: =IF(ISERROR(MATCH(O$1,INDIRECT("Table!A"&$AM4):INDIRECT("Table!" & $AP$91 & $AM4),0)),"",INDIRECT(CONCATENATE("Table!",ADDRESS($AI4,MATCH(O$1,INDIRECT("Table!A" & $AM4):INDIRECT("Table!" & $AP$91 & $AM4),0))))) -> 0.66970822 | P4: =IF(ISERROR(MATCH(P$1,INDIRECT("Table!A"&$AM4):INDIRECT("Table!" & $AP$91 & $AM4),0)),"",INDIRECT(CONCATENATE("Table!",ADDRESS($AI4,MATCH(P$1,INDIRECT("Table!A" & $AM4):INDIRECT("Table!" & $AP$91 & $AM4),0))))) -> 0.33229045 | ... S4: =IF(ISERROR(MATCH(S$1,INDIRECT("Table!A"&$AM4):INDIRECT("Table!" & $AP$91 & $AM4),0)),"",INDIRECT(CONCATENATE("Table!",ADDRESS($AI4,MATCH(S$1,INDIRECT("Table!A" & $AM4):INDIRECT("Table!" & $AP$91 & $AM4),0))))) | T4: =IF(ISERROR(MATCH(T$1,INDIRECT("Table!A"&$AM4):INDIRECT("Table!" & $AP$65 & $AM4),0)),"",INDIRECT(CONCATENATE("Table!",ADDRESS($AI4,MATCH(T$1,INDIRECT("Table!A" & $AM4):INDIRECT("Table!" & $AP$65 & $AM4),0))))) -> 0.43180973 | U4: =IF(ISERROR(MATCH(U$1,INDIRECT("Table!A"&$AM4):INDIRECT("Table!" & $AP$65 & $AM4),0)),"",INDIRECT(CONCATENATE("Table!",ADDRESS($AI4,MATCH(U$1,INDIRECT("Table!A" & $AM4):INDIRECT("Table!" & $AP$65 & $AM4),0))))) -> 0.15768544 | V4: =IF(ISERROR(MATCH(V$1,INDIRECT("Table!A"&$AM4):INDIRECT("Table!" & $AP$65 & $AM4),0)),"",INDIRECT(CONCATENATE("Table!",ADDRESS($AI4,MATCH(V$1,INDIRECT("Table!A" & $AM4):INDIRECT("Table!" & $AP$65 & $AM4),0))))) -> 0.15378777 | W4: =IF(ISERROR(MATCH(W$1,INDIRECT("Table!A"&$AM4):INDIRECT("Table!" & $AP$65 & $AM4),0)),"",INDIRECT(CONCATENATE("Table!",ADDRESS($AI4,MATCH(W$1,INDIRECT("Table!A" & $AM4):INDIRECT("Table!" & $AP$65 & $AM4),0))))) -> 0.42695689 | X4: =IF(ISERROR(MATCH(X$1,INDIRECT("Table!A"&$AM4):INDIRECT("Table!" & $AP$65 & $AM4),0)),"",INDIRECT(CONCATENATE("Table!",ADDRESS($AI4,MATCH(X$1,INDIRECT("Table!A" & $AM4):INDIRECT("Table!" & $AP$65 & $AM4),0))))) -> 0.41234627 | Y4: =IF(ISERROR(MATCH(Y$1,INDIRECT("Table!A"&$AM4):INDIRECT("Table!" & $AP$65 & $AM4),0)),"",INDIRECT(CONCATENATE("Table!",ADDRESS($AI4,MATCH(Y$1,INDIRECT("Table!A" & $AM4):INDIRECT("Table!" & $AP$65 & $AM4),0))))) -> 0.40498549 | Z4: =IF(ISERROR(MATCH(Z$1,INDIRECT("Table!A"&$AM4):INDIRECT("Table!" & $AP$65 & $AM4),0)),"",INDIRECT(CONCATENATE("Table!",ADDRESS($AI4,MATCH(Z$1,INDIRECT("Table!A" & $AM4):INDIRECT("Table!" & $AP$65 & $AM4),0))))) -> 0.36112966 | AA4: =IF(ISERROR(MATCH(AA$1,INDIRECT("Table!A"&$AM4):INDIRECT("Table!" & $AP$65 & $AM4),0)),"",INDIRECT(CONCATENATE("Table!",ADDRESS($AI4,MATCH(AA$1,INDIRECT("Table!A" & $AM4):INDIRECT("Table!" & $AP$65 & $AM4),0))))) -> 0.43088217 | ... AH4: =IF(ISERROR(MATCH(AH$1,INDIRECT("Table!A"&$AM4):INDIRECT("Table!" & $AP$65 & $AM4),0)),"",INDIRECT(CONCATENATE("Table!",ADDRESS($AI4,MATCH(AH$1,INDIRECT("Table!A" & $AM4):INDIRECT("Table!" & $AP$65 & $AM4),0))))) -> 2.5671762e-05 | AI4: =MATCH($A4,Table!$A:$A,0)+$AK$2-1 -> 20 | AM4: =MATCH($A4,Table!$A:$A,0)+$AO$2-1 -> 17 | AP4: AI
A5: 41963 | B5: =IF(ISERROR(MATCH(B$1,INDIRECT("Table!A"&$AM5):INDIRECT("Table!" & $AP$113 & $AM5),0)),"",INDIRECT(CONCATENATE("Table!",ADDRESS($AI5,MATCH(B$1,INDIRECT("Table!A" & $AM5):INDIRECT("Table!" & $AP$112 & $AM5),0))))) -> 0.21703403 | C5: =IF(ISERROR(MATCH(C$1,INDIRECT("Table!A"&$AM5):INDIRECT("Table!" & $AP$112 & $AM5),0)),"",INDIRECT(CONCATENATE("Table!",ADDRESS($AI5,MATCH(C$1,INDIRECT("Table!A" & $AM5):INDIRECT("Table!" & $AP$112 & $AM5),0))))) -> 0.57870788 | D5: =IF(ISERROR(MATCH(D$1,INDIRECT("Table!A"&$AM5):INDIRECT("Table!" & $AP$112 & $AM5),0)),"",INDIRECT(CONCATENATE("Table!",ADDRESS($AI5,MATCH(D$1,INDIRECT("Table!A" & $AM5):INDIRECT("Table!" & $AP$112 & $AM5),0))))) -> 0.57702899 | E5: =IF(ISERROR(MATCH(E$1,INDIRECT("Table!A"&$AM5):INDIRECT("Table!" & $AP$112 & $AM5),0)),"",INDIRECT(CONCATENATE("Table!",ADDRESS($AI5,MATCH(E$1,INDIRECT("Table!A" & $AM5):INDIRECT("Table!" & $AP$112 & $AM5),0))))) -> 0.56389438 | F5: =IF(ISERROR(MATCH(F$1,INDIRECT("Table!A"&$AM5):INDIRECT("Table!" & $AP$112 & $AM5),0)),"",INDIRECT(CONCATENATE("Table!",ADDRESS($AI5,MATCH(F$1,INDIRECT("Table!A" & $AM5):INDIRECT("Table!" & $AP$112 & $AM5),0))))) -> 0.72672573 | G5: =IF(ISERROR(MATCH(G$1,INDIRECT("Table!A"&$AM5):INDIRECT("Table!" & $AP$112 & $AM5),0)),"",INDIRECT(CONCATENATE("Table!",ADDRESS($AI5,MATCH(G$1,INDIRECT("Table!A" & $AM5):INDIRECT("Table!" & $AP$112 & $AM5),0))))) -> 0.53994249 | H5: =IF(ISERROR(MATCH(H$1,INDIRECT("Table!A"&$AM5):INDIRECT("Table!" & $AP$112 & $AM5),0)),"",INDIRECT(CONCATENATE("Table!",ADDRESS($AI5,MATCH(H$1,INDIRECT("Table!A" & $AM5):INDIRECT("Table!" & $AP$112 & $AM5),0))))) -> 0.57020157 | I5: =IF(ISERROR(MATCH(I$1,INDIRECT("Table!A"&$AM5):INDIRECT("Table!" & $AP$91 & $AM5),0)),"",INDIRECT(CONCATENATE("Table!",ADDRESS($AI5,MATCH(I$1,INDIRECT("Table!A" & $AM5):INDIRECT("Table!" & $AP$91 & $AM5),0))))) -> 0.32125628 | J5: =IF(ISERROR(MATCH(J$1,INDIRECT("Table!A"&$AM5):INDIRECT("Table!" & $AP$91 & $AM5),0)),"",INDIRECT(CONCATENATE("Table!",ADDRESS($AI5,MATCH(J$1,INDIRECT("Table!A" & $AM5):INDIRECT("Table!" & $AP$91 & $AM5),0))))) -> 0.83740663 | K5: =IF(ISERROR(MATCH(K$1,INDIRECT("Table!A"&$AM5):INDIRECT("Table!" & $AP$91 & $AM5),0)),"",INDIRECT(CONCATENATE("Table!",ADDRESS($AI5,MATCH(K$1,INDIRECT("Table!A" & $AM5):INDIRECT("Table!" & $AP$91 & $AM5),0))))) -> 0.4500748 | L5: =IF(ISERROR(MATCH(L$1,INDIRECT("Table!A"&$AM5):INDIRECT("Table!" & $AP$91 & $AM5),0)),"",INDIRECT(CONCATENATE("Table!",ADDRESS($AI5,MATCH(L$1,INDIRECT("Table!A" & $AM5):INDIRECT("Table!" & $AP$91 & $AM5),0))))) -> 0.42018639 | M5: =IF(ISERROR(MATCH(M$1,INDIRECT("Table!A"&$AM5):INDIRECT("Table!" & $AP$91 & $AM5),0)),"",INDIRECT(CONCATENATE("Table!",ADDRESS($AI5,MATCH(M$1,INDIRECT("Table!A" & $AM5):INDIRECT("Table!" & $AP$91 & $AM5),0))))) -> 0.50050351 | N5: =IF(ISERROR(MATCH(N$1,INDIRECT("Table!A"&$AM5):INDIRECT("Table!" & $AP$91 & $AM5),0)),"",INDIRECT(CONCATENATE("Table!",ADDRESS($AI5,MATCH(N$1,INDIRECT("Table!A" & $AM5):INDIRECT("Table!" & $AP$91 & $AM5),0))))) -> 0.73277673 | O5: =IF(ISERROR(MATCH(O$1,INDIRECT("Table!A"&$AM5):INDIRECT("Table!" & $AP$91 & $AM5),0)),"",INDIRECT(CONCATENATE("Table!",ADDRESS($AI5,MATCH(O$1,INDIRECT("Table!A" & $AM5):INDIRECT("Table!" & $AP$91 & $AM5),0))))) -> 0.66862504 | P5: =IF(ISERROR(MATCH(P$1,INDIRECT("Table!A"&$AM5):INDIRECT("Table!" & $AP$91 & $AM5),0)),"",INDIRECT(CONCATENATE("Table!",ADDRESS($AI5,MATCH(P$1,INDIRECT("Table!A" & $AM5):INDIRECT("Table!" & $AP$91 & $AM5),0))))) -> 0.33194242 | ... S5: =IF(ISERROR(MATCH(S$1,INDIRECT("Table!A"&$AM5):INDIRECT("Table!" & $AP$91 & $AM5),0)),"",INDIRECT(CONCATENATE("Table!",ADDRESS($AI5,MATCH(S$1,INDIRECT("Table!A" & $AM5):INDIRECT("Table!" & $AP$91 & $AM5),0))))) -> 0.67804071 | T5: =IF(ISERROR(MATCH(T$1,INDIRECT("Table!A"&$AM5):INDIRECT("Table!" & $AP$65 & $AM5),0)),"",INDIRECT(CONCATENATE("Table!",ADDRESS($AI5,MATCH(T$1,INDIRECT("Table!A" & $AM5):INDIRECT("Table!" & $AP$65 & $AM5),0))))) -> 0.43180973 | U5: =IF(ISERROR(MATCH(U$1,INDIRECT("Table!A"&$AM5):INDIRECT("Table!" & $AP$65 & $AM5),0)),"",INDIRECT(CONCATENATE("Table!",ADDRESS($AI5,MATCH(U$1,INDIRECT("Table!A" & $AM5):INDIRECT("Table!" & $AP$65 & $AM5),0))))) -> 0.15765511 | V5: =IF(ISERROR(MATCH(V$1,INDIRECT("Table!A"&$AM5):INDIRECT("Table!" & $AP$65 & $AM5),0)),"",INDIRECT(CONCATENATE("Table!",ADDRESS($AI5,MATCH(V$1,INDIRECT("Table!A" & $AM5):INDIRECT("Table!" & $AP$65 & $AM5),0))))) -> 0.15375818 | W5: =IF(ISERROR(MATCH(W$1,INDIRECT("Table!A"&$AM5):INDIRECT("Table!" & $AP$65 & $AM5),0)),"",INDIRECT(CONCATENATE("Table!",ADDRESS($AI5,MATCH(W$1,INDIRECT("Table!A" & $AM5):INDIRECT("Table!" & $AP$65 & $AM5),0))))) -> 0.41670899 | X5: =IF(ISERROR(MATCH(X$1,INDIRECT("Table!A"&$AM5):INDIRECT("Table!" & $AP$65 & $AM5),0)),"",INDIRECT(CONCATENATE("Table!",ADDRESS($AI5,MATCH(X$1,INDIRECT("Table!A" & $AM5):INDIRECT("Table!" & $AP$65 & $AM5),0))))) -> 0.40232319 | Y5: =IF(ISERROR(MATCH(Y$1,INDIRECT("Table!A"&$AM5):INDIRECT("Table!" & $AP$65 & $AM5),0)),"",INDIRECT(CONCATENATE("Table!",ADDRESS($AI5,MATCH(Y$1,INDIRECT("Table!A" & $AM5):INDIRECT("Table!" & $AP$65 & $AM5),0))))) -> 0.38808374 | Z5: =IF(ISERROR(MATCH(Z$1,INDIRECT("Table!A"&$AM5):INDIRECT("Table!" & $AP$65 & $AM5),0)),"",INDIRECT(CONCATENATE("Table!",ADDRESS($AI5,MATCH(Z$1,INDIRECT("Table!A" & $AM5):INDIRECT("Table!" & $AP$65 & $AM5),0))))) -> 0.34475278 | AA5: =IF(ISERROR(MATCH(AA$1,INDIRECT("Table!A"&$AM5):INDIRECT("Table!" & $AP$65 & $AM5),0)),"",INDIRECT(CONCATENATE("Table!",ADDRESS($AI5,MATCH(AA$1,INDIRECT("Table!A" & $AM5):INDIRECT("Table!" & $AP$65 & $AM5),0))))) -> 0.42525963 | ... AH5: =IF(ISERROR(MATCH(AH$1,INDIRECT("Table!A"&$AM5):INDIRECT("Table!" & $AP$65 & $AM5),0)),"",INDIRECT(CONCATENATE("Table!",ADDRESS($AI5,MATCH(AH$1,INDIRECT("Table!A" & $AM5):INDIRECT("Table!" & $AP$65 & $AM5),0))))) -> 2.5671762e-05 | AI5: =MATCH($A5,Table!$A:$A,0)+$AK$2-1 -> 34 | AM5: =MATCH($A5,Table!$A:$A,0)+$AO$2-1 -> 31 | AP5: AI
