Workbook
Name RMCF1C00_Spare: '[1]CFR-Ports'!$B$153
Name RMCF1C00_Used: '[1]CFR-Ports'!$B$154
Name RMCF1E00_Spare: '[1]CFR-Ports'!$D$153
Name RMCF1E00_Used: '[1]CFR-Ports'!$D$154

Sheet EMEA Scope_structural report
A2: Type | B2: (Multiple Items) | E2: Row Labels | F2: Sum of Total Installed | G2: Sum of Switch Count
E3: Citigroup Centre DC, London | F3: 1944 | G3: 12
A4: Row Labels | B4: Sum of physical/Raid Total | C4: Count of Array | E4: Frankfurt DC, Germany | F4: 7868 | G4: 36
A5: CGC | B5: 1209846.2 | C5: 5 | E5: Riverdale DC, London | F5: 8198 | G5: 46
A6: FDC | B6: 5482809.4 | C6: 19 | E6: Swiss DC Blwg, Switzerland | F6: 160 | G6: 4
A7: RDC | B7: 6283154.9 | C7: 22 | E7: Swiss DC Colt, Switzerland | F7: 122 | G7: 4
A8: Swiss | B8: 100847.2 | C8: 2 | E8: Grand Total | F8: 18292 | G8: 102
A9: Grand Total | B9: 13076658 | C9: 48
A12: Below report collected only for VMAX, HDS, VNX Arrays
A15: Citigroup Centre DC, London | H15: =CONCATENATE(A15, B15, C15, D15, E15, F15, G15 ) -> Citigroup Centre DC, London | I15: Citigroup Centre DC, London
A16: Number of SAN Swtiches | B16: =G3 -> 12 | C16: Port Count | D16: =F3 -> 1944 | H16: =CONCATENATE(A16, B16, C16, D16, E16, F16, G16 ) -> Number of SAN Swtiches 12 Port Count 1944 | I16: Number of SAN Swtiches 16 Port Count 2458
A17: Number of SAN storage Arrays Installed | E17: =C5 -> 5 | F17: and Total TB's | G17: =B5/1024 -> 1181.4905 | H17: =CONCATENATE(A17, B17, C17, D17, E17, F17, G17 ) -> Number of SAN storage Arrays Installed 5 and Total TB's 1181.49045386905 | I17: Number of SAN storage Arrays Installed 5 and Total TB's 1181
A19: Frankfurt DC, Germany | H19: =CONCATENATE(A19, B19, C19, D19, E19, F19, G19 ) -> Frankfurt DC, Germany | I19: Frankfurt DC, Germany
A20: Number of SAN Swtiches | B20: =G4 -> 36 | C20: Port Count | D20: =F4 -> 7868 | H20: =CONCATENATE(A20, B20, C20, D20, E20, F20, G20 ) -> Number of SAN Swtiches 36 Port Count 7868 | I20: Number of SAN Swtiches 36 Port Count 7869
A21: Number of SAN storage Arrays Installed | E21: =C6 -> 19 | F21: and Total TB's | G21: =B6/1024 -> 5354.3061 | H21: =CONCATENATE(A21, B21, C21, D21, E21, F21, G21 ) -> Number of SAN storage Arrays Installed 19 and Total TB's 5354.3060765439 | I21: Number of SAN storage Arrays Installed 19 and Total TB's 5354
A23: Riverdale DC, London | H23: =CONCATENATE(A23, B23, C23, D23, E23, F23, G23 ) -> Riverdale DC, London | I23: Riverdale DC, London
A24: Number of SAN Swtiches | B24: =G5 -> 46 | C24: Port Count | D24: =F5 -> 8198 | H24: =CONCATENATE(A24, B24, C24, D24, E24, F24, G24 ) -> Number of SAN Swtiches 46 Port Count 8198 | I24: Number of SAN Swtiches 64 Port Count 10414
A25: Number of SAN storage Arrays Installed | E25: =C7 -> 22 | F25: and Total TB's | G25: =B7/1024 -> 6135.8934 | H25: =CONCATENATE(A25, B25, C25, D25, E25, F25, G25 ) -> Number of SAN storage Arrays Installed 22 and Total TB's 6135.89343350074 | I25: Number of SAN storage Arrays Installed 22 and Total TB's 6135
A27: Switzerland | H27: =CONCATENATE(A27, B27, C27, D27, E27, F27, G27 ) -> Switzerland | I27: Switzerland
A28: Number of SAN Swtiches | B28: =G6+G7 -> 8 | C28: Port Count | D28: =F6+F7 -> 282 | H28: =CONCATENATE(A28, B28, C28, D28, E28, F28, G28 ) -> Number of SAN Swtiches 8 Port Count 282 | I28: Number of SAN Swtiches 8 Port Count 246
A29: Number of SAN storage Arrays Installed | E29: =C8 -> 2 | F29: and Total TB's | G29: =B8/1024 -> 98.483594 | H29: =CONCATENATE(A29, B29, C29, D29, E29, F29, G29 ) -> Number of SAN storage Arrays Installed 2 and Total TB's 98.48359375 | I29: Number of SAN storage Arrays Installed 2 and Total TB's 98

Sheet SAN Storage Capacity Summary
A1: Citigroup Distributed Storage Capacity Report (EMEA) for Aug 2014
A2: Site | B2: Unformatted Total (GB) | C2: Formatted Total (GB) | D2: configured Total (GB) | E2: Usable | F2: Used | G2: free | H2: Allocated | I2: %Used | J2: %allocated | K2: # Frames | L2: Unformatted Total (TB) | M2: configured Total (TB) | N2: Allocated (TB) | O2: Free (TB) | P2: Unformatted Total (PB) | Q2: configured Total (PB) | R2: Allocated (PB) | S2: Free (PB)
A3: Total EMEA Sites | B3: =B11 -> 19531870 | C3: =C11 -> 17811092 | D3: =D11 -> 15927758 | E3: =E11 -> 10915771 | F3: =F11 -> 5293617.2 | G3: =G11 -> 5653955.9 | H3: =H11 -> 7524464.1 | I3: =I11 -> 0.48495129 | ... K3: =K11 -> 87 | L3: =B3/1024 -> 19074.092 | M3: =D3/1024 -> 15554.451 | N3: =H3/1024 -> 7348.1095 | O3: =G3/1024 -> 5521.4413 | P3: =L3/1024 -> 18.627043 | Q3: =M3/1024 -> 15.189894 | R3: =N3/1024 -> 7.1758881 | S3: =O3/1024 -> 5.3920325
A4: Swiss | B4: =SUMIF('SAN Storage Inventory'!A:A,A:A,'SAN Storage Inventory'!D:D) -> 223776 | C4: =SUMIF('SAN Storage Inventory'!A:A,A:A,'SAN Storage Inventory'!E:E) -> 203380 | D4: =SUMIF('SAN Storage Inventory'!A:A,A:A,'SAN Storage Inventory'!G:G) -> 135955.77 | E4: =SUMIF('SAN Storage Inventory'!A:A,A:A,'SAN Storage Inventory'!I:I) -> 118961.3 | F4: =SUMIF('SAN Storage Inventory'!A:A,A:A,'SAN Storage Inventory'!J:J) -> 61162.8 | G4: =SUMIF('SAN Storage Inventory'!A:A,A:A,'SAN Storage Inventory'!K:K) -> 57798.5 | H4: =SUMIF('SAN Storage Inventory'!A:A,A:A,'SAN Storage Inventory'!M:M) -> 137366.4 | I4: =F4/E4 -> 0.51414031 | J4: =H4/E4 -> 1.154715 | K4: =COUNTIF('SAN Storage Inventory'!A:A,A:A) -> 4
A5: FDC | B5: =SUMIF('SAN Storage Inventory'!A:A,A:A,'SAN Storage Inventory'!D:D) -> 8273063.6 | C5: =SUMIF('SAN Storage Inventory'!A:A,A:A,'SAN Storage Inventory'!E:E) -> 7545938.6 | D5: =SUMIF('SAN Storage Inventory'!A:A,A:A,'SAN Storage Inventory'!G:G) -> 6732294.4 | E5: =SUMIF('SAN Storage Inventory'!A:A,A:A,'SAN Storage Inventory'!I:I) -> 4595899.6 | F5: =SUMIF('SAN Storage Inventory'!A:A,A:A,'SAN Storage Inventory'!J:J) -> 2173546.2 | G5: =SUMIF('SAN Storage Inventory'!A:A,A:A,'SAN Storage Inventory'!K:K) -> 2422353.5 | H5: =SUMIF('SAN Storage Inventory'!A:A,A:A,'SAN Storage Inventory'!M:M) -> 3263474.4 | I5: =F5/E5 -> 0.4729316 | J5: =H5/E5 -> 0.71008391 | K5: =COUNTIF('SAN Storage Inventory'!A:A,A:A) -> 31
A6: RDC | B6: =SUMIF('SAN Storage Inventory'!A:A,A:A,'SAN Storage Inventory'!D:D) -> 9132038.4 | C6: =SUMIF('SAN Storage Inventory'!A:A,A:A,'SAN Storage Inventory'!E:E) -> 8332451.8 | D6: =SUMIF('SAN Storage Inventory'!A:A,A:A,'SAN Storage Inventory'!G:G) -> 7475514 | E6: =SUMIF('SAN Storage Inventory'!A:A,A:A,'SAN Storage Inventory'!I:I) -> 5041001.3 | F6: =SUMIF('SAN Storage Inventory'!A:A,A:A,'SAN Storage Inventory'!J:J) -> 2535692.5 | G6: =SUMIF('SAN Storage Inventory'!A:A,A:A,'SAN Storage Inventory'!K:K) -> 2537110.9 | H6: =SUMIF('SAN Storage Inventory'!A:A,A:A,'SAN Storage Inventory'!M:M) -> 3541983.2 | I6: =F6/E6 -> 0.50301367 | J6: =H6/E6 -> 0.70263486 | K6: =COUNTIF('SAN Storage Inventory'!A:A,A:A) -> 35
A7: CGC | B7: =SUMIF('SAN Storage Inventory'!A:A,A:A,'SAN Storage Inventory'!D:D) -> 1485847.4 | C7: =SUMIF('SAN Storage Inventory'!A:A,A:A,'SAN Storage Inventory'!E:E) -> 1350098.7 | D7: =SUMIF('SAN Storage Inventory'!A:A,A:A,'SAN Storage Inventory'!G:G) -> 1274942.7 | E7: =SUMIF('SAN Storage Inventory'!A:A,A:A,'SAN Storage Inventory'!I:I) -> 912555.41 | F7: =SUMIF('SAN Storage Inventory'!A:A,A:A,'SAN Storage Inventory'!J:J) -> 275862.38 | G7: =SUMIF('SAN Storage Inventory'!A:A,A:A,'SAN Storage Inventory'!K:K) -> 636693.04 | H7: =SUMIF('SAN Storage Inventory'!A:A,A:A,'SAN Storage Inventory'!M:M) -> 334286.77 | I7: =F7/E7 -> 0.30229658 | J7: =H7/E7 -> 0.36631942 | K7: =COUNTIF('SAN Storage Inventory'!A:A,A:A) -> 6
A8: Poland | B8: =SUMIF('SAN Storage Inventory'!A:A,A:A,'SAN Storage Inventory'!D:D) -> 239104.8 | C8: =SUMIF('SAN Storage Inventory'!A:A,A:A,'SAN Storage Inventory'!E:E) -> 217368 | D8: =SUMIF('SAN Storage Inventory'!A:A,A:A,'SAN Storage Inventory'!G:G) -> 146821.71 | E8: =SUMIF('SAN Storage Inventory'!A:A,A:A,'SAN Storage Inventory'!I:I) -> 128469 | F8: =SUMIF('SAN Storage Inventory'!A:A,A:A,'SAN Storage Inventory'!J:J) -> 128469 | G8: =SUMIF('SAN Storage Inventory'!A:A,A:A,'SAN Storage Inventory'!K:K) -> 0 | H8: =SUMIF('SAN Storage Inventory'!A:A,A:A,'SAN Storage Inventory'!M:M) -> 128469 | I8: =F8/E8 -> 1 | J8: =H8/E8 -> 1 | K8: =COUNTIF('SAN Storage Inventory'!A:A,A:A) -> 4
A9: Turkey DC | B9: =SUMIF('SAN Storage Inventory'!A:A,A:A,'SAN Storage Inventory'!D:D) -> 114340.6 | C9: =SUMIF('SAN Storage Inventory'!A:A,A:A,'SAN Storage Inventory'!E:E) -> 103946 | D9: =SUMIF('SAN Storage Inventory'!A:A,A:A,'SAN Storage Inventory'!G:G) -> 104320.86 | E9: =SUMIF('SAN Storage Inventory'!A:A,A:A,'SAN Storage Inventory'!I:I) -> 89930 | F9: =SUMIF('SAN Storage Inventory'!A:A,A:A,'SAN Storage Inventory'!J:J) -> 89930 | G9: =SUMIF('SAN Storage Inventory'!A:A,A:A,'SAN Storage Inventory'!K:K) -> 0 | H9: =SUMIF('SAN Storage Inventory'!A:A,A:A,'SAN Storage Inventory'!M:M) -> 89930 | I9: =F9/E9 -> 1 | J9: =H9/E9 -> 1 | K9: =COUNTIF('SAN Storage Inventory'!A:A,A:A) -> 3
A10: Russia DC | B10: =SUMIF('SAN Storage Inventory'!A:A,A:A,'SAN Storage Inventory'!D:D) -> 63699.457 | C10: =SUMIF('SAN Storage Inventory'!A:A,A:A,'SAN Storage Inventory'!E:E) -> 57908.598 | D10: =SUMIF('SAN Storage Inventory'!A:A,A:A,'SAN Storage Inventory'!G:G) -> 57908.598 | E10: =SUMIF('SAN Storage Inventory'!A:A,A:A,'SAN Storage Inventory'!I:I) -> 28954.299 | F10: =SUMIF('SAN Storage Inventory'!A:A,A:A,'SAN Storage Inventory'!J:J) -> 28954.299 | G10: =SUMIF('SAN Storage Inventory'!A:A,A:A,'SAN Storage Inventory'!K:K) -> 0 | H10: =SUMIF('SAN Storage Inventory'!A:A,A:A,'SAN Storage Inventory'!M:M) -> 28954.299 | I10: =F10/E10 -> 1 | J10: =H10/E10 -> 1 | K10: =COUNTIF('SAN Storage Inventory'!A:A,A:A) -> 4
A11: Site Total | B11: =SUM(B4:B10) -> 19531870 | C11: =SUM(C4:C10) -> 17811092 | D11: =SUM(D4:D10) -> 15927758 | E11: =SUM(E4:E10) -> 10915771 | F11: =SUM(F4:F10) -> 5293617.2 | G11: =SUM(G4:G10) -> 5653955.9 | H11: =SUM(H4:H10) -> 7524464.1 | I11: =F11/E11 -> 0.48495129 | J11: =H11/E11 -> 0.68932045 | K11: =SUM(K4:K10) -> 87
A14: Citigroup Distributed Storage Capacity Report (EMEA) for Aug 2014
A15: Site | B15: Unformatted Total (TB) | C15: Formatted Total (TB) | D15: configured Total (TB) | E15: Usable | F15: Used | G15: free | H15: Allocated | I15: %Used | J15: %allocated | K15: # Frames
A16: Total EMEA Sites | B16: =B3/1024 -> 19074.092 | C16: =C3/1024 -> 17393.644 | D16: =D3/1024 -> 15554.451 | E16: =E3/1024 -> 10659.933 | F16: =F3/1024 -> 5169.548 | G16: =G3/1024 -> 5521.4413 | H16: =H3/1024 -> 7348.1095 | I16: =F16/E16 -> 0.48495129 | J16: =H16/E16 -> 0.68932045 | K16: =K3 -> 87
A17: Swiss | B17: =B4/1024 -> 218.53125 | C17: =C4/1024 -> 198.61328 | D17: =D4/1024 -> 132.76931 | E17: =E4/1024 -> 116.17314 | F17: =F4/1024 -> 59.729297 | G17: =G4/1024 -> 56.443848 | H17: =H4/1024 -> 134.14687 | I17: =F17/E17 -> 0.51414031 | J17: =H17/E17 -> 1.154715 | K17: =COUNTIF('SAN Storage Inventory'!A:A,A:A) -> 4
A18: FDC | B18: =B5/1024 -> 8079.1637 | C18: =C5/1024 -> 7369.0806 | D18: =D5/1024 -> 6574.5063 | E18: =E5/1024 -> 4488.1832 | F18: =F5/1024 -> 2122.6037 | G18: =G5/1024 -> 2365.5796 | H18: =H5/1024 -> 3186.9867 | I18: =F18/E18 -> 0.4729316 | J18: =H18/E18 -> 0.71008391 | K18: =COUNTIF('SAN Storage Inventory'!A:A,A:A) -> 31
A19: RDC | B19: =B6/1024 -> 8918.0063 | C19: =C6/1024 -> 8137.16 | D19: =D6/1024 -> 7300.3066 | E19: =E6/1024 -> 4922.8528 | F19: =F6/1024 -> 2476.2622 | G19: =G6/1024 -> 2477.6473 | H19: =H6/1024 -> 3458.968 | I19: =F19/E19 -> 0.50301367 | J19: =H19/E19 -> 0.70263486 | K19: =COUNTIF('SAN Storage Inventory'!A:A,A:A) -> 35
A20: CGC | B20: =B7/1024 -> 1451.0228 | C20: =C7/1024 -> 1318.4558 | D20: =D7/1024 -> 1245.0613 | E20: =E7/1024 -> 891.1674 | F20: =F7/1024 -> 269.39685 | G20: =G7/1024 -> 621.77054 | H20: =H7/1024 -> 326.45192 | I20: =F20/E20 -> 0.30229658 | J20: =H20/E20 -> 0.36631942 | K20: =COUNTIF('SAN Storage Inventory'!A:A,A:A) -> 6
A21: Poland | B21: =B8/1024 -> 233.50078 | C21: =C8/1024 -> 212.27344 | D21: =D8/1024 -> 143.38058 | E21: =E8/1024 -> 125.45801 | F21: =F8/1024 -> 125.45801 | G21: =G8/1024 -> 0 | H21: =H8/1024 -> 125.45801 | I21: =F21/E21 -> 1 | J21: =H21/E21 -> 1 | K21: =COUNTIF('SAN Storage Inventory'!A:A,A:A) -> 4
A22: Turkey DC | B22: =B9/1024 -> 111.66074 | C22: =C9/1024 -> 101.50977 | D22: =D9/1024 -> 101.87584 | E22: =E9/1024 -> 87.822266 | F22: =F9/1024 -> 87.822266 | G22: =G9/1024 -> 0 | H22: =H9/1024 -> 87.822266 | I22: =F22/E22 -> 1 | J22: =H22/E22 -> 1 | K22: =COUNTIF('SAN Storage Inventory'!A:A,A:A) -> 3
A23: Russia DC | B23: =B10/1024 -> 62.206501 | C23: =C10/1024 -> 56.551365 | D23: =D10/1024 -> 56.551365 | E23: =E10/1024 -> 28.275682 | F23: =F10/1024 -> 28.275682 | G23: =G10/1024 -> 0 | H23: =H10/1024 -> 28.275682 | I23: =F23/E23 -> 1 | J23: =H23/E23 -> 1 | K23: =COUNTIF('SAN Storage Inventory'!A:A,A:A) -> 4
A24: Site Total | B24: =SUM(B17:B23) -> 19074.092 | C24: =SUM(C17:C23) -> 17393.644 | D24: =SUM(D17:D23) -> 15554.451 | E24: =SUM(E17:E23) -> 10659.933 | F24: =SUM(F17:F23) -> 5169.548 | G24: =SUM(G17:G23) -> 5521.4413 | H24: =SUM(H17:H23) -> 7348.1095 | I24: =F24/E24 -> 0.48495129 | J24: =H24/E24 -> 0.68932045 | K24: =SUM(K17:K23) -> 87

Sheet SAN Switch Capacity Summary
A1: Citigroup Distributed Fibre Switch Capacity Report (EMEA) for Sept 2014
A2: Site Summary and Capacity Analysis NOTE: Each line below represents an individial SAN island. Each island requires free ports/capacity in order to maintain/support BAU growth.
A3: Site | B3: San | C3: Total Installed | D3: Used Ports | E3: Free Ports | F3: % Free | G3: Switch Count
A4: Total All Sites | C4: =SUMIF($A$5:$A$30,"Total Site",$C$5:$C$30) -> 18496 | D4: =SUMIF($A$5:$A$30,"Total Site",$D$5:$D$30) -> 11637 | E4: =SUMIF($A$5:$A$30,"Total Site",$E$5:$E$30) -> 6859 | F4: =E4/(D4+E4) -> 0.37083694 | G4: =SUMIF($A$5:$A$30,"Total Site",$G$5:$G$30) -> 106
A5: Citigroup Centre DC, London | B5: Core (Tape) Cisco | C5: =SUM(D5:E5) -> 96 | D5: =SUMIF('SAN Switch Inventory'!K5:K25,B5,'SAN Switch Inventory'!F5:F25) -> 32 | E5: =SUMIF('SAN Switch Inventory'!K5:K25,B5,'SAN Switch Inventory'!G5:G25) -> 64 | F5: =E5/(D5+E5) -> 0.66666667 | G5: =COUNTIF('SAN Switch Inventory'!K5:K25,B5) -> 2 | J5: Core (Tape) Cisco | K5: =SUMIF(B:B,J5,C:C) -> 792 | L5: =SUMIF(B:B,J:J,G:G) -> 12 | M5: 792 | N5: 12
A6: Citigroup Centre DC, London | B6: Core (Disk) Cisco | C6: =SUM(D6:E6) -> 408 | D6: =SUMIF('SAN Switch Inventory'!K5:K25,B6,'SAN Switch Inventory'!F5:F25) -> 182 | E6: =SUMIF('SAN Switch Inventory'!K5:K25,B6,'SAN Switch Inventory'!G5:G25) -> 226 | F6: =E6/(D6+E6) -> 0.55392157 | G6: =COUNTIF('SAN Switch Inventory'!K5:K25,B6) -> 2 | J6: Core (Disk) Cisco | K6: =SUMIF(B:B,J6,C:C) -> 3936 | L6: =SUMIF(B:B,J:J,G:G) -> 22 | M6: 3900 | N6: 22
A7: Citigroup Centre DC, London | B7: Edge (Disk) Cisco | C7: =SUM(D7:E7) -> 1296 | D7: =SUMIF('SAN Switch Inventory'!K5:K25,B7,'SAN Switch Inventory'!F5:F25) -> 433 | E7: =SUMIF('SAN Switch Inventory'!K5:K25,B7,'SAN Switch Inventory'!G5:G25) -> 863 | F7: =E7/(D7+E7) -> 0.66589506 | G7: =COUNTIF('SAN Switch Inventory'!K5:K25,B7) -> 6 | J7: Edge (Disk) Cisco | K7: =SUMIF(B:B,J7,C:C) -> 12557 | L7: =SUMIF(B:B,J:J,G:G) -> 62 | M7: 12558 | N7: 62
A8: Citigroup Centre DC, London | B8: Core SRDF Cisco | C8: =SUM(D8:E8) -> 144 | D8: =SUMIF('SAN Switch Inventory'!K5:K25,B8,'SAN Switch Inventory'!F5:F25) -> 20 | E8: =SUMIF('SAN Switch Inventory'!K5:K25,B8,'SAN Switch Inventory'!G5:G25) -> 124 | F8: =E8/(D8+E8) -> 0.86111111 | G8: =COUNTIF('SAN Switch Inventory'!K5:K25,B8) -> 2 | J8: Core SRDF Cisco | K8: =SUMIF(B:B,J8,C:C) -> 1211 | L8: =SUMIF(B:B,J:J,G:G) -> 10 | M8: 1211 | N8: 10
A9: Total Site | C9: =SUM(C5:C8) -> 1944 | D9: =SUM(D5:D8) -> 667 | E9: =SUM(E5:E8) -> 1277 | F9: =E9/(D9+E9) -> 0.656893 | G9: =SUM(G5:G8) -> 12 | K9: =SUM(K5:K8) -> 18496 | L9: =SUM(L5:L8) -> 106 | M9: =SUM(M5:M8) -> 18461 | N9: =SUM(N5:N8) -> 106
A10: Riverdale DC, London | B10: Core (Tape) Cisco | C10: =SUM(D10:E10) -> 264 | D10: =SUMIF('SAN Switch Inventory'!K31:K106,B10,'SAN Switch Inventory'!F31:F106) -> 237 | E10: =SUMIF('SAN Switch Inventory'!K31:K106,B10,'SAN Switch Inventory'!G31:G106) -> 27 | F10: =E10/(D10+E10) -> 0.10227273 | G10: =COUNTIF('SAN Switch Inventory'!K31:K106,B10) -> 2
A11: Riverdale DC, London | B11: Core (Disk) Cisco | C11: =SUM(D11:E11) -> 1511 | D11: =SUMIF('SAN Switch Inventory'!K31:K106,B11,'SAN Switch Inventory'!F31:F106) -> 858 | E11: =SUMIF('SAN Switch Inventory'!K31:K106,B11,'SAN Switch Inventory'!G31:G106) -> 653 | F11: =E11/(D11+E11) -> 0.43216413 | G11: =COUNTIF('SAN Switch Inventory'!K31:K106,B11) -> 6
A12: Riverdale DC, London | B12: Edge (Disk) Cisco | C12: =SUM(D12:E12) -> 5824 | D12: =SUMIF('SAN Switch Inventory'!K31:K106,B12,'SAN Switch Inventory'!F31:F106) -> 3870 | E12: =SUMIF('SAN Switch Inventory'!K31:K106,B12,'SAN Switch Inventory'!G31:G106) -> 1954 | F12: =E12/(D12+E12) -> 0.33550824 | G12: =COUNTIF('SAN Switch Inventory'!K31:K106,B12) -> 34 | J12: Row Labels | K12: Sum of Total Installed | L12: Sum of Used Ports | M12: Sum of Free Ports | N12: Sum of % Free | O12: Sum of Switch Count
A13: Riverdale DC, London | B13: Core SRDF Cisco | C13: =SUM(D13:E13) -> 599 | D13: =SUMIF('SAN Switch Inventory'!K31:K106,B13,'SAN Switch Inventory'!F31:F106) -> 371 | E13: =SUMIF('SAN Switch Inventory'!K31:K106,B13,'SAN Switch Inventory'!G31:G106) -> 228 | F13: =E13/(D13+E13) -> 0.38063439 | G13: =COUNTIF('SAN Switch Inventory'!K31:K106,B13) -> 4 | J13: Core (Disk) Cisco | K13: 3936 | L13: 2468 | M13: 1468 | N13: 1.7468036 | O13: 22
A14: Total Site | C14: =SUM(C10:C13) -> 8198 | D14: =SUM(D10:D13) -> 5336 | E14: =SUM(E10:E13) -> 2862 | F14: =E14/(D14+E14) -> 0.34910954 | G14: =SUM(G10:G13) -> 46 | J14: Core (Tape) Cisco | K14: 792 | L14: 563 | M14: 229 | N14: 2.5918561 | O14: 12
A15: Frankfurt DC, Germany | B15: Core (Tape) Cisco | C15: =SUM(D15:E15) -> 240 | D15: =SUMIF('SAN Switch Inventory'!K112:K154,B15,'SAN Switch Inventory'!F112:F154) -> 215 | E15: =SUMIF('SAN Switch Inventory'!K112:K154,B15,'SAN Switch Inventory'!G112:G154) -> 25 | F15: =E15/(D15+E15) -> 0.10416667 | G15: =COUNTIF('SAN Switch Inventory'!K112:K154,B15) -> 2 | J15: Core SRDF Cisco | K15: 1211 | L15: 544 | M15: 667 | N15: 2.6093381 | O15: 10
A16: Frankfurt DC, Germany | B16: Core (Disk) Cisco | C16: =SUM(D16:E16) -> 1831 | D16: =SUMIF('SAN Switch Inventory'!K112:K154,B16,'SAN Switch Inventory'!F112:F154) -> 1290 | E16: =SUMIF('SAN Switch Inventory'!K112:K154,B16,'SAN Switch Inventory'!G112:G154) -> 541 | F16: =E16/(D16+E16) -> 0.29546696 | G16: =COUNTIF('SAN Switch Inventory'!K112:K154,B16) -> 10 | J16: Edge (Disk) Cisco | K16: 12557 | L16: 8062 | M16: 4495 | N16: 1.3100294 | O16: 62
A17: Frankfurt DC, Germany | B17: Edge (Disk) Cisco | C17: =SUM(D17:E17) -> 5437 | D17: =SUMIF('SAN Switch Inventory'!K112:K154,B17,'SAN Switch Inventory'!F112:F154) -> 3759 | E17: =SUMIF('SAN Switch Inventory'!K112:K154,B17,'SAN Switch Inventory'!G112:G154) -> 1678 | F17: =E17/(D17+E17) -> 0.30862608 | G17: =COUNTIF('SAN Switch Inventory'!K112:K154,B17) -> 22 | J17: Grand Total | K17: 18496 | L17: 11637 | M17: 6859 | N17: 8.2580272 | O17: 106
A18: Frankfurt DC, Germany | B18: Core SRDF Cisco | C18: =SUM(D18:E18) -> 360 | D18: =SUMIF('SAN Switch Inventory'!K112:K154,B18,'SAN Switch Inventory'!F112:F154) -> 121 | E18: =SUMIF('SAN Switch Inventory'!K112:K154,B18,'SAN Switch Inventory'!G112:G154) -> 239 | F18: =E18/(D18+E18) -> 0.66388889 | G18: =COUNTIF('SAN Switch Inventory'!K112:K154,B18) -> 2
A19: Total Site | C19: =SUM(C15:C18) -> 7868 | D19: =SUM(D15:D18) -> 5385 | E19: =SUM(E15:E18) -> 2483 | F19: =E19/(D19+E19) -> 0.3155821 | G19: =SUM(G15:G18) -> 36
A20: Welle DC, Germany | B20: Core (Tape) Cisco | C20: =SUM(D20:E20) -> 96 | D20: =SUMIF('SAN Switch Inventory'!K178:K182,B20,'SAN Switch Inventory'!F178:F182) -> 35 | E20: =SUMIF('SAN Switch Inventory'!K178:K182,B20,'SAN Switch Inventory'!G178:G182) -> 61 | F20: =E20/(D20+E20) -> 0.63541667 | G20: =COUNTIF('SAN Switch Inventory'!K178:K182,B20) -> 2
A21: Welle DC, Germany | B21: Core SRDF Cisco | C21: =SUM(D21:E21) -> 108 | D21: =SUMIF('SAN Switch Inventory'!K178:K182,B21,'SAN Switch Inventory'!F178:F181) -> 32 | E21: =SUMIF('SAN Switch Inventory'!K178:K181,B21,'SAN Switch Inventory'!G178:G182) -> 76 | F21: =E21/(D21+E21) -> 0.7037037 | G21: =COUNTIF('SAN Switch Inventory'!K178:K182,B21) -> 2
A22: Total Site | C22: =SUM(C20:C21) -> 204 | D22: =SUM(D20:D21) -> 67 | E22: =SUM(E20:E21) -> 137 | F22: =E22/(D22+E22) -> 0.67156863 | G22: =SUM(G20:G21) -> 4
A23: Swiss DC Blwg, Switzerland | B23: Core (Tape) Cisco | C23: =SUM(D23:E23) -> 48 | D23: =SUMIF('SAN Switch Inventory'!K160:K163,B23,'SAN Switch Inventory'!F160:F163) -> 4 | E23: =SUMIF('SAN Switch Inventory'!K160:K163,B23,'SAN Switch Inventory'!G160:G163) -> 44 | F23: =E23/(D23+E23) -> 0.91666667 | G23: =COUNTIF('SAN Switch Inventory'!K160:K163,B23) -> 2
A24: Swiss DC Blwg, Switzerland | B24: Core (Disk) Cisco | C24: =SUM(D24:E24) -> 112 | D24: =SUMIF('SAN Switch Inventory'!K160:K163,B24,'SAN Switch Inventory'!F160:F163) -> 72 | E24: =SUMIF('SAN Switch Inventory'!K160:K163,B24,'SAN Switch Inventory'!G160:G163) -> 40 | F24: =E24/(D24+E24) -> 0.35714286 | G24: =COUNTIF('SAN Switch Inventory'!K160:K163,B24) -> 2
A25: Total Site | C25: =SUM(C23:C24) -> 160 | D25: =SUM(D23:D24) -> 76 | E25: =SUM(E23:E24) -> 84 | F25: =E25/(D25+E25) -> 0.525 | G25: =SUM(G23:G24) -> 4
A26: Swiss DC Colt, Switzerland | B26: Core (Tape) Cisco | C26: =SUM(D26:E26) -> 48 | D26: =SUMIF('SAN Switch Inventory'!K169:K172,B26,'SAN Switch Inventory'!F169:F172) -> 40 | E26: =SUMIF('SAN Switch Inventory'!K169:K172,B26,'SAN Switch Inventory'!G169:G172) -> 8 | F26: =E26/(D26+E26) -> 0.16666667 | G26: =COUNTIF('SAN Switch Inventory'!K169:K172,B26) -> 2
A27: Swiss DC Colt, Switzerland | B27: Core (Disk) Cisco | C27: =SUM(D27:E27) -> 74 | D27: =SUMIF('SAN Switch Inventory'!K169:K172,B27,'SAN Switch Inventory'!F169:F172) -> 66 | E27: =SUMIF('SAN Switch Inventory'!K168:K171,B27,'SAN Switch Inventory'!G168:G171) -> 8 | F27: =E27/(D27+E27) -> 0.10810811 | G27: =COUNTIF('SAN Switch Inventory'!K169:K172,B27) -> 2
A28: Total Site | C28: =SUM(C26:C27) -> 122 | D28: =SUM(D26:D27) -> 106 | E28: =SUM(E26:E27) -> 16 | F28: =E28/(D28+E28) -> 0.13114754 | G28: =SUM(G26:G27) -> 4
A29: Total All CTI Sites | C29: =SUMIF($A$5:$A$28,"Total Site",$C$5:$C$28) -> 18496 | D29: =SUMIF($A$5:$A$28,"Total Site",$D$5:$D$28) -> 11637 | E29: =SUMIF($A$5:$A$28,"Total Site",$E$5:$E$28) -> 6859 | F29: =E29/(D29+E29) -> 0.37083694 | G29: =SUMIF($A$5:$A$28,"Total Site",$G$5:$G$28) -> 106
J31: Region | K31: Vendor | L31: Port Capacity | M31: Switch#
J32: EMEA | K32: Cisco | L32: 18461 | M32: 106
K33: McData | L33: 0 | M33: 0
K34: Total | L34: =SUM(L32:L33) -> 18461 | M34: =SUM(M32:M33) -> 106

Sheet SAN Storage Inventory
A1: Citigroup Distributed Storage Inventory Report (EMEA) for Aug 2014
A2: Location | B2: Type | C2: Array | D2: Market | E2: formatted(S+D) | F2: format lost | G2: physical/Raid Total | H2: Parity Lost | I2: Usable | J2: Used | K2: free | L2: spare formatted | M2: Allocated | N2: Not in pool | O2: BCVs | P2: %Used | Q2: %allocated
A3: RDC | B3: DMX | C3: 290103452 | D3: 131725.58 | E3: 119750.52 | F3: 11975.052 | G3: 116409.63 | H3: 14551.204 | I3: 101858.43 | J3: 29681.799 | K3: 72176.626 | L3: 3340.8945 | M3: 29681.799 | P3: 0.29140249 | Q3: 0.29140249
A4: FDC | B4: DMX | C4: 290103544 | D4: 116387.55 | E4: 105806.86 | F4: 10580.686 | G4: 103048.49 | H4: 12881.061 | I4: 90167.427 | J4: 15245.209 | K4: 74922.218 | L4: 2758.375 | M4: 30490.418 | O4: 15245.209 | P4: 0.16907668 | Q4: 0.33815335
A5: FDC | B5: DMX | C5: 290103564 | D5: 135842.57 | E5: 123493.25 | F5: 12349.325 | G5: 120699.28 | H5: 15087.41 | I5: 105611.87 | J5: 14877.791 | K5: 90734.08 | L5: 2793.9648 | M5: 14877.791 | P5: 0.14087234 | Q5: 0.14087234
A6: RDC | B6: DMX | C6: 290103720 | D6: 72822.441 | E6: 66202.219 | F6: 6620.2219 | G6: 64549.566 | H6: 8068.6958 | I6: 56480.871 | J6: 3003.7559 | K6: 53477.115 | L6: 1652.6523 | M6: 3003.7559 | P6: 0.053181826 | Q6: 0.053181826
A7: FDC | B7: DMX | C7: 290103810 | D7: 145017.16 | E7: 131833.78 | F7: 13183.378 | G7: 128956.47 | H7: 16119.559 | I7: 112836.91 | J7: 474.98438 | K7: 112361.93 | L7: 2877.3125 | M7: 949.96875 | O7: 474.98438 | P7: 0.004209477 | Q7: 0.0084189539
A8: FDC | B8: DMX | C8: 290103943 | D8: 147521.34 | E8: 134110.31 | F8: 13411.031 | G8: 129639.97 | H8: 16204.996 | I8: 113434.97 | J8: 4455.002 | K8: 108979.97 | L8: 4470.3438 | M8: 4455.002 | P8: 0.039273619 | Q8: 0.039273619
A9: FDC | B9: DMX | C9: 290105349 | D9: 25193.97 | E9: 22903.609 | F9: 2290.3609 | G9: 20426.211 | H9: 2553.2764 | I9: 17872.935 | J9: 10018.175 | K9: 7854.7598 | L9: 2477.3984 | M9: 10018.175 | P9: 0.5605221 | Q9: 0.5605221
A10: Swiss | B10: Vmax | C10: 292602262 | D10: 75600 | E10: 68695 | F10: 6905 | G10: 63029.486 | H10: 7878.6857 | I10: 55150.8 | J10: 18460.3 | K10: 36690.5 | L10: 3271 | M10: 64062 | P10: 0.33472407 | Q10: 1.1615788
A11: Swiss | B11: Vmax | C11: 492600377 | D11: 46800 | E11: 42525 | F11: 4275 | G11: 37817.714 | H11: 4727.2143 | I11: 33090.5 | J11: 11982.5 | K11: 21108 | L11: 3271 | M11: 42584.4 | P11: 0.36211299 | Q11: 1.2869071
A12: RDC | B12: DMX | C12: 000290102819 | D12: 137686.59 | E12: 125169.62 | F12: 12516.963 | G12: 122655.06 | H12: 15331.882 | I12: 107323.17 | J12: 13689.211 | K12: 93633.964 | L12: 2514.5684 | M12: 13689.211 | P12: 0.1275513 | Q12: 0.1275513
A13: CGC | B13: DMX | C13: 000290102838 | D13: 72979.371 | E13: 66344.883 | F13: 6634.4883 | G13: 65096.496 | H13: 8137.062 | I13: 56959.434 | J13: 2193.9062 | K13: 54765.528 | L13: 1248.3867 | M13: 2193.9062 | P13: 0.038516995 | Q13: 0.038516995
A14: RDC | B14: DMX | C14: 000290102839 | D14: 72508.58 | E14: 65916.891 | F14: 6591.6891 | G14: 64811.168 | H14: 8101.396 | I14: 56709.772 | J14: 1081.1582 | K14: 55628.614 | L14: 1105.7227 | M14: 1081.1582 | P14: 0.01906476 | Q14: 0.01906476
A15: RDC | B15: DMX | C15: 000290105373 | D15: 68850 | E15: 63533.6 | F15: 5316.4 | G15: 60211.52 | H15: 7526.44 | I15: 52685.08 | J15: 1943.0361 | K15: 50742.044 | L15: 3322.08 | M15: 3886.0723 | O15: 1943.0361 | P15: 0.036880197 | Q15: 0.073760394
A16: RDC | B16: Vmax | C16: 000292600552 | D16: 202800 | E16: 184276.02 | F16: 18523.984 | G16: 172018.06 | H16: 21502.257 | I16: 150515.8 | J16: 85799.3 | K16: 64716.5 | L16: 3816.3672 | M16: 90934.2 | P16: 0.57003517 | Q16: 0.60415053
A17: CGC | B17: Vmax | C17: 000292600623 | D17: 340268 | E17: 304207.17 | F17: 36060.828 | G17: 285733.83 | H17: 35716.729 | I17: 250017.1 | J17: 75231 | K17: 174786.1 | L17: 8209.5469 | M17: 104840 | P17: 0.30090342 | Q17: 0.41933132
A18: RDC | B18: Vmax | C18: 000292600678 | D18: 243000 | E18: 220804.1 | F18: 22195.898 | G18: 207997.49 | H18: 25999.686 | I18: 181997.8 | J18: 129615.9 | K18: 52381.9 | L18: 4906.7578 | M18: 187467 | N18: 16.8438 | P18: 0.71218388 | Q18: 1.0300509
A19: CGC | B19: Vmax | C19: 000292600745 | D19: 202800 | E19: 184276.02 | F19: 18523.984 | G19: 172018.06 | H19: 21502.257 | I19: 150515.8 | J19: 86052.1 | K19: 64463.7 | L19: 3816.3672 | M19: 95013.9 | P19: 0.57171473 | Q19: 0.63125532
A20: FDC | B20: Vmax | C20: 000292600879 | D20: 257400 | E20: 233888.79 | F20: 23511.211 | G20: 220603.31 | H20: 27575.414 | I20: 193027.9 | J20: 102251.1 | K20: 90776.8 | L20: 4906.7578 | M20: 153000 | N20: 16.8438 | P20: 0.52972187 | Q20: 0.79263153
A21: RDC | B21: Vmax | C21: 000292602230 | D21: 227700 | E21: 206901.62 | F21: 20798.379 | G21: 197405.34 | H21: 25430.843 | I21: 171974.5 | J21: 110132.9 | K21: 61841.6 | L21: 4088.9648 | M21: 142734.9 | O21: 2055.9 | P21: 0.6404025 | Q21: 0.82997712
A22: FDC | B22: Vmax | C22: 000292602231 | D22: 367200 | E22: 333659.53 | F22: 33540.469 | G22: 315898.46 | H22: 39768.857 | I22: 276129.6 | J22: 202097.7 | K22: 74031.9 | L22: 6542.3438 | M22: 237622 | O22: 113755 | P22: 0.73189437 | Q22: 0.86054519
A23: FDC | B23: Vmax | C23: 000292602804 | D23: 118400 | E23: 107740.89 | F23: 10659.113 | G23: 95168.743 | H23: 12130.243 | I23: 83038.5 | J23: 59396.1 | K23: 23642.4 | L23: 3643.793 | M23: 115895 | N23: 4595.96 | O23: 0 | P23: 0.71528387 | Q23: 1.3956779
A24: FDC | B24: Vmax | C24: 000292603004 | D24: 597408 | E24: 527587.59 | F24: 69820.406 | G24: 500822.06 | H24: 62602.757 | I24: 438219.3 | J24: 210476 | K24: 227743.3 | L24: 10767.094 | M24: 354851 | O24: 0 | P24: 0.48029833 | Q24: 0.80975667
A25: RDC | B25: Vmax | C25: 000292603073 | D25: 531872 | E25: 470601.19 | F25: 61270.812 | G25: 445146.06 | H25: 55643.257 | I25: 389502.8 | J25: 218778.2 | K25: 170724.6 | L25: 10767.094 | M25: 427461 | O25: 0 | P25: 0.56168582 | Q25: 1.097453
A26: RDC | B26: Vmax | C26: 000292603286 | D26: 227300 | E26: 206693.84 | F26: 20606.164 | G26: 189712.97 | H26: 23948.271 | I26: 165764.7 | J26: 117740.9 | K26: 48023.8 | L26: 4461.5859 | M26: 226945 | N26: 4595.96 | O26: 115740 | P26: 0.71028934 | Q26: 1.3690792
A27: RDC | B27: Vmax | C27: 000292603696 | D27: 227100 | E27: 206507.53 | F27: 20592.475 | G27: 190337.57 | H27: 24260.571 | I27: 166077 | J27: 51318.8 | K27: 114758.2 | L27: 4275.2754 | M27: 105444.2 | N27: 4595.96 | O27: 58873.9 | P27: 0.30900606 | Q27: 0.63491152
A28: FDC | B28: Vmax | C28: 000292603875 | D28: 118400 | E28: 107740.89 | F28: 10659.113 | G28: 95793.343 | H28: 12442.543 | I28: 83350.8 | J28: 26524.9 | K28: 56825.9 | L28: 3643.793 | M28: 61685.9 | N28: 4595.96 | O28: 0 | P28: 0.3182321 | Q28: 0.74007568
A29: RDC | B29: Vmax | C29: 000292604330 | D29: 287100 | E29: 260875.96 | F29: 26224.043 | G29: 248032.2 | H29: 124016.1 | I29: 124016.1 | J29: 89462.1 | K29: 34554 | L29: 5724.5508 | M29: 174754.2 | O29: 28847.2 | P29: 0.72137489 | Q29: 1.4091251
A30: FDC | B30: Vmax | C30: 000292604652 | D30: 441000 | E30: 400718.55 | F30: 40281.445 | G30: 383226.2 | H30: 191613.1 | I30: 191613.1 | J30: 143826.5 | K30: 47786.6 | L30: 8177.9297 | M30: 246659 | O30: 104615 | P30: 0.75060891 | Q30: 1.2872763
A31: RDC | B31: Vmax | C31: 000295700347 | D31: 588456 | E31: 535316.42 | F31: 53139.582 | G31: 354223.73 | H31: 130153.43 | I31: 224070.3 | J31: 83012.3 | K31: 141058 | L31: 10868.48 | M31: 221301 | N31: 165000 | P31: 0.37047436 | Q31: 0.98764093
A32: FDC | B32: Vmax | C32: 000295700349 | D32: 588456 | E32: 535316.42 | F32: 53139.582 | G32: 427723.07 | H32: 165435.67 | I32: 262287.4 | J32: 180470.8 | K32: 81816.6 | L32: 10868.48 | M32: 340999 | N32: 165000 | P32: 0.68806508 | Q32: 1.3000968
A33: Poland | B33: Centera | C33: APM00120503066 | D33: 44002.2 | E33: 40002 | F33: 4000.2 | G33: 16625.143 | H33: 2078.1429 | I33: 14547 | J33: 14547 | K33: 0 | M33: 14547 | P33: 1 | Q33: 0.875
A34: Poland | B34: Centera | C34: APM00121102552 | D34: 64930.8 | E34: 59028 | F34: 5902.8 | G34: 55448 | H34: 6931 | I34: 48517 | J34: 48517 | K34: 0 | M34: 48517 | P34: 1 | Q34: 0.875
A35: Poland | B35: Centera | C35: APM00121204311 | D35: 86168.5 | E35: 78335 | F35: 7833.5 | G35: 58121.143 | H35: 7265.1429 | I35: 50856 | J35: 50856 | K35: 0 | M35: 50856 | P35: 1 | Q35: 0.875
A36: Poland | B36: Centera | C36: APM00121204573 | D36: 44003.3 | E36: 40003 | F36: 4000.3 | G36: 16627.429 | H36: 2078.4286 | I36: 14549 | J36: 14549 | K36: 0 | M36: 14549 | P36: 1 | Q36: 0.875
A37: Swiss | B37: Centera | C37: CK200053010120 | D37: 50688 | E37: 46080 | F37: 4608 | G37: 15213.714 | H37: 1901.7143 | I37: 13312 | J37: 13312 | K37: 0 | M37: 13312 | P37: 1 | Q37: 0.875
A38: Swiss | B38: Centera | C38: CK200054900163 | D38: 50688 | E38: 46080 | F38: 4608 | G38: 19894.857 | H38: 2486.8571 | I38: 17408 | J38: 17408 | K38: 0 | M38: 17408 | P38: 1 | Q38: 0.875
A39: Turkey DC | B39: Centera | C39: CK200054900292 | D39: 55559.9 | E39: 50509 | F39: 5050.9 | G39: 54083.429 | H39: 6760.4286 | I39: 47323 | J39: 47323 | K39: 0 | M39: 47323 | P39: 1 | Q39: 0.875
A40: Turkey DC | B40: Centera | C40: CK200054900294 | D40: 54818.5 | E40: 49835 | F40: 4983.5 | G40: 46635.429 | H40: 5829.4286 | I40: 40806 | J40: 40806 | K40: 0 | M40: 40806 | P40: 1 | Q40: 0.875
A41: FDC | B41: Centera | C41: CK200061900265 | D41: 272923.2 | E41: 248112 | F41: 24811.2 | G41: 176107.43 | H41: 22013.429 | I41: 154094 | J41: 154094 | K41: 0 | M41: 154094 | P41: 1 | Q41: 0.875
A42: RDC | B42: Centera | C42: CK200061900567 | D42: 269577 | E42: 245070 | F42: 24507 | G42: 176035.43 | H42: 22004.429 | I42: 154031 | J42: 154031 | K42: 0 | M42: 154031 | P42: 1 | Q42: 0.875
A43: FDC | B43: Centera | C43: CK200062000592 | D43: 109422.5 | E43: 99475 | F43: 9947.5 | G43: 82211.429 | H43: 10276.429 | I43: 71935 | J43: 71935 | K43: 0 | M43: 71935 | P43: 1 | Q43: 0.875
A44: RDC | B44: Centera | C44: CK200062000593 | D44: 116045.6 | E44: 105496 | F44: 10549.6 | G44: 85177.143 | H44: 10647.143 | I44: 74530 | J44: 74530 | K44: 0 | M44: 74530 | P44: 1 | Q44: 0.875
... A46: FDC | B46: Centera | C46: CK200113804159 | D46: 28164.4 | E46: 25604 | F46: 2560.4 | G46: 9387.4286 | H46: 1173.4286 | I46: 8214 | J46: 8214 | K46: 0 | M46: 8214 | P46: 1 | Q46: 0.875
A47: RDC | B47: Clariion | C47: CKM00101000576 | D47: 20876.676 | E47: 18978.796 | F47: 1897.8796 | G47: 18978.796 | H47: 8964 | I47: 10014.796 | J47: 10014.796 | K47: 0 | L47: 1050.7964 | M47: 10014.796 | P47: 1 | Q47: 0.52768343
A48: RDC | B48: VNX | C48: CKM00121201737 | D48: 922300 | E48: 838454.76 | F48: 83845.239 | G48: 769906 | H48: 350387 | I48: 419519 | J48: 419519 | K48: 0 | M48: 419519 | N48: 68548.764 | P48: 1 | Q48: 0.54489639
A49: RDC | B49: VNX | C49: CKM00121300390 | D49: 922300 | E49: 838454.76 | F49: 83845.239 | G49: 769906 | H49: 350387 | I49: 419519 | J49: 419519 | K49: 0 | M49: 419519 | N49: 68548.764 | P49: 1 | Q49: 0.54489639
A50: FDC | B50: VNX | C50: CKM00121400374 | D50: 583722.2 | E50: 530656.54 | F50: 53065.654 | G50: 436644.25 | H50: 183005.25 | I50: 253639 | J50: 253639 | K50: 0 | M50: 253639 | N50: 94010.275 | P50: 1 | Q50: 0.58088249
A51: FDC | B51: VNX | C51: CKM00121400375 | D51: 472031.98 | E51: 429119.99 | F51: 42911.999 | G51: 293078.14 | H51: 114910.14 | I51: 178168 | J51: 178168 | K51: 0 | M51: 178168 | N51: 136039.83 | P51: 1 | Q51: 0.60791979
A52: FDC | B52: HDS | C52: DEOLH002R8779 | D52: 159412 | E52: 145064.92 | F52: 14347.08 | G52: 108402.81 | H52: 13550.351 | I52: 94852.46 | J52: 80800.56 | K52: 14051.9 | L52: 2449.72 | M52: 33215.71 | N52: 31000 | P52: 0.85185519 | Q52: 0.30641004
A53: FDC | B53: HDS | C53: DEOLH003R8398 | D53: 247956 | E53: 225639.96 | F53: 22316.04 | G53: 160967.2 | H53: 20120.9 | I53: 140846.3 | J53: 75567.85 | K53: 65278.45 | L53: 4080.44 | M53: 85118.05 | N53: 69890.587 | P53: 0.53652705 | Q53: 0.60433288
A54: FDC | B54: HDS | C54: DEOLH004N7026 | D54: 270000 | E54: 245700 | F54: 24300 | G54: 240489.37 | H54: 30061.171 | I54: 210428.2 | J54: 95598.52 | K54: 114829.68 | L54: 1092 | M54: 251166.92 | P54: 0.4543047 | Q54: 1.1935991
A55: FDC | B55: HDS | C55: DEOLH005N0365 | D55: 260400 | E55: 236964 | F55: 23436 | G55: 231894.87 | H55: 28986.859 | I55: 202908.01 | J55: 142106.9 | K55: 60801.11 | L55: 1092 | M55: 214062.09 | P55: 0.70035136 | Q55: 1.0549711
A56: FDC | B56: HDS | C56: DEOLH010N0516 | D56: 58800 | E56: 53508 | F56: 5292 | G56: 51533.533 | H56: 12883.383 | I56: 38650.15 | J56: 5274.27 | K56: 33375.88 | L56: 1092 | M56: 8631.76 | P56: 0.13646182 | Q56: 0.22333057
A57: FDC | B57: Clariion | C57: FCNMM111100069 | D57: 4078.9051 | E57: 3976.191 | F57: 102.71403 | G57: 3708.0955 | H57: 1720 | I57: 1988.0955 | J57: 1720 | K57: 268.09552 | L57: 268.09552 | M57: 1720 | P57: 0.86514958 | Q57: 0.86514958
A58: RDC | B58: Clariion | C58: FCNMM111600082 | D58: 4078.9051 | E58: 3976.191 | F58: 102.71403 | G58: 3708.0955 | H58: 1720 | I58: 1988.0955 | J58: 1720 | K58: 268.09552 | L58: 268.09552 | M58: 1720 | P58: 0.86514958 | Q58: 0.46384997
A59: Russia DC | B59: Clariion | C59: FCNMM113000103 | D59: 8847.1453 | E59: 8042.8594 | F59: 804.28594 | G59: 8042.8594 | H59: 4021.4297 | I59: 4021.4297 | J59: 4021.4297 | K59: 0 | M59: 4021.4297 | P59: 1 | Q59: 0.5
A60: Russia DC | B60: Clariion | C60: FCNMM113000127 | D60: 8847.1453 | E60: 8042.8594 | F60: 804.28594 | G60: 8042.8594 | H60: 4021.4297 | I60: 4021.4297 | J60: 4021.4297 | K60: 0 | M60: 4021.4297 | P60: 1 | Q60: 0.5
A61: RDC | B61: HDS | C61: GBOKH002R8850 | D61: 211912 | E61: 192839.92 | F61: 19072.08 | G61: 122902.09 | H61: 15362.761 | I61: 107539.33 | J61: 51046.02 | K61: 56493.31 | L61: 2176.72 | M61: 43888.44 | N61: 61000 | P61: 0.47467303 | Q61: 0.35710084
A62: RDC | B62: HDS | C62: GBOKH003R8378 | D62: 85964 | E62: 78227.24 | F62: 7736.76 | G62: 53680.754 | H62: 6710.0943 | I62: 46970.66 | J62: 17882.07 | K62: 29088.59 | L62: 1903.72 | M62: 18649.57 | N62: 21000 | P62: 0.38070723 | Q62: 0.34741632
A63: RDC | B63: HDS | C63: GBOKH004N8998 | D63: 270300 | E63: 245973 | F63: 24327 | G63: 190370.08 | H63: 47592.52 | I63: 142777.56 | J63: 115496.43 | K63: 27281.13 | L63: 3549 | M63: 79420.44 | N63: 51000 | P63: 0.80892565 | Q63: 0.41718972
A64: RDC | B64: HDS | C64: GBOKH005N3518 | D64: 324000 | E64: 294840 | F64: 29160 | G64: 285077.29 | H64: 35634.661 | I64: 249442.63 | J64: 118439.78 | K64: 162805 | L64: 6552 | M64: 199926.06 | P64: 0.47481772 | Q64: 0.70130475
A65: RDC | B65: HDS | C65: GBOKH006N5362 | D65: 221700 | E65: 201747 | F65: 19953 | G65: 197544.85 | H65: 24693.106 | I65: 172851.74 | J65: 101248.57 | K65: 71603.17 | L65: 819 | M65: 197478.76 | P65: 0.58575384 | Q65: 0.99966546
A66: RDC | B66: HDS | C66: GBOKH010N0204 | D66: 58800 | E66: 53508 | F66: 5292 | G66: 51533.533 | H66: 12883.383 | I66: 38650.15 | J66: 28639.22 | K66: 10010.93 | L66: 1092 | M66: 34963.07 | P66: 0.740986 | Q66: 0.6784528
A67: CGC | B67: HDS | C67: GBOQH010N0214 | D67: 102000 | E67: 92820 | F67: 9180 | G67: 85486.606 | H67: 10685.826 | I67: 74800.78 | J67: 51729.47 | K67: 23071.31 | L67: 5460 | M67: 57217.97 | P67: 0.69156324 | Q67: 0.66932088
A68: Turkey DC | B68: Clariion | C68: SL7E1093200048 | D68: 3962.2 | E68: 3602 | F68: 360.2 | G68: 3602 | H68: 1801 | I68: 1801 | J68: 1801 | K68: 0 | M68: 1801 | P68: 1 | Q68: 0.5
A69: Russia DC | B69: Clariion | C69: SL7E9101300054 | D69: 23002.583 | E69: 20911.439 | F69: 2091.1439 | G69: 20911.439 | H69: 10455.72 | I69: 10455.72 | J69: 10455.72 | K69: 0 | M69: 10455.72 | P69: 1 | Q69: 0.5
A70: Russia DC | B70: Clariion | C70: SL7E9101300062 | D70: 23002.583 | E70: 20911.439 | F70: 2091.1439 | G70: 20911.439 | H70: 10455.72 | I70: 10455.72 | J70: 10455.72 | K70: 0 | M70: 10455.72 | P70: 1 | Q70: 0.5
A71: FDC | B71: Clariion | C71: SL7EA101700033 | D71: 7862.9051 | E71: 7416.191 | F71: 446.71403 | G71: 7148.0955 | H71: 3440 | I71: 3708.0955 | J71: 3602 | K71: 106.09552 | L71: 268.09552 | M71: 3602 | P71: 0.97138814 | Q71: 0.97138814
A72: FDC | B72: Clariion | C72: SL7EA101700039 | D72: 7862.9051 | E72: 7416.191 | F72: 446.71403 | G72: 7148.0955 | H72: 3440 | I72: 3708.0955 | J72: 3602 | K72: 106.09552 | L72: 268.09552 | M72: 3602 | P72: 0.97138814 | Q72: 0.97138814
A73: RDC | B73: Clariion | C73: SL7EA102100006 | D73: 7862.9051 | E73: 7416.191 | F73: 446.71403 | G73: 7148.0955 | H73: 3440 | I73: 3708.0955 | J73: 3440 | K73: 268.09552 | L73: 268.09552 | M73: 3440 | P73: 0.92769994 | Q73: 0.92769994
A74: RDC | B74: Clariion | C74: SL7EA102100007 | D74: 7645.6551 | E74: 7218.691 | F74: 426.96403 | G74: 6950.5955 | H74: 3242.5 | I74: 3708.0955 | J74: 3708.0955 | K74: 0 | L74: 268.09552 | M74: 3708.0955 | P74: 1 | Q74: 1
A75: FDC | B75: Vmax | C75: 000295700667 | D75: 235200 | E75: 213716.56 | F75: 21483.438 | G75: 200645.2 | H75: 98451.1 | I75: 102194.1 | J75: 15332.9 | K75: 86861.2 | L75: 4361.5625 | M75: 63151.7 | P75: 0.15003704 | Q75: 0.61795838
A76: RDC | B76: Vmax | C76: 000295700671 | D76: 480000 | E76: 436156.25 | F76: 43843.75 | G76: 415239 | H76: 205748 | I76: 209491 | J76: 30665.5 | K76: 178825.5 | L76: 8723.125 | M76: 127366 | O76: 64214.3 | P76: 0.14638099 | Q76: 0.60797839
A77: FDC | B77: Vmax | C77: 000295700710 | D77: 480000 | E77: 436156.25 | F77: 43843.75 | G77: 415239 | H77: 205748 | I77: 209491 | J77: 50061.9 | K77: 159429.1 | L77: 8723.125 | M77: 98388.3 | O77: 52172 | P77: 0.23896922 | Q77: 0.46965407
A78: RDC | B78: Vmax | C78: 000295700689 | D78: 235200 | E78: 213716.56 | F78: 21483.438 | G78: 200645.2 | H78: 98451.1 | I78: 102194.1 | J78: 25486.9 | K78: 76707.2 | L78: 4361.5625 | M78: 46251.1 | P78: 0.24939698 | Q78: 0.23051187
A79: FDC | B79: XIV | C79: 7861188 | D79: 518000 | E79: 502914 | F79: 50291 | G79: 461004 | H79: 236571 | I79: 224433 | J79: 0 | K79: 224433 | M79: 0 | P79: 0 | Q79: 0
A80: RDC | B80: XIV | C80: 7861239 | D80: 518000 | E80: 502914 | F80: 50291 | G80: 461004 | H80: 236571 | I80: 224433 | J80: 0 | K80: 224433 | M80: 0 | P80: 0 | Q80: 0
A81: FDC | B81: Vmax | C81: 000295700712 | D81: 480000 | E81: 436156.25 | F81: 43843.75 | G81: 415239 | H81: 205748 | I81: 209491 | J81: 12426.2 | K81: 197064.8 | L81: 8723.125 | M81: 82833.6 | O81: 51369.3 | P81: 0.059316152 | Q81: 0.19948415
A82: RDC | B82: Vmax | C82: 000295700706 | D82: 235200 | E82: 213716.56 | F82: 21483.438 | G82: 200645.2 | H82: 98451.1 | I82: 102194.1 | J82: 6214 | K82: 95980.1 | L82: 4361.5625 | M82: 31464.3 | P82: 0.060805859 | Q82: 0.15681561
A83: FDC | B83: Vmax | C83: 000295700709 | D83: 587800 | E83: 541278.67 | F83: 46521.332 | G83: 516508 | H83: 187816.4 | I83: 328691.6 | J83: 51283.9 | K83: 277407.7 | L83: 10868.48 | M83: 180429 | P83: 0.15602437 | Q83: 0.3493247
A84: FDC | B84: Vmax | C84: 000295700713 | D84: 431200 | E84: 392263.38 | F84: 38936.625 | G84: 372932.87 | H84: 182064.07 | I84: 190868.8 | J84: 4.9 | K84: 190863.9 | L84: 8005.375 | M84: 0 | P84: 2.5672085e-05 | Q84: 0
A85: RDC | B85: Vmax | C85: 000295700704 | D85: 405400 | E85: 373152.69 | F85: 32247.312 | G85: 354223.73 | H85: 130153.43 | I85: 224070.3 | J85: 8982.4 | K85: 215087.9 | L85: 7915.0625 | M85: 36967.4 | P85: 0.040087419 | Q85: 0.10436173
A86: RDC | B86: Vmax | C86: 000295700688 | D86: 362400 | E86: 329297.97 | F86: 33102.031 | G86: 312384 | H86: 156192 | I86: 156192 | J86: 5715.5 | K86: 150476.5 | L86: 6542.3438 | M86: 6612.7 | P86: 0.036592783 | Q86: 0.021168498
A87: CGC | B87: Vmax | C87: 000295700703 | D87: 405400 | E87: 373152.69 | F87: 32247.312 | G87: 354223.73 | H87: 130153.43 | I87: 224070.3 | J87: 54940.4 | K87: 169129.9 | L87: 7915.0625 | M87: 68412.5 | P87: 0.24519269 | Q87: 0.19313359
A88: CGC | B88: Vmax | C88: 000295700705 | D88: 362400 | E88: 329297.97 | F88: 33102.031 | G88: 312384 | H88: 156192 | I88: 156192 | J88: 5715.5 | K88: 150476.5 | L88: 6542.3438 | M88: 6608.49 | P88: 0.036592783 | Q88: 0.021155021
A89: RDC | B89: Vmax | C89: 000295700699 | D89: 405400 | E89: 373152.69 | F89: 32247.312 | G89: 354223.73 | H89: 130153.43 | I89: 224070.3 | J89: 4.9 | K89: 224065.4 | L89: 7915.0625 | M89: 0 | P89: 2.1868137e-05 | Q89: 0
C90: Grand Total | D90: 19531870 | E90: 17811092 | F90: 1791188.6 | G90: 15927758 | H90: 5011987.1 | I90: 10915771 | J90: 5293617.2 | K90: 5653955.9 | L90: 273564.64 | M90: 7524464.1 | N90: 949455.75 | O90: 609305.83 | P90: 0.48495129 | Q90: 0.472412

Sheet SAN Switch Inventory
B1: Citigroup Distributed Fibre Switch Inventory (EMEA) for Sept 2014
B2: Citigroup Centre DC
B3: Cisco | F3: Capacity
B4: Switch Name | C4: Frame Model | D4: Code Level | E4: Serial Number | F4: Used Ports | G4: Free Ports | H4: Percent Free | I4: Not Installed | J4: Switch Capacity | K4: Comments
B5: cmdscgc1-ct-01 | C5: DS-C9513 | D5: 5.2(8b) | E5: FOX1205GAHN | F5: 16 | G5: 32 | H5: 0.66666667 | I5: 0 | J5: 48 | K5: Core (Tape) Cisco | L5: 390-c-11 | M5: 1
B6: cmdscgc1-dg-01 | C6: DS-C9513 | D6: 5.2(8b) | E6: FOX1202H3PG | F6: 16 | G6: 32 | H6: 0.66666667 | I6: 0 | J6: 48 | K6: Core (Tape) Cisco | L6: 390-c-11 | M6: 1
B7: cmdscgc1-jd-01 | C7: DS-C9513 | D7: 5.2(8b) | E7: FOX1330G5AC | F7: 91 | G7: 113 | H7: 0.55392157 | I7: 0 | J7: 204 | K7: Core (Disk) Cisco | L7: 390-e-11 | M7: 1
B8: cmdscgc1-rb-01 | C8: DS-C9513 | D8: 5.2(8b) | E8: FOX1329GR3T | F8: 91 | G8: 113 | H8: 0.55392157 | I8: 0 | J8: 204 | K8: Core (Disk) Cisco | L8: 390-e-11 | M8: 1
B9: emdscgc1-jd-03 | C9: DS-C9513 | D9: 5.2(8b) | E9: FOX1331GYC3 | F9: 153 | G9: 39 | H9: 0.203125 | I9: 0 | J9: 192 | K9: Edge (Disk) Cisco | L9: 390-e-11 | M9: 1
B10: emdscgc1-jd-04 | C10: DS-C9513 | D10: 5.2(8b) | E10: FOX1323G9E1 | F10: 32 | G10: 160 | H10: 0.83333333 | I10: 0 | J10: 192 | K10: Edge (Disk) Cisco | L10: 390-e-11 | M10: 1
B11: emdscgc1-jd-05 | C11: DS-C9513 | D11: 5.2(8b) | E11: FOX1329GR3G | F11: 31 | G11: 233 | H11: 0.88257576 | I11: 0 | J11: 264 | K11: Edge (Disk) Cisco | L11: 390-c-11 | M11: 1
B12: emdscgc1-rb-03 | C12: DS-C9513 | D12: 5.2(8b) | E12: FOX1323G9EW | F12: 154 | G12: 38 | H12: 0.19791667 | I12: 0 | J12: 192 | K12: Edge (Disk) Cisco | L12: 390-c-11 | M12: 1
B13: emdscgc1-rb-04 | C13: DS-C9513 | D13: 5.2(8b) | E13: FOX1331GYC8 | F13: 32 | G13: 160 | H13: 0.83333333 | I13: 0 | J13: 192 | K13: Edge (Disk) Cisco
B14: emdscgc1-rb-05 | C14: DS-C9513 | D14: 5.2(8b) | E14: FOX1331GYBH | F14: 31 | G14: 233 | H14: 0.88257576 | I14: 0 | J14: 264 | K14: Edge (Disk) Cisco
B15: rmdscgc1-gl-01 | C15: DS-C9509 | D15: 5.2(2a) | E15: FOX1210GT0F | F15: 10 | G15: 62 | H15: 0.86111111 | I15: 0 | J15: 72 | K15: Core SRDF Cisco
B16: rmdscgc1-sl-01 | C16: DS-C9509 | D16: 5.2(2a) | E16: FOX1212GP09 | F16: 10 | G16: 62 | H16: 0.86111111 | I16: 0 | J16: 72 | K16: Core SRDF Cisco
B17: McData | F17: Capacity | K17: Comments
B18: SW01C_CORE_RED_CGC1 | C18: ED-140M | D18: 09.09.07 2 | E18: MC5IN02563 | F18: 36 | G18: 91 | H18: 0.71653543 | I18: 0 | J18: 127 | K18: Decom | L18: 390-c-13 | M18: 1
B19: SW02C_CORE_BLUE_CGC1 | C19: ED-140M | D19: 09.09.07 2 | E19: MC5IN02565 | F19: 36 | G19: 72 | H19: 0.66666667 | I19: 0 | J19: 108 | K19: Decom | L19: 390-e-13 | M19: 1
B20: SW25C_EDGE_RED_CGC2 | C20: ED-140M | D20: 09.09.07 2 | E20: MC5IN01485 | F20: 26 | G20: 114 | H20: 0.81428571 | I20: 0 | J20: 140 | K20: Decom | L20: 390-e-13 | M20: 1
B21: SW26C_EDGE_BLUE_CGC | C21: ED-140M | D21: 09.09.07 2 | E21: MC5IN01482 | F21: 26 | G21: 113 | H21: 0.81294964 | I21: 0 | J21: 139 | K21: Decom | L21: 390-e-13 | M21: 1
B22: SW91C_SRDF_GREEN_CDC1 | C22: ED-64M | D22: 09.09.07 2 | E22: SW91C_SRDF | I22: 0 | K22: Decom | L22: 390-e-13 | M22: 1
B23: SW92C_SRDF_BLACK_CGC1 | C23: ED-64M | D23: 09.09.07 2 | E23: SW92C_SRDF | I23: 0 | K23: Decom | L23: 390-c-13 | M23: 1
B24: SW93C_SRDF_GREEN_CGC2 | C24: ED-64M | D24: 09.09.07 2 | E24: SW93C_SRDF | I24: 0 | K24: Decom | L24: 390-c-13 | M24: 1
B25: SW94C_SRDF_BLACK_CGC2 | C25: ED-64M | D25: 09.09.07 2 | E25: SW94C_SRDF | I25: 0 | K25: Decom | L25: 390-e-13 | M25: 1
B28: Riverdale DC
B29: Cisco | F29: Capacity
B30: Switch Name | C30: Frame Model | D30: Code Level | E30: Serial Number | F30: Used Ports | G30: Free Ports | H30: Percent Free | I30: Not Installed | J30: Switch Capacity | K30: Comments
B31: cmdsrdc3-ct-01 | C31: DS-C9513 | D31: 5.2(8b) | E31: FOX1150H4XB | F31: 118 | G31: 14 | H31: 0.10606061 | I31: 0 | J31: 132 | K31: Core (Tape) Cisco
B32: cmdsrdc3-dg-01 | C32: DS-C9513 | D32: 5.2(8b) | E32: FOX1152HDFX | F32: 119 | G32: 13 | H32: 0.098484848 | I32: 0 | J32: 132 | K32: Core (Tape) Cisco
B33: cmdsrdc4-jd-01 | C33: DS-C9513 | D33: 5.2(8b) | E33: FOX1202H3PN | F33: 112 | G33: 8 | H33: 0.066666667 | I33: 0 | J33: 120 | K33: Core SRDF Cisco
B34: cmdsrdc4-jd-02 | C34: DS-C9513 | D34: 5.2(8b) | E34: FOX1150H529 | F34: 116 | G34: 4 | H34: 0.033333333 | I34: 0 | J34: 120 | K34: Core SRDF Cisco
B35: cmdsrdc4-jd-11 | C35: DS-C9513 | D35: 5.2(8b) | E35: FOX1521H7SD | F35: 236 | G35: 68 | H35: 0.22368421 | I35: 0 | J35: 304 | K35: Core (Disk) Cisco
B36: cmdsrdc4-jd-14 | C36: DS-C9513 | D36: 5.2(8b) | E36: FOX1545GUCQ | F36: 80 | G36: 240 | H36: 0.75 | I36: 0 | J36: 320 | K36: Core (Disk) Cisco
B37: cmdsrdc4-rb-01 | C37: DS-C9513 | D37: 5.2(8b) | E37: FOX1202H3NR | F37: 111 | G37: 21 | H37: 0.15909091 | I37: 0 | J37: 132 | K37: Core (Disk) Cisco
B38: cmdsrdc4-rb-02 | C38: DS-C9513 | D38: 5.2(8b) | E38: FOX1202H3N8 | F38: 115 | G38: 17 | H38: 0.12878788 | I38: 0 | J38: 132 | K38: Core (Disk) Cisco
B39: cmdsrdc4-rb-11 | C39: DS-C9513 | D39: 5.2(8b) | E39: FOX1523GLLE | F39: 236 | G39: 68 | H39: 0.22368421 | I39: 0 | J39: 304 | K39: Core (Disk) Cisco
B40: cmdsrdc4-rb-14 | C40: DS-C9513 | D40: 5.2(8b) | E40: FOX1545GUCC | F40: 80 | G40: 239 | H40: 0.746875 | I40: 1 | J40: 320 | K40: Core (Disk) Cisco
B41: emdsrdc1-jd-06 | C41: DS-C9513 | D41: 5.2(8b) | E41: FOX1227GSWP | F41: 108 | G41: 76 | H41: 0.41304348 | I41: 0 | J41: 184 | K41: Edge (Disk) Cisco
B42: emdsrdc1-rb-06 | C42: DS-C9513 | D42: 5.2(8b) | E42: FOX1228GRAY | F42: 107 | G42: 77 | H42: 0.41847826 | I42: 0 | J42: 184 | K42: Edge (Disk) Cisco
... B76: GBKCD01BE21 | C76: DS-C9148 | D76: 5.2(8d) | E76: AMS17510172 | F76: 8 | G76: 40 | H76: 0.83333333 | I76: 0 | J76: 48 | K76: Edge (Disk) Cisco
B84: McData | F84: Capacity | K84: Comments
B85: SW01R_CORE_RED_RDC1 | C85: ED-140M | D85: 09.09.07 2 | E85: MC5IN03437 | F85: 52 | G85: 44 | H85: 0.45833333 | I85: 0 | J85: 96 | K85: Decom
B86: SW02R_CORE_BLUE_RDC1 | C86: ED-140M | D86: 09.09.07 2 | E86: MC5IN03434 | F86: 51 | G86: 45 | H86: 0.46875 | I86: 0 | J86: 96 | K86: Decom
B87: SW03R_EDGE_RED_RDC1 | C87: ED-140M | D87: 09.09.07 2 | E87: MC5IN03438 | F87: 36 | G87: 68 | H87: 0.65384615 | I87: 0 | J87: 104 | K87: Decom
B88: SW04R_EDGE_BLUE_RDC1 | C88: ED-140M | D88: 09.09.07 2 | E88: MC5IN03435 | F88: 36 | G88: 68 | H88: 0.65384615 | I88: 0 | J88: 104 | K88: Decom
B89: SW05R_EDGE_RED_RDC1 | C89: ED-140M | D89: 09.09.07 2 | E89: MC5IN03439 | F89: 19 | G89: 85 | H89: 0.81730769 | I89: 0 | J89: 104 | K89: Decom
B90: SW06R_EDGE_BLUE_RDC1 | C90: ED-140M | D90: 09.09.07 2 | E90: MC5IN03436 | F90: 18 | G90: 86 | H90: 0.82692308 | I90: 0 | J90: 104 | K90: Decom
B91: SW15R_CORE_RED_RDC4 | C91: ED-140M | D91: 09.09.07 2 | E91: MC5IN02561 | F91: 105 | G91: 35 | H91: 0.25 | I91: 0 | J91: 140 | K91: Decom
B92: SW16R_CORE_BLUE_RDC4 | C92: ED-140M | D92: 09.09.07 2 | E92: MC5IN02566 | F92: 88 | G92: 52 | H92: 0.37142857 | I92: 0 | J92: 140 | K92: Decom
B93: SW23R_EDGE_RED_RDC4 | C93: ED-140M | D93: 09.09.07 2 | E93: MC5IN04319 | F93: 16 | G93: 124 | H93: 0.88571429 | I93: 0 | J93: 140 | K93: Decom
B94: SW24R_EDGE_BLUE_RDC4 | C94: ED-140M | D94: 09.09.07 2 | E94: MC5IN04320 | F94: 17 | G94: 123 | H94: 0.87857143 | I94: 0 | J94: 140 | K94: Decom
B95: SW25R_CORE_RED_RDC4 | C95: ED-140M | D95: 09.09.07 2 | E95: MC5IN04503 | F95: 119 | G95: 21 | H95: 0.15 | I95: 0 | J95: 140 | K95: Decom
B96: SW26R_CORE_BLUE_RDC4 | C96: ED-140M | D96: 09.09.07 2 | E96: MC5IN04504 | F96: 131 | G96: 9 | H96: 0.064285714 | I96: 0 | J96: 140 | K96: Decom
... B102: SW32R_EDGE_BLUE_RDC4 | C102: ED-140M | D102: 09.09.07 2 | E102: MC5I05871N | F102: 16 | G102: 112 | H102: 0.875 | I102: 0 | J102: 128 | K102: Decom
B103: SW91R_SRDF_GREEN_RDC1 | C103: ED-64M | D103: 09.09.07 2 | E103: SW91R_SRDF | I103: 0 | K103: Decom
B104: SW92R_SRDF_BLACK_RDC1 | C104: ED-64M | D104: 09.09.07 2 | E104: SW92R_SRDF | I104: 0 | K104: Decom
B105: SW93R_SRDF_GREEN_RDC4 | C105: ED-64M | D105: 09.09.07 2 | E105: SW93R_SRDF | I105: 0 | K105: Decom
B106: SW94R_SRDF_BLACK_RDC4 | C106: ED-64M | D106: 09.09.07 2 | E106: SW94R_SRDF | I106: 0 | K106: Decom
B109: Frankfurt DC
B110: Cisco | F110: Capacity
B111: Switch Name | C111: Frame Model | D111: Code Level | E111: Serial Number | F111: Used Ports | G111: Free Ports | H111: Percent Free | I111: Not Installed | J111: Switch Capacity | K111: Comments
B112: cmdsfdc1a-jd-01 | C112: DS-C9513 | D112: 5.2(8b) | E112: FOX1205GAK0 | F112: 127 | G112: 17 | H112: 0.11805556 | I112: 0 | J112: 144 | K112: Core (Disk) Cisco
B113: cmdsfdc1a-jd-02 | C113: DS-C9513 | D113: 5.2(8b) | E113: FOX1202H3NV | F113: 128 | G113: 16 | H113: 0.11111111 | I113: 0 | J113: 144 | K113: Core (Disk) Cisco
B114: cmdsfdc1a-jd-09 | C114: DS-C9513 | D114: 5.2(8b) | E114: FOX1303GF5Z | F114: 113 | G114: 19 | H114: 0.14393939 | I114: 0 | J114: 132 | K114: Core (Disk) Cisco
B115: cmdsfdc1a-jd-12 | C115: DS-C9513 | D115: 5.2(8b) | E115: FOX1524GQF5 | F115: 78 | G115: 66 | H115: 0.45833333 | I115: 0 | J115: 144 | K115: Core (Disk) Cisco
B116: cmdsfdc1a-rb-01 | C116: DS-C9513 | D116: 5.2(8b) | E116: FOX1205H322 | F116: 127 | G116: 16 | H116: 0.11111111 | I116: 1 | J116: 144 | K116: Core (Disk) Cisco
B117: cmdsfdc1a-rb-02 | C117: DS-C9513 | D117: 5.2(8b) | E117: FOX1150H51Y | F117: 128 | G117: 16 | H117: 0.11111111 | I117: 0 | J117: 144 | K117: Core (Disk) Cisco
B118: cmdsfdc1a-rb-09 | C118: DS-C9513 | D118: 5.2(8b) | E118: FOX1249GKZD | F118: 112 | G118: 20 | H118: 0.15151515 | I118: 0 | J118: 132 | K118: Core (Disk) Cisco
B119: cmdsfdc1a-rb-12 | C119: DS-C9513 | D119: 5.2(8b) | E119: FOX1523GLMS | F119: 78 | G119: 66 | H119: 0.45833333 | I119: 0 | J119: 144 | K119: Core (Disk) Cisco
B120: cmdsfdc1b-ct-01 | C120: DS-C9513 | D120: 5.2(8b) | E120: FOX1202H3N1 | F120: 108 | G120: 12 | H120: 0.1 | I120: 0 | J120: 120 | K120: Core (Tape) Cisco
B121: cmdsfdc1b-dg-01 | C121: DS-C9513 | D121: 5.2(8b) | E121: FOX1123078E | F121: 107 | G121: 13 | H121: 0.10833333 | I121: 0 | J121: 120 | K121: Core (Tape) Cisco
B122: cmdsfdc1b-jd-15 | C122: DS-C9513 | D122: 5.2(8b) | E122: FOX1549G4GB | F122: 199 | G122: 153 | H122: 0.43465909 | I122: 0 | J122: 352 | K122: Core (Disk) Cisco
B123: cmdsfdc1b-rb-15 | C123: DS-C9513 | D123: 5.2(8b) | E123: FOX1543GCE5 | F123: 200 | G123: 152 | H123: 0.43181818 | I123: 0 | J123: 352 | K123: Core (Disk) Cisco
... B147: rmdsfdc1a-sl-01 | C147: DS-C9513 | D147: 5.2(2a) | E147: FOX1205GAKG | F147: 61 | G147: 119 | H147: 0.66111111 | I147: 0 | J147: 180 | K147: Core SRDF Cisco
B157: Swiss DC Blwg
B158: Cisco | F158: Capacity
B159: Switch Name | C159: Frame Model | D159: Code Level | E159: Serial Number | F159: Used Ports | G159: Free Ports | H159: Percent Free | I159: Not Installed | J159: Switch Capacity | K159: Comments
B160: cmdsblwg_rb_01 | C160: DS-C9506 | D160: 5.2.8b | E160: FOX1638GFVX | F160: 36 | G160: 20 | H160: 0.15384615 | I160: 74 | J160: 130 | K160: Core (Disk) Cisco
B161: cmdsblwg_jd_01 | C161: DS-C9506 | D161: 5.2.8b | E161: FOX1638GFW7 | F161: 36 | G161: 20 | H161: 0.15384615 | I161: 74 | J161: 130 | K161: Core (Disk) Cisco
B162: cmdsblw_ct_01 | C162: DS-C9124-K9 | D162: 5.2.8b | E162: FOX1511H7YQ | F162: 2 | G162: 22 | H162: 0.91666667 | I162: 0 | J162: 24 | K162: Core (Tape) Cisco
B163: cmdsblw_dg_01 | C163: DS-C9124-K9 | D163: 5.2.8b | E163: FOX1511H81U | F163: 2 | G163: 22 | H163: 0.91666667 | I163: 0 | J163: 24 | K163: Core (Tape) Cisco
B166: Swiss DC Colt
B167: Cisco | F167: Capacity | K167: Comments
B168: Switch Name | C168: Frame Model | D168: Code Level | E168: Serial Number | F168: Used Ports | G168: Free Ports | H168: Percent Free | I168: Not Installed | J168: Switch Capacity | K168: Comments
B169: cmdscolt_rb_01 | C169: DS-C9506 | D169: 5.2.8b | E169: FOX1638GFVX | F169: 33 | G169: 4 | H169: 0.035714286 | I169: 75 | J169: 112 | K169: Core (Disk) Cisco
B170: cmdscolt_jd_01 | C170: DS-C9506 | D170: 5.2.8b | E170: FOX1638GFW7 | F170: 33 | G170: 4 | H170: 0.035714286 | I170: 75 | J170: 112 | K170: Core (Disk) Cisco
B171: cmdsclt_ct_01 | C171: DS-C9124-K9 | D171: 5.2.8b | E171: FOX1511H7YK | F171: 20 | G171: 4 | H171: 0.16666667 | I171: 0 | J171: 24 | K171: Core (Tape) Cisco
B172: cmdsclt_dg_01 | C172: DS-C9124-K9 | D172: 5.2.8b | E172: FOX1511H7WD | F172: 20 | G172: 4 | H172: 0.16666667 | I172: 0 | J172: 24 | K172: Core (Tape) Cisco
B176: Welle DC
B177: Cisco | F177: Capacity | K177: Comments
B178: Switch Name | C178: Frame Model | D178: Code Level | E178: Serial Number | F178: Used Ports | G178: Free Ports | H178: Percent Free | I178: Not Installed | J178: Switch Capacity | K178: Comments
B179: rmdswell-gl-01 | C179: DS-C9509 | D179: 5.2(2a) | E179: FOX1241G3Y0 | F179: 16 | G179: 38 | H179: 0.7037037 | I179: 0 | J179: 54 | K179: Core SRDF Cisco
B180: rmdswell-sl-01 | C180: DS-C9509 | D180: 5.2(2a) | E180: FOX1252G2SP | F180: 16 | G180: 38 | H180: 0.7037037 | I180: 0 | J180: 54 | K180: Core SRDF Cisco
B181: cmdswell-ct-01 | C181: DS-C9513 | D181: 5.2(8b) | E181: FOX1202H3N2 | F181: 18 | G181: 30 | H181: 0.625 | I181: 0 | J181: 48 | K181: Core (Tape) Cisco
B182: cmdswell-dg-01 | C182: DS-C9513 | D182: 5.2(8b) | E182: FOX1202H3NC | F182: 17 | G182: 31 | H182: 0.64583333 | I182: 0 | J182: 48 | K182: Core (Tape) Cisco
