Workbook
Name RMCF1C00_Spare: '[1]CFR-Ports'!$B$153
Name RMCF1C00_Used: '[1]CFR-Ports'!$B$154
Name RMCF1E00_Spare: '[1]CFR-Ports'!$D$153
Name RMCF1E00_Used: '[1]CFR-Ports'!$D$154

Sheet SAN Storage Capacity Summary
A1: Citigroup Distributed Storage Capacity Report (EMEA) for Mar 2014
A2: Site | B2: Unformatted Total (GB) | C2: Formatted Total (GB) | D2: configured Total (GB) | E2: Usable | F2: Used | G2: free | H2: Allocated | I2: %Used | J2: %allocated | K2: # Frames | L2: Unformatted Total (TB) | M2: configured Total (TB) | N2: Allocated (TB) | O2: Free (TB) | P2: Unformatted Total (PB) | Q2: configured Total (PB) | R2: Allocated (PB) | S2: Free (PB)
A3: Total EMEA Sites | B3: =SUMIF($A$4:$A$111,"Site Total",B$4:B$111) -> 14577158 | C3: =SUMIF($A$4:$A$111,"Site Total",C$4:C$111) -> 13228483 | D3: =SUMIF($A$4:$A$111,"Site Total",D$4:D$111) -> 11545225 | E3: =SUMIF($A$4:$A$111,"Site Total",E$4:E$111) -> 8595456.1 | F3: =SUMIF($A$4:$A$111,"Site Total",F$4:F$111) -> 5147944.1 | G3: =SUMIF($A$4:$A$111,"Site Total",G$4:G$111) -> 3427927.4 | H3: =SUMIF($A$4:$A$111,"Site Total",H$4:H$111) -> 7367250.1 | I3: =F3/E3 -> 0.59891459 | J3: =H3/D3 -> 0.63812098 | K3: =SUMIF($A$4:$A$111,"Site Total",K$4:K$111) -> 96 | L3: =B3/1024 -> 14235.506 | M3: =D3/1024 -> 11274.634 | N3: =H3/1024 -> 7194.5802 | O3: =G3/1024 -> 3347.5853 | P3: =L3/1024 -> 13.901861 | Q3: =M3/1024 -> 11.010384 | R3: =N3/1024 -> 7.0259572 | S3: =O3/1024 -> 3.2691263
A4: Swiss | B4: =SUMIF('SAN Storage Inventory'!A:A,A:A,'SAN Storage Inventory'!D:D) -> 223776 | C4: =SUMIF('SAN Storage Inventory'!A:A,A:A,'SAN Storage Inventory'!E:E) -> 203380 | D4: =SUMIF('SAN Storage Inventory'!A:A,A:A,'SAN Storage Inventory'!G:G) -> 135956 | E4: =SUMIF('SAN Storage Inventory'!A:A,A:A,'SAN Storage Inventory'!I:I) -> 118961.5 | F4: =SUMIF('SAN Storage Inventory'!A:A,A:A,'SAN Storage Inventory'!J:J) -> 53963.5 | G4: =SUMIF('SAN Storage Inventory'!A:A,A:A,'SAN Storage Inventory'!K:K) -> 64998 | H4: =SUMIF('SAN Storage Inventory'!A:A,A:A,'SAN Storage Inventory'!M:M) -> 125767.8 | I4: =F4/E4 -> 0.45362155 | J4: =H4/D4 -> 0.92506252 | K4: =COUNTIF('SAN Storage Inventory'!A:A,A:A) -> 4
A5: FDC | B5: =SUMIF('SAN Storage Inventory'!A:A,A:A,'SAN Storage Inventory'!D:D) -> 5915205.4 | C5: =SUMIF('SAN Storage Inventory'!A:A,A:A,'SAN Storage Inventory'!E:E) -> 5366606.2 | D5: =SUMIF('SAN Storage Inventory'!A:A,A:A,'SAN Storage Inventory'!G:G) -> 4601912.2 | E5: =SUMIF('SAN Storage Inventory'!A:A,A:A,'SAN Storage Inventory'!I:I) -> 3481991.7 | F5: =SUMIF('SAN Storage Inventory'!A:A,A:A,'SAN Storage Inventory'!J:J) -> 2131884.4 | G5: =SUMIF('SAN Storage Inventory'!A:A,A:A,'SAN Storage Inventory'!K:K) -> 1350107.3 | H5: =SUMIF('SAN Storage Inventory'!A:A,A:A,'SAN Storage Inventory'!M:M) -> 3175748.6 | I5: =F5/E5 -> 0.61226005 | J5: =H5/D5 -> 0.69009325 | K5: =COUNTIF('SAN Storage Inventory'!A:A,A:A) -> 35
A6: RDC | B6: =SUMIF('SAN Storage Inventory'!A:A,A:A,'SAN Storage Inventory'!D:D) -> 7220603.9 | C6: =SUMIF('SAN Storage Inventory'!A:A,A:A,'SAN Storage Inventory'!E:E) -> 6556734.7 | D6: =SUMIF('SAN Storage Inventory'!A:A,A:A,'SAN Storage Inventory'!G:G) -> 5816170.5 | E6: =SUMIF('SAN Storage Inventory'!A:A,A:A,'SAN Storage Inventory'!I:I) -> 4150281.6 | F6: =SUMIF('SAN Storage Inventory'!A:A,A:A,'SAN Storage Inventory'!J:J) -> 2458125.9 | G6: =SUMIF('SAN Storage Inventory'!A:A,A:A,'SAN Storage Inventory'!K:K) -> 1672571 | H6: =SUMIF('SAN Storage Inventory'!A:A,A:A,'SAN Storage Inventory'!M:M) -> 3468926.1 | I6: =F6/E6 -> 0.59227932 | J6: =H6/D6 -> 0.59642785 | K6: =COUNTIF('SAN Storage Inventory'!A:A,A:A) -> 39
A7: CGC | B7: =SUMIF('SAN Storage Inventory'!A:A,A:A,'SAN Storage Inventory'!D:D) -> 754144.73 | C7: =SUMIF('SAN Storage Inventory'!A:A,A:A,'SAN Storage Inventory'!E:E) -> 680463.85 | D7: =SUMIF('SAN Storage Inventory'!A:A,A:A,'SAN Storage Inventory'!G:G) -> 640059.42 | E7: =SUMIF('SAN Storage Inventory'!A:A,A:A,'SAN Storage Inventory'!I:I) -> 560052 | F7: =SUMIF('SAN Storage Inventory'!A:A,A:A,'SAN Storage Inventory'!J:J) -> 232008.93 | G7: =SUMIF('SAN Storage Inventory'!A:A,A:A,'SAN Storage Inventory'!K:K) -> 328043.06 | H7: =SUMIF('SAN Storage Inventory'!A:A,A:A,'SAN Storage Inventory'!M:M) -> 324846.33 | I7: =F7/E7 -> 0.4142632 | J7: =H7/D7 -> 0.50752527 | K7: =COUNTIF('SAN Storage Inventory'!A:A,A:A) -> 5
A8: Poland | B8: =SUMIF('SAN Storage Inventory'!A:A,A:A,'SAN Storage Inventory'!D:D) -> 239104.8 | C8: =SUMIF('SAN Storage Inventory'!A:A,A:A,'SAN Storage Inventory'!E:E) -> 217368 | D8: =SUMIF('SAN Storage Inventory'!A:A,A:A,'SAN Storage Inventory'!G:G) -> 146821.71 | E8: =SUMIF('SAN Storage Inventory'!A:A,A:A,'SAN Storage Inventory'!I:I) -> 128469 | F8: =SUMIF('SAN Storage Inventory'!A:A,A:A,'SAN Storage Inventory'!J:J) -> 128469 | G8: =SUMIF('SAN Storage Inventory'!A:A,A:A,'SAN Storage Inventory'!K:K) -> 0 | H8: =SUMIF('SAN Storage Inventory'!A:A,A:A,'SAN Storage Inventory'!M:M) -> 128469 | I8: =F8/E8 -> 1 | J8: =H8/D8 -> 0.875 | K8: =COUNTIF('SAN Storage Inventory'!A:A,A:A) -> 4
A9: Turkey | B9: =SUMIF('SAN Storage Inventory'!A:A,A:A,'SAN Storage Inventory'!D:D) -> 114340.6 | C9: =SUMIF('SAN Storage Inventory'!A:A,A:A,'SAN Storage Inventory'!E:E) -> 103946 | D9: =SUMIF('SAN Storage Inventory'!A:A,A:A,'SAN Storage Inventory'!G:G) -> 104320.86 | E9: =SUMIF('SAN Storage Inventory'!A:A,A:A,'SAN Storage Inventory'!I:I) -> 89930 | F9: =SUMIF('SAN Storage Inventory'!A:A,A:A,'SAN Storage Inventory'!J:J) -> 89930 | G9: =SUMIF('SAN Storage Inventory'!A:A,A:A,'SAN Storage Inventory'!K:K) -> 0 | H9: =SUMIF('SAN Storage Inventory'!A:A,A:A,'SAN Storage Inventory'!M:M) -> 89930 | I9: =F9/E9 -> 1 | J9: =H9/D9 -> 0.86205197 | K9: =COUNTIF('SAN Storage Inventory'!A:A,A:A) -> 3
A10: Russia | B10: =SUMIF('SAN Storage Inventory'!A:A,A:A,'SAN Storage Inventory'!D:D) -> 63699.457 | C10: =SUMIF('SAN Storage Inventory'!A:A,A:A,'SAN Storage Inventory'!E:E) -> 57908.598 | D10: =SUMIF('SAN Storage Inventory'!A:A,A:A,'SAN Storage Inventory'!G:G) -> 57908.598 | E10: =SUMIF('SAN Storage Inventory'!A:A,A:A,'SAN Storage Inventory'!I:I) -> 28954.299 | F10: =SUMIF('SAN Storage Inventory'!A:A,A:A,'SAN Storage Inventory'!J:J) -> 28954.299 | G10: =SUMIF('SAN Storage Inventory'!A:A,A:A,'SAN Storage Inventory'!K:K) -> 0 | H10: =SUMIF('SAN Storage Inventory'!A:A,A:A,'SAN Storage Inventory'!M:M) -> 28954.299 | I10: =F10/E10 -> 1 | J10: =H10/D10 -> 0.5 | K10: =COUNTIF('SAN Storage Inventory'!A:A,A:A) -> 4
A11: Senatorska DC | B11: =SUMIF('SAN Storage Inventory'!A:A,A:A,'SAN Storage Inventory'!D:D) -> 22025.143 | C11: =SUMIF('SAN Storage Inventory'!A:A,A:A,'SAN Storage Inventory'!E:E) -> 20022.857 | D11: =SUMIF('SAN Storage Inventory'!A:A,A:A,'SAN Storage Inventory'!G:G) -> 20022.857 | E11: =SUMIF('SAN Storage Inventory'!A:A,A:A,'SAN Storage Inventory'!I:I) -> 17520 | F11: =SUMIF('SAN Storage Inventory'!A:A,A:A,'SAN Storage Inventory'!J:J) -> 12844 | G11: =SUMIF('SAN Storage Inventory'!A:A,A:A,'SAN Storage Inventory'!K:K) -> 4676 | H11: =SUMIF('SAN Storage Inventory'!A:A,A:A,'SAN Storage Inventory'!M:M) -> 12844 | I11: =F11/E11 -> 0.73310502 | J11: =H11/D11 -> 0.64146689 | K11: =COUNTIF('SAN Storage Inventory'!A:A,A:A) -> 1
A12: Goleszowska DC | B12: =SUMIF('SAN Storage Inventory'!A:A,A:A,'SAN Storage Inventory'!D:D) -> 24257.829 | C12: =SUMIF('SAN Storage Inventory'!A:A,A:A,'SAN Storage Inventory'!E:E) -> 22052.571 | D12: =SUMIF('SAN Storage Inventory'!A:A,A:A,'SAN Storage Inventory'!G:G) -> 22052.571 | E12: =SUMIF('SAN Storage Inventory'!A:A,A:A,'SAN Storage Inventory'!I:I) -> 19296 | F12: =SUMIF('SAN Storage Inventory'!A:A,A:A,'SAN Storage Inventory'!J:J) -> 11764 | G12: =SUMIF('SAN Storage Inventory'!A:A,A:A,'SAN Storage Inventory'!K:K) -> 7532 | H12: =SUMIF('SAN Storage Inventory'!A:A,A:A,'SAN Storage Inventory'!M:M) -> 11764 | I12: =F12/E12 -> 0.60966003 | J12: =H12/D12 -> 0.53345253 | K12: =COUNTIF('SAN Storage Inventory'!A:A,A:A) -> 1
A13: Site Total | B13: =SUM(B4:B12) -> 14577158 | C13: =SUM(C4:C12) -> 13228483 | D13: =SUM(D4:D12) -> 11545225 | E13: =SUM(E4:E12) -> 8595456.1 | F13: =SUM(F4:F12) -> 5147944.1 | G13: =SUM(G4:G12) -> 3427927.4 | H13: =SUM(H4:H12) -> 7367250.1 | I13: =F13/E13 -> 0.59891459 | J13: =H13/D13 -> 0.63812098 | K13: =SUM(K4:K12) -> 96

Sheet SAN Switch Capacity Summary
A1: Citigroup Distributed Fibre Switch Capacity Report (EMEA) for Mar 2014
A2: Site Summary and Capacity Analysis NOTE: Each line below represents an individial SAN island. Each island requires free ports/capacity in order to maintain/support BAU growth.
A3: Site | B3: San | C3: Total Installed | D3: Used Ports | E3: Free Ports | F3: % Free | G3: Switch Count
A4: Total All Sites | C4: =SUMIF($A$5:$A$34,"Total Site",$C$5:$C$34) -> 20701 | D4: =SUMIF($A$5:$A$34,"Total Site",$D$5:$D$34) -> 11877 | E4: =SUMIF($A$5:$A$34,"Total Site",$E$5:$E$34) -> 8824 | F4: =E4/(D4+E4) -> 0.4262596 | G4: =SUMIF($A$5:$A$34,"Total Site",$G$5:$G$34) -> 116
A5: Citigroup Centre DC, London | B5: Core (Tape) Cisco | C5: =SUM(D5:E5) -> 96 | D5: =SUMIF('SAN Switch Inventory'!K5:K25,B5,'SAN Switch Inventory'!F5:F25) -> 32 | E5: =SUMIF('SAN Switch Inventory'!K5:K25,B5,'SAN Switch Inventory'!G5:G25) -> 64 | F5: =E5/(D5+E5) -> 0.66666667 | G5: =COUNTIF('SAN Switch Inventory'!K5:K25,B5) -> 2
A6: Citigroup Centre DC, London | B6: Core (Disk) Cisco | C6: =SUM(D6:E6) -> 393 | D6: =SUMIF('SAN Switch Inventory'!K5:K25,B6,'SAN Switch Inventory'!F5:F25) -> 130 | E6: =SUMIF('SAN Switch Inventory'!K5:K25,B6,'SAN Switch Inventory'!G5:G25) -> 263 | F6: =E6/(D6+E6) -> 0.6692112 | G6: =COUNTIF('SAN Switch Inventory'!K5:K25,B6) -> 2
A7: Citigroup Centre DC, London | B7: Edge (Disk) Cisco | C7: =SUM(D7:E7) -> 1296 | D7: =SUMIF('SAN Switch Inventory'!K5:K25,B7,'SAN Switch Inventory'!F5:F25) -> 415 | E7: =SUMIF('SAN Switch Inventory'!K5:K25,B7,'SAN Switch Inventory'!G5:G25) -> 881 | F7: =E7/(D7+E7) -> 0.67978395 | G7: =COUNTIF('SAN Switch Inventory'!K5:K25,B7) -> 6
A8: Citigroup Centre DC, London | B8: Core SRDF Cisco | C8: =SUM(D8:E8) -> 144 | D8: =SUMIF('SAN Switch Inventory'!K5:K25,B8,'SAN Switch Inventory'!F5:F25) -> 28 | E8: =SUMIF('SAN Switch Inventory'!K5:K25,B8,'SAN Switch Inventory'!G5:G25) -> 116 | F8: =E8/(D8+E8) -> 0.80555556 | G8: =COUNTIF('SAN Switch Inventory'!K5:K25,B8) -> 2
A9: Citigroup Centre DC, London | B9: Core (Disk) McData | C9: =SUM(D9:E9) -> 235 | D9: =SUMIF('SAN Switch Inventory'!K5:K25,B9,'SAN Switch Inventory'!F5:F25) -> 72 | E9: =SUMIF('SAN Switch Inventory'!K5:K25,B9,'SAN Switch Inventory'!G5:G25) -> 163 | F9: =E9/(D9+E9) -> 0.69361702 | G9: =COUNTIF('SAN Switch Inventory'!K5:K25,B9) -> 2
A10: Citigroup Centre DC, London | B10: EDGE (Disk) McData | C10: =SUM(D10:E10) -> 279 | D10: =SUMIF('SAN Switch Inventory'!K5:K25,B10,'SAN Switch Inventory'!F5:F25) -> 52 | E10: =SUMIF('SAN Switch Inventory'!K5:K25,B10,'SAN Switch Inventory'!G5:G25) -> 227 | F10: =E10/(D10+E10) -> 0.81362007 | G10: =COUNTIF('SAN Switch Inventory'!K5:K25,B10) -> 2
A11: Total Site | C11: =SUM(C5:C10) -> 2443 | D11: =SUM(D5:D10) -> 729 | E11: =SUM(E5:E10) -> 1714 | F11: =E11/(D11+E11) -> 0.7015964 | G11: =SUM(G5:G10) -> 16
A12: Riverdale DC, London | B12: Core (Tape) Cisco | C12: =SUM(D12:E12) -> 264 | D12: =SUMIF('SAN Switch Inventory'!K31:K87,B12,'SAN Switch Inventory'!F31:F87) -> 219 | E12: =SUMIF('SAN Switch Inventory'!K31:K87,B12,'SAN Switch Inventory'!G31:G87) -> 45 | F12: =E12/(D12+E12) -> 0.17045455 | G12: =COUNTIF('SAN Switch Inventory'!K31:K87,B12) -> 2
A13: Riverdale DC, London | B13: Core (Disk) Cisco | C13: =SUM(D13:E13) -> 1751 | D13: =SUMIF('SAN Switch Inventory'!K31:K87,B13,'SAN Switch Inventory'!F31:F87) -> 906 | E13: =SUMIF('SAN Switch Inventory'!K31:K87,B13,'SAN Switch Inventory'!G31:G87) -> 845 | F13: =E13/(D13+E13) -> 0.48258138 | G13: =COUNTIF('SAN Switch Inventory'!K31:K87,B13) -> 8
A14: Riverdale DC, London | B14: Edge (Disk) Cisco | C14: =SUM(D14:E14) -> 5051 | D14: =SUMIF('SAN Switch Inventory'!K31:K87,B14,'SAN Switch Inventory'!F31:F87) -> 3468 | E14: =SUMIF('SAN Switch Inventory'!K31:K87,B14,'SAN Switch Inventory'!G31:G87) -> 1583 | F14: =E14/(D14+E14) -> 0.31340329 | G14: =COUNTIF('SAN Switch Inventory'!K31:K87,B14) -> 22
A15: Riverdale DC, London | B15: Core SRDF Cisco | C15: =SUM(D15:E15) -> 359 | D15: =SUMIF('SAN Switch Inventory'!K31:K87,B15,'SAN Switch Inventory'!F31:F87) -> 135 | E15: =SUMIF('SAN Switch Inventory'!K31:K87,B15,'SAN Switch Inventory'!G31:G87) -> 224 | F15: =E15/(D15+E15) -> 0.62395543 | G15: =COUNTIF('SAN Switch Inventory'!K31:K87,B15) -> 2
A16: Riverdale DC, London | B16: Core (Disk) McData | C16: =SUM(D16:E16) -> 752 | D16: =SUMIF('SAN Switch Inventory'!K31:K87,B16,'SAN Switch Inventory'!F31:F87) -> 546 | E16: =SUMIF('SAN Switch Inventory'!K31:K87,B16,'SAN Switch Inventory'!G31:G87) -> 206 | F16: =E16/(D16+E16) -> 0.27393617 | G16: =COUNTIF('SAN Switch Inventory'!K31:K87,B16) -> 6
A17: Riverdale DC, London | B17: EDGE (Disk) McData | C17: =SUM(D17:E17) -> 1464 | D17: =SUMIF('SAN Switch Inventory'!K31:K87,B17,'SAN Switch Inventory'!F31:F87) -> 370 | E17: =SUMIF('SAN Switch Inventory'!K31:K87,B17,'SAN Switch Inventory'!G31:G87) -> 1094 | F17: =E17/(D17+E17) -> 0.74726776 | G17: =COUNTIF('SAN Switch Inventory'!K31:K87,B17) -> 12
A18: Total Site | C18: =SUM(C12:C17) -> 9641 | D18: =SUM(D12:D17) -> 5644 | E18: =SUM(E12:E17) -> 3997 | F18: =E18/(D18+E18) -> 0.41458355 | G18: =SUM(G12:G17) -> 52
A19: Frankfurt DC, Germany | B19: Core (Tape) Cisco | C19: =SUM(D19:E19) -> 240 | D19: =SUMIF('SAN Switch Inventory'!K93:K128,B19,'SAN Switch Inventory'!F93:F128) -> 205 | E19: =SUMIF('SAN Switch Inventory'!K93:K128,B19,'SAN Switch Inventory'!G93:G128) -> 35 | F19: =E19/(D19+E19) -> 0.14583333 | G19: =COUNTIF('SAN Switch Inventory'!K93:K128,B19) -> 2
A20: Frankfurt DC, Germany | B20: Core (Disk) Cisco | C20: =SUM(D20:E20) -> 1831 | D20: =SUMIF('SAN Switch Inventory'!K93:K128,B20,'SAN Switch Inventory'!F93:F128) -> 1185 | E20: =SUMIF('SAN Switch Inventory'!K93:K128,B20,'SAN Switch Inventory'!G93:G128) -> 646 | F20: =E20/(D20+E20) -> 0.35281267 | G20: =COUNTIF('SAN Switch Inventory'!K93:K128,B20) -> 10
A21: Frankfurt DC, Germany | B21: Edge (Disk) Cisco | C21: =SUM(D21:E21) -> 5438 | D21: =SUMIF('SAN Switch Inventory'!K93:K128,B21,'SAN Switch Inventory'!F93:F128) -> 3742 | E21: =SUMIF('SAN Switch Inventory'!K93:K128,B21,'SAN Switch Inventory'!G93:G128) -> 1696 | F21: =E21/(D21+E21) -> 0.31187937 | G21: =COUNTIF('SAN Switch Inventory'!K93:K128,B21) -> 22
A22: Frankfurt DC, Germany | B22: Core SRDF Cisco | C22: =SUM(D22:E22) -> 360 | D22: =SUMIF('SAN Switch Inventory'!K93:K128,B22,'SAN Switch Inventory'!F93:F128) -> 121 | E22: =SUMIF('SAN Switch Inventory'!K93:K128,B22,'SAN Switch Inventory'!G93:G128) -> 239 | F22: =E22/(D22+E22) -> 0.66388889 | G22: =COUNTIF('SAN Switch Inventory'!K93:K128,B22) -> 2
A23: Total Site | C23: =SUM(C19:C22) -> 7869 | D23: =SUM(D19:D22) -> 5253 | E23: =SUM(E19:E22) -> 2616 | F23: =E23/(D23+E23) -> 0.33244377 | G23: =SUM(G19:G22) -> 36
A24: Welle DC, Germany | B24: Core (Tape) Cisco | C24: =SUM(D24:E24) -> 96 | D24: =SUMIF('SAN Switch Inventory'!K150:K153,B24,'SAN Switch Inventory'!F150:F153) -> 35 | E24: =SUMIF('SAN Switch Inventory'!K150:K153,B24,'SAN Switch Inventory'!G150:G153) -> 61 | F24: =E24/(D24+E24) -> 0.63541667 | G24: =COUNTIF('SAN Switch Inventory'!K150:K153,B24) -> 2
A25: Welle DC, Germany | B25: Core SRDF Cisco | C25: =SUM(D25:E25) -> 108 | D25: =SUMIF('SAN Switch Inventory'!K150:K153,B25,'SAN Switch Inventory'!F150:F153) -> 32 | E25: =SUMIF('SAN Switch Inventory'!K150:K153,B25,'SAN Switch Inventory'!G150:G153) -> 76 | F25: =E25/(D25+E25) -> 0.7037037 | G25: =COUNTIF('SAN Switch Inventory'!K150:K153,B25) -> 2
A26: Total Site | C26: =SUM(C24:C25) -> 204 | D26: =SUM(D24:D25) -> 67 | E26: =SUM(E24:E25) -> 137 | F26: =E26/(D26+E26) -> 0.67156863 | G26: =SUM(G24:G25) -> 4
A27: Swiss DC Blwg, Switzerland | B27: Core (Tape) Cisco | C27: =SUM(D27:E27) -> 48 | D27: =SUMIF('SAN Switch Inventory'!K134:K137,B27,'SAN Switch Inventory'!F134:F137) -> 20 | E27: =SUMIF('SAN Switch Inventory'!K134:K137,B27,'SAN Switch Inventory'!G134:G137) -> 28 | F27: =E27/(D27+E27) -> 0.58333333 | G27: =COUNTIF('SAN Switch Inventory'!K134:K137,B27) -> 2
A28: Swiss DC Blwg, Switzerland | B28: Core (Disk) Cisco | C28: =SUM(D28:E28) -> 224 | D28: =SUMIF('SAN Switch Inventory'!K134:K137,B28,'SAN Switch Inventory'!F134:F137) -> 74 | E28: =SUMIF('SAN Switch Inventory'!K134:K137,B28,'SAN Switch Inventory'!G134:G137) -> 150 | F28: =E28/(D28+E28) -> 0.66964286 | G28: =COUNTIF('SAN Switch Inventory'!K134:K137,B28) -> 2
A29: Total Site | C29: =SUM(C27:C28) -> 272 | D29: =SUM(D27:D28) -> 94 | E29: =SUM(E27:E28) -> 178 | F29: =E29/(D29+E29) -> 0.65441176 | G29: =SUM(G27:G28) -> 4
A30: Swiss DC Colt, Switzerland | B30: Core (Tape) Cisco | C30: =SUM(D30:E30) -> 48 | D30: =SUMIF('SAN Switch Inventory'!K142:K145,B30,'SAN Switch Inventory'!F142:F145) -> 20 | E30: =SUMIF('SAN Switch Inventory'!K142:K145,B30,'SAN Switch Inventory'!G142:G145) -> 28 | F30: =E30/(D30+E30) -> 0.58333333 | G30: =COUNTIF('SAN Switch Inventory'!K142:K145,B30) -> 2
A31: Swiss DC Colt, Switzerland | B31: Core (Disk) Cisco | C31: =SUM(D31:E31) -> 224 | D31: =SUMIF('SAN Switch Inventory'!K142:K145,B31,'SAN Switch Inventory'!F142:F145) -> 70 | E31: =SUMIF('SAN Switch Inventory'!K142:K145,B31,'SAN Switch Inventory'!G142:G145) -> 154 | F31: =E31/(D31+E31) -> 0.6875 | G31: =COUNTIF('SAN Switch Inventory'!K142:K145,B31) -> 2
A32: Total Site | C32: =SUM(C30:C31) -> 272 | D32: =SUM(D30:D31) -> 90 | E32: =SUM(E30:E31) -> 182 | F32: =E32/(D32+E32) -> 0.66911765 | G32: =SUM(G30:G31) -> 4
A33: Total All CTI Sites | C33: =SUMIF($A$5:$A$32,"Total Site",$C$5:$C$32) -> 20701 | D33: =SUMIF($A$5:$A$32,"Total Site",$D$5:$D$32) -> 11877 | E33: =SUMIF($A$5:$A$32,"Total Site",$E$5:$E$32) -> 8824 | F33: =E33/(D33+E33) -> 0.4262596 | G33: =SUMIF($A$5:$A$32,"Total Site",$G$5:$G$32) -> 116

Sheet SAN Storage Inventory
A1: Citigroup Distributed Storage Inventory Report (EMEA) for Mar 2014
A2: Location | B2: Type | C2: Array | D2: Market | E2: formatted(S+D) | F2: format lost | G2: physical/Raid Total | H2: Parity Lost | I2: Usable | J2: Used | K2: free | L2: spare formatted | M2: Allocated | N2: Not in pool | O2: %Used | P2: %allocated
A3: CGC | B3: DMX | C3: 290103336 | D3: 36097.359 | E3: 32815.781 | F3: 3281.5781 | G3: 31721.922 | H3: 3965.2402 | I3: 27756.682 | J3: 0.08 | K3: 27756.602 | L3: 1093.8594 | M3: 0.08 | O3: =J3/I3 -> 2.8821889e-06 | P3: =M3/G3 -> 2.5219153e-06
A4: rdc | B4: DMX | C4: 290103452 | D4: 131725.58 | E4: 119750.52 | F4: 11975.052 | G4: 116409.63 | H4: 14551.204 | I4: 101858.43 | J4: 46304.18 | K4: 55554.246 | L4: 3340.8945 | M4: 46304.18 | O4: =J4/I4 -> 0.45459352 | P4: =M4/G4 -> 0.39776933
A5: rdc | B5: DMX | C5: 290103471 | D5: 36097.359 | E5: 32815.781 | F5: 3281.5781 | G5: 31721.922 | H5: 3965.2402 | I5: 27756.682 | J5: 472.25977 | K5: 27284.422 | L5: 1093.8594 | M5: 472.25977 | O5: =J5/I5 -> 0.017014273 | P5: =M5/G5 -> 0.014887489
A6: FDC | B6: DMX | C6: 290103544 | D6: 116387.55 | E6: 105806.86 | F6: 10580.686 | G6: 103048.49 | H6: 12881.061 | I6: 90167.427 | J6: 12240.113 | K6: 77927.314 | L6: 2758.375 | M6: 21107.631 | O6: =J6/I6 -> 0.13574872 | P6: =M6/G6 -> 0.20483203
A7: FDC | B7: DMX | C7: 290103550 | D7: 72508.58 | E7: 65916.891 | F7: 6591.6891 | G7: 63443.844 | H7: 7930.4805 | I7: 55513.363 | J7: 472.259 | K7: 55041.104 | L7: 2473.0469 | M7: 944.289 | O7: =J7/I7 -> 0.0085071228 | P7: =M7/G7 -> 0.014883855
A8: fdc | B8: DMX | C8: 290103564 | D8: 135842.57 | E8: 123493.25 | F8: 12349.325 | G8: 120699.28 | H8: 15087.41 | I8: 105611.87 | J8: 48594.588 | K8: 57017.283 | L8: 2793.9648 | M8: 48594.588 | O8: =J8/I8 -> 0.4601243 | P8: =M8/G8 -> 0.40260876
A9: rdc | B9: DMX | C9: 290103720 | D9: 72822.441 | E9: 66202.219 | F9: 6620.2219 | G9: 64549.566 | H9: 8068.6958 | I9: 56480.871 | J9: 38642.527 | K9: 17838.343 | L9: 1652.6523 | M9: 38642.527 | O9: =J9/I9 -> 0.68417018 | P9: =M9/G9 -> 0.59864891
A10: FDC | B10: DMX | C10: 290103810 | D10: 145017.16 | E10: 131833.78 | F10: 13183.378 | G10: 128956.47 | H10: 16119.559 | I10: 112836.91 | J10: 38406.51 | K10: 74430.4 | L10: 2877.3125 | M10: 67807.567 | O10: =J10/I10 -> 0.34037187 | P10: =M10/G10 -> 0.52581749
A11: FDC | B11: DMX | C11: 290103943 | D11: 147521.34 | E11: 134110.31 | F11: 13411.031 | G11: 129639.97 | H11: 16204.996 | I11: 113434.97 | J11: 53512.967 | K11: 59922.006 | L11: 4470.3438 | M11: 53512.967 | O11: =J11/I11 -> 0.47175016 | P11: =M11/G11 -> 0.41278139
A12: FDC | B12: DMX | C12: 290105349 | D12: 25193.97 | E12: 22903.609 | F12: 2290.3609 | G12: 20426.211 | H12: 2553.2764 | I12: 17872.935 | J12: 11828.185 | K12: 6044.75 | L12: 2477.3984 | M12: 11828.185 | O12: =J12/I12 -> 0.66179309 | P12: =M12/G12 -> 0.57906895
A13: Swiss | B13: Vmax | C13: 292602262 | D13: 75600 | E13: 68695 | F13: 6905 | G13: 63029.714 | H13: 7878.7143 | I13: 55151 | J13: 14950.3 | K13: 40200.7 | L13: 3271 | M13: 57858.1 | O13: =J13/I13 -> 0.2710794 | P13: =M13/G13 -> 0.91794958
A14: FDC | B14: Vmax | C14: 295700667 | D14: 235200 | E14: 213716.56 | F14: 21483.438 | G14: 200650 | H14: 98453.5 | I14: 102196.5 | J14: 142 | K14: 102054.5 | L14: 4361.5625 | M14: 21612.5 | O14: =J14/I14 -> 0.0013894801 | P14: =M14/G14 -> 0.10771243
... A16: Swiss | B16: Vmax | C16: 492600377 | D16: 46800 | E16: 42525 | F16: 4275 | G16: 37817.714 | H16: 4727.2143 | I16: 33090.5 | J16: 8293.2 | K16: 24797.3 | L16: 3271 | M16: 37189.7 | O16: =J16/I16 -> 0.25062178 | P16: =M16/G16 -> 0.98339365
A17: RDC | B17: DMX | C17: 000290102819 | D17: 137686.59 | E17: 125169.62 | F17: 12516.963 | G17: 122655.06 | H17: 15331.882 | I17: 107323.17 | J17: 35706.256 | K17: 71616.919 | L17: 2514.5684 | M17: 35706.256 | O17: =J17/I17 -> 0.33269847 | P17: =M17/G17 -> 0.29111116
A18: CGC | B18: DMX | C18: 000290102838 | D18: 72979.371 | E18: 66344.883 | F18: 6634.4883 | G18: 65096.496 | H18: 8137.062 | I18: 56959.434 | J18: 1688.1543 | K18: 55271.28 | L18: 1248.3867 | M18: 1688.1543 | O18: =J18/I18 -> 0.029637835 | P18: =M18/G18 -> 0.025933105
A19: rdc | B19: DMX | C19: 000290102839 | D19: 72508.58 | E19: 65916.891 | F19: 6591.6891 | G19: 64811.168 | H19: 8101.396 | I19: 56709.772 | J19: 12783.037 | K19: 43926.735 | L19: 1105.7227 | M19: 12783.037 | O19: =J19/I19 -> 0.22541154 | P19: =M19/G19 -> 0.1972351
A20: rdc | B20: DMX | C20: 000290105373 | D20: 68850 | E20: 63533.6 | F20: 5316.4 | G20: 60211.52 | H20: 7526.44 | I20: 52685.08 | J20: 3080.9854 | K20: 49604.095 | L20: 3322.08 | M20: 4883.1924 | O20: =J20/I20 -> 0.058479276 | P20: =M20/G20 -> 0.081100633
A21: RDC | B21: Vmax | C21: 000292600552 | D21: 202800 | E21: 184276.02 | F21: 18523.984 | G21: 172019.09 | H21: 21502.386 | I21: 150516.7 | J21: 84091.1 | K21: 66425.6 | L21: 3816.3672 | M21: 99565.7 | O21: =J21/I21 -> 0.55868286 | P21: =M21/G21 -> 0.57880612
A22: CGC | B22: Vmax | C22: 000292600623 | D22: 340268 | E22: 304207.17 | F22: 36060.828 | G22: 285735.31 | H22: 35716.914 | I22: 250018.4 | J22: 100649.7 | K22: 149368.7 | L22: 8209.5469 | M22: 171297 | O22: =J22/I22 -> 0.40256917 | P22: =M22/G22 -> 0.59949538
A23: RDC | B23: Vmax | C23: 000292600678 | D23: 243000 | E23: 220804.1 | F23: 22195.898 | G23: 207998.63 | H23: 25999.829 | I23: 181998.8 | J23: 156778.6 | K23: 25220.2 | L23: 4906.7578 | M23: 254974 | N23: 16.8438 | O23: =J23/I23 -> 0.86142656 | P23: =M23/G23 -> 1.2258446
A24: CGC | B24: Vmax | C24: 000292600745 | D24: 202800 | E24: 184276.02 | F24: 18523.984 | G24: 172019.09 | H24: 21502.386 | I24: 150516.7 | J24: 82749 | K24: 67767.7 | L24: 3816.3672 | M24: 98689.1 | O24: =J24/I24 -> 0.54976624 | P24: =M24/G24 -> 0.57371018
A25: FDC | B25: Vmax | C25: 000292600879 | D25: 257400 | E25: 233888.79 | F25: 23511.211 | G25: 220604.69 | H25: 27575.586 | I25: 193029.1 | J25: 168437 | K25: 24592.1 | L25: 4906.7578 | M25: 268409 | N25: 16.8438 | O25: =J25/I25 -> 0.872599 | P25: =M25/G25 -> 1.2166967
A26: RDC | B26: Vmax | C26: 000292602230 | D26: 227700 | E26: 206901.62 | F26: 20798.379 | G26: 197406.49 | H26: 25430.986 | I26: 171975.5 | J26: 117895.9 | K26: 54079.6 | L26: 4088.9648 | M26: 171318 | O26: =J26/I26 -> 0.68553893 | P26: =M26/G26 -> 0.86784383
A27: FDC | B27: Vmax | C27: 000292602231 | D27: 367200 | E27: 333659.53 | F27: 33540.469 | G27: 315899.37 | H27: 39768.971 | I27: 276130.4 | J27: 216207.8 | K27: 59922.6 | L27: 6542.3438 | M27: 324071 | O27: =J27/I27 -> 0.78299166 | P27: =M27/G27 -> 1.0258678
A28: FDC | B28: Vmax | C28: 000292602804 | D28: 118400 | E28: 107740.89 | F28: 10659.113 | G28: 95169.086 | H28: 12130.286 | I28: 83038.8 | J28: 59142.2 | K28: 23896.6 | L28: 3643.793 | M28: 125308 | N28: 4595.96 | O28: =J28/I28 -> 0.71222368 | P28: =M28/G28 -> 1.3166881
A29: FDC | B29: Vmax | C29: 000292603004 | D29: 597408 | E29: 527587.59 | F29: 69820.406 | G29: 500822.74 | H29: 62602.843 | I29: 438219.9 | J29: 200202.4 | K29: 238017.5 | L29: 10767.094 | M29: 366641 | O29: =J29/I29 -> 0.45685374 | P29: =M29/G29 -> 0.73207738
A30: RDC | B30: Vmax | C30: 000292603073 | D30: 531872 | E30: 470601.19 | F30: 61270.812 | G30: 445148.57 | H30: 55643.571 | I30: 389505 | J30: 202296 | K30: 187209 | L30: 10767.094 | M30: 444084 | O30: =J30/I30 -> 0.51936689 | P30: =M30/G30 -> 0.9976085
A31: RDC | B31: Vmax | C31: 000292603286 | D31: 227300 | E31: 206693.84 | F31: 20606.164 | G31: 189714.11 | H31: 23948.414 | I31: 165765.7 | J31: 114336.3 | K31: 51429.4 | L31: 4461.5859 | M31: 236035 | N31: 4595.96 | O31: =J31/I31 -> 0.68974643 | P31: =M31/G31 -> 1.2441615
A32: RDC | B32: Vmax | C32: 000292603696 | D32: 227100 | E32: 206507.53 | F32: 20592.475 | G32: 190338.71 | H32: 24260.714 | I32: 166078 | J32: 38616.9 | K32: 127461.1 | L32: 4275.2754 | M32: 83890.5 | N32: 4595.96 | O32: =J32/I32 -> 0.23252267 | P32: =M32/G32 -> 0.44074323
A33: FDC | B33: Vmax | C33: 000292603875 | D33: 118400 | E33: 107740.89 | F33: 10659.113 | G33: 95793.686 | H33: 12442.586 | I33: 83351.1 | J33: 20008.6 | K33: 63342.5 | L33: 3643.793 | M33: 58609.3 | N33: 4595.96 | O33: =J33/I33 -> 0.24005202 | P33: =M33/G33 -> 0.61182843
A34: RDC | B34: Vmax | C34: 000292604330 | D34: 287100 | E34: 260875.96 | F34: 26224.043 | G34: 248038.2 | H34: 124019.1 | I34: 124019.1 | J34: 65211.4 | K34: 58807.7 | L34: 5724.5508 | M34: 139263.8 | O34: =J34/I34 -> 0.52581739 | P34: =M34/G34 -> 0.5614611
A35: FDC | B35: Vmax | C35: 000292604652 | D35: 441000 | E35: 400718.55 | F35: 40281.445 | G35: 383236.2 | H35: 191618.1 | I35: 191618.1 | J35: 107080.9 | K35: 84537.2 | L35: 8177.9297 | M35: 216691.6 | O35: =J35/I35 -> 0.55882456 | P35: =M35/G35 -> 0.56542571
A36: RDC | B36: Vmax | C36: 000295700347 | D36: 588456 | E36: 535316.42 | F36: 53139.582 | G36: 354225.8 | H36: 130154.5 | I36: 224071.3 | J36: 23117.7 | K36: 200953.6 | L36: 10868.48 | M36: 137224 | N36: 165000 | O36: =J36/I36 -> 0.10317118 | P36: =M36/G36 -> 0.38739132
A37: FDC | B37: Vmax | C37: 000295700349 | D37: 588456 | E37: 535316.42 | F37: 53139.582 | G37: 354225.8 | H37: 130154.5 | I37: 224071.3 | J37: 107748.9 | K37: 116322.4 | L37: 10868.48 | M37: 260487 | N37: 165000 | O37: =J37/I37 -> 0.48086881 | P37: =M37/G37 -> 0.73536993
A38: Poland | B38: Centera | C38: APM00120503066 | D38: 44002.2 | E38: 40002 | F38: 4000.2 | G38: 16625.143 | H38: 2078.1429 | I38: 14547 | J38: 14547 | K38: 0 | M38: 14547 | O38: =J38/I38 -> 1 | P38: =M38/G38 -> 0.875
A39: Poland | B39: Centera | C39: APM00121102552 | D39: 64930.8 | E39: 59028 | F39: 5902.8 | G39: 55448 | H39: 6931 | I39: 48517 | J39: 48517 | K39: 0 | M39: 48517 | O39: =J39/I39 -> 1 | P39: =M39/G39 -> 0.875
A40: Poland | B40: Centera | C40: APM00121204311 | D40: 86168.5 | E40: 78335 | F40: 7833.5 | G40: 58121.143 | H40: 7265.1429 | I40: 50856 | J40: 50856 | K40: 0 | M40: 50856 | O40: =J40/I40 -> 1 | P40: =M40/G40 -> 0.875
A41: Poland | B41: Centera | C41: APM00121204573 | D41: 44003.3 | E41: 40003 | F41: 4000.3 | G41: 16627.429 | H41: 2078.4286 | I41: 14549 | J41: 14549 | K41: 0 | M41: 14549 | O41: =J41/I41 -> 1 | P41: =M41/G41 -> 0.875
...

Sheet SAN Switch Inventory
B1: Citigroup Distributed Fibre Switch Inventory (EMEA) for Mar 2014
B2: Citigroup Centre DC
B3: Cisco | F3: Capacity
B4: Switch Name | C4: Frame Model | D4: Code Level | E4: Serial Number | F4: Used Ports | G4: Free Ports | H4: Percent Free | I4: Not Installed | J4: Switch Capacity | K4: Comments
B5: cmdscgc1-ct-01 | C5: DS-C9513 | D5: 5.2(8b) | E5: FOX1205GAHN | F5: 16 | G5: 32 | H5: 0.66666667 | I5: 0 | J5: 48 | K5: Core (Tape) Cisco | L5: 390-c-11 | M5: 1
B6: cmdscgc1-dg-01 | C6: DS-C9513 | D6: 5.2(8b) | E6: FOX1202H3PG | F6: 16 | G6: 32 | H6: 0.66666667 | I6: 0 | J6: 48 | K6: Core (Tape) Cisco | L6: 390-c-11 | M6: 1
B7: cmdscgc1-jd-01 | C7: DS-C9513 | D7: 5.2(8b) | E7: FOX1330G5AC | F7: 65 | G7: 124 | H7: 0.65608466 | I7: 0 | J7: 189 | K7: Core (Disk) Cisco | L7: 390-e-11 | M7: 1
B8: cmdscgc1-rb-01 | C8: DS-C9513 | D8: 5.2(8b) | E8: FOX1329GR3T | F8: 65 | G8: 139 | H8: 0.68137255 | I8: 0 | J8: 204 | K8: Core (Disk) Cisco | L8: 390-e-11 | M8: 1
B9: emdscgc1-jd-03 | C9: DS-C9513 | D9: 5.2(8b) | E9: FOX1331GYC3 | F9: 137 | G9: 55 | H9: 0.28645833 | I9: 0 | J9: 192 | K9: Edge (Disk) Cisco | L9: 390-e-11 | M9: 1
B10: emdscgc1-jd-04 | C10: DS-C9513 | D10: 5.2(8b) | E10: FOX1323G9E1 | F10: 37 | G10: 155 | H10: 0.80729167 | I10: 0 | J10: 192 | K10: Edge (Disk) Cisco | L10: 390-e-11 | M10: 1
B11: emdscgc1-jd-05 | C11: DS-C9513 | D11: 5.2(8b) | E11: FOX1329GR3G | F11: 33 | G11: 231 | H11: 0.875 | I11: 0 | J11: 264 | K11: Edge (Disk) Cisco | L11: 390-c-11 | M11: 1
B12: emdscgc1-rb-03 | C12: DS-C9513 | D12: 5.2(8b) | E12: FOX1323G9EW | F12: 138 | G12: 54 | H12: 0.28125 | I12: 0 | J12: 192 | K12: Edge (Disk) Cisco | L12: 390-c-11 | M12: 1
B13: emdscgc1-rb-04 | C13: DS-C9513 | D13: 5.2(8b) | E13: FOX1331GYC8 | F13: 37 | G13: 155 | H13: 0.80729167 | I13: 0 | J13: 192 | K13: Edge (Disk) Cisco | L13: 390-e-11 | M13: 1
B14: emdscgc1-rb-05 | C14: DS-C9513 | D14: 5.2(8b) | E14: FOX1331GYBH | F14: 33 | G14: 231 | H14: 0.875 | I14: 0 | J14: 264 | K14: Edge (Disk) Cisco | L14: 390-e-11 | M14: 1
B15: rmdscgc1-gl-01 | C15: DS-C9509 | D15: 5.2(2a) | E15: FOX1210GT0F | F15: 14 | G15: 58 | H15: 0.80555556 | I15: 0 | J15: 72 | K15: Core SRDF Cisco | L15: 390-e-11 | M15: 1
B16: rmdscgc1-sl-01 | C16: DS-C9509 | D16: 5.2(2a) | E16: FOX1212GP09 | F16: 14 | G16: 58 | H16: 0.80555556 | I16: 0 | J16: 72 | K16: Core SRDF Cisco | L16: 390-e-11 | M16: 1
B17: McData | F17: Capacity | K17: Comments
B18: SW01C_CORE_RED_CGC1 | C18: ED-140M | D18: 09.09.07 2 | E18: MC5IN02563 | F18: 36 | G18: 91 | H18: 0.71653543 | I18: 0 | J18: 127 | K18: Core (Disk) McData | L18: 390-c-13 | M18: 1
B19: SW02C_CORE_BLUE_CGC1 | C19: ED-140M | D19: 09.09.07 2 | E19: MC5IN02565 | F19: 36 | G19: 72 | H19: 0.66666667 | I19: 0 | J19: 108 | K19: Core (Disk) McData | L19: 390-e-13 | M19: 1
B20: SW25C_EDGE_RED_CGC2 | C20: ED-140M | D20: 09.09.07 2 | E20: MC5IN01485 | F20: 26 | G20: 114 | H20: 0.81428571 | I20: 0 | J20: 140 | K20: EDGE (Disk) McData | L20: 390-e-13 | M20: 1
B21: SW26C_EDGE_BLUE_CGC | C21: ED-140M | D21: 09.09.07 2 | E21: MC5IN01482 | F21: 26 | G21: 113 | H21: 0.81294964 | I21: 0 | J21: 139 | K21: EDGE (Disk) McData | L21: 390-e-13 | M21: 1
B22: SW91C_SRDF_GREEN_CDC1 | C22: ED-64M | D22: 09.09.07 2 | E22: SW91C_SRDF | I22: 0 | K22: Decom | L22: 390-e-13 | M22: 1
B23: SW92C_SRDF_BLACK_CGC1 | C23: ED-64M | D23: 09.09.07 2 | E23: SW92C_SRDF | I23: 0 | K23: Decom | L23: 390-c-13 | M23: 1
B24: SW93C_SRDF_GREEN_CGC2 | C24: ED-64M | D24: 09.09.07 2 | E24: SW93C_SRDF | I24: 0 | K24: Decom | L24: 390-c-13 | M24: 1
B25: SW94C_SRDF_BLACK_CGC2 | C25: ED-64M | D25: 09.09.07 2 | E25: SW94C_SRDF | I25: 0 | K25: Decom | L25: 390-e-13 | M25: 1
B28: Riverdale DC
B29: Cisco | F29: Capacity
B30: Switch Name | C30: Frame Model | D30: Code Level | E30: Serial Number | F30: Used Ports | G30: Free Ports | H30: Percent Free | I30: Not Installed | J30: Switch Capacity | K30: Comments
B31: cmdsrdc3-ct-01 | C31: DS-C9513 | D31: 5.2(8b) | E31: FOX1150H4XB | F31: 109 | G31: 23 | H31: 0.17424242 | I31: 0 | J31: 132 | K31: Core (Tape) Cisco
B32: cmdsrdc3-dg-01 | C32: DS-C9513 | D32: 5.2(8b) | E32: FOX1152HDFX | F32: 110 | G32: 22 | H32: 0.16666667 | I32: 0 | J32: 132 | K32: Core (Tape) Cisco
B33: cmdsrdc4-jd-01 | C33: DS-C9513 | D33: 5.2(8b) | E33: FOX1202H3PN | F33: 116 | G33: 4 | H33: 0.033333333 | I33: 0 | J33: 120 | K33: Core (Disk) Cisco
B34: cmdsrdc4-jd-02 | C34: DS-C9513 | D34: 5.2(8b) | E34: FOX1150H529 | F34: 113 | G34: 7 | H34: 0.058333333 | I34: 0 | J34: 120 | K34: Core (Disk) Cisco
B35: cmdsrdc4-jd-11 | C35: DS-C9513 | D35: 5.2(8b) | E35: FOX1521H7SD | F35: 200 | G35: 104 | H35: 0.34210526 | I35: 0 | J35: 304 | K35: Core (Disk) Cisco
B36: cmdsrdc4-jd-14 | C36: DS-C9513 | D36: 5.2(8b) | E36: FOX1545GUCQ | F36: 26 | G36: 294 | H36: 0.91875 | I36: 0 | J36: 320 | K36: Core (Disk) Cisco
B37: cmdsrdc4-rb-01 | C37: DS-C9513 | D37: 5.2(8b) | E37: FOX1202H3NR | F37: 114 | G37: 18 | H37: 0.13636364 | I37: 0 | J37: 132 | K37: Core (Disk) Cisco
B38: cmdsrdc4-rb-02 | C38: DS-C9513 | D38: 5.2(8b) | E38: FOX1202H3N8 | F38: 112 | G38: 20 | H38: 0.15151515 | I38: 0 | J38: 132 | K38: Core (Disk) Cisco
B39: cmdsrdc4-rb-11 | C39: DS-C9513 | D39: 5.2(8b) | E39: FOX1523GLLE | F39: 199 | G39: 105 | H39: 0.34539474 | I39: 0 | J39: 304 | K39: Core (Disk) Cisco
B40: cmdsrdc4-rb-14 | C40: DS-C9513 | D40: 5.2(8b) | E40: FOX1545GUCC | F40: 26 | G40: 293 | H40: 0.9184953 | I40: 1 | J40: 320 | K40: Core (Disk) Cisco
B41: emdsrdc1-jd-06 | C41: DS-C9513 | D41: 5.2(8b) | E41: FOX1227GSWP | F41: 101 | G41: 81 | H41: 0.44505495 | I41: 0 | J41: 182 | K41: Edge (Disk) Cisco
B42: emdsrdc1-rb-06 | C42: DS-C9513 | D42: 5.2(8b) | E42: FOX1228GRAY | F42: 100 | G42: 84 | H42: 0.45652174 | I42: 0 | J42: 184 | K42: Edge (Disk) Cisco
...
