Workbook
Name RMCF1C00_Spare: '[1]CFR-Ports'!$B$153
Name RMCF1C00_Used: '[1]CFR-Ports'!$B$154
Name RMCF1E00_Spare: '[1]CFR-Ports'!$D$153
Name RMCF1E00_Used: '[1]CFR-Ports'!$D$154

Sheet SAN Storage Inventory
A1: Citigroup Distributed Storage Inventory Report for August 2013 (from ECC)
A2: Array Serial # | B2: Array | C2: Site | D2: Vendor & Model | E2: Tier | F2: Code Level | G2: Unformatted Disk Total | H2: Formatted Disk Total | I2: Unconfigured Disk Total | J2: Device Total | K2: Allocated | L2: Free | M2: % Allocated | N2: Replication | O2: Notes
A3: North America (NAM)
A4: 390 Greenwich, NY
A5: 000190104419 | B5: USOEE001N4419 | C5: 390 Greenwich | D5: EMC Symmetrix DMX4-24 | E5: Tier 2 | F5: 5773.184 | G5: 64240 | H5: 60162.43 | I5: 594.35 | J5: 59497.92 | K5: 36311.3 | L5: 23186.62 | M5: 0.61 | N5: Non-replicated | O5: Install 2009-07 | P5: 1
A6: 000190104419 | B6: USOEE001N4419 | C6: 390 Greenwich | D6: EMC Symmetrix DMX4-24 | E6: Tier 4 | F6: 5773.184 | G6: 40800 | H6: 37997.96 | I6: 610.65 | J6: 37342.81 | K6: 25319.23 | L6: 12023.58 | M6: 0.678 | N6: Non-replicated | O6: Install 2009-07
A7: 000192601786 | B7: USOEE002N1786 | C7: 390 Greenwich | D7: EMC Symmetrix VMAX-1 | E7: Tier 4 | F7: 5876.163 | G7: 220800 | H7: 200632.1 | I7: 2156.6 | J7: 195425.41 | K7: 136163.26 | L7: 59262.16 | M7: 0.697 | N7: Non-replicated | O7: Install 2010-01 | P7: 1
A8: 000192602531 | B8: USOEE003R2531 | C8: 390 Greenwich | D8: EMC Symmetrix VMAX-1 | E8: Tier 4 | F8: 5876.163 | G8: 86400 | H8: 78508.22 | I8: 951.04 | J8: 76366.57 | K8: 54525.98 | L8: 21840.6 | M8: 0.714 | N8: Non-replicated | O8: Install 2010-05 | P8: 1
A9: 000192602810 | B9: USOEE004N2810 | C9: 390 Greenwich | D9: EMC Symmetrix VMAX-1 | E9: Tier 4 | F9: 5876.163 | G9: 280799.99 | H9: 255151.68 | I9: 3085.83 | J9: 249671.91 | K9: 195996.36 | L9: 53675.55 | M9: 0.785 | N9: Non-replicated | O9: Install 2010-07 | P9: 1
A10: 000194900260 | B10: USOEE005N0260 | C10: 390 Greenwich | D10: EMC Symmetrix VMAX-1SE | E10: Tier 4 | F10: 5876.163 | G10: 61600 | H10: 61061.94 | I10: 1028.96 | J10: 59610.86 | K10: 38181.7 | L10: 21429.18 | M10: 0.641 | N10: Non-replicated | O10: Install 2010-09 (from 111w) | P10: 1
A11: 000192603107 | B11: USOEE006N3107 | C11: 390 Greenwich | D11: EMC Symmetrix VMAX-1 | E11: Tier 4 | F11: 5876.163 | G11: 124800 | H11: 113400.75 | I11: 1766.07 | J11: 109922.4 | K11: 75316.12 | L11: 34606.28 | M11: 0.685 | N11: Non-replicated | O11: Install 2011-01 | P11: 1
A12: 000192600736 | B12: USOEE007N0736 | C12: 390 Greenwich | D12: EMC Symmetrix VMAX-1 | E12: Tier 4 | F12: 5876.163 | G12: 172800 | H12: 157016.42 | I12: 3764.5 | J12: 152699.24 | K12: 123083.26 | L12: 29615.98 | M12: 0.806 | N12: Non-replicated | O12: Install 2011-10 | P12: 1
A13: 000192600688 | B13: USOEE008N0688 | C13: 390 Greenwich | D13: EMC Symmetrix VMAX-1 | E13: Tier 4 | F13: 5876.163 | G13: 145600 | H13: 130695.64 | I13: 703.71 | J13: 127997.28 | K13: 75982.43 | L13: 52014.86 | M13: 0.594 | N13: Non-replicated | O13: Install 2012-03 | P13: 1
A14: 000192605487 | B14: USOEE009N5487 | C14: 390 Greenwich | D14: EMC Symmetrix VMAX-1 | E14: Tier 4 | F14: 5876.163 | G14: 470400 | H14: 423055.28 | I14: 309.37 | J14: 419043.13 | K14: 76499.81 | L14: 342543.32 | M14: 0.183 | N14: Non-replicated | O14: Install 2013-02 | P14: 1
A15: 000295700298 | B15: USOEE010N0298 | C15: 390 Greenwich | D15: EMC Symmetrix VMAX40K | E15: Tier 4 | F15: 5876.163 | G15: 402688 | H15: 365237.8 | I15: 213.14 | J15: 362067.2 | K15: 65596.42 | L15: 296470.78 | M15: 0.181 | N15: Non-replicated | O15: Install 2013-06 | P15: 1
A16: 000195701406 | B16: USOEE011N1406 | C16: 390 Greenwich | D16: EMC Symmetrix VMAX40K | E16: Tier 4 | F16: 5876.163 | G16: 431232 | H16: 384258.46 | I16: 218.16 | J16: 383742.64 | K16: 1720.77 | L16: 382021.86 | M16: 0.004 | N16: Non-replicated | O16: Install 2013-06 | P16: 1
A17: 000190104992 | B17: USOEE095R4992 | C17: 390 Greenwich | D17: EMC Symmetrix DMX4-24 | E17: Tier 1 | F17: 5773.184 | G17: 52036.11 | H17: 48733.17 | I17: 504.77 | J17: 48171.38 | K17: 33797.04 | L17: 14374.34 | M17: 0.702 | N17: Replicated | O17: Install 2009-04 | P17: 1
A18: 000190104992 | B18: USOEE095R4992 | C18: 390 Greenwich | D18: EMC Symmetrix DMX4-24 | E18: Tier 4 | F18: 5773.184 | G18: 22123.89 | H18: 20607.21 | I18: 203.04 | J18: 20376.8 | K18: 12681.31 | L18: 7695.49 | M18: 0.622 | N18: Replicated | O18: Install 2009-04
A19: 000190104944 | B19: USOEE097N4944 | C19: 390 Greenwich | D19: EMC Symmetrix DMX4-24 | E19: Tier 2 | F19: 5773.184 | G19: 68912 | H19: 64537.88 | I19: 731.13 | J19: 63731.55 | K19: 44100.45 | L19: 19631.1 | M19: 0.692 | N19: Non-replicated | O19: Install 2009-03 | P19: 1
A20: 000190104944 | B20: USOEE097N4944 | C20: 390 Greenwich | D20: EMC Symmetrix DMX4-24 | E20: Tier 4 | F20: 5773.184 | G20: 60000 | H20: 55879.35 | I20: 898.23 | J20: 54915.68 | K20: 38653.02 | L20: 16262.66 | M20: 0.704 | N20: Non-replicated | O20: Install 2009-03
A21: 000190105169 | B21: USOEE098R5169 | C21: 390 Greenwich | D21: EMC Symmetrix DMX4-24 | E21: Tier 1 | F21: 5773.184 | G21: 44658.3 | H21: 41823.66 | I21: 346.34 | J21: 41428.31 | K21: 32910.69 | L21: 8517.62 | M21: 0.794 | N21: Replicated | O21: Install 2009-07 | P21: 1
A22: 000190105169 | B22: USOEE098R5169 | C22: 390 Greenwich | D22: EMC Symmetrix DMX4-24 | E22: Tier 2 | F22: 5773.184 | G22: 3229.7 | H22: 3024.7 | I22: 25.05 | J22: 2996.11 | K22: 2809.01 | L22: 187.1 | M22: 0.938 | N22: Replicated | O22: Install 2009-07
A23: 000190105169 | B23: USOEE098R5169 | C23: 390 Greenwich | D23: EMC Symmetrix DMX4-24 | E23: Tier 4 | F23: 5773.184 | G23: 19200 | H23: 17881.39 | I23: 172.25 | J23: 17688.07 | K23: 15839.1 | L23: 1848.96 | M23: 0.895 | N23: Replicated | O23: Install 2009-07
A24: 18661 | B24: USOEH011N8661 | C24: 390 Greenwich | D24: HDS HDS R600 | E24: Tier 4 | F24: 60-08-13-00/00 | G24: 57600 | H24: 51533.6 | I24: 0 | J24: 51533.53 | K24: 35971.67 | L24: 15561.86 | M24: 0.698 | N24: Non-replicated | O24: Install 2010-10 (from 111W) | P24: 1
A25: 65064 | B25: USOEH052N5064 | C25: 390 Greenwich | D25: HDS HDS R700 | E25: Tier 4 | F25: 70-05-17-00/00 | G25: 216000 | H25: 193250.99 | I25: 0 | J25: 193250.48 | K25: 130873.8 | L25: 62376.68 | M25: 0.677 | N25: Non-replicated | O25: Install 2011-04 | P25: 1
A26: 65075 | B26: USOEH053N5075 | C26: 390 Greenwich | D26: HDS HDS R700 | E26: Tier 4 | F26: 70-05-17-00/00 | G26: 216000 | H26: 193250.99 | I26: 0 | J26: 193250.48 | K26: 109649.5 | L26: 83600.98 | M26: 0.567 | N26: Non-replicated | O26: Install 2011-04 | P26: 1
A27: FNM00085200120 | B27: USOEC138N0120 | C27: 390 Greenwich | D27: EMC Clariion CX4-120 | E27: Tier 4 | F27: 04.28.000.5.501 | G27: 32100 | H27: 28676 | I27: 7983 | J27: 19390.71 | K27: 3260.36 | L27: 16130.36 | M27: 0.168 | N27: Non-replicated | O27: Install 2009-11 | P27: 1
A28: FCNMM091900050 | B28: USOEC139N0050 | C28: 390 Greenwich | D28: EMC Clariion AX4-5 | E28: Tier 5 | F28: 2.23.50.5.711 | G28: 58000 | H28: 53186 | I28: 400.01 | J28: 49111.17 | K28: 34231.17 | L28: 14880 | M28: 0.697 | N28: Non-replicated | O28: Install 2009-08 | P28: 1
A29: SL7E1095100057 | B29: USOEC140N0057 | C29: 390 Greenwich | D29: EMC Clariion AX4-5 | E29: Tier 5 | F29: 2.23.50.5.711 | G29: 58000 | H29: 53186 | I29: 9476.18 | J29: 40035 | K29: 0 | L29: 40035 | M29: 0 | N29: Non-replicated | O29: Install 2010-06 | P29: 1
A30: FNM00103500190 | B30: USOEC141N0190 | C30: 390 Greenwich | D30: EMC Clariion CX4-240 | E30: Tier 4 | F30: 04.28.000.5.704 | G30: 9130 | H30: 8169 | I30: 66.38 | J30: 6206.67 | K30: 6206.67 | L30: 0 | M30: 1 | N30: Non-replicated | O30: Install 2011-04 | P30: 1
A32: Columbus, OH
A33: APM00105101584 | B33: USOZC002N1584 | C33: Columbus | D33: EMC Clariion CX4-120 | E33: Tier 4 | F33: 04.28.000.5.706 | G33: 9130 | H33: 8169 | I33: 395.37 | J33: 7117.83 | K33: 7117.83 | L33: 0 | M33: 1 | N33: Non-replicated | O33: Install 2011-04 | P33: 1
A35: Columbus, OH (MWDC)
A36: 000190103105 | B36: USOME001N3105 | C36: MWDC | D36: EMC Symmetrix DMX3-24 | E36: Tier 2 | F36: 5773.184 | G36: 57232 | H36: 53599.26 | I36: 502.25 | J36: 53034.15 | K36: 3944.33 | L36: 49089.81 | M36: 0.074 | N36: Not replicated | P36: 1
A37: 000190103105 | B37: USOME001N3105 | C37: MWDC | D37: EMC Symmetrix DMX3-24 | E37: Tier 4 | F37: 5773.184 | G37: 81000 | H37: 75437.12 | I37: 2678.96 | J37: 72671.85 | K37: 17062.1 | L37: 55609.75 | M37: 0.235 | N37: Not replicated
A38: 000190102071 | B38: USOME003N2071 | C38: MWDC | D38: EMC Symmetrix DMX4-24 | E38: Tier 2 | F38: 5773.184 | G38: 128480 | H38: 120324.87 | I38: 1348.78 | J38: 118835.17 | K38: 114391.56 | L38: 4443.61 | M38: 0.963 | N38: Not replicated | O38: Install 2008-09 | P38: 1
A39: 000190104687 | B39: USOME004N4687 | C39: MWDC | D39: EMC Symmetrix DMX4-24 | E39: Tier 4 | F39: 5773.184 | G39: 105600 | H39: 98347.66 | I39: 1467.12 | J39: 96765.59 | K39: 93108.29 | L39: 3657.3 | M39: 0.962 | N39: Not replicated | O39: Install 2008-11 | P39: 1
A40: 000190104686 | B40: USOME005N4686 | C40: MWDC | D40: EMC Symmetrix DMX4-24 | E40: Tier 2 | F40: 5773.184 | G40: 131984 | H40: 123606.45 | I40: 1256.78 | J40: 122204.77 | K40: 111611.36 | L40: 10593.41 | M40: 0.913 | N40: Not replicated | O40: Install 2009-04 | P40: 1
A41: 000190105249 | B41: USOME006N5249 | C41: MWDC | D41: EMC Symmetrix DMX4-24 | E41: Tier 4 | F41: 5773.184 | G41: 139200 | H41: 129640.1 | I41: 1974.55 | J41: 127513.98 | K41: 115251.51 | L41: 12262.47 | M41: 0.904 | N41: Not replicated | O41: Install 2009-04 | P41: 1
A42: 000192602212 | B42: USOME007N2212 | C42: MWDC | D42: EMC Symmetrix VMAX-1 | E42: Tier 4 | F42: 5876.163 | G42: 259200.01 | H42: 235524.63 | I42: 3455.77 | J42: 230155.15 | K42: 185915.86 | L42: 44239.29 | M42: 0.808 | N42: Not replicated | O42: Install 2010-01 | P42: 1
A43: 000192602275 | B43: USOME008N2275 | C43: MWDC | D43: EMC Symmetrix VMAX-1 | E43: Tier 4 | F43: 5876.163 | G43: 259200 | H43: 235524.62 | I43: 2926.56 | J43: 230423.39 | K43: 185310.68 | L43: 45112.71 | M43: 0.804 | N43: Not replicated | O43: Install 2010-01 | P43: 1
A44: 000192603346 | B44: USOME009R3346 | C44: MWDC | D44: EMC Symmetrix VMAX-1 | E44: Tier 4 | F44: 5876.163 | G44: 38400 | H44: 34892.54 | I44: 600.25 | J44: 33766.3 | K44: 10241.67 | L44: 23524.64 | M44: 0.303 | N44: Replicated | O44: Install 2011-01 | P44: 1
A45: 000192603092 | B45: USOME010N3092 | C45: MWDC | D45: EMC Symmetrix VMAX-1 | E45: Tier 4 | F45: 5875.249 | G45: 168000 | H45: 152654.85 | I45: 6233.13 | J45: 144174.33 | K45: 118217.44 | L45: 25956.89 | M45: 0.82 | N45: Not replicated | O45: Install 2011-01 | P45: 1
A46: 000192603826 | B46: USOME011N3826 | C46: MWDC | D46: EMC Symmetrix VMAX-1 | E46: Tier 4 | F46: 5876.163 | G46: 240000 | H46: 218078.37 | I46: 3101.03 | J46: 211673.12 | K46: 198079.59 | L46: 13593.53 | M46: 0.936 | N46: Not replicated | O46: Install 2011-01 | P46: 1
A47: 000192603826 | B47: USOME011N3826 | C47: MWDC | D47: EMC Symmetrix VMAX-1 | E47: Tier 5 | F47: 5876.163 | G47: 224000 | H47: 208659 | I47: 188.91 | J47: 205262.86 | K47: 200835.81 | L47: 4427.05 | M47: 0.978 | N47: Not replicated | O47: Install 2011-01
A48: 000192603763 | B48: USOME012N3763 | C48: MWDC | D48: EMC Symmetrix VMAX-1 | E48: Tier 4 | F48: 5875.249 | G48: 316799.99 | H48: 287863.44 | I48: 3386.6 | J48: 281726.32 | K48: 234690.83 | L48: 47035.5 | M48: 0.833 | N48: Not replicated | O48: Install 2011-02 | P48: 1
A49: 000192603975 | B49: USOME015R3975 | C49: MWDC | D49: EMC Symmetrix VMAX-1 | E49: Tier 4 | F49: 5876.163 | G49: 57600 | H49: 52338.8 | I49: 654.65 | J49: 50894.91 | K49: 20652.29 | L49: 30242.62 | M49: 0.406 | N49: Replicated | O49: Install 2011-02 | P49: 1
A50: 000192603828 | B50: USOME016N3828 | C50: MWDC | D50: EMC Symmetrix VMAX-1 | E50: Tier 4 | F50: 5875.249 | G50: 302400 | H50: 274778.74 | I50: 3372.36 | J50: 268849.98 | K50: 198281.69 | L50: 70568.28 | M50: 0.738 | N50: Not replicated | O50: Install 2011-07 | P50: 1
A51: 000192600726 | B51: USOME017N0726 | C51: MWDC | D51: EMC Symmetrix VMAX-1 | E51: Tier 4 | F51: 5875.249 | G51: 331200 | H51: 300948.13 | I51: 3402.91 | J51: 294601.61 | K51: 176718.4 | L51: 117883.21 | M51: 0.6 | N51: Not replicated | O51: Install 2011-11 | P51: 1
A52: 000192600791 | B52: USOME018N0791 | C52: MWDC | D52: EMC Symmetrix VMAX-1 | E52: Tier 4 | F52: 5875.269 | G52: 220800 | H52: 198442.94 | I52: 1976.53 | J52: 193449.09 | K52: 110662.97 | L52: 82786.11 | M52: 0.572 | N52: Not replicated | O52: Install 2012-01 | P52: 1
A53: 000192604708 | B53: USOME019N4708 | C53: MWDC | D53: EMC Symmetrix VMAX-1 | E53: Tier 4 | F53: 5875.269 | G53: 384000 | H53: 344547.07 | I53: 1805.88 | J53: 337473.49 | K53: 207151.67 | L53: 130321.82 | M53: 0.614 | N53: Not replicated | O53: Install 2012-01 | P53: 1
A54: 000192604705 | B54: USOME020N4705 | C54: MWDC | D54: EMC Symmetrix VMAX-1 | E54: Tier 4 | F54: 5875.269 | G54: 384000 | H54: 344547.07 | I54: 1805.88 | J54: 337473.49 | K54: 183257.97 | L54: 154215.52 | M54: 0.543 | N54: Not replicated | O54: Install 2012-04 | P54: 1
A55: 000192600749 | B55: USOME021R0749 | C55: MWDC | D55: EMC Symmetrix VMAX-1 | E55: Tier 4 | F55: 5876.163 | G55: 57600 | H55: 52338.8 | I55: 908.46 | J55: 51081.37 | K55: 32014.22 | L55: 19067.15 | M55: 0.627 | N55: Replicated | O55: Install 2012-03 | P55: 1
A56: 000192600898 | B56: USOME022N0898 | C56: MWDC | D56: EMC Symmetrix VMAX-1 | E56: Tier 4 | F56: 5875.267 | G56: 38400 | H56: 34892.54 | I56: 779.22 | J56: 33591.62 | K56: 25479.09 | L56: 8112.53 | M56: 0.758 | N56: Not replicated | O56: Install 2012-05 | P56: 1
A57: 000192604951 | B57: USOME023N4951 | C57: MWDC | D57: EMC Symmetrix VMAX-1 | E57: Tier 4 | F57: 5875.269 | G57: 384000 | H57: 344547.07 | I57: 1805.88 | J57: 337473.49 | K57: 182362.77 | L57: 155110.72 | M57: 0.54 | N57: Not replicated | O57: Install 2012-05 | P57: 1
A58: 000192605069 | B58: USOME025N5069 | C58: MWDC | D58: EMC Symmetrix VMAX-1 | E58: Tier 4 | F58: 5875.269 | G58: 384000 | H58: 344547.07 | I58: 2080.52 | J58: 337198.85 | K58: 192149.17 | L58: 145049.68 | M58: 0.57 | N58: Not replicated | O58: Install 2012-06 | P58: 1
A59: 000192605237 | B59: USOME026N5237 | C59: MWDC | D59: EMC Symmetrix VMAX-1 | E59: Tier 4 | F59: 5875.269 | G59: 530800 | H59: 476770.51 | I59: 3189.79 | J59: 469004.53 | K59: 411226.82 | L59: 57777.71 | M59: 0.877 | N59: Non-replicated | O59: Install 2012-08 | P59: 1
... A61: 000190100857 | B61: USOME028N0857 | C61: MWDC | D61: EMC Symmetrix DMX4-24 | E61: Tier 4 | F61: 5876.163 | G61: 470400 | H61: 423055.28 | I61: 309.37 | J61: 419043.13 | K61: 148661.58 | L61: 270381.55 | M61: 0.355 | N61: Non-replicated | O61: Install 2013-04 (from SSMD) | P61: 1
A62: 000190100857 | B62: USOME028N0857 | C62: MWDC | D62: EMC Symmetrix DMX4-24 | E62: Tier 2 | F62: 5773.184 | G62: 35040 | H62: 32815.87 | I62: 410.11 | J62: 32367.55 | K62: 32367.37 | L62: 0.18 | M62: 1 | N62: Non-replicated | O62: Install 2013-04 (from SSMD)
A63: 000192605488 | B63: USOME028N5488 | C63: MWDC | D63: EMC Symmetrix VMAX-1 | E63: Tier 4 | F63: 5773.184 | G63: 36000 | H63: 33527.61 | I63: 488.41 | J63: 32999.89 | K63: 32118.3 | L63: 881.6 | M63: 0.973 | N63: Non-replicated | O63: Install 2013-02 | P63: 1
A64: 000190104688 | B64: USOME029R4688 | C64: MWDC | D64: EMC Symmetrix DMX4-24 | E64: Tier 1 | F64: 5773.184 | G64: 8813.22 | H64: 8253.81 | I64: 33.89 | J64: 8210.25 | K64: 7322.05 | L64: 888.2 | M64: 0.892 | N64: Replicated | O64: Install 2008-12 | P64: 1
A65: 000190104688 | B65: USOME029R4688 | C65: MWDC | D65: EMC Symmetrix DMX4-24 | E65: Tier 2 | F65: 5773.184 | G65: 23890.78 | H65: 22374.33 | I65: 91.86 | J65: 22256.23 | K65: 422.78 | L65: 21833.44 | M65: 0.019 | N65: Replicated | O65: Install 2008-12
A66: 000190104688 | B66: USOME029R4688 | C66: MWDC | D66: EMC Symmetrix DMX4-24 | E66: Tier 4 | F66: 5773.184 | G66: 9600 | H66: 8940.7 | I66: 383.81 | J66: 8547.45 | K66: 5683.35 | L66: 2864.1 | M66: 0.665 | N66: Replicated | O66: Install 2008-12
A67: 000295700335 | B67: USOME030N0335 | C67: MWDC | D67: EMC Symmetrix VMAX40K | E67: Tier 4 | F67: 5876.163 | G67: 296832 | H67: 262134.58 | I67: 213.32 | J67: 261623.58 | K67: 102913.14 | L67: 158710.44 | M67: 0.393 | N67: Non-replicated | O67: Install 2013-04 | P67: 1
A68: 000295700259 | B68: USOME031N0259 | C68: MWDC | D68: EMC Symmetrix VMAX40K | E68: Tier 4 | F68: 5876.159 | G68: 595200 | H68: 548295.3 | I68: 215.43 | J68: 543379.76 | K68: 87995.91 | L68: 455383.85 | M68: 0.162 | N68: Non-replicated | O68: Install 2013-04 | P68: 1
A69: 000195701332 | B69: USOME032N1332 | C69: MWDC | D69: EMC Symmetrix VMAX40K | E69: Tier 4 | F69: 5876.159 | G69: 307200 | H69: 280019.43 | I69: 214.17 | J69: 279232.45 | K69: 2493.68 | L69: 276738.78 | M69: 0.009 | N69: Non-replicated | O69: Install 2013-06 | P69: 1
A70: 000195701347 | B70: USOME033N1347 | C70: MWDC | D70: EMC Symmetrix VMAX40K | E70: Tier 4 | F70: 5876.159 | G70: 595200 | H70: 548295.3 | I70: 216.19 | J70: 543379.01 | K70: 83342.95 | L70: 460036.06 | M70: 0.153 | N70: Non-replicated | O70: Install 2013-06 | P70: 1
A71: 000195701349 | B71: USOME034N1349 | C71: MWDC | D71: EMC Symmetrix VMAX40K | E71: Tier 4 | F71: 5876.159 | G71: 595200 | H71: 548295.3 | I71: 216.19 | J71: 543379.01 | K71: 72006.82 | L71: 471372.19 | M71: 0.133 | N71: Non-replicated | O71: Install 2013-06 | P71: 1
A72: 000195701368 | B72: USOME035N1368 | C72: MWDC | D72: EMC Symmetrix VMAX40K | E72: Tier 4 | F72: 5876.159 | G72: 584832 | H72: 530410.44 | I72: 216.48 | J72: 525769.01 | K72: 17289.2 | L72: 508479.81 | M72: 0.033 | N72: Non-replicated | O72: Install 2013-06 | P72: 1
A73: 000195701425 | B73: USOME036N1425 | C73: MWDC | D73: EMC Symmetrix VMAX40K | E73: Tier 4 | F73: 5876.159 | G73: 584832 | H73: 530410.44 | I73: 216.48 | J73: 525769.01 | K73: 37245.47 | L73: 488523.54 | M73: 0.071 | N73: Non-replicated | O73: Install 2013-06 | P73: 1
A74: 000190104935 | B74: USOME037R4935 | C74: MWDC | D74: EMC Symmetrix DMX4-24 | E74: Tier 1 | F74: 5773.168 | G74: 11194.12 | H74: 10483.58 | I74: 66.3 | J74: 10405.02 | K74: 10366.48 | L74: 38.54 | M74: 0.996 | N74: Replicated | O74: Install 2009-06 | P74: 1
A75: 000190104935 | B75: USOME037R4935 | C75: MWDC | D75: EMC Symmetrix DMX4-24 | E75: Tier 2 | F75: 5773.168 | G75: 22677.88 | H75: 21238.43 | I75: 134.31 | J75: 21079.27 | K75: 6046.17 | L75: 15033.1 | M75: 0.287 | N75: Replicated | O75: Install 2009-06
A76: 000190104935 | B76: USOME037R4935 | C76: MWDC | D76: EMC Symmetrix DMX4-24 | E76: Tier 4 | F76: 5773.168 | G76: 36000 | H76: 33527.61 | I76: 428.34 | J76: 33059.87 | K76: 17586.17 | L76: 15473.7 | M76: 0.532 | N76: Replicated | O76: Install 2009-06
A77: 000195701595 | B77: USOME038N1595 | C77: MWDC | D77: EMC Symmetrix VMAX40K | E77: Tier 4 | F77: 5876.163 | G77: 271200 | H77: 246428.55 | I77: 140 | J77: 246266.05 | K77: 1505.71 | L77: 244760.34 | M77: 0.006 | N77: Non-replicated | O77: Install 2013-07 | P77: 1
A78: 000192603117 | B78: USOME047R3117 | C78: MWDC | D78: EMC Symmetrix VMAX-1 | E78: Tier 4 | F78: 5876.163 | G78: 86400 | H78: 78508.21 | I78: 1734.84 | J78: 76427.52 | K78: 63209.09 | L78: 13218.42 | M78: 0.827 | N78: Replicated | O78: Install 2010-10 | P78: 1
A79: 000192603951 | B79: USOME052R3951 | C79: MWDC | D79: EMC Symmetrix VMAX-1 | E79: Tier 4 | F79: 5876.163 | G79: 81600 | H79: 74146.64 | I79: 723.84 | J79: 72294.81 | K79: 25698.17 | L79: 46596.63 | M79: 0.355 | N79: Replicated | O79: Install 2011-03 | P79: 1
A80: 000192600799 | B80: USOME060R0799 | C80: MWDC | D80: EMC Symmetrix VMAX-1 | E80: Tier 4 | F80: 5876.163 | G80: 62400 | H80: 56700.38 | I80: 668.91 | J80: 55175.32 | K80: 30464.65 | L80: 24710.68 | M80: 0.552 | N80: Replicated | O80: Install 2011-11 | P80: 1
A81: 000192605212 | B81: USOME065R5212 | C81: MWDC | D81: EMC Symmetrix VMAX-1 | E81: Tier 4 | F81: 5876.163 | G81: 57600 | H81: 52338.81 | I81: 1433.81 | J81: 50811.02 | K81: 29963.85 | L81: 20847.17 | M81: 0.59 | N81: Replicated | O81: Install 2012-06 | P81: 1
A82: 000192604979 | B82: USOME066R4979 | C82: MWDC | D82: EMC Symmetrix VMAX-1 | E82: Tier 4 | F82: 5876.163 | G82: 158400 | H82: 143931.71 | I82: 1540.71 | J82: 140937.42 | K82: 62529.77 | L82: 78407.64 | M82: 0.444 | N82: Replicated | O82: Install 2012-06 | P82: 1
A83: 000192605736 | B83: USOME071R5736 | C83: MWDC | D83: EMC Symmetrix VMAX-1 | E83: Tier 4 | F83: 5876.163 | G83: 79200 | H83: 71965.86 | I83: 1465.12 | J83: 70115.47 | K83: 40574.47 | L83: 29540.99 | M83: 0.579 | N83: Replicated | O83: Install 2013-01 | P83: 1
A84: 48555 | B84: USOMH013N8555 | C84: MWDC | D84: HDS HDS R600 | E84: Tier 4 | F84: 60-08-13-00/00 | G84: 76800 | H84: 68957.95 | I84: 0 | J84: 68957.88 | K84: 38895.31 | L84: 30062.57 | M84: 0.564 | N84: Non-replicated | O84: Install 2009-11 HDP | P84: 1
A85: 29044 | B85: USOMH014N9044 | C85: MWDC | D85: HDS HDS R600 | E85: Tier 4 | F85: 60-08-13-00/00 | G85: 190000 | H85: 175502.1 | I85: 0 | J85: 158324.18 | K85: 126789.48 | L85: 31534.7 | M85: 0.801 | N85: Non-replicated | O85: Install 2009-12 HDP | P85: 1
A86: 65289 | B86: USOMH016N5289 | C86: MWDC | D86: HDS HDS R700 | E86: Tier 4 | F86: 70-05-17-00/00 | G86: 83600 | H86: 81594.87 | I86: 0 | J86: 81594.49 | K86: 48342.12 | L86: 33252.36 | M86: 0.592 | N86: Non-replicated | O86: Install 2011-04 | P86: 1
A87: 93136 | B87: USOMH017N3136 | C87: MWDC | D87: HDS HDS R700 | E87: Tier 4 | F87: 70-05-17-00/00 | G87: 290400 | H87: 283434.78 | I87: 0 | J87: 283434.68 | K87: 0 | L87: 283434.68 | M87: 0 | N87: Non-replicated | O87: Install 2011-04 | P87: 1
A88: SL7E1083800005 | B88: USOMC001N0005 | C88: MWDC | D88: EMC Clariion AX4-5 | E88: Tier 4 | F88: 2.23.50.5.711 | G88: 9594 | H88: 8671 | I88: 814.52 | J88: 7204 | K88: 7204 | L88: 0 | M88: 1 | N88: Non-replicated | O88: Install 2009-01 | P88: 1
... A100: FNM00103400242 | B100: USOMC013N0242 | C100: MWDC | D100: EMC Clariion CX4-240 | E100: Tier 4 | F100: 04.28.000.5.706 | G100: 8400 | H100: 7504 | I100: 66.38 | J100: 6206.67 | K100: 6206.67 | L100: 0 | M100: 1 | N100: Non-replicated | O100: Install 2011-04 | P100: 1
A101: FNM00103400242 | B101: USOMC013N0242 | C101: MWDC | D101: EMC Clariion CX4-240 | E101: Tier 5 | F101: 04.28.000.5.706 | G101: 6230 | H101: 6025 | I101: 47.75 | J101: 5320 | K101: 3990 | L101: 1330 | M101: 0.75 | N101: Non-replicated | O101: Install 2011-04
A102: SL7E1104000084 | B102: USOMC014N0084 | C102: MWDC | D102: EMC Clariion AX4-5 | E102: Tier 4 | F102: 2.23.50.5.711 | G102: 6584 | H102: 5892 | I102: 1921.91 | J102: 3300 | K102: 3300 | L102: 0 | M102: 1 | N102: Non-replicated | O102: Install 2010-11 | P102: 1
A103: SL7E1104000093 | B103: USOMC015N0093 | C103: MWDC | D103: EMC Clariion AX4-5 | E103: Tier 4 | F103: 2.23.50.5.711 | G103: 6584 | H103: 5892 | I103: 1921.91 | J103: 3300 | K103: 3300 | L103: 0 | M103: 1 | N103: Non-replicated | O103: Install 2010-11 | P103: 1
A104: SL7E1104000081 | B104: USOMC016N0081 | C104: MWDC | D104: EMC Clariion AX4-5 | E104: Tier 4 | F104: 2.23.50.5.711 | G104: 6584 | H104: 5892 | I104: 1921.91 | J104: 3300 | K104: 3300 | L104: 0 | M104: 1 | N104: Non-replicated | O104: Install 2010-11 | P104: 1
A105: FCNMM103000111 | B105: USOMC017N0111 | C105: MWDC | D105: EMC Clariion AX4-5 | E105: Tier 4 | F105: 2.23.50.5.711 | G105: 6584 | H105: 5892 | I105: 1921.91 | J105: 3300 | K105: 3300 | L105: 0 | M105: 1 | N105: Non-replicated | O105: Install 2010-11 | P105: 1
A106: SL7E1104000088 | B106: USOMC018N0088 | C106: MWDC | D106: EMC Clariion AX4-5 | E106: Tier 4 | F106: 2.23.50.5.711 | G106: 6584 | H106: 5892 | I106: 1921.91 | J106: 3300 | K106: 3300 | L106: 0 | M106: 1 | N106: Non-replicated | O106: Install 2010-11 | P106: 1
A107: APM00110400861 | B107: USOMC019N0861 | C107: MWDC | D107: EMC Clariion CX4-240 | E107: Tier 4 | F107: 04.28.000.5.706 | G107: 9900 | H107: 8844 | I107: 66.38 | J107: 7448 | K107: 7448 | L107: 0 | M107: 1 | N107: Non-replicated | O107: Install 2011-09 | P107: 1
A108: APM00110400861 | B108: USOMC019N0861 | C108: MWDC | D108: EMC Clariion CX4-240 | E108: Tier 5 | F108: 04.28.000.5.706 | G108: 8250 | H108: 8040 | I108: 66.85 | J108: 7448 | K108: 7448 | L108: 0 | M108: 1 | N108: Non-replicated | O108: Install 2011-09
A109: APM00115000237 | B109: USOMC020N0237 | C109: MWDC | D109: EMC Clariion VNX7500 | E109: Tier 4 | F109: 05.32.000.5.015 | G109: 535000 | H109: 495504 | I109: 0 | J109: 0 | K109: 0 | L109: 0 | M109: 0 | N109: Non-replicated | O109: Install 2012-07 | P109: 1
A110: APM00115000237 | B110: USOMC020N0237 | C110: MWDC | D110: EMC Clariion VNX7500 | E110: Tier 5 | F110: 05.32.000.5.015 | G110: 96000 | H110: 88032 | I110: 5242.13 | J110: 82709.72 | K110: 82709.72 | L110: 0 | M110: 1 | N110: Non-replicated | O110: Install 2012-07
A111: APM00121003912 | B111: USOMC021N3912 | C111: MWDC | D111: EMC Clariion VNX7500 | E111: Tier 4 | F111: 05.32.000.5.015 | G111: 529500 | H111: 490144 | I111: 0 | J111: 0 | K111: 0 | L111: 0 | M111: 0 | N111: Non-replicated | O111: Install 2012-07 | P111: 1
A112: APM00121003912 | B112: USOMC021N3912 | C112: MWDC | D112: EMC Clariion VNX7500 | E112: Tier 5 | F112: 05.32.000.5.015 | G112: 96000 | H112: 88032 | I112: 5242.13 | J112: 82709.72 | K112: 82709.72 | L112: 0 | M112: 1 | N112: Non-replicated | O112: Install 2012-07
A113: APM00115000239 | B113: USOMC022N0239 | C113: MWDC | D113: EMC Clariion VNX7500 | E113: Tier 4 | F113: 05.32.000.5.015 | G113: 530500 | H113: 491061 | I113: 0 | J113: 0 | K113: 0 | L113: 0 | M113: 0 | N113: Non-replicated | O113: Install 2012-07 | P113: 1
A114: APM00115000239 | B114: USOMC022N0239 | C114: MWDC | D114: EMC Clariion VNX7500 | E114: Tier 5 | F114: 05.32.000.5.015 | G114: 96000 | H114: 88032 | I114: 5242.13 | J114: 82709.72 | K114: 82709.72 | L114: 0 | M114: 1 | N114: Non-replicated | O114: Install 2012-07
...

Sheet Sheet3

Sheet SAN Storage Capacity Summary
A1: Citigroup Distributed Storage Capacity Report for August 2013
A2: Site Summary and Capacity Analysis Note: Items in red may not be accurate by Tier, however site totals are accurate for these columns
A3: Site | B3: Tier | C3: Usage | D3: Unformatted Total (GB) | E3: Formatted Total (GB) | F3: Unconfigured Total (GB) | G3: Device Total (GB) | H3: Allocated (GB) | I3: Free (GB) | J3: # Frames | K3: Unformatted Total (TB) | L3: Device Total (TB) | M3: Allocated (TB) | N3: Free (TB) | O3: Unformatted Total (PB) | P3: Device Total (PB) | Q3: Allocated (PB) | R3: Free (PB)
A4: Total NAM and LATAM Sites | D4: =SUMIF($A$6:$A$111,"Site Total",D$6:D$111) -> 49112422 | E4: =SUMIF($A$6:$A$111,"Site Total",E$6:E$111) -> 44931102 | F4: =SUMIF($A$6:$A$111,"Site Total",F$6:F$111) -> 660449.92 | G4: =SUMIF($A$6:$A$111,"Site Total",G$6:G$111) -> 36587496 | H4: =SUMIF($A$6:$A$111,"Site Total",H$6:H$111) -> 17763117 | I4: =SUMIF($A$6:$A$111,"Site Total",I$6:I$111) -> 18824380 | J4: =SUMIF($A$6:$A$111,"Site Total",J$6:J$111) -> 315 | K4: =D4/1024 -> 47961.35 | L4: =G4/1024 -> 35729.977 | M4: =H4/1024 -> 17346.794 | N4: =I4/1024 -> 18383.183 | O4: =K4/1024 -> 46.837255 | P4: =L4/1024 -> 34.892556 | Q4: =M4/1024 -> 16.940228 | R4: =N4/1024 -> 17.952328
A5: Total All NAM Sites | D5: =SUMIF($A$6:$A$73,"Site Total",D$6:D$73) -> 47173728 | E5: =SUMIF($A$6:$A$73,"Site Total",E$6:E$73) -> 43152931 | F5: =SUMIF($A$6:$A$73,"Site Total",F$6:F$73) -> 545865.3 | G5: =SUMIF($A$6:$A$73,"Site Total",G$6:G$73) -> 34978768 | H5: =SUMIF($A$6:$A$73,"Site Total",H$6:H$73) -> 16933569 | I5: =SUMIF($A$6:$A$73,"Site Total",I$6:I$73) -> 18045199 | J5: =SUMIF($A$6:$A$73,"Site Total",J$6:J$73) -> 283 | K5: =D5/1024 -> 46068.094 | L5: =G5/1024 -> 34158.953 | M5: =H5/1024 -> 16536.689 | N5: =I5/1024 -> 17622.264 | O5: =K5/1024 -> 44.988373 | P5: =L5/1024 -> 33.358352 | Q5: =M5/1024 -> 16.14911 | R5: =N5/1024 -> 17.209243
A6: 390 Greenwich, NY | B6: Tier-1 | C6: Replication | D6: {=SUM(IF('SAN Storage Inventory'!$C$4:$C$432="390 Greenwich",IF('SAN Storage Inventory'!$E$4:$E$432="Tier 1",'SAN Storage Inventory'!$G$4:$G$432,0),0))} -> 96694.41 | E6: {=SUM(IF('SAN Storage Inventory'!$C$4:$C$432="390 Greenwich",IF('SAN Storage Inventory'!$E$4:$E$432="Tier 1",'SAN Storage Inventory'!$H$4:$H$432,0),0))} -> 90556.83 | F6: {=SUM(IF('SAN Storage Inventory'!$C$4:$C$432="390 Greenwich",IF('SAN Storage Inventory'!$E$4:$E$432="Tier 1",'SAN Storage Inventory'!$I$4:$I$432,0),0))} -> 851.11 | G6: {=SUM(IF('SAN Storage Inventory'!$C$4:$C$432="390 Greenwich",IF('SAN Storage Inventory'!$E$4:$E$432="Tier 1",'SAN Storage Inventory'!$J$4:$J$432,0),0))} -> 89599.69 | H6: {=SUM(IF('SAN Storage Inventory'!$C$4:$C$432="390 Greenwich",IF('SAN Storage Inventory'!$E$4:$E$432="Tier 1",'SAN Storage Inventory'!$K$4:$K$432,0),0))} -> 66707.73 | I6: {=SUM(IF('SAN Storage Inventory'!$C$4:$C$432="390 Greenwich",IF('SAN Storage Inventory'!$E$4:$E$432="Tier 1",'SAN Storage Inventory'!$L$4:$L$432,0),0))} -> 22891.96 | J6: {=SUM(IF('SAN Storage Inventory'!$C$4:$C$432="390 Greenwich",IF('SAN Storage Inventory'!$E$4:$E$432="Tier 1",'SAN Storage Inventory'!$P$4:$P$432,0),0))} -> 2
A7: 390 Greenwich, NY | B7: Tier-2 | C7: Local | D7: {=SUM(IF('SAN Storage Inventory'!$C$4:$C$432="390 Greenwich",IF('SAN Storage Inventory'!$E$4:$E$432="Tier 2",'SAN Storage Inventory'!$G$4:$G$432,0),0))} -> 136381.7 | E7: {=SUM(IF('SAN Storage Inventory'!$C$4:$C$432="390 Greenwich",IF('SAN Storage Inventory'!$E$4:$E$432="Tier 2",'SAN Storage Inventory'!$H$4:$H$432,0),0))} -> 127725.01 | F7: {=SUM(IF('SAN Storage Inventory'!$C$4:$C$432="390 Greenwich",IF('SAN Storage Inventory'!$E$4:$E$432="Tier 2",'SAN Storage Inventory'!$I$4:$I$432,0),0))} -> 1350.53 | G7: {=SUM(IF('SAN Storage Inventory'!$C$4:$C$432="390 Greenwich",IF('SAN Storage Inventory'!$E$4:$E$432="Tier 2",'SAN Storage Inventory'!$J$4:$J$432,0),0))} -> 126225.58 | H7: {=SUM(IF('SAN Storage Inventory'!$C$4:$C$432="390 Greenwich",IF('SAN Storage Inventory'!$E$4:$E$432="Tier 2",'SAN Storage Inventory'!$K$4:$K$432,0),0))} -> 83220.76 | I7: {=SUM(IF('SAN Storage Inventory'!$C$4:$C$432="390 Greenwich",IF('SAN Storage Inventory'!$E$4:$E$432="Tier 2",'SAN Storage Inventory'!$L$4:$L$432,0),0))} -> 43004.82 | J7: {=SUM(IF('SAN Storage Inventory'!$C$4:$C$432="390 Greenwich",IF('SAN Storage Inventory'!$E$4:$E$432="Tier 2",'SAN Storage Inventory'!$P$4:$P$432,0),0))} -> 2
A8: 390 Greenwich, NY | B8: Tier-4 | C8: Local | D8: {=SUM(IF('SAN Storage Inventory'!$C$4:$C$432="390 Greenwich",IF('SAN Storage Inventory'!$E$4:$E$432="Tier 4",'SAN Storage Inventory'!$G$4:$G$432,0),0))} -> 3070073.9 | E8: {=SUM(IF('SAN Storage Inventory'!$C$4:$C$432="390 Greenwich",IF('SAN Storage Inventory'!$E$4:$E$432="Tier 4",'SAN Storage Inventory'!$H$4:$H$432,0),0))} -> 2776264.8 | F8: {=SUM(IF('SAN Storage Inventory'!$C$4:$C$432="390 Greenwich",IF('SAN Storage Inventory'!$E$4:$E$432="Tier 4",'SAN Storage Inventory'!$I$4:$I$432,0),0))} -> 24130.93 | G8: {=SUM(IF('SAN Storage Inventory'!$C$4:$C$432="390 Greenwich",IF('SAN Storage Inventory'!$E$4:$E$432="Tier 4",'SAN Storage Inventory'!$J$4:$J$432,0),0))} -> 2730501.9 | H8: {=SUM(IF('SAN Storage Inventory'!$C$4:$C$432="390 Greenwich",IF('SAN Storage Inventory'!$E$4:$E$432="Tier 4",'SAN Storage Inventory'!$K$4:$K$432,0),0))} -> 1221520.8 | I8: {=SUM(IF('SAN Storage Inventory'!$C$4:$C$432="390 Greenwich",IF('SAN Storage Inventory'!$E$4:$E$432="Tier 4",'SAN Storage Inventory'!$L$4:$L$432,0),0))} -> 1508981.1 | J8: {=SUM(IF('SAN Storage Inventory'!$C$4:$C$432="390 Greenwich",IF('SAN Storage Inventory'!$E$4:$E$432="Tier 4",'SAN Storage Inventory'!$P$4:$P$432,0),0))} -> 15
A9: 390 Greenwich, NY | B9: Tier-5 | C9: Replication | D9: {=SUM(IF('SAN Storage Inventory'!$C$4:$C$432="390 Greenwich",IF('SAN Storage Inventory'!$E$4:$E$432="Tier 5",'SAN Storage Inventory'!$G$4:$G$432,0),0))} -> 116000 | E9: {=SUM(IF('SAN Storage Inventory'!$C$4:$C$432="390 Greenwich",IF('SAN Storage Inventory'!$E$4:$E$432="Tier 5",'SAN Storage Inventory'!$H$4:$H$432,0),0))} -> 106372 | F9: {=SUM(IF('SAN Storage Inventory'!$C$4:$C$432="390 Greenwich",IF('SAN Storage Inventory'!$E$4:$E$432="Tier 5",'SAN Storage Inventory'!$I$4:$I$432,0),0))} -> 9876.19 | G9: {=SUM(IF('SAN Storage Inventory'!$C$4:$C$432="390 Greenwich",IF('SAN Storage Inventory'!$E$4:$E$432="Tier 5",'SAN Storage Inventory'!$J$4:$J$432,0),0))} -> 89146.17 | H9: {=SUM(IF('SAN Storage Inventory'!$C$4:$C$432="390 Greenwich",IF('SAN Storage Inventory'!$E$4:$E$432="Tier 5",'SAN Storage Inventory'!$K$4:$K$432,0),0))} -> 34231.17 | I9: {=SUM(IF('SAN Storage Inventory'!$C$4:$C$432="390 Greenwich",IF('SAN Storage Inventory'!$E$4:$E$432="Tier 5",'SAN Storage Inventory'!$L$4:$L$432,0),0))} -> 54915 | J9: {=SUM(IF('SAN Storage Inventory'!$C$4:$C$432="390 Greenwich",IF('SAN Storage Inventory'!$E$4:$E$432="Tier 5",'SAN Storage Inventory'!$P$4:$P$432,0),0))} -> 2
A10: Site Total | D10: =SUM(D6:D9) -> 3419150 | E10: =SUM(E6:E9) -> 3100918.6 | F10: =SUM(F6:F9) -> 36208.76 | G10: =SUM(G6:G9) -> 3035473.3 | H10: =SUM(H6:H9) -> 1405680.4 | I10: =SUM(I6:I9) -> 1629792.9 | J10: =SUM(J6:J9) -> 21
A11: Columbus, Ohio | B11: Tier-1 | C11: Replication | D11: {=SUM(IF('SAN Storage Inventory'!$C$4:$C$432="MWDC",IF('SAN Storage Inventory'!$E$4:$E$432="Tier 1",'SAN Storage Inventory'!$G$4:$G$432,0),0))} -> 20007.34 | E11: {=SUM(IF('SAN Storage Inventory'!$C$4:$C$432="MWDC",IF('SAN Storage Inventory'!$E$4:$E$432="Tier 1",'SAN Storage Inventory'!$H$4:$H$432,0),0))} -> 18737.39 | F11: {=SUM(IF('SAN Storage Inventory'!$C$4:$C$432="MWDC",IF('SAN Storage Inventory'!$E$4:$E$432="Tier 1",'SAN Storage Inventory'!$I$4:$I$432,0),0))} -> 100.19 | G11: {=SUM(IF('SAN Storage Inventory'!$C$4:$C$432="MWDC",IF('SAN Storage Inventory'!$E$4:$E$432="Tier 1",'SAN Storage Inventory'!$J$4:$J$432,0),0))} -> 18615.27 | H11: {=SUM(IF('SAN Storage Inventory'!$C$4:$C$432="MWDC",IF('SAN Storage Inventory'!$E$4:$E$432="Tier 1",'SAN Storage Inventory'!$K$4:$K$432,0),0))} -> 17688.53 | I11: {=SUM(IF('SAN Storage Inventory'!$C$4:$C$432="MWDC",IF('SAN Storage Inventory'!$E$4:$E$432="Tier 1",'SAN Storage Inventory'!$L$4:$L$432,0),0))} -> 926.74 | J11: {=SUM(IF('SAN Storage Inventory'!$C$4:$C$432="MWDC",IF('SAN Storage Inventory'!$E$4:$E$432="Tier 1",'SAN Storage Inventory'!$P$4:$P$432,0),0))} -> 2
A12: Columbus, Ohio | B12: Tier-2 | C12: Local | D12: {=SUM(IF('SAN Storage Inventory'!$C$4:$C$432="MWDC",IF('SAN Storage Inventory'!$E$4:$E$432="Tier 2",'SAN Storage Inventory'!$G$4:$G$432,0),0))} -> 399304.66 | E12: {=SUM(IF('SAN Storage Inventory'!$C$4:$C$432="MWDC",IF('SAN Storage Inventory'!$E$4:$E$432="Tier 2",'SAN Storage Inventory'!$H$4:$H$432,0),0))} -> 373959.21 | F12: {=SUM(IF('SAN Storage Inventory'!$C$4:$C$432="MWDC",IF('SAN Storage Inventory'!$E$4:$E$432="Tier 2",'SAN Storage Inventory'!$I$4:$I$432,0),0))} -> 3744.09 | G12: {=SUM(IF('SAN Storage Inventory'!$C$4:$C$432="MWDC",IF('SAN Storage Inventory'!$E$4:$E$432="Tier 2",'SAN Storage Inventory'!$J$4:$J$432,0),0))} -> 369777.14 | H12: {=SUM(IF('SAN Storage Inventory'!$C$4:$C$432="MWDC",IF('SAN Storage Inventory'!$E$4:$E$432="Tier 2",'SAN Storage Inventory'!$K$4:$K$432,0),0))} -> 268783.57 | I12: {=SUM(IF('SAN Storage Inventory'!$C$4:$C$432="MWDC",IF('SAN Storage Inventory'!$E$4:$E$432="Tier 2",'SAN Storage Inventory'!$L$4:$L$432,0),0))} -> 100993.55 | J12: {=SUM(IF('SAN Storage Inventory'!$C$4:$C$432="MWDC",IF('SAN Storage Inventory'!$E$4:$E$432="Tier 2",'SAN Storage Inventory'!$P$4:$P$432,0),0))} -> 3
A13: Columbus, Ohio | B13: Tier-4 | C13: Local | D13: {=SUM(IF('SAN Storage Inventory'!$C$4:$C$432="MWDC",IF('SAN Storage Inventory'!$E$4:$E$432="Tier 4",'SAN Storage Inventory'!$G$4:$G$432,0),0))} -> 13545040 | E13: {=SUM(IF('SAN Storage Inventory'!$C$4:$C$432="MWDC",IF('SAN Storage Inventory'!$E$4:$E$432="Tier 4",'SAN Storage Inventory'!$H$4:$H$432,0),0))} -> 12373447 | F13: {=SUM(IF('SAN Storage Inventory'!$C$4:$C$432="MWDC",IF('SAN Storage Inventory'!$E$4:$E$432="Tier 4",'SAN Storage Inventory'!$I$4:$I$432,0),0))} -> 78933.19 | G13: {=SUM(IF('SAN Storage Inventory'!$C$4:$C$432="MWDC",IF('SAN Storage Inventory'!$E$4:$E$432="Tier 4",'SAN Storage Inventory'!$J$4:$J$432,0),0))} -> 9509799.8 | H13: {=SUM(IF('SAN Storage Inventory'!$C$4:$C$432="MWDC",IF('SAN Storage Inventory'!$E$4:$E$432="Tier 4",'SAN Storage Inventory'!$K$4:$K$432,0),0))} -> 4218774.8 | I13: {=SUM(IF('SAN Storage Inventory'!$C$4:$C$432="MWDC",IF('SAN Storage Inventory'!$E$4:$E$432="Tier 4",'SAN Storage Inventory'!$L$4:$L$432,0),0))} -> 5291025 | J13: {=SUM(IF('SAN Storage Inventory'!$C$4:$C$432="MWDC",IF('SAN Storage Inventory'!$E$4:$E$432="Tier 4",'SAN Storage Inventory'!$P$4:$P$432,0),0))} -> 63
A14: Columbus, Ohio | B14: Tier-5 | C14: Local | D14: {=SUM(IF('SAN Storage Inventory'!$C$4:$C$432="MWDC",IF('SAN Storage Inventory'!$E$4:$E$432="Tier 5",'SAN Storage Inventory'!$G$4:$G$432,0),0))} -> 793078 | E14: {=SUM(IF('SAN Storage Inventory'!$C$4:$C$432="MWDC",IF('SAN Storage Inventory'!$E$4:$E$432="Tier 5",'SAN Storage Inventory'!$H$4:$H$432,0),0))} -> 750461 | F14: {=SUM(IF('SAN Storage Inventory'!$C$4:$C$432="MWDC",IF('SAN Storage Inventory'!$E$4:$E$432="Tier 5",'SAN Storage Inventory'!$I$4:$I$432,0),0))} -> 16270.48 | G14: {=SUM(IF('SAN Storage Inventory'!$C$4:$C$432="MWDC",IF('SAN Storage Inventory'!$E$4:$E$432="Tier 5",'SAN Storage Inventory'!$J$4:$J$432,0),0))} -> 728374.13 | H14: {=SUM(IF('SAN Storage Inventory'!$C$4:$C$432="MWDC",IF('SAN Storage Inventory'!$E$4:$E$432="Tier 5",'SAN Storage Inventory'!$K$4:$K$432,0),0))} -> 673204.78 | I14: {=SUM(IF('SAN Storage Inventory'!$C$4:$C$432="MWDC",IF('SAN Storage Inventory'!$E$4:$E$432="Tier 5",'SAN Storage Inventory'!$L$4:$L$432,0),0))} -> 55169.35 | J14: {=SUM(IF('SAN Storage Inventory'!$C$4:$C$432="MWDC",IF('SAN Storage Inventory'!$E$4:$E$432="Tier 5",'SAN Storage Inventory'!$P$4:$P$432,0),0))} -> 2
A15: Site Total | D15: =SUM(D11:D14) -> 14757430 | E15: =SUM(E11:E14) -> 13516604 | F15: =SUM(F11:F14) -> 99047.95 | G15: =SUM(G11:G14) -> 10626566 | H15: =SUM(H11:H14) -> 5178451.7 | I15: =SUM(I11:I14) -> 5448114.7 | J15: =SUM(J11:J14) -> 70
A16: Georgetown, TX | B16: Tier-1 | C16: Replication | D16: {=SUM(IF('SAN Storage Inventory'!$C$4:$C$432="GTDC",IF('SAN Storage Inventory'!$E$4:$E$432="Tier 1",'SAN Storage Inventory'!$G$4:$G$432,0),0))} -> 0 | E16: {=SUM(IF('SAN Storage Inventory'!$C$4:$C$432="GTDC",IF('SAN Storage Inventory'!$E$4:$E$432="Tier 1",'SAN Storage Inventory'!$H$4:$H$432,0),0))} -> 0 | F16: {=SUM(IF('SAN Storage Inventory'!$C$4:$C$432="GTDC",IF('SAN Storage Inventory'!$E$4:$E$432="Tier 1",'SAN Storage Inventory'!$I$4:$I$432,0),0))} -> 0 | G16: {=SUM(IF('SAN Storage Inventory'!$C$4:$C$432="GTDC",IF('SAN Storage Inventory'!$E$4:$E$432="Tier 1",'SAN Storage Inventory'!$J$4:$J$432,0),0))} -> 0 | H16: {=SUM(IF('SAN Storage Inventory'!$C$4:$C$432="GTDC",IF('SAN Storage Inventory'!$E$4:$E$432="Tier 1",'SAN Storage Inventory'!$K$4:$K$432,0),0))} -> 0 | I16: {=SUM(IF('SAN Storage Inventory'!$C$4:$C$432="GTDC",IF('SAN Storage Inventory'!$E$4:$E$432="Tier 1",'SAN Storage Inventory'!$L$4:$L$432,0),0))} -> 0 | J16: {=SUM(IF('SAN Storage Inventory'!$C$4:$C$432="GTDC",IF('SAN Storage Inventory'!$E$4:$E$432="Tier 1",'SAN Storage Inventory'!$P$4:$P$432,0),0))} -> 0
A17: Georgetown, TX | B17: Tier-2 | C17: Local | D17: {=SUM(IF('SAN Storage Inventory'!$C$4:$C$432="GTDC",IF('SAN Storage Inventory'!$E$4:$E$432="Tier 2",'SAN Storage Inventory'!$G$4:$G$432,0),0))} -> 119134.02 | E17: {=SUM(IF('SAN Storage Inventory'!$C$4:$C$432="GTDC",IF('SAN Storage Inventory'!$E$4:$E$432="Tier 2",'SAN Storage Inventory'!$H$4:$H$432,0),0))} -> 111572.12 | F17: {=SUM(IF('SAN Storage Inventory'!$C$4:$C$432="GTDC",IF('SAN Storage Inventory'!$E$4:$E$432="Tier 2",'SAN Storage Inventory'!$I$4:$I$432,0),0))} -> 914.18 | G17: {=SUM(IF('SAN Storage Inventory'!$C$4:$C$432="GTDC",IF('SAN Storage Inventory'!$E$4:$E$432="Tier 2",'SAN Storage Inventory'!$J$4:$J$432,0),0))} -> 110527.33 | H17: {=SUM(IF('SAN Storage Inventory'!$C$4:$C$432="GTDC",IF('SAN Storage Inventory'!$E$4:$E$432="Tier 2",'SAN Storage Inventory'!$K$4:$K$432,0),0))} -> 15664 | I17: {=SUM(IF('SAN Storage Inventory'!$C$4:$C$432="GTDC",IF('SAN Storage Inventory'!$E$4:$E$432="Tier 2",'SAN Storage Inventory'!$L$4:$L$432,0),0))} -> 94863.33 | J17: {=SUM(IF('SAN Storage Inventory'!$C$4:$C$432="GTDC",IF('SAN Storage Inventory'!$E$4:$E$432="Tier 2",'SAN Storage Inventory'!$P$4:$P$432,0),0))} -> 2
A18: Georgetown, TX | B18: Tier-4 | C18: Local | D18: {=SUM(IF('SAN Storage Inventory'!$C$4:$C$432="GTDC",IF('SAN Storage Inventory'!$E$4:$E$432="Tier 4",'SAN Storage Inventory'!$G$4:$G$432,0),0))} -> 5740060 | E18: {=SUM(IF('SAN Storage Inventory'!$C$4:$C$432="GTDC",IF('SAN Storage Inventory'!$E$4:$E$432="Tier 4",'SAN Storage Inventory'!$H$4:$H$432,0),0))} -> 5214019 | F18: {=SUM(IF('SAN Storage Inventory'!$C$4:$C$432="GTDC",IF('SAN Storage Inventory'!$E$4:$E$432="Tier 4",'SAN Storage Inventory'!$I$4:$I$432,0),0))} -> 83386.95 | G18: {=SUM(IF('SAN Storage Inventory'!$C$4:$C$432="GTDC",IF('SAN Storage Inventory'!$E$4:$E$432="Tier 4",'SAN Storage Inventory'!$J$4:$J$432,0),0))} -> 3435117.8 | H18: {=SUM(IF('SAN Storage Inventory'!$C$4:$C$432="GTDC",IF('SAN Storage Inventory'!$E$4:$E$432="Tier 4",'SAN Storage Inventory'!$K$4:$K$432,0),0))} -> 1120220.9 | I18: {=SUM(IF('SAN Storage Inventory'!$C$4:$C$432="GTDC",IF('SAN Storage Inventory'!$E$4:$E$432="Tier 4",'SAN Storage Inventory'!$L$4:$L$432,0),0))} -> 2314896.9 | J18: {=SUM(IF('SAN Storage Inventory'!$C$4:$C$432="GTDC",IF('SAN Storage Inventory'!$E$4:$E$432="Tier 4",'SAN Storage Inventory'!$P$4:$P$432,0),0))} -> 39
A19: Georgetown, TX | B19: Tier-5 | C19: Local | D19: {=SUM(IF('SAN Storage Inventory'!$C$4:$C$432="GTDC",IF('SAN Storage Inventory'!$E$4:$E$432="Tier 5",'SAN Storage Inventory'!$G$4:$G$432,0),0))} -> 404420 | E19: {=SUM(IF('SAN Storage Inventory'!$C$4:$C$432="GTDC",IF('SAN Storage Inventory'!$E$4:$E$432="Tier 5",'SAN Storage Inventory'!$H$4:$H$432,0),0))} -> 371152 | F19: {=SUM(IF('SAN Storage Inventory'!$C$4:$C$432="GTDC",IF('SAN Storage Inventory'!$E$4:$E$432="Tier 5",'SAN Storage Inventory'!$I$4:$I$432,0),0))} -> 35613.9 | G19: {=SUM(IF('SAN Storage Inventory'!$C$4:$C$432="GTDC",IF('SAN Storage Inventory'!$E$4:$E$432="Tier 5",'SAN Storage Inventory'!$J$4:$J$432,0),0))} -> 327840.77 | H19: {=SUM(IF('SAN Storage Inventory'!$C$4:$C$432="GTDC",IF('SAN Storage Inventory'!$E$4:$E$432="Tier 5",'SAN Storage Inventory'!$K$4:$K$432,0),0))} -> 326510.77 | I19: {=SUM(IF('SAN Storage Inventory'!$C$4:$C$432="GTDC",IF('SAN Storage Inventory'!$E$4:$E$432="Tier 5",'SAN Storage Inventory'!$L$4:$L$432,0),0))} -> 1330 | J19: {=SUM(IF('SAN Storage Inventory'!$C$4:$C$432="GTDC",IF('SAN Storage Inventory'!$E$4:$E$432="Tier 5",'SAN Storage Inventory'!$P$4:$P$432,0),0))} -> 3
A20: Site Total | D20: =SUM(D16:D19) -> 6263614 | E20: =SUM(E16:E19) -> 5696743.2 | F20: =SUM(F16:F19) -> 119915.03 | G20: =SUM(G16:G19) -> 3873485.9 | H20: =SUM(H16:H19) -> 1462395.6 | I20: =SUM(I16:I19) -> 2411090.3 | J20: =SUM(J16:J19) -> 44
A21: O'Fallon, MO | B21: Tier-1 | C21: Replication | D21: {=SUM(IF('SAN Storage Inventory'!$C$4:$C$432="Ofallon",IF('SAN Storage Inventory'!$E$4:$E$432="Tier 1",'SAN Storage Inventory'!$G$4:$G$432,0),0))} -> 13703.36 | E21: {=SUM(IF('SAN Storage Inventory'!$C$4:$C$432="Ofallon",IF('SAN Storage Inventory'!$E$4:$E$432="Tier 1",'SAN Storage Inventory'!$H$4:$H$432,0),0))} -> 12833.55 | F21: {=SUM(IF('SAN Storage Inventory'!$C$4:$C$432="Ofallon",IF('SAN Storage Inventory'!$E$4:$E$432="Tier 1",'SAN Storage Inventory'!$I$4:$I$432,0),0))} -> 62.79 | G21: {=SUM(IF('SAN Storage Inventory'!$C$4:$C$432="Ofallon",IF('SAN Storage Inventory'!$E$4:$E$432="Tier 1",'SAN Storage Inventory'!$J$4:$J$432,0),0))} -> 12755.78 | H21: {=SUM(IF('SAN Storage Inventory'!$C$4:$C$432="Ofallon",IF('SAN Storage Inventory'!$E$4:$E$432="Tier 1",'SAN Storage Inventory'!$K$4:$K$432,0),0))} -> 12717.24 | I21: {=SUM(IF('SAN Storage Inventory'!$C$4:$C$432="Ofallon",IF('SAN Storage Inventory'!$E$4:$E$432="Tier 1",'SAN Storage Inventory'!$L$4:$L$432,0),0))} -> 38.54 | J21: {=SUM(IF('SAN Storage Inventory'!$C$4:$C$432="Ofallon",IF('SAN Storage Inventory'!$E$4:$E$432="Tier 1",'SAN Storage Inventory'!$P$4:$P$432,0),0))} -> 0
A22: O'Fallon, MO | B22: Tier-2 | C22: Local | D22: {=SUM(IF('SAN Storage Inventory'!$C$4:$C$432="Ofallon",IF('SAN Storage Inventory'!$E$4:$E$432="Tier 2",'SAN Storage Inventory'!$G$4:$G$432,0),0))} -> 63384.64 | E22: {=SUM(IF('SAN Storage Inventory'!$C$4:$C$432="Ofallon",IF('SAN Storage Inventory'!$E$4:$E$432="Tier 2",'SAN Storage Inventory'!$H$4:$H$432,0),0))} -> 59361.37 | F22: {=SUM(IF('SAN Storage Inventory'!$C$4:$C$432="Ofallon",IF('SAN Storage Inventory'!$E$4:$E$432="Tier 2",'SAN Storage Inventory'!$I$4:$I$432,0),0))} -> 612.68 | G22: {=SUM(IF('SAN Storage Inventory'!$C$4:$C$432="Ofallon",IF('SAN Storage Inventory'!$E$4:$E$432="Tier 2",'SAN Storage Inventory'!$J$4:$J$432,0),0))} -> 58679.31 | H22: {=SUM(IF('SAN Storage Inventory'!$C$4:$C$432="Ofallon",IF('SAN Storage Inventory'!$E$4:$E$432="Tier 2",'SAN Storage Inventory'!$K$4:$K$432,0),0))} -> 4817.05 | I22: {=SUM(IF('SAN Storage Inventory'!$C$4:$C$432="Ofallon",IF('SAN Storage Inventory'!$E$4:$E$432="Tier 2",'SAN Storage Inventory'!$L$4:$L$432,0),0))} -> 53862.26 | J22: {=SUM(IF('SAN Storage Inventory'!$C$4:$C$432="Ofallon",IF('SAN Storage Inventory'!$E$4:$E$432="Tier 2",'SAN Storage Inventory'!$P$4:$P$432,0),0))} -> 2
A23: O'Fallon, MO | B23: Tier-4 | C23: Local | D23: {=SUM(IF('SAN Storage Inventory'!$C$4:$C$432="Ofallon",IF('SAN Storage Inventory'!$E$4:$E$432="Tier 4",'SAN Storage Inventory'!$G$4:$G$432,0),0))} -> 403200.01 | E23: {=SUM(IF('SAN Storage Inventory'!$C$4:$C$432="Ofallon",IF('SAN Storage Inventory'!$E$4:$E$432="Tier 4",'SAN Storage Inventory'!$H$4:$H$432,0),0))} -> 368819.22 | F23: {=SUM(IF('SAN Storage Inventory'!$C$4:$C$432="Ofallon",IF('SAN Storage Inventory'!$E$4:$E$432="Tier 4",'SAN Storage Inventory'!$I$4:$I$432,0),0))} -> 5617.4 | G23: {=SUM(IF('SAN Storage Inventory'!$C$4:$C$432="Ofallon",IF('SAN Storage Inventory'!$E$4:$E$432="Tier 4",'SAN Storage Inventory'!$J$4:$J$432,0),0))} -> 361048.11 | H23: {=SUM(IF('SAN Storage Inventory'!$C$4:$C$432="Ofallon",IF('SAN Storage Inventory'!$E$4:$E$432="Tier 4",'SAN Storage Inventory'!$K$4:$K$432,0),0))} -> 216599.36 | I23: {=SUM(IF('SAN Storage Inventory'!$C$4:$C$432="Ofallon",IF('SAN Storage Inventory'!$E$4:$E$432="Tier 4",'SAN Storage Inventory'!$L$4:$L$432,0),0))} -> 144448.75 | J23: {=SUM(IF('SAN Storage Inventory'!$C$4:$C$432="Ofallon",IF('SAN Storage Inventory'!$E$4:$E$432="Tier 4",'SAN Storage Inventory'!$P$4:$P$432,0),0))} -> 3
A24: O'Fallon, MO | B24: Tier-5 | C24: Local | D24: {=SUM(IF('SAN Storage Inventory'!$C$4:$C$432="Ofallon",IF('SAN Storage Inventory'!$E$4:$E$432="Tier 5",'SAN Storage Inventory'!$G$4:$G$432,0),0))} -> 0 | E24: {=SUM(IF('SAN Storage Inventory'!$C$4:$C$432="Ofallon",IF('SAN Storage Inventory'!$E$4:$E$432="Tier 5",'SAN Storage Inventory'!$H$4:$H$432,0),0))} -> 0 | F24: {=SUM(IF('SAN Storage Inventory'!$C$4:$C$432="Ofallon",IF('SAN Storage Inventory'!$E$4:$E$432="Tier 5",'SAN Storage Inventory'!$I$4:$I$432,0),0))} -> 0 | G24: {=SUM(IF('SAN Storage Inventory'!$C$4:$C$432="Ofallon",IF('SAN Storage Inventory'!$E$4:$E$432="Tier 5",'SAN Storage Inventory'!$J$4:$J$432,0),0))} -> 0 | H24: {=SUM(IF('SAN Storage Inventory'!$C$4:$C$432="Ofallon",IF('SAN Storage Inventory'!$E$4:$E$432="Tier 5",'SAN Storage Inventory'!$K$4:$K$432,0),0))} -> 0 | I24: {=SUM(IF('SAN Storage Inventory'!$C$4:$C$432="Ofallon",IF('SAN Storage Inventory'!$E$4:$E$432="Tier 5",'SAN Storage Inventory'!$L$4:$L$432,0),0))} -> 0 | J24: {=SUM(IF('SAN Storage Inventory'!$C$4:$C$432="Ofallon",IF('SAN Storage Inventory'!$E$4:$E$432="Tier 5",'SAN Storage Inventory'!$P$4:$P$432,0),0))} -> 0
A25: Site Total | D25: =SUM(D21:D24) -> 480288.01 | E25: =SUM(E21:E24) -> 441014.14 | F25: =SUM(F21:F24) -> 6292.87 | G25: =SUM(G21:G24) -> 432483.2 | H25: =SUM(H21:H24) -> 234133.65 | I25: =SUM(I21:I24) -> 198349.55 | J25: =SUM(J21:J24) -> 5
A26: Rutherford, NJ | B26: Tier-1 | C26: Replication | D26: {=SUM(IF('SAN Storage Inventory'!$C$4:$C$432="Rutherford",IF('SAN Storage Inventory'!$E$4:$E$432="Tier 1",'SAN Storage Inventory'!$G$4:$G$432,0),0))} -> 96695.26 | E26: {=SUM(IF('SAN Storage Inventory'!$C$4:$C$432="Rutherford",IF('SAN Storage Inventory'!$E$4:$E$432="Tier 1",'SAN Storage Inventory'!$H$4:$H$432,0),0))} -> 90557.63 | F26: {=SUM(IF('SAN Storage Inventory'!$C$4:$C$432="Rutherford",IF('SAN Storage Inventory'!$E$4:$E$432="Tier 1",'SAN Storage Inventory'!$I$4:$I$432,0),0))} -> 850.99 | G26: {=SUM(IF('SAN Storage Inventory'!$C$4:$C$432="Rutherford",IF('SAN Storage Inventory'!$E$4:$E$432="Tier 1",'SAN Storage Inventory'!$J$4:$J$432,0),0))} -> 89600.61 | H26: {=SUM(IF('SAN Storage Inventory'!$C$4:$C$432="Rutherford",IF('SAN Storage Inventory'!$E$4:$E$432="Tier 1",'SAN Storage Inventory'!$K$4:$K$432,0),0))} -> 65821.37 | I26: {=SUM(IF('SAN Storage Inventory'!$C$4:$C$432="Rutherford",IF('SAN Storage Inventory'!$E$4:$E$432="Tier 1",'SAN Storage Inventory'!$L$4:$L$432,0),0))} -> 23779.24 | J26: {=SUM(IF('SAN Storage Inventory'!$C$4:$C$432="Rutherford",IF('SAN Storage Inventory'!$E$4:$E$432="Tier 1",'SAN Storage Inventory'!$P$4:$P$432,0),0))} -> 2
A27: Rutherford, NJ | B27: Tier-2 | C27: Local | D27: {=SUM(IF('SAN Storage Inventory'!$C$4:$C$432="Rutherford",IF('SAN Storage Inventory'!$E$4:$E$432="Tier 2",'SAN Storage Inventory'!$G$4:$G$432,0),0))} -> 115356.71 | E27: {=SUM(IF('SAN Storage Inventory'!$C$4:$C$432="Rutherford",IF('SAN Storage Inventory'!$E$4:$E$432="Tier 2",'SAN Storage Inventory'!$H$4:$H$432,0),0))} -> 108034.57 | F27: {=SUM(IF('SAN Storage Inventory'!$C$4:$C$432="Rutherford",IF('SAN Storage Inventory'!$E$4:$E$432="Tier 2",'SAN Storage Inventory'!$I$4:$I$432,0),0))} -> 1105.01 | G27: {=SUM(IF('SAN Storage Inventory'!$C$4:$C$432="Rutherford",IF('SAN Storage Inventory'!$E$4:$E$432="Tier 2",'SAN Storage Inventory'!$J$4:$J$432,0),0))} -> 106803.79 | H27: {=SUM(IF('SAN Storage Inventory'!$C$4:$C$432="Rutherford",IF('SAN Storage Inventory'!$E$4:$E$432="Tier 2",'SAN Storage Inventory'!$K$4:$K$432,0),0))} -> 79808.42 | I27: {=SUM(IF('SAN Storage Inventory'!$C$4:$C$432="Rutherford",IF('SAN Storage Inventory'!$E$4:$E$432="Tier 2",'SAN Storage Inventory'!$L$4:$L$432,0),0))} -> 26995.37 | J27: {=SUM(IF('SAN Storage Inventory'!$C$4:$C$432="Rutherford",IF('SAN Storage Inventory'!$E$4:$E$432="Tier 2",'SAN Storage Inventory'!$P$4:$P$432,0),0))} -> 2
A28: Rutherford, NJ | B28: Tier-4 | C28: Local | D28: {=SUM(IF('SAN Storage Inventory'!$C$4:$C$432="Rutherford",IF('SAN Storage Inventory'!$E$4:$E$432="Tier 4",'SAN Storage Inventory'!$G$4:$G$432,0),0))} -> 3873464 | E28: {=SUM(IF('SAN Storage Inventory'!$C$4:$C$432="Rutherford",IF('SAN Storage Inventory'!$E$4:$E$432="Tier 4",'SAN Storage Inventory'!$H$4:$H$432,0),0))} -> 3522001.1 | F28: {=SUM(IF('SAN Storage Inventory'!$C$4:$C$432="Rutherford",IF('SAN Storage Inventory'!$E$4:$E$432="Tier 4",'SAN Storage Inventory'!$I$4:$I$432,0),0))} -> 37062.2 | G28: {=SUM(IF('SAN Storage Inventory'!$C$4:$C$432="Rutherford",IF('SAN Storage Inventory'!$E$4:$E$432="Tier 4",'SAN Storage Inventory'!$J$4:$J$432,0),0))} -> 2053935.9 | H28: {=SUM(IF('SAN Storage Inventory'!$C$4:$C$432="Rutherford",IF('SAN Storage Inventory'!$E$4:$E$432="Tier 4",'SAN Storage Inventory'!$K$4:$K$432,0),0))} -> 873763.71 | I28: {=SUM(IF('SAN Storage Inventory'!$C$4:$C$432="Rutherford",IF('SAN Storage Inventory'!$E$4:$E$432="Tier 4",'SAN Storage Inventory'!$L$4:$L$432,0),0))} -> 1180172.1 | J28: {=SUM(IF('SAN Storage Inventory'!$C$4:$C$432="Rutherford",IF('SAN Storage Inventory'!$E$4:$E$432="Tier 4",'SAN Storage Inventory'!$P$4:$P$432,0),0))} -> 32
A29: Rutherford, NJ | B29: Tier-5 | C29: Local | D29: {=SUM(IF('SAN Storage Inventory'!$C$4:$C$432="Rutherford",IF('SAN Storage Inventory'!$E$4:$E$432="Tier 5",'SAN Storage Inventory'!$G$4:$G$432,0),0))} -> 499836 | E29: {=SUM(IF('SAN Storage Inventory'!$C$4:$C$432="Rutherford",IF('SAN Storage Inventory'!$E$4:$E$432="Tier 5",'SAN Storage Inventory'!$H$4:$H$432,0),0))} -> 458652 | F29: {=SUM(IF('SAN Storage Inventory'!$C$4:$C$432="Rutherford",IF('SAN Storage Inventory'!$E$4:$E$432="Tier 5",'SAN Storage Inventory'!$I$4:$I$432,0),0))} -> 70950.73 | G29: {=SUM(IF('SAN Storage Inventory'!$C$4:$C$432="Rutherford",IF('SAN Storage Inventory'!$E$4:$E$432="Tier 5",'SAN Storage Inventory'!$J$4:$J$432,0),0))} -> 373882.77 | H29: {=SUM(IF('SAN Storage Inventory'!$C$4:$C$432="Rutherford",IF('SAN Storage Inventory'!$E$4:$E$432="Tier 5",'SAN Storage Inventory'!$K$4:$K$432,0),0))} -> 350972.77 | I29: {=SUM(IF('SAN Storage Inventory'!$C$4:$C$432="Rutherford",IF('SAN Storage Inventory'!$E$4:$E$432="Tier 5",'SAN Storage Inventory'!$L$4:$L$432,0),0))} -> 22910 | J29: {=SUM(IF('SAN Storage Inventory'!$C$4:$C$432="Rutherford",IF('SAN Storage Inventory'!$E$4:$E$432="Tier 5",'SAN Storage Inventory'!$P$4:$P$432,0),0))} -> 5
A30: Site Total | D30: =SUM(D26:D29) -> 4585352 | E30: =SUM(E26:E29) -> 4179245.3 | F30: =SUM(F26:F29) -> 109968.93 | G30: =SUM(G26:G29) -> 2624223 | H30: =SUM(H26:H29) -> 1370366.3 | I30: =SUM(I26:I29) -> 1253856.7 | J30: =SUM(J26:J29) -> 41
A31: Roanoke, TX (SWDC) | B31: Tier-1 | C31: Replication | D31: {=SUM(IF('SAN Storage Inventory'!$C$4:$C$432="SWDC",IF('SAN Storage Inventory'!$E$4:$E$432="Tier 1",'SAN Storage Inventory'!$G$4:$G$432,0),0))} -> 113449.77 | E31: {=SUM(IF('SAN Storage Inventory'!$C$4:$C$432="SWDC",IF('SAN Storage Inventory'!$E$4:$E$432="Tier 1",'SAN Storage Inventory'!$H$4:$H$432,0),0))} -> 106248.66 | F31: {=SUM(IF('SAN Storage Inventory'!$C$4:$C$432="SWDC",IF('SAN Storage Inventory'!$E$4:$E$432="Tier 1",'SAN Storage Inventory'!$I$4:$I$432,0),0))} -> 862.69 | G31: {=SUM(IF('SAN Storage Inventory'!$C$4:$C$432="SWDC",IF('SAN Storage Inventory'!$E$4:$E$432="Tier 1",'SAN Storage Inventory'!$J$4:$J$432,0),0))} -> 105051.13 | H31: {=SUM(IF('SAN Storage Inventory'!$C$4:$C$432="SWDC",IF('SAN Storage Inventory'!$E$4:$E$432="Tier 1",'SAN Storage Inventory'!$K$4:$K$432,0),0))} -> 87971.11 | I31: {=SUM(IF('SAN Storage Inventory'!$C$4:$C$432="SWDC",IF('SAN Storage Inventory'!$E$4:$E$432="Tier 1",'SAN Storage Inventory'!$L$4:$L$432,0),0))} -> 17080.02 | J31: {=SUM(IF('SAN Storage Inventory'!$C$4:$C$432="SWDC",IF('SAN Storage Inventory'!$E$4:$E$432="Tier 1",'SAN Storage Inventory'!$P$4:$P$432,0),0))} -> 3
A32: Roanoke, TX (SWDC) | B32: Tier-2 | C32: Local | D32: {=SUM(IF('SAN Storage Inventory'!$C$4:$C$432="SWDC",IF('SAN Storage Inventory'!$E$4:$E$432="Tier 2",'SAN Storage Inventory'!$G$4:$G$432,0),0))} -> 548368.23 | E32: {=SUM(IF('SAN Storage Inventory'!$C$4:$C$432="SWDC",IF('SAN Storage Inventory'!$E$4:$E$432="Tier 2",'SAN Storage Inventory'!$H$4:$H$432,0),0))} -> 512015.29 | F32: {=SUM(IF('SAN Storage Inventory'!$C$4:$C$432="SWDC",IF('SAN Storage Inventory'!$E$4:$E$432="Tier 2",'SAN Storage Inventory'!$I$4:$I$432,0),0))} -> 5714.92 | G32: {=SUM(IF('SAN Storage Inventory'!$C$4:$C$432="SWDC",IF('SAN Storage Inventory'!$E$4:$E$432="Tier 2",'SAN Storage Inventory'!$J$4:$J$432,0),0))} -> 505737.74 | H32: {=SUM(IF('SAN Storage Inventory'!$C$4:$C$432="SWDC",IF('SAN Storage Inventory'!$E$4:$E$432="Tier 2",'SAN Storage Inventory'!$K$4:$K$432,0),0))} -> 258893.33 | I32: {=SUM(IF('SAN Storage Inventory'!$C$4:$C$432="SWDC",IF('SAN Storage Inventory'!$E$4:$E$432="Tier 2",'SAN Storage Inventory'!$L$4:$L$432,0),0))} -> 246844.41 | J32: {=SUM(IF('SAN Storage Inventory'!$C$4:$C$432="SWDC",IF('SAN Storage Inventory'!$E$4:$E$432="Tier 2",'SAN Storage Inventory'!$P$4:$P$432,0),0))} -> 9
A33: Roanoke, TX (SWDC) | B33: Tier-4 | C33: Local | D33: {=SUM(IF('SAN Storage Inventory'!$C$4:$C$432="SWDC",IF('SAN Storage Inventory'!$E$4:$E$432="Tier 4",'SAN Storage Inventory'!$G$4:$G$432,0),0))} -> 15566328 | E33: {=SUM(IF('SAN Storage Inventory'!$C$4:$C$432="SWDC",IF('SAN Storage Inventory'!$E$4:$E$432="Tier 4",'SAN Storage Inventory'!$H$4:$H$432,0),0))} -> 14252015 | F33: {=SUM(IF('SAN Storage Inventory'!$C$4:$C$432="SWDC",IF('SAN Storage Inventory'!$E$4:$E$432="Tier 4",'SAN Storage Inventory'!$I$4:$I$432,0),0))} -> 93991.73 | G33: {=SUM(IF('SAN Storage Inventory'!$C$4:$C$432="SWDC",IF('SAN Storage Inventory'!$E$4:$E$432="Tier 4",'SAN Storage Inventory'!$J$4:$J$432,0),0))} -> 12729860 | H33: {=SUM(IF('SAN Storage Inventory'!$C$4:$C$432="SWDC",IF('SAN Storage Inventory'!$E$4:$E$432="Tier 4",'SAN Storage Inventory'!$K$4:$K$432,0),0))} -> 6072581.9 | I33: {=SUM(IF('SAN Storage Inventory'!$C$4:$C$432="SWDC",IF('SAN Storage Inventory'!$E$4:$E$432="Tier 4",'SAN Storage Inventory'!$L$4:$L$432,0),0))} -> 6657277.9 | J33: {=SUM(IF('SAN Storage Inventory'!$C$4:$C$432="SWDC",IF('SAN Storage Inventory'!$E$4:$E$432="Tier 4",'SAN Storage Inventory'!$P$4:$P$432,0),0))} -> 73
A34: Roanoke, TX (SWDC) | B34: Tier-5 | C34: Local | D34: {=SUM(IF('SAN Storage Inventory'!$C$4:$C$432="SWDC",IF('SAN Storage Inventory'!$E$4:$E$432="Tier 5",'SAN Storage Inventory'!$G$4:$G$432,0),0))} -> 789083.66 | E34: {=SUM(IF('SAN Storage Inventory'!$C$4:$C$432="SWDC",IF('SAN Storage Inventory'!$E$4:$E$432="Tier 5",'SAN Storage Inventory'!$H$4:$H$432,0),0))} -> 743657.37 | F34: {=SUM(IF('SAN Storage Inventory'!$C$4:$C$432="SWDC",IF('SAN Storage Inventory'!$E$4:$E$432="Tier 5",'SAN Storage Inventory'!$I$4:$I$432,0),0))} -> 11435.75 | G34: {=SUM(IF('SAN Storage Inventory'!$C$4:$C$432="SWDC",IF('SAN Storage Inventory'!$E$4:$E$432="Tier 5",'SAN Storage Inventory'!$J$4:$J$432,0),0))} -> 551828.31 | H34: {=SUM(IF('SAN Storage Inventory'!$C$4:$C$432="SWDC",IF('SAN Storage Inventory'!$E$4:$E$432="Tier 5",'SAN Storage Inventory'!$K$4:$K$432,0),0))} -> 492310.34 | I34: {=SUM(IF('SAN Storage Inventory'!$C$4:$C$432="SWDC",IF('SAN Storage Inventory'!$E$4:$E$432="Tier 5",'SAN Storage Inventory'!$L$4:$L$432,0),0))} -> 59517.97 | J34: {=SUM(IF('SAN Storage Inventory'!$C$4:$C$432="SWDC",IF('SAN Storage Inventory'!$E$4:$E$432="Tier 5",'SAN Storage Inventory'!$P$4:$P$432,0),0))} -> 2
A35: Site Total | D35: =SUM(D31:D34) -> 17017230 | E35: =SUM(E31:E34) -> 15613937 | F35: =SUM(F31:F34) -> 112005.09 | G35: =SUM(G31:G34) -> 13892477 | H35: =SUM(H31:H34) -> 6911756.7 | I35: =SUM(I31:I34) -> 6980720.3 | J35: =SUM(J31:J34) -> 87
A36: Total All CTI Sites | D36: =SUMIF($A$6:$A$35,"Site Total",D$6:D$35) -> 46523064 | E36: =SUMIF($A$6:$A$35,"Site Total",E$6:E$35) -> 42548462 | F36: =SUMIF($A$6:$A$35,"Site Total",F$6:F$35) -> 483438.63 | G36: =SUMIF($A$6:$A$35,"Site Total",G$6:G$35) -> 34484709 | H36: =SUMIF($A$6:$A$35,"Site Total",H$6:H$35) -> 16562784 | I36: =SUMIF($A$6:$A$35,"Site Total",I$6:I$35) -> 17921924 | J36: =SUMIF($A$6:$A$35,"Site Total",J$6:J$35) -> 268
A38: Legacy NAIT Sites
A39: Columbus, OH | B39: Tier-1 | C39: Replication | D39: =SUM(IF('SAN Storage Inventory'!$C$4:$C$432="Columbus",IF('SAN Storage Inventory'!$E$4:$E$432="Tier 1",'SAN Storage Inventory'!$G$4:$G$432,0),0)) -> 0 | E39: {=SUM(IF('SAN Storage Inventory'!$C$4:$C$432="Columbus",IF('SAN Storage Inventory'!$E$4:$E$432="Tier 1",'SAN Storage Inventory'!$H$4:$H$432,0),0))} -> 0 | F39: {=SUM(IF('SAN Storage Inventory'!$C$4:$C$432="Columbus",IF('SAN Storage Inventory'!$E$4:$E$432="Tier 1",'SAN Storage Inventory'!$I$4:$I$432,0),0))} -> 0 | G39: {=SUM(IF('SAN Storage Inventory'!$C$4:$C$432="Columbus",IF('SAN Storage Inventory'!$E$4:$E$432="Tier 1",'SAN Storage Inventory'!$J$4:$J$432,0),0))} -> 0 | H39: {=SUM(IF('SAN Storage Inventory'!$C$4:$C$432="Columbus",IF('SAN Storage Inventory'!$E$4:$E$432="Tier 1",'SAN Storage Inventory'!$K$4:$K$432,0),0))} -> 0 | I39: {=SUM(IF('SAN Storage Inventory'!$C$4:$C$432="Columbus",IF('SAN Storage Inventory'!$E$4:$E$432="Tier 1",'SAN Storage Inventory'!$L$4:$L$432,0),0))} -> 0 | J39: {=SUM(IF('SAN Storage Inventory'!$C$4:$C$432="Columbus",IF('SAN Storage Inventory'!$E$4:$E$432="Tier 1",'SAN Storage Inventory'!$P$4:$P$432,0),0))} -> 0
A40: Columbus, OH | B40: Tier-2 | C40: Local | D40: {=SUM(IF('SAN Storage Inventory'!$C$4:$C$432="Columbus",IF('SAN Storage Inventory'!$E$4:$E$432="Tier 2",'SAN Storage Inventory'!$G$4:$G$432,0),0))} -> 0 | E40: {=SUM(IF('SAN Storage Inventory'!$C$4:$C$432="Columbus",IF('SAN Storage Inventory'!$E$4:$E$432="Tier 2",'SAN Storage Inventory'!$H$4:$H$432,0),0))} -> 0 | F40: {=SUM(IF('SAN Storage Inventory'!$C$4:$C$432="Columbus",IF('SAN Storage Inventory'!$E$4:$E$432="Tier 2",'SAN Storage Inventory'!$I$4:$I$432,0),0))} -> 0 | G40: {=SUM(IF('SAN Storage Inventory'!$C$4:$C$432="Columbus",IF('SAN Storage Inventory'!$E$4:$E$432="Tier 2",'SAN Storage Inventory'!$J$4:$J$432,0),0))} -> 0 | H40: {=SUM(IF('SAN Storage Inventory'!$C$4:$C$432="Columbus",IF('SAN Storage Inventory'!$E$4:$E$432="Tier 2",'SAN Storage Inventory'!$K$4:$K$432,0),0))} -> 0 | I40: {=SUM(IF('SAN Storage Inventory'!$C$4:$C$432="Columbus",IF('SAN Storage Inventory'!$E$4:$E$432="Tier 2",'SAN Storage Inventory'!$L$4:$L$432,0),0))} -> 0 | J40: {=SUM(IF('SAN Storage Inventory'!$C$4:$C$432="Columbus",IF('SAN Storage Inventory'!$E$4:$E$432="Tier 2",'SAN Storage Inventory'!$P$4:$P$432,0),0))} -> 0
A41: Columbus, OH | B41: Tier-4 | C41: Local | D41: {=SUM(IF('SAN Storage Inventory'!$C$4:$C$432="Columbus",IF('SAN Storage Inventory'!$E$4:$E$432="Tier 4",'SAN Storage Inventory'!$G$4:$G$432,0),0))} -> 9130 | E41: {=SUM(IF('SAN Storage Inventory'!$C$4:$C$432="Columbus",IF('SAN Storage Inventory'!$E$4:$E$432="Tier 4",'SAN Storage Inventory'!$H$4:$H$432,0),0))} -> 8169 | F41: {=SUM(IF('SAN Storage Inventory'!$C$4:$C$432="Columbus",IF('SAN Storage Inventory'!$E$4:$E$432="Tier 4",'SAN Storage Inventory'!$I$4:$I$432,0),0))} -> 395.37 | G41: {=SUM(IF('SAN Storage Inventory'!$C$4:$C$432="Columbus",IF('SAN Storage Inventory'!$E$4:$E$432="Tier 4",'SAN Storage Inventory'!$J$4:$J$432,0),0))} -> 7117.83 | H41: {=SUM(IF('SAN Storage Inventory'!$C$4:$C$432="Columbus",IF('SAN Storage Inventory'!$E$4:$E$432="Tier 4",'SAN Storage Inventory'!$K$4:$K$432,0),0))} -> 7117.83 | I41: {=SUM(IF('SAN Storage Inventory'!$C$4:$C$432="Columbus",IF('SAN Storage Inventory'!$E$4:$E$432="Tier 4",'SAN Storage Inventory'!$L$4:$L$432,0),0))} -> 0 | J41: {=SUM(IF('SAN Storage Inventory'!$C$4:$C$432="Columbus",IF('SAN Storage Inventory'!$E$4:$E$432="Tier 4",'SAN Storage Inventory'!$P$4:$P$432,0),0))} -> 1
A42: Columbus, OH | B42: Tier-5 | C42: Local | D42: {=SUM(IF('SAN Storage Inventory'!$C$4:$C$432="Columbus",IF('SAN Storage Inventory'!$E$4:$E$432="Tier 5",'SAN Storage Inventory'!$G$4:$G$432,0),0))} -> 0 | E42: {=SUM(IF('SAN Storage Inventory'!$C$4:$C$432="Columbus",IF('SAN Storage Inventory'!$E$4:$E$432="Tier 5",'SAN Storage Inventory'!$H$4:$H$432,0),0))} -> 0 | F42: {=SUM(IF('SAN Storage Inventory'!$C$4:$C$432="Columbus",IF('SAN Storage Inventory'!$E$4:$E$432="Tier 5",'SAN Storage Inventory'!$I$4:$I$432,0),0))} -> 0 | G42: {=SUM(IF('SAN Storage Inventory'!$C$4:$C$432="Columbus",IF('SAN Storage Inventory'!$E$4:$E$432="Tier 5",'SAN Storage Inventory'!$J$4:$J$432,0),0))} -> 0 | H42: {=SUM(IF('SAN Storage Inventory'!$C$4:$C$432="Columbus",IF('SAN Storage Inventory'!$E$4:$E$432="Tier 5",'SAN Storage Inventory'!$K$4:$K$432,0),0))} -> 0 | I42: {=SUM(IF('SAN Storage Inventory'!$C$4:$C$432="Columbus",IF('SAN Storage Inventory'!$E$4:$E$432="Tier 5",'SAN Storage Inventory'!$L$4:$L$432,0),0))} -> 0 | J42: {=SUM(IF('SAN Storage Inventory'!$C$4:$C$432="Columbus",IF('SAN Storage Inventory'!$E$4:$E$432="Tier 5",'SAN Storage Inventory'!$P$4:$P$432,0),0))} -> 0
A43: Site Total | D43: =SUM(D39:D42) -> 9130 | E43: =SUM(E39:E42) -> 8169 | F43: =SUM(F39:F42) -> 395.37 | G43: =SUM(G39:G42) -> 7117.83 | H43: =SUM(H39:H42) -> 7117.83 | I43: =SUM(I39:I42) -> 0 | J43: =SUM(J39:J42) -> 1
A44: Jacksonville, FL | B44: Tier-1 | C44: Replication | D44: {=SUM(IF('SAN Storage Inventory'!$C$4:$C$432="Jacksonville",IF('SAN Storage Inventory'!$E$4:$E$432="Tier 1",'SAN Storage Inventory'!$G$4:$G$432,0),0))} -> 0 | E44: {=SUM(IF('SAN Storage Inventory'!$C$4:$C$432="Jacksonville",IF('SAN Storage Inventory'!$E$4:$E$432="Tier 1",'SAN Storage Inventory'!$H$4:$H$432,0),0))} -> 0 | F44: {=SUM(IF('SAN Storage Inventory'!$C$4:$C$432="Jacksonville",IF('SAN Storage Inventory'!$E$4:$E$432="Tier 1",'SAN Storage Inventory'!$I$4:$I$432,0),0))} -> 0 | G44: {=SUM(IF('SAN Storage Inventory'!$C$4:$C$432="Jacksonville",IF('SAN Storage Inventory'!$E$4:$E$432="Tier 1",'SAN Storage Inventory'!$J$4:$J$432,0),0))} -> 0 | H44: {=SUM(IF('SAN Storage Inventory'!$C$4:$C$432="Jacksonville",IF('SAN Storage Inventory'!$E$4:$E$432="Tier 1",'SAN Storage Inventory'!$K$4:$K$432,0),0))} -> 0 | I44: {=SUM(IF('SAN Storage Inventory'!$C$4:$C$432="Jacksonville",IF('SAN Storage Inventory'!$E$4:$E$432="Tier 1",'SAN Storage Inventory'!$L$4:$L$432,0),0))} -> 0 | J44: {=SUM(IF('SAN Storage Inventory'!$C$4:$C$432="Jacksonville",IF('SAN Storage Inventory'!$E$4:$E$432="Tier 1",'SAN Storage Inventory'!$P$4:$P$432,0),0))} -> 0
A45: Jacksonville, FL | B45: Tier-2 | C45: Local | D45: {=SUM(IF('SAN Storage Inventory'!$C$4:$C$432="Jacksonville",IF('SAN Storage Inventory'!$E$4:$E$432="Tier 2",'SAN Storage Inventory'!$G$4:$G$432,0),0))} -> 11680 | E45: {=SUM(IF('SAN Storage Inventory'!$C$4:$C$432="Jacksonville",IF('SAN Storage Inventory'!$E$4:$E$432="Tier 2",'SAN Storage Inventory'!$H$4:$H$432,0),0))} -> 10938.62 | F45: {=SUM(IF('SAN Storage Inventory'!$C$4:$C$432="Jacksonville",IF('SAN Storage Inventory'!$E$4:$E$432="Tier 2",'SAN Storage Inventory'!$I$4:$I$432,0),0))} -> 94.38 | G45: {=SUM(IF('SAN Storage Inventory'!$C$4:$C$432="Jacksonville",IF('SAN Storage Inventory'!$E$4:$E$432="Tier 2",'SAN Storage Inventory'!$J$4:$J$432,0),0))} -> 10886.14 | H45: {=SUM(IF('SAN Storage Inventory'!$C$4:$C$432="Jacksonville",IF('SAN Storage Inventory'!$E$4:$E$432="Tier 2",'SAN Storage Inventory'!$K$4:$K$432,0),0))} -> 10687.91 | I45: {=SUM(IF('SAN Storage Inventory'!$C$4:$C$432="Jacksonville",IF('SAN Storage Inventory'!$E$4:$E$432="Tier 2",'SAN Storage Inventory'!$L$4:$L$432,0),0))} -> 198.23 | J45: {=SUM(IF('SAN Storage Inventory'!$C$4:$C$432="Jacksonville",IF('SAN Storage Inventory'!$E$4:$E$432="Tier 2",'SAN Storage Inventory'!$P$4:$P$432,0),0))} -> 1
A46: Jacksonville, FL | B46: Tier-4 | C46: Local | D46: {=SUM(IF('SAN Storage Inventory'!$C$4:$C$432="Jacksonville",IF('SAN Storage Inventory'!$E$4:$E$432="Tier 4",'SAN Storage Inventory'!$G$4:$G$432,0),0))} -> 82714 | E46: {=SUM(IF('SAN Storage Inventory'!$C$4:$C$432="Jacksonville",IF('SAN Storage Inventory'!$E$4:$E$432="Tier 4",'SAN Storage Inventory'!$H$4:$H$432,0),0))} -> 74225.35 | F46: {=SUM(IF('SAN Storage Inventory'!$C$4:$C$432="Jacksonville",IF('SAN Storage Inventory'!$E$4:$E$432="Tier 4",'SAN Storage Inventory'!$I$4:$I$432,0),0))} -> 6252.86 | G46: {=SUM(IF('SAN Storage Inventory'!$C$4:$C$432="Jacksonville",IF('SAN Storage Inventory'!$E$4:$E$432="Tier 4",'SAN Storage Inventory'!$J$4:$J$432,0),0))} -> 58396.37 | H46: {=SUM(IF('SAN Storage Inventory'!$C$4:$C$432="Jacksonville",IF('SAN Storage Inventory'!$E$4:$E$432="Tier 4",'SAN Storage Inventory'!$K$4:$K$432,0),0))} -> 36806.49 | I46: {=SUM(IF('SAN Storage Inventory'!$C$4:$C$432="Jacksonville",IF('SAN Storage Inventory'!$E$4:$E$432="Tier 4",'SAN Storage Inventory'!$L$4:$L$432,0),0))} -> 21589.88 | J46: {=SUM(IF('SAN Storage Inventory'!$C$4:$C$432="Jacksonville",IF('SAN Storage Inventory'!$E$4:$E$432="Tier 4",'SAN Storage Inventory'!$P$4:$P$432,0),0))} -> 4
A47: Jacksonville, FL | B47: Tier-5 | C47: Local | D47: {=SUM(IF('SAN Storage Inventory'!$C$4:$C$432="Jacksonville",IF('SAN Storage Inventory'!$E$4:$E$432="Tier 5",'SAN Storage Inventory'!$G$4:$G$432,0),0))} -> 0 | E47: {=SUM(IF('SAN Storage Inventory'!$C$4:$C$432="Jacksonville",IF('SAN Storage Inventory'!$E$4:$E$432="Tier 5",'SAN Storage Inventory'!$H$4:$H$432,0),0))} -> 0 | F47: {=SUM(IF('SAN Storage Inventory'!$C$4:$C$432="Jacksonville",IF('SAN Storage Inventory'!$E$4:$E$432="Tier 5",'SAN Storage Inventory'!$I$4:$I$432,0),0))} -> 0 | G47: {=SUM(IF('SAN Storage Inventory'!$C$4:$C$432="Jacksonville",IF('SAN Storage Inventory'!$E$4:$E$432="Tier 5",'SAN Storage Inventory'!$J$4:$J$432,0),0))} -> 0 | H47: {=SUM(IF('SAN Storage Inventory'!$C$4:$C$432="Jacksonville",IF('SAN Storage Inventory'!$E$4:$E$432="Tier 5",'SAN Storage Inventory'!$K$4:$K$432,0),0))} -> 0 | I47: {=SUM(IF('SAN Storage Inventory'!$C$4:$C$432="Jacksonville",IF('SAN Storage Inventory'!$E$4:$E$432="Tier 5",'SAN Storage Inventory'!$L$4:$L$432,0),0))} -> 0 | J47: {=SUM(IF('SAN Storage Inventory'!$C$4:$C$432="Jacksonville",IF('SAN Storage Inventory'!$E$4:$E$432="Tier 5",'SAN Storage Inventory'!$P$4:$P$432,0),0))} -> 0
A48: Site Total | D48: =SUM(D44:D47) -> 94394 | E48: =SUM(E44:E47) -> 85163.97 | F48: =SUM(F44:F47) -> 6347.24 | G48: =SUM(G44:G47) -> 69282.51 | H48: =SUM(H44:H47) -> 47494.4 | I48: =SUM(I44:I47) -> 21788.11 | J48: =SUM(J44:J47) -> 5
A49: London, Canada | B49: Tier-1 | C49: Replication | D49: {=SUM(IF('SAN Storage Inventory'!$C$4:$C$432="London",IF('SAN Storage Inventory'!$E$4:$E$432="Tier 1",'SAN Storage Inventory'!$G$4:$G$432,0),0))} -> 0 | E49: {=SUM(IF('SAN Storage Inventory'!$C$4:$C$432="London",IF('SAN Storage Inventory'!$E$4:$E$432="Tier 1",'SAN Storage Inventory'!$H$4:$H$432,0),0))} -> 0 | F49: {=SUM(IF('SAN Storage Inventory'!$C$4:$C$432="London",IF('SAN Storage Inventory'!$E$4:$E$432="Tier 1",'SAN Storage Inventory'!$I$4:$I$432,0),0))} -> 0 | G49: {=SUM(IF('SAN Storage Inventory'!$C$4:$C$432="London",IF('SAN Storage Inventory'!$E$4:$E$432="Tier 1",'SAN Storage Inventory'!$J$4:$J$432,0),0))} -> 0 | H49: {=SUM(IF('SAN Storage Inventory'!$C$4:$C$432="London",IF('SAN Storage Inventory'!$E$4:$E$432="Tier 1",'SAN Storage Inventory'!$K$4:$K$432,0),0))} -> 0 | I49: {=SUM(IF('SAN Storage Inventory'!$C$4:$C$432="London",IF('SAN Storage Inventory'!$E$4:$E$432="Tier 1",'SAN Storage Inventory'!$L$4:$L$432,0),0))} -> 0 | J49: {=SUM(IF('SAN Storage Inventory'!$C$4:$C$432="London",IF('SAN Storage Inventory'!$E$4:$E$432="Tier 1",'SAN Storage Inventory'!$P$4:$P$432,0),0))} -> 0
A50: London, Canada | B50: Tier-2 | C50: Local | D50: {=SUM(IF('SAN Storage Inventory'!$C$4:$C$432="London",IF('SAN Storage Inventory'!$E$4:$E$432="Tier 2",'SAN Storage Inventory'!$G$4:$G$432,0),0))} -> 0 | E50: {=SUM(IF('SAN Storage Inventory'!$C$4:$C$432="London",IF('SAN Storage Inventory'!$E$4:$E$432="Tier 2",'SAN Storage Inventory'!$H$4:$H$432,0),0))} -> 0 | F50: {=SUM(IF('SAN Storage Inventory'!$C$4:$C$432="London",IF('SAN Storage Inventory'!$E$4:$E$432="Tier 2",'SAN Storage Inventory'!$I$4:$I$432,0),0))} -> 0 | G50: {=SUM(IF('SAN Storage Inventory'!$C$4:$C$432="London",IF('SAN Storage Inventory'!$E$4:$E$432="Tier 2",'SAN Storage Inventory'!$J$4:$J$432,0),0))} -> 0 | H50: {=SUM(IF('SAN Storage Inventory'!$C$4:$C$432="London",IF('SAN Storage Inventory'!$E$4:$E$432="Tier 2",'SAN Storage Inventory'!$K$4:$K$432,0),0))} -> 0 | I50: {=SUM(IF('SAN Storage Inventory'!$C$4:$C$432="London",IF('SAN Storage Inventory'!$E$4:$E$432="Tier 2",'SAN Storage Inventory'!$L$4:$L$432,0),0))} -> 0 | J50: {=SUM(IF('SAN Storage Inventory'!$C$4:$C$432="London",IF('SAN Storage Inventory'!$E$4:$E$432="Tier 2",'SAN Storage Inventory'!$P$4:$P$432,0),0))} -> 0
A51: London, Canada | B51: Tier-4 | C51: Local | D51: {=SUM(IF('SAN Storage Inventory'!$C$4:$C$432="London",IF('SAN Storage Inventory'!$E$4:$E$432="Tier 4",'SAN Storage Inventory'!$G$4:$G$432,0),0))} -> 20458 | E51: {=SUM(IF('SAN Storage Inventory'!$C$4:$C$432="London",IF('SAN Storage Inventory'!$E$4:$E$432="Tier 4",'SAN Storage Inventory'!$H$4:$H$432,0),0))} -> 18326 | F51: {=SUM(IF('SAN Storage Inventory'!$C$4:$C$432="London",IF('SAN Storage Inventory'!$E$4:$E$432="Tier 4",'SAN Storage Inventory'!$I$4:$I$432,0),0))} -> 1005.67 | G51: {=SUM(IF('SAN Storage Inventory'!$C$4:$C$432="London",IF('SAN Storage Inventory'!$E$4:$E$432="Tier 4",'SAN Storage Inventory'!$J$4:$J$432,0),0))} -> 13835.33 | H51: {=SUM(IF('SAN Storage Inventory'!$C$4:$C$432="London",IF('SAN Storage Inventory'!$E$4:$E$432="Tier 4",'SAN Storage Inventory'!$K$4:$K$432,0),0))} -> 11964.27 | I51: {=SUM(IF('SAN Storage Inventory'!$C$4:$C$432="London",IF('SAN Storage Inventory'!$E$4:$E$432="Tier 4",'SAN Storage Inventory'!$L$4:$L$432,0),0))} -> 1871.06 | J51: {=SUM(IF('SAN Storage Inventory'!$C$4:$C$432="London",IF('SAN Storage Inventory'!$E$4:$E$432="Tier 4",'SAN Storage Inventory'!$P$4:$P$432,0),0))} -> 2
A52: London, Canada | B52: Tier-5 | C52: Local | D52: {=SUM(IF('SAN Storage Inventory'!$C$4:$C$432="London",IF('SAN Storage Inventory'!$E$4:$E$432="Tier 5",'SAN Storage Inventory'!$G$4:$G$432,0),0))} -> 0 | E52: {=SUM(IF('SAN Storage Inventory'!$C$4:$C$432="London",IF('SAN Storage Inventory'!$E$4:$E$432="Tier 5",'SAN Storage Inventory'!$H$4:$H$432,0),0))} -> 0 | F52: {=SUM(IF('SAN Storage Inventory'!$C$4:$C$432="London",IF('SAN Storage Inventory'!$E$4:$E$432="Tier 5",'SAN Storage Inventory'!$I$4:$I$432,0),0))} -> 0 | G52: {=SUM(IF('SAN Storage Inventory'!$C$4:$C$432="London",IF('SAN Storage Inventory'!$E$4:$E$432="Tier 5",'SAN Storage Inventory'!$J$4:$J$432,0),0))} -> 0 | H52: {=SUM(IF('SAN Storage Inventory'!$C$4:$C$432="London",IF('SAN Storage Inventory'!$E$4:$E$432="Tier 5",'SAN Storage Inventory'!$K$4:$K$432,0),0))} -> 0 | I52: {=SUM(IF('SAN Storage Inventory'!$C$4:$C$432="London",IF('SAN Storage Inventory'!$E$4:$E$432="Tier 5",'SAN Storage Inventory'!$L$4:$L$432,0),0))} -> 0 | J52: {=SUM(IF('SAN Storage Inventory'!$C$4:$C$432="London",IF('SAN Storage Inventory'!$E$4:$E$432="Tier 5",'SAN Storage Inventory'!$P$4:$P$432,0),0))} -> 0
A53: Site Total | D53: =SUM(D49:D52) -> 20458 | E53: =SUM(E49:E52) -> 18326 | F53: =SUM(F49:F52) -> 1005.67 | G53: =SUM(G49:G52) -> 13835.33 | H53: =SUM(H49:H52) -> 11964.27 | I53: =SUM(I49:I52) -> 1871.06 | J53: =SUM(J49:J52) -> 2
A54: Mississauga, Canada | B54: Tier-1 | C54: Replication | D54: {=SUM(IF('SAN Storage Inventory'!$C$4:$C$432="Mississauga",IF('SAN Storage Inventory'!$E$4:$E$432="Tier 1",'SAN Storage Inventory'!$G$4:$G$432,0),0))} -> 0 | E54: {=SUM(IF('SAN Storage Inventory'!$C$4:$C$432="Mississauga",IF('SAN Storage Inventory'!$E$4:$E$432="Tier 1",'SAN Storage Inventory'!$H$4:$H$432,0),0))} -> 0 | F54: {=SUM(IF('SAN Storage Inventory'!$C$4:$C$432="Mississauga",IF('SAN Storage Inventory'!$E$4:$E$432="Tier 1",'SAN Storage Inventory'!$I$4:$I$432,0),0))} -> 0 | G54: {=SUM(IF('SAN Storage Inventory'!$C$4:$C$432="Mississauga",IF('SAN Storage Inventory'!$E$4:$E$432="Tier 1",'SAN Storage Inventory'!$J$4:$J$432,0),0))} -> 0 | H54: {=SUM(IF('SAN Storage Inventory'!$C$4:$C$432="Mississauga",IF('SAN Storage Inventory'!$E$4:$E$432="Tier 1",'SAN Storage Inventory'!$K$4:$K$432,0),0))} -> 0 | I54: {=SUM(IF('SAN Storage Inventory'!$C$4:$C$432="Mississauga",IF('SAN Storage Inventory'!$E$4:$E$432="Tier 1",'SAN Storage Inventory'!$L$4:$L$432,0),0))} -> 0 | J54: {=SUM(IF('SAN Storage Inventory'!$C$4:$C$432="Mississauga",IF('SAN Storage Inventory'!$E$4:$E$432="Tier 1",'SAN Storage Inventory'!$P$4:$P$432,0),0))} -> 0
A55: Mississauga, Canada | B55: Tier-2 | C55: Local | D55: {=SUM(IF('SAN Storage Inventory'!$C$4:$C$432="Mississauga",IF('SAN Storage Inventory'!$E$4:$E$432="Tier 2",'SAN Storage Inventory'!$G$4:$G$432,0),0))} -> 0 | E55: {=SUM(IF('SAN Storage Inventory'!$C$4:$C$432="Mississauga",IF('SAN Storage Inventory'!$E$4:$E$432="Tier 2",'SAN Storage Inventory'!$H$4:$H$432,0),0))} -> 0 | F55: {=SUM(IF('SAN Storage Inventory'!$C$4:$C$432="Mississauga",IF('SAN Storage Inventory'!$E$4:$E$432="Tier 2",'SAN Storage Inventory'!$I$4:$I$432,0),0))} -> 0 | G55: {=SUM(IF('SAN Storage Inventory'!$C$4:$C$432="Mississauga",IF('SAN Storage Inventory'!$E$4:$E$432="Tier 2",'SAN Storage Inventory'!$J$4:$J$432,0),0))} -> 0 | H55: {=SUM(IF('SAN Storage Inventory'!$C$4:$C$432="Mississauga",IF('SAN Storage Inventory'!$E$4:$E$432="Tier 2",'SAN Storage Inventory'!$K$4:$K$432,0),0))} -> 0 | I55: {=SUM(IF('SAN Storage Inventory'!$C$4:$C$432="Mississauga",IF('SAN Storage Inventory'!$E$4:$E$432="Tier 2",'SAN Storage Inventory'!$L$4:$L$432,0),0))} -> 0 | J55: {=SUM(IF('SAN Storage Inventory'!$C$4:$C$432="Mississauga",IF('SAN Storage Inventory'!$E$4:$E$432="Tier 2",'SAN Storage Inventory'!$P$4:$P$432,0),0))} -> 0
A56: Mississauga, Canada | B56: Tier-4 | C56: Local | D56: {=SUM(IF('SAN Storage Inventory'!$C$4:$C$432="Mississauga",IF('SAN Storage Inventory'!$E$4:$E$432="Tier 4",'SAN Storage Inventory'!$G$4:$G$432,0),0))} -> 115680 | E56: {=SUM(IF('SAN Storage Inventory'!$C$4:$C$432="Mississauga",IF('SAN Storage Inventory'!$E$4:$E$432="Tier 4",'SAN Storage Inventory'!$H$4:$H$432,0),0))} -> 103804 | F56: {=SUM(IF('SAN Storage Inventory'!$C$4:$C$432="Mississauga",IF('SAN Storage Inventory'!$E$4:$E$432="Tier 4",'SAN Storage Inventory'!$I$4:$I$432,0),0))} -> 5295.78 | G56: {=SUM(IF('SAN Storage Inventory'!$C$4:$C$432="Mississauga",IF('SAN Storage Inventory'!$E$4:$E$432="Tier 4",'SAN Storage Inventory'!$J$4:$J$432,0),0))} -> 82254.65 | H56: {=SUM(IF('SAN Storage Inventory'!$C$4:$C$432="Mississauga",IF('SAN Storage Inventory'!$E$4:$E$432="Tier 4",'SAN Storage Inventory'!$K$4:$K$432,0),0))} -> 78525.62 | I56: {=SUM(IF('SAN Storage Inventory'!$C$4:$C$432="Mississauga",IF('SAN Storage Inventory'!$E$4:$E$432="Tier 4",'SAN Storage Inventory'!$L$4:$L$432,0),0))} -> 3729.03 | J56: {=SUM(IF('SAN Storage Inventory'!$C$4:$C$432="Mississauga",IF('SAN Storage Inventory'!$E$4:$E$432="Tier 4",'SAN Storage Inventory'!$P$4:$P$432,0),0))} -> 3
A57: Mississauga, Canada | B57: Tier-5 | C57: Local | D57: {=SUM(IF('SAN Storage Inventory'!$C$4:$C$432="Mississauga",IF('SAN Storage Inventory'!$E$4:$E$432="Tier 5",'SAN Storage Inventory'!$G$4:$G$432,0),0))} -> 193300 | E57: {=SUM(IF('SAN Storage Inventory'!$C$4:$C$432="Mississauga",IF('SAN Storage Inventory'!$E$4:$E$432="Tier 5",'SAN Storage Inventory'!$H$4:$H$432,0),0))} -> 185675 | F57: {=SUM(IF('SAN Storage Inventory'!$C$4:$C$432="Mississauga",IF('SAN Storage Inventory'!$E$4:$E$432="Tier 5",'SAN Storage Inventory'!$I$4:$I$432,0),0))} -> 41462.77 | G57: {=SUM(IF('SAN Storage Inventory'!$C$4:$C$432="Mississauga",IF('SAN Storage Inventory'!$E$4:$E$432="Tier 5",'SAN Storage Inventory'!$J$4:$J$432,0),0))} -> 143108.04 | H57: {=SUM(IF('SAN Storage Inventory'!$C$4:$C$432="Mississauga",IF('SAN Storage Inventory'!$E$4:$E$432="Tier 5",'SAN Storage Inventory'!$K$4:$K$432,0),0))} -> 74795.05 | I57: {=SUM(IF('SAN Storage Inventory'!$C$4:$C$432="Mississauga",IF('SAN Storage Inventory'!$E$4:$E$432="Tier 5",'SAN Storage Inventory'!$L$4:$L$432,0),0))} -> 68313 | J57: {=SUM(IF('SAN Storage Inventory'!$C$4:$C$432="Mississauga",IF('SAN Storage Inventory'!$E$4:$E$432="Tier 5",'SAN Storage Inventory'!$P$4:$P$432,0),0))} -> 0
A58: Site Total | D58: =SUM(D54:D57) -> 308980 | E58: =SUM(E54:E57) -> 289479 | F58: =SUM(F54:F57) -> 46758.55 | G58: =SUM(G54:G57) -> 225362.69 | H58: =SUM(H54:H57) -> 153320.67 | I58: =SUM(I54:I57) -> 72042.03 | J58: =SUM(J54:J57) -> 3
A59: The Lakes, NV | B59: Tier-1 | C59: Replication | D59: {=SUM(IF('SAN Storage Inventory'!$C$4:$C$432="Nevada",IF('SAN Storage Inventory'!$E$4:$E$432="Tier 1",'SAN Storage Inventory'!$G$4:$G$432,0),0))} -> 0 | E59: {=SUM(IF('SAN Storage Inventory'!$C$4:$C$432="Nevada",IF('SAN Storage Inventory'!$E$4:$E$432="Tier 1",'SAN Storage Inventory'!$H$4:$H$432,0),0))} -> 0 | F59: {=SUM(IF('SAN Storage Inventory'!$C$4:$C$432="Nevada",IF('SAN Storage Inventory'!$E$4:$E$432="Tier 1",'SAN Storage Inventory'!$I$4:$I$432,0),0))} -> 0 | G59: {=SUM(IF('SAN Storage Inventory'!$C$4:$C$432="Nevada",IF('SAN Storage Inventory'!$E$4:$E$432="Tier 1",'SAN Storage Inventory'!$J$4:$J$432,0),0))} -> 0 | H59: {=SUM(IF('SAN Storage Inventory'!$C$4:$C$432="Nevada",IF('SAN Storage Inventory'!$E$4:$E$432="Tier 1",'SAN Storage Inventory'!$K$4:$K$432,0),0))} -> 0 | I59: {=SUM(IF('SAN Storage Inventory'!$C$4:$C$432="Nevada",IF('SAN Storage Inventory'!$E$4:$E$432="Tier 1",'SAN Storage Inventory'!$L$4:$L$432,0),0))} -> 0 | J59: {=SUM(IF('SAN Storage Inventory'!$C$4:$C$432="Nevada",IF('SAN Storage Inventory'!$E$4:$E$432="Tier 1",'SAN Storage Inventory'!$P$4:$P$432,0),0))} -> 0
A60: The Lakes, NV | B60: Tier-2 | C60: Local | D60: {=SUM(IF('SAN Storage Inventory'!$C$4:$C$432="Nevada",IF('SAN Storage Inventory'!$E$4:$E$432="Tier 2",'SAN Storage Inventory'!$G$4:$G$432,0),0))} -> 0 | E60: {=SUM(IF('SAN Storage Inventory'!$C$4:$C$432="Nevada",IF('SAN Storage Inventory'!$E$4:$E$432="Tier 2",'SAN Storage Inventory'!$H$4:$H$432,0),0))} -> 0 | F60: {=SUM(IF('SAN Storage Inventory'!$C$4:$C$432="Nevada",IF('SAN Storage Inventory'!$E$4:$E$432="Tier 2",'SAN Storage Inventory'!$I$4:$I$432,0),0))} -> 0 | G60: {=SUM(IF('SAN Storage Inventory'!$C$4:$C$432="Nevada",IF('SAN Storage Inventory'!$E$4:$E$432="Tier 2",'SAN Storage Inventory'!$J$4:$J$432,0),0))} -> 0 | H60: {=SUM(IF('SAN Storage Inventory'!$C$4:$C$432="Nevada",IF('SAN Storage Inventory'!$E$4:$E$432="Tier 2",'SAN Storage Inventory'!$K$4:$K$432,0),0))} -> 0 | I60: {=SUM(IF('SAN Storage Inventory'!$C$4:$C$432="Nevada",IF('SAN Storage Inventory'!$E$4:$E$432="Tier 2",'SAN Storage Inventory'!$L$4:$L$432,0),0))} -> 0 | J60: {=SUM(IF('SAN Storage Inventory'!$C$4:$C$432="Nevada",IF('SAN Storage Inventory'!$E$4:$E$432="Tier 2",'SAN Storage Inventory'!$P$4:$P$432,0),0))} -> 0
A61: The Lakes, NV | B61: Tier-4 | C61: Local | D61: {=SUM(IF('SAN Storage Inventory'!$C$4:$C$432="Nevada",IF('SAN Storage Inventory'!$E$4:$E$432="Tier 4",'SAN Storage Inventory'!$G$4:$G$432,0),0))} -> 9900 | E61: {=SUM(IF('SAN Storage Inventory'!$C$4:$C$432="Nevada",IF('SAN Storage Inventory'!$E$4:$E$432="Tier 4",'SAN Storage Inventory'!$H$4:$H$432,0),0))} -> 8844 | F61: {=SUM(IF('SAN Storage Inventory'!$C$4:$C$432="Nevada",IF('SAN Storage Inventory'!$E$4:$E$432="Tier 4",'SAN Storage Inventory'!$I$4:$I$432,0),0))} -> 2005.38 | G61: {=SUM(IF('SAN Storage Inventory'!$C$4:$C$432="Nevada",IF('SAN Storage Inventory'!$E$4:$E$432="Tier 4",'SAN Storage Inventory'!$J$4:$J$432,0),0))} -> 5509 | H61: {=SUM(IF('SAN Storage Inventory'!$C$4:$C$432="Nevada",IF('SAN Storage Inventory'!$E$4:$E$432="Tier 4",'SAN Storage Inventory'!$K$4:$K$432,0),0))} -> 5509 | I61: {=SUM(IF('SAN Storage Inventory'!$C$4:$C$432="Nevada",IF('SAN Storage Inventory'!$E$4:$E$432="Tier 4",'SAN Storage Inventory'!$L$4:$L$432,0),0))} -> 0 | J61: {=SUM(IF('SAN Storage Inventory'!$C$4:$C$432="Nevada",IF('SAN Storage Inventory'!$E$4:$E$432="Tier 4",'SAN Storage Inventory'!$P$4:$P$432,0),0))} -> 1
A62: The Lakes, NV | B62: Tier-5 | C62: Local | D62: {=SUM(IF('SAN Storage Inventory'!$C$4:$C$432="Nevada",IF('SAN Storage Inventory'!$E$4:$E$432="Tier 5",'SAN Storage Inventory'!$G$4:$G$432,0),0))} -> 0 | E62: {=SUM(IF('SAN Storage Inventory'!$C$4:$C$432="Nevada",IF('SAN Storage Inventory'!$E$4:$E$432="Tier 5",'SAN Storage Inventory'!$H$4:$H$432,0),0))} -> 0 | F62: {=SUM(IF('SAN Storage Inventory'!$C$4:$C$432="Nevada",IF('SAN Storage Inventory'!$E$4:$E$432="Tier 5",'SAN Storage Inventory'!$I$4:$I$432,0),0))} -> 0 | G62: {=SUM(IF('SAN Storage Inventory'!$C$4:$C$432="Nevada",IF('SAN Storage Inventory'!$E$4:$E$432="Tier 5",'SAN Storage Inventory'!$J$4:$J$432,0),0))} -> 0 | H62: {=SUM(IF('SAN Storage Inventory'!$C$4:$C$432="Nevada",IF('SAN Storage Inventory'!$E$4:$E$432="Tier 5",'SAN Storage Inventory'!$K$4:$K$432,0),0))} -> 0 | I62: {=SUM(IF('SAN Storage Inventory'!$C$4:$C$432="Nevada",IF('SAN Storage Inventory'!$E$4:$E$432="Tier 5",'SAN Storage Inventory'!$L$4:$L$432,0),0))} -> 0 | J62: {=SUM(IF('SAN Storage Inventory'!$C$4:$C$432="Nevada",IF('SAN Storage Inventory'!$E$4:$E$432="Tier 5",'SAN Storage Inventory'!$P$4:$P$432,0),0))} -> 0
A63: Site Total | D63: =SUM(D59:D62) -> 9900 | E63: =SUM(E59:E62) -> 8844 | F63: =SUM(F59:F62) -> 2005.38 | G63: =SUM(G59:G62) -> 5509 | H63: =SUM(H59:H62) -> 5509 | I63: =SUM(I59:I62) -> 0 | J63: =SUM(J59:J62) -> 1
A64: Toronto, Canada | B64: Tier-1 | C64: Replication | D64: {=SUM(IF('SAN Storage Inventory'!$C$4:$C$432="Toronto",IF('SAN Storage Inventory'!$E$4:$E$432="Tier 1",'SAN Storage Inventory'!$G$4:$G$432,0),0))} -> 0 | E64: {=SUM(IF('SAN Storage Inventory'!$C$4:$C$432="Toronto",IF('SAN Storage Inventory'!$E$4:$E$432="Tier 1",'SAN Storage Inventory'!$H$4:$H$432,0),0))} -> 0 | F64: {=SUM(IF('SAN Storage Inventory'!$C$4:$C$432="Toronto",IF('SAN Storage Inventory'!$E$4:$E$432="Tier 1",'SAN Storage Inventory'!$I$4:$I$432,0),0))} -> 0 | G64: {=SUM(IF('SAN Storage Inventory'!$C$4:$C$432="Toronto",IF('SAN Storage Inventory'!$E$4:$E$432="Tier 1",'SAN Storage Inventory'!$J$4:$J$432,0),0))} -> 0 | H64: {=SUM(IF('SAN Storage Inventory'!$C$4:$C$432="Toronto",IF('SAN Storage Inventory'!$E$4:$E$432="Tier 1",'SAN Storage Inventory'!$K$4:$K$432,0),0))} -> 0 | I64: {=SUM(IF('SAN Storage Inventory'!$C$4:$C$432="Toronto",IF('SAN Storage Inventory'!$E$4:$E$432="Tier 1",'SAN Storage Inventory'!$L$4:$L$432,0),0))} -> 0 | J64: {=SUM(IF('SAN Storage Inventory'!$C$4:$C$432="Toronto",IF('SAN Storage Inventory'!$E$4:$E$432="Tier 1",'SAN Storage Inventory'!$P$4:$P$432,0),0))} -> 0
A65: Toronto, Canada | B65: Tier-2 | C65: Local | D65: {=SUM(IF('SAN Storage Inventory'!$C$4:$C$432="Toronto",IF('SAN Storage Inventory'!$E$4:$E$432="Tier 2",'SAN Storage Inventory'!$G$4:$G$432,0),0))} -> 0 | E65: {=SUM(IF('SAN Storage Inventory'!$C$4:$C$432="Toronto",IF('SAN Storage Inventory'!$E$4:$E$432="Tier 2",'SAN Storage Inventory'!$H$4:$H$432,0),0))} -> 0 | F65: {=SUM(IF('SAN Storage Inventory'!$C$4:$C$432="Toronto",IF('SAN Storage Inventory'!$E$4:$E$432="Tier 2",'SAN Storage Inventory'!$I$4:$I$432,0),0))} -> 0 | G65: {=SUM(IF('SAN Storage Inventory'!$C$4:$C$432="Toronto",IF('SAN Storage Inventory'!$E$4:$E$432="Tier 2",'SAN Storage Inventory'!$J$4:$J$432,0),0))} -> 0 | H65: {=SUM(IF('SAN Storage Inventory'!$C$4:$C$432="Toronto",IF('SAN Storage Inventory'!$E$4:$E$432="Tier 2",'SAN Storage Inventory'!$K$4:$K$432,0),0))} -> 0 | I65: {=SUM(IF('SAN Storage Inventory'!$C$4:$C$432="Toronto",IF('SAN Storage Inventory'!$E$4:$E$432="Tier 2",'SAN Storage Inventory'!$L$4:$L$432,0),0))} -> 0 | J65: {=SUM(IF('SAN Storage Inventory'!$C$4:$C$432="Toronto",IF('SAN Storage Inventory'!$E$4:$E$432="Tier 2",'SAN Storage Inventory'!$P$4:$P$432,0),0))} -> 0
A66: Toronto, Canada | B66: Tier-4 | C66: Local | D66: {=SUM(IF('SAN Storage Inventory'!$C$4:$C$432="Toronto",IF('SAN Storage Inventory'!$E$4:$E$432="Tier 4",'SAN Storage Inventory'!$G$4:$G$432,0),0))} -> 63972 | E66: {=SUM(IF('SAN Storage Inventory'!$C$4:$C$432="Toronto",IF('SAN Storage Inventory'!$E$4:$E$432="Tier 4",'SAN Storage Inventory'!$H$4:$H$432,0),0))} -> 57488 | F66: {=SUM(IF('SAN Storage Inventory'!$C$4:$C$432="Toronto",IF('SAN Storage Inventory'!$E$4:$E$432="Tier 4",'SAN Storage Inventory'!$I$4:$I$432,0),0))} -> 4203.67 | G66: {=SUM(IF('SAN Storage Inventory'!$C$4:$C$432="Toronto",IF('SAN Storage Inventory'!$E$4:$E$432="Tier 4",'SAN Storage Inventory'!$J$4:$J$432,0),0))} -> 43930.68 | H66: {=SUM(IF('SAN Storage Inventory'!$C$4:$C$432="Toronto",IF('SAN Storage Inventory'!$E$4:$E$432="Tier 4",'SAN Storage Inventory'!$K$4:$K$432,0),0))} -> 33104.93 | I66: {=SUM(IF('SAN Storage Inventory'!$C$4:$C$432="Toronto",IF('SAN Storage Inventory'!$E$4:$E$432="Tier 4",'SAN Storage Inventory'!$L$4:$L$432,0),0))} -> 10825.75 | J66: {=SUM(IF('SAN Storage Inventory'!$C$4:$C$432="Toronto",IF('SAN Storage Inventory'!$E$4:$E$432="Tier 4",'SAN Storage Inventory'!$P$4:$P$432,0),0))} -> 2
A67: Toronto, Canada | B67: Tier-5 | C67: Local | D67: {=SUM(IF('SAN Storage Inventory'!$C$4:$C$432="Toronto",IF('SAN Storage Inventory'!$E$4:$E$432="Tier 5",'SAN Storage Inventory'!$G$4:$G$432,0),0))} -> 134400 | E67: {=SUM(IF('SAN Storage Inventory'!$C$4:$C$432="Toronto",IF('SAN Storage Inventory'!$E$4:$E$432="Tier 5",'SAN Storage Inventory'!$H$4:$H$432,0),0))} -> 128562 | F67: {=SUM(IF('SAN Storage Inventory'!$C$4:$C$432="Toronto",IF('SAN Storage Inventory'!$E$4:$E$432="Tier 5",'SAN Storage Inventory'!$I$4:$I$432,0),0))} -> 1315.42 | G67: {=SUM(IF('SAN Storage Inventory'!$C$4:$C$432="Toronto",IF('SAN Storage Inventory'!$E$4:$E$432="Tier 5",'SAN Storage Inventory'!$J$4:$J$432,0),0))} -> 121903.17 | H67: {=SUM(IF('SAN Storage Inventory'!$C$4:$C$432="Toronto",IF('SAN Storage Inventory'!$E$4:$E$432="Tier 5",'SAN Storage Inventory'!$K$4:$K$432,0),0))} -> 105155.84 | I67: {=SUM(IF('SAN Storage Inventory'!$C$4:$C$432="Toronto",IF('SAN Storage Inventory'!$E$4:$E$432="Tier 5",'SAN Storage Inventory'!$L$4:$L$432,0),0))} -> 16747.34 | J67: {=SUM(IF('SAN Storage Inventory'!$C$4:$C$432="Toronto",IF('SAN Storage Inventory'!$E$4:$E$432="Tier 5",'SAN Storage Inventory'!$P$4:$P$432,0),0))} -> 0
A68: Site Total | D68: =SUM(D64:D67) -> 198372 | E68: =SUM(E64:E67) -> 186050 | F68: =SUM(F64:F67) -> 5519.09 | G68: =SUM(G64:G67) -> 165833.85 | H68: =SUM(H64:H67) -> 138260.77 | I68: =SUM(I64:I67) -> 27573.09 | J68: =SUM(J64:J67) -> 2
A69: Urbandale, IA | B69: Tier-1 | C69: Replication | D69: {=SUM(IF('SAN Storage Inventory'!$C$4:$C$432="Urbandale",IF('SAN Storage Inventory'!$E$4:$E$432="Tier 1",'SAN Storage Inventory'!$G$4:$G$432,0),0))} -> 0 | E69: {=SUM(IF('SAN Storage Inventory'!$C$4:$C$432="Urbandale",IF('SAN Storage Inventory'!$E$4:$E$432="Tier 1",'SAN Storage Inventory'!$H$4:$H$432,0),0))} -> 0 | F69: {=SUM(IF('SAN Storage Inventory'!$C$4:$C$432="Urbandale",IF('SAN Storage Inventory'!$E$4:$E$432="Tier 1",'SAN Storage Inventory'!$I$4:$I$432,0),0))} -> 0 | G69: {=SUM(IF('SAN Storage Inventory'!$C$4:$C$432="Urbandale",IF('SAN Storage Inventory'!$E$4:$E$432="Tier 1",'SAN Storage Inventory'!$J$4:$J$432,0),0))} -> 0 | H69: {=SUM(IF('SAN Storage Inventory'!$C$4:$C$432="Urbandale",IF('SAN Storage Inventory'!$E$4:$E$432="Tier 1",'SAN Storage Inventory'!$K$4:$K$432,0),0))} -> 0 | I69: {=SUM(IF('SAN Storage Inventory'!$C$4:$C$432="Urbandale",IF('SAN Storage Inventory'!$E$4:$E$432="Tier 1",'SAN Storage Inventory'!$L$4:$L$432,0),0))} -> 0 | J69: {=SUM(IF('SAN Storage Inventory'!$C$4:$C$432="Urbandale",IF('SAN Storage Inventory'!$E$4:$E$432="Tier 1",'SAN Storage Inventory'!$P$4:$P$432,0),0))} -> 0
A70: Urbandale, IA | B70: Tier-2 | C70: Local | D70: {=SUM(IF('SAN Storage Inventory'!$C$4:$C$432="Urbandale",IF('SAN Storage Inventory'!$E$4:$E$432="Tier 2",'SAN Storage Inventory'!$G$4:$G$432,0),0))} -> 0 | E70: {=SUM(IF('SAN Storage Inventory'!$C$4:$C$432="Urbandale",IF('SAN Storage Inventory'!$E$4:$E$432="Tier 2",'SAN Storage Inventory'!$H$4:$H$432,0),0))} -> 0 | F70: {=SUM(IF('SAN Storage Inventory'!$C$4:$C$432="Urbandale",IF('SAN Storage Inventory'!$E$4:$E$432="Tier 2",'SAN Storage Inventory'!$I$4:$I$432,0),0))} -> 0 | G70: {=SUM(IF('SAN Storage Inventory'!$C$4:$C$432="Urbandale",IF('SAN Storage Inventory'!$E$4:$E$432="Tier 2",'SAN Storage Inventory'!$J$4:$J$432,0),0))} -> 0 | H70: {=SUM(IF('SAN Storage Inventory'!$C$4:$C$432="Urbandale",IF('SAN Storage Inventory'!$E$4:$E$432="Tier 2",'SAN Storage Inventory'!$K$4:$K$432,0),0))} -> 0 | I70: {=SUM(IF('SAN Storage Inventory'!$C$4:$C$432="Urbandale",IF('SAN Storage Inventory'!$E$4:$E$432="Tier 2",'SAN Storage Inventory'!$L$4:$L$432,0),0))} -> 0 | J70: {=SUM(IF('SAN Storage Inventory'!$C$4:$C$432="Urbandale",IF('SAN Storage Inventory'!$E$4:$E$432="Tier 2",'SAN Storage Inventory'!$P$4:$P$432,0),0))} -> 0
A71: Urbandale, IA | B71: Tier-4 | C71: Local | D71: {=SUM(IF('SAN Storage Inventory'!$C$4:$C$432="Urbandale",IF('SAN Storage Inventory'!$E$4:$E$432="Tier 4",'SAN Storage Inventory'!$G$4:$G$432,0),0))} -> 9430 | E71: {=SUM(IF('SAN Storage Inventory'!$C$4:$C$432="Urbandale",IF('SAN Storage Inventory'!$E$4:$E$432="Tier 4",'SAN Storage Inventory'!$H$4:$H$432,0),0))} -> 8437 | F71: {=SUM(IF('SAN Storage Inventory'!$C$4:$C$432="Urbandale",IF('SAN Storage Inventory'!$E$4:$E$432="Tier 4",'SAN Storage Inventory'!$I$4:$I$432,0),0))} -> 395.37 | G71: {=SUM(IF('SAN Storage Inventory'!$C$4:$C$432="Urbandale",IF('SAN Storage Inventory'!$E$4:$E$432="Tier 4",'SAN Storage Inventory'!$J$4:$J$432,0),0))} -> 7117.83 | H71: {=SUM(IF('SAN Storage Inventory'!$C$4:$C$432="Urbandale",IF('SAN Storage Inventory'!$E$4:$E$432="Tier 4",'SAN Storage Inventory'!$K$4:$K$432,0),0))} -> 7117.83 | I71: {=SUM(IF('SAN Storage Inventory'!$C$4:$C$432="Urbandale",IF('SAN Storage Inventory'!$E$4:$E$432="Tier 4",'SAN Storage Inventory'!$L$4:$L$432,0),0))} -> 0 | J71: {=SUM(IF('SAN Storage Inventory'!$C$4:$C$432="Urbandale",IF('SAN Storage Inventory'!$E$4:$E$432="Tier 4",'SAN Storage Inventory'!$P$4:$P$432,0),0))} -> 1
A72: Urbandale, IA | B72: Tier-5 | C72: Local | D72: {=SUM(IF('SAN Storage Inventory'!$C$4:$C$432="Urbandale",IF('SAN Storage Inventory'!$E$4:$E$432="Tier 5",'SAN Storage Inventory'!$G$4:$G$432,0),0))} -> 0 | E72: {=SUM(IF('SAN Storage Inventory'!$C$4:$C$432="Urbandale",IF('SAN Storage Inventory'!$E$4:$E$432="Tier 5",'SAN Storage Inventory'!$H$4:$H$432,0),0))} -> 0 | F72: {=SUM(IF('SAN Storage Inventory'!$C$4:$C$432="Urbandale",IF('SAN Storage Inventory'!$E$4:$E$432="Tier 5",'SAN Storage Inventory'!$I$4:$I$432,0),0))} -> 0 | G72: {=SUM(IF('SAN Storage Inventory'!$C$4:$C$432="Urbandale",IF('SAN Storage Inventory'!$E$4:$E$432="Tier 5",'SAN Storage Inventory'!$J$4:$J$432,0),0))} -> 0 | H72: {=SUM(IF('SAN Storage Inventory'!$C$4:$C$432="Urbandale",IF('SAN Storage Inventory'!$E$4:$E$432="Tier 5",'SAN Storage Inventory'!$K$4:$K$432,0),0))} -> 0 | I72: {=SUM(IF('SAN Storage Inventory'!$C$4:$C$432="Urbandale",IF('SAN Storage Inventory'!$E$4:$E$432="Tier 5",'SAN Storage Inventory'!$L$4:$L$432,0),0))} -> 0 | J72: {=SUM(IF('SAN Storage Inventory'!$C$4:$C$432="Urbandale",IF('SAN Storage Inventory'!$E$4:$E$432="Tier 5",'SAN Storage Inventory'!$P$4:$P$432,0),0))} -> 0
A73: Site Total | D73: =SUM(D69:D72) -> 9430 | E73: =SUM(E69:E72) -> 8437 | F73: =SUM(F69:F72) -> 395.37 | G73: =SUM(G69:G72) -> 7117.83 | H73: =SUM(H69:H72) -> 7117.83 | I73: =SUM(I69:I72) -> 0 | J73: =SUM(J69:J72) -> 1
A74: Total All Legacy NAIT Sites | D74: =SUMIF($A$39:$A$73,"Site Total",D$39:D$73) -> 650664 | E74: =SUMIF($A$39:$A$73,"Site Total",E$39:E$73) -> 604468.97 | F74: =SUMIF($A$39:$A$73,"Site Total",F$39:F$73) -> 62426.67 | G74: =SUMIF($A$39:$A$73,"Site Total",G$39:G$73) -> 494059.04 | H74: =SUMIF($A$39:$A$73,"Site Total",H$39:H$73) -> 370784.77 | I74: =SUMIF($A$39:$A$73,"Site Total",I$39:I$73) -> 123274.29 | J74: =SUMIF($A$39:$A$73,"Site Total",J$39:J$73) -> 15
A76: Latin America (LATAM) Sites
A77: Argentina, Villa Adelina | B77: Tier-1 | C77: Replication | D77: {=SUM(IF('SAN Storage Inventory'!$C$4:$C$432="Villa Adelina",IF('SAN Storage Inventory'!$E$4:$E$432="Tier 1",'SAN Storage Inventory'!$G$4:$G$432,0),0))} -> 0 | E77: {=SUM(IF('SAN Storage Inventory'!$C$4:$C$432="Villa Adelina",IF('SAN Storage Inventory'!$E$4:$E$432="Tier 1",'SAN Storage Inventory'!$H$4:$H$432,0),0))} -> 0 | F77: {=SUM(IF('SAN Storage Inventory'!$C$4:$C$432="Villa Adelina",IF('SAN Storage Inventory'!$E$4:$E$432="Tier 1",'SAN Storage Inventory'!$I$4:$I$432,0),0))} -> 0 | G77: {=SUM(IF('SAN Storage Inventory'!$C$4:$C$432="Villa Adelina",IF('SAN Storage Inventory'!$E$4:$E$432="Tier 1",'SAN Storage Inventory'!$J$4:$J$432,0),0))} -> 0 | H77: {=SUM(IF('SAN Storage Inventory'!$C$4:$C$432="Villa Adelina",IF('SAN Storage Inventory'!$E$4:$E$432="Tier 1",'SAN Storage Inventory'!$K$4:$K$432,0),0))} -> 0 | I77: {=SUM(IF('SAN Storage Inventory'!$C$4:$C$432="Villa Adelina",IF('SAN Storage Inventory'!$E$4:$E$432="Tier 1",'SAN Storage Inventory'!$L$4:$L$432,0),0))} -> 0 | J77: {=SUM(IF('SAN Storage Inventory'!$C$4:$C$432="Villa Adelina",IF('SAN Storage Inventory'!$E$4:$E$432="Tier 1",'SAN Storage Inventory'!$P$4:$P$432,0),0))} -> 0
A78: Argentina, Villa Adelina | B78: Tier-2 | C78: Local | D78: {=SUM(IF('SAN Storage Inventory'!$C$4:$C$432="Villa Adelina",IF('SAN Storage Inventory'!$E$4:$E$432="Tier 2",'SAN Storage Inventory'!$G$4:$G$432,0),0))} -> 0 | E78: {=SUM(IF('SAN Storage Inventory'!$C$4:$C$432="Villa Adelina",IF('SAN Storage Inventory'!$E$4:$E$432="Tier 2",'SAN Storage Inventory'!$H$4:$H$432,0),0))} -> 0 | F78: {=SUM(IF('SAN Storage Inventory'!$C$4:$C$432="Villa Adelina",IF('SAN Storage Inventory'!$E$4:$E$432="Tier 2",'SAN Storage Inventory'!$I$4:$I$432,0),0))} -> 0 | G78: {=SUM(IF('SAN Storage Inventory'!$C$4:$C$432="Villa Adelina",IF('SAN Storage Inventory'!$E$4:$E$432="Tier 2",'SAN Storage Inventory'!$J$4:$J$432,0),0))} -> 0 | H78: {=SUM(IF('SAN Storage Inventory'!$C$4:$C$432="Villa Adelina",IF('SAN Storage Inventory'!$E$4:$E$432="Tier 2",'SAN Storage Inventory'!$K$4:$K$432,0),0))} -> 0 | I78: {=SUM(IF('SAN Storage Inventory'!$C$4:$C$432="Villa Adelina",IF('SAN Storage Inventory'!$E$4:$E$432="Tier 2",'SAN Storage Inventory'!$L$4:$L$432,0),0))} -> 0 | J78: {=SUM(IF('SAN Storage Inventory'!$C$4:$C$432="Villa Adelina",IF('SAN Storage Inventory'!$E$4:$E$432="Tier 2",'SAN Storage Inventory'!$P$4:$P$432,0),0))} -> 0
A79: Argentina, Villa Adelina | B79: Tier-4 | C79: Local | D79: {=SUM(IF('SAN Storage Inventory'!$C$4:$C$432="Villa Adelina",IF('SAN Storage Inventory'!$E$4:$E$432="Tier 4",'SAN Storage Inventory'!$G$4:$G$432,0),0))} -> 21568 | E79: {=SUM(IF('SAN Storage Inventory'!$C$4:$C$432="Villa Adelina",IF('SAN Storage Inventory'!$E$4:$E$432="Tier 4",'SAN Storage Inventory'!$H$4:$H$432,0),0))} -> 19288 | F79: {=SUM(IF('SAN Storage Inventory'!$C$4:$C$432="Villa Adelina",IF('SAN Storage Inventory'!$E$4:$E$432="Tier 4",'SAN Storage Inventory'!$I$4:$I$432,0),0))} -> 7586.48 | G79: {=SUM(IF('SAN Storage Inventory'!$C$4:$C$432="Villa Adelina",IF('SAN Storage Inventory'!$E$4:$E$432="Tier 4",'SAN Storage Inventory'!$J$4:$J$432,0),0))} -> 10404 | H79: {=SUM(IF('SAN Storage Inventory'!$C$4:$C$432="Villa Adelina",IF('SAN Storage Inventory'!$E$4:$E$432="Tier 4",'SAN Storage Inventory'!$K$4:$K$432,0),0))} -> 10404 | I79: {=SUM(IF('SAN Storage Inventory'!$C$4:$C$432="Villa Adelina",IF('SAN Storage Inventory'!$E$4:$E$432="Tier 4",'SAN Storage Inventory'!$L$4:$L$432,0),0))} -> 0 | J79: {=SUM(IF('SAN Storage Inventory'!$C$4:$C$432="Villa Adelina",IF('SAN Storage Inventory'!$E$4:$E$432="Tier 4",'SAN Storage Inventory'!$P$4:$P$432,0),0))} -> 2
A80: Argentina, Villa Adelina | B80: Tier-5 | C80: Local | D80: {=SUM(IF('SAN Storage Inventory'!$C$4:$C$432="Villa Adelina",IF('SAN Storage Inventory'!$E$4:$E$432="Tier 5",'SAN Storage Inventory'!$G$4:$G$432,0),0))} -> 24730 | E80: {=SUM(IF('SAN Storage Inventory'!$C$4:$C$432="Villa Adelina",IF('SAN Storage Inventory'!$E$4:$E$432="Tier 5",'SAN Storage Inventory'!$H$4:$H$432,0),0))} -> 22673 | F80: {=SUM(IF('SAN Storage Inventory'!$C$4:$C$432="Villa Adelina",IF('SAN Storage Inventory'!$E$4:$E$432="Tier 5",'SAN Storage Inventory'!$I$4:$I$432,0),0))} -> 4436.91 | G80: {=SUM(IF('SAN Storage Inventory'!$C$4:$C$432="Villa Adelina",IF('SAN Storage Inventory'!$E$4:$E$432="Tier 5",'SAN Storage Inventory'!$J$4:$J$432,0),0))} -> 17016.67 | H80: {=SUM(IF('SAN Storage Inventory'!$C$4:$C$432="Villa Adelina",IF('SAN Storage Inventory'!$E$4:$E$432="Tier 5",'SAN Storage Inventory'!$K$4:$K$432,0),0))} -> 17016.67 | I80: {=SUM(IF('SAN Storage Inventory'!$C$4:$C$432="Villa Adelina",IF('SAN Storage Inventory'!$E$4:$E$432="Tier 5",'SAN Storage Inventory'!$L$4:$L$432,0),0))} -> 0 | J80: {=SUM(IF('SAN Storage Inventory'!$C$4:$C$432="Villa Adelina",IF('SAN Storage Inventory'!$E$4:$E$432="Tier 5",'SAN Storage Inventory'!$P$4:$P$432,0),0))} -> 1
A81: Site Total | D81: =SUM(D77:D80) -> 46298 | E81: =SUM(E77:E80) -> 41961 | F81: =SUM(F77:F80) -> 12023.39 | G81: =SUM(G77:G80) -> 27420.67 | H81: =SUM(H77:H80) -> 27420.67 | I81: =SUM(I77:I80) -> 0 | J81: =SUM(J77:J80) -> 3
A82: Brazil, Sao Paulo | B82: Tier-1 | C82: Replication | D82: {=SUM(IF('SAN Storage Inventory'!$C$4:$C$432="Sao Paulo",IF('SAN Storage Inventory'!$E$4:$E$432="Tier 1",'SAN Storage Inventory'!$G$4:$G$432,0),0))} -> 0 | E82: {=SUM(IF('SAN Storage Inventory'!$C$4:$C$432="Sao Paulo",IF('SAN Storage Inventory'!$E$4:$E$432="Tier 1",'SAN Storage Inventory'!$H$4:$H$432,0),0))} -> 0 | F82: {=SUM(IF('SAN Storage Inventory'!$C$4:$C$432="Sao Paulo",IF('SAN Storage Inventory'!$E$4:$E$432="Tier 1",'SAN Storage Inventory'!$I$4:$I$432,0),0))} -> 0 | G82: {=SUM(IF('SAN Storage Inventory'!$C$4:$C$432="Sao Paulo",IF('SAN Storage Inventory'!$E$4:$E$432="Tier 1",'SAN Storage Inventory'!$J$4:$J$432,0),0))} -> 0 | H82: {=SUM(IF('SAN Storage Inventory'!$C$4:$C$432="Sao Paulo",IF('SAN Storage Inventory'!$E$4:$E$432="Tier 1",'SAN Storage Inventory'!$K$4:$K$432,0),0))} -> 0 | I82: {=SUM(IF('SAN Storage Inventory'!$C$4:$C$432="Sao Paulo",IF('SAN Storage Inventory'!$E$4:$E$432="Tier 1",'SAN Storage Inventory'!$L$4:$L$432,0),0))} -> 0 | J82: {=SUM(IF('SAN Storage Inventory'!$C$4:$C$432="Sao Paulo",IF('SAN Storage Inventory'!$E$4:$E$432="Tier 1",'SAN Storage Inventory'!$P$4:$P$432,0),0))} -> 0
A83: Brazil, Sao Paulo | B83: Tier-2 | C83: Local | D83: {=SUM(IF('SAN Storage Inventory'!$C$4:$C$432="Sao Paulo",IF('SAN Storage Inventory'!$E$4:$E$432="Tier 2",'SAN Storage Inventory'!$G$4:$G$432,0),0))} -> 0 | E83: {=SUM(IF('SAN Storage Inventory'!$C$4:$C$432="Sao Paulo",IF('SAN Storage Inventory'!$E$4:$E$432="Tier 2",'SAN Storage Inventory'!$H$4:$H$432,0),0))} -> 0 | F83: {=SUM(IF('SAN Storage Inventory'!$C$4:$C$432="Sao Paulo",IF('SAN Storage Inventory'!$E$4:$E$432="Tier 2",'SAN Storage Inventory'!$I$4:$I$432,0),0))} -> 0 | G83: {=SUM(IF('SAN Storage Inventory'!$C$4:$C$432="Sao Paulo",IF('SAN Storage Inventory'!$E$4:$E$432="Tier 2",'SAN Storage Inventory'!$J$4:$J$432,0),0))} -> 0 | H83: {=SUM(IF('SAN Storage Inventory'!$C$4:$C$432="Sao Paulo",IF('SAN Storage Inventory'!$E$4:$E$432="Tier 2",'SAN Storage Inventory'!$K$4:$K$432,0),0))} -> 0 | I83: {=SUM(IF('SAN Storage Inventory'!$C$4:$C$432="Sao Paulo",IF('SAN Storage Inventory'!$E$4:$E$432="Tier 2",'SAN Storage Inventory'!$L$4:$L$432,0),0))} -> 0 | J83: {=SUM(IF('SAN Storage Inventory'!$C$4:$C$432="Sao Paulo",IF('SAN Storage Inventory'!$E$4:$E$432="Tier 2",'SAN Storage Inventory'!$P$4:$P$432,0),0))} -> 0
A84: Brazil, Sao Paulo | B84: Tier-4 | C84: Local | D84: {=SUM(IF('SAN Storage Inventory'!$C$4:$C$432="Sao Paulo",IF('SAN Storage Inventory'!$E$4:$E$432="Tier 4",'SAN Storage Inventory'!$G$4:$G$432,0),0))} -> 29644 | E84: {=SUM(IF('SAN Storage Inventory'!$C$4:$C$432="Sao Paulo",IF('SAN Storage Inventory'!$E$4:$E$432="Tier 4",'SAN Storage Inventory'!$H$4:$H$432,0),0))} -> 26518 | F84: {=SUM(IF('SAN Storage Inventory'!$C$4:$C$432="Sao Paulo",IF('SAN Storage Inventory'!$E$4:$E$432="Tier 4",'SAN Storage Inventory'!$I$4:$I$432,0),0))} -> 10418.77 | G84: {=SUM(IF('SAN Storage Inventory'!$C$4:$C$432="Sao Paulo",IF('SAN Storage Inventory'!$E$4:$E$432="Tier 4",'SAN Storage Inventory'!$J$4:$J$432,0),0))} -> 13866 | H84: {=SUM(IF('SAN Storage Inventory'!$C$4:$C$432="Sao Paulo",IF('SAN Storage Inventory'!$E$4:$E$432="Tier 4",'SAN Storage Inventory'!$K$4:$K$432,0),0))} -> 13866 | I84: {=SUM(IF('SAN Storage Inventory'!$C$4:$C$432="Sao Paulo",IF('SAN Storage Inventory'!$E$4:$E$432="Tier 4",'SAN Storage Inventory'!$L$4:$L$432,0),0))} -> 0 | J84: {=SUM(IF('SAN Storage Inventory'!$C$4:$C$432="Sao Paulo",IF('SAN Storage Inventory'!$E$4:$E$432="Tier 4",'SAN Storage Inventory'!$P$4:$P$432,0),0))} -> 3
A85: Brazil, Sao Paulo | B85: Tier-5 | C85: Local | D85: {=SUM(IF('SAN Storage Inventory'!$C$4:$C$432="Sao Paulo",IF('SAN Storage Inventory'!$E$4:$E$432="Tier 5",'SAN Storage Inventory'!$G$4:$G$432,0),0))} -> 32730 | E85: {=SUM(IF('SAN Storage Inventory'!$C$4:$C$432="Sao Paulo",IF('SAN Storage Inventory'!$E$4:$E$432="Tier 5",'SAN Storage Inventory'!$H$4:$H$432,0),0))} -> 30009 | F85: {=SUM(IF('SAN Storage Inventory'!$C$4:$C$432="Sao Paulo",IF('SAN Storage Inventory'!$E$4:$E$432="Tier 5",'SAN Storage Inventory'!$I$4:$I$432,0),0))} -> 5974.77 | G85: {=SUM(IF('SAN Storage Inventory'!$C$4:$C$432="Sao Paulo",IF('SAN Storage Inventory'!$E$4:$E$432="Tier 5",'SAN Storage Inventory'!$J$4:$J$432,0),0))} -> 21547.33 | H85: {=SUM(IF('SAN Storage Inventory'!$C$4:$C$432="Sao Paulo",IF('SAN Storage Inventory'!$E$4:$E$432="Tier 5",'SAN Storage Inventory'!$K$4:$K$432,0),0))} -> 21547.33 | I85: {=SUM(IF('SAN Storage Inventory'!$C$4:$C$432="Sao Paulo",IF('SAN Storage Inventory'!$E$4:$E$432="Tier 5",'SAN Storage Inventory'!$L$4:$L$432,0),0))} -> 0 | J85: {=SUM(IF('SAN Storage Inventory'!$C$4:$C$432="Sao Paulo",IF('SAN Storage Inventory'!$E$4:$E$432="Tier 5",'SAN Storage Inventory'!$P$4:$P$432,0),0))} -> 1
A86: Site Total | D86: =SUM(D82:D85) -> 62374 | E86: =SUM(E82:E85) -> 56527 | F86: =SUM(F82:F85) -> 16393.54 | G86: =SUM(G82:G85) -> 35413.33 | H86: =SUM(H82:H85) -> 35413.33 | I86: =SUM(I82:I85) -> 0 | J86: =SUM(J82:J85) -> 4
A87: Oaks Field, Bahamas | B87: Tier-1 | C87: Replication | D87: {=SUM(IF('SAN Storage Inventory'!$C$4:$C$432="Oaks Field",IF('SAN Storage Inventory'!$E$4:$E$432="Tier 1",'SAN Storage Inventory'!$G$4:$G$432,0),0))} -> 0 | E87: {=SUM(IF('SAN Storage Inventory'!$C$4:$C$432="Oaks Field",IF('SAN Storage Inventory'!$E$4:$E$432="Tier 1",'SAN Storage Inventory'!$H$4:$H$432,0),0))} -> 0 | F87: {=SUM(IF('SAN Storage Inventory'!$C$4:$C$432="Oaks Field",IF('SAN Storage Inventory'!$E$4:$E$432="Tier 1",'SAN Storage Inventory'!$I$4:$I$432,0),0))} -> 0 | G87: {=SUM(IF('SAN Storage Inventory'!$C$4:$C$432="Oaks Field",IF('SAN Storage Inventory'!$E$4:$E$432="Tier 1",'SAN Storage Inventory'!$J$4:$J$432,0),0))} -> 0 | H87: {=SUM(IF('SAN Storage Inventory'!$C$4:$C$432="Oaks Field",IF('SAN Storage Inventory'!$E$4:$E$432="Tier 1",'SAN Storage Inventory'!$K$4:$K$432,0),0))} -> 0 | I87: {=SUM(IF('SAN Storage Inventory'!$C$4:$C$432="Oaks Field",IF('SAN Storage Inventory'!$E$4:$E$432="Tier 1",'SAN Storage Inventory'!$L$4:$L$432,0),0))} -> 0 | J87: {=SUM(IF('SAN Storage Inventory'!$C$4:$C$432="Oaks Field",IF('SAN Storage Inventory'!$E$4:$E$432="Tier 1",'SAN Storage Inventory'!$P$4:$P$432,0),0))} -> 0
A88: Oaks Field, Bahamas | B88: Tier-2 | C88: Local | D88: {=SUM(IF('SAN Storage Inventory'!$C$4:$C$432="Oaks Field",IF('SAN Storage Inventory'!$E$4:$E$432="Tier 2",'SAN Storage Inventory'!$G$4:$G$432,0),0))} -> 0 | E88: {=SUM(IF('SAN Storage Inventory'!$C$4:$C$432="Oaks Field",IF('SAN Storage Inventory'!$E$4:$E$432="Tier 2",'SAN Storage Inventory'!$H$4:$H$432,0),0))} -> 0 | F88: {=SUM(IF('SAN Storage Inventory'!$C$4:$C$432="Oaks Field",IF('SAN Storage Inventory'!$E$4:$E$432="Tier 2",'SAN Storage Inventory'!$I$4:$I$432,0),0))} -> 0 | G88: {=SUM(IF('SAN Storage Inventory'!$C$4:$C$432="Oaks Field",IF('SAN Storage Inventory'!$E$4:$E$432="Tier 2",'SAN Storage Inventory'!$J$4:$J$432,0),0))} -> 0 | H88: {=SUM(IF('SAN Storage Inventory'!$C$4:$C$432="Oaks Field",IF('SAN Storage Inventory'!$E$4:$E$432="Tier 2",'SAN Storage Inventory'!$K$4:$K$432,0),0))} -> 0 | I88: {=SUM(IF('SAN Storage Inventory'!$C$4:$C$432="Oaks Field",IF('SAN Storage Inventory'!$E$4:$E$432="Tier 2",'SAN Storage Inventory'!$L$4:$L$432,0),0))} -> 0 | J88: {=SUM(IF('SAN Storage Inventory'!$C$4:$C$432="Oaks Field",IF('SAN Storage Inventory'!$E$4:$E$432="Tier 2",'SAN Storage Inventory'!$P$4:$P$432,0),0))} -> 0
A89: Oaks Field, Bahamas | B89: Tier-4 | C89: Local | D89: {=SUM(IF('SAN Storage Inventory'!$C$4:$C$432="Oaks Field",IF('SAN Storage Inventory'!$E$4:$E$432="Tier 4",'SAN Storage Inventory'!$G$4:$G$432,0),0))} -> 9900 | E89: {=SUM(IF('SAN Storage Inventory'!$C$4:$C$432="Oaks Field",IF('SAN Storage Inventory'!$E$4:$E$432="Tier 4",'SAN Storage Inventory'!$H$4:$H$432,0),0))} -> 8844 | F89: {=SUM(IF('SAN Storage Inventory'!$C$4:$C$432="Oaks Field",IF('SAN Storage Inventory'!$E$4:$E$432="Tier 4",'SAN Storage Inventory'!$I$4:$I$432,0),0))} -> 150.35 | G89: {=SUM(IF('SAN Storage Inventory'!$C$4:$C$432="Oaks Field",IF('SAN Storage Inventory'!$E$4:$E$432="Tier 4",'SAN Storage Inventory'!$J$4:$J$432,0),0))} -> 7364 | H89: {=SUM(IF('SAN Storage Inventory'!$C$4:$C$432="Oaks Field",IF('SAN Storage Inventory'!$E$4:$E$432="Tier 4",'SAN Storage Inventory'!$K$4:$K$432,0),0))} -> 5614 | I89: {=SUM(IF('SAN Storage Inventory'!$C$4:$C$432="Oaks Field",IF('SAN Storage Inventory'!$E$4:$E$432="Tier 4",'SAN Storage Inventory'!$L$4:$L$432,0),0))} -> 1750 | J89: {=SUM(IF('SAN Storage Inventory'!$C$4:$C$432="Oaks Field",IF('SAN Storage Inventory'!$E$4:$E$432="Tier 4",'SAN Storage Inventory'!$P$4:$P$432,0),0))} -> 1
A90: Oaks Field, Bahamas | B90: Tier-5 | C90: Local | D90: {=SUM(IF('SAN Storage Inventory'!$C$4:$C$432="Oaks Field",IF('SAN Storage Inventory'!$E$4:$E$432="Tier 5",'SAN Storage Inventory'!$G$4:$G$432,0),0))} -> 0 | E90: {=SUM(IF('SAN Storage Inventory'!$C$4:$C$432="Oaks Field",IF('SAN Storage Inventory'!$E$4:$E$432="Tier 5",'SAN Storage Inventory'!$H$4:$H$432,0),0))} -> 0 | F90: {=SUM(IF('SAN Storage Inventory'!$C$4:$C$432="Oaks Field",IF('SAN Storage Inventory'!$E$4:$E$432="Tier 5",'SAN Storage Inventory'!$I$4:$I$432,0),0))} -> 0 | G90: {=SUM(IF('SAN Storage Inventory'!$C$4:$C$432="Oaks Field",IF('SAN Storage Inventory'!$E$4:$E$432="Tier 5",'SAN Storage Inventory'!$J$4:$J$432,0),0))} -> 0 | H90: {=SUM(IF('SAN Storage Inventory'!$C$4:$C$432="Oaks Field",IF('SAN Storage Inventory'!$E$4:$E$432="Tier 5",'SAN Storage Inventory'!$K$4:$K$432,0),0))} -> 0 | I90: {=SUM(IF('SAN Storage Inventory'!$C$4:$C$432="Oaks Field",IF('SAN Storage Inventory'!$E$4:$E$432="Tier 5",'SAN Storage Inventory'!$L$4:$L$432,0),0))} -> 0 | J90: {=SUM(IF('SAN Storage Inventory'!$C$4:$C$432="Oaks Field",IF('SAN Storage Inventory'!$E$4:$E$432="Tier 5",'SAN Storage Inventory'!$P$4:$P$432,0),0))} -> 0
A91: Site Total | D91: =SUM(D87:D90) -> 9900 | E91: =SUM(E87:E90) -> 8844 | F91: =SUM(F87:F90) -> 150.35 | G91: =SUM(G87:G90) -> 7364 | H91: =SUM(H87:H90) -> 5614 | I91: =SUM(I87:I90) -> 1750 | J91: =SUM(J87:J90) -> 1
A92: Colombia, Bogota | B92: Tier-1 | C92: Replication | D92: {=SUM(IF('SAN Storage Inventory'!$C$4:$C$432="Bogota",IF('SAN Storage Inventory'!$E$4:$E$432="Tier 1",'SAN Storage Inventory'!$G$4:$G$432,0),0))} -> 0 | E92: {=SUM(IF('SAN Storage Inventory'!$C$4:$C$432="Bogota",IF('SAN Storage Inventory'!$E$4:$E$432="Tier 1",'SAN Storage Inventory'!$H$4:$H$432,0),0))} -> 0 | F92: {=SUM(IF('SAN Storage Inventory'!$C$4:$C$432="Bogota",IF('SAN Storage Inventory'!$E$4:$E$432="Tier 1",'SAN Storage Inventory'!$I$4:$I$432,0),0))} -> 0 | G92: {=SUM(IF('SAN Storage Inventory'!$C$4:$C$432="Bogota",IF('SAN Storage Inventory'!$E$4:$E$432="Tier 1",'SAN Storage Inventory'!$J$4:$J$432,0),0))} -> 0 | H92: {=SUM(IF('SAN Storage Inventory'!$C$4:$C$432="Bogota",IF('SAN Storage Inventory'!$E$4:$E$432="Tier 1",'SAN Storage Inventory'!$K$4:$K$432,0),0))} -> 0 | I92: {=SUM(IF('SAN Storage Inventory'!$C$4:$C$432="Bogota",IF('SAN Storage Inventory'!$E$4:$E$432="Tier 1",'SAN Storage Inventory'!$L$4:$L$432,0),0))} -> 0 | J92: {=SUM(IF('SAN Storage Inventory'!$C$4:$C$432="Bogota",IF('SAN Storage Inventory'!$E$4:$E$432="Tier 1",'SAN Storage Inventory'!$P$4:$P$432,0),0))} -> 0
A93: Colombia, Bogota | B93: Tier-2 | C93: Local | D93: {=SUM(IF('SAN Storage Inventory'!$C$4:$C$432="Bogota",IF('SAN Storage Inventory'!$E$4:$E$432="Tier 2",'SAN Storage Inventory'!$G$4:$G$432,0),0))} -> 0 | E93: {=SUM(IF('SAN Storage Inventory'!$C$4:$C$432="Bogota",IF('SAN Storage Inventory'!$E$4:$E$432="Tier 2",'SAN Storage Inventory'!$H$4:$H$432,0),0))} -> 0 | F93: {=SUM(IF('SAN Storage Inventory'!$C$4:$C$432="Bogota",IF('SAN Storage Inventory'!$E$4:$E$432="Tier 2",'SAN Storage Inventory'!$I$4:$I$432,0),0))} -> 0 | G93: {=SUM(IF('SAN Storage Inventory'!$C$4:$C$432="Bogota",IF('SAN Storage Inventory'!$E$4:$E$432="Tier 2",'SAN Storage Inventory'!$J$4:$J$432,0),0))} -> 0 | H93: {=SUM(IF('SAN Storage Inventory'!$C$4:$C$432="Bogota",IF('SAN Storage Inventory'!$E$4:$E$432="Tier 2",'SAN Storage Inventory'!$K$4:$K$432,0),0))} -> 0 | I93: {=SUM(IF('SAN Storage Inventory'!$C$4:$C$432="Bogota",IF('SAN Storage Inventory'!$E$4:$E$432="Tier 2",'SAN Storage Inventory'!$L$4:$L$432,0),0))} -> 0 | J93: {=SUM(IF('SAN Storage Inventory'!$C$4:$C$432="Bogota",IF('SAN Storage Inventory'!$E$4:$E$432="Tier 2",'SAN Storage Inventory'!$P$4:$P$432,0),0))} -> 0
A94: Colombia, Bogota | B94: Tier-4 | C94: Local | D94: {=SUM(IF('SAN Storage Inventory'!$C$4:$C$432="Bogota",IF('SAN Storage Inventory'!$E$4:$E$432="Tier 4",'SAN Storage Inventory'!$G$4:$G$432,0),0))} -> 11400 | E94: {=SUM(IF('SAN Storage Inventory'!$C$4:$C$432="Bogota",IF('SAN Storage Inventory'!$E$4:$E$432="Tier 4",'SAN Storage Inventory'!$H$4:$H$432,0),0))} -> 10184 | F94: {=SUM(IF('SAN Storage Inventory'!$C$4:$C$432="Bogota",IF('SAN Storage Inventory'!$E$4:$E$432="Tier 4",'SAN Storage Inventory'!$I$4:$I$432,0),0))} -> 3793.24 | G94: {=SUM(IF('SAN Storage Inventory'!$C$4:$C$432="Bogota",IF('SAN Storage Inventory'!$E$4:$E$432="Tier 4",'SAN Storage Inventory'!$J$4:$J$432,0),0))} -> 5322 | H94: {=SUM(IF('SAN Storage Inventory'!$C$4:$C$432="Bogota",IF('SAN Storage Inventory'!$E$4:$E$432="Tier 4",'SAN Storage Inventory'!$K$4:$K$432,0),0))} -> 5322 | I94: {=SUM(IF('SAN Storage Inventory'!$C$4:$C$432="Bogota",IF('SAN Storage Inventory'!$E$4:$E$432="Tier 4",'SAN Storage Inventory'!$L$4:$L$432,0),0))} -> 0 | J94: {=SUM(IF('SAN Storage Inventory'!$C$4:$C$432="Bogota",IF('SAN Storage Inventory'!$E$4:$E$432="Tier 4",'SAN Storage Inventory'!$P$4:$P$432,0),0))} -> 1
A95: Colombia, Bogota | B95: Tier-5 | C95: Local | D95: {=SUM(IF('SAN Storage Inventory'!$C$4:$C$432="Bogota",IF('SAN Storage Inventory'!$E$4:$E$432="Tier 5",'SAN Storage Inventory'!$G$4:$G$432,0),0))} -> 34000 | E95: {=SUM(IF('SAN Storage Inventory'!$C$4:$C$432="Bogota",IF('SAN Storage Inventory'!$E$4:$E$432="Tier 5",'SAN Storage Inventory'!$H$4:$H$432,0),0))} -> 31178 | F95: {=SUM(IF('SAN Storage Inventory'!$C$4:$C$432="Bogota",IF('SAN Storage Inventory'!$E$4:$E$432="Tier 5",'SAN Storage Inventory'!$I$4:$I$432,0),0))} -> 3886.93 | G95: {=SUM(IF('SAN Storage Inventory'!$C$4:$C$432="Bogota",IF('SAN Storage Inventory'!$E$4:$E$432="Tier 5",'SAN Storage Inventory'!$J$4:$J$432,0),0))} -> 17201.17 | H95: {=SUM(IF('SAN Storage Inventory'!$C$4:$C$432="Bogota",IF('SAN Storage Inventory'!$E$4:$E$432="Tier 5",'SAN Storage Inventory'!$K$4:$K$432,0),0))} -> 8600.58 | I95: {=SUM(IF('SAN Storage Inventory'!$C$4:$C$432="Bogota",IF('SAN Storage Inventory'!$E$4:$E$432="Tier 5",'SAN Storage Inventory'!$L$4:$L$432,0),0))} -> 8600.58 | J95: {=SUM(IF('SAN Storage Inventory'!$C$4:$C$432="Bogota",IF('SAN Storage Inventory'!$E$4:$E$432="Tier 5",'SAN Storage Inventory'!$P$4:$P$432,0),0))} -> 1
A96: Site Total | D96: =SUM(D92:D95) -> 45400 | E96: =SUM(E92:E95) -> 41362 | F96: =SUM(F92:F95) -> 7680.17 | G96: =SUM(G92:G95) -> 22523.17 | H96: =SUM(H92:H95) -> 13922.58 | I96: =SUM(I92:I95) -> 8600.58 | J96: =SUM(J92:J95) -> 2
A97: Mexico, Mexico City (Jardines) | B97: Tier-1 | C97: Replication | D97: {=SUM(IF('SAN Storage Inventory'!$C$4:$C$432="Jardines",IF('SAN Storage Inventory'!$E$4:$E$432="Tier 1",'SAN Storage Inventory'!$G$4:$G$432,0),0))} -> 15975.7 | E97: {=SUM(IF('SAN Storage Inventory'!$C$4:$C$432="Jardines",IF('SAN Storage Inventory'!$E$4:$E$432="Tier 1",'SAN Storage Inventory'!$H$4:$H$432,0),0))} -> 14961.66 | F97: {=SUM(IF('SAN Storage Inventory'!$C$4:$C$432="Jardines",IF('SAN Storage Inventory'!$E$4:$E$432="Tier 1",'SAN Storage Inventory'!$I$4:$I$432,0),0))} -> 135.35 | G97: {=SUM(IF('SAN Storage Inventory'!$C$4:$C$432="Jardines",IF('SAN Storage Inventory'!$E$4:$E$432="Tier 1",'SAN Storage Inventory'!$J$4:$J$432,0),0))} -> 14713.9 | H97: {=SUM(IF('SAN Storage Inventory'!$C$4:$C$432="Jardines",IF('SAN Storage Inventory'!$E$4:$E$432="Tier 1",'SAN Storage Inventory'!$K$4:$K$432,0),0))} -> 2850.04 | I97: {=SUM(IF('SAN Storage Inventory'!$C$4:$C$432="Jardines",IF('SAN Storage Inventory'!$E$4:$E$432="Tier 1",'SAN Storage Inventory'!$L$4:$L$432,0),0))} -> 11863.86 | J97: {=SUM(IF('SAN Storage Inventory'!$C$4:$C$432="Jardines",IF('SAN Storage Inventory'!$E$4:$E$432="Tier 1",'SAN Storage Inventory'!$P$4:$P$432,0),0))} -> 1
A98: Mexico, Mexico City (Jardines) | B98: Tier-2 | C98: Local | D98: {=SUM(IF('SAN Storage Inventory'!$C$4:$C$432="Jardines",IF('SAN Storage Inventory'!$E$4:$E$432="Tier 2",'SAN Storage Inventory'!$G$4:$G$432,0),0))} -> 144916.3 | E98: {=SUM(IF('SAN Storage Inventory'!$C$4:$C$432="Jardines",IF('SAN Storage Inventory'!$E$4:$E$432="Tier 2",'SAN Storage Inventory'!$H$4:$H$432,0),0))} -> 135717.89 | F98: {=SUM(IF('SAN Storage Inventory'!$C$4:$C$432="Jardines",IF('SAN Storage Inventory'!$E$4:$E$432="Tier 2",'SAN Storage Inventory'!$I$4:$I$432,0),0))} -> 2085.51 | G98: {=SUM(IF('SAN Storage Inventory'!$C$4:$C$432="Jardines",IF('SAN Storage Inventory'!$E$4:$E$432="Tier 2",'SAN Storage Inventory'!$J$4:$J$432,0),0))} -> 133594.91 | H98: {=SUM(IF('SAN Storage Inventory'!$C$4:$C$432="Jardines",IF('SAN Storage Inventory'!$E$4:$E$432="Tier 2",'SAN Storage Inventory'!$K$4:$K$432,0),0))} -> 47314.08 | I98: {=SUM(IF('SAN Storage Inventory'!$C$4:$C$432="Jardines",IF('SAN Storage Inventory'!$E$4:$E$432="Tier 2",'SAN Storage Inventory'!$L$4:$L$432,0),0))} -> 86280.83 | J98: {=SUM(IF('SAN Storage Inventory'!$C$4:$C$432="Jardines",IF('SAN Storage Inventory'!$E$4:$E$432="Tier 2",'SAN Storage Inventory'!$P$4:$P$432,0),0))} -> 1
A99: Mexico, Mexico City (Jardines) | B99: Tier-4 | C99: Local | D99: {=SUM(IF('SAN Storage Inventory'!$C$4:$C$432="Jardines",IF('SAN Storage Inventory'!$E$4:$E$432="Tier 4",'SAN Storage Inventory'!$G$4:$G$432,0),0))} -> 913200 | E99: {=SUM(IF('SAN Storage Inventory'!$C$4:$C$432="Jardines",IF('SAN Storage Inventory'!$E$4:$E$432="Tier 4",'SAN Storage Inventory'!$H$4:$H$432,0),0))} -> 833849.09 | F99: {=SUM(IF('SAN Storage Inventory'!$C$4:$C$432="Jardines",IF('SAN Storage Inventory'!$E$4:$E$432="Tier 4",'SAN Storage Inventory'!$I$4:$I$432,0),0))} -> 8577.88 | G99: {=SUM(IF('SAN Storage Inventory'!$C$4:$C$432="Jardines",IF('SAN Storage Inventory'!$E$4:$E$432="Tier 4",'SAN Storage Inventory'!$J$4:$J$432,0),0))} -> 813814.96 | H99: {=SUM(IF('SAN Storage Inventory'!$C$4:$C$432="Jardines",IF('SAN Storage Inventory'!$E$4:$E$432="Tier 4",'SAN Storage Inventory'!$K$4:$K$432,0),0))} -> 315130.05 | I99: {=SUM(IF('SAN Storage Inventory'!$C$4:$C$432="Jardines",IF('SAN Storage Inventory'!$E$4:$E$432="Tier 4",'SAN Storage Inventory'!$L$4:$L$432,0),0))} -> 498684.92 | J99: {=SUM(IF('SAN Storage Inventory'!$C$4:$C$432="Jardines",IF('SAN Storage Inventory'!$E$4:$E$432="Tier 4",'SAN Storage Inventory'!$P$4:$P$432,0),0))} -> 4
A100: Mexico, Mexico City (Jardines) | B100: Tier-5 | C100: Local | D100: {=SUM(IF('SAN Storage Inventory'!$C$4:$C$432="Jardines",IF('SAN Storage Inventory'!$E$4:$E$432="Tier 5",'SAN Storage Inventory'!$G$4:$G$432,0),0))} -> 33000 | E100: {=SUM(IF('SAN Storage Inventory'!$C$4:$C$432="Jardines",IF('SAN Storage Inventory'!$E$4:$E$432="Tier 5",'SAN Storage Inventory'!$H$4:$H$432,0),0))} -> 32160 | F100: {=SUM(IF('SAN Storage Inventory'!$C$4:$C$432="Jardines",IF('SAN Storage Inventory'!$E$4:$E$432="Tier 5",'SAN Storage Inventory'!$I$4:$I$432,0),0))} -> 6285.28 | G100: {=SUM(IF('SAN Storage Inventory'!$C$4:$C$432="Jardines",IF('SAN Storage Inventory'!$E$4:$E$432="Tier 5",'SAN Storage Inventory'!$J$4:$J$432,0),0))} -> 25796.57 | H100: {=SUM(IF('SAN Storage Inventory'!$C$4:$C$432="Jardines",IF('SAN Storage Inventory'!$E$4:$E$432="Tier 5",'SAN Storage Inventory'!$K$4:$K$432,0),0))} -> 10386.51 | I100: {=SUM(IF('SAN Storage Inventory'!$C$4:$C$432="Jardines",IF('SAN Storage Inventory'!$E$4:$E$432="Tier 5",'SAN Storage Inventory'!$L$4:$L$432,0),0))} -> 15410.06 | J100: {=SUM(IF('SAN Storage Inventory'!$C$4:$C$432="Jardines",IF('SAN Storage Inventory'!$E$4:$E$432="Tier 5",'SAN Storage Inventory'!$P$4:$P$432,0),0))} -> 1
A101: Site Total | D101: =SUM(D97:D100) -> 1107092 | E101: =SUM(E97:E100) -> 1016688.6 | F101: =SUM(F97:F100) -> 17084.02 | G101: =SUM(G97:G100) -> 987920.34 | H101: =SUM(H97:H100) -> 375680.68 | I101: =SUM(I97:I100) -> 612239.67 | J101: =SUM(J97:J100) -> 7
A102: Mexico, Mexico City (Santa Fe) | B102: Tier-1 | C102: Replication | D102: {=SUM(IF('SAN Storage Inventory'!$C$4:$C$432="Santa Fe",IF('SAN Storage Inventory'!$E$4:$E$432="Tier 1",'SAN Storage Inventory'!$G$4:$G$432,0),0))} -> 0 | E102: {=SUM(IF('SAN Storage Inventory'!$C$4:$C$432="Santa Fe",IF('SAN Storage Inventory'!$E$4:$E$432="Tier 1",'SAN Storage Inventory'!$H$4:$H$432,0),0))} -> 0 | F102: {=SUM(IF('SAN Storage Inventory'!$C$4:$C$432="Santa Fe",IF('SAN Storage Inventory'!$E$4:$E$432="Tier 1",'SAN Storage Inventory'!$I$4:$I$432,0),0))} -> 0 | G102: {=SUM(IF('SAN Storage Inventory'!$C$4:$C$432="Santa Fe",IF('SAN Storage Inventory'!$E$4:$E$432="Tier 1",'SAN Storage Inventory'!$J$4:$J$432,0),0))} -> 0 | H102: {=SUM(IF('SAN Storage Inventory'!$C$4:$C$432="Santa Fe",IF('SAN Storage Inventory'!$E$4:$E$432="Tier 1",'SAN Storage Inventory'!$K$4:$K$432,0),0))} -> 0 | I102: {=SUM(IF('SAN Storage Inventory'!$C$4:$C$432="Santa Fe",IF('SAN Storage Inventory'!$E$4:$E$432="Tier 1",'SAN Storage Inventory'!$L$4:$L$432,0),0))} -> 0 | J102: {=SUM(IF('SAN Storage Inventory'!$C$4:$C$432="Santa Fe",IF('SAN Storage Inventory'!$E$4:$E$432="Tier 1",'SAN Storage Inventory'!$P$4:$P$432,0),0))} -> 0
...

Sheet SAN Switch Inventory EMEA
B1: Citigroup Distributed Fibre Switch Inventory (EMEA) for Jan 2014
B2: Citigroup Centre DC
B3: Cisco | F3: Capacity
B4: Switch Name | C4: Frame Model | D4: Code Level | E4: Serial Number | F4: Used Ports | G4: Free Ports | H4: Percent Free | I4: Not Installed | J4: Switch Capacity | K4: Comments
B5: cmdscgc1-ct-01 | C5: DS-C9513 | D5: 5.2.1 | E5: FOX1205GAHN | F5: 16 | G5: 32 | H5: 0.66666667 | I5: 0 | J5: 48 | K5: Core (Tape) Cisco | L5: 390-c-11 | M5: 1
B6: cmdscgc1-dg-01 | C6: DS-C9513 | D6: 5.2.1 | E6: FOX1202H3PG | F6: 16 | G6: 32 | H6: 0.66666667 | I6: 0 | J6: 48 | K6: Core (Tape) Cisco | L6: 390-c-11 | M6: 1
B7: cmdscgc1-jd-01 | C7: DS-C9513 | D7: 5.2.8b | E7: FOX1330G5AC | F7: 65 | G7: 139 | H7: 0.68137255 | I7: 0 | J7: 204 | K7: Core (Disk) Cisco | L7: 390-e-11 | M7: 1
B8: cmdscgc1-rb-01 | C8: DS-C9513 | D8: 5.2.8b | E8: FOX1329GR3T | F8: 65 | G8: 139 | H8: 0.68137255 | I8: 0 | J8: 204 | K8: Core (Disk) Cisco | L8: 390-e-11 | M8: 1
B9: emdscgc1-jd-03 | C9: DS-C9513 | D9: 5.2.8b | E9: FOX1331GYC3 | F9: 137 | G9: 55 | H9: 0.28645833 | I9: 0 | J9: 192 | K9: Edge (Disk) Cisco | L9: 390-e-11 | M9: 1
B10: emdscgc1-jd-04 | C10: DS-C9513 | D10: 5.2.8b | E10: FOX1323G9E1 | F10: 39 | G10: 153 | H10: 0.796875 | I10: 0 | J10: 192 | K10: Edge (Disk) Cisco | L10: 390-e-11 | M10: 1
B11: emdscgc1-jd-05 | C11: DS-C9513 | D11: 5.2.8b | E11: FOX1329GR3G | F11: 59 | G11: 205 | H11: 0.77651515 | I11: 0 | J11: 264 | K11: Edge (Disk) Cisco | L11: 390-c-11 | M11: 1
B12: emdscgc1-rb-03 | C12: DS-C9513 | D12: 5.2.8b | E12: FOX1323G9EW | F12: 138 | G12: 54 | H12: 0.28125 | I12: 0 | J12: 192 | K12: Edge (Disk) Cisco | L12: 390-c-11 | M12: 1
B13: emdscgc1-rb-04 | C13: DS-C9513 | D13: 5.2.8b | E13: FOX1331GYC8 | F13: 39 | G13: 153 | H13: 0.796875 | I13: 0 | J13: 192 | K13: Edge (Disk) Cisco | L13: 390-e-11 | M13: 1
B14: emdscgc1-rb-05 | C14: DS-C9513 | D14: 5.2.8b | E14: FOX1331GYBH | F14: 59 | G14: 205 | H14: 0.77651515 | I14: 0 | J14: 264 | K14: Edge (Disk) Cisco | L14: 390-e-11 | M14: 1
B15: rmdscgc1-gl-01 | C15: DS-C9509 | D15: 5.2.2a | E15: FOX1210GT0F | F15: 14 | G15: 58 | H15: 0.80555556 | I15: 0 | J15: 72 | K15: Core SRDF Cisco | L15: 390-e-11 | M15: 1
B16: rmdscgc1-sl-01 | C16: DS-C9509 | D16: 5.2.2a | E16: FOX1212GP09 | F16: 14 | G16: 58 | H16: 0.80555556 | I16: 0 | J16: 72 | K16: Core SRDF Cisco | L16: 390-e-11 | M16: 1
B17: McData | F17: Capacity | K17: Comments
B18: SW01C_CORE_RED_CGC1 | C18: ED-140M | D18: 09.09.07 2 | E18: MC5IN02563 | F18: 36 | G18: 91 | H18: 0.71653543 | I18: 0 | J18: 127 | K18: Core (Disk) McData | L18: 390-c-13 | M18: 1
B19: SW02C_CORE_BLUE_CGC1 | C19: ED-140M | D19: 09.09.07 2 | E19: MC5IN02565 | F19: 36 | G19: 72 | H19: 0.66666667 | I19: 0 | J19: 108 | K19: Core (Disk) McData | L19: 390-e-13 | M19: 1
B20: SW25C_EDGE_RED_CGC2 | C20: ED-140M | D20: 09.09.07 2 | E20: MC5IN01485 | F20: 26 | G20: 114 | H20: 0.81428571 | I20: 0 | J20: 140 | K20: EDGE (Disk) McData | L20: 390-e-13 | M20: 1
B21: SW26C_EDGE_BLUE_CGC | C21: ED-140M | D21: 09.09.07 2 | E21: MC5IN01482 | F21: 26 | G21: 113 | H21: 0.81294964 | I21: 0 | J21: 139 | K21: EDGE (Disk) McData | L21: 390-e-13 | M21: 1
B22: SW91C_SRDF_GREEN_CDC1 | C22: ED-64M | D22: 09.09.07 2 | E22: SW91C_SRDF | F22: 6 | G22: 26 | H22: 0.8125 | I22: 0 | J22: 32 | K22: Core SRDF McData | L22: 390-e-13 | M22: 1
B23: SW92C_SRDF_BLACK_CGC1 | C23: ED-64M | D23: 09.09.07 2 | E23: SW92C_SRDF | F23: 6 | G23: 26 | H23: 0.8125 | I23: 0 | J23: 32 | K23: Core SRDF McData | L23: 390-c-13 | M23: 1
B24: SW93C_SRDF_GREEN_CGC2 | C24: ED-64M | D24: 09.09.07 2 | E24: SW93C_SRDF | F24: 31 | G24: 9 | H24: 0.225 | I24: 0 | J24: 40 | K24: Core SRDF McData | L24: 390-c-13 | M24: 1
B25: SW94C_SRDF_BLACK_CGC2 | C25: ED-64M | D25: 09.09.07 2 | E25: SW94C_SRDF | F25: 22 | G25: 18 | H25: 0.45 | I25: 0 | J25: 40 | K25: Core SRDF McData | L25: 390-e-13 | M25: 1
B28: Riverdale DC
B29: Cisco | F29: Capacity
B30: Switch Name | C30: Frame Model | D30: Code Level | E30: Serial Number | F30: Used Ports | G30: Free Ports | H30: Percent Free | I30: Not Installed | J30: Switch Capacity | K30: Comments
B31: cmdsrdc3-ct-01 | C31: DS-C9513 | D31: 5.2.1 | E31: FOX1150H4XB | F31: 109 | G31: 23 | H31: 0.17424242 | I31: 0 | J31: 132 | K31: Core (Tape) Cisco
B32: cmdsrdc3-dg-01 | C32: DS-C9513 | D32: 5.2.1 | E32: FOX1152HDFX | F32: 108 | G32: 24 | H32: 0.18181818 | I32: 0 | J32: 132 | K32: Core (Tape) Cisco
B33: cmdsrdc4-jd-01 | C33: DS-C9513 | D33: 5.2.8b | E33: FOX1202H3PN | F33: 116 | G33: 4 | H33: 0.033333333 | I33: 0 | J33: 120 | K33: Core (Disk) Cisco
B34: cmdsrdc4-jd-02 | C34: DS-C9513 | D34: 5.2.8b | E34: FOX1150H529 | F34: 113 | G34: 7 | H34: 0.058333333 | I34: 0 | J34: 120 | K34: Core (Disk) Cisco
B35: cmdsrdc4-jd-11 | C35: DS-C9513 | D35: 5.2.8b | E35: FOX1521H7SD | F35: 194 | G35: 110 | H35: 0.36184211 | I35: 0 | J35: 304 | K35: Core (Disk) Cisco
B36: cmdsrdc4-jd-14 | C36: DS-C9513 | D36: 5.2.8b | E36: FOX1545GUCQ | F36: 20 | G36: 300 | H36: 0.9375 | I36: 0 | J36: 320 | K36: Core (Disk) Cisco
B37: cmdsrdc4-rb-01 | C37: DS-C9513 | D37: 5.2.8b | E37: FOX1202H3NR | F37: 114 | G37: 18 | H37: 0.13636364 | I37: 0 | J37: 132 | K37: Core (Disk) Cisco
B38: cmdsrdc4-rb-02 | C38: DS-C9513 | D38: 5.2.8b | E38: FOX1202H3N8 | F38: 112 | G38: 20 | H38: 0.15151515 | I38: 0 | J38: 132 | K38: Core (Disk) Cisco
B39: cmdsrdc4-rb-11 | C39: DS-C9513 | D39: 5.2.8b | E39: FOX1523GLLE | F39: 193 | G39: 111 | H39: 0.36513158 | I39: 0 | J39: 304 | K39: Core (Disk) Cisco
B40: cmdsrdc4-rb-14 | C40: DS-C9513 | D40: 5.2.8b | E40: FOX1545GUCC | F40: 20 | G40: 300 | H40: 0.9375 | I40: 1 | J40: 320 | K40: Core (Disk) Cisco
B41: emdsrdc1-jd-06 | C41: DS-C9513 | D41: 5.2.8b | E41: FOX1227GSWP | F41: 101 | G41: 83 | H41: 0.45108696 | I41: 2 | J41: 184 | K41: Edge (Disk) Cisco
B42: emdsrdc1-rb-06 | C42: DS-C9513 | D42: 5.2.8b | E42: FOX1228GRAY | F42: 100 | G42: 84 | H42: 0.45652174 | I42: 0 | J42: 184 | K42: Edge (Disk) Cisco
... B64: rmdsrdc4-sl-01 | C64: DS-C9513 | D64: 5.2.2a | E64: FOX1202H3P2 | F64: 62 | G64: 118 | H64: 0.65363128 | I64: 1 | J64: 180 | K64: Core SRDF Cisco
B65: McData | F65: Capacity | K65: Comments
B66: SW01R_CORE_RED_RDC1 | C66: ED-140M | D66: 09.09.07 2 | E66: MC5IN03437 | F66: 52 | G66: 44 | H66: 0.45833333 | I66: 0 | J66: 96 | K66: Core (Disk) McData
B67: SW02R_CORE_BLUE_RDC1 | C67: ED-140M | D67: 09.09.07 2 | E67: MC5IN03434 | F67: 51 | G67: 45 | H67: 0.46875 | I67: 0 | J67: 96 | K67: Core (Disk) McData
B68: SW03R_EDGE_RED_RDC1 | C68: ED-140M | D68: 09.09.07 2 | E68: MC5IN03438 | F68: 36 | G68: 68 | H68: 0.65384615 | I68: 0 | J68: 104 | K68: EDGE (Disk) McData
B69: SW04R_EDGE_BLUE_RDC1 | C69: ED-140M | D69: 09.09.07 2 | E69: MC5IN03435 | F69: 36 | G69: 68 | H69: 0.65384615 | I69: 0 | J69: 104 | K69: EDGE (Disk) McData
B70: SW05R_EDGE_RED_RDC1 | C70: ED-140M | D70: 09.09.07 2 | E70: MC5IN03439 | F70: 19 | G70: 85 | H70: 0.81730769 | I70: 0 | J70: 104 | K70: EDGE (Disk) McData
B71: SW06R_EDGE_BLUE_RDC1 | C71: ED-140M | D71: 09.09.07 2 | E71: MC5IN03436 | F71: 18 | G71: 86 | H71: 0.82692308 | I71: 0 | J71: 104 | K71: EDGE (Disk) McData
B72: SW15R_CORE_RED_RDC4 | C72: ED-140M | D72: 09.09.07 2 | E72: MC5IN02561 | F72: 105 | G72: 35 | H72: 0.25 | I72: 0 | J72: 140 | K72: Core (Disk) McData
B73: SW16R_CORE_BLUE_RDC4 | C73: ED-140M | D73: 09.09.07 2 | E73: MC5IN02566 | F73: 88 | G73: 52 | H73: 0.37142857 | I73: 0 | J73: 140 | K73: Core (Disk) McData
B74: SW23R_EDGE_RED_RDC4 | C74: ED-140M | D74: 09.09.07 2 | E74: MC5IN04319 | F74: 16 | G74: 124 | H74: 0.88571429 | I74: 0 | J74: 140 | K74: EDGE (Disk) McData
B75: SW24R_EDGE_BLUE_RDC4 | C75: ED-140M | D75: 09.09.07 2 | E75: MC5IN04320 | F75: 17 | G75: 123 | H75: 0.87857143 | I75: 0 | J75: 140 | K75: EDGE (Disk) McData
B76: SW25R_CORE_RED_RDC4 | C76: ED-140M | D76: 09.09.07 2 | E76: MC5IN04503 | F76: 119 | G76: 21 | H76: 0.15 | I76: 0 | J76: 140 | K76: Core (Disk) McData
B77: SW26R_CORE_BLUE_RDC4 | C77: ED-140M | D77: 09.09.07 2 | E77: MC5IN04504 | F77: 131 | G77: 9 | H77: 0.064285714 | I77: 0 | J77: 140 | K77: Core (Disk) McData
... B87: SW94R_SRDF_BLACK_RDC4 | C87: ED-64M | D87: 09.09.07 2 | E87: SW94R_SRDF | F87: 20 | G87: 20 | H87: 0.5 | I87: 0 | J87: 40 | K87: Core SRDF McData
B90: Frankfurt DC
B91: Cisco | F91: Capacity
B92: Switch Name | C92: Frame Model | D92: Code Level | E92: Serial Number | F92: Used Ports | G92: Free Ports | H92: Percent Free | I92: Not Installed | J92: Switch Capacity | K92: Comments
B93: cmdsfdc1a-jd-01 | C93: DS-C9513 | D93: 5.2.8b | E93: FOX1205GAK0 | F93: 134 | G93: 10 | H93: 0.069444444 | I93: 0 | J93: 144 | K93: Core (Disk) Cisco
B94: cmdsfdc1a-jd-02 | C94: DS-C9513 | D94: 5.2.8b | E94: FOX1202H3NV | F94: 130 | G94: 14 | H94: 0.097222222 | I94: 0 | J94: 144 | K94: Core (Disk) Cisco
B95: cmdsfdc1a-jd-09 | C95: DS-C9513 | D95: 5.2.8b | E95: FOX1303GF5Z | F95: 113 | G95: 19 | H95: 0.14393939 | I95: 0 | J95: 132 | K95: Core (Disk) Cisco
B96: cmdsfdc1a-jd-12 | C96: DS-C9513 | D96: 5.2.8b | E96: FOX1524GQF5 | F96: 78 | G96: 66 | H96: 0.45833333 | I96: 0 | J96: 144 | K96: Core (Disk) Cisco
B97: cmdsfdc1a-rb-01 | C97: DS-C9513 | D97: 5.2.8b | E97: FOX1205H322 | F97: 134 | G97: 10 | H97: 0.062937063 | I97: 1 | J97: 144 | K97: Core (Disk) Cisco
B98: cmdsfdc1a-rb-02 | C98: DS-C9513 | D98: 5.2.8b | E98: FOX1150H51Y | F98: 130 | G98: 14 | H98: 0.097222222 | I98: 0 | J98: 144 | K98: Core (Disk) Cisco
B99: cmdsfdc1a-rb-09 | C99: DS-C9513 | D99: 5.2.8b | E99: FOX1249GKZD | F99: 112 | G99: 20 | H99: 0.15151515 | I99: 0 | J99: 132 | K99: Core (Disk) Cisco
B100: cmdsfdc1a-rb-12 | C100: DS-C9513 | D100: 5.2.8b | E100: FOX1523GLMS | F100: 78 | G100: 66 | H100: 0.45833333 | I100: 0 | J100: 144 | K100: Core (Disk) Cisco
B101: cmdsfdc1b-ct-01 | C101: DS-C9513 | D101: 5.2.1 | E101: FOX1202H3N1 | F101: 101 | G101: 19 | H101: 0.15833333 | I101: 0 | J101: 120 | K101: Core (Tape) Cisco
B102: cmdsfdc1b-dg-01 | C102: DS-C9513 | D102: 5.2.1 | E102: FOX1123078E | F102: 101 | G102: 19 | H102: 0.15833333 | I102: 0 | J102: 120 | K102: Core (Tape) Cisco
B103: cmdsfdc1b-jd-15 | C103: DS-C9513 | D103: 5.2.8b | E103: FOX1549G4GB | F103: 126 | G103: 226 | H103: 0.64204545 | I103: 0 | J103: 352 | K103: Core (Disk) Cisco
B104: cmdsfdc1b-rb-15 | C104: DS-C9513 | D104: 5.2.8b | E104: FOX1543GCE5 | F104: 126 | G104: 226 | H104: 0.64204545 | I104: 0 | J104: 352 | K104: Core (Disk) Cisco
... B128: rmdsfdc1a-sl-01 | C128: DS-C9513 | D128: 5.2.2a | E128: FOX1205GAKG | F128: 61 | G128: 119 | H128: 0.66111111 | I128: 0 | J128: 180 | K128: Core SRDF Cisco
B131: Swiss DC Blwg
B132: Cisco | F132: Capacity
B133: Switch Name | C133: Frame Model | D133: Code Level | E133: Serial Number | F133: Used Ports | G133: Free Ports | H133: Percent Free | I133: Not Installed | J133: Switch Capacity | K133: Comments
B134: cmdsblw-ct-01 | C134: Cisco 9124 | D134: 5.2.8b | E134: FOX1511H7YQ | F134: 10 | G134: 14 | H134: 0.58333333 | I134: 0 | J134: 24 | K134: Core (Tape) Cisco
B135: cmdsblw-dg-01 | C135: Cisco 9124 | D135: 5.2.8b | E135: FOX1511H81U | F135: 10 | G135: 14 | H135: 0.58333333 | I135: 0 | J135: 24 | K135: Core (Tape) Cisco
B136: cmdsblwg_jd_01 | C136: Cisco 9506 | D136: 5.2.8b | E136: FOX1638GFWR | F136: 37 | G136: 75 | H136: 0 | I136: 0 | J136: 112 | K136: Core (Disk) Cisco
B137: cmdsblwg_rb_01 | C137: Cisco 9506 | D137: 5.2.8b | E137: FOX1638GFWH | F137: 37 | G137: 75 | H137: 0 | I137: 0 | J137: 112 | K137: Core (Disk) Cisco
B140: Swiss DC Colt
B141: Cisco | F141: Capacity | K141: Comments
B142: cmdsclt-ct-01 | C142: Cisco 9124 | D142: 5.2.8b | E142: FOX1511H7YK | F142: 10 | G142: 14 | H142: 0.58333333 | I142: 0 | J142: 24 | K142: Core (Tape) Cisco
B143: cmdsclt-dg-01 | C143: Cisco 9124 | D143: 5.2.8b | E143: FOX1511H7WD | F143: 10 | G143: 14 | H143: 0.58333333 | I143: 0 | J143: 24 | K143: Core (Tape) Cisco
B144: cmdscolt_jd_01 | C144: Cisco 9506 | D144: 5.2.8b | E144: FOX1638GFW7 | F144: 35 | G144: 77 | H144: 0 | I144: 0 | J144: 112 | K144: Core (Disk) Cisco
B145: cmdscolt_rb_01 | C145: Cisco 9506 | D145: 5.2.8b | E145: FOX1638GFVX | F145: 35 | G145: 77 | H145: 0 | I145: 0 | J145: 112 | K145: Core (Disk) Cisco
B148: Welle DC
B149: Cisco | F149: Capacity | K149: Comments
B150: cmdswell-ct-01 | C150: DS-C9513 | D150: 5.2.1 | E150: FOX1202H3N2 | F150: 18 | G150: 30 | H150: 0.625 | I150: 0 | J150: 48 | K150: Core (Tape) Cisco
B151: cmdswell-dg-01 | C151: DS-C9513 | D151: 5.2.1 | E151: FOX1202H3NC | F151: 17 | G151: 31 | H151: 0.64583333 | I151: 0 | J151: 48 | K151: Core (Tape) Cisco
B152: rmdswell-gl-01 | C152: DS-C9509 | D152: 5.2.2a | E152: FOX1241G3Y0 | F152: 16 | G152: 38 | H152: 0.7037037 | I152: 0 | J152: 54 | K152: Core SRDF Cisco
B153: rmdswell-sl-01 | C153: DS-C9509 | D153: 5.2.2a | E153: FOX1252G2SP | F153: 16 | G153: 38 | H153: 0.7037037 | I153: 0 | J153: 54 | K153: Core SRDF Cisco

Sheet SAN Switch Capacity Summary EME
A1: Citigroup Distributed Fibre Switch Capacity Report (EMEA) for Jan 2014
A2: Site Summary and Capacity Analysis NOTE: Each line below represents an individial SAN island. Each island requires free ports/capacity in order to maintain/support BAU growth.
A3: Site | B3: San | C3: Total Installed | D3: Used Ports | E3: Free Ports | F3: % Free | G3: Switch Count
A4: Total All Sites | C4: =SUMIF($A$5:$A$36,"Total Site",$C$5:$C$36) -> 20822 | D4: =SUMIF($A$5:$A$36,"Total Site",$D$5:$D$36) -> 11928 | E4: =SUMIF($A$5:$A$36,"Total Site",$E$5:$E$36) -> 8894 | F4: =E4/(D4+E4) -> 0.42714437 | G4: =SUMIF($A$5:$A$36,"Total Site",$G$5:$G$36) -> 124
A5: Citigroup Centre DC, London | B5: Core (Tape) Cisco | C5: =SUM(D5:E5) -> 96 | D5: =SUMIF('SAN Switch Inventory EMEA'!K5:K25,B5,'SAN Switch Inventory EMEA'!F5:F25) -> 32 | E5: =SUMIF('SAN Switch Inventory EMEA'!K5:K25,B5,'SAN Switch Inventory EMEA'!G5:G25) -> 64 | F5: =E5/(D5+E5) -> 0.66666667 | G5: =COUNTIF('SAN Switch Inventory EMEA'!K5:K25,B5) -> 2
A6: Citigroup Centre DC, London | B6: Core (Disk) Cisco | C6: =SUM(D6:E6) -> 408 | D6: =SUMIF('SAN Switch Inventory EMEA'!K5:K25,B6,'SAN Switch Inventory EMEA'!F5:F25) -> 130 | E6: =SUMIF('SAN Switch Inventory EMEA'!K5:K25,B6,'SAN Switch Inventory EMEA'!G5:G25) -> 278 | F6: =E6/(D6+E6) -> 0.68137255 | G6: =COUNTIF('SAN Switch Inventory EMEA'!K5:K25,B6) -> 2
A7: Citigroup Centre DC, London | B7: Edge (Disk) Cisco | C7: =SUM(D7:E7) -> 1296 | D7: =SUMIF('SAN Switch Inventory EMEA'!K5:K25,B7,'SAN Switch Inventory EMEA'!F5:F25) -> 471 | E7: =SUMIF('SAN Switch Inventory EMEA'!K5:K25,B7,'SAN Switch Inventory EMEA'!G5:G25) -> 825 | F7: =E7/(D7+E7) -> 0.63657407 | G7: =COUNTIF('SAN Switch Inventory EMEA'!K5:K25,B7) -> 6
A8: Citigroup Centre DC, London | B8: Core SRDF Cisco | C8: =SUM(D8:E8) -> 144 | D8: =SUMIF('SAN Switch Inventory EMEA'!K5:K25,B8,'SAN Switch Inventory EMEA'!F5:F25) -> 28 | E8: =SUMIF('SAN Switch Inventory EMEA'!K5:K25,B8,'SAN Switch Inventory EMEA'!G5:G25) -> 116 | F8: =E8/(D8+E8) -> 0.80555556 | G8: =COUNTIF('SAN Switch Inventory EMEA'!K5:K25,B8) -> 2
A9: Citigroup Centre DC, London | B9: Core (Disk) McData | C9: =SUM(D9:E9) -> 235 | D9: =SUMIF('SAN Switch Inventory EMEA'!K5:K25,B9,'SAN Switch Inventory EMEA'!F5:F25) -> 72 | E9: =SUMIF('SAN Switch Inventory EMEA'!K5:K25,B9,'SAN Switch Inventory EMEA'!G5:G25) -> 163 | F9: =E9/(D9+E9) -> 0.69361702 | G9: =COUNTIF('SAN Switch Inventory EMEA'!K5:K25,B9) -> 2
A10: Citigroup Centre DC, London | B10: EDGE (Disk) McData | C10: =SUM(D10:E10) -> 279 | D10: =SUMIF('SAN Switch Inventory EMEA'!K5:K25,B10,'SAN Switch Inventory EMEA'!F5:F25) -> 52 | E10: =SUMIF('SAN Switch Inventory EMEA'!K5:K25,B10,'SAN Switch Inventory EMEA'!G5:G25) -> 227 | F10: =E10/(D10+E10) -> 0.81362007 | G10: =COUNTIF('SAN Switch Inventory EMEA'!K5:K25,B10) -> 2
A11: Citigroup Centre DC, London | B11: Core SRDF McData | C11: =SUM(D11:E11) -> 144 | D11: =SUMIF('SAN Switch Inventory EMEA'!K5:K25,B11,'SAN Switch Inventory EMEA'!F5:F25) -> 65 | E11: =SUMIF('SAN Switch Inventory EMEA'!K5:K25,B11,'SAN Switch Inventory EMEA'!G5:G25) -> 79 | F11: =E11/(D11+E11) -> 0.54861111 | G11: =COUNTIF('SAN Switch Inventory EMEA'!K5:K25,B11) -> 4
A12: Total Site | C12: =SUM(C5:C11) -> 2602 | D12: =SUM(D5:D11) -> 850 | E12: =SUM(E5:E11) -> 1752 | F12: =E12/(D12+E12) -> 0.67332821 | G12: =SUM(G5:G11) -> 20
A13: Riverdale DC, London | B13: Core (Tape) Cisco | C13: =SUM(D13:E13) -> 264 | D13: =SUMIF('SAN Switch Inventory EMEA'!K31:K87,B13,'SAN Switch Inventory EMEA'!F31:F87) -> 217 | E13: =SUMIF('SAN Switch Inventory EMEA'!K31:K87,B13,'SAN Switch Inventory EMEA'!G31:G87) -> 47 | F13: =E13/(D13+E13) -> 0.1780303 | G13: =COUNTIF('SAN Switch Inventory EMEA'!K31:K87,B13) -> 2
A14: Riverdale DC, London | B14: Core (Disk) Cisco | C14: =SUM(D14:E14) -> 1752 | D14: =SUMIF('SAN Switch Inventory EMEA'!K31:K87,B14,'SAN Switch Inventory EMEA'!F31:F87) -> 882 | E14: =SUMIF('SAN Switch Inventory EMEA'!K31:K87,B14,'SAN Switch Inventory EMEA'!G31:G87) -> 870 | F14: =E14/(D14+E14) -> 0.49657534 | G14: =COUNTIF('SAN Switch Inventory EMEA'!K31:K87,B14) -> 8
A15: Riverdale DC, London | B15: Edge (Disk) Cisco | C15: =SUM(D15:E15) -> 5056 | D15: =SUMIF('SAN Switch Inventory EMEA'!K31:K87,B15,'SAN Switch Inventory EMEA'!F31:F87) -> 3465 | E15: =SUMIF('SAN Switch Inventory EMEA'!K31:K87,B15,'SAN Switch Inventory EMEA'!G31:G87) -> 1591 | F15: =E15/(D15+E15) -> 0.31467563 | G15: =COUNTIF('SAN Switch Inventory EMEA'!K31:K87,B15) -> 22
A16: Riverdale DC, London | B16: Core SRDF Cisco | C16: =SUM(D16:E16) -> 360 | D16: =SUMIF('SAN Switch Inventory EMEA'!K31:K87,B16,'SAN Switch Inventory EMEA'!F31:F87) -> 127 | E16: =SUMIF('SAN Switch Inventory EMEA'!K31:K87,B16,'SAN Switch Inventory EMEA'!G31:G87) -> 233 | F16: =E16/(D16+E16) -> 0.64722222 | G16: =COUNTIF('SAN Switch Inventory EMEA'!K31:K87,B16) -> 2
A17: Riverdale DC, London | B17: Core (Disk) McData | C17: =SUM(D17:E17) -> 752 | D17: =SUMIF('SAN Switch Inventory EMEA'!K31:K87,B17,'SAN Switch Inventory EMEA'!F31:F87) -> 546 | E17: =SUMIF('SAN Switch Inventory EMEA'!K31:K87,B17,'SAN Switch Inventory EMEA'!G31:G87) -> 206 | F17: =E17/(D17+E17) -> 0.27393617 | G17: =COUNTIF('SAN Switch Inventory EMEA'!K31:K87,B17) -> 6
A18: Riverdale DC, London | B18: EDGE (Disk) McData | C18: =SUM(D18:E18) -> 1464 | D18: =SUMIF('SAN Switch Inventory EMEA'!K31:K87,B18,'SAN Switch Inventory EMEA'!F31:F87) -> 370 | E18: =SUMIF('SAN Switch Inventory EMEA'!K31:K87,B18,'SAN Switch Inventory EMEA'!G31:G87) -> 1094 | F18: =E18/(D18+E18) -> 0.74726776 | G18: =COUNTIF('SAN Switch Inventory EMEA'!K31:K87,B18) -> 12
A19: Riverdale DC, London | B19: Core SRDF McData | C19: =SUM(D19:E19) -> 144 | D19: =SUMIF('SAN Switch Inventory EMEA'!K31:K87,B19,'SAN Switch Inventory EMEA'!F31:F87) -> 52 | E19: =SUMIF('SAN Switch Inventory EMEA'!K31:K87,B19,'SAN Switch Inventory EMEA'!G31:G87) -> 92 | F19: =E19/(D19+E19) -> 0.63888889 | G19: =COUNTIF('SAN Switch Inventory EMEA'!K31:K87,B19) -> 4
A20: Total Site | C20: =SUM(C13:C19) -> 9792 | D20: =SUM(D13:D19) -> 5659 | E20: =SUM(E13:E19) -> 4133 | F20: =E20/(D20+E20) -> 0.42207925 | G20: =SUM(G13:G19) -> 56
A21: Frankfurt DC, Germany | B21: Core (Tape) Cisco | C21: =SUM(D21:E21) -> 240 | D21: =SUMIF('SAN Switch Inventory EMEA'!K93:K128,B21,'SAN Switch Inventory EMEA'!F93:F128) -> 202 | E21: =SUMIF('SAN Switch Inventory EMEA'!K93:K128,B21,'SAN Switch Inventory EMEA'!G93:G128) -> 38 | F21: =E21/(D21+E21) -> 0.15833333 | G21: =COUNTIF('SAN Switch Inventory EMEA'!K93:K128,B21) -> 2
A22: Frankfurt DC, Germany | B22: Core (Disk) Cisco | C22: =SUM(D22:E22) -> 1832 | D22: =SUMIF('SAN Switch Inventory EMEA'!K93:K128,B22,'SAN Switch Inventory EMEA'!F93:F128) -> 1161 | E22: =SUMIF('SAN Switch Inventory EMEA'!K93:K128,B22,'SAN Switch Inventory EMEA'!G93:G128) -> 671 | F22: =E22/(D22+E22) -> 0.36626638 | G22: =COUNTIF('SAN Switch Inventory EMEA'!K93:K128,B22) -> 10
A23: Frankfurt DC, Germany | B23: Edge (Disk) Cisco | C23: =SUM(D23:E23) -> 5248 | D23: =SUMIF('SAN Switch Inventory EMEA'!K93:K128,B23,'SAN Switch Inventory EMEA'!F93:F128) -> 3684 | E23: =SUMIF('SAN Switch Inventory EMEA'!K93:K128,B23,'SAN Switch Inventory EMEA'!G93:G128) -> 1564 | F23: =E23/(D23+E23) -> 0.29801829 | G23: =COUNTIF('SAN Switch Inventory EMEA'!K93:K128,B23) -> 22
A24: Frankfurt DC, Germany | B24: Core SRDF Cisco | C24: =SUM(D24:E24) -> 360 | D24: =SUMIF('SAN Switch Inventory EMEA'!K93:K128,B24,'SAN Switch Inventory EMEA'!F93:F128) -> 121 | E24: =SUMIF('SAN Switch Inventory EMEA'!K93:K128,B24,'SAN Switch Inventory EMEA'!G93:G128) -> 239 | F24: =E24/(D24+E24) -> 0.66388889 | G24: =COUNTIF('SAN Switch Inventory EMEA'!K93:K128,B24) -> 2
A25: Total Site | C25: =SUM(C21:C24) -> 7680 | D25: =SUM(D21:D24) -> 5168 | E25: =SUM(E21:E24) -> 2512 | F25: =E25/(D25+E25) -> 0.32708333 | G25: =SUM(G21:G24) -> 36
A26: Welle DC, Germany | B26: Core (Tape) Cisco | C26: =SUM(D26:E26) -> 96 | D26: =SUMIF('SAN Switch Inventory EMEA'!K150:K153,B26,'SAN Switch Inventory EMEA'!F150:F153) -> 35 | E26: =SUMIF('SAN Switch Inventory EMEA'!K150:K153,B26,'SAN Switch Inventory EMEA'!G150:G153) -> 61 | F26: =E26/(D26+E26) -> 0.63541667 | G26: =COUNTIF('SAN Switch Inventory EMEA'!K150:K153,B26) -> 2
A27: Welle DC, Germany | B27: Core SRDF Cisco | C27: =SUM(D27:E27) -> 108 | D27: =SUMIF('SAN Switch Inventory EMEA'!K150:K153,B27,'SAN Switch Inventory EMEA'!F150:F153) -> 32 | E27: =SUMIF('SAN Switch Inventory EMEA'!K150:K153,B27,'SAN Switch Inventory EMEA'!G150:G153) -> 76 | F27: =E27/(D27+E27) -> 0.7037037 | G27: =COUNTIF('SAN Switch Inventory EMEA'!K150:K153,B27) -> 2
A28: Total Site | C28: =SUM(C26:C27) -> 204 | D28: =SUM(D26:D27) -> 67 | E28: =SUM(E26:E27) -> 137 | F28: =E28/(D28+E28) -> 0.67156863 | G28: =SUM(G26:G27) -> 4
A29: Swiss DC Blwg, Switzerland | B29: Core (Tape) Cisco | C29: =SUM(D29:E29) -> 48 | D29: =SUMIF('SAN Switch Inventory EMEA'!K134:K137,B29,'SAN Switch Inventory EMEA'!F134:F137) -> 20 | E29: =SUMIF('SAN Switch Inventory EMEA'!K134:K137,B29,'SAN Switch Inventory EMEA'!G134:G137) -> 28 | F29: =E29/(D29+E29) -> 0.58333333 | G29: =COUNTIF('SAN Switch Inventory EMEA'!K134:K137,B29) -> 2
A30: Swiss DC Blwg, Switzerland | B30: Core (Disk) Cisco | C30: =SUM(D30:E30) -> 224 | D30: =SUMIF('SAN Switch Inventory EMEA'!K134:K137,B30,'SAN Switch Inventory EMEA'!F134:F137) -> 74 | E30: =SUMIF('SAN Switch Inventory EMEA'!K134:K137,B30,'SAN Switch Inventory EMEA'!G134:G137) -> 150 | F30: =E30/(D30+E30) -> 0.66964286 | G30: =COUNTIF('SAN Switch Inventory EMEA'!K134:K137,B30) -> 2
A31: Total Site | C31: =SUM(C29:C30) -> 272 | D31: =SUM(D29:D30) -> 94 | E31: =SUM(E29:E30) -> 178 | F31: =E31/(D31+E31) -> 0.65441176 | G31: =SUM(G29:G30) -> 4
A32: Swiss DC Colt, Switzerland | B32: Core (Tape) Cisco | C32: =SUM(D32:E32) -> 48 | D32: =SUMIF('SAN Switch Inventory EMEA'!K142:K145,B32,'SAN Switch Inventory EMEA'!F142:F145) -> 20 | E32: =SUMIF('SAN Switch Inventory EMEA'!K142:K145,B32,'SAN Switch Inventory EMEA'!G142:G145) -> 28 | F32: =E32/(D32+E32) -> 0.58333333 | G32: =COUNTIF('SAN Switch Inventory EMEA'!K142:K145,B32) -> 2
A33: Swiss DC Colt, Switzerland | B33: Core (Disk) Cisco | C33: =SUM(D33:E33) -> 224 | D33: =SUMIF('SAN Switch Inventory EMEA'!K142:K145,B33,'SAN Switch Inventory EMEA'!F142:F145) -> 70 | E33: =SUMIF('SAN Switch Inventory EMEA'!K142:K145,B33,'SAN Switch Inventory EMEA'!G142:G145) -> 154 | F33: =E33/(D33+E33) -> 0.6875 | G33: =COUNTIF('SAN Switch Inventory EMEA'!K142:K145,B33) -> 2
A34: Total Site | C34: =SUM(C32:C33) -> 272 | D34: =SUM(D32:D33) -> 90 | E34: =SUM(E32:E33) -> 182 | F34: =E34/(D34+E34) -> 0.66911765 | G34: =SUM(G32:G33) -> 4
A35: Total All CTI Sites | C35: =SUMIF($A$5:$A$34,"Total Site",$C$5:$C$34) -> 20822 | D35: =SUMIF($A$5:$A$34,"Total Site",$D$5:$D$34) -> 11928 | E35: =SUMIF($A$5:$A$34,"Total Site",$E$5:$E$34) -> 8894 | F35: =E35/(D35+E35) -> 0.42714437 | G35: =SUMIF($A$5:$A$34,"Total Site",$G$5:$G$34) -> 124
