Workbook
Name RMCF1C00_Spare: '[1]CFR-Ports'!$B$153
Name RMCF1C00_Used: '[1]CFR-Ports'!$B$154
Name RMCF1E00_Spare: '[1]CFR-Ports'!$D$153
Name RMCF1E00_Used: '[1]CFR-Ports'!$D$154

Sheet SAN Storage Inventory
A1: Citigroup Distributed Storage Inventory Report for August 2013 (from ECC)
A2: Array Serial # | B2: Array | C2: Site | D2: Vendor & Model | E2: Tier | F2: Code Level | G2: Unformatted Disk Total | H2: Formatted Disk Total | I2: Unconfigured Disk Total | J2: Device Total | K2: Allocated | L2: Free | M2: % Allocated | N2: Replication | O2: Notes
A3: North America (NAM)
A4: 390 Greenwich, NY
A5: 000190104419 | B5: USOEE001N4419 | C5: 390 Greenwich | D5: EMC Symmetrix DMX4-24 | E5: Tier 2 | F5: 5773.184 | G5: 64240 | H5: 60162.43 | I5: 594.35 | J5: 59497.92 | K5: 36311.3 | L5: 23186.62 | M5: 0.61 | N5: Non-replicated | O5: Install 2009-07 | P5: 1
A6: 000190104419 | B6: USOEE001N4419 | C6: 390 Greenwich | D6: EMC Symmetrix DMX4-24 | E6: Tier 4 | F6: 5773.184 | G6: 40800 | H6: 37997.96 | I6: 610.65 | J6: 37342.81 | K6: 25319.23 | L6: 12023.58 | M6: 0.678 | N6: Non-replicated | O6: Install 2009-07
A7: 000192601786 | B7: USOEE002N1786 | C7: 390 Greenwich | D7: EMC Symmetrix VMAX-1 | E7: Tier 4 | F7: 5876.163 | G7: 220800 | H7: 200632.1 | I7: 2156.6 | J7: 195425.41 | K7: 136163.26 | L7: 59262.16 | M7: 0.697 | N7: Non-replicated | O7: Install 2010-01 | P7: 1
A8: 000192602531 | B8: USOEE003R2531 | C8: 390 Greenwich | D8: EMC Symmetrix VMAX-1 | E8: Tier 4 | F8: 5876.163 | G8: 86400 | H8: 78508.22 | I8: 951.04 | J8: 76366.57 | K8: 54525.98 | L8: 21840.6 | M8: 0.714 | N8: Non-replicated | O8: Install 2010-05 | P8: 1
A9: 000192602810 | B9: USOEE004N2810 | C9: 390 Greenwich | D9: EMC Symmetrix VMAX-1 | E9: Tier 4 | F9: 5876.163 | G9: 280799.99 | H9: 255151.68 | I9: 3085.83 | J9: 249671.91 | K9: 195996.36 | L9: 53675.55 | M9: 0.785 | N9: Non-replicated | O9: Install 2010-07 | P9: 1
A10: 000194900260 | B10: USOEE005N0260 | C10: 390 Greenwich | D10: EMC Symmetrix VMAX-1SE | E10: Tier 4 | F10: 5876.163 | G10: 61600 | H10: 61061.94 | I10: 1028.96 | J10: 59610.86 | K10: 38181.7 | L10: 21429.18 | M10: 0.641 | N10: Non-replicated | O10: Install 2010-09 (from 111w) | P10: 1
A11: 000192603107 | B11: USOEE006N3107 | C11: 390 Greenwich | D11: EMC Symmetrix VMAX-1 | E11: Tier 4 | F11: 5876.163 | G11: 124800 | H11: 113400.75 | I11: 1766.07 | J11: 109922.4 | K11: 75316.12 | L11: 34606.28 | M11: 0.685 | N11: Non-replicated | O11: Install 2011-01 | P11: 1
A12: 000192600736 | B12: USOEE007N0736 | C12: 390 Greenwich | D12: EMC Symmetrix VMAX-1 | E12: Tier 4 | F12: 5876.163 | G12: 172800 | H12: 157016.42 | I12: 3764.5 | J12: 152699.24 | K12: 123083.26 | L12: 29615.98 | M12: 0.806 | N12: Non-replicated | O12: Install 2011-10 | P12: 1
A13: 000192600688 | B13: USOEE008N0688 | C13: 390 Greenwich | D13: EMC Symmetrix VMAX-1 | E13: Tier 4 | F13: 5876.163 | G13: 145600 | H13: 130695.64 | I13: 703.71 | J13: 127997.28 | K13: 75982.43 | L13: 52014.86 | M13: 0.594 | N13: Non-replicated | O13: Install 2012-03 | P13: 1
A14: 000192605487 | B14: USOEE009N5487 | C14: 390 Greenwich | D14: EMC Symmetrix VMAX-1 | E14: Tier 4 | F14: 5876.163 | G14: 470400 | H14: 423055.28 | I14: 309.37 | J14: 419043.13 | K14: 76499.81 | L14: 342543.32 | M14: 0.183 | N14: Non-replicated | O14: Install 2013-02 | P14: 1
A15: 000295700298 | B15: USOEE010N0298 | C15: 390 Greenwich | D15: EMC Symmetrix VMAX40K | E15: Tier 4 | F15: 5876.163 | G15: 402688 | H15: 365237.8 | I15: 213.14 | J15: 362067.2 | K15: 65596.42 | L15: 296470.78 | M15: 0.181 | N15: Non-replicated | O15: Install 2013-06 | P15: 1
A16: 000195701406 | B16: USOEE011N1406 | C16: 390 Greenwich | D16: EMC Symmetrix VMAX40K | E16: Tier 4 | F16: 5876.163 | G16: 431232 | H16: 384258.46 | I16: 218.16 | J16: 383742.64 | K16: 1720.77 | L16: 382021.86 | M16: 0.004 | N16: Non-replicated | O16: Install 2013-06 | P16: 1
A17: 000190104992 | B17: USOEE095R4992 | C17: 390 Greenwich | D17: EMC Symmetrix DMX4-24 | E17: Tier 1 | F17: 5773.184 | G17: 52036.11 | H17: 48733.17 | I17: 504.77 | J17: 48171.38 | K17: 33797.04 | L17: 14374.34 | M17: 0.702 | N17: Replicated | O17: Install 2009-04 | P17: 1
A18: 000190104992 | B18: USOEE095R4992 | C18: 390 Greenwich | D18: EMC Symmetrix DMX4-24 | E18: Tier 4 | F18: 5773.184 | G18: 22123.89 | H18: 20607.21 | I18: 203.04 | J18: 20376.8 | K18: 12681.31 | L18: 7695.49 | M18: 0.622 | N18: Replicated | O18: Install 2009-04
A19: 000190104944 | B19: USOEE097N4944 | C19: 390 Greenwich | D19: EMC Symmetrix DMX4-24 | E19: Tier 2 | F19: 5773.184 | G19: 68912 | H19: 64537.88 | I19: 731.13 | J19: 63731.55 | K19: 44100.45 | L19: 19631.1 | M19: 0.692 | N19: Non-replicated | O19: Install 2009-03 | P19: 1
A20: 000190104944 | B20: USOEE097N4944 | C20: 390 Greenwich | D20: EMC Symmetrix DMX4-24 | E20: Tier 4 | F20: 5773.184 | G20: 60000 | H20: 55879.35 | I20: 898.23 | J20: 54915.68 | K20: 38653.02 | L20: 16262.66 | M20: 0.704 | N20: Non-replicated | O20: Install 2009-03
A21: 000190105169 | B21: USOEE098R5169 | C21: 390 Greenwich | D21: EMC Symmetrix DMX4-24 | E21: Tier 1 | F21: 5773.184 | G21: 44658.3 | H21: 41823.66 | I21: 346.34 | J21: 41428.31 | K21: 32910.69 | L21: 8517.62 | M21: 0.794 | N21: Replicated | O21: Install 2009-07 | P21: 1
A22: 000190105169 | B22: USOEE098R5169 | C22: 390 Greenwich | D22: EMC Symmetrix DMX4-24 | E22: Tier 2 | F22: 5773.184 | G22: 3229.7 | H22: 3024.7 | I22: 25.05 | J22: 2996.11 | K22: 2809.01 | L22: 187.1 | M22: 0.938 | N22: Replicated | O22: Install 2009-07
A23: 000190105169 | B23: USOEE098R5169 | C23: 390 Greenwich | D23: EMC Symmetrix DMX4-24 | E23: Tier 4 | F23: 5773.184 | G23: 19200 | H23: 17881.39 | I23: 172.25 | J23: 17688.07 | K23: 15839.1 | L23: 1848.96 | M23: 0.895 | N23: Replicated | O23: Install 2009-07
A24: 18661 | B24: USOEH011N8661 | C24: 390 Greenwich | D24: HDS HDS R600 | E24: Tier 4 | F24: 60-08-13-00/00 | G24: 57600 | H24: 51533.6 | I24: 0 | J24: 51533.53 | K24: 35971.67 | L24: 15561.86 | M24: 0.698 | N24: Non-replicated | O24: Install 2010-10 (from 111W) | P24: 1
A25: 65064 | B25: USOEH052N5064 | C25: 390 Greenwich | D25: HDS HDS R700 | E25: Tier 4 | F25: 70-05-17-00/00 | G25: 216000 | H25: 193250.99 | I25: 0 | J25: 193250.48 | K25: 130873.8 | L25: 62376.68 | M25: 0.677 | N25: Non-replicated | O25: Install 2011-04 | P25: 1
A26: 65075 | B26: USOEH053N5075 | C26: 390 Greenwich | D26: HDS HDS R700 | E26: Tier 4 | F26: 70-05-17-00/00 | G26: 216000 | H26: 193250.99 | I26: 0 | J26: 193250.48 | K26: 109649.5 | L26: 83600.98 | M26: 0.567 | N26: Non-replicated | O26: Install 2011-04 | P26: 1
A27: FNM00085200120 | B27: USOEC138N0120 | C27: 390 Greenwich | D27: EMC Clariion CX4-120 | E27: Tier 4 | F27: 04.28.000.5.501 | G27: 32100 | H27: 28676 | I27: 7983 | J27: 19390.71 | K27: 3260.36 | L27: 16130.36 | M27: 0.168 | N27: Non-replicated | O27: Install 2009-11 | P27: 1
A28: FCNMM091900050 | B28: USOEC139N0050 | C28: 390 Greenwich | D28: EMC Clariion AX4-5 | E28: Tier 5 | F28: 2.23.50.5.711 | G28: 58000 | H28: 53186 | I28: 400.01 | J28: 49111.17 | K28: 34231.17 | L28: 14880 | M28: 0.697 | N28: Non-replicated | O28: Install 2009-08 | P28: 1
A29: SL7E1095100057 | B29: USOEC140N0057 | C29: 390 Greenwich | D29: EMC Clariion AX4-5 | E29: Tier 5 | F29: 2.23.50.5.711 | G29: 58000 | H29: 53186 | I29: 9476.18 | J29: 40035 | K29: 0 | L29: 40035 | M29: 0 | N29: Non-replicated | O29: Install 2010-06 | P29: 1
A30: FNM00103500190 | B30: USOEC141N0190 | C30: 390 Greenwich | D30: EMC Clariion CX4-240 | E30: Tier 4 | F30: 04.28.000.5.704 | G30: 9130 | H30: 8169 | I30: 66.38 | J30: 6206.67 | K30: 6206.67 | L30: 0 | M30: 1 | N30: Non-replicated | O30: Install 2011-04 | P30: 1
A32: Columbus, OH
A33: APM00105101584 | B33: USOZC002N1584 | C33: Columbus | D33: EMC Clariion CX4-120 | E33: Tier 4 | F33: 04.28.000.5.706 | G33: 9130 | H33: 8169 | I33: 395.37 | J33: 7117.83 | K33: 7117.83 | L33: 0 | M33: 1 | N33: Non-replicated | O33: Install 2011-04 | P33: 1
A35: Columbus, OH (MWDC)
A36: 000190103105 | B36: USOME001N3105 | C36: MWDC | D36: EMC Symmetrix DMX3-24 | E36: Tier 2 | F36: 5773.184 | G36: 57232 | H36: 53599.26 | I36: 502.25 | J36: 53034.15 | K36: 3944.33 | L36: 49089.81 | M36: 0.074 | N36: Not replicated | P36: 1
A37: 000190103105 | B37: USOME001N3105 | C37: MWDC | D37: EMC Symmetrix DMX3-24 | E37: Tier 4 | F37: 5773.184 | G37: 81000 | H37: 75437.12 | I37: 2678.96 | J37: 72671.85 | K37: 17062.1 | L37: 55609.75 | M37: 0.235 | N37: Not replicated
A38: 000190102071 | B38: USOME003N2071 | C38: MWDC | D38: EMC Symmetrix DMX4-24 | E38: Tier 2 | F38: 5773.184 | G38: 128480 | H38: 120324.87 | I38: 1348.78 | J38: 118835.17 | K38: 114391.56 | L38: 4443.61 | M38: 0.963 | N38: Not replicated | O38: Install 2008-09 | P38: 1
A39: 000190104687 | B39: USOME004N4687 | C39: MWDC | D39: EMC Symmetrix DMX4-24 | E39: Tier 4 | F39: 5773.184 | G39: 105600 | H39: 98347.66 | I39: 1467.12 | J39: 96765.59 | K39: 93108.29 | L39: 3657.3 | M39: 0.962 | N39: Not replicated | O39: Install 2008-11 | P39: 1
A40: 000190104686 | B40: USOME005N4686 | C40: MWDC | D40: EMC Symmetrix DMX4-24 | E40: Tier 2 | F40: 5773.184 | G40: 131984 | H40: 123606.45 | I40: 1256.78 | J40: 122204.77 | K40: 111611.36 | L40: 10593.41 | M40: 0.913 | N40: Not replicated | O40: Install 2009-04 | P40: 1
A41: 000190105249 | B41: USOME006N5249 | C41: MWDC | D41: EMC Symmetrix DMX4-24 | E41: Tier 4 | F41: 5773.184 | G41: 139200 | H41: 129640.1 | I41: 1974.55 | J41: 127513.98 | K41: 115251.51 | L41: 12262.47 | M41: 0.904 | N41: Not replicated | O41: Install 2009-04 | P41: 1
A42: 000192602212 | B42: USOME007N2212 | C42: MWDC | D42: EMC Symmetrix VMAX-1 | E42: Tier 4 | F42: 5876.163 | G42: 259200.01 | H42: 235524.63 | I42: 3455.77 | J42: 230155.15 | K42: 185915.86 | L42: 44239.29 | M42: 0.808 | N42: Not replicated | O42: Install 2010-01 | P42: 1
...

Sheet Sheet3

Sheet SAN Storage Capacity Summary
A1: Citigroup Distributed Storage Capacity Report for August 2013
A2: Site Summary and Capacity Analysis Note: Items in red may not be accurate by Tier, however site totals are accurate for these columns
A3: Site | B3: Tier | C3: Usage | D3: Unformatted Total (GB) | E3: Formatted Total (GB) | F3: Unconfigured Total (GB) | G3: Device Total (GB) | H3: Allocated (GB) | I3: Free (GB) | J3: # Frames | K3: Unformatted Total (TB) | L3: Device Total (TB) | M3: Allocated (TB) | N3: Free (TB) | O3: Unformatted Total (PB) | P3: Device Total (PB) | Q3: Allocated (PB) | R3: Free (PB)
A4: Total NAM and LATAM Sites | D4: =SUMIF($A$6:$A$111,"Site Total",D$6:D$111) -> 49112422 | E4: =SUMIF($A$6:$A$111,"Site Total",E$6:E$111) -> 44931102 | F4: =SUMIF($A$6:$A$111,"Site Total",F$6:F$111) -> 660449.92 | G4: =SUMIF($A$6:$A$111,"Site Total",G$6:G$111) -> 36587496 | H4: =SUMIF($A$6:$A$111,"Site Total",H$6:H$111) -> 17763117 | I4: =SUMIF($A$6:$A$111,"Site Total",I$6:I$111) -> 18824380 | J4: =SUMIF($A$6:$A$111,"Site Total",J$6:J$111) -> 315 | K4: =D4/1024 -> 47961.35 | L4: =G4/1024 -> 35729.977 | M4: =H4/1024 -> 17346.794 | N4: =I4/1024 -> 18383.183 | O4: =K4/1024 -> 46.837255 | P4: =L4/1024 -> 34.892556 | Q4: =M4/1024 -> 16.940228 | R4: =N4/1024 -> 17.952328
A5: Total All NAM Sites | D5: =SUMIF($A$6:$A$73,"Site Total",D$6:D$73) -> 47173728 | E5: =SUMIF($A$6:$A$73,"Site Total",E$6:E$73) -> 43152931 | F5: =SUMIF($A$6:$A$73,"Site Total",F$6:F$73) -> 545865.3 | G5: =SUMIF($A$6:$A$73,"Site Total",G$6:G$73) -> 34978768 | H5: =SUMIF($A$6:$A$73,"Site Total",H$6:H$73) -> 16933569 | I5: =SUMIF($A$6:$A$73,"Site Total",I$6:I$73) -> 18045199 | J5: =SUMIF($A$6:$A$73,"Site Total",J$6:J$73) -> 283 | K5: =D5/1024 -> 46068.094 | L5: =G5/1024 -> 34158.953 | M5: =H5/1024 -> 16536.689 | N5: =I5/1024 -> 17622.264 | O5: =K5/1024 -> 44.988373 | P5: =L5/1024 -> 33.358352 | Q5: =M5/1024 -> 16.14911 | R5: =N5/1024 -> 17.209243
A6: 390 Greenwich, NY | B6: Tier-1 | C6: Replication | D6: {=SUM(IF('SAN Storage Inventory'!$C$4:$C$432="390 Greenwich",IF('SAN Storage Inventory'!$E$4:$E$432="Tier 1",'SAN Storage Inventory'!$G$4:$G$432,0),0))} -> 96694.41 | E6: {=SUM(IF('SAN Storage Inventory'!$C$4:$C$432="390 Greenwich",IF('SAN Storage Inventory'!$E$4:$E$432="Tier 1",'SAN Storage Inventory'!$H$4:$H$432,0),0))} -> 90556.83 | F6: {=SUM(IF('SAN Storage Inventory'!$C$4:$C$432="390 Greenwich",IF('SAN Storage Inventory'!$E$4:$E$432="Tier 1",'SAN Storage Inventory'!$I$4:$I$432,0),0))} -> 851.11 | G6: {=SUM(IF('SAN Storage Inventory'!$C$4:$C$432="390 Greenwich",IF('SAN Storage Inventory'!$E$4:$E$432="Tier 1",'SAN Storage Inventory'!$J$4:$J$432,0),0))} -> 89599.69 | H6: {=SUM(IF('SAN Storage Inventory'!$C$4:$C$432="390 Greenwich",IF('SAN Storage Inventory'!$E$4:$E$432="Tier 1",'SAN Storage Inventory'!$K$4:$K$432,0),0))} -> 66707.73 | I6: {=SUM(IF('SAN Storage Inventory'!$C$4:$C$432="390 Greenwich",IF('SAN Storage Inventory'!$E$4:$E$432="Tier 1",'SAN Storage Inventory'!$L$4:$L$432,0),0))} -> 22891.96 | J6: {=SUM(IF('SAN Storage Inventory'!$C$4:$C$432="390 Greenwich",IF('SAN Storage Inventory'!$E$4:$E$432="Tier 1",'SAN Storage Inventory'!$P$4:$P$432,0),0))} -> 2
A7: 390 Greenwich, NY | B7: Tier-2 | C7: Local | D7: {=SUM(IF('SAN Storage Inventory'!$C$4:$C$432="390 Greenwich",IF('SAN Storage Inventory'!$E$4:$E$432="Tier 2",'SAN Storage Inventory'!$G$4:$G$432,0),0))} -> 136381.7 | E7: {=SUM(IF('SAN Storage Inventory'!$C$4:$C$432="390 Greenwich",IF('SAN Storage Inventory'!$E$4:$E$432="Tier 2",'SAN Storage Inventory'!$H$4:$H$432,0),0))} -> 127725.01 | F7: {=SUM(IF('SAN Storage Inventory'!$C$4:$C$432="390 Greenwich",IF('SAN Storage Inventory'!$E$4:$E$432="Tier 2",'SAN Storage Inventory'!$I$4:$I$432,0),0))} -> 1350.53 | G7: {=SUM(IF('SAN Storage Inventory'!$C$4:$C$432="390 Greenwich",IF('SAN Storage Inventory'!$E$4:$E$432="Tier 2",'SAN Storage Inventory'!$J$4:$J$432,0),0))} -> 126225.58 | H7: {=SUM(IF('SAN Storage Inventory'!$C$4:$C$432="390 Greenwich",IF('SAN Storage Inventory'!$E$4:$E$432="Tier 2",'SAN Storage Inventory'!$K$4:$K$432,0),0))} -> 83220.76 | I7: {=SUM(IF('SAN Storage Inventory'!$C$4:$C$432="390 Greenwich",IF('SAN Storage Inventory'!$E$4:$E$432="Tier 2",'SAN Storage Inventory'!$L$4:$L$432,0),0))} -> 43004.82 | J7: {=SUM(IF('SAN Storage Inventory'!$C$4:$C$432="390 Greenwich",IF('SAN Storage Inventory'!$E$4:$E$432="Tier 2",'SAN Storage Inventory'!$P$4:$P$432,0),0))} -> 2
A8: 390 Greenwich, NY | B8: Tier-4 | C8: Local | D8: {=SUM(IF('SAN Storage Inventory'!$C$4:$C$432="390 Greenwich",IF('SAN Storage Inventory'!$E$4:$E$432="Tier 4",'SAN Storage Inventory'!$G$4:$G$432,0),0))} -> 3070073.9 | E8: {=SUM(IF('SAN Storage Inventory'!$C$4:$C$432="390 Greenwich",IF('SAN Storage Inventory'!$E$4:$E$432="Tier 4",'SAN Storage Inventory'!$H$4:$H$432,0),0))} -> 2776264.8 | F8: {=SUM(IF('SAN Storage Inventory'!$C$4:$C$432="390 Greenwich",IF('SAN Storage Inventory'!$E$4:$E$432="Tier 4",'SAN Storage Inventory'!$I$4:$I$432,0),0))} -> 24130.93 | G8: {=SUM(IF('SAN Storage Inventory'!$C$4:$C$432="390 Greenwich",IF('SAN Storage Inventory'!$E$4:$E$432="Tier 4",'SAN Storage Inventory'!$J$4:$J$432,0),0))} -> 2730501.9 | H8: {=SUM(IF('SAN Storage Inventory'!$C$4:$C$432="390 Greenwich",IF('SAN Storage Inventory'!$E$4:$E$432="Tier 4",'SAN Storage Inventory'!$K$4:$K$432,0),0))} -> 1221520.8 | I8: {=SUM(IF('SAN Storage Inventory'!$C$4:$C$432="390 Greenwich",IF('SAN Storage Inventory'!$E$4:$E$432="Tier 4",'SAN Storage Inventory'!$L$4:$L$432,0),0))} -> 1508981.1 | J8: {=SUM(IF('SAN Storage Inventory'!$C$4:$C$432="390 Greenwich",IF('SAN Storage Inventory'!$E$4:$E$432="Tier 4",'SAN Storage Inventory'!$P$4:$P$432,0),0))} -> 15
A9: 390 Greenwich, NY | B9: Tier-5 | C9: Replication | D9: {=SUM(IF('SAN Storage Inventory'!$C$4:$C$432="390 Greenwich",IF('SAN Storage Inventory'!$E$4:$E$432="Tier 5",'SAN Storage Inventory'!$G$4:$G$432,0),0))} -> 116000 | E9: {=SUM(IF('SAN Storage Inventory'!$C$4:$C$432="390 Greenwich",IF('SAN Storage Inventory'!$E$4:$E$432="Tier 5",'SAN Storage Inventory'!$H$4:$H$432,0),0))} -> 106372 | F9: {=SUM(IF('SAN Storage Inventory'!$C$4:$C$432="390 Greenwich",IF('SAN Storage Inventory'!$E$4:$E$432="Tier 5",'SAN Storage Inventory'!$I$4:$I$432,0),0))} -> 9876.19 | G9: {=SUM(IF('SAN Storage Inventory'!$C$4:$C$432="390 Greenwich",IF('SAN Storage Inventory'!$E$4:$E$432="Tier 5",'SAN Storage Inventory'!$J$4:$J$432,0),0))} -> 89146.17 | H9: {=SUM(IF('SAN Storage Inventory'!$C$4:$C$432="390 Greenwich",IF('SAN Storage Inventory'!$E$4:$E$432="Tier 5",'SAN Storage Inventory'!$K$4:$K$432,0),0))} -> 34231.17 | I9: {=SUM(IF('SAN Storage Inventory'!$C$4:$C$432="390 Greenwich",IF('SAN Storage Inventory'!$E$4:$E$432="Tier 5",'SAN Storage Inventory'!$L$4:$L$432,0),0))} -> 54915 | J9: {=SUM(IF('SAN Storage Inventory'!$C$4:$C$432="390 Greenwich",IF('SAN Storage Inventory'!$E$4:$E$432="Tier 5",'SAN Storage Inventory'!$P$4:$P$432,0),0))} -> 2
A10: Site Total | D10: =SUM(D6:D9) -> 3419150 | E10: =SUM(E6:E9) -> 3100918.6 | F10: =SUM(F6:F9) -> 36208.76 | G10: =SUM(G6:G9) -> 3035473.3 | H10: =SUM(H6:H9) -> 1405680.4 | I10: =SUM(I6:I9) -> 1629792.9 | J10: =SUM(J6:J9) -> 21
A11: Columbus, Ohio | B11: Tier-1 | C11: Replication | D11: {=SUM(IF('SAN Storage Inventory'!$C$4:$C$432="MWDC",IF('SAN Storage Inventory'!$E$4:$E$432="Tier 1",'SAN Storage Inventory'!$G$4:$G$432,0),0))} -> 20007.34 | E11: {=SUM(IF('SAN Storage Inventory'!$C$4:$C$432="MWDC",IF('SAN Storage Inventory'!$E$4:$E$432="Tier 1",'SAN Storage Inventory'!$H$4:$H$432,0),0))} -> 18737.39 | F11: {=SUM(IF('SAN Storage Inventory'!$C$4:$C$432="MWDC",IF('SAN Storage Inventory'!$E$4:$E$432="Tier 1",'SAN Storage Inventory'!$I$4:$I$432,0),0))} -> 100.19 | G11: {=SUM(IF('SAN Storage Inventory'!$C$4:$C$432="MWDC",IF('SAN Storage Inventory'!$E$4:$E$432="Tier 1",'SAN Storage Inventory'!$J$4:$J$432,0),0))} -> 18615.27 | H11: {=SUM(IF('SAN Storage Inventory'!$C$4:$C$432="MWDC",IF('SAN Storage Inventory'!$E$4:$E$432="Tier 1",'SAN Storage Inventory'!$K$4:$K$432,0),0))} -> 17688.53 | I11: {=SUM(IF('SAN Storage Inventory'!$C$4:$C$432="MWDC",IF('SAN Storage Inventory'!$E$4:$E$432="Tier 1",'SAN Storage Inventory'!$L$4:$L$432,0),0))} -> 926.74 | J11: {=SUM(IF('SAN Storage Inventory'!$C$4:$C$432="MWDC",IF('SAN Storage Inventory'!$E$4:$E$432="Tier 1",'SAN Storage Inventory'!$P$4:$P$432,0),0))} -> 2
A12: Columbus, Ohio | B12: Tier-2 | C12: Local | D12: {=SUM(IF('SAN Storage Inventory'!$C$4:$C$432="MWDC",IF('SAN Storage Inventory'!$E$4:$E$432="Tier 2",'SAN Storage Inventory'!$G$4:$G$432,0),0))} -> 399304.66 | E12: {=SUM(IF('SAN Storage Inventory'!$C$4:$C$432="MWDC",IF('SAN Storage Inventory'!$E$4:$E$432="Tier 2",'SAN Storage Inventory'!$H$4:$H$432,0),0))} -> 373959.21 | F12: {=SUM(IF('SAN Storage Inventory'!$C$4:$C$432="MWDC",IF('SAN Storage Inventory'!$E$4:$E$432="Tier 2",'SAN Storage Inventory'!$I$4:$I$432,0),0))} -> 3744.09 | G12: {=SUM(IF('SAN Storage Inventory'!$C$4:$C$432="MWDC",IF('SAN Storage Inventory'!$E$4:$E$432="Tier 2",'SAN Storage Inventory'!$J$4:$J$432,0),0))} -> 369777.14 | H12: {=SUM(IF('SAN Storage Inventory'!$C$4:$C$432="MWDC",IF('SAN Storage Inventory'!$E$4:$E$432="Tier 2",'SAN Storage Inventory'!$K$4:$K$432,0),0))} -> 268783.57 | I12: {=SUM(IF('SAN Storage Inventory'!$C$4:$C$432="MWDC",IF('SAN Storage Inventory'!$E$4:$E$432="Tier 2",'SAN Storage Inventory'!$L$4:$L$432,0),0))} -> 100993.55 | J12: {=SUM(IF('SAN Storage Inventory'!$C$4:$C$432="MWDC",IF('SAN Storage Inventory'!$E$4:$E$432="Tier 2",'SAN Storage Inventory'!$P$4:$P$432,0),0))} -> 3
A13: Columbus, Ohio | B13: Tier-4 | C13: Local | D13: {=SUM(IF('SAN Storage Inventory'!$C$4:$C$432="MWDC",IF('SAN Storage Inventory'!$E$4:$E$432="Tier 4",'SAN Storage Inventory'!$G$4:$G$432,0),0))} -> 13545040 | E13: {=SUM(IF('SAN Storage Inventory'!$C$4:$C$432="MWDC",IF('SAN Storage Inventory'!$E$4:$E$432="Tier 4",'SAN Storage Inventory'!$H$4:$H$432,0),0))} -> 12373447 | F13: {=SUM(IF('SAN Storage Inventory'!$C$4:$C$432="MWDC",IF('SAN Storage Inventory'!$E$4:$E$432="Tier 4",'SAN Storage Inventory'!$I$4:$I$432,0),0))} -> 78933.19 | G13: {=SUM(IF('SAN Storage Inventory'!$C$4:$C$432="MWDC",IF('SAN Storage Inventory'!$E$4:$E$432="Tier 4",'SAN Storage Inventory'!$J$4:$J$432,0),0))} -> 9509799.8 | H13: {=SUM(IF('SAN Storage Inventory'!$C$4:$C$432="MWDC",IF('SAN Storage Inventory'!$E$4:$E$432="Tier 4",'SAN Storage Inventory'!$K$4:$K$432,0),0))} -> 4218774.8 | I13: {=SUM(IF('SAN Storage Inventory'!$C$4:$C$432="MWDC",IF('SAN Storage Inventory'!$E$4:$E$432="Tier 4",'SAN Storage Inventory'!$L$4:$L$432,0),0))} -> 5291025 | J13: {=SUM(IF('SAN Storage Inventory'!$C$4:$C$432="MWDC",IF('SAN Storage Inventory'!$E$4:$E$432="Tier 4",'SAN Storage Inventory'!$P$4:$P$432,0),0))} -> 63
A14: Columbus, Ohio | B14: Tier-5 | C14: Local | D14: {=SUM(IF('SAN Storage Inventory'!$C$4:$C$432="MWDC",IF('SAN Storage Inventory'!$E$4:$E$432="Tier 5",'SAN Storage Inventory'!$G$4:$G$432,0),0))} -> 793078 | E14: {=SUM(IF('SAN Storage Inventory'!$C$4:$C$432="MWDC",IF('SAN Storage Inventory'!$E$4:$E$432="Tier 5",'SAN Storage Inventory'!$H$4:$H$432,0),0))} -> 750461 | F14: {=SUM(IF('SAN Storage Inventory'!$C$4:$C$432="MWDC",IF('SAN Storage Inventory'!$E$4:$E$432="Tier 5",'SAN Storage Inventory'!$I$4:$I$432,0),0))} -> 16270.48 | G14: {=SUM(IF('SAN Storage Inventory'!$C$4:$C$432="MWDC",IF('SAN Storage Inventory'!$E$4:$E$432="Tier 5",'SAN Storage Inventory'!$J$4:$J$432,0),0))} -> 728374.13 | H14: {=SUM(IF('SAN Storage Inventory'!$C$4:$C$432="MWDC",IF('SAN Storage Inventory'!$E$4:$E$432="Tier 5",'SAN Storage Inventory'!$K$4:$K$432,0),0))} -> 673204.78 | I14: {=SUM(IF('SAN Storage Inventory'!$C$4:$C$432="MWDC",IF('SAN Storage Inventory'!$E$4:$E$432="Tier 5",'SAN Storage Inventory'!$L$4:$L$432,0),0))} -> 55169.35 | J14: {=SUM(IF('SAN Storage Inventory'!$C$4:$C$432="MWDC",IF('SAN Storage Inventory'!$E$4:$E$432="Tier 5",'SAN Storage Inventory'!$P$4:$P$432,0),0))} -> 2
A15: Site Total | D15: =SUM(D11:D14) -> 14757430 | E15: =SUM(E11:E14) -> 13516604 | F15: =SUM(F11:F14) -> 99047.95 | G15: =SUM(G11:G14) -> 10626566 | H15: =SUM(H11:H14) -> 5178451.7 | I15: =SUM(I11:I14) -> 5448114.7 | J15: =SUM(J11:J14) -> 70
A16: Georgetown, TX | B16: Tier-1 | C16: Replication | D16: {=SUM(IF('SAN Storage Inventory'!$C$4:$C$432="GTDC",IF('SAN Storage Inventory'!$E$4:$E$432="Tier 1",'SAN Storage Inventory'!$G$4:$G$432,0),0))} -> 0 | E16: {=SUM(IF('SAN Storage Inventory'!$C$4:$C$432="GTDC",IF('SAN Storage Inventory'!$E$4:$E$432="Tier 1",'SAN Storage Inventory'!$H$4:$H$432,0),0))} -> 0 | F16: {=SUM(IF('SAN Storage Inventory'!$C$4:$C$432="GTDC",IF('SAN Storage Inventory'!$E$4:$E$432="Tier 1",'SAN Storage Inventory'!$I$4:$I$432,0),0))} -> 0 | G16: {=SUM(IF('SAN Storage Inventory'!$C$4:$C$432="GTDC",IF('SAN Storage Inventory'!$E$4:$E$432="Tier 1",'SAN Storage Inventory'!$J$4:$J$432,0),0))} -> 0 | H16: {=SUM(IF('SAN Storage Inventory'!$C$4:$C$432="GTDC",IF('SAN Storage Inventory'!$E$4:$E$432="Tier 1",'SAN Storage Inventory'!$K$4:$K$432,0),0))} -> 0 | I16: {=SUM(IF('SAN Storage Inventory'!$C$4:$C$432="GTDC",IF('SAN Storage Inventory'!$E$4:$E$432="Tier 1",'SAN Storage Inventory'!$L$4:$L$432,0),0))} -> 0 | J16: {=SUM(IF('SAN Storage Inventory'!$C$4:$C$432="GTDC",IF('SAN Storage Inventory'!$E$4:$E$432="Tier 1",'SAN Storage Inventory'!$P$4:$P$432,0),0))} -> 0
A17: Georgetown, TX | B17: Tier-2 | C17: Local | D17: {=SUM(IF('SAN Storage Inventory'!$C$4:$C$432="GTDC",IF('SAN Storage Inventory'!$E$4:$E$432="Tier 2",'SAN Storage Inventory'!$G$4:$G$432,0),0))} -> 119134.02 | E17: {=SUM(IF('SAN Storage Inventory'!$C$4:$C$432="GTDC",IF('SAN Storage Inventory'!$E$4:$E$432="Tier 2",'SAN Storage Inventory'!$H$4:$H$432,0),0))} -> 111572.12 | F17: {=SUM(IF('SAN Storage Inventory'!$C$4:$C$432="GTDC",IF('SAN Storage Inventory'!$E$4:$E$432="Tier 2",'SAN Storage Inventory'!$I$4:$I$432,0),0))} -> 914.18 | G17: {=SUM(IF('SAN Storage Inventory'!$C$4:$C$432="GTDC",IF('SAN Storage Inventory'!$E$4:$E$432="Tier 2",'SAN Storage Inventory'!$J$4:$J$432,0),0))} -> 110527.33 | H17: {=SUM(IF('SAN Storage Inventory'!$C$4:$C$432="GTDC",IF('SAN Storage Inventory'!$E$4:$E$432="Tier 2",'SAN Storage Inventory'!$K$4:$K$432,0),0))} -> 15664 | I17: {=SUM(IF('SAN Storage Inventory'!$C$4:$C$432="GTDC",IF('SAN Storage Inventory'!$E$4:$E$432="Tier 2",'SAN Storage Inventory'!$L$4:$L$432,0),0))} -> 94863.33 | J17: {=SUM(IF('SAN Storage Inventory'!$C$4:$C$432="GTDC",IF('SAN Storage Inventory'!$E$4:$E$432="Tier 2",'SAN Storage Inventory'!$P$4:$P$432,0),0))} -> 2
A18: Georgetown, TX | B18: Tier-4 | C18: Local | D18: {=SUM(IF('SAN Storage Inventory'!$C$4:$C$432="GTDC",IF('SAN Storage Inventory'!$E$4:$E$432="Tier 4",'SAN Storage Inventory'!$G$4:$G$432,0),0))} -> 5740060 | E18: {=SUM(IF('SAN Storage Inventory'!$C$4:$C$432="GTDC",IF('SAN Storage Inventory'!$E$4:$E$432="Tier 4",'SAN Storage Inventory'!$H$4:$H$432,0),0))} -> 5214019 | F18: {=SUM(IF('SAN Storage Inventory'!$C$4:$C$432="GTDC",IF('SAN Storage Inventory'!$E$4:$E$432="Tier 4",'SAN Storage Inventory'!$I$4:$I$432,0),0))} -> 83386.95 | G18: {=SUM(IF('SAN Storage Inventory'!$C$4:$C$432="GTDC",IF('SAN Storage Inventory'!$E$4:$E$432="Tier 4",'SAN Storage Inventory'!$J$4:$J$432,0),0))} -> 3435117.8 | H18: {=SUM(IF('SAN Storage Inventory'!$C$4:$C$432="GTDC",IF('SAN Storage Inventory'!$E$4:$E$432="Tier 4",'SAN Storage Inventory'!$K$4:$K$432,0),0))} -> 1120220.9 | I18: {=SUM(IF('SAN Storage Inventory'!$C$4:$C$432="GTDC",IF('SAN Storage Inventory'!$E$4:$E$432="Tier 4",'SAN Storage Inventory'!$L$4:$L$432,0),0))} -> 2314896.9 | J18: {=SUM(IF('SAN Storage Inventory'!$C$4:$C$432="GTDC",IF('SAN Storage Inventory'!$E$4:$E$432="Tier 4",'SAN Storage Inventory'!$P$4:$P$432,0),0))} -> 39
A19: Georgetown, TX | B19: Tier-5 | C19: Local | D19: {=SUM(IF('SAN Storage Inventory'!$C$4:$C$432="GTDC",IF('SAN Storage Inventory'!$E$4:$E$432="Tier 5",'SAN Storage Inventory'!$G$4:$G$432,0),0))} -> 404420 | E19: {=SUM(IF('SAN Storage Inventory'!$C$4:$C$432="GTDC",IF('SAN Storage Inventory'!$E$4:$E$432="Tier 5",'SAN Storage Inventory'!$H$4:$H$432,0),0))} -> 371152 | F19: {=SUM(IF('SAN Storage Inventory'!$C$4:$C$432="GTDC",IF('SAN Storage Inventory'!$E$4:$E$432="Tier 5",'SAN Storage Inventory'!$I$4:$I$432,0),0))} -> 35613.9 | G19: {=SUM(IF('SAN Storage Inventory'!$C$4:$C$432="GTDC",IF('SAN Storage Inventory'!$E$4:$E$432="Tier 5",'SAN Storage Inventory'!$J$4:$J$432,0),0))} -> 327840.77 | H19: {=SUM(IF('SAN Storage Inventory'!$C$4:$C$432="GTDC",IF('SAN Storage Inventory'!$E$4:$E$432="Tier 5",'SAN Storage Inventory'!$K$4:$K$432,0),0))} -> 326510.77 | I19: {=SUM(IF('SAN Storage Inventory'!$C$4:$C$432="GTDC",IF('SAN Storage Inventory'!$E$4:$E$432="Tier 5",'SAN Storage Inventory'!$L$4:$L$432,0),0))} -> 1330 | J19: {=SUM(IF('SAN Storage Inventory'!$C$4:$C$432="GTDC",IF('SAN Storage Inventory'!$E$4:$E$432="Tier 5",'SAN Storage Inventory'!$P$4:$P$432,0),0))} -> 3
A20: Site Total | D20: =SUM(D16:D19) -> 6263614 | E20: =SUM(E16:E19) -> 5696743.2 | F20: =SUM(F16:F19) -> 119915.03 | G20: =SUM(G16:G19) -> 3873485.9 | H20: =SUM(H16:H19) -> 1462395.6 | I20: =SUM(I16:I19) -> 2411090.3 | J20: =SUM(J16:J19) -> 44
A21: O'Fallon, MO | B21: Tier-1 | C21: Replication | D21: {=SUM(IF('SAN Storage Inventory'!$C$4:$C$432="Ofallon",IF('SAN Storage Inventory'!$E$4:$E$432="Tier 1",'SAN Storage Inventory'!$G$4:$G$432,0),0))} -> 13703.36 | E21: {=SUM(IF('SAN Storage Inventory'!$C$4:$C$432="Ofallon",IF('SAN Storage Inventory'!$E$4:$E$432="Tier 1",'SAN Storage Inventory'!$H$4:$H$432,0),0))} -> 12833.55 | F21: {=SUM(IF('SAN Storage Inventory'!$C$4:$C$432="Ofallon",IF('SAN Storage Inventory'!$E$4:$E$432="Tier 1",'SAN Storage Inventory'!$I$4:$I$432,0),0))} -> 62.79 | G21: {=SUM(IF('SAN Storage Inventory'!$C$4:$C$432="Ofallon",IF('SAN Storage Inventory'!$E$4:$E$432="Tier 1",'SAN Storage Inventory'!$J$4:$J$432,0),0))} -> 12755.78 | H21: {=SUM(IF('SAN Storage Inventory'!$C$4:$C$432="Ofallon",IF('SAN Storage Inventory'!$E$4:$E$432="Tier 1",'SAN Storage Inventory'!$K$4:$K$432,0),0))} -> 12717.24 | I21: {=SUM(IF('SAN Storage Inventory'!$C$4:$C$432="Ofallon",IF('SAN Storage Inventory'!$E$4:$E$432="Tier 1",'SAN Storage Inventory'!$L$4:$L$432,0),0))} -> 38.54 | J21: {=SUM(IF('SAN Storage Inventory'!$C$4:$C$432="Ofallon",IF('SAN Storage Inventory'!$E$4:$E$432="Tier 1",'SAN Storage Inventory'!$P$4:$P$432,0),0))} -> 0
A22: O'Fallon, MO | B22: Tier-2 | C22: Local | D22: {=SUM(IF('SAN Storage Inventory'!$C$4:$C$432="Ofallon",IF('SAN Storage Inventory'!$E$4:$E$432="Tier 2",'SAN Storage Inventory'!$G$4:$G$432,0),0))} -> 63384.64 | E22: {=SUM(IF('SAN Storage Inventory'!$C$4:$C$432="Ofallon",IF('SAN Storage Inventory'!$E$4:$E$432="Tier 2",'SAN Storage Inventory'!$H$4:$H$432,0),0))} -> 59361.37 | F22: {=SUM(IF('SAN Storage Inventory'!$C$4:$C$432="Ofallon",IF('SAN Storage Inventory'!$E$4:$E$432="Tier 2",'SAN Storage Inventory'!$I$4:$I$432,0),0))} -> 612.68 | G22: {=SUM(IF('SAN Storage Inventory'!$C$4:$C$432="Ofallon",IF('SAN Storage Inventory'!$E$4:$E$432="Tier 2",'SAN Storage Inventory'!$J$4:$J$432,0),0))} -> 58679.31 | H22: {=SUM(IF('SAN Storage Inventory'!$C$4:$C$432="Ofallon",IF('SAN Storage Inventory'!$E$4:$E$432="Tier 2",'SAN Storage Inventory'!$K$4:$K$432,0),0))} -> 4817.05 | I22: {=SUM(IF('SAN Storage Inventory'!$C$4:$C$432="Ofallon",IF('SAN Storage Inventory'!$E$4:$E$432="Tier 2",'SAN Storage Inventory'!$L$4:$L$432,0),0))} -> 53862.26 | J22: {=SUM(IF('SAN Storage Inventory'!$C$4:$C$432="Ofallon",IF('SAN Storage Inventory'!$E$4:$E$432="Tier 2",'SAN Storage Inventory'!$P$4:$P$432,0),0))} -> 2
A23: O'Fallon, MO | B23: Tier-4 | C23: Local | D23: {=SUM(IF('SAN Storage Inventory'!$C$4:$C$432="Ofallon",IF('SAN Storage Inventory'!$E$4:$E$432="Tier 4",'SAN Storage Inventory'!$G$4:$G$432,0),0))} -> 403200.01 | E23: {=SUM(IF('SAN Storage Inventory'!$C$4:$C$432="Ofallon",IF('SAN Storage Inventory'!$E$4:$E$432="Tier 4",'SAN Storage Inventory'!$H$4:$H$432,0),0))} -> 368819.22 | F23: {=SUM(IF('SAN Storage Inventory'!$C$4:$C$432="Ofallon",IF('SAN Storage Inventory'!$E$4:$E$432="Tier 4",'SAN Storage Inventory'!$I$4:$I$432,0),0))} -> 5617.4 | G23: {=SUM(IF('SAN Storage Inventory'!$C$4:$C$432="Ofallon",IF('SAN Storage Inventory'!$E$4:$E$432="Tier 4",'SAN Storage Inventory'!$J$4:$J$432,0),0))} -> 361048.11 | H23: {=SUM(IF('SAN Storage Inventory'!$C$4:$C$432="Ofallon",IF('SAN Storage Inventory'!$E$4:$E$432="Tier 4",'SAN Storage Inventory'!$K$4:$K$432,0),0))} -> 216599.36 | I23: {=SUM(IF('SAN Storage Inventory'!$C$4:$C$432="Ofallon",IF('SAN Storage Inventory'!$E$4:$E$432="Tier 4",'SAN Storage Inventory'!$L$4:$L$432,0),0))} -> 144448.75 | J23: {=SUM(IF('SAN Storage Inventory'!$C$4:$C$432="Ofallon",IF('SAN Storage Inventory'!$E$4:$E$432="Tier 4",'SAN Storage Inventory'!$P$4:$P$432,0),0))} -> 3
A24: O'Fallon, MO | B24: Tier-5 | C24: Local | D24: {=SUM(IF('SAN Storage Inventory'!$C$4:$C$432="Ofallon",IF('SAN Storage Inventory'!$E$4:$E$432="Tier 5",'SAN Storage Inventory'!$G$4:$G$432,0),0))} -> 0 | E24: {=SUM(IF('SAN Storage Inventory'!$C$4:$C$432="Ofallon",IF('SAN Storage Inventory'!$E$4:$E$432="Tier 5",'SAN Storage Inventory'!$H$4:$H$432,0),0))} -> 0 | F24: {=SUM(IF('SAN Storage Inventory'!$C$4:$C$432="Ofallon",IF('SAN Storage Inventory'!$E$4:$E$432="Tier 5",'SAN Storage Inventory'!$I$4:$I$432,0),0))} -> 0 | G24: {=SUM(IF('SAN Storage Inventory'!$C$4:$C$432="Ofallon",IF('SAN Storage Inventory'!$E$4:$E$432="Tier 5",'SAN Storage Inventory'!$J$4:$J$432,0),0))} -> 0 | H24: {=SUM(IF('SAN Storage Inventory'!$C$4:$C$432="Ofallon",IF('SAN Storage Inventory'!$E$4:$E$432="Tier 5",'SAN Storage Inventory'!$K$4:$K$432,0),0))} -> 0 | I24: {=SUM(IF('SAN Storage Inventory'!$C$4:$C$432="Ofallon",IF('SAN Storage Inventory'!$E$4:$E$432="Tier 5",'SAN Storage Inventory'!$L$4:$L$432,0),0))} -> 0 | J24: {=SUM(IF('SAN Storage Inventory'!$C$4:$C$432="Ofallon",IF('SAN Storage Inventory'!$E$4:$E$432="Tier 5",'SAN Storage Inventory'!$P$4:$P$432,0),0))} -> 0
A25: Site Total | D25: =SUM(D21:D24) -> 480288.01 | E25: =SUM(E21:E24) -> 441014.14 | F25: =SUM(F21:F24) -> 6292.87 | G25: =SUM(G21:G24) -> 432483.2 | H25: =SUM(H21:H24) -> 234133.65 | I25: =SUM(I21:I24) -> 198349.55 | J25: =SUM(J21:J24) -> 5
A26: Rutherford, NJ | B26: Tier-1 | C26: Replication | D26: {=SUM(IF('SAN Storage Inventory'!$C$4:$C$432="Rutherford",IF('SAN Storage Inventory'!$E$4:$E$432="Tier 1",'SAN Storage Inventory'!$G$4:$G$432,0),0))} -> 96695.26 | E26: {=SUM(IF('SAN Storage Inventory'!$C$4:$C$432="Rutherford",IF('SAN Storage Inventory'!$E$4:$E$432="Tier 1",'SAN Storage Inventory'!$H$4:$H$432,0),0))} -> 90557.63 | F26: {=SUM(IF('SAN Storage Inventory'!$C$4:$C$432="Rutherford",IF('SAN Storage Inventory'!$E$4:$E$432="Tier 1",'SAN Storage Inventory'!$I$4:$I$432,0),0))} -> 850.99 | G26: {=SUM(IF('SAN Storage Inventory'!$C$4:$C$432="Rutherford",IF('SAN Storage Inventory'!$E$4:$E$432="Tier 1",'SAN Storage Inventory'!$J$4:$J$432,0),0))} -> 89600.61 | H26: {=SUM(IF('SAN Storage Inventory'!$C$4:$C$432="Rutherford",IF('SAN Storage Inventory'!$E$4:$E$432="Tier 1",'SAN Storage Inventory'!$K$4:$K$432,0),0))} -> 65821.37 | I26: {=SUM(IF('SAN Storage Inventory'!$C$4:$C$432="Rutherford",IF('SAN Storage Inventory'!$E$4:$E$432="Tier 1",'SAN Storage Inventory'!$L$4:$L$432,0),0))} -> 23779.24 | J26: {=SUM(IF('SAN Storage Inventory'!$C$4:$C$432="Rutherford",IF('SAN Storage Inventory'!$E$4:$E$432="Tier 1",'SAN Storage Inventory'!$P$4:$P$432,0),0))} -> 2
A27: Rutherford, NJ | B27: Tier-2 | C27: Local | D27: {=SUM(IF('SAN Storage Inventory'!$C$4:$C$432="Rutherford",IF('SAN Storage Inventory'!$E$4:$E$432="Tier 2",'SAN Storage Inventory'!$G$4:$G$432,0),0))} -> 115356.71 | E27: {=SUM(IF('SAN Storage Inventory'!$C$4:$C$432="Rutherford",IF('SAN Storage Inventory'!$E$4:$E$432="Tier 2",'SAN Storage Inventory'!$H$4:$H$432,0),0))} -> 108034.57 | F27: {=SUM(IF('SAN Storage Inventory'!$C$4:$C$432="Rutherford",IF('SAN Storage Inventory'!$E$4:$E$432="Tier 2",'SAN Storage Inventory'!$I$4:$I$432,0),0))} -> 1105.01 | G27: {=SUM(IF('SAN Storage Inventory'!$C$4:$C$432="Rutherford",IF('SAN Storage Inventory'!$E$4:$E$432="Tier 2",'SAN Storage Inventory'!$J$4:$J$432,0),0))} -> 106803.79 | H27: {=SUM(IF('SAN Storage Inventory'!$C$4:$C$432="Rutherford",IF('SAN Storage Inventory'!$E$4:$E$432="Tier 2",'SAN Storage Inventory'!$K$4:$K$432,0),0))} -> 79808.42 | I27: {=SUM(IF('SAN Storage Inventory'!$C$4:$C$432="Rutherford",IF('SAN Storage Inventory'!$E$4:$E$432="Tier 2",'SAN Storage Inventory'!$L$4:$L$432,0),0))} -> 26995.37 | J27: {=SUM(IF('SAN Storage Inventory'!$C$4:$C$432="Rutherford",IF('SAN Storage Inventory'!$E$4:$E$432="Tier 2",'SAN Storage Inventory'!$P$4:$P$432,0),0))} -> 2
A28: Rutherford, NJ | B28: Tier-4 | C28: Local | D28: {=SUM(IF('SAN Storage Inventory'!$C$4:$C$432="Rutherford",IF('SAN Storage Inventory'!$E$4:$E$432="Tier 4",'SAN Storage Inventory'!$G$4:$G$432,0),0))} -> 3873464 | E28: {=SUM(IF('SAN Storage Inventory'!$C$4:$C$432="Rutherford",IF('SAN Storage Inventory'!$E$4:$E$432="Tier 4",'SAN Storage Inventory'!$H$4:$H$432,0),0))} -> 3522001.1 | F28: {=SUM(IF('SAN Storage Inventory'!$C$4:$C$432="Rutherford",IF('SAN Storage Inventory'!$E$4:$E$432="Tier 4",'SAN Storage Inventory'!$I$4:$I$432,0),0))} -> 37062.2 | G28: {=SUM(IF('SAN Storage Inventory'!$C$4:$C$432="Rutherford",IF('SAN Storage Inventory'!$E$4:$E$432="Tier 4",'SAN Storage Inventory'!$J$4:$J$432,0),0))} -> 2053935.9 | H28: {=SUM(IF('SAN Storage Inventory'!$C$4:$C$432="Rutherford",IF('SAN Storage Inventory'!$E$4:$E$432="Tier 4",'SAN Storage Inventory'!$K$4:$K$432,0),0))} -> 873763.71 | I28: {=SUM(IF('SAN Storage Inventory'!$C$4:$C$432="Rutherford",IF('SAN Storage Inventory'!$E$4:$E$432="Tier 4",'SAN Storage Inventory'!$L$4:$L$432,0),0))} -> 1180172.1 | J28: {=SUM(IF('SAN Storage Inventory'!$C$4:$C$432="Rutherford",IF('SAN Storage Inventory'!$E$4:$E$432="Tier 4",'SAN Storage Inventory'!$P$4:$P$432,0),0))} -> 32
A29: Rutherford, NJ | B29: Tier-5 | C29: Local | D29: {=SUM(IF('SAN Storage Inventory'!$C$4:$C$432="Rutherford",IF('SAN Storage Inventory'!$E$4:$E$432="Tier 5",'SAN Storage Inventory'!$G$4:$G$432,0),0))} -> 499836 | E29: {=SUM(IF('SAN Storage Inventory'!$C$4:$C$432="Rutherford",IF('SAN Storage Inventory'!$E$4:$E$432="Tier 5",'SAN Storage Inventory'!$H$4:$H$432,0),0))} -> 458652 | F29: {=SUM(IF('SAN Storage Inventory'!$C$4:$C$432="Rutherford",IF('SAN Storage Inventory'!$E$4:$E$432="Tier 5",'SAN Storage Inventory'!$I$4:$I$432,0),0))} -> 70950.73 | G29: {=SUM(IF('SAN Storage Inventory'!$C$4:$C$432="Rutherford",IF('SAN Storage Inventory'!$E$4:$E$432="Tier 5",'SAN Storage Inventory'!$J$4:$J$432,0),0))} -> 373882.77 | H29: {=SUM(IF('SAN Storage Inventory'!$C$4:$C$432="Rutherford",IF('SAN Storage Inventory'!$E$4:$E$432="Tier 5",'SAN Storage Inventory'!$K$4:$K$432,0),0))} -> 350972.77 | I29: {=SUM(IF('SAN Storage Inventory'!$C$4:$C$432="Rutherford",IF('SAN Storage Inventory'!$E$4:$E$432="Tier 5",'SAN Storage Inventory'!$L$4:$L$432,0),0))} -> 22910 | J29: {=SUM(IF('SAN Storage Inventory'!$C$4:$C$432="Rutherford",IF('SAN Storage Inventory'!$E$4:$E$432="Tier 5",'SAN Storage Inventory'!$P$4:$P$432,0),0))} -> 5
A30: Site Total | D30: =SUM(D26:D29) -> 4585352 | E30: =SUM(E26:E29) -> 4179245.3 | F30: =SUM(F26:F29) -> 109968.93 | G30: =SUM(G26:G29) -> 2624223 | H30: =SUM(H26:H29) -> 1370366.3 | I30: =SUM(I26:I29) -> 1253856.7 | J30: =SUM(J26:J29) -> 41
A31: Roanoke, TX (SWDC) | B31: Tier-1 | C31: Replication | D31: {=SUM(IF('SAN Storage Inventory'!$C$4:$C$432="SWDC",IF('SAN Storage Inventory'!$E$4:$E$432="Tier 1",'SAN Storage Inventory'!$G$4:$G$432,0),0))} -> 113449.77 | E31: {=SUM(IF('SAN Storage Inventory'!$C$4:$C$432="SWDC",IF('SAN Storage Inventory'!$E$4:$E$432="Tier 1",'SAN Storage Inventory'!$H$4:$H$432,0),0))} -> 106248.66 | F31: {=SUM(IF('SAN Storage Inventory'!$C$4:$C$432="SWDC",IF('SAN Storage Inventory'!$E$4:$E$432="Tier 1",'SAN Storage Inventory'!$I$4:$I$432,0),0))} -> 862.69 | G31: {=SUM(IF('SAN Storage Inventory'!$C$4:$C$432="SWDC",IF('SAN Storage Inventory'!$E$4:$E$432="Tier 1",'SAN Storage Inventory'!$J$4:$J$432,0),0))} -> 105051.13 | H31: {=SUM(IF('SAN Storage Inventory'!$C$4:$C$432="SWDC",IF('SAN Storage Inventory'!$E$4:$E$432="Tier 1",'SAN Storage Inventory'!$K$4:$K$432,0),0))} -> 87971.11 | I31: {=SUM(IF('SAN Storage Inventory'!$C$4:$C$432="SWDC",IF('SAN Storage Inventory'!$E$4:$E$432="Tier 1",'SAN Storage Inventory'!$L$4:$L$432,0),0))} -> 17080.02 | J31: {=SUM(IF('SAN Storage Inventory'!$C$4:$C$432="SWDC",IF('SAN Storage Inventory'!$E$4:$E$432="Tier 1",'SAN Storage Inventory'!$P$4:$P$432,0),0))} -> 3
A32: Roanoke, TX (SWDC) | B32: Tier-2 | C32: Local | D32: {=SUM(IF('SAN Storage Inventory'!$C$4:$C$432="SWDC",IF('SAN Storage Inventory'!$E$4:$E$432="Tier 2",'SAN Storage Inventory'!$G$4:$G$432,0),0))} -> 548368.23 | E32: {=SUM(IF('SAN Storage Inventory'!$C$4:$C$432="SWDC",IF('SAN Storage Inventory'!$E$4:$E$432="Tier 2",'SAN Storage Inventory'!$H$4:$H$432,0),0))} -> 512015.29 | F32: {=SUM(IF('SAN Storage Inventory'!$C$4:$C$432="SWDC",IF('SAN Storage Inventory'!$E$4:$E$432="Tier 2",'SAN Storage Inventory'!$I$4:$I$432,0),0))} -> 5714.92 | G32: {=SUM(IF('SAN Storage Inventory'!$C$4:$C$432="SWDC",IF('SAN Storage Inventory'!$E$4:$E$432="Tier 2",'SAN Storage Inventory'!$J$4:$J$432,0),0))} -> 505737.74 | H32: {=SUM(IF('SAN Storage Inventory'!$C$4:$C$432="SWDC",IF('SAN Storage Inventory'!$E$4:$E$432="Tier 2",'SAN Storage Inventory'!$K$4:$K$432,0),0))} -> 258893.33 | I32: {=SUM(IF('SAN Storage Inventory'!$C$4:$C$432="SWDC",IF('SAN Storage Inventory'!$E$4:$E$432="Tier 2",'SAN Storage Inventory'!$L$4:$L$432,0),0))} -> 246844.41 | J32: {=SUM(IF('SAN Storage Inventory'!$C$4:$C$432="SWDC",IF('SAN Storage Inventory'!$E$4:$E$432="Tier 2",'SAN Storage Inventory'!$P$4:$P$432,0),0))} -> 9
A33: Roanoke, TX (SWDC) | B33: Tier-4 | C33: Local | D33: {=SUM(IF('SAN Storage Inventory'!$C$4:$C$432="SWDC",IF('SAN Storage Inventory'!$E$4:$E$432="Tier 4",'SAN Storage Inventory'!$G$4:$G$432,0),0))} -> 15566328 | E33: {=SUM(IF('SAN Storage Inventory'!$C$4:$C$432="SWDC",IF('SAN Storage Inventory'!$E$4:$E$432="Tier 4",'SAN Storage Inventory'!$H$4:$H$432,0),0))} -> 14252015 | F33: {=SUM(IF('SAN Storage Inventory'!$C$4:$C$432="SWDC",IF('SAN Storage Inventory'!$E$4:$E$432="Tier 4",'SAN Storage Inventory'!$I$4:$I$432,0),0))} -> 93991.73 | G33: {=SUM(IF('SAN Storage Inventory'!$C$4:$C$432="SWDC",IF('SAN Storage Inventory'!$E$4:$E$432="Tier 4",'SAN Storage Inventory'!$J$4:$J$432,0),0))} -> 12729860 | H33: {=SUM(IF('SAN Storage Inventory'!$C$4:$C$432="SWDC",IF('SAN Storage Inventory'!$E$4:$E$432="Tier 4",'SAN Storage Inventory'!$K$4:$K$432,0),0))} -> 6072581.9 | I33: {=SUM(IF('SAN Storage Inventory'!$C$4:$C$432="SWDC",IF('SAN Storage Inventory'!$E$4:$E$432="Tier 4",'SAN Storage Inventory'!$L$4:$L$432,0),0))} -> 6657277.9 | J33: {=SUM(IF('SAN Storage Inventory'!$C$4:$C$432="SWDC",IF('SAN Storage Inventory'!$E$4:$E$432="Tier 4",'SAN Storage Inventory'!$P$4:$P$432,0),0))} -> 73
A34: Roanoke, TX (SWDC) | B34: Tier-5 | C34: Local | D34: {=SUM(IF('SAN Storage Inventory'!$C$4:$C$432="SWDC",IF('SAN Storage Inventory'!$E$4:$E$432="Tier 5",'SAN Storage Inventory'!$G$4:$G$432,0),0))} -> 789083.66 | E34: {=SUM(IF('SAN Storage Inventory'!$C$4:$C$432="SWDC",IF('SAN Storage Inventory'!$E$4:$E$432="Tier 5",'SAN Storage Inventory'!$H$4:$H$432,0),0))} -> 743657.37 | F34: {=SUM(IF('SAN Storage Inventory'!$C$4:$C$432="SWDC",IF('SAN Storage Inventory'!$E$4:$E$432="Tier 5",'SAN Storage Inventory'!$I$4:$I$432,0),0))} -> 11435.75 | G34: {=SUM(IF('SAN Storage Inventory'!$C$4:$C$432="SWDC",IF('SAN Storage Inventory'!$E$4:$E$432="Tier 5",'SAN Storage Inventory'!$J$4:$J$432,0),0))} -> 551828.31 | H34: {=SUM(IF('SAN Storage Inventory'!$C$4:$C$432="SWDC",IF('SAN Storage Inventory'!$E$4:$E$432="Tier 5",'SAN Storage Inventory'!$K$4:$K$432,0),0))} -> 492310.34 | I34: {=SUM(IF('SAN Storage Inventory'!$C$4:$C$432="SWDC",IF('SAN Storage Inventory'!$E$4:$E$432="Tier 5",'SAN Storage Inventory'!$L$4:$L$432,0),0))} -> 59517.97 | J34: {=SUM(IF('SAN Storage Inventory'!$C$4:$C$432="SWDC",IF('SAN Storage Inventory'!$E$4:$E$432="Tier 5",'SAN Storage Inventory'!$P$4:$P$432,0),0))} -> 2
A35: Site Total | D35: =SUM(D31:D34) -> 17017230 | E35: =SUM(E31:E34) -> 15613937 | F35: =SUM(F31:F34) -> 112005.09 | G35: =SUM(G31:G34) -> 13892477 | H35: =SUM(H31:H34) -> 6911756.7 | I35: =SUM(I31:I34) -> 6980720.3 | J35: =SUM(J31:J34) -> 87
A36: Total All CTI Sites | D36: =SUMIF($A$6:$A$35,"Site Total",D$6:D$35) -> 46523064 | E36: =SUMIF($A$6:$A$35,"Site Total",E$6:E$35) -> 42548462 | F36: =SUMIF($A$6:$A$35,"Site Total",F$6:F$35) -> 483438.63 | G36: =SUMIF($A$6:$A$35,"Site Total",G$6:G$35) -> 34484709 | H36: =SUMIF($A$6:$A$35,"Site Total",H$6:H$35) -> 16562784 | I36: =SUMIF($A$6:$A$35,"Site Total",I$6:I$35) -> 17921924 | J36: =SUMIF($A$6:$A$35,"Site Total",J$6:J$35) -> 268
A38: Legacy NAIT Sites
A39: Columbus, OH | B39: Tier-1 | C39: Replication | D39: =SUM(IF('SAN Storage Inventory'!$C$4:$C$432="Columbus",IF('SAN Storage Inventory'!$E$4:$E$432="Tier 1",'SAN Storage Inventory'!$G$4:$G$432,0),0)) -> 0 | E39: {=SUM(IF('SAN Storage Inventory'!$C$4:$C$432="Columbus",IF('SAN Storage Inventory'!$E$4:$E$432="Tier 1",'SAN Storage Inventory'!$H$4:$H$432,0),0))} -> 0 | F39: {=SUM(IF('SAN Storage Inventory'!$C$4:$C$432="Columbus",IF('SAN Storage Inventory'!$E$4:$E$432="Tier 1",'SAN Storage Inventory'!$I$4:$I$432,0),0))} -> 0 | G39: {=SUM(IF('SAN Storage Inventory'!$C$4:$C$432="Columbus",IF('SAN Storage Inventory'!$E$4:$E$432="Tier 1",'SAN Storage Inventory'!$J$4:$J$432,0),0))} -> 0 | H39: {=SUM(IF('SAN Storage Inventory'!$C$4:$C$432="Columbus",IF('SAN Storage Inventory'!$E$4:$E$432="Tier 1",'SAN Storage Inventory'!$K$4:$K$432,0),0))} -> 0 | I39: {=SUM(IF('SAN Storage Inventory'!$C$4:$C$432="Columbus",IF('SAN Storage Inventory'!$E$4:$E$432="Tier 1",'SAN Storage Inventory'!$L$4:$L$432,0),0))} -> 0 | J39: {=SUM(IF('SAN Storage Inventory'!$C$4:$C$432="Columbus",IF('SAN Storage Inventory'!$E$4:$E$432="Tier 1",'SAN Storage Inventory'!$P$4:$P$432,0),0))} -> 0
A40: Columbus, OH | B40: Tier-2 | C40: Local | D40: {=SUM(IF('SAN Storage Inventory'!$C$4:$C$432="Columbus",IF('SAN Storage Inventory'!$E$4:$E$432="Tier 2",'SAN Storage Inventory'!$G$4:$G$432,0),0))} -> 0 | E40: {=SUM(IF('SAN Storage Inventory'!$C$4:$C$432="Columbus",IF('SAN Storage Inventory'!$E$4:$E$432="Tier 2",'SAN Storage Inventory'!$H$4:$H$432,0),0))} -> 0 | F40: {=SUM(IF('SAN Storage Inventory'!$C$4:$C$432="Columbus",IF('SAN Storage Inventory'!$E$4:$E$432="Tier 2",'SAN Storage Inventory'!$I$4:$I$432,0),0))} -> 0 | G40: {=SUM(IF('SAN Storage Inventory'!$C$4:$C$432="Columbus",IF('SAN Storage Inventory'!$E$4:$E$432="Tier 2",'SAN Storage Inventory'!$J$4:$J$432,0),0))} -> 0 | H40: {=SUM(IF('SAN Storage Inventory'!$C$4:$C$432="Columbus",IF('SAN Storage Inventory'!$E$4:$E$432="Tier 2",'SAN Storage Inventory'!$K$4:$K$432,0),0))} -> 0 | I40: {=SUM(IF('SAN Storage Inventory'!$C$4:$C$432="Columbus",IF('SAN Storage Inventory'!$E$4:$E$432="Tier 2",'SAN Storage Inventory'!$L$4:$L$432,0),0))} -> 0 | J40: {=SUM(IF('SAN Storage Inventory'!$C$4:$C$432="Columbus",IF('SAN Storage Inventory'!$E$4:$E$432="Tier 2",'SAN Storage Inventory'!$P$4:$P$432,0),0))} -> 0
A41: Columbus, OH | B41: Tier-4 | C41: Local | D41: {=SUM(IF('SAN Storage Inventory'!$C$4:$C$432="Columbus",IF('SAN Storage Inventory'!$E$4:$E$432="Tier 4",'SAN Storage Inventory'!$G$4:$G$432,0),0))} -> 9130 | E41: {=SUM(IF('SAN Storage Inventory'!$C$4:$C$432="Columbus",IF('SAN Storage Inventory'!$E$4:$E$432="Tier 4",'SAN Storage Inventory'!$H$4:$H$432,0),0))} -> 8169 | F41: {=SUM(IF('SAN Storage Inventory'!$C$4:$C$432="Columbus",IF('SAN Storage Inventory'!$E$4:$E$432="Tier 4",'SAN Storage Inventory'!$I$4:$I$432,0),0))} -> 395.37 | G41: {=SUM(IF('SAN Storage Inventory'!$C$4:$C$432="Columbus",IF('SAN Storage Inventory'!$E$4:$E$432="Tier 4",'SAN Storage Inventory'!$J$4:$J$432,0),0))} -> 7117.83 | H41: {=SUM(IF('SAN Storage Inventory'!$C$4:$C$432="Columbus",IF('SAN Storage Inventory'!$E$4:$E$432="Tier 4",'SAN Storage Inventory'!$K$4:$K$432,0),0))} -> 7117.83 | I41: {=SUM(IF('SAN Storage Inventory'!$C$4:$C$432="Columbus",IF('SAN Storage Inventory'!$E$4:$E$432="Tier 4",'SAN Storage Inventory'!$L$4:$L$432,0),0))} -> 0 | J41: {=SUM(IF('SAN Storage Inventory'!$C$4:$C$432="Columbus",IF('SAN Storage Inventory'!$E$4:$E$432="Tier 4",'SAN Storage Inventory'!$P$4:$P$432,0),0))} -> 1
...

Sheet SAN Switch Inventory EMEA
B1: Citigroup Distributed Fibre Switch Inventory (EMEA) for Jan 2014
B2: Citigroup Centre DC
B3: Cisco | F3: Capacity
B4: Switch Name | C4: Frame Model | D4: Code Level | E4: Serial Number | F4: Used Ports | G4: Free Ports | H4: Percent Free | I4: Not Installed | J4: Switch Capacity | K4: Comments
B5: cmdscgc1-ct-01 | C5: DS-C9513 | D5: 5.2.1 | E5: FOX1205GAHN | F5: 16 | G5: 32 | H5: 0.66666667 | I5: 0 | J5: 48 | K5: Core (Tape) Cisco | L5: 390-c-11 | M5: 1
B6: cmdscgc1-dg-01 | C6: DS-C9513 | D6: 5.2.1 | E6: FOX1202H3PG | F6: 16 | G6: 32 | H6: 0.66666667 | I6: 0 | J6: 48 | K6: Core (Tape) Cisco | L6: 390-c-11 | M6: 1
B7: cmdscgc1-jd-01 | C7: DS-C9513 | D7: 5.2.8b | E7: FOX1330G5AC | F7: 65 | G7: 139 | H7: 0.68137255 | I7: 0 | J7: 204 | K7: Core (Disk) Cisco | L7: 390-e-11 | M7: 1
B8: cmdscgc1-rb-01 | C8: DS-C9513 | D8: 5.2.8b | E8: FOX1329GR3T | F8: 65 | G8: 139 | H8: 0.68137255 | I8: 0 | J8: 204 | K8: Core (Disk) Cisco | L8: 390-e-11 | M8: 1
B9: emdscgc1-jd-03 | C9: DS-C9513 | D9: 5.2.8b | E9: FOX1331GYC3 | F9: 137 | G9: 55 | H9: 0.28645833 | I9: 0 | J9: 192 | K9: Edge (Disk) Cisco | L9: 390-e-11 | M9: 1
B10: emdscgc1-jd-04 | C10: DS-C9513 | D10: 5.2.8b | E10: FOX1323G9E1 | F10: 39 | G10: 153 | H10: 0.796875 | I10: 0 | J10: 192 | K10: Edge (Disk) Cisco | L10: 390-e-11 | M10: 1
B11: emdscgc1-jd-05 | C11: DS-C9513 | D11: 5.2.8b | E11: FOX1329GR3G | F11: 59 | G11: 205 | H11: 0.77651515 | I11: 0 | J11: 264 | K11: Edge (Disk) Cisco | L11: 390-c-11 | M11: 1
B12: emdscgc1-rb-03 | C12: DS-C9513 | D12: 5.2.8b | E12: FOX1323G9EW | F12: 138 | G12: 54 | H12: 0.28125 | I12: 0 | J12: 192 | K12: Edge (Disk) Cisco | L12: 390-c-11 | M12: 1
B13: emdscgc1-rb-04 | C13: DS-C9513 | D13: 5.2.8b | E13: FOX1331GYC8 | F13: 39 | G13: 153 | H13: 0.796875 | I13: 0 | J13: 192 | K13: Edge (Disk) Cisco | L13: 390-e-11 | M13: 1
B14: emdscgc1-rb-05 | C14: DS-C9513 | D14: 5.2.8b | E14: FOX1331GYBH | F14: 59 | G14: 205 | H14: 0.77651515 | I14: 0 | J14: 264 | K14: Edge (Disk) Cisco | L14: 390-e-11 | M14: 1
B15: rmdscgc1-gl-01 | C15: DS-C9509 | D15: 5.2.2a | E15: FOX1210GT0F | F15: 14 | G15: 58 | H15: 0.80555556 | I15: 0 | J15: 72 | K15: Core SRDF Cisco | L15: 390-e-11 | M15: 1
B16: rmdscgc1-sl-01 | C16: DS-C9509 | D16: 5.2.2a | E16: FOX1212GP09 | F16: 14 | G16: 58 | H16: 0.80555556 | I16: 0 | J16: 72 | K16: Core SRDF Cisco | L16: 390-e-11 | M16: 1
B17: McData | F17: Capacity | K17: Comments
B18: SW01C_CORE_RED_CGC1 | C18: ED-140M | D18: 09.09.07 2 | E18: MC5IN02563 | F18: 36 | G18: 91 | H18: 0.71653543 | I18: 0 | J18: 127 | K18: Core (Disk) McData | L18: 390-c-13 | M18: 1
B19: SW02C_CORE_BLUE_CGC1 | C19: ED-140M | D19: 09.09.07 2 | E19: MC5IN02565 | F19: 36 | G19: 72 | H19: 0.66666667 | I19: 0 | J19: 108 | K19: Core (Disk) McData | L19: 390-e-13 | M19: 1
B20: SW25C_EDGE_RED_CGC2 | C20: ED-140M | D20: 09.09.07 2 | E20: MC5IN01485 | F20: 26 | G20: 114 | H20: 0.81428571 | I20: 0 | J20: 140 | K20: EDGE (Disk) McData | L20: 390-e-13 | M20: 1
B21: SW26C_EDGE_BLUE_CGC | C21: ED-140M | D21: 09.09.07 2 | E21: MC5IN01482 | F21: 26 | G21: 113 | H21: 0.81294964 | I21: 0 | J21: 139 | K21: EDGE (Disk) McData | L21: 390-e-13 | M21: 1
B22: SW91C_SRDF_GREEN_CDC1 | C22: ED-64M | D22: 09.09.07 2 | E22: SW91C_SRDF | F22: 6 | G22: 26 | H22: 0.8125 | I22: 0 | J22: 32 | K22: Core SRDF McData | L22: 390-e-13 | M22: 1
B23: SW92C_SRDF_BLACK_CGC1 | C23: ED-64M | D23: 09.09.07 2 | E23: SW92C_SRDF | F23: 6 | G23: 26 | H23: 0.8125 | I23: 0 | J23: 32 | K23: Core SRDF McData | L23: 390-c-13 | M23: 1
B24: SW93C_SRDF_GREEN_CGC2 | C24: ED-64M | D24: 09.09.07 2 | E24: SW93C_SRDF | F24: 31 | G24: 9 | H24: 0.225 | I24: 0 | J24: 40 | K24: Core SRDF McData | L24: 390-c-13 | M24: 1
B25: SW94C_SRDF_BLACK_CGC2 | C25: ED-64M | D25: 09.09.07 2 | E25: SW94C_SRDF | F25: 22 | G25: 18 | H25: 0.45 | I25: 0 | J25: 40 | K25: Core SRDF McData | L25: 390-e-13 | M25: 1
B28: Riverdale DC
B29: Cisco | F29: Capacity
B30: Switch Name | C30: Frame Model | D30: Code Level | E30: Serial Number | F30: Used Ports | G30: Free Ports | H30: Percent Free | I30: Not Installed | J30: Switch Capacity | K30: Comments
B31: cmdsrdc3-ct-01 | C31: DS-C9513 | D31: 5.2.1 | E31: FOX1150H4XB | F31: 109 | G31: 23 | H31: 0.17424242 | I31: 0 | J31: 132 | K31: Core (Tape) Cisco
B32: cmdsrdc3-dg-01 | C32: DS-C9513 | D32: 5.2.1 | E32: FOX1152HDFX | F32: 108 | G32: 24 | H32: 0.18181818 | I32: 0 | J32: 132 | K32: Core (Tape) Cisco
B33: cmdsrdc4-jd-01 | C33: DS-C9513 | D33: 5.2.8b | E33: FOX1202H3PN | F33: 116 | G33: 4 | H33: 0.033333333 | I33: 0 | J33: 120 | K33: Core (Disk) Cisco
B34: cmdsrdc4-jd-02 | C34: DS-C9513 | D34: 5.2.8b | E34: FOX1150H529 | F34: 113 | G34: 7 | H34: 0.058333333 | I34: 0 | J34: 120 | K34: Core (Disk) Cisco
B35: cmdsrdc4-jd-11 | C35: DS-C9513 | D35: 5.2.8b | E35: FOX1521H7SD | F35: 194 | G35: 110 | H35: 0.36184211 | I35: 0 | J35: 304 | K35: Core (Disk) Cisco
B36: cmdsrdc4-jd-14 | C36: DS-C9513 | D36: 5.2.8b | E36: FOX1545GUCQ | F36: 20 | G36: 300 | H36: 0.9375 | I36: 0 | J36: 320 | K36: Core (Disk) Cisco
B37: cmdsrdc4-rb-01 | C37: DS-C9513 | D37: 5.2.8b | E37: FOX1202H3NR | F37: 114 | G37: 18 | H37: 0.13636364 | I37: 0 | J37: 132 | K37: Core (Disk) Cisco
B38: cmdsrdc4-rb-02 | C38: DS-C9513 | D38: 5.2.8b | E38: FOX1202H3N8 | F38: 112 | G38: 20 | H38: 0.15151515 | I38: 0 | J38: 132 | K38: Core (Disk) Cisco
B39: cmdsrdc4-rb-11 | C39: DS-C9513 | D39: 5.2.8b | E39: FOX1523GLLE | F39: 193 | G39: 111 | H39: 0.36513158 | I39: 0 | J39: 304 | K39: Core (Disk) Cisco
B40: cmdsrdc4-rb-14 | C40: DS-C9513 | D40: 5.2.8b | E40: FOX1545GUCC | F40: 20 | G40: 300 | H40: 0.9375 | I40: 1 | J40: 320 | K40: Core (Disk) Cisco
B41: emdsrdc1-jd-06 | C41: DS-C9513 | D41: 5.2.8b | E41: FOX1227GSWP | F41: 101 | G41: 83 | H41: 0.45108696 | I41: 2 | J41: 184 | K41: Edge (Disk) Cisco
B42: emdsrdc1-rb-06 | C42: DS-C9513 | D42: 5.2.8b | E42: FOX1228GRAY | F42: 100 | G42: 84 | H42: 0.45652174 | I42: 0 | J42: 184 | K42: Edge (Disk) Cisco
...

Sheet SAN Switch Capacity Summary EME
A1: Citigroup Distributed Fibre Switch Capacity Report (EMEA) for Jan 2014
A2: Site Summary and Capacity Analysis NOTE: Each line below represents an individial SAN island. Each island requires free ports/capacity in order to maintain/support BAU growth.
A3: Site | B3: San | C3: Total Installed | D3: Used Ports | E3: Free Ports | F3: % Free | G3: Switch Count
A4: Total All Sites | C4: =SUMIF($A$5:$A$36,"Total Site",$C$5:$C$36) -> 20822 | D4: =SUMIF($A$5:$A$36,"Total Site",$D$5:$D$36) -> 11928 | E4: =SUMIF($A$5:$A$36,"Total Site",$E$5:$E$36) -> 8894 | F4: =E4/(D4+E4) -> 0.42714437 | G4: =SUMIF($A$5:$A$36,"Total Site",$G$5:$G$36) -> 124
A5: Citigroup Centre DC, London | B5: Core (Tape) Cisco | C5: =SUM(D5:E5) -> 96 | D5: =SUMIF('SAN Switch Inventory EMEA'!K5:K25,B5,'SAN Switch Inventory EMEA'!F5:F25) -> 32 | E5: =SUMIF('SAN Switch Inventory EMEA'!K5:K25,B5,'SAN Switch Inventory EMEA'!G5:G25) -> 64 | F5: =E5/(D5+E5) -> 0.66666667 | G5: =COUNTIF('SAN Switch Inventory EMEA'!K5:K25,B5) -> 2
A6: Citigroup Centre DC, London | B6: Core (Disk) Cisco | C6: =SUM(D6:E6) -> 408 | D6: =SUMIF('SAN Switch Inventory EMEA'!K5:K25,B6,'SAN Switch Inventory EMEA'!F5:F25) -> 130 | E6: =SUMIF('SAN Switch Inventory EMEA'!K5:K25,B6,'SAN Switch Inventory EMEA'!G5:G25) -> 278 | F6: =E6/(D6+E6) -> 0.68137255 | G6: =COUNTIF('SAN Switch Inventory EMEA'!K5:K25,B6) -> 2
A7: Citigroup Centre DC, London | B7: Edge (Disk) Cisco | C7: =SUM(D7:E7) -> 1296 | D7: =SUMIF('SAN Switch Inventory EMEA'!K5:K25,B7,'SAN Switch Inventory EMEA'!F5:F25) -> 471 | E7: =SUMIF('SAN Switch Inventory EMEA'!K5:K25,B7,'SAN Switch Inventory EMEA'!G5:G25) -> 825 | F7: =E7/(D7+E7) -> 0.63657407 | G7: =COUNTIF('SAN Switch Inventory EMEA'!K5:K25,B7) -> 6
A8: Citigroup Centre DC, London | B8: Core SRDF Cisco | C8: =SUM(D8:E8) -> 144 | D8: =SUMIF('SAN Switch Inventory EMEA'!K5:K25,B8,'SAN Switch Inventory EMEA'!F5:F25) -> 28 | E8: =SUMIF('SAN Switch Inventory EMEA'!K5:K25,B8,'SAN Switch Inventory EMEA'!G5:G25) -> 116 | F8: =E8/(D8+E8) -> 0.80555556 | G8: =COUNTIF('SAN Switch Inventory EMEA'!K5:K25,B8) -> 2
A9: Citigroup Centre DC, London | B9: Core (Disk) McData | C9: =SUM(D9:E9) -> 235 | D9: =SUMIF('SAN Switch Inventory EMEA'!K5:K25,B9,'SAN Switch Inventory EMEA'!F5:F25) -> 72 | E9: =SUMIF('SAN Switch Inventory EMEA'!K5:K25,B9,'SAN Switch Inventory EMEA'!G5:G25) -> 163 | F9: =E9/(D9+E9) -> 0.69361702 | G9: =COUNTIF('SAN Switch Inventory EMEA'!K5:K25,B9) -> 2
A10: Citigroup Centre DC, London | B10: EDGE (Disk) McData | C10: =SUM(D10:E10) -> 279 | D10: =SUMIF('SAN Switch Inventory EMEA'!K5:K25,B10,'SAN Switch Inventory EMEA'!F5:F25) -> 52 | E10: =SUMIF('SAN Switch Inventory EMEA'!K5:K25,B10,'SAN Switch Inventory EMEA'!G5:G25) -> 227 | F10: =E10/(D10+E10) -> 0.81362007 | G10: =COUNTIF('SAN Switch Inventory EMEA'!K5:K25,B10) -> 2
A11: Citigroup Centre DC, London | B11: Core SRDF McData | C11: =SUM(D11:E11) -> 144 | D11: =SUMIF('SAN Switch Inventory EMEA'!K5:K25,B11,'SAN Switch Inventory EMEA'!F5:F25) -> 65 | E11: =SUMIF('SAN Switch Inventory EMEA'!K5:K25,B11,'SAN Switch Inventory EMEA'!G5:G25) -> 79 | F11: =E11/(D11+E11) -> 0.54861111 | G11: =COUNTIF('SAN Switch Inventory EMEA'!K5:K25,B11) -> 4
A12: Total Site | C12: =SUM(C5:C11) -> 2602 | D12: =SUM(D5:D11) -> 850 | E12: =SUM(E5:E11) -> 1752 | F12: =E12/(D12+E12) -> 0.67332821 | G12: =SUM(G5:G11) -> 20
A13: Riverdale DC, London | B13: Core (Tape) Cisco | C13: =SUM(D13:E13) -> 264 | D13: =SUMIF('SAN Switch Inventory EMEA'!K31:K87,B13,'SAN Switch Inventory EMEA'!F31:F87) -> 217 | E13: =SUMIF('SAN Switch Inventory EMEA'!K31:K87,B13,'SAN Switch Inventory EMEA'!G31:G87) -> 47 | F13: =E13/(D13+E13) -> 0.1780303 | G13: =COUNTIF('SAN Switch Inventory EMEA'!K31:K87,B13) -> 2
A14: Riverdale DC, London | B14: Core (Disk) Cisco | C14: =SUM(D14:E14) -> 1752 | D14: =SUMIF('SAN Switch Inventory EMEA'!K31:K87,B14,'SAN Switch Inventory EMEA'!F31:F87) -> 882 | E14: =SUMIF('SAN Switch Inventory EMEA'!K31:K87,B14,'SAN Switch Inventory EMEA'!G31:G87) -> 870 | F14: =E14/(D14+E14) -> 0.49657534 | G14: =COUNTIF('SAN Switch Inventory EMEA'!K31:K87,B14) -> 8
A15: Riverdale DC, London | B15: Edge (Disk) Cisco | C15: =SUM(D15:E15) -> 5056 | D15: =SUMIF('SAN Switch Inventory EMEA'!K31:K87,B15,'SAN Switch Inventory EMEA'!F31:F87) -> 3465 | E15: =SUMIF('SAN Switch Inventory EMEA'!K31:K87,B15,'SAN Switch Inventory EMEA'!G31:G87) -> 1591 | F15: =E15/(D15+E15) -> 0.31467563 | G15: =COUNTIF('SAN Switch Inventory EMEA'!K31:K87,B15) -> 22
A16: Riverdale DC, London | B16: Core SRDF Cisco | C16: =SUM(D16:E16) -> 360 | D16: =SUMIF('SAN Switch Inventory EMEA'!K31:K87,B16,'SAN Switch Inventory EMEA'!F31:F87) -> 127 | E16: =SUMIF('SAN Switch Inventory EMEA'!K31:K87,B16,'SAN Switch Inventory EMEA'!G31:G87) -> 233 | F16: =E16/(D16+E16) -> 0.64722222 | G16: =COUNTIF('SAN Switch Inventory EMEA'!K31:K87,B16) -> 2
A17: Riverdale DC, London | B17: Core (Disk) McData | C17: =SUM(D17:E17) -> 752 | D17: =SUMIF('SAN Switch Inventory EMEA'!K31:K87,B17,'SAN Switch Inventory EMEA'!F31:F87) -> 546 | E17: =SUMIF('SAN Switch Inventory EMEA'!K31:K87,B17,'SAN Switch Inventory EMEA'!G31:G87) -> 206 | F17: =E17/(D17+E17) -> 0.27393617 | G17: =COUNTIF('SAN Switch Inventory EMEA'!K31:K87,B17) -> 6
A18: Riverdale DC, London | B18: EDGE (Disk) McData | C18: =SUM(D18:E18) -> 1464 | D18: =SUMIF('SAN Switch Inventory EMEA'!K31:K87,B18,'SAN Switch Inventory EMEA'!F31:F87) -> 370 | E18: =SUMIF('SAN Switch Inventory EMEA'!K31:K87,B18,'SAN Switch Inventory EMEA'!G31:G87) -> 1094 | F18: =E18/(D18+E18) -> 0.74726776 | G18: =COUNTIF('SAN Switch Inventory EMEA'!K31:K87,B18) -> 12
A19: Riverdale DC, London | B19: Core SRDF McData | C19: =SUM(D19:E19) -> 144 | D19: =SUMIF('SAN Switch Inventory EMEA'!K31:K87,B19,'SAN Switch Inventory EMEA'!F31:F87) -> 52 | E19: =SUMIF('SAN Switch Inventory EMEA'!K31:K87,B19,'SAN Switch Inventory EMEA'!G31:G87) -> 92 | F19: =E19/(D19+E19) -> 0.63888889 | G19: =COUNTIF('SAN Switch Inventory EMEA'!K31:K87,B19) -> 4
A20: Total Site | C20: =SUM(C13:C19) -> 9792 | D20: =SUM(D13:D19) -> 5659 | E20: =SUM(E13:E19) -> 4133 | F20: =E20/(D20+E20) -> 0.42207925 | G20: =SUM(G13:G19) -> 56
A21: Frankfurt DC, Germany | B21: Core (Tape) Cisco | C21: =SUM(D21:E21) -> 240 | D21: =SUMIF('SAN Switch Inventory EMEA'!K93:K128,B21,'SAN Switch Inventory EMEA'!F93:F128) -> 202 | E21: =SUMIF('SAN Switch Inventory EMEA'!K93:K128,B21,'SAN Switch Inventory EMEA'!G93:G128) -> 38 | F21: =E21/(D21+E21) -> 0.15833333 | G21: =COUNTIF('SAN Switch Inventory EMEA'!K93:K128,B21) -> 2
A22: Frankfurt DC, Germany | B22: Core (Disk) Cisco | C22: =SUM(D22:E22) -> 1832 | D22: =SUMIF('SAN Switch Inventory EMEA'!K93:K128,B22,'SAN Switch Inventory EMEA'!F93:F128) -> 1161 | E22: =SUMIF('SAN Switch Inventory EMEA'!K93:K128,B22,'SAN Switch Inventory EMEA'!G93:G128) -> 671 | F22: =E22/(D22+E22) -> 0.36626638 | G22: =COUNTIF('SAN Switch Inventory EMEA'!K93:K128,B22) -> 10
A23: Frankfurt DC, Germany | B23: Edge (Disk) Cisco | C23: =SUM(D23:E23) -> 5248 | D23: =SUMIF('SAN Switch Inventory EMEA'!K93:K128,B23,'SAN Switch Inventory EMEA'!F93:F128) -> 3684 | E23: =SUMIF('SAN Switch Inventory EMEA'!K93:K128,B23,'SAN Switch Inventory EMEA'!G93:G128) -> 1564 | F23: =E23/(D23+E23) -> 0.29801829 | G23: =COUNTIF('SAN Switch Inventory EMEA'!K93:K128,B23) -> 22
A24: Frankfurt DC, Germany | B24: Core SRDF Cisco | C24: =SUM(D24:E24) -> 360 | D24: =SUMIF('SAN Switch Inventory EMEA'!K93:K128,B24,'SAN Switch Inventory EMEA'!F93:F128) -> 121 | E24: =SUMIF('SAN Switch Inventory EMEA'!K93:K128,B24,'SAN Switch Inventory EMEA'!G93:G128) -> 239 | F24: =E24/(D24+E24) -> 0.66388889 | G24: =COUNTIF('SAN Switch Inventory EMEA'!K93:K128,B24) -> 2
A25: Total Site | C25: =SUM(C21:C24) -> 7680 | D25: =SUM(D21:D24) -> 5168 | E25: =SUM(E21:E24) -> 2512 | F25: =E25/(D25+E25) -> 0.32708333 | G25: =SUM(G21:G24) -> 36
