Workbook

Sheet EMEA
A1: EMEA - Citigroup Distributed Fibre Switch Inventory for July 2014
A2: London - RIVERDALE DATA CENTER (RDC)
A3: Cisco | E3: Capacity
A4: Switch Name | B4: Frame Model | C4: Code Level | D4: Serial Number | E4: Used Ports | F4: Free Ports | G4: Percent Free | H4: Not Installed | I4: Switch Capacity | J4: Comments
A5: cmdsrdc3-ct-01 | B5: DS-C9513 | C5: 5.2(8b) | D5: FOX1150H4XB | E5: 113 | F5: 19 | G5: 0.14393939 | H5: 0 | I5: =E5+F5+H5 -> 132 | J5: CORE - CAT
A6: cmdsrdc3-dg-01 | B6: DS-C9513 | C6: 5.2(8b) | D6: FOX1152HDFX | E6: 114 | F6: 18 | G6: 0.13636364 | H6: 0 | I6: =E6+F6+H6 -> 132 | J6: CORE - DOG
A7: cmdsrdc4-jd-01 | B7: DS-C9513 | C7: 5.2(8b) | D7: FOX1202H3PN | E7: 112 | F7: 8 | G7: 0.066666667 | H7: 0 | I7: =E7+F7+H7 -> 120 | J7: CORE - JADE
A8: cmdsrdc4-jd-02 | B8: DS-C9513 | C8: 5.2(8b) | D8: FOX1150H529 | E8: 116 | F8: 4 | G8: 0.033333333 | H8: 0 | I8: =E8+F8+H8 -> 120 | J8: CORE - JADE
A9: cmdsrdc4-jd-11 | B9: DS-C9513 | C9: 5.2(8b) | D9: FOX1521H7SD | E9: 237 | F9: 67 | G9: 0.22039474 | H9: 0 | I9: =E9+F9+H9 -> 304 | J9: CORE - JADE
A10: cmdsrdc4-jd-14 | B10: DS-C9513 | C10: 5.2(8b) | D10: FOX1545GUCQ | E10: 77 | F10: 243 | G10: 0.759375 | H10: 0 | I10: =E10+F10+H10 -> 320 | J10: CORE - JADE
A11: cmdsrdc4-rb-01 | B11: DS-C9513 | C11: 5.2(8b) | D11: FOX1202H3NR | E11: 111 | F11: 21 | G11: 0.15909091 | H11: 0 | I11: =E11+F11+H11 -> 132 | J11: CORE - RUBY
A12: cmdsrdc4-rb-02 | B12: DS-C9513 | C12: 5.2(8b) | D12: FOX1202H3N8 | E12: 115 | F12: 17 | G12: 0.12878788 | H12: 0 | I12: =E12+F12+H12 -> 132 | J12: CORE - RUBY
A13: cmdsrdc4-rb-11 | B13: DS-C9513 | C13: 5.2(8b) | D13: FOX1523GLLE | E13: 232 | F13: 72 | G13: 0.23684211 | H13: 0 | I13: =E13+F13+H13 -> 304 | J13: CORE - RUBY
A14: cmdsrdc4-rb-14 | B14: DS-C9513 | C14: 5.2(8b) | D14: FOX1545GUCC | E14: 72 | F14: 247 | G14: 0.77429467 | H14: 1 | I14: =E14+F14+H14 -> 320 | J14: CORE - RUBY
A15: emdsrdc1-jd-06 | B15: DS-C9513 | C15: 5.2(8b) | D15: FOX1227GSWP | E15: 108 | F15: 76 | G15: 0.41304348 | H15: 0 | I15: =E15+F15+H15 -> 184 | J15: EDGE - JADE
A16: emdsrdc1-rb-06 | B16: DS-C9513 | C16: 5.2(8b) | D16: FOX1228GRAY | E16: 107 | F16: 77 | G16: 0.41847826 | H16: 0 | I16: =E16+F16+H16 -> 184 | J16: EDGE - RUBY
... A38: rmdsrdc4-sl-01 | B38: DS-C9513 | C38: 5.2(2a) | D38: FOX1202H3P2 | E38: 70 | F38: 109 | G38: 0.60893855 | H38: 1 | I38: =E38+F38+H38 -> 180 | J38: SRDF - SILVER
A39: GBKCD01AE16 | B39: =VLOOKUP(A39,Invenotry!B:L,8,FALSE) -> DS-C9148 | C39: =VLOOKUP(A39,Invenotry!B:L,11,FALSE) -> 5.2(8c) | D39: =VLOOKUP(A39,Invenotry!B:L,9,FALSE) -> AMS17100641 | E39: 40 | F39: 8 | G39: 0.16666667 | H39: 0 | I39: =E39+F39+H39 -> 48 | J39: EDGE - RUBY
A40: GBKCD01AE17 | B40: =VLOOKUP(A40,Invenotry!B:L,8,FALSE) -> DS-C9148 | C40: =VLOOKUP(A40,Invenotry!B:L,11,FALSE) -> 5.2(8c) | D40: =VLOOKUP(A40,Invenotry!B:L,9,FALSE) -> AMS17100246 | E40: 47 | F40: 1 | G40: 0.020833333 | H40: 0 | I40: =E40+F40+H40 -> 48 | J40: EDGE - RUBY
A41: GBKCD01AE18 | B41: =VLOOKUP(A41,Invenotry!B:L,8,FALSE) -> DS-C9148 | C41: =VLOOKUP(A41,Invenotry!B:L,11,FALSE) -> 5.2(8c) | D41: =VLOOKUP(A41,Invenotry!B:L,9,FALSE) -> AMS17100422 | E41: 46 | F41: 2 | G41: 0.041666667 | H41: 0 | I41: =E41+F41+H41 -> 48 | J41: EDGE - RUBY
A42: GBKCD01AE19 | B42: =VLOOKUP(A42,Invenotry!B:L,8,FALSE) -> DS-C9148 | C42: =VLOOKUP(A42,Invenotry!B:L,11,FALSE) -> 5.2(8c) | D42: =VLOOKUP(A42,Invenotry!B:L,9,FALSE) -> AMS17080940 | E42: 30 | F42: 18 | G42: 0.375 | H42: 0 | I42: =E42+F42+H42 -> 48 | J42: EDGE - RUBY
A43: GBKCD01AE20 | B43: =VLOOKUP(A43,Invenotry!B:L,8,FALSE) -> DS-C9148 | C43: =VLOOKUP(A43,Invenotry!B:L,11,FALSE) -> 5.2(8d) | D43: =VLOOKUP(A43,Invenotry!B:L,9,FALSE) -> AMS17500063 | E43: 4 | F43: 44 | G43: 0.91666667 | H43: 0 | I43: =E43+F43+H43 -> 48 | J43: EDGE - RUBY
A44: GBKCD01AE21 | B44: =VLOOKUP(A44,Invenotry!B:L,8,FALSE) -> DS-C9148 | C44: =VLOOKUP(A44,Invenotry!B:L,11,FALSE) -> 5.2(8d) | D44: =VLOOKUP(A44,Invenotry!B:L,9,FALSE) -> AMS17500050 | E44: 4 | F44: 44 | G44: 0.91666667 | H44: 0 | I44: =E44+F44+H44 -> 48 | J44: EDGE - RUBY
A45: GBKCD01BE16 | B45: =VLOOKUP(A45,Invenotry!B:L,8,FALSE) -> DS-C9148 | C45: =VLOOKUP(A45,Invenotry!B:L,11,FALSE) -> 5.2(8c) | D45: =VLOOKUP(A45,Invenotry!B:L,9,FALSE) -> AMS17080867 | E45: 40 | F45: 8 | G45: 0.16666667 | H45: 0 | I45: =E45+F45+H45 -> 48 | J45: EDGE - JADE
A46: GBKCD01BE17 | B46: =VLOOKUP(A46,Invenotry!B:L,8,FALSE) -> DS-C9148 | C46: =VLOOKUP(A46,Invenotry!B:L,11,FALSE) -> 5.2(8c) | D46: =VLOOKUP(A46,Invenotry!B:L,9,FALSE) -> AMS17100429 | E46: 47 | F46: 1 | G46: 0.020833333 | H46: 0 | I46: =E46+F46+H46 -> 48 | J46: EDGE - JADE
A47: GBKCD01BE18 | B47: =VLOOKUP(A47,Invenotry!B:L,8,FALSE) -> DS-C9148 | C47: =VLOOKUP(A47,Invenotry!B:L,11,FALSE) -> 5.2(8c) | D47: =VLOOKUP(A47,Invenotry!B:L,9,FALSE) -> AMS17080809 | E47: 45 | F47: 3 | G47: 0.0625 | H47: 0 | I47: =E47+F47+H47 -> 48 | J47: EDGE - JADE
A48: GBKCD01BE19 | B48: =VLOOKUP(A48,Invenotry!B:L,8,FALSE) -> DS-C9148 | C48: =VLOOKUP(A48,Invenotry!B:L,11,FALSE) -> 5.2(8c) | D48: =VLOOKUP(A48,Invenotry!B:L,9,FALSE) -> AMS17100432 | E48: 31 | F48: 17 | G48: 0.35416667 | H48: 0 | I48: =E48+F48+H48 -> 48 | J48: EDGE - JADE
A49: GBKCD01BE20 | B49: =VLOOKUP(A49,Invenotry!B:L,8,FALSE) -> DS-C9148 | C49: =VLOOKUP(A49,Invenotry!B:L,11,FALSE) -> 5.2(8d) | D49: =VLOOKUP(A49,Invenotry!B:L,9,FALSE) -> AMS17460577 | E49: 4 | F49: 44 | G49: 0.91666667 | H49: 0 | I49: =E49+F49+H49 -> 48 | J49: EDGE - JADE
A50: GBKCD01BE21 | B50: =VLOOKUP(A50,Invenotry!B:L,8,FALSE) -> DS-C9148 | C50: =VLOOKUP(A50,Invenotry!B:L,11,FALSE) -> 5.2(8d) | D50: =VLOOKUP(A50,Invenotry!B:L,9,FALSE) -> AMS17510172 | E50: 4 | F50: 44 | G50: 0.91666667 | H50: 0 | I50: =E50+F50+H50 -> 48 | J50: EDGE - JADE
A51: Brocade | E51: Capacity
A52: Switch Name | B52: Frame Model | C52: Code Level | D52: Serial Number | E52: Used Ports | F52: Free Ports | G52: Percent Free | H52: Not Installed | I52: Switch Capacity | J52: Comments
A53: SW01R_CORE_RED_RDC1 | B53: ED-140M | C53: 09.09.07 | D53: MC5IN03437 | J53: CORE - RED
A54: SW02R_CORE_BLUE_RDC1 | B54: ED-140M | C54: 09.09.07 | D54: MC5IN03434 | J54: CORE - BLUE
A55: SW03R_EDGE_RED_RDC1 | B55: ED-140M | C55: 09.09.07 | D55: MC5IN03438 | J55: EDGE - RED
A56: SW04R_EDGE_BLUE_RDC1 | B56: ED-140M | C56: 09.09.07 | D56: MC5IN03435 | J56: EDGE - BLUE
A57: SW05R_EDGE_RED_RDC1 | B57: ED-140M | C57: 09.09.07 | D57: MC5IN03439 | J57: EDGE - RED
A58: SW06R_EDGE_BLUE_RDC1 | B58: ED-140M | C58: 09.09.07 | D58: MC5IN03436 | J58: EDGE - BLUE
A59: SW13R_EDGE_RED_RDC1 | B59: ED-140M | C59: 09.09.07
A60: SW14R_EDGE_BLUE_RDC1 | B60: ED-140M | C60: 09.09.07
A61: SW15R_CORE_RED_RDC4 | B61: ED-140M | C61: 09.09.07 | D61: MC5IN02561 | J61: CORE - RED
A62: SW16R_CORE_BLUE_RDC4 | B62: ED-140M | C62: 09.09.07 | D62: MC5IN02566 | J62: CORE - BLUE
A63: SW19R_EDGE_RED_RDC1 | B63: ED-140M | C63: 09.09.07
A64: SW1_TL_RDC3 | B64: ED-64M | C64: 09.00.00
A65: SW20R_EDGE_BLUE_RDC1 | B65: ED-140M | C65: 09.09.07
A66: SW22R_EDGE_BLUE_RDC3 | B66: ED-64M | C66: 09.00.00
A67: SW23R_EDGE_RED_RDC4 | B67: ED-140M | C67: 09.09.07 | D67: MC5IN04319 | J67: EDGE - RED
A68: SW24R_EDGE_BLUE_RDC4 | B68: ED-140M | C68: 09.09.07 | D68: MC5IN04320 | J68: EDGE - BLUE
A69: SW25R_CORE_RED_RDC4 | B69: ED-140M | C69: 09.09.07 | D69: MC5IN04503 | J69: CORE - RED
A70: SW26R_CORE_BLUE_RDC4 | B70: ED-140M | C70: 09.09.07 | D70: MC5IN04504 | J70: CORE - BLUE
A71: SW27R_EDGE_RED_RDC3 | B71: ED-140M | C71: 09.09.07 | D71: MC5I05965N | J71: EDGE - RED
A72: SW28R_EDGE_BLUE_RDC3 | B72: ED-140M | C72: 09.09.07 | D72: MC5I05888N | J72: EDGE - BLUE
A73: SW29R_EDGE_RED_RDC3 | B73: ED-140M | C73: 09.09.07 | D73: MC5I05881N | J73: EDGE - RED
A74: SW30R_EDGE_BLUE_RDC3 | B74: ED-140M | C74: 09.09.07 | D74: MC5I05884N | J74: EDGE - BLUE
A75: SW31R_EDGE_RED_RDC4 | B75: ED-140M | C75: 09.09.07 | D75: MC5I05883N | J75: EDGE - RED
A76: SW32R_EDGE_BLUE_RDC4 | B76: ED-140M | C76: 09.09.07 | D76: MC5I05871N | J76: EDGE - BLUE
A77: SW92R_SRDF_BLACK_RDC1 | B77: ED-64M | C77: 09.00.00
A78: SW94R_SRDF_BLACK_RDC4 | B78: ED-64M | C78: 09.09.07
A79: London - Citigroup Centre (CGC)
A80: Cisco | E80: Capacity
A81: Switch Name | B81: Frame Model | C81: Code Level | D81: Serial Number | E81: Used Ports | F81: Free Ports | G81: Percent Free | H81: Not Installed | I81: Switch Capacity | J81: Comments
A82: cmdscgc1-ct-01 | B82: DS-C9513 | C82: 5.2(8b) | D82: FOX1205GAHN | E82: 16 | F82: 32 | G82: 0.66666667 | H82: 0 | I82: =E82+F82+H82 -> 48 | J82: CORE - CAT
A83: cmdscgc1-dg-01 | B83: DS-C9513 | C83: 5.2(8b) | D83: FOX1202H3PG | E83: 16 | F83: 32 | G83: 0.66666667 | H83: 0 | I83: =E83+F83+H83 -> 48 | J83: CORE - DOG
A84: cmdscgc1-jd-01 | B84: DS-C9513 | C84: 5.2(8b) | D84: FOX1330G5AC | E84: 91 | F84: 113 | G84: 0.55392157 | H84: 0 | I84: =E84+F84+H84 -> 204 | J84: CORE - JADE
A85: cmdscgc1-rb-01 | B85: DS-C9513 | C85: 5.2(8b) | D85: FOX1329GR3T | E85: 91 | F85: 113 | G85: 0.55392157 | H85: 0 | I85: =E85+F85+H85 -> 204 | J85: CORE - RUBY
A86: emdscgc1-jd-03 | B86: DS-C9513 | C86: 5.2(8b) | D86: FOX1331GYC3 | E86: 151 | F86: 41 | G86: 0.21354167 | H86: 0 | I86: =E86+F86+H86 -> 192 | J86: EDGE - JADE
A87: emdscgc1-jd-04 | B87: DS-C9513 | C87: 5.2(8b) | D87: FOX1323G9E1 | E87: 32 | F87: 160 | G87: 0.83333333 | H87: 0 | I87: =E87+F87+H87 -> 192 | J87: EDGE - JADE
A88: emdscgc1-jd-05 | B88: DS-C9513 | C88: 5.2(8b) | D88: FOX1329GR3G | E88: 31 | F88: 233 | G88: 0.88257576 | H88: 0 | I88: =E88+F88+H88 -> 264 | J88: EDGE - JADE
A89: emdscgc1-rb-03 | B89: DS-C9513 | C89: 5.2(8b) | D89: FOX1323G9EW | E89: 152 | F89: 40 | G89: 0.20833333 | H89: 0 | I89: =E89+F89+H89 -> 192 | J89: EDGE - RUBY
A90: emdscgc1-rb-04 | B90: DS-C9513 | C90: 5.2(8b) | D90: FOX1331GYC8 | E90: 32 | F90: 160 | G90: 0.83333333 | H90: 0 | I90: =E90+F90+H90 -> 192 | J90: EDGE - RUBY
A91: emdscgc1-rb-05 | B91: DS-C9513 | C91: 5.2(8b) | D91: FOX1331GYBH | E91: 31 | F91: 233 | G91: 0.88257576 | H91: 0 | I91: =E91+F91+H91 -> 264 | J91: EDGE - RUBY
A92: rmdscgc1-gl-01 | B92: DS-C9509 | C92: 5.2(2a) | D92: FOX1210GT0F | E92: 10 | F92: 62 | G92: 0.86111111 | H92: 0 | I92: =E92+F92+H92 -> 72 | J92: SRDF - GOLD
A93: rmdscgc1-sl-01 | B93: DS-C9509 | C93: 5.2(2a) | D93: FOX1212GP09 | E93: 10 | F93: 62 | G93: 0.86111111 | H93: 0 | I93: =E93+F93+H93 -> 72 | J93: SRDF - SILVER
A94: Brocade | E94: Capacity
A95: Switch Name | B95: Frame Model | C95: Code Level | D95: Serial Number | E95: Used Ports | F95: Free Ports | G95: Percent Free | H95: Not Installed | I95: Switch Capacity | J95: Comments
A96: SW01C_CORE_RED_CGC1 | B96: ED-140M | C96: 09.09.07 | D96: MC5IN02563 | J96: CORE - RED
A97: SW02C_CORE_BLUE_CGC1 | B97: ED-140M | C97: 09.09.07 | D97: MC5IN02565 | J97: CORE - BLUE
A98: SW25C_EDGE_RED_CGC2 | B98: ED-140M | C98: 09.09.07 | D98: MC5IN01485 | J98: EDGE - RED
A99: SW26C_EDGE_BLUE_CGC | B99: ED-140M | C99: 09.09.07 | D99: MC5IN01482 | J99: EDGE - BLUE
A100: Germany - Frankfurt Data Centre (FDC)
A101: Cisco | E101: Capacity
A102: Switch Name | B102: Frame Model | C102: Code Level | D102: Serial Number | E102: Used Ports | F102: Free Ports | G102: Percent Free | H102: Not Installed | I102: Switch Capacity | J102: Comments
A103: cmdsfdc1a-jd-01 | B103: DS-C9513 | C103: 5.2(8b) | D103: FOX1205GAK0 | E103: 127 | F103: 17 | G103: 0.13385827 | H103: 0 | I103: =E103+F103+H103 -> 144 | J103: CORE - JADE
A104: cmdsfdc1a-jd-02 | B104: DS-C9513 | C104: 5.2(8b) | D104: FOX1202H3NV | E104: 128 | F104: 16 | G104: 0.125 | H104: 0 | I104: =E104+F104+H104 -> 144 | J104: CORE - JADE
A105: cmdsfdc1a-jd-09 | B105: DS-C9513 | C105: 5.2(8b) | D105: FOX1303GF5Z | E105: 113 | F105: 19 | G105: 0.16814159 | H105: 0 | I105: =E105+F105+H105 -> 132 | J105: CORE - JADE
A106: cmdsfdc1a-jd-12 | B106: DS-C9513 | C106: 5.2(8b) | D106: FOX1524GQF5 | E106: 78 | F106: 66 | G106: 0.84615385 | H106: 0 | I106: =E106+F106+H106 -> 144 | J106: CORE - JADE
A107: cmdsfdc1a-rb-01 | B107: DS-C9513 | C107: 5.2(8b) | D107: FOX1205H322 | E107: 127 | F107: 16 | G107: 0.12598425 | H107: 1 | I107: =E107+F107+H107 -> 144 | J107: CORE - RUBY
A108: cmdsfdc1a-rb-02 | B108: DS-C9513 | C108: 5.2(8b) | D108: FOX1150H51Y | E108: 128 | F108: 16 | G108: 0.125 | H108: 0 | I108: =E108+F108+H108 -> 144 | J108: CORE - RUBY
A109: cmdsfdc1a-rb-09 | B109: DS-C9513 | C109: 5.2(8b) | D109: FOX1249GKZD | E109: 112 | F109: 20 | G109: 0.17857143 | H109: 0 | I109: =E109+F109+H109 -> 132 | J109: CORE - RUBY
A110: cmdsfdc1a-rb-12 | B110: DS-C9513 | C110: 5.2(8b) | D110: FOX1523GLMS | E110: 78 | F110: 66 | G110: 0.84615385 | H110: 0 | I110: =E110+F110+H110 -> 144 | J110: CORE - RUBY
A111: cmdsfdc1b-ct-01 | B111: DS-C9513 | C111: 5.2(8b) | D111: FOX1202H3N1 | E111: 103 | F111: 17 | G111: 0.16504854 | H111: 0 | I111: =E111+F111+H111 -> 120 | J111: CORE - CAT
A112: cmdsfdc1b-dg-01 | B112: DS-C9513 | C112: 5.2(8b) | D112: FOX1123078E | E112: 102 | F112: 18 | G112: 0.17647059 | H112: 0 | I112: =E112+F112+H112 -> 120 | J112: CORE - DOG
A113: cmdsfdc1b-jd-15 | B113: DS-C9513 | C113: 5.2(8b) | D113: FOX1549G4GB | E113: 199 | F113: 153 | G113: 0.76884422 | H113: 0 | I113: =E113+F113+H113 -> 352 | J113: CORE - JADE
A114: cmdsfdc1b-rb-15 | B114: DS-C9513 | C114: 5.2(8b) | D114: FOX1543GCE5 | E114: 200 | F114: 152 | G114: 0.76 | H114: 0 | I114: =E114+F114+H114 -> 352 | J114: CORE - RUBY
A115: delcd01ae16 | B115: DS-C9513 | C115: 5.2(8b) | D115: FOX1643S004 | E115: 85 | F115: 171 | G115: 2.0117647 | H115: 0 | I115: =E115+F115+H115 -> 256
A116: delcd01be16 | B116: DS-C9513 | C116: 5.2(8b) | D116: FOX1639S32M | E116: 85 | F116: 171 | G116: 2.0117647 | H116: 0 | I116: =E116+F116+H116 -> 256
A117: emdsfdc1a-jd-03 | B117: DS-C9513 | C117: 5.2(8b) | D117: FOX1205GAJH | E117: 147 | F117: 93 | G117: 0.63265306 | H117: 0 | I117: =E117+F117+H117 -> 240 | J117: EDGE - JADE
A118: emdsfdc1a-jd-04 | B118: DS-C9513 | C118: 5.2(8b) | D118: FOX1205GAJT | E118: 183 | F118: 81 | G118: 0.44262295 | H118: 0 | I118: =E118+F118+H118 -> 264 | J118: EDGE - JADE
A119: emdsfdc1a-jd-06 | B119: DS-C9513 | C119: 5.2(8b) | D119: FOX1205GAGY | E119: 102 | F119: 66 | G119: 0.64705882 | H119: 0 | I119: =E119+F119+H119 -> 168 | J119: EDGE - JADE
A120: emdsfdc1a-jd-07 | B120: DS-C9513 | C120: 5.2(8b) | D120: FOX1203H6FM | E120: 106 | F120: 86 | G120: 0.81132075 | H120: 0 | I120: =E120+F120+H120 -> 192 | J120: EDGE - JADE
A121: emdsfdc1a-jd-08 | B121: DS-C9513 | C121: 5.2(8b) | D121: FOX1205GAJZ | E121: 158 | F121: 82 | G121: 0.51898734 | H121: 0 | I121: =E121+F121+H121 -> 240 | J121: EDGE - JADE
...

Sheet Details
C1: sh int brief | include swl | wc | E1: sh int brief | include swl | include up |wc | F1: sh int brief | include swl | include down |wc | G1: sh int brief | include swl | include trunk |wc | H1: sh int brief | include swl | include notConn |wc | I1: errDisable | K1: channelDown | M1: sfpAbsent | O1: isolated | Q1: offline | S1: init | U1: inactive
A2: SWITCH | B2: LOCATION | C2: SWL | D2: check | E2: up | F2: down | G2: trunk | H2: notConnected | I2: errDisable | K2: channelDown | M2: sfpAbsent | O2: isolated
A3: cmdsrdc4_rb_01 | B3: =MID(A3,5,3) -> rdc | C3: 132 | D3: =SUM(E3:W3) -> 132 | E3: 69 | F3: 3 | G3: 42 | H3: 18
A4: cmdsrdc4_rb_02 | B4: =MID(A4,5,3) -> rdc | C4: 132 | D4: =SUM(E4:W4) -> 132 | E4: 73 | F4: 1 | G4: 42 | H4: 16
A5: emdsrdc4_rb_03 | B5: =MID(A5,5,3) -> rdc | C5: 240 | D5: =SUM(E5:W5) -> 240 | E5: 94 | F5: 1 | G5: 17 | H5: 128
A6: emdsrdc3_rb_04 | B6: =MID(A6,5,3) -> rdc | C6: 336 | D6: =SUM(E6:W6) -> 336 | E6: 180 | F6: 2 | G6: 14 | H6: 139 | I6: 1 | J6: fc9/7
A7: emdsrdc4_rb_05 | B7: =MID(A7,5,3) -> rdc | C7: 216 | D7: =SUM(E7:W7) -> 216 | E7: 121 | F7: 7 | G7: 16 | H7: 72
A8: emdsrdc1_rb_06 | B8: =MID(A8,5,3) -> rdc | C8: 184 | D8: =SUM(E8:W8) -> 184 | E8: 94 | F8: 1 | G8: 13 | H8: 74 | K8: 2 | L8: 6/12, 9/12
A9: emdsrdc3_rb_07 | B9: =MID(A9,5,3) -> rdc | C9: 240 | D9: =SUM(E9:W9) -> 240 | E9: 124 | F9: 33 | G9: 14 | H9: 66 | I9: 3 | J9: fc3/10, fc3/19, fc9/6
A10: emdsrdc4_rb_08 | B10: =MID(A10,5,3) -> rdc | C10: 264 | D10: =SUM(E10:W10) -> 264 | E10: 231 | F10: 0 | G10: 15 | H10: 18
A11: emdsrdc3_rb_09 | B11: =MID(A11,5,3) -> rdc | C11: 312 | D11: =SUM(E11:W11) -> 312 | E11: 274 | F11: 1 | G11: 13 | H11: 24
A12: emdsrdc3_rb_10 | B12: =MID(A12,5,3) -> rdc | C12: 240 | D12: =SUM(E12:W12) -> 240 | E12: 196 | F12: 0 | G12: 15 | H12: 29
A13: cmdsrdc4_rb_11 | B13: =MID(A13,5,3) -> rdc | C13: 304 | D13: =SUM(E13:W13) -> 304 | E13: 170 | F13: 68 | G13: 60 | H13: 4 | I13: 2 | J13: fc12/15 fc13/15
A14: emdsrdc3_rb_12 | B14: =MID(A14,5,3) -> rdc | C14: 120 | D14: =SUM(E14:W14) -> 120 | E14: 76 | F14: 29 | G14: 15 | H14: 0
A15: emdsrdc3_rb_13 | B15: =MID(A15,5,3) -> rdc | C15: 216 | D15: =SUM(E15:W15) -> 216 | E15: 137 | F15: 69 | G15: 5 | H15: 5
A16: cmdsrdc4_rb_14 | B16: =MID(A16,5,3) -> rdc | C16: 320 | D16: =SUM(E16:W16) -> 320 | E16: 55 | F16: 245 | G16: 17 | H16: 2 | M16: 1 | N16: fc4/10
A17: cmdsrdc4_jd_01 | B17: =MID(A17,5,3) -> rdc | C17: 120 | D17: =SUM(E17:W17) -> 120 | E17: 68 | F17: 1 | G17: 44 | H17: 7
A18: cmdsrdc4_jd_02 | B18: =MID(A18,5,3) -> rdc | C18: 120 | D18: =SUM(E18:W18) -> 120 | E18: 73 | F18: 0 | G18: 43 | H18: 4
A19: emdsrdc4_jd_03 | B19: =MID(A19,5,3) -> rdc | C19: 240 | D19: =SUM(E19:W19) -> 240 | E19: 95 | F19: 0 | G19: 17 | H19: 128
A20: emdsrdc3_jd_04 | B20: =MID(A20,5,3) -> rdc | C20: 336 | D20: =SUM(E20:W20) -> 336 | E20: 181 | F20: 0 | G20: 16 | H20: 139
A21: emdsrdc4_jd_05 | B21: =MID(A21,5,3) -> rdc | C21: 216 | D21: =SUM(E21:W21) -> 216 | E21: 121 | F21: 0 | G21: 17 | H21: 77 | I21: 1 | J21: fc3/22
A22: emdsrdc1_jd_06 | B22: =MID(A22,5,3) -> rdc | C22: 184 | D22: =SUM(E22:W22) -> 184 | E22: 94 | F22: 0 | G22: 14 | H22: 74 | O22: 2
A23: emdsrdc3_jd_07 | B23: =MID(A23,5,3) -> rdc | C23: 240 | D23: =SUM(E23:W23) -> 240 | E23: 124 | F23: 33 | G23: 14 | H23: 68 | I23: 1 | J23: fc3/11
A24: emdsrdc4_jd_08 | B24: =MID(A24,5,3) -> rdc | C24: 264 | D24: =SUM(E24:W24) -> 264 | E24: 229 | F24: 0 | G24: 15 | H24: 19 | I24: 1 | J24: fc11/20
A25: emdsrdc3_jd_09 | B25: =MID(A25,5,3) -> rdc | C25: 312 | D25: =SUM(E25:W25) -> 312 | E25: 273 | F25: 0 | G25: 14 | H25: 24 | I25: 1 | J25: fc13/46
A26: emdsrdc3_jd_10 | B26: =MID(A26,5,3) -> rdc | C26: 240 | D26: =SUM(E26:W26) -> 240 | E26: 195 | F26: 0 | G26: 15 | H26: 30
A27: cmdsrdc4_jd_11 | B27: =MID(A27,5,3) -> rdc | C27: 304 | D27: =SUM(E27:W27) -> 304 | E27: 171 | F27: 67 | G27: 66 | H27: 0
A28: emdsrdc3_jd_12 | B28: =MID(A28,5,3) -> rdc | C28: 120 | D28: =SUM(E28:W28) -> 120 | E28: 76 | F28: 29 | G28: 15 | H28: 0
A29: emdsrdc3_jd_13 | B29: =MID(A29,5,3) -> rdc | C29: 216 | D29: =SUM(E29:W29) -> 216 | E29: 137 | F29: 69 | G29: 5 | H29: 5
A30: cmdsrdc4_jd_14 | B30: =MID(A30,5,3) -> rdc | C30: 320 | D30: =SUM(E30:W30) -> 320 | E30: 60 | F30: 241 | G30: 17 | H30: 2
A31: cmdscgc1_rb_01 | B31: =MID(A31,5,3) -> cgc | C31: 204 | D31: =SUM(E31:W31) -> 204 | E31: 76 | F31: 1 | G31: 15 | H31: 98 | K31: 14
A32: emdscgc1_rb_03 | B32: =MID(A32,5,3) -> cgc | C32: 192 | D32: =SUM(E32:W32) -> 192 | E32: 147 | F32: 0 | G32: 5 | H32: 40
A33: emdscgc1_rb_04 | B33: =MID(A33,5,3) -> cgc | C33: 192 | D33: =SUM(E33:W33) -> 192 | E33: 27 | F33: 0 | G33: 5 | H33: 160
A34: emdscgc1_rb_05 | B34: =MID(A34,5,3) -> cgc | C34: 264 | D34: =SUM(E34:W34) -> 264 | E34: 26 | F34: 43 | G34: 5 | H34: 190
A35: cmdscgc1_jd_01 | B35: =MID(A35,5,3) -> cgc | C35: 204 | D35: =SUM(E35:W35) -> 204 | E35: 76 | F35: 0 | G35: 15 | H35: 98 | K35: 15
A36: emdscgc1_jd_03 | B36: =MID(A36,5,3) -> cgc | C36: 192 | D36: =SUM(E36:W36) -> 192 | E36: 146 | F36: 0 | G36: 5 | H36: 41
A37: emdscgc1_jd_04 | B37: =MID(A37,5,3) -> cgc | C37: 192 | D37: =SUM(E37:W37) -> 192 | E37: 27 | F37: 0 | G37: 5 | H37: 160
A38: emdscgc1_jd_05 | B38: =MID(A38,5,3) -> cgc | C38: 264 | D38: =SUM(E38:W38) -> 264 | E38: 26 | F38: 43 | G38: 5 | H38: 190
A39: cmdsfdc1a_rb_01 | B39: =MID(A39,5,3) -> fdc | C39: 143 | D39: =SUM(E39:W39) -> 144 | E39: 82 | F39: 0 | G39: 45 | H39: 16 | M39: 1 | N39: fc13/10
A40: cmdsfdc1a_rb_02 | B40: =MID(A40,5,3) -> fdc | C40: 144 | D40: =SUM(E40:W40) -> 144 | E40: 83 | F40: 0 | G40: 45 | H40: 16
A41: emdsfdc1a_rb_03 | B41: =MID(A41,5,3) -> fdc | C41: 240 | D41: =SUM(E41:W41) -> 240 | E41: 125 | F41: 0 | G41: 22 | H41: 93
A42: emdsfdc1a_rb_04 | B42: =MID(A42,5,3) -> fdc | C42: 264 | D42: =SUM(E42:W42) -> 264 | E42: 161 | F42: 0 | G42: 22 | H42: 81
A43: emdsfdc1b_rb_05 | B43: =MID(A43,5,3) -> fdc | C43: 192 | D43: =SUM(E43:W43) -> 192 | E43: 130 | F43: 0 | G43: 27 | H43: 33 | I43: 1 | J43: fc10/30 | M43: 1 | N43: fc11/11
A44: emdsfdc1a_rb_06 | B44: =MID(A44,5,3) -> fdc | C44: 168 | D44: =SUM(E44:W44) -> 168 | E44: 80 | F44: 0 | G44: 22 | H44: 66
A45: emdsfdc1a_rb_07 | B45: =MID(A45,5,3) -> fdc | C45: 192 | D45: =SUM(E45:W45) -> 192 | E45: 84 | F45: 0 | G45: 22 | H45: 86
A46: emdsfdc1a_rb_08 | B46: =MID(A46,5,3) -> fdc | C46: 240 | D46: =SUM(E46:W46) -> 240 | E46: 138 | F46: 0 | G46: 19 | H46: 83
A47: cmdsfdc1a_rb_09 | B47: =MID(A47,5,3) -> fdc | C47: 132 | D47: =SUM(E47:W47) -> 132 | E47: 63 | F47: 0 | G47: 49 | H47: 20
A48: emdsfdc1b_rb_10 | B48: =MID(A48,5,3) -> fdc | C48: 240 | D48: =SUM(E48:W48) -> 240 | E48: 196 | F48: 0 | G48: 22 | H48: 20 | Q48: 2 | R48: fc6/12 fc9/12
A49: emdsfdc1a_rb_11 | B49: =MID(A49,5,3) -> fdc | C49: 336 | D49: =SUM(E49:W49) -> 336 | E49: 212 | F49: 0 | G49: 25 | H49: 99
A50: cmdsfdc1a_rb_12 | B50: =MID(A50,5,3) -> fdc | C50: 144 | D50: =SUM(E50:W50) -> 144 | E50: 53 | F50: 66 | G50: 25 | H50: 0
A51: emdsfdc1a_rb_13 | B51: =MID(A51,5,3) -> fdc | C51: 280 | D51: =SUM(E51:W51) -> 280 | E51: 207 | F51: 3 | G51: 25 | H51: 45
A52: emdsfdc1b_rb_14 | B52: =MID(A52,5,3) -> fdc | C52: 312 | D52: =SUM(E52:W52) -> 312 | E52: 210 | F52: 86 | G52: 15 | H52: 1
A53: cmdsfdc1b_rb_15 | B53: =MID(A53,5,3) -> fdc | C53: 352 | D53: =SUM(E53:W53) -> 352 | E53: 148 | F53: 147 | G53: 52 | H53: 5
A54: cmdsfdc1a_jd_01 | B54: =MID(A54,5,3) -> fdc | C54: 144 | D54: =SUM(E54:W54) -> 144 | E54: 82 | F54: 0 | G54: 45 | H54: 17
A55: cmdsfdc1a_jd_02 | B55: =MID(A55,5,3) -> fdc | C55: 144 | D55: =SUM(E55:W55) -> 144 | E55: 83 | F55: 0 | G55: 45 | H55: 16
A56: emdsfdc1a_jd_03 | B56: =MID(A56,5,3) -> fdc | C56: 240 | D56: =SUM(E56:W56) -> 240 | E56: 125 | F56: 0 | G56: 22 | H56: 93
A57: emdsfdc1a_jd_04 | B57: =MID(A57,5,3) -> fdc | C57: 264 | D57: =SUM(E57:W57) -> 264 | E57: 161 | F57: 0 | G57: 22 | H57: 81
A58: emdsfdc1b_jd_05 | B58: =MID(A58,5,3) -> fdc | C58: 192 | D58: =SUM(E58:W58) -> 192 | E58: 131 | F58: 0 | G58: 27 | H58: 34
A59: emdsfdc1a_jd_06 | B59: =MID(A59,5,3) -> fdc | C59: 168 | D59: =SUM(E59:W59) -> 168 | E59: 80 | F59: 0 | G59: 22 | H59: 66
A60: emdsfdc1a_jd_07 | B60: =MID(A60,5,3) -> fdc | C60: 192 | D60: =SUM(E60:W60) -> 192 | E60: 84 | F60: 0 | G60: 22 | H60: 86
... A62: cmdsfdc1a_jd_09 | B62: =MID(A62,5,3) -> fdc | C62: 132 | D62: =SUM(E62:W62) -> 132 | E62: 63 | F62: 0 | G62: 50 | H62: 19
A63: emdsfdc1b_jd_10 | B63: =MID(A63,5,3) -> fdc | C63: 240 | D63: =SUM(E63:W63) -> 240 | E63: 196 | F63: 0 | G63: 22 | H63: 20 | Q63: 2 | R63: fc6/12 fc9/12
A64: emdsfdc1a_jd_11 | B64: =MID(A64,5,3) -> fdc | C64: 336 | D64: =SUM(E64:W64) -> 336 | E64: 212 | F64: 0 | G64: 25 | H64: 99
A65: cmdsfdc1a_jd_12 | B65: =MID(A65,5,3) -> fdc | C65: 144 | D65: =SUM(E65:W65) -> 144 | E65: 53 | F65: 66 | G65: 25 | H65: 0
A66: emdsfdc1a_jd_13 | B66: =MID(A66,5,3) -> fdc | C66: 280 | D66: =SUM(E66:W66) -> 280 | E66: 207 | F66: 7 | G66: 25 | H66: 40 | M66: 1 | N66: fc9/20
A67: emdsfdc1b_jd_14 | B67: =MID(A67,5,3) -> fdc | C67: 312 | D67: =SUM(E67:W67) -> 312 | E67: 211 | F67: 86 | G67: 15 | H67: 0
A68: cmdsfdc1b_jd_15 | B68: =MID(A68,5,3) -> fdc | C68: 352 | D68: =SUM(E68:W68) -> 352 | E68: 147 | F68: 147 | G68: 52 | H68: 6
A69: cmdsrdc3_ct_01 | B69: =MID(A69,5,3) -> rdc | C69: 132 | D69: =SUM(E69:W69) -> 132 | E69: 101 | F69: 0 | G69: 12 | H69: 19
A70: cmdsrdc3_dg_01 | B70: =MID(A70,5,3) -> rdc | C70: 132 | D70: =SUM(E70:W70) -> 132 | E70: 102 | F70: 0 | G70: 12 | H70: 16 | O70: 2 | P70: fc9/2 fc10/2
A71: cmdscgc1_ct_01 | B71: =MID(A71,5,3) -> cgc | C71: 48 | D71: =SUM(E71:W71) -> 48 | E71: 10 | F71: 0 | G71: 6 | H71: 32
A72: cmdscgc1_dg_01 | B72: =MID(A72,5,3) -> cgc | C72: 48 | D72: =SUM(E72:W72) -> 48 | E72: 10 | F72: 0 | G72: 6 | H72: 32
A73: cmdsfdc1b_ct_01 | B73: =MID(A73,5,3) -> fdc | C73: 120 | D73: =SUM(E73:W73) -> 120 | E73: 85 | F73: 0 | G73: 16 | H73: 17 | S73: 2 | T73: fc3/9 fc11/9
A74: cmdswell_ct_01 | B74: welle | C74: 48 | D74: =SUM(E74:W74) -> 48 | E74: 12 | F74: 0 | G74: 6 | H74: 30
A75: cmdsfdc1b_dg_01 | B75: =MID(A75,5,3) -> fdc | C75: 120 | D75: =SUM(E75:W75) -> 120 | E75: 84 | F75: 0 | G75: 16 | H75: 18 | S75: 2 | T75: fc3/9 fc11/9
A76: cmdswell_dg_01 | B76: welle | C76: 48 | D76: =SUM(E76:W76) -> 48 | E76: 11 | F76: 0 | G76: 6 | H76: 31
A77: rmdsrdc4_sl_01 | B77: =MID(A77,5,3) -> rdc | C77: 180 | D77: =SUM(E77:W77) -> 180 | E77: 68 | F77: 34 | G77: 2 | H77: 73 | M77: 1 | N77: fc13/1 | U77: 2 | V77: fc3/3 fc12/3
A78: rmdscgc1_sl_01 | B78: =MID(A78,5,3) -> cgc | C78: 72 | D78: =SUM(E78:W78) -> 72 | E78: 8 | F78: 0 | G78: 2 | H78: 62
A79: rmdsfdc1a_sl_01 | B79: =MID(A79,5,3) -> fdc | C79: 180 | D79: =SUM(E79:W79) -> 180 | E79: 61 | F79: 1 | G79: 0 | H79: 118
A80: rmdswell_sl_01 | B80: welle | C80: 54 | D80: =SUM(E80:W80) -> 54 | E80: 16 | F80: 31 | G80: 0 | H80: 4 | U80: 3 | V80: fc4/17 fc4/18 fc7/17
A81: rmdsrdc4_gl_01 | B81: rdc | C81: 180 | D81: =SUM(E81:W81) -> 180 | E81: 71 | F81: 35 | G81: 2 | H81: 72
A82: rmdscgc1_gl_01 | B82: cgc | C82: 72 | D82: =SUM(E82:W82) -> 72 | E82: 8 | F82: 0 | G82: 2 | H82: 62
A83: rmdsfdc1a_gl_01 | B83: =MID(A83,5,4) -> fdc1 | C83: 180 | D83: =SUM(E83:W83) -> 180 | E83: 60 | F83: 1 | G83: 0 | H83: 119
A84: rmdswell_gl_01 | B84: welle | C84: 54 | D84: =SUM(E84:W84) -> 54 | E84: 16 | F84: 31 | G84: 0 | H84: 6 | U84: 1 | V84: fc7/17
A85: SW02R_CORE_BLUE_RDC1 | B85: Decomm | D85: =SUM(E85:W85) -> 0
A86: SW04R_EDGE_BLUE_RDC1 | B86: Decomm | D86: =SUM(E86:W86) -> 0
A87: SW06R_EDGE_BLUE_RDC1 | B87: Decomm | D87: =SUM(E87:W87) -> 0
A88: SW16R_CORE_BLUE_RDC4 | B88: Decomm | D88: =SUM(E88:W88) -> 0
A89: SW24R_EDGE_BLUE_RDC4 | B89: Decomm | D89: =SUM(E89:W89) -> 0
A90: SW26R_CORE_BLUE_RDC4 | B90: Decomm | D90: =SUM(E90:W90) -> 0
A91: SW28R_EDGE_BLUE_RDC3 | B91: Decomm | D91: =SUM(E91:W91) -> 0
A92: SW30R_EDGE_BLUE_RDC3 | B92: Decomm | D92: =SUM(E92:W92) -> 0
A93: SW32R_EDGE_BLUE_RDC4 | B93: Decomm | D93: =SUM(E93:W93) -> 0
A94: SW01R_CORE_RED_RDC1 | B94: Decomm | D94: =SUM(E94:W94) -> 0
A95: SW03R_EDGE_RED_RDC1 | B95: Decomm | D95: =SUM(E95:W95) -> 0
A96: SW05R_EDGE_RED_RDC1 | B96: Decomm | D96: =SUM(E96:W96) -> 0
... A106: SW25C_EDGE_RED_CGC2 | B106: Decomm | D106: =SUM(E106:W106) -> 0
A107: GBKCD01AE15 | B107: RDC | C107: 256 | D107: =SUM(E107:W107) -> 256 | E107: 80 | F107: 166 | G107: 10 | H107: 0
A108: GBKCD01AE16 | B108: RDC | C108: 48 | D108: =SUM(E108:W108) -> 48 | E108: 36 | F108: 4 | G108: 4 | H108: 4
A109: GBKCD01AE17 | B109: RDC | C109: 48 | D109: =SUM(E109:W109) -> 48 | E109: 43 | F109: 0 | G109: 4 | H109: 1
A110: GBKCD01AE18 | B110: RDC | C110: 48 | D110: =SUM(E110:W110) -> 48 | E110: 42 | F110: 0 | G110: 4 | H110: 2
...

Sheet Data
A1: SWITCH | B1: Used | C1: Non used | D1: Non installed | E1: Total
A2: cmdsrdc4_rb_01 | B2: =Details!E3+Details!G3+Details!I3+Details!S3 -> 111 | C2: =Details!F3+Details!H3+Details!K3+Details!O3+Details!Q3+Details!U3 -> 21 | D2: =Details!M3 -> 0 | E2: =B2+C2+D2 -> 132 | G2: =VLOOKUP(A2,EMEA!L:M,1,FALSE) -> #N/A
A3: cmdsrdc4_rb_02 | B3: =Details!E4+Details!G4+Details!I4+Details!S4 -> 115 | C3: =Details!F4+Details!H4+Details!K4+Details!O4+Details!Q4+Details!U4 -> 17 | D3: =Details!M4 -> 0 | E3: =B3+C3+D3 -> 132 | G3: =VLOOKUP(A3,EMEA!L:M,1,FALSE) -> #N/A
A4: emdsrdc4_rb_03 | B4: =Details!E5+Details!G5+Details!I5+Details!S5 -> 111 | C4: =Details!F5+Details!H5+Details!K5+Details!O5+Details!Q5+Details!U5 -> 129 | D4: =Details!M5 -> 0 | E4: =B4+C4+D4 -> 240 | G4: =VLOOKUP(A4,EMEA!L:M,1,FALSE) -> #N/A
A5: emdsrdc3_rb_04 | B5: =Details!E6+Details!G6+Details!I6+Details!S6 -> 195 | C5: =Details!F6+Details!H6+Details!K6+Details!O6+Details!Q6+Details!U6 -> 141 | D5: =Details!M6 -> 0 | E5: =B5+C5+D5 -> 336 | G5: =VLOOKUP(A5,EMEA!L:M,1,FALSE) -> #N/A
A6: emdsrdc4_rb_05 | B6: =Details!E7+Details!G7+Details!I7+Details!S7 -> 137 | C6: =Details!F7+Details!H7+Details!K7+Details!O7+Details!Q7+Details!U7 -> 79 | D6: =Details!M7 -> 0 | E6: =B6+C6+D6 -> 216 | G6: =VLOOKUP(A6,EMEA!L:M,1,FALSE) -> #N/A
A7: emdsrdc1_rb_06 | B7: =Details!E8+Details!G8+Details!I8+Details!S8 -> 107 | C7: =Details!F8+Details!H8+Details!K8+Details!O8+Details!Q8+Details!U8 -> 77 | D7: =Details!M8 -> 0 | E7: =B7+C7+D7 -> 184 | G7: =VLOOKUP(A7,EMEA!L:M,1,FALSE) -> #N/A
A8: emdsrdc3_rb_07 | B8: =Details!E9+Details!G9+Details!I9+Details!S9 -> 141 | C8: =Details!F9+Details!H9+Details!K9+Details!O9+Details!Q9+Details!U9 -> 99 | D8: =Details!M9 -> 0 | E8: =B8+C8+D8 -> 240 | G8: =VLOOKUP(A8,EMEA!L:M,1,FALSE) -> #N/A
A9: emdsrdc4_rb_08 | B9: =Details!E10+Details!G10+Details!I10+Details!S10 -> 246 | C9: =Details!F10+Details!H10+Details!K10+Details!O10+Details!Q10+Details!U10 -> 18 | D9: =Details!M10 -> 0 | E9: =B9+C9+D9 -> 264 | G9: =VLOOKUP(A9,EMEA!L:M,1,FALSE) -> #N/A
A10: emdsrdc3_rb_09 | B10: =Details!E11+Details!G11+Details!I11+Details!S11 -> 287 | C10: =Details!F11+Details!H11+Details!K11+Details!O11+Details!Q11+Details!U11 -> 25 | D10: =Details!M11 -> 0 | E10: =B10+C10+D10 -> 312 | G10: =VLOOKUP(A10,EMEA!L:M,1,FALSE) -> #N/A
A11: emdsrdc3_rb_10 | B11: =Details!E12+Details!G12+Details!I12+Details!S12 -> 211 | C11: =Details!F12+Details!H12+Details!K12+Details!O12+Details!Q12+Details!U12 -> 29 | D11: =Details!M12 -> 0 | E11: =B11+C11+D11 -> 240 | G11: =VLOOKUP(A11,EMEA!L:M,1,FALSE) -> #N/A
A12: cmdsrdc4_rb_11 | B12: =Details!E13+Details!G13+Details!I13+Details!S13 -> 232 | C12: =Details!F13+Details!H13+Details!K13+Details!O13+Details!Q13+Details!U13 -> 72 | D12: =Details!M13 -> 0 | E12: =B12+C12+D12 -> 304 | G12: =VLOOKUP(A12,EMEA!L:M,1,FALSE) -> #N/A
A13: emdsrdc3_rb_12 | B13: =Details!E14+Details!G14+Details!I14+Details!S14 -> 91 | C13: =Details!F14+Details!H14+Details!K14+Details!O14+Details!Q14+Details!U14 -> 29 | D13: =Details!M14 -> 0 | E13: =B13+C13+D13 -> 120 | G13: =VLOOKUP(A13,EMEA!L:M,1,FALSE) -> #N/A
... A129: cmdsblw_dg_01 | B129: =Details!E130+Details!G130+Details!I130+Details!S130 -> 10 | C129: =Details!F130+Details!H130+Details!K130+Details!O130+Details!Q130+Details!U130 -> 14 | D129: =Details!M130 -> 0 | E129: =B129+C129+D129 -> 24 | G129: =VLOOKUP(A129,EMEA!L:M,1,FALSE) -> #N/A

Sheet Invenotry
A1: Fabric_RDC_Ruby | B1: cmdsrdc4-rb-01 | C1: 10.154.33.80 | D1: RDC4 | E1: CORE | F1: RUBY | G1: CISCO | H1: Cisco 9513 | I1: DS-C9513 | J1: FOX1202H3NR | K1: EMC | L1: 5.2(8b)
A2: Fabric_RDC_Ruby | B2: cmdsrdc4-rb-02 | C2: 10.154.33.81 | D2: RDC4 | E2: CORE | F2: RUBY | G2: CISCO | H2: Cisco 9513 | I2: DS-C9513 | J2: FOX1202H3N8 | K2: EMC | L2: 5.2(8b)
A3: Fabric_RDC_Ruby | B3: emdsrdc4-rb-03 | C3: 10.154.33.82 | D3: RDC4 | E3: EDGE | F3: RUBY | G3: CISCO | H3: Cisco 9513 | I3: DS-C9513 | J3: FOX1205GAH9 | K3: EMC | L3: 5.2(8b)
A4: Fabric_RDC_Ruby | B4: emdsrdc3-rb-04 | C4: 10.154.36.20 | D4: RDC3 | E4: EDGE | F4: RUBY | G4: CISCO | H4: Cisco 9513 | I4: DS-C9513 | J4: FOX1202H3PJ | K4: EMC | L4: 5.2(8b)
A5: Fabric_RDC_Ruby | B5: emdsrdc4-rb-05 | C5: 10.154.33.126 | D5: RDC4 | E5: EDGE | F5: RUBY | G5: CISCO | H5: Cisco 9513 | I5: DS-C9513 | J5: FOX1205GAGZ | K5: EMC | L5: 5.2(8b)
A6: Fabric_RDC_Ruby | B6: emdsrdc1-rb-06 | C6: 10.154.41.6 | D6: RDC1 | E6: EDGE | F6: RUBY | G6: CISCO | H6: Cisco 9513 | I6: DS-C9513 | J6: FOX1228GRAY | K6: EMC | L6: 5.2(8b)
A7: Fabric_RDC_Ruby | B7: emdsrdc3-rb-07 | C7: 10.154.36.44 | D7: RDC3 | E7: EDGE | F7: RUBY | G7: CISCO | H7: Cisco 9513 | I7: DS-C9513 | J7: FOX1228GNK8 | K7: EMC | L7: 5.2(8b)
A8: Fabric_RDC_Ruby | B8: emdsrdc4-rb-08 | C8: 10.154.33.124 | D8: RDC4 | E8: EDGE | F8: RUBY | G8: CISCO | H8: Cisco 9513 | I8: DS-C9513 | J8: FOX1237G51R | K8: HDS | L8: 5.2(8b)
A9: Fabric_RDC_Ruby | B9: emdsrdc3-rb-09 | C9: 169.182.138.13 | D9: RDC3 | E9: EDGE | F9: RUBY | G9: CISCO | H9: Cisco 9513 | I9: DS-C9513 | J9: FOX1307GMZK | K9: HDS | L9: 5.2(8b)
A10: Fabric_RDC_Ruby | B10: emdsrdc3-rb-10 | C10: 10.154.36.49 | D10: RDC3 | E10: EDGE | F10: RUBY | G10: CISCO | H10: Cisco 9513 | I10: DS-C9513 | J10: FOX1449GKXW | K10: EMC | L10: 5.2(8b)
A11: Fabric_RDC_Ruby | B11: cmdsrdc4-rb-11 | C11: 10.154.54.30 | D11: RDC4 | E11: CORE | F11: RUBY | G11: CISCO | H11: Cisco 9513 | I11: DS-C9513 | J11: FOX1523GLLE | K11: EMC | L11: 5.2(8b)
A12: Fabric_RDC_Ruby | B12: emdsrdc3-rb-12 | C12: 10.154.43.58 | D12: RDC3 | E12: EDGE | F12: RUBY | G12: CISCO | H12: Cisco 9513 | I12: DS-C9513 | J12: FOX1536G8MP | K12: EMC | L12: 5.2(8b)
... A98: Fabric_EMEA_Gold | B98: rmdswell-gl-01 | C98: 169.194.216.243 | D98: Welle | E98: SRDF | F98: GOLD | G98: CISCO | H98: Cisco 9513 | I98: DS-C9509 | J98: FOX1241G3Y0 | K98: EMC | L98: 5.2(8c)
A99: RDCBLUEFABRIC | B99: SW02R_CORE_BLUE_RDC1 | C99: 169.186.192.79 | D99: RDC1 | E99: CORE | F99: BLUE | G99: MCDATA | H99: 2GB ED140 | I99: ED-140M | J99: MC5IN03434 | L99: 09.09.07
A100: RDCBLUEFABRIC | B100: SW04R_EDGE_BLUE_RDC1 | C100: 169.186.192.81 | D100: RDC1 | E100: EDGE | F100: BLUE | G100: MCDATA | H100: 2GB ED140 | I100: ED-140M | J100: MC5IN03435 | L100: 09.09.07
A101: RDCBLUEFABRIC | B101: SW06R_EDGE_BLUE_RDC1 | C101: 169.186.192.83 | D101: RDC1 | E101: EDGE | F101: BLUE | G101: MCDATA | H101: 2GB ED140 | I101: ED-140M | J101: MC5IN03436 | L101: 09.09.07
A102: RDCBLUEFABRIC | B102: SW16R_CORE_BLUE_RDC4 | C102: 169.186.192.207 | D102: RDC4 | E102: CORE | F102: BLUE | G102: MCDATA | H102: ED-140M | I102: ED-140M | J102: MC5IN02566 | L102: 09.09.07
A103: RDCBLUEFABRIC | B103: SW24R_EDGE_BLUE_RDC4 | C103: 169.186.192.211 | D103: RDC4 | E103: EDGE | F103: BLUE | G103: MCDATA | H103: ED-140M | I103: ED-140M | J103: MC5IN04320 | L103: 09.09.07
A104: RDCBLUEFABRIC | B104: SW26R_CORE_BLUE_RDC4 | C104: 169.186.192.213 | D104: RDC4 | E104: CORE | F104: BLUE | G104: MCDATA | H104: ED-140M | I104: ED-140M | J104: MC5IN04504 | L104: 09.09.07
A105: RDCBLUEFABRIC | B105: SW28R_EDGE_BLUE_RDC3 | C105: 169.186.198.198 | D105: RDC3 | E105: EDGE | F105: BLUE | G105: MCDATA | H105: ED-140M | I105: ED-140M | J105: MC5I05888N | L105: 09.09.07
A106: RDCBLUEFABRIC | B106: SW30R_EDGE_BLUE_RDC3 | C106: 169.186.198.199 | D106: RDC3 | E106: EDGE | F106: BLUE | G106: MCDATA | H106: ED-140M | I106: ED-140M | J106: MC5I05884N | L106: 09.09.07
A107: RDCBLUEFABRIC | B107: SW32R_EDGE_BLUE_RDC4 | C107: 169.186.192.215 | D107: RDC4 | E107: EDGE | F107: BLUE | G107: MCDATA | H107: ED-140M | I107: ED-140M | J107: MC5I05871N | L107: 09.09.07
A108: RDCREDFABRIC | B108: SW01R_CORE_RED_RDC1 | C108: 169.186.192.15 | D108: RDC1 | E108: CORE | F108: RED | G108: MCDATA | H108: 2GB ED140 | I108: ED-140M | J108: MC5IN03437 | L108: 09.09.07
A109: RDCREDFABRIC | B109: SW03R_EDGE_RED_RDC1 | C109: 169.186.192.17 | D109: RDC1 | E109: EDGE | F109: RED | G109: MCDATA | H109: 2GB ED140 | I109: ED-140M | J109: MC5IN03438 | L109: 09.09.07
A110: RDCREDFABRIC | B110: SW05R_EDGE_RED_RDC1 | C110: 169.186.192.19 | D110: RDC1 | E110: EDGE | F110: RED | G110: MCDATA | H110: 2GB ED140 | I110: ED-140M | J110: MC5IN03439 | L110: 09.09.07
... A120: CGCREDFABRIC | B120: SW25C_EDGE_RED_CGC2 | C120: 169.186.141.198 | D120: CGC2 3rd flr | E120: EDGE | F120: RED | G120: MCDATA | H120: ED-140M | I120: ED-140M | J120: MC5IN01485 | L120: 09.09.07
