Workbook

Sheet EMEA
A1: EMEA - Citigroup Distributed Fibre Switch Inventory for July 2014
A2: London - RIVERDALE DATA CENTER (RDC)
A3: Cisco | E3: Capacity
A4: Switch Name | B4: Frame Model | C4: Code Level | D4: Serial Number | E4: Used Ports | F4: Free Ports | G4: Percent Free | H4: Not Installed | I4: Switch Capacity | J4: Comments
A5: cmdsrdc3-ct-01 | B5: DS-C9513 | C5: 5.2(8b) | D5: FOX1150H4XB | E5: 113 | F5: 19 | G5: 0.14393939 | H5: 0 | I5: =E5+F5+H5 -> 132 | J5: CORE - CAT
A6: cmdsrdc3-dg-01 | B6: DS-C9513 | C6: 5.2(8b) | D6: FOX1152HDFX | E6: 114 | F6: 18 | G6: 0.13636364 | H6: 0 | I6: =E6+F6+H6 -> 132 | J6: CORE - DOG
A7: cmdsrdc4-jd-01 | B7: DS-C9513 | C7: 5.2(8b) | D7: FOX1202H3PN | E7: 112 | F7: 8 | G7: 0.066666667 | H7: 0 | I7: =E7+F7+H7 -> 120 | J7: CORE - JADE
A8: cmdsrdc4-jd-02 | B8: DS-C9513 | C8: 5.2(8b) | D8: FOX1150H529 | E8: 116 | F8: 4 | G8: 0.033333333 | H8: 0 | I8: =E8+F8+H8 -> 120 | J8: CORE - JADE
A9: cmdsrdc4-jd-11 | B9: DS-C9513 | C9: 5.2(8b) | D9: FOX1521H7SD | E9: 237 | F9: 67 | G9: 0.22039474 | H9: 0 | I9: =E9+F9+H9 -> 304 | J9: CORE - JADE
A10: cmdsrdc4-jd-14 | B10: DS-C9513 | C10: 5.2(8b) | D10: FOX1545GUCQ | E10: 77 | F10: 243 | G10: 0.759375 | H10: 0 | I10: =E10+F10+H10 -> 320 | J10: CORE - JADE
A11: cmdsrdc4-rb-01 | B11: DS-C9513 | C11: 5.2(8b) | D11: FOX1202H3NR | E11: 111 | F11: 21 | G11: 0.15909091 | H11: 0 | I11: =E11+F11+H11 -> 132 | J11: CORE - RUBY
A12: cmdsrdc4-rb-02 | B12: DS-C9513 | C12: 5.2(8b) | D12: FOX1202H3N8 | E12: 115 | F12: 17 | G12: 0.12878788 | H12: 0 | I12: =E12+F12+H12 -> 132 | J12: CORE - RUBY
A13: cmdsrdc4-rb-11 | B13: DS-C9513 | C13: 5.2(8b) | D13: FOX1523GLLE | E13: 232 | F13: 72 | G13: 0.23684211 | H13: 0 | I13: =E13+F13+H13 -> 304 | J13: CORE - RUBY
A14: cmdsrdc4-rb-14 | B14: DS-C9513 | C14: 5.2(8b) | D14: FOX1545GUCC | E14: 72 | F14: 247 | G14: 0.77429467 | H14: 1 | I14: =E14+F14+H14 -> 320 | J14: CORE - RUBY
A15: emdsrdc1-jd-06 | B15: DS-C9513 | C15: 5.2(8b) | D15: FOX1227GSWP | E15: 108 | F15: 76 | G15: 0.41304348 | H15: 0 | I15: =E15+F15+H15 -> 184 | J15: EDGE - JADE
A16: emdsrdc1-rb-06 | B16: DS-C9513 | C16: 5.2(8b) | D16: FOX1228GRAY | E16: 107 | F16: 77 | G16: 0.41847826 | H16: 0 | I16: =E16+F16+H16 -> 184 | J16: EDGE - RUBY
... A38: rmdsrdc4-sl-01 | B38: DS-C9513 | C38: 5.2(2a) | D38: FOX1202H3P2 | E38: 70 | F38: 109 | G38: 0.60893855 | H38: 1 | I38: =E38+F38+H38 -> 180 | J38: SRDF - SILVER
A39: GBKCD01AE16 | B39: =VLOOKUP(A39,Invenotry!B:L,8,FALSE) -> DS-C9148 | C39: =VLOOKUP(A39,Invenotry!B:L,11,FALSE) -> 5.2(8c) | D39: =VLOOKUP(A39,Invenotry!B:L,9,FALSE) -> AMS17100641 | E39: 40 | F39: 8 | G39: 0.16666667 | H39: 0 | I39: =E39+F39+H39 -> 48 | J39: EDGE - RUBY
A40: GBKCD01AE17 | B40: =VLOOKUP(A40,Invenotry!B:L,8,FALSE) -> DS-C9148 | C40: =VLOOKUP(A40,Invenotry!B:L,11,FALSE) -> 5.2(8c) | D40: =VLOOKUP(A40,Invenotry!B:L,9,FALSE) -> AMS17100246 | E40: 47 | F40: 1 | G40: 0.020833333 | H40: 0 | I40: =E40+F40+H40 -> 48 | J40: EDGE - RUBY
A41: GBKCD01AE18 | B41: =VLOOKUP(A41,Invenotry!B:L,8,FALSE) -> DS-C9148 | C41: =VLOOKUP(A41,Invenotry!B:L,11,FALSE) -> 5.2(8c) | D41: =VLOOKUP(A41,Invenotry!B:L,9,FALSE) -> AMS17100422 | E41: 46 | F41: 2 | G41: 0.041666667 | H41: 0 | I41: =E41+F41+H41 -> 48 | J41: EDGE - RUBY
A42: GBKCD01AE19 | B42: =VLOOKUP(A42,Invenotry!B:L,8,FALSE) -> DS-C9148 | C42: =VLOOKUP(A42,Invenotry!B:L,11,FALSE) -> 5.2(8c) | D42: =VLOOKUP(A42,Invenotry!B:L,9,FALSE) -> AMS17080940 | E42: 30 | F42: 18 | G42: 0.375 | H42: 0 | I42: =E42+F42+H42 -> 48 | J42: EDGE - RUBY
A43: GBKCD01AE20 | B43: =VLOOKUP(A43,Invenotry!B:L,8,FALSE) -> DS-C9148 | C43: =VLOOKUP(A43,Invenotry!B:L,11,FALSE) -> 5.2(8d) | D43: =VLOOKUP(A43,Invenotry!B:L,9,FALSE) -> AMS17500063 | E43: 4 | F43: 44 | G43: 0.91666667 | H43: 0 | I43: =E43+F43+H43 -> 48 | J43: EDGE - RUBY
A44: GBKCD01AE21 | B44: =VLOOKUP(A44,Invenotry!B:L,8,FALSE) -> DS-C9148 | C44: =VLOOKUP(A44,Invenotry!B:L,11,FALSE) -> 5.2(8d) | D44: =VLOOKUP(A44,Invenotry!B:L,9,FALSE) -> AMS17500050 | E44: 4 | F44: 44 | G44: 0.91666667 | H44: 0 | I44: =E44+F44+H44 -> 48 | J44: EDGE - RUBY
A45: GBKCD01BE16 | B45: =VLOOKUP(A45,Invenotry!B:L,8,FALSE) -> DS-C9148 | C45: =VLOOKUP(A45,Invenotry!B:L,11,FALSE) -> 5.2(8c) | D45: =VLOOKUP(A45,Invenotry!B:L,9,FALSE) -> AMS17080867 | E45: 40 | F45: 8 | G45: 0.16666667 | H45: 0 | I45: =E45+F45+H45 -> 48 | J45: EDGE - JADE
A46: GBKCD01BE17 | B46: =VLOOKUP(A46,Invenotry!B:L,8,FALSE) -> DS-C9148 | C46: =VLOOKUP(A46,Invenotry!B:L,11,FALSE) -> 5.2(8c) | D46: =VLOOKUP(A46,Invenotry!B:L,9,FALSE) -> AMS17100429 | E46: 47 | F46: 1 | G46: 0.020833333 | H46: 0 | I46: =E46+F46+H46 -> 48 | J46: EDGE - JADE
A47: GBKCD01BE18 | B47: =VLOOKUP(A47,Invenotry!B:L,8,FALSE) -> DS-C9148 | C47: =VLOOKUP(A47,Invenotry!B:L,11,FALSE) -> 5.2(8c) | D47: =VLOOKUP(A47,Invenotry!B:L,9,FALSE) -> AMS17080809 | E47: 45 | F47: 3 | G47: 0.0625 | H47: 0 | I47: =E47+F47+H47 -> 48 | J47: EDGE - JADE
A48: GBKCD01BE19 | B48: =VLOOKUP(A48,Invenotry!B:L,8,FALSE) -> DS-C9148 | C48: =VLOOKUP(A48,Invenotry!B:L,11,FALSE) -> 5.2(8c) | D48: =VLOOKUP(A48,Invenotry!B:L,9,FALSE) -> AMS17100432 | E48: 31 | F48: 17 | G48: 0.35416667 | H48: 0 | I48: =E48+F48+H48 -> 48 | J48: EDGE - JADE
A49: GBKCD01BE20 | B49: =VLOOKUP(A49,Invenotry!B:L,8,FALSE) -> DS-C9148 | C49: =VLOOKUP(A49,Invenotry!B:L,11,FALSE) -> 5.2(8d) | D49: =VLOOKUP(A49,Invenotry!B:L,9,FALSE) -> AMS17460577 | E49: 4 | F49: 44 | G49: 0.91666667 | H49: 0 | I49: =E49+F49+H49 -> 48 | J49: EDGE - JADE
A50: GBKCD01BE21 | B50: =VLOOKUP(A50,Invenotry!B:L,8,FALSE) -> DS-C9148 | C50: =VLOOKUP(A50,Invenotry!B:L,11,FALSE) -> 5.2(8d) | D50: =VLOOKUP(A50,Invenotry!B:L,9,FALSE) -> AMS17510172 | E50: 4 | F50: 44 | G50: 0.91666667 | H50: 0 | I50: =E50+F50+H50 -> 48 | J50: EDGE - JADE
A51: Brocade | E51: Capacity
A52: Switch Name | B52: Frame Model | C52: Code Level | D52: Serial Number | E52: Used Ports | F52: Free Ports | G52: Percent Free | H52: Not Installed | I52: Switch Capacity | J52: Comments
A53: SW01R_CORE_RED_RDC1 | B53: ED-140M | C53: 09.09.07 | D53: MC5IN03437 | J53: CORE - RED
A54: SW02R_CORE_BLUE_RDC1 | B54: ED-140M | C54: 09.09.07 | D54: MC5IN03434 | J54: CORE - BLUE
A55: SW03R_EDGE_RED_RDC1 | B55: ED-140M | C55: 09.09.07 | D55: MC5IN03438 | J55: EDGE - RED
A56: SW04R_EDGE_BLUE_RDC1 | B56: ED-140M | C56: 09.09.07 | D56: MC5IN03435 | J56: EDGE - BLUE
A57: SW05R_EDGE_RED_RDC1 | B57: ED-140M | C57: 09.09.07 | D57: MC5IN03439 | J57: EDGE - RED
A58: SW06R_EDGE_BLUE_RDC1 | B58: ED-140M | C58: 09.09.07 | D58: MC5IN03436 | J58: EDGE - BLUE
A59: SW13R_EDGE_RED_RDC1 | B59: ED-140M | C59: 09.09.07
A60: SW14R_EDGE_BLUE_RDC1 | B60: ED-140M | C60: 09.09.07
A61: SW15R_CORE_RED_RDC4 | B61: ED-140M | C61: 09.09.07 | D61: MC5IN02561 | J61: CORE - RED
...

Sheet Details
C1: sh int brief | include swl | wc | E1: sh int brief | include swl | include up |wc | F1: sh int brief | include swl | include down |wc | G1: sh int brief | include swl | include trunk |wc | H1: sh int brief | include swl | include notConn |wc | I1: errDisable | K1: channelDown | M1: sfpAbsent | O1: isolated | Q1: offline | S1: init | U1: inactive
A2: SWITCH | B2: LOCATION | C2: SWL | D2: check | E2: up | F2: down | G2: trunk | H2: notConnected | I2: errDisable | K2: channelDown | M2: sfpAbsent | O2: isolated
A3: cmdsrdc4_rb_01 | B3: =MID(A3,5,3) -> rdc | C3: 132 | D3: =SUM(E3:W3) -> 132 | E3: 69 | F3: 3 | G3: 42 | H3: 18
A4: cmdsrdc4_rb_02 | B4: =MID(A4,5,3) -> rdc | C4: 132 | D4: =SUM(E4:W4) -> 132 | E4: 73 | F4: 1 | G4: 42 | H4: 16
A5: emdsrdc4_rb_03 | B5: =MID(A5,5,3) -> rdc | C5: 240 | D5: =SUM(E5:W5) -> 240 | E5: 94 | F5: 1 | G5: 17 | H5: 128
A6: emdsrdc3_rb_04 | B6: =MID(A6,5,3) -> rdc | C6: 336 | D6: =SUM(E6:W6) -> 336 | E6: 180 | F6: 2 | G6: 14 | H6: 139 | I6: 1 | J6: fc9/7
A7: emdsrdc4_rb_05 | B7: =MID(A7,5,3) -> rdc | C7: 216 | D7: =SUM(E7:W7) -> 216 | E7: 121 | F7: 7 | G7: 16 | H7: 72
A8: emdsrdc1_rb_06 | B8: =MID(A8,5,3) -> rdc | C8: 184 | D8: =SUM(E8:W8) -> 184 | E8: 94 | F8: 1 | G8: 13 | H8: 74 | K8: 2 | L8: 6/12, 9/12
A9: emdsrdc3_rb_07 | B9: =MID(A9,5,3) -> rdc | C9: 240 | D9: =SUM(E9:W9) -> 240 | E9: 124 | F9: 33 | G9: 14 | H9: 66 | I9: 3 | J9: fc3/10, fc3/19, fc9/6
A10: emdsrdc4_rb_08 | B10: =MID(A10,5,3) -> rdc | C10: 264 | D10: =SUM(E10:W10) -> 264 | E10: 231 | F10: 0 | G10: 15 | H10: 18
A11: emdsrdc3_rb_09 | B11: =MID(A11,5,3) -> rdc | C11: 312 | D11: =SUM(E11:W11) -> 312 | E11: 274 | F11: 1 | G11: 13 | H11: 24
A12: emdsrdc3_rb_10 | B12: =MID(A12,5,3) -> rdc | C12: 240 | D12: =SUM(E12:W12) -> 240 | E12: 196 | F12: 0 | G12: 15 | H12: 29
A13: cmdsrdc4_rb_11 | B13: =MID(A13,5,3) -> rdc | C13: 304 | D13: =SUM(E13:W13) -> 304 | E13: 170 | F13: 68 | G13: 60 | H13: 4 | I13: 2 | J13: fc12/15 fc13/15
A14: emdsrdc3_rb_12 | B14: =MID(A14,5,3) -> rdc | C14: 120 | D14: =SUM(E14:W14) -> 120 | E14: 76 | F14: 29 | G14: 15 | H14: 0
A15: emdsrdc3_rb_13 | B15: =MID(A15,5,3) -> rdc | C15: 216 | D15: =SUM(E15:W15) -> 216 | E15: 137 | F15: 69 | G15: 5 | H15: 5
A16: cmdsrdc4_rb_14 | B16: =MID(A16,5,3) -> rdc | C16: 320 | D16: =SUM(E16:W16) -> 320 | E16: 55 | F16: 245 | G16: 17 | H16: 2 | M16: 1 | N16: fc4/10
A17: cmdsrdc4_jd_01 | B17: =MID(A17,5,3) -> rdc | C17: 120 | D17: =SUM(E17:W17) -> 120 | E17: 68 | F17: 1 | G17: 44 | H17: 7
A18: cmdsrdc4_jd_02 | B18: =MID(A18,5,3) -> rdc | C18: 120 | D18: =SUM(E18:W18) -> 120 | E18: 73 | F18: 0 | G18: 43 | H18: 4
A19: emdsrdc4_jd_03 | B19: =MID(A19,5,3) -> rdc | C19: 240 | D19: =SUM(E19:W19) -> 240 | E19: 95 | F19: 0 | G19: 17 | H19: 128
A20: emdsrdc3_jd_04 | B20: =MID(A20,5,3) -> rdc | C20: 336 | D20: =SUM(E20:W20) -> 336 | E20: 181 | F20: 0 | G20: 16 | H20: 139
A21: emdsrdc4_jd_05 | B21: =MID(A21,5,3) -> rdc | C21: 216 | D21: =SUM(E21:W21) -> 216 | E21: 121 | F21: 0 | G21: 17 | H21: 77 | I21: 1 | J21: fc3/22
A22: emdsrdc1_jd_06 | B22: =MID(A22,5,3) -> rdc | C22: 184 | D22: =SUM(E22:W22) -> 184 | E22: 94 | F22: 0 | G22: 14 | H22: 74 | O22: 2
A23: emdsrdc3_jd_07 | B23: =MID(A23,5,3) -> rdc | C23: 240 | D23: =SUM(E23:W23) -> 240 | E23: 124 | F23: 33 | G23: 14 | H23: 68 | I23: 1 | J23: fc3/11
A24: emdsrdc4_jd_08 | B24: =MID(A24,5,3) -> rdc | C24: 264 | D24: =SUM(E24:W24) -> 264 | E24: 229 | F24: 0 | G24: 15 | H24: 19 | I24: 1 | J24: fc11/20
A25: emdsrdc3_jd_09 | B25: =MID(A25,5,3) -> rdc | C25: 312 | D25: =SUM(E25:W25) -> 312 | E25: 273 | F25: 0 | G25: 14 | H25: 24 | I25: 1 | J25: fc13/46
A26: emdsrdc3_jd_10 | B26: =MID(A26,5,3) -> rdc | C26: 240 | D26: =SUM(E26:W26) -> 240 | E26: 195 | F26: 0 | G26: 15 | H26: 30
A27: cmdsrdc4_jd_11 | B27: =MID(A27,5,3) -> rdc | C27: 304 | D27: =SUM(E27:W27) -> 304 | E27: 171 | F27: 67 | G27: 66 | H27: 0
A28: emdsrdc3_jd_12 | B28: =MID(A28,5,3) -> rdc | C28: 120 | D28: =SUM(E28:W28) -> 120 | E28: 76 | F28: 29 | G28: 15 | H28: 0
A29: emdsrdc3_jd_13 | B29: =MID(A29,5,3) -> rdc | C29: 216 | D29: =SUM(E29:W29) -> 216 | E29: 137 | F29: 69 | G29: 5 | H29: 5
A30: cmdsrdc4_jd_14 | B30: =MID(A30,5,3) -> rdc | C30: 320 | D30: =SUM(E30:W30) -> 320 | E30: 60 | F30: 241 | G30: 17 | H30: 2
A31: cmdscgc1_rb_01 | B31: =MID(A31,5,3) -> cgc | C31: 204 | D31: =SUM(E31:W31) -> 204 | E31: 76 | F31: 1 | G31: 15 | H31: 98 | K31: 14
A32: emdscgc1_rb_03 | B32: =MID(A32,5,3) -> cgc | C32: 192 | D32: =SUM(E32:W32) -> 192 | E32: 147 | F32: 0 | G32: 5 | H32: 40
A33: emdscgc1_rb_04 | B33: =MID(A33,5,3) -> cgc | C33: 192 | D33: =SUM(E33:W33) -> 192 | E33: 27 | F33: 0 | G33: 5 | H33: 160
A34: emdscgc1_rb_05 | B34: =MID(A34,5,3) -> cgc | C34: 264 | D34: =SUM(E34:W34) -> 264 | E34: 26 | F34: 43 | G34: 5 | H34: 190
A35: cmdscgc1_jd_01 | B35: =MID(A35,5,3) -> cgc | C35: 204 | D35: =SUM(E35:W35) -> 204 | E35: 76 | F35: 0 | G35: 15 | H35: 98 | K35: 15
A36: emdscgc1_jd_03 | B36: =MID(A36,5,3) -> cgc | C36: 192 | D36: =SUM(E36:W36) -> 192 | E36: 146 | F36: 0 | G36: 5 | H36: 41
A37: emdscgc1_jd_04 | B37: =MID(A37,5,3) -> cgc | C37: 192 | D37: =SUM(E37:W37) -> 192 | E37: 27 | F37: 0 | G37: 5 | H37: 160
A38: emdscgc1_jd_05 | B38: =MID(A38,5,3) -> cgc | C38: 264 | D38: =SUM(E38:W38) -> 264 | E38: 26 | F38: 43 | G38: 5 | H38: 190
A39: cmdsfdc1a_rb_01 | B39: =MID(A39,5,3) -> fdc | C39: 143 | D39: =SUM(E39:W39) -> 144 | E39: 82 | F39: 0 | G39: 45 | H39: 16 | M39: 1 | N39: fc13/10
A40: cmdsfdc1a_rb_02 | B40: =MID(A40,5,3) -> fdc | C40: 144 | D40: =SUM(E40:W40) -> 144 | E40: 83 | F40: 0 | G40: 45 | H40: 16
...

Sheet Data
A1: SWITCH | B1: Used | C1: Non used | D1: Non installed | E1: Total
A2: cmdsrdc4_rb_01 | B2: =Details!E3+Details!G3+Details!I3+Details!S3 -> 111 | C2: =Details!F3+Details!H3+Details!K3+Details!O3+Details!Q3+Details!U3 -> 21 | D2: =Details!M3 -> 0 | E2: =B2+C2+D2 -> 132 | G2: =VLOOKUP(A2,EMEA!L:M,1,FALSE) -> #N/A
A3: cmdsrdc4_rb_02 | B3: =Details!E4+Details!G4+Details!I4+Details!S4 -> 115 | C3: =Details!F4+Details!H4+Details!K4+Details!O4+Details!Q4+Details!U4 -> 17 | D3: =Details!M4 -> 0 | E3: =B3+C3+D3 -> 132 | G3: =VLOOKUP(A3,EMEA!L:M,1,FALSE) -> #N/A
A4: emdsrdc4_rb_03 | B4: =Details!E5+Details!G5+Details!I5+Details!S5 -> 111 | C4: =Details!F5+Details!H5+Details!K5+Details!O5+Details!Q5+Details!U5 -> 129 | D4: =Details!M5 -> 0 | E4: =B4+C4+D4 -> 240 | G4: =VLOOKUP(A4,EMEA!L:M,1,FALSE) -> #N/A
A5: emdsrdc3_rb_04 | B5: =Details!E6+Details!G6+Details!I6+Details!S6 -> 195 | C5: =Details!F6+Details!H6+Details!K6+Details!O6+Details!Q6+Details!U6 -> 141 | D5: =Details!M6 -> 0 | E5: =B5+C5+D5 -> 336 | G5: =VLOOKUP(A5,EMEA!L:M,1,FALSE) -> #N/A
A6: emdsrdc4_rb_05 | B6: =Details!E7+Details!G7+Details!I7+Details!S7 -> 137 | C6: =Details!F7+Details!H7+Details!K7+Details!O7+Details!Q7+Details!U7 -> 79 | D6: =Details!M7 -> 0 | E6: =B6+C6+D6 -> 216 | G6: =VLOOKUP(A6,EMEA!L:M,1,FALSE) -> #N/A
A7: emdsrdc1_rb_06 | B7: =Details!E8+Details!G8+Details!I8+Details!S8 -> 107 | C7: =Details!F8+Details!H8+Details!K8+Details!O8+Details!Q8+Details!U8 -> 77 | D7: =Details!M8 -> 0 | E7: =B7+C7+D7 -> 184 | G7: =VLOOKUP(A7,EMEA!L:M,1,FALSE) -> #N/A
A8: emdsrdc3_rb_07 | B8: =Details!E9+Details!G9+Details!I9+Details!S9 -> 141 | C8: =Details!F9+Details!H9+Details!K9+Details!O9+Details!Q9+Details!U9 -> 99 | D8: =Details!M9 -> 0 | E8: =B8+C8+D8 -> 240 | G8: =VLOOKUP(A8,EMEA!L:M,1,FALSE) -> #N/A
A9: emdsrdc4_rb_08 | B9: =Details!E10+Details!G10+Details!I10+Details!S10 -> 246 | C9: =Details!F10+Details!H10+Details!K10+Details!O10+Details!Q10+Details!U10 -> 18 | D9: =Details!M10 -> 0 | E9: =B9+C9+D9 -> 264 | G9: =VLOOKUP(A9,EMEA!L:M,1,FALSE) -> #N/A
A10: emdsrdc3_rb_09 | B10: =Details!E11+Details!G11+Details!I11+Details!S11 -> 287 | C10: =Details!F11+Details!H11+Details!K11+Details!O11+Details!Q11+Details!U11 -> 25 | D10: =Details!M11 -> 0 | E10: =B10+C10+D10 -> 312 | G10: =VLOOKUP(A10,EMEA!L:M,1,FALSE) -> #N/A
A11: emdsrdc3_rb_10 | B11: =Details!E12+Details!G12+Details!I12+Details!S12 -> 211 | C11: =Details!F12+Details!H12+Details!K12+Details!O12+Details!Q12+Details!U12 -> 29 | D11: =Details!M12 -> 0 | E11: =B11+C11+D11 -> 240 | G11: =VLOOKUP(A11,EMEA!L:M,1,FALSE) -> #N/A
A12: cmdsrdc4_rb_11 | B12: =Details!E13+Details!G13+Details!I13+Details!S13 -> 232 | C12: =Details!F13+Details!H13+Details!K13+Details!O13+Details!Q13+Details!U13 -> 72 | D12: =Details!M13 -> 0 | E12: =B12+C12+D12 -> 304 | G12: =VLOOKUP(A12,EMEA!L:M,1,FALSE) -> #N/A
A13: emdsrdc3_rb_12 | B13: =Details!E14+Details!G14+Details!I14+Details!S14 -> 91 | C13: =Details!F14+Details!H14+Details!K14+Details!O14+Details!Q14+Details!U14 -> 29 | D13: =Details!M14 -> 0 | E13: =B13+C13+D13 -> 120 | G13: =VLOOKUP(A13,EMEA!L:M,1,FALSE) -> #N/A
... A129: cmdsblw_dg_01 | B129: =Details!E130+Details!G130+Details!I130+Details!S130 -> 10 | C129: =Details!F130+Details!H130+Details!K130+Details!O130+Details!Q130+Details!U130 -> 14 | D129: =Details!M130 -> 0 | E129: =B129+C129+D129 -> 24 | G129: =VLOOKUP(A129,EMEA!L:M,1,FALSE) -> #N/A

Sheet Invenotry
A1: Fabric_RDC_Ruby | B1: cmdsrdc4-rb-01 | C1: 10.154.33.80 | D1: RDC4 | E1: CORE | F1: RUBY | G1: CISCO | H1: Cisco 9513 | I1: DS-C9513 | J1: FOX1202H3NR | K1: EMC | L1: 5.2(8b)
A2: Fabric_RDC_Ruby | B2: cmdsrdc4-rb-02 | C2: 10.154.33.81 | D2: RDC4 | E2: CORE | F2: RUBY | G2: CISCO | H2: Cisco 9513 | I2: DS-C9513 | J2: FOX1202H3N8 | K2: EMC | L2: 5.2(8b)
A3: Fabric_RDC_Ruby | B3: emdsrdc4-rb-03 | C3: 10.154.33.82 | D3: RDC4 | E3: EDGE | F3: RUBY | G3: CISCO | H3: Cisco 9513 | I3: DS-C9513 | J3: FOX1205GAH9 | K3: EMC | L3: 5.2(8b)
A4: Fabric_RDC_Ruby | B4: emdsrdc3-rb-04 | C4: 10.154.36.20 | D4: RDC3 | E4: EDGE | F4: RUBY | G4: CISCO | H4: Cisco 9513 | I4: DS-C9513 | J4: FOX1202H3PJ | K4: EMC | L4: 5.2(8b)
A5: Fabric_RDC_Ruby | B5: emdsrdc4-rb-05 | C5: 10.154.33.126 | D5: RDC4 | E5: EDGE | F5: RUBY | G5: CISCO | H5: Cisco 9513 | I5: DS-C9513 | J5: FOX1205GAGZ | K5: EMC | L5: 5.2(8b)
A6: Fabric_RDC_Ruby | B6: emdsrdc1-rb-06 | C6: 10.154.41.6 | D6: RDC1 | E6: EDGE | F6: RUBY | G6: CISCO | H6: Cisco 9513 | I6: DS-C9513 | J6: FOX1228GRAY | K6: EMC | L6: 5.2(8b)
A7: Fabric_RDC_Ruby | B7: emdsrdc3-rb-07 | C7: 10.154.36.44 | D7: RDC3 | E7: EDGE | F7: RUBY | G7: CISCO | H7: Cisco 9513 | I7: DS-C9513 | J7: FOX1228GNK8 | K7: EMC | L7: 5.2(8b)
A8: Fabric_RDC_Ruby | B8: emdsrdc4-rb-08 | C8: 10.154.33.124 | D8: RDC4 | E8: EDGE | F8: RUBY | G8: CISCO | H8: Cisco 9513 | I8: DS-C9513 | J8: FOX1237G51R | K8: HDS | L8: 5.2(8b)
A9: Fabric_RDC_Ruby | B9: emdsrdc3-rb-09 | C9: 169.182.138.13 | D9: RDC3 | E9: EDGE | F9: RUBY | G9: CISCO | H9: Cisco 9513 | I9: DS-C9513 | J9: FOX1307GMZK | K9: HDS | L9: 5.2(8b)
A10: Fabric_RDC_Ruby | B10: emdsrdc3-rb-10 | C10: 10.154.36.49 | D10: RDC3 | E10: EDGE | F10: RUBY | G10: CISCO | H10: Cisco 9513 | I10: DS-C9513 | J10: FOX1449GKXW | K10: EMC | L10: 5.2(8b)
A11: Fabric_RDC_Ruby | B11: cmdsrdc4-rb-11 | C11: 10.154.54.30 | D11: RDC4 | E11: CORE | F11: RUBY | G11: CISCO | H11: Cisco 9513 | I11: DS-C9513 | J11: FOX1523GLLE | K11: EMC | L11: 5.2(8b)
A12: Fabric_RDC_Ruby | B12: emdsrdc3-rb-12 | C12: 10.154.43.58 | D12: RDC3 | E12: EDGE | F12: RUBY | G12: CISCO | H12: Cisco 9513 | I12: DS-C9513 | J12: FOX1536G8MP | K12: EMC | L12: 5.2(8b)
... A98: Fabric_EMEA_Gold | B98: rmdswell-gl-01 | C98: 169.194.216.243 | D98: Welle | E98: SRDF | F98: GOLD | G98: CISCO | H98: Cisco 9513 | I98: DS-C9509 | J98: FOX1241G3Y0 | K98: EMC | L98: 5.2(8c)
A99: RDCBLUEFABRIC | B99: SW02R_CORE_BLUE_RDC1 | C99: 169.186.192.79 | D99: RDC1 | E99: CORE | F99: BLUE | G99: MCDATA | H99: 2GB ED140 | I99: ED-140M | J99: MC5IN03434 | L99: 09.09.07
A100: RDCBLUEFABRIC | B100: SW04R_EDGE_BLUE_RDC1 | C100: 169.186.192.81 | D100: RDC1 | E100: EDGE | F100: BLUE | G100: MCDATA | H100: 2GB ED140 | I100: ED-140M | J100: MC5IN03435 | L100: 09.09.07
A101: RDCBLUEFABRIC | B101: SW06R_EDGE_BLUE_RDC1 | C101: 169.186.192.83 | D101: RDC1 | E101: EDGE | F101: BLUE | G101: MCDATA | H101: 2GB ED140 | I101: ED-140M | J101: MC5IN03436 | L101: 09.09.07
A102: RDCBLUEFABRIC | B102: SW16R_CORE_BLUE_RDC4 | C102: 169.186.192.207 | D102: RDC4 | E102: CORE | F102: BLUE | G102: MCDATA | H102: ED-140M | I102: ED-140M | J102: MC5IN02566 | L102: 09.09.07
A103: RDCBLUEFABRIC | B103: SW24R_EDGE_BLUE_RDC4 | C103: 169.186.192.211 | D103: RDC4 | E103: EDGE | F103: BLUE | G103: MCDATA | H103: ED-140M | I103: ED-140M | J103: MC5IN04320 | L103: 09.09.07
A104: RDCBLUEFABRIC | B104: SW26R_CORE_BLUE_RDC4 | C104: 169.186.192.213 | D104: RDC4 | E104: CORE | F104: BLUE | G104: MCDATA | H104: ED-140M | I104: ED-140M | J104: MC5IN04504 | L104: 09.09.07
A105: RDCBLUEFABRIC | B105: SW28R_EDGE_BLUE_RDC3 | C105: 169.186.198.198 | D105: RDC3 | E105: EDGE | F105: BLUE | G105: MCDATA | H105: ED-140M | I105: ED-140M | J105: MC5I05888N | L105: 09.09.07
A106: RDCBLUEFABRIC | B106: SW30R_EDGE_BLUE_RDC3 | C106: 169.186.198.199 | D106: RDC3 | E106: EDGE | F106: BLUE | G106: MCDATA | H106: ED-140M | I106: ED-140M | J106: MC5I05884N | L106: 09.09.07
A107: RDCBLUEFABRIC | B107: SW32R_EDGE_BLUE_RDC4 | C107: 169.186.192.215 | D107: RDC4 | E107: EDGE | F107: BLUE | G107: MCDATA | H107: ED-140M | I107: ED-140M | J107: MC5I05871N | L107: 09.09.07
A108: RDCREDFABRIC | B108: SW01R_CORE_RED_RDC1 | C108: 169.186.192.15 | D108: RDC1 | E108: CORE | F108: RED | G108: MCDATA | H108: 2GB ED140 | I108: ED-140M | J108: MC5IN03437 | L108: 09.09.07
A109: RDCREDFABRIC | B109: SW03R_EDGE_RED_RDC1 | C109: 169.186.192.17 | D109: RDC1 | E109: EDGE | F109: RED | G109: MCDATA | H109: 2GB ED140 | I109: ED-140M | J109: MC5IN03438 | L109: 09.09.07
A110: RDCREDFABRIC | B110: SW05R_EDGE_RED_RDC1 | C110: 169.186.192.19 | D110: RDC1 | E110: EDGE | F110: RED | G110: MCDATA | H110: 2GB ED140 | I110: ED-140M | J110: MC5IN03439 | L110: 09.09.07
... A120: CGCREDFABRIC | B120: SW25C_EDGE_RED_CGC2 | C120: 169.186.141.198 | D120: CGC2 3rd flr | E120: EDGE | F120: RED | G120: MCDATA | H120: ED-140M | I120: ED-140M | J120: MC5IN01485 | L120: 09.09.07
