Workbook

Sheet EMEA
A1: EMEA - Citigroup Distributed Fibre Switch Inventory for July 2014
A2: London - RIVERDALE DATA CENTER (RDC)
A3: Cisco | E3: Capacity
A4: Switch Name | B4: Frame Model | C4: Code Level | D4: Serial Number | E4: Used Ports | F4: Free Ports | G4: Percent Free | H4: Not Installed | I4: Switch Capacity | J4: Comments
A5: cmdsrdc3-ct-01 | B5: DS-C9513 | C5: 5.2(8b) | D5: FOX1150H4XB | E5: 118 | F5: 14 | G5: =F5/I5*100% -> 0.10606061 | H5: 0 | I5: 132 | J5: CORE - CAT
A6: cmdsrdc3-dg-01 | B6: DS-C9513 | C6: 5.2(8b) | D6: FOX1152HDFX | E6: 119 | F6: 13 | G6: =F6/I6*100% -> 0.098484848 | H6: 0 | I6: 132 | J6: CORE - DOG
A7: cmdsrdc4-jd-01 | B7: DS-C9513 | C7: 5.2(8b) | D7: FOX1202H3PN | E7: 112 | F7: 8 | G7: =F7/I7*100% -> 0.066666667 | H7: 0 | I7: 120 | J7: CORE - JADE
A8: cmdsrdc4-jd-02 | B8: DS-C9513 | C8: 5.2(8b) | D8: FOX1150H529 | E8: 116 | F8: 4 | G8: =F8/I8*100% -> 0.033333333 | H8: 0 | I8: 120 | J8: CORE - JADE
A9: cmdsrdc4-jd-11 | B9: DS-C9513 | C9: 5.2(8b) | D9: FOX1521H7SD | E9: 236 | F9: 68 | G9: =F9/I9*100% -> 0.22368421 | H9: 0 | I9: 304 | J9: CORE - JADE
A10: cmdsrdc4-jd-14 | B10: DS-C9513 | C10: 5.2(8b) | D10: FOX1545GUCQ | E10: 80 | F10: 240 | G10: =F10/I10*100% -> 0.75 | H10: 0 | I10: 320 | J10: CORE - JADE
A11: cmdsrdc4-rb-01 | B11: DS-C9513 | C11: 5.2(8b) | D11: FOX1202H3NR | E11: 111 | F11: 21 | G11: =F11/I11*100% -> 0.15909091 | H11: 0 | I11: 132 | J11: CORE - RUBY
A12: cmdsrdc4-rb-02 | B12: DS-C9513 | C12: 5.2(8b) | D12: FOX1202H3N8 | E12: 115 | F12: 17 | G12: =F12/I12*100% -> 0.12878788 | H12: 0 | I12: 132 | J12: CORE - RUBY
A13: cmdsrdc4-rb-11 | B13: DS-C9513 | C13: 5.2(8b) | D13: FOX1523GLLE | E13: 236 | F13: 68 | G13: =F13/I13*100% -> 0.22368421 | H13: 0 | I13: 304 | J13: CORE - RUBY
A14: cmdsrdc4-rb-14 | B14: DS-C9513 | C14: 5.2(8b) | D14: FOX1545GUCC | E14: 80 | F14: 239 | G14: =F14/I14*100% -> 0.746875 | H14: 1 | I14: 320 | J14: CORE - RUBY
A15: emdsrdc1-jd-06 | B15: DS-C9513 | C15: 5.2(8b) | D15: FOX1227GSWP | E15: 108 | F15: 76 | G15: =F15/I15*100% -> 0.41304348 | H15: 0 | I15: 184 | J15: EDGE - JADE
A16: emdsrdc1-rb-06 | B16: DS-C9513 | C16: 5.2(8b) | D16: FOX1228GRAY | E16: 107 | F16: 77 | G16: =F16/I16*100% -> 0.41847826 | H16: 0 | I16: 184 | J16: EDGE - RUBY
... A50: GBKCD01BE21 | B50: DS-C9148 | C50: 5.2(8d) | D50: AMS17510172 | E50: 8 | F50: 40 | G50: =F50/I50*100% -> 0.83333333 | H50: 0 | I50: 48 | J50: EDGE - JADE
A51: London - Citigroup Centre (CGC)
A52: Cisco | E52: Capacity
A53: Switch Name | B53: Frame Model | C53: Code Level | D53: Serial Number | E53: Used Ports | F53: Free Ports | G53: Percent Free | H53: Not Installed | I53: Switch Capacity | J53: Comments
A54: cmdscgc1-ct-01 | B54: DS-C9513 | C54: 5.2(8b) | D54: FOX1205GAHN | E54: 16 | F54: 32 | G54: =F54/I54*100% -> 0.66666667 | H54: 0 | I54: 48 | J54: CORE - CAT
A55: cmdscgc1-dg-01 | B55: DS-C9513 | C55: 5.2(8b) | D55: FOX1202H3PG | E55: 16 | F55: 32 | G55: =F55/I55*100% -> 0.66666667 | H55: 0 | I55: 48 | J55: CORE - DOG
A56: cmdscgc1-jd-01 | B56: DS-C9513 | C56: 5.2(8b) | D56: FOX1330G5AC | E56: 91 | F56: 113 | G56: =F56/I56*100% -> 0.55392157 | H56: 0 | I56: 204 | J56: CORE - JADE
A57: cmdscgc1-rb-01 | B57: DS-C9513 | C57: 5.2(8b) | D57: FOX1329GR3T | E57: 91 | F57: 113 | G57: =F57/I57*100% -> 0.55392157 | H57: 0 | I57: 204 | J57: CORE - RUBY
A58: emdscgc1-jd-03 | B58: DS-C9513 | C58: 5.2(8b) | D58: FOX1331GYC3 | E58: 153 | F58: 39 | G58: =F58/I58*100% -> 0.203125 | H58: 0 | I58: 192 | J58: EDGE - JADE
A59: emdscgc1-jd-04 | B59: DS-C9513 | C59: 5.2(8b) | D59: FOX1323G9E1 | E59: 32 | F59: 160 | G59: =F59/I59*100% -> 0.83333333 | H59: 0 | I59: 192 | J59: EDGE - JADE
A60: emdscgc1-jd-05 | B60: DS-C9513 | C60: 5.2(8b) | D60: FOX1329GR3G | E60: 31 | F60: 233 | G60: =F60/I60*100% -> 0.88257576 | H60: 0 | I60: 264 | J60: EDGE - JADE
A61: emdscgc1-rb-03 | B61: DS-C9513 | C61: 5.2(8b) | D61: FOX1323G9EW | E61: 154 | F61: 38 | G61: =F61/I61*100% -> 0.19791667 | H61: 0 | I61: 192 | J61: EDGE - RUBY
A62: emdscgc1-rb-04 | B62: DS-C9513 | C62: 5.2(8b) | D62: FOX1331GYC8 | E62: 32 | F62: 160 | G62: =F62/I62*100% -> 0.83333333 | H62: 0 | I62: 192 | J62: EDGE - RUBY
A63: emdscgc1-rb-05 | B63: DS-C9513 | C63: 5.2(8b) | D63: FOX1331GYBH | E63: 31 | F63: 233 | G63: =F63/I63*100% -> 0.88257576 | H63: 0 | I63: 264 | J63: EDGE - RUBY
A64: rmdscgc1-gl-01 | B64: DS-C9509 | C64: 5.2(2a) | D64: FOX1210GT0F | E64: 10 | F64: 62 | G64: =F64/I64*100% -> 0.86111111 | H64: 0 | I64: 72 | J64: SRDF - GOLD
A65: rmdscgc1-sl-01 | B65: DS-C9509 | C65: 5.2(2a) | D65: FOX1212GP09 | E65: 10 | F65: 62 | G65: =F65/I65*100% -> 0.86111111 | H65: 0 | I65: 72 | J65: SRDF - SILVER
A66: Germany - Frankfurt Data Centre (FDC)
A67: Cisco | E67: Capacity
A68: Switch Name | B68: Frame Model | C68: Code Level | D68: Serial Number | E68: Used Ports | F68: Free Ports | G68: Percent Free | H68: Not Installed | I68: Switch Capacity | J68: Comments
A69: cmdsfdc1a-jd-01 | B69: DS-C9513 | C69: 5.2(8b) | D69: FOX1205GAK0 | E69: 127 | F69: 17 | G69: =F69/I69*100% -> 0.11805556 | H69: 0 | I69: 144 | J69: CORE - JADE
A70: cmdsfdc1a-jd-02 | B70: DS-C9513 | C70: 5.2(8b) | D70: FOX1202H3NV | E70: 128 | F70: 16 | G70: =F70/I70*100% -> 0.11111111 | H70: 0 | I70: 144 | J70: CORE - JADE
A71: cmdsfdc1a-jd-09 | B71: DS-C9513 | C71: 5.2(8b) | D71: FOX1303GF5Z | E71: 113 | F71: 19 | G71: =F71/I71*100% -> 0.14393939 | H71: 0 | I71: 132 | J71: CORE - JADE
A72: cmdsfdc1a-jd-12 | B72: DS-C9513 | C72: 5.2(8b) | D72: FOX1524GQF5 | E72: 78 | F72: 66 | G72: =F72/I72*100% -> 0.45833333 | H72: 0 | I72: 144 | J72: CORE - JADE
A73: cmdsfdc1a-rb-01 | B73: DS-C9513 | C73: 5.2(8b) | D73: FOX1205H322 | E73: 127 | F73: 16 | G73: =F73/I73*100% -> 0.11111111 | H73: 1 | I73: 144 | J73: CORE - RUBY
...

Sheet Details
A1: 1 | B1: 2 | C1: 3 | D1: 4 | E1: 5 | F1: 6 | G1: 7 | H1: 8 | I1: 9 | J1: 10 | K1: 11 | L1: 12 | M1: 13 | N1: 14
B2: capacity | C2: up | D2: down | E2: notC | F2: trunk | G2: errDisable | H2: errDisable without sw | I2: channelDown | J2: sfpAbsent | K2: isolated | L2: offline | M2: init | N2: inactive
A3: cmdsblw_ct_01 | B3: 24 | C3: 2 | D3: 0 | E3: 22 | F3: 0 | G3: 0 | H3: 0 | I3: 0 | J3: 0 | K3: 0 | L3: 0 | M3: 0 | N3: 0
A4: cmdsblw_dg_01 | B4: 24 | C4: 2 | D4: 0 | E4: 22 | F4: 0 | G4: 0 | H4: 0 | I4: 0 | J4: 0 | K4: 0 | L4: 0 | M4: 0 | N4: 0
A5: cmdsblwg_jd_01 | B5: 56 | C5: 36 | D5: 18 | E5: 2 | F5: 0 | G5: 0 | H5: 0 | I5: 0 | J5: 74 | K5: 0 | L5: 0 | M5: 0 | N5: 0
A6: cmdsblwg_rb_01 | B6: 56 | C6: 36 | D6: 18 | E6: 2 | F6: 0 | G6: 0 | H6: 0 | I6: 0 | J6: 74 | K6: 0 | L6: 0 | M6: 0 | N6: 0
A7: cmdscgc1_ct_01 | B7: 48 | C7: 10 | D7: 0 | E7: 32 | F7: 6 | G7: 0 | H7: 0 | I7: 0 | J7: 0 | K7: 0 | L7: 0 | M7: 0 | N7: 0
A8: cmdscgc1_dg_01 | B8: 48 | C8: 10 | D8: 0 | E8: 32 | F8: 6 | G8: 0 | H8: 0 | I8: 0 | J8: 0 | K8: 0 | L8: 0 | M8: 0 | N8: 0
A9: cmdscgc1_jd_01 | B9: 204 | C9: 76 | D9: 0 | E9: 98 | F9: 15 | G9: 0 | H9: 0 | I9: 15 | J9: 0 | K9: 0 | L9: 0 | M9: 0 | N9: 0
A10: cmdscgc1_rb_01 | B10: 204 | C10: 76 | D10: 1 | E10: 98 | F10: 15 | G10: 0 | H10: 0 | I10: 14 | J10: 0 | K10: 0 | L10: 0 | M10: 0 | N10: 0
A11: cmdsclt_ct_01 | B11: 24 | C11: 20 | D11: 0 | E11: 4 | F11: 0 | G11: 0 | H11: 0 | I11: 0 | J11: 0 | K11: 0 | L11: 0 | M11: 0 | N11: 0
A12: cmdsclt_dg_01 | B12: 24 | C12: 20 | D12: 0 | E12: 4 | F12: 0 | G12: 0 | H12: 0 | I12: 0 | J12: 0 | K12: 0 | L12: 0 | M12: 0 | N12: 0
A13: cmdscolt_jd_01 | B13: 37 | C13: 33 | D13: 0 | E13: 4 | F13: 0 | G13: 0 | H13: 0 | I13: 0 | J13: 75 | K13: 0 | L13: 0 | M13: 0 | N13: 0
A14: cmdscolt_rb_01 | B14: 37 | C14: 33 | D14: 0 | E14: 4 | F14: 0 | G14: 0 | H14: 0 | I14: 0 | J14: 75 | K14: 0 | L14: 0 | M14: 0 | N14: 0
... A108: rmdswell_sl_01 | B108: 54 | C108: 16 | D108: 31 | E108: 4 | F108: 0 | G108: 0 | H108: 0 | I108: 0 | J108: 0 | K108: 0 | L108: 0 | M108: 0 | N108: 3

Sheet SUMMARY
B1: USED | C1: NON USED | D1: NON INSTALED | E1: TOTAL
A2: cmdsrdc3_ct_01 | B2: =VLOOKUP(A2,Details!A:N,3,FALSE)+VLOOKUP(A2,Details!A:N,6,FALSE)+VLOOKUP(A2,Details!A:N,7,FALSE)+VLOOKUP(A2,Details!A:N,13,FALSE) -> 118 | C2: =VLOOKUP(A2,Details!A:N,4,FALSE)+VLOOKUP(A2,Details!A:N,5,FALSE)+VLOOKUP(A2,Details!A:N,8,FALSE)+VLOOKUP(A2,Details!A:N,9,FALSE)+VLOOKUP(A2,Details!A:N,11,FALSE)++VLOOKUP(A2,Details!A:N,12,FALSE)+VLOOKUP(A2,Details!A:N,14,FALSE) -> 14 | D2: =VLOOKUP(A2,Details!A:N,10,FALSE) -> 0 | E2: =SUM(B2:D2) -> 132
A3: cmdsrdc3_dg_01 | B3: =VLOOKUP(A3,Details!A:N,3,FALSE)+VLOOKUP(A3,Details!A:N,6,FALSE)+VLOOKUP(A3,Details!A:N,7,FALSE)+VLOOKUP(A3,Details!A:N,13,FALSE) -> 119 | C3: =VLOOKUP(A3,Details!A:N,4,FALSE)+VLOOKUP(A3,Details!A:N,5,FALSE)+VLOOKUP(A3,Details!A:N,8,FALSE)+VLOOKUP(A3,Details!A:N,9,FALSE)+VLOOKUP(A3,Details!A:N,11,FALSE)++VLOOKUP(A3,Details!A:N,12,FALSE)+VLOOKUP(A3,Details!A:N,14,FALSE) -> 13 | D3: =VLOOKUP(A3,Details!A:N,10,FALSE) -> 0 | E3: =SUM(B3:D3) -> 132
A4: cmdsrdc4_jd_01 | B4: =VLOOKUP(A4,Details!A:N,3,FALSE)+VLOOKUP(A4,Details!A:N,6,FALSE)+VLOOKUP(A4,Details!A:N,7,FALSE)+VLOOKUP(A4,Details!A:N,13,FALSE) -> 112 | C4: =VLOOKUP(A4,Details!A:N,4,FALSE)+VLOOKUP(A4,Details!A:N,5,FALSE)+VLOOKUP(A4,Details!A:N,8,FALSE)+VLOOKUP(A4,Details!A:N,9,FALSE)+VLOOKUP(A4,Details!A:N,11,FALSE)++VLOOKUP(A4,Details!A:N,12,FALSE)+VLOOKUP(A4,Details!A:N,14,FALSE) -> 8 | D4: =VLOOKUP(A4,Details!A:N,10,FALSE) -> 0 | E4: =SUM(B4:D4) -> 120
A5: cmdsrdc4_jd_02 | B5: =VLOOKUP(A5,Details!A:N,3,FALSE)+VLOOKUP(A5,Details!A:N,6,FALSE)+VLOOKUP(A5,Details!A:N,7,FALSE)+VLOOKUP(A5,Details!A:N,13,FALSE) -> 116 | C5: =VLOOKUP(A5,Details!A:N,4,FALSE)+VLOOKUP(A5,Details!A:N,5,FALSE)+VLOOKUP(A5,Details!A:N,8,FALSE)+VLOOKUP(A5,Details!A:N,9,FALSE)+VLOOKUP(A5,Details!A:N,11,FALSE)++VLOOKUP(A5,Details!A:N,12,FALSE)+VLOOKUP(A5,Details!A:N,14,FALSE) -> 4 | D5: =VLOOKUP(A5,Details!A:N,10,FALSE) -> 0 | E5: =SUM(B5:D5) -> 120
A6: cmdsrdc4_jd_11 | B6: =VLOOKUP(A6,Details!A:N,3,FALSE)+VLOOKUP(A6,Details!A:N,6,FALSE)+VLOOKUP(A6,Details!A:N,7,FALSE)+VLOOKUP(A6,Details!A:N,13,FALSE) -> 236 | C6: =VLOOKUP(A6,Details!A:N,4,FALSE)+VLOOKUP(A6,Details!A:N,5,FALSE)+VLOOKUP(A6,Details!A:N,8,FALSE)+VLOOKUP(A6,Details!A:N,9,FALSE)+VLOOKUP(A6,Details!A:N,11,FALSE)++VLOOKUP(A6,Details!A:N,12,FALSE)+VLOOKUP(A6,Details!A:N,14,FALSE) -> 68 | D6: =VLOOKUP(A6,Details!A:N,10,FALSE) -> 0 | E6: =SUM(B6:D6) -> 304
A7: cmdsrdc4_jd_14 | B7: =VLOOKUP(A7,Details!A:N,3,FALSE)+VLOOKUP(A7,Details!A:N,6,FALSE)+VLOOKUP(A7,Details!A:N,7,FALSE)+VLOOKUP(A7,Details!A:N,13,FALSE) -> 80 | C7: =VLOOKUP(A7,Details!A:N,4,FALSE)+VLOOKUP(A7,Details!A:N,5,FALSE)+VLOOKUP(A7,Details!A:N,8,FALSE)+VLOOKUP(A7,Details!A:N,9,FALSE)+VLOOKUP(A7,Details!A:N,11,FALSE)++VLOOKUP(A7,Details!A:N,12,FALSE)+VLOOKUP(A7,Details!A:N,14,FALSE) -> 240 | D7: =VLOOKUP(A7,Details!A:N,10,FALSE) -> 0 | E7: =SUM(B7:D7) -> 320
A8: cmdsrdc4_rb_01 | B8: =VLOOKUP(A8,Details!A:N,3,FALSE)+VLOOKUP(A8,Details!A:N,6,FALSE)+VLOOKUP(A8,Details!A:N,7,FALSE)+VLOOKUP(A8,Details!A:N,13,FALSE) -> 111 | C8: =VLOOKUP(A8,Details!A:N,4,FALSE)+VLOOKUP(A8,Details!A:N,5,FALSE)+VLOOKUP(A8,Details!A:N,8,FALSE)+VLOOKUP(A8,Details!A:N,9,FALSE)+VLOOKUP(A8,Details!A:N,11,FALSE)++VLOOKUP(A8,Details!A:N,12,FALSE)+VLOOKUP(A8,Details!A:N,14,FALSE) -> 21 | D8: =VLOOKUP(A8,Details!A:N,10,FALSE) -> 0 | E8: =SUM(B8:D8) -> 132
A9: cmdsrdc4_rb_02 | B9: =VLOOKUP(A9,Details!A:N,3,FALSE)+VLOOKUP(A9,Details!A:N,6,FALSE)+VLOOKUP(A9,Details!A:N,7,FALSE)+VLOOKUP(A9,Details!A:N,13,FALSE) -> 115 | C9: =VLOOKUP(A9,Details!A:N,4,FALSE)+VLOOKUP(A9,Details!A:N,5,FALSE)+VLOOKUP(A9,Details!A:N,8,FALSE)+VLOOKUP(A9,Details!A:N,9,FALSE)+VLOOKUP(A9,Details!A:N,11,FALSE)++VLOOKUP(A9,Details!A:N,12,FALSE)+VLOOKUP(A9,Details!A:N,14,FALSE) -> 17 | D9: =VLOOKUP(A9,Details!A:N,10,FALSE) -> 0 | E9: =SUM(B9:D9) -> 132
A10: cmdsrdc4_rb_11 | B10: =VLOOKUP(A10,Details!A:N,3,FALSE)+VLOOKUP(A10,Details!A:N,6,FALSE)+VLOOKUP(A10,Details!A:N,7,FALSE)+VLOOKUP(A10,Details!A:N,13,FALSE) -> 236 | C10: =VLOOKUP(A10,Details!A:N,4,FALSE)+VLOOKUP(A10,Details!A:N,5,FALSE)+VLOOKUP(A10,Details!A:N,8,FALSE)+VLOOKUP(A10,Details!A:N,9,FALSE)+VLOOKUP(A10,Details!A:N,11,FALSE)++VLOOKUP(A10,Details!A:N,12,FALSE)+VLOOKUP(A10,Details!A:N,14,FALSE) -> 68 | D10: =VLOOKUP(A10,Details!A:N,10,FALSE) -> 0 | E10: =SUM(B10:D10) -> 304
A11: cmdsrdc4_rb_14 | B11: =VLOOKUP(A11,Details!A:N,3,FALSE)+VLOOKUP(A11,Details!A:N,6,FALSE)+VLOOKUP(A11,Details!A:N,7,FALSE)+VLOOKUP(A11,Details!A:N,13,FALSE) -> 80 | C11: =VLOOKUP(A11,Details!A:N,4,FALSE)+VLOOKUP(A11,Details!A:N,5,FALSE)+VLOOKUP(A11,Details!A:N,8,FALSE)+VLOOKUP(A11,Details!A:N,9,FALSE)+VLOOKUP(A11,Details!A:N,11,FALSE)++VLOOKUP(A11,Details!A:N,12,FALSE)+VLOOKUP(A11,Details!A:N,14,FALSE) -> 239 | D11: =VLOOKUP(A11,Details!A:N,10,FALSE) -> 1 | E11: =SUM(B11:D11) -> 320
A12: emdsrdc1_jd_06 | B12: =VLOOKUP(A12,Details!A:N,3,FALSE)+VLOOKUP(A12,Details!A:N,6,FALSE)+VLOOKUP(A12,Details!A:N,7,FALSE)+VLOOKUP(A12,Details!A:N,13,FALSE) -> 108 | C12: =VLOOKUP(A12,Details!A:N,4,FALSE)+VLOOKUP(A12,Details!A:N,5,FALSE)+VLOOKUP(A12,Details!A:N,8,FALSE)+VLOOKUP(A12,Details!A:N,9,FALSE)+VLOOKUP(A12,Details!A:N,11,FALSE)++VLOOKUP(A12,Details!A:N,12,FALSE)+VLOOKUP(A12,Details!A:N,14,FALSE) -> 76 | D12: =VLOOKUP(A12,Details!A:N,10,FALSE) -> 0 | E12: =SUM(B12:D12) -> 184
A13: emdsrdc1_rb_06 | B13: =VLOOKUP(A13,Details!A:N,3,FALSE)+VLOOKUP(A13,Details!A:N,6,FALSE)+VLOOKUP(A13,Details!A:N,7,FALSE)+VLOOKUP(A13,Details!A:N,13,FALSE) -> 107 | C13: =VLOOKUP(A13,Details!A:N,4,FALSE)+VLOOKUP(A13,Details!A:N,5,FALSE)+VLOOKUP(A13,Details!A:N,8,FALSE)+VLOOKUP(A13,Details!A:N,9,FALSE)+VLOOKUP(A13,Details!A:N,11,FALSE)++VLOOKUP(A13,Details!A:N,12,FALSE)+VLOOKUP(A13,Details!A:N,14,FALSE) -> 77 | D13: =VLOOKUP(A13,Details!A:N,10,FALSE) -> 0 | E13: =SUM(B13:D13) -> 184
... A112: cmdsblw_dg_01 | B112: =VLOOKUP(A112,Details!A:N,3,FALSE)+VLOOKUP(A112,Details!A:N,6,FALSE)+VLOOKUP(A112,Details!A:N,7,FALSE)+VLOOKUP(A112,Details!A:N,13,FALSE) -> 2 | C112: =VLOOKUP(A112,Details!A:N,4,FALSE)+VLOOKUP(A112,Details!A:N,5,FALSE)+VLOOKUP(A112,Details!A:N,8,FALSE)+VLOOKUP(A112,Details!A:N,9,FALSE)+VLOOKUP(A112,Details!A:N,11,FALSE)++VLOOKUP(A112,Details!A:N,12,FALSE)+VLOOKUP(A112,Details!A:N,14,FALSE) -> 22 | D112: =VLOOKUP(A112,Details!A:N,10,FALSE) -> 0 | E112: =SUM(B112:D112) -> 24
