Workbook
Name RMCF1C00_Spare: '[1]CFR-Ports'!$B$153
Name RMCF1C00_Used: '[1]CFR-Ports'!$B$154
Name RMCF1E00_Spare: '[1]CFR-Ports'!$D$153
Name RMCF1E00_Used: '[1]CFR-Ports'!$D$154

Sheet APAC
A1: APAC - Citigroup Distributed Fibre Switch Inventory for December 2013
A2: Singapore - Cintech B1
A3: Cisco | E3: Capacity
A4: Switch Name | B4: Frame Model | C4: Code Level | D4: Serial Number | E4: Used Ports | F4: Free Ports | G4: Percent Free | H4: Not Installed | I4: Switch Capacity | J4: Comments
A5: MDS21CSW1 | B5: 9513 | C5: 5.2(1) | D5: FOX1448G68H | E5: 311 | F5: 1 | G5: =F5/(E5+F5) -> 0.0032051282 | H5: 0 | I5: 312 | J5: CT2/B1_CORE - FABRIC-A | K5: 1
A6: MDS41CSW1 | B6: 9513 | C6: 5.2(1) | D6: FOX1549G4G2 | E6: 228 | F6: 12 | G6: =F6/(E6+F6) -> 0.05 | H6: 0 | I6: 240 | J6: CT2/B1_CORE - FABRIC-A
A7: MDS45CSW1 | B7: 9513 | C7: 5.2(1) | D7: FOX1645Q07H | E7: 128 | F7: 64 | G7: =F7/(E7+F7) -> 0.33333333 | H7: 0 | I7: 192 | J7: CT2/B1_CORE - FABRIC-A
A8: MDS17SW2 | B8: 9513 | C8: 5.2(1) | D8: FOX1443GRM6 | E8: 210 | F8: 30 | G8: =F8/(E8+F8) -> 0.125 | H8: 0 | I8: 240 | J8: CT2/B1_EDGE - FABRIC-A
A9: MDS25ESW1 | B9: 9513 | C9: 5.2(1) | D9: FOX1516GHC4 | E9: 330 | F9: 78 | G9: =F9/(E9+F9) -> 0.19117647 | H9: 0 | I9: 408 | J9: CT2/B1_EDGE - FABRIC-A
A10: MDS29ESW1 | B10: 9513 | C10: 5.2(1) | D10: FOX1516GHC6 | E10: 384 | F10: 96 | G10: =F10/(E10+F10) -> 0.2 | H10: 0 | I10: 480 | J10: CT2/B1_EDGE - FABRIC-A
A11: MDS05SW2 | B11: 9513 | C11: 5.2(1) | D11: FOX1149H2MH | E11: 232 | F11: 8 | G11: =F11/(E11+F11) -> 0.033333333 | H11: 0 | I11: 240 | J11: CT2/B1_EDGE - FABRIC-A - Under Tech Refresh
A12: MDS09SW1 | B12: 9513 | C12: 5.2(1) | D12: FOX1210GS3N | E12: 62 | F12: 10 | G12: =F12/(E12+F12) -> 0.13888889 | H12: 0 | I12: 72 | J12: CT2/B1_EDGE - FABRIC-A - Under Tech Refresh
A13: MDS09SW2 | B13: 9513 | C13: 5.2(1) | D13: FOX1210G5RT | E13: 168 | F13: 12 | G13: =F13/(E13+F13) -> 0.066666667 | H13: 0 | I13: 180 | J13: SRDF - FABRIC-A - Under Tech Refresh
A14: MDS05SW1 | B14: 9513 | C14: 5.2(1) | D14: FOX1147GMAA | E14: 98 | F14: 22 | G14: =F14/(E14+F14) -> 0.18333333 | H14: 0 | I14: 120 | J14: TAPE - FABRIC- Under Tech Refresh
A15: MDS23CSW1 | B15: 9513 | C15: 5.2(1) | D15: FOX1448GFSJ | E15: 311 | F15: 1 | G15: =F15/(E15+F15) -> 0.0032051282 | H15: 0 | I15: 312 | J15: CT2/B1_CORE - FABRIC-B
A16: MDS43CSW1 | B16: 9513 | C16: 5.2(1) | D16: FOX1549G4GA | E16: 228 | F16: 12 | G16: =F16/(E16+F16) -> 0.05 | H16: 0 | I16: 240 | J16: CT2/B1_CORE- FABRIC-B
A17: MDS47CSW1 | B17: 9513 | C17: 5.2(1) | D17: FOX1645Q08M | E17: 128 | F17: 64 | G17: =F17/(E17+F17) -> 0.33333333 | H17: 0 | I17: 192 | J17: CT2/B1_CORE- FABRIC-B
... A23: MDS11SW2 | B23: 9513 | C23: 5.2(1) | D23: FOX1309HB4D | E23: 168 | F23: 12 | G23: =F23/(E23+F23) -> 0.066666667 | H23: 0 | I23: 180 | J23: SRDF - FABRIC-B - Under Tech Refresh
A24: MDS07SW1 | B24: 9513 | C24: 5.2(1) | D24: FOX1149H2MM | E24: 0 | F24: 0 | G24: 0 | H24: 0 | I24: 0 | J24: TAPE - FABRIC - Under Tech Refresh
A25: Singapore - Cintech L1
A26: Cisco | E26: Capacity
A27: Switch Name | B27: Frame Model | C27: Code Level | D27: Serial Number | E27: Used Ports | F27: Free Ports | G27: Percent Free | H27: Not Installed | I27: Switch Capacity | J27: Comments
A28: MDS49CSW1 | B28: 9513 | C28: 5.2(8b) | D28: FOX1726S01E | E28: 99 | F28: 29 | G28: =F28/(E28+F28) -> 0.2265625 | H28: 0 | I28: 128 | J28: CT2/L1_CORE - FABRIC-A
A29: MDS53ESW1 | B29: 9513 | C29: 5.2(8b) | D29: FOX1726S025 | E29: 150 | F29: 10 | G29: =F29/(E29+F29) -> 0.0625 | H29: 0 | I29: 160 | J29: CT2/L1_EDGE - FABRIC-A
A30: MDS33ESW1 | B30: 9513 | C30: 5.2(1) | D30: FOX1519GN4Y | E30: 216 | F30: 72 | G30: =F30/(E30+F30) -> 0.25 | H30: 0 | I30: 288 | J30: CT2/L1_EDGE - FABRIC-A
A31: MDS37ESW1 | B31: 9513 | C31: 5.2(1) | D31: FOX1521GT8C | E31: 151 | F31: 41 | G31: =F31/(E31+F31) -> 0.21354167 | H31: 0 | I31: 192 | J31: CT2/L1_EDGE - FABRIC-A
A32: MDS57FSW1 | B32: 9513 | C32: 5.2(8b) | D32: FOX1726S034 | E32: 60 | F32: 12 | G32: =F32/(E32+F32) -> 0.16666667 | H32: 0 | I32: 72 | J32: CT2/L1_SRDF - FABRIC-A
A33: MDS01SW1 | B33: 9513 | C33: 5.2(1) | D33: FOX1205GAJD | E33: 292 | F33: 20 | G33: =F33/(E33+F33) -> 0.064102564 | H33: 0 | I33: 312 | J33: CT2/L1_SRDF/TAPE - FABRIC-A - Under Tech Refresh
A34: MDS01SW2 | B34: 9513 | C34: 5.2(1) | D34: FOX1205GAHD | E34: 215 | F34: 25 | G34: =F34/(E34+F34) -> 0.10416667 | H34: 0 | I34: 240 | J34: CT2/L1_EDGE - FABRIC-A - Under Tech Refresh
A35: MDS13SW1 | B35: 9513 | C35: 5.2(1) | D35: FOX1215GT64 | E35: 85 | F35: 35 | G35: =F35/(E35+F35) -> 0.29166667 | H35: 0 | I35: 120 | J35: CT2/L1_EDGE - FABRIC-A - Under Tech Refresh
A36: MDS33TSW2 | B36: 9513 | C36: 5.2(1) | D36: FOX1203HDLY | E36: 2 | F36: 46 | G36: =F36/(E36+F36) -> 0.95833333 | H36: 0 | I36: 48 | J36: CT2/L1_EDGE - FABRIC-A - Under Tech Refresh
A37: MDS51CSW1 | B37: 9513 | C37: 5.2(8b) | D37: FOX1726S03B | E37: 99 | F37: 29 | G37: =F37/(E37+F37) -> 0.2265625 | H37: 0 | I37: 128 | J37: CT2/L1_CORE - FABRIC-B
A38: MDS55ESW1 | B38: 9513 | C38: 5.2(8b) | D38: FOX1726S03C | E38: 150 | F38: 10 | G38: =F38/(E38+F38) -> 0.0625 | H38: 0 | I38: 160 | J38: CT2/L1_EDGE - FABRIC-B
A39: MDS35ESW1 | B39: 9513 | C39: 5.2(1) | D39: FOX1519GN5F | E39: 216 | F39: 72 | G39: =F39/(E39+F39) -> 0.25 | H39: 0 | I39: 288 | J39: CT2/L1_EDGE - FABRIC-B
... A45: MDS35TSW2 | B45: 9513 | C45: 5.2(1) | D45: FOX1205GAJM | E45: 2 | F45: 46 | G45: =F45/(E45+F45) -> 0.95833333 | H45: 0 | I45: 48 | J45: CT2/L1_EDGE - FABRIC-B - Under Tech Refresh
A46: Hong Kong AST - DC6
A47: Cisco | E47: Capacity
A48: Switch Name | B48: Frame Model | C48: Code Level | D48: Serial Number | E48: Used Ports | F48: Free Ports | G48: Percent Free | H48: Not Installed | I48: Switch Capacity | J48: Comments
A49: MDS3CSWA01 | B49: 9513 | C49: 5.2(1) | D49: FOX1544GAVC | E49: 154 | F49: 86 | G49: =F49/(E49+F49) -> 0.35833333 | H49: 0 | I49: 240 | J49: HK/ASTDC6_CORE - FABRIC-A
A50: MDS3ESWA01 | B50: 9513 | C50: 5.2(1) | D50: FOX1546G7U9 | E50: 208 | F50: 176 | G50: =F50/(E50+F50) -> 0.45833333 | H50: 0 | I50: 384 | J50: HK/ASTDC6_EDGE - FABRIC-A
A51: MDS3ESWA02 | B51: 9513 | C51: 5.2(8b) | D51: FOX1726S02S | E51: 204 | F51: 4 | G51: =F51/(E51+F51) -> 0.019230769 | H51: 0 | I51: 208 | J51: HK/ASTDC6_EDGE - FABRIC-A
A52: MDS3FSWA01 | B52: 9513 | C52: 5.2(1) | D52: FOX1550G7JF | E52: 94 | F52: 14 | G52: =F52/(E52+F52) -> 0.12962963 | H52: 0 | I52: 108 | J52: HK/ASTDC6_SRDF - FABRIC-A
A53: MDS3CSWB01 | B53: 9513 | C53: 5.2(1) | D53: FOX1544GL3D | E53: 154 | F53: 86 | G53: =F53/(E53+F53) -> 0.35833333 | H53: 0 | I53: 240 | J53: HK/ASTDC6_CORE - FABRIC-B
A54: MDS3ESWB01 | B54: 9513 | C54: 5.2(1) | D54: FOX1546G7UR | E54: 208 | F54: 176 | G54: =F54/(E54+F54) -> 0.45833333 | H54: 0 | I54: 384 | J54: HK/ASTDC6_EDGE - FABRIC-B
A55: MDS3ESWB02 | B55: 9513 | C55: 5.2(8b) | D55: FOX1726S02X | E55: 204 | F55: 4 | G55: =F55/(E55+F55) -> 0.019230769 | H55: 0 | I55: 208 | J55: HK/ASTDC6_EDGE - FABRIC-B
A56: MDS3FSWB01 | B56: 9513 | C56: 5.2(1) | D56: FOX1553GK9K | E56: 94 | F56: 14 | G56: =F56/(E56+F56) -> 0.12962963 | H56: 0 | I56: 108 | J56: HK/ASTDC6_SRDF - FABRIC-B
A57: Hong Kong AST - DC2
A58: Cisco | E58: Capacity
A59: Switch Name | B59: Frame Model | C59: Code Level | D59: Serial Number | E59: Used Ports | F59: Free Ports | G59: Percent Free | H59: Not Installed | I59: Switch Capacity | J59: Comments
A60: MDS4CSWA01 | B60: 9513 | C60: 5.2(1) | D60: FOX1517GC6B | E60: 264 | F60: 0 | G60: =F60/(E60+F60) -> 0 | H60: 0 | I60: 264 | J60: HK/ASTDC2_CORE - FABRIC-A
A61: MDS4CSWA02 | B61: 9513 | C61: 5.2(1) | D61: FOX1546G7U7 | E61: 219 | F61: 45 | G61: =F61/(E61+F61) -> 0.17045455 | H61: 0 | I61: 264 | J61: HK/ASTDC2_CORE - FABRIC-A
A62: MDS4ESWA01 | B62: 9513 | C62: 5.2(1) | D62: FOX1521H7TC | E62: 478 | F62: 2 | G62: =F62/(E62+F62) -> 0.0041666667 | H62: 0 | I62: 480 | J62: HK/ASTDC2_EDGE - FABRIC-A
A63: MDS4ESWA03 | B63: 9513 | C63: 5.2(1) | D63: FOX1612GK5J | E63: 158 | F63: 178 | G63: =F63/(E63+F63) -> 0.5297619 | H63: 0 | I63: 336 | J63: HK/ASTDC2_EDGE - FABRIC-A
A64: MDS4FSWA01 | B64: 9513 | C64: 5.2(1) | D64: FOX1517GC5X | E64: 97 | F64: 11 | G64: =F64/(E64+F64) -> 0.10185185 | H64: 0 | I64: 108 | J64: HK/ASTDC2_SRDF - FABRIC-A
A65: MDS4CSWB01 | B65: 9513 | C65: 5.2(1) | D65: FOX1521H7TB | E65: 264 | F65: 0 | G65: =F65/(E65+F65) -> 0 | H65: 0 | I65: 264 | J65: HK/ASTDC2_CORE - FABRIC-B
A66: MDS4CSWB02 | B66: 9513 | C66: 5.2(1) | D66: FOX1553GKA3 | E66: 219 | F66: 45 | G66: =F66/(E66+F66) -> 0.17045455 | H66: 0 | I66: 264 | J66: HK/ASTDC2_CORE - FABRIC-B
A67: MDS4ESWB01 | B67: 9513 | C67: 5.2(1) | D67: FOX1517GC5U | E67: 478 | F67: 2 | G67: =F67/(E67+F67) -> 0.0041666667 | H67: 0 | I67: 480 | J67: HK/ASTDC2_EDGE - FABRIC-B
A68: MDS4ESWB03 | B68: 9513 | C68: 5.2(1) | D68: FOX1606GYXT | E68: 158 | F68: 178 | G68: =F68/(E68+F68) -> 0.5297619 | H68: 0 | I68: 336 | J68: HK/ASTDC2_EDGE - FABRIC-B
A69: MDS4FSWB01 | B69: 9513 | C69: 5.2(1) | D69: FOX1517GC6A | E69: 97 | F69: 11 | G69: =F69/(E69+F69) -> 0.10185185 | H69: 0 | I69: 108 | J69: HK/ASTDC2_SRDF - FABRIC-B
A70: Hong Kong AST - DC1
A71: Cisco | E71: Capacity
A72: Switch Name | B72: Frame Model | C72: Code Level | D72: Serial Number | E72: Used Ports | F72: Free Ports | G72: Percent Free | H72: Not Installed | I72: Switch Capacity | J72: Comments
A73: MDS4ESWA02 | B73: 9513 | C73: 5.2(1) | D73: FOX1518GSJS | E73: 187 | F73: 125 | G73: =F73/(E73+F73) -> 0.40064103 | H73: 0 | I73: 312 | J73: HK/ASTDC1_EDGE-FABRIC-A
A74: MDS4ESWB02 | B74: 9513 | C74: 5.2(1) | D74: FOX1527GD4B | E74: 187 | F74: 125 | G74: =F74/(E74+F74) -> 0.40064103 | H74: 0 | I74: 312 | J74: HK/ASTDC1_EDGE - FABRIC-B
A75: Hong Kong IAD - 22
A76: Cisco | E76: Capacity
A77: Switch Name | B77: Frame Model | C77: Code Level | D77: Serial Number | E77: Used Ports | F77: Free Ports | G77: Percent Free | H77: Not Installed | I77: Switch Capacity | J77: Comments
A78: MDS221SW1 | B78: 9513 | C78: 5.2(1) | D78: FOX1428H1L0 | E78: 390 | F78: 60 | G78: =F78/(E78+F78) -> 0.13333333 | H78: 0 | I78: 450 | J78: HK-22/F_EDGE - FABRIC-A
A79: MDS221SW2 | B79: 9513 | C79: 5.2(1) | D79: FOX1428H1N7 | E79: 390 | F79: 60 | G79: =F79/(E79+F79) -> 0.13333333 | H79: 0 | I79: 450 | J79: HK-22/F_EDGE - FABRIC-B
A80: Hong Kong IAD - 23
A81: Cisco | E81: Capacity
A82: Switch Name | B82: Frame Model | C82: Code Level | D82: Serial Number | E82: Used Ports | F82: Free Ports | G82: Percent Free | H82: Not Installed | I82: Switch Capacity | J82: Comments
A83: MDS231SW1 | B83: 9513 | C83: 5.2(1) | D83: FOX1211GKUF | E83: 130 | F83: 14 | G83: =F83/(E83+F83) -> 0.097222222 | H83: 0 | I83: 144 | J83: HK-23/F_EDGE - FABRIC-A - Under Tech Refresh
A84: MDS233SW1 | B84: 9513 | C84: 5.2(1) | D84: FOX1443GRL8 | E84: 86 | F84: 58 | G84: =F84/(E84+F84) -> 0.40277778 | H84: 0 | I84: 144 | J84: HK-23/F_EDGE - FABRIC-A
A85: MDS232SW1 | B85: 9513 | C85: 5.2(1) | D85: FOX1251GU34 | E85: 130 | F85: 14 | G85: =F85/(E85+F85) -> 0.097222222 | H85: 0 | I85: 144 | J85: HK-23/F_EDGE - FABRIC-B - Under Tech Refresh
A86: MDS234SW1 | B86: 9513 | C86: 5.2(1) | D86: FOX1443GRLF | E86: 86 | F86: 58 | G86: =F86/(E86+F86) -> 0.40277778 | H86: 0 | I86: 144 | J86: HK-23/F_EDGE - FABRIC-B
A87: Hong Kong IAD - 25
A88: Cisco | E88: Capacity
A89: Switch Name | B89: Frame Model | C89: Code Level | D89: Serial Number | E89: Used Ports | F89: Free Ports | G89: Percent Free | H89: Not Installed | I89: Switch Capacity | J89: Comments
A90: MDS251SW1 | B90: 9513 | C90: 5.2(1) | D90: FOX1208G1R9 | E90: 274 | F90: 50 | G90: =F90/(E90+F90) -> 0.15432099 | H90: 0 | I90: 324 | J90: HK-25/F_EDGE - FABRIC-A - Under Tech Refresh
A91: MDS253ESW1 | B91: 9513 | C91: 5.2(1) | D91: FOX1516GHAT | E91: 140 | F91: 100 | G91: =F91/(E91+F91) -> 0.41666667 | H91: 0 | I91: 240 | J91: HK-25/F_EDGE - FABRIC-A
A92: MDS252SW1 | B92: 9513 | C92: 5.2(1) | D92: FOX1208G1ST | E92: 274 | F92: 50 | G92: =F92/(E92+F92) -> 0.15432099 | H92: 0 | I92: 324 | J92: HK-25/F_EDGE - FABRIC-B - Under Tech Refresh
A93: MDS254ESW1 | B93: 9513 | C93: 5.2(1) | D93: FOX1516G4K1 | E93: 140 | F93: 100 | G93: =F93/(E93+F93) -> 0.41666667 | H93: 0 | I93: 240 | J93: HK-25/F_EDGE - FABRIC-B
A94: Hong Kong IAD - 27
A95: Cisco | E95: Capacity
A96: Switch Name | B96: Frame Model | C96: Code Level | D96: Serial Number | E96: Used Ports | F96: Free Ports | G96: Percent Free | H96: Not Installed | I96: Switch Capacity | J96: Comments
A97: MDS271SW1 | B97: 9513 | C97: 5.2(1) | D97: FOX1147GMA5 | E97: 215 | F97: 43 | G97: =F97/(E97+F97) -> 0.16666667 | H97: 0 | I97: 258 | J97: HK-27/F_EDGE - FABRIC-A - Under Tech Refresh
A98: MDS273CSW1 | B98: 9513 | C98: 5.2(1) | D98: FOX1518G4NR | E98: 172 | F98: 140 | G98: =F98/(E98+F98) -> 0.44871795 | H98: 0 | I98: 312 | J98: HK-27/F_CORE_EDGE - FABRIC-A
A99: MDS272SW1 | B99: 9513 | C99: 5.2(1) | D99: FOX1149H2LK | E99: 234 | F99: 24 | G99: =F99/(E99+F99) -> 0.093023256 | H99: 0 | I99: 234 | J99: HK-27/F_EDGE - FABRIC-B - Under Tech Refresh
A100: MDS274CSW1 | B100: 9513 | C100: 5.2(1) | D100: FOX1516GHCA | E100: 172 | F100: 140 | G100: =F100/(E100+F100) -> 0.44871795 | H100: 0 | I100: 312 | J100: HK-27/F_CORE_EDGE - FABRIC-B
A101: Shanghai
A102: Cisco | E102: Capacity
A103: Switch Name | B103: Frame Model | C103: Code Level | D103: Serial Number | E103: Used Ports | F103: Free Ports | G103: Percent Free | H103: Not Installed | I103: Switch Capacity | J103: Comments
A104: MDS031SW1 | B104: 9513 | C104: 5.2(1) | D104: FOX1425GT3L | E104: 236 | F104: 40 | G104: =F104/(E104+F104) -> 0.14492754 | H104: 0 | I104: 276 | J104: SHANGHAI_CORE/EDGE/SRDF - FABRIC-A - Under Tech Refresh
A105: MDS031SW2 | B105: 9513 | C105: 5.2(1) | D105: FOX1425GT3T | E105: 236 | F105: 40 | G105: =F105/(E105+F105) -> 0.14492754 | H105: 0 | I105: 276 | J105: SHANGHAI_CORE/EDGE/SRDF - FABRIC-B - Under Tech Refresh
A106: Singapore - Telepark
A107: Cisco | E107: Capacity
A108: Switch Name | B108: Frame Model | C108: Code Level | D108: Serial Number | E108: Used Ports | F108: Free Ports | G108: Percent Free | H108: Not Installed | I108: Switch Capacity | J108: Comments
A109: MDS02SW2 | B109: 9513 | C109: 5.2(1) | D109: FOX1205GAJE | E109: 138 | F109: 72 | G109: =F109/(E109+F109) -> 0.34285714 | H109: 0 | I109: 210 | J109: TPK_SRDF/TAPE - Under Tech Refresh
A110: MDS04SW2 | B110: 9513 | C110: 5.2(1) | D110: FOX1203HDN4 | E110: 5 | F110: 61 | G110: =F110/(E110+F110) -> 0.92424242 | H110: 0 | I110: 66 | J110: TPK_SRDF - Under Tech Refresh
...

Sheet Americas
A1: Citigroup Distributed Fibre Switch Inventory for December 2013
A2: 390 Greenwich, NY
A3: Cisco | E3: Capacity
A4: Switch Name | B4: Frame Model | C4: Code Level | D4: Serial Number | E4: Used Ports | F4: Free Ports | G4: Percent Free | H4: Not Installed | I4: Switch Capacity | J4: Comments
A5: USECD11AC01 | B5: DS-C9513 | C5: 5.2(8b) | D5: FOX1245GJSV | E5: 97 | F5: 35 | G5: =F5/(E5+F5) -> 0.26515152 | H5: 0 | I5: =SUM(E5:F5,H5) -> 132 | J5: SAN11-A Core Install 2010-01 | K5: 390-c-11 | L5: 1
A6: USECD11AC02 | B6: DS-C9513 | C6: 5.2(8b) | D6: FOX1244GG45 | E6: 97 | F6: 35 | G6: =F6/(E6+F6) -> 0.26515152 | H6: 0 | I6: =SUM(E6:F6,H6) -> 132 | J6: SAN11-A Core Install 2010-01 | K6: 390-c-11 | L6: 1
A7: USECD11AE01 | B7: DS-C9513 | C7: 5.2(8b) | D7: FOX1244GK0A | E7: 200 | F7: 88 | G7: =F7/(E7+F7) -> 0.30555556 | H7: 0 | I7: =SUM(E7:F7,H7) -> 288 | J7: SAN11-A Install 2010-01 | K7: 390-e-11 | L7: 1
A8: USECD11AE02 | B8: DS-C9513 | C8: 5.2(8b) | D8: FOX1244GJZF | E8: 173 | F8: 115 | G8: =F8/(E8+F8) -> 0.39930556 | H8: 0 | I8: =SUM(E8:F8,H8) -> 288 | J8: SAN11-A Install 2010-01 | K8: 390-e-11 | L8: 1
A9: USECD11AE03 | B9: DS-C9513 | C9: 5.2(8b) | D9: FOX1244GK08 | E9: 193 | F9: 71 | G9: =F9/(E9+F9) -> 0.26893939 | H9: 0 | I9: =SUM(E9:F9,H9) -> 264 | J9: SAN11-A Install 2010-01 | K9: 390-e-11 | L9: 1
A10: USECD11AE04 | B10: DS-C9513 | C10: 5.2(8b) | D10: FOX1244GG44 | E10: 145 | F10: 119 | G10: =F10/(E10+F10) -> 0.45075758 | H10: 0 | I10: =SUM(E10:F10,H10) -> 264 | J10: SAN11-A Install 2010-01 | K10: 390-e-11 | L10: 1
A11: USECD11BC01 | B11: DS-C9513 | C11: 5.2(8b) | D11: FOX1244GK0F | E11: 96 | F11: 36 | G11: =F11/(E11+F11) -> 0.27272727 | H11: 0 | I11: =SUM(E11:F11,H11) -> 132 | J11: SAN11-B Core Install 2010-01 | K11: 390-c-11 | L11: 1
A12: USECD11BC02 | B12: DS-C9513 | C12: 5.2(8b) | D12: FOX1244GJZA | E12: 97 | F12: 35 | G12: =F12/(E12+F12) -> 0.26515152 | H12: 0 | I12: =SUM(E12:F12,H12) -> 132 | J12: SAN11-B Core Install 2010-01 | K12: 390-c-11 | L12: 1
A13: USECD11BE01 | B13: DS-C9513 | C13: 5.2(8b) | D13: FOX1244GJZC | E13: 202 | F13: 86 | G13: =F13/(E13+F13) -> 0.29861111 | H13: 0 | I13: =SUM(E13:F13,H13) -> 288 | J13: SAN11-B Install 2010-01 | K13: 390-e-11 | L13: 1
A14: USECD11BE02 | B14: DS-C9513 | C14: 5.2(8b) | D14: FOX1243GJ1B | E14: 174 | F14: 114 | G14: =F14/(E14+F14) -> 0.39583333 | H14: 0 | I14: =SUM(E14:F14,H14) -> 288 | J14: SAN11-B Install 2010-01 | K14: 390-e-11 | L14: 1
A15: USECD11BE03 | B15: DS-C9513 | C15: 5.2(8b) | D15: FOX1244GK0C | E15: 193 | F15: 71 | G15: =F15/(E15+F15) -> 0.26893939 | H15: 0 | I15: =SUM(E15:F15,H15) -> 264 | J15: SAN11-B Install 2010-01 | K15: 390-e-11 | L15: 1
A16: USECD11BE04 | B16: DS-C9513 | C16: 5.2(8b) | D16: FOX1244GG43 | E16: 145 | F16: 119 | G16: =F16/(E16+F16) -> 0.45075758 | H16: 0 | I16: =SUM(E16:F16,H16) -> 264 | J16: SAN11-B Install 2010-01 | K16: 390-e-11 | L16: 1
... A30: USECT10BC01 | B30: DS-C9513 | C30: 5.2(8b) | D30: FOX1147GMCR | E30: 65 | F30: 151 | G30: =F30/(E30+F30) -> 0.69907407 | H30: 0 | I30: =SUM(E30:F30,H30) -> 216 | J30: SAN10-B Tape Install 2009-03 | K30: 390-c-10 | L30: 1
A33: Columbus, OH (MWDC)
A34: Cisco | E34: Capacity
A35: Switch Name | B35: Frame Model | C35: Code Level | D35: Serial Number | E35: Used Ports | F35: Free Ports | G35: Percent Free | H35: Not Installed | I35: Switch Capacity | J35: Comments
A36: USMCD01AC01 | B36: DS-C9513 | C36: 5.2(1) | D36: FOX11120D9Z | E36: 149 | F36: 3 | G36: =F36/(E36+F36) -> 0.019736842 | H36: 0 | I36: =SUM(E36:F36,H36) -> 152 | J36: SAN1-A Core Install 2007-10 | K36: mw-c-1 | L36: 1
A37: USMCD01AC02 | B37: DS-C9513 | C37: 5.2(1) | D37: FOX11070AWB | E37: 148 | F37: 4 | G37: =F37/(E37+F37) -> 0.026315789 | H37: 0 | I37: =SUM(E37:F37,H37) -> 152 | J37: SAN1-A Core Install 2007-10 | K37: mw-c-1 | L37: 1
A38: USMCD01AE01 | B38: DS-C9513 | C38: 5.2(1) | D38: FOX110605TC | E38: 257 | F38: 31 | G38: =F38/(E38+F38) -> 0.10763889 | H38: 0 | I38: =SUM(E38:F38,H38) -> 288 | J38: SAN1-A Install 2007-10 | K38: mw-e-1 | L38: 1
A39: USMCD01AE02 | B39: DS-C9513 | C39: 5.2(1) | D39: FOX11160H71 | E39: 242 | F39: 46 | G39: =F39/(E39+F39) -> 0.15972222 | H39: 0 | I39: =SUM(E39:F39,H39) -> 288 | J39: SAN1-A Install 2007-10 | K39: mw-e-1 | L39: 1
A40: USMCD01AE03 | B40: DS-C9513 | C40: 5.2(1) | D40: FOX11070MJ3 | E40: 228 | F40: 60 | G40: =F40/(E40+F40) -> 0.20833333 | H40: 0 | I40: =SUM(E40:F40,H40) -> 288 | J40: SAN1-A Install 2007-10 | K40: mw-e-1 | L40: 1
A41: USMCD01AE04 | B41: DS-C9513 | C41: 5.2(1) | D41: FOX11120D9X | E41: 230 | F41: 58 | G41: =F41/(E41+F41) -> 0.20138889 | H41: 0 | I41: =SUM(E41:F41,H41) -> 288 | J41: SAN1-A Install 2007-10 | K41: mw-e-1 | L41: 1
A42: USMCD01BC01 | B42: DS-C9513 | C42: 5.2(1) | D42: FOX11070MJ2 | E42: 149 | F42: 3 | G42: =F42/(E42+F42) -> 0.019736842 | H42: 0 | I42: =SUM(E42:F42,H42) -> 152 | J42: SAN1-B Core Install 2007-10 | K42: mw-c-1 | L42: 1
A43: USMCD01BC02 | B43: DS-C9513 | C43: 5.2(1) | D43: FOX11070AX5 | E43: 147 | F43: 5 | G43: =F43/(E43+F43) -> 0.032894737 | H43: 0 | I43: =SUM(E43:F43,H43) -> 152 | J43: SAN1-B Core Install 2007-10 | K43: mw-c-1 | L43: 1
A44: USMCD01BE01 | B44: DS-C9513 | C44: 5.2(1) | D44: FOX110905RK | E44: 255 | F44: 33 | G44: =F44/(E44+F44) -> 0.11458333 | H44: 0 | I44: =SUM(E44:F44,H44) -> 288 | J44: SAN1-B Install 2007-10 | K44: mw-e-1 | L44: 1
A45: USMCD01BE02 | B45: DS-C9513 | C45: 5.2(1) | D45: FOX11070MKG | E45: 242 | F45: 46 | G45: =F45/(E45+F45) -> 0.15972222 | H45: 0 | I45: =SUM(E45:F45,H45) -> 288 | J45: SAN1-B Install 2007-10 | K45: mw-e-1 | L45: 1
A46: USMCD01BE03 | B46: DS-C9513 | C46: 5.2(1) | D46: FOX104002T3 | E46: 234 | F46: 54 | G46: =F46/(E46+F46) -> 0.1875 | H46: 0 | I46: =SUM(E46:F46,H46) -> 288 | J46: SAN1-B Install 2007-10 | K46: mw-e-1 | L46: 1
A47: USMCD01BE04 | B47: DS-C9513 | C47: 5.2(1) | D47: FOX11160H6X | E47: 238 | F47: 50 | G47: =F47/(E47+F47) -> 0.17361111 | H47: 0 | I47: =SUM(E47:F47,H47) -> 288 | J47: SAN1-B Install 2007-10 | K47: mw-e-1 | L47: 1
... A75: USMCT02BC01 | B75: DS-C9513 | C75: 5.2(8b) | D75: FOX11110TAX | E75: 166 | F75: 26 | G75: =F75/(E75+F75) -> 0.13541667 | H75: 0 | I75: =SUM(E75:F75,H75) -> 192 | J75: SAN2-B Core Tape Install 2007-10 | K75: mw-t-2 | L75: 1
A78: Georgetown DataCenter (Georgetown, TX)
A79: Cisco | E79: Capacity
A80: Switch Name | B80: Frame Model | C80: Code Level | D80: Serial Number | E80: Used Ports | F80: Free Ports | G80: Percent Free | H80: Not Installed | I80: Switch Capacity | J80: Comments
A81: USGCD01AC01 | B81: DS-C9513 | C81: 5.2(1) | D81: FOX1147GMB2 | E81: 126 | F81: 6 | G81: =F81/(E81+F81) -> 0.045454545 | H81: 0 | I81: =SUM(E81:F81,H81) -> 132 | J81: SAN1-A Core Install 2008-04 | K81: gt-c-1 | L81: 1
A82: USGCD01AC02 | B82: DS-C9513 | C82: 5.2(1) | D82: FOX114507ZQ | E82: 131 | F82: 1 | G82: =F82/(E82+F82) -> 0.0075757576 | H82: 0 | I82: =SUM(E82:F82,H82) -> 132 | J82: SAN1-A Core Install 2008-04 | K82: gt-c-1 | L82: 1
A83: USGCD01AE01 | B83: DS-C9513 | C83: 5.2(1) | D83: FOX1149H2MF | E83: 317 | F83: 19 | G83: =F83/(E83+F83) -> 0.056547619 | H83: 0 | I83: =SUM(E83:F83,H83) -> 336 | J83: SAN1-A Install 2008-04 | K83: gt-e-1 | L83: 1
A84: USGCD01AE02 | B84: DS-C9513 | C84: 5.2(1) | D84: FOX1147GMAJ | E84: 315 | F84: 21 | G84: =F84/(E84+F84) -> 0.0625 | H84: 0 | I84: =SUM(E84:F84,H84) -> 336 | J84: SAN1-A Install 2008-04 | K84: gt-e-1 | L84: 1
A85: USGCD01AE03 | B85: DS-C9513 | C85: 5.2(1) | D85: FOX1147GMBN | E85: 287 | F85: 73 | G85: =F85/(E85+F85) -> 0.20277778 | H85: 0 | I85: =SUM(E85:F85,H85) -> 360 | J85: SAN1-A Install 2008-04 | K85: gt-e-1 | L85: 1
A86: USGCD01AE04 | B86: DS-C9513 | C86: 5.2(1) | D86: FOX1147GMAB | E86: 270 | F86: 90 | G86: =F86/(E86+F86) -> 0.25 | H86: 0 | I86: =SUM(E86:F86,H86) -> 360 | J86: SAN1-A Install 2008-04 | K86: gt-e-1 | L86: 1
A87: USGCD01BC01 | B87: DS-C9513 | C87: 5.2(1) | D87: FOX1147GMAN | E87: 128 | F87: 4 | G87: =F87/(E87+F87) -> 0.03030303 | H87: 0 | I87: =SUM(E87:F87,H87) -> 132 | J87: SAN1-B Core Install 2008-04 | K87: gt-c-1 | L87: 1
A88: USGCD01BC02 | B88: DS-C9513 | C88: 5.2(1) | D88: FOX1147GMC8 | E88: 130 | F88: 2 | G88: =F88/(E88+F88) -> 0.015151515 | H88: 0 | I88: =SUM(E88:F88,H88) -> 132 | J88: SAN1-B Core Install 2008-04 | K88: gt-c-1 | L88: 1
A89: USGCD01BE01 | B89: DS-C9513 | C89: 5.2(1) | D89: FOX1149H2LX | E89: 316 | F89: 20 | G89: =F89/(E89+F89) -> 0.05952381 | H89: 0 | I89: =SUM(E89:F89,H89) -> 336 | J89: SAN1-B Install 2008-04 | K89: gt-e-1 | L89: 1
A90: USGCD01BE02 | B90: DS-C9513 | C90: 5.2(1) | D90: FOX1147GMAT | E90: 312 | F90: 24 | G90: =F90/(E90+F90) -> 0.071428571 | H90: 0 | I90: =SUM(E90:F90,H90) -> 336 | J90: SAN1-B Install 2008-04 | K90: gt-e-1 | L90: 1
A91: USGCD01BE03 | B91: DS-C9513 | C91: 5.2(1) | D91: FOX1149H2L8 | E91: 285 | F91: 75 | G91: =F91/(E91+F91) -> 0.20833333 | H91: 0 | I91: =SUM(E91:F91,H91) -> 360 | J91: SAN1-B Install 2008-04 | K91: gt-e-1 | L91: 1
A92: USGCD01BE04 | B92: DS-C9513 | C92: 5.2(1) | D92: FOX114507YZ | E92: 271 | F92: 89 | G92: =F92/(E92+F92) -> 0.24722222 | H92: 0 | I92: =SUM(E92:F92,H92) -> 360 | J92: SAN1-B Install 2008-04 | K92: gt-e-1 | L92: 1
... A108: USGCD04BC01 | B108: DS-C9513 | C108: 5.2(1) | D108: FOX1227GWEG | E108: 37 | F108: 179 | G108: =F108/(E108+F108) -> 0.8287037 | H108: 0 | I108: =SUM(E108:F108,H108) -> 216 | J108: SAN4-B SRDF Jardines | K108: gt-d-4 | L108: 1
A111: Jacksonville, FL (Legacy NAIT)
A112: Cisco | E112: Capacity
A113: Switch Name | B113: Frame Model | C113: Code Level | D113: Serial Number | E113: Used Ports | F113: Free Ports | G113: Percent Free | H113: Not Installed | I113: Switch Capacity | J113: Comments
A114: USJCD07AC01 | B114: DS-C9148 | C114: 5.2(8b) | D114: AMS16030490 | E114: 16 | F114: 32 | G114: =F114/(E114+F114) -> 0.66666667 | H114: 0 | I114: =SUM(E114:F114,H114) -> 48 | J114: SAN7-A Core Install 2012-08 | K114: jax-c-7 | L114: 1
A115: USJCD07BC01 | B115: DS-C9148 | C115: 5.2(8b) | D115: AMS16030779 | E115: 20 | F115: 28 | G115: =F115/(E115+F115) -> 0.58333333 | H115: 0 | I115: =SUM(E115:F115,H115) -> 48 | J115: SAN7-B Core Install 2012-08 | K115: jax-c-7 | L115: 1
A116: USJCD08AC01 | B116: DS-C9148 | C116: 5.2(8b) | D116: AMS16030503 | E116: 21 | F116: 27 | G116: =F116/(E116+F116) -> 0.5625 | H116: 0 | I116: =SUM(E116:F116,H116) -> 48 | J116: SAN8-A Core Install 2012-08 | K116: jax-c-8 | L116: 1
A117: USJCD08BC01 | B117: DS-C9148 | C117: 5.2(8b) | D117: AMS15520028 | E117: 21 | F117: 27 | G117: =F117/(E117+F117) -> 0.5625 | H117: 0 | I117: =SUM(E117:F117,H117) -> 48 | J117: SAN8-A Core Install 2012-08 | K117: jax-c-8 | L117: 1
A118: USJCD09AC01 | B118: DS-C9148 | C118: 5.2(8b) | D118: AMS15440340 | E118: 7 | F118: 41 | G118: =F118/(E118+F118) -> 0.85416667 | H118: 0 | I118: =SUM(E118:F118,H118) -> 48 | J118: SAN9-A Core Install 2012-08 | K118: jax-c-9 | L118: 1
A119: USJCD09BC01 | B119: DS-C9148 | C119: 5.2(8b) | D119: AMS15470107 | E119: 7 | F119: 41 | G119: =F119/(E119+F119) -> 0.85416667 | H119: 0 | I119: =SUM(E119:F119,H119) -> 48 | J119: SAN9-A Core Install 2012-08 | K119: jax-c-9 | L119: 1
A122: Jardines (Mexico City), Mexico
A123: Brocade | E123: Capacity
A124: Switch Name | B124: Frame Model | C124: Code Level | D124: Serial Number | E124: Used Ports | F124: Free Ports | G124: Percent Free | H124: Not Installed | I124: Switch Capacity | J124: Comments
A125: MXPBD02AC01 | B125: ED_48000B | C125: v5.3.0a | D125: BRCQV060007928 | E125: 66 | F125: 94 | G125: =F125/(E125+F125) -> 0.5875 | H125: 0 | I125: =SUM(E125:F125,H125) -> 160 | J125: SAN2-A Core | K125: jar-c-2 | L125: 1
A126: MXPBD02BC01 | B126: ED_48000B | C126: v5.3.0a | D126: BRCQV060007558 | E126: 63 | F126: 113 | G126: =F126/(E126+F126) -> 0.64204545 | H126: 0 | I126: =SUM(E126:F126,H126) -> 176 | J126: SAN2-B Core | K126: jar-c-2 | L126: 1
A127: MXPBT03AC01 | B127: ED_48000B | C127: v6.1.0h | D127: BRCQV060014171 | E127: 44 | F127: 68 | G127: =F127/(E127+F127) -> 0.60714286 | H127: 0 | I127: =SUM(E127:F127,H127) -> 112 | J127: SAN3-A Tape Core | K127: jar-c-3 | L127: 1
A128: Cisco | E128: Capacity
A129: Switch Name | B129: Frame Model | C129: Code Level | D129: Serial Number | E129: Used Ports | F129: Free Ports | G129: Percent Free | H129: Not Installed | I129: Switch Capacity | J129: Comments
A130: MXPCD04AC01 | B130: DS-C9513 | C130: 5.2(2a) | D130: FOX1346GA2V | E130: 276 | F130: 102 | G130: =F130/(E130+F130) -> 0.26984127 | H130: 0 | I130: =SUM(E130:F130,H130) -> 378 | J130: SAN4-A Core SRDF GTDC | K130: jar-c-4 | L130: 1
A131: MXPCD04BC01 | B131: DS-C9513 | C131: 5.2(2a) | D131: FOX1342HJ16 | E131: 277 | F131: 101 | G131: =F131/(E131+F131) -> 0.26719577 | H131: 0 | I131: =SUM(E131:F131,H131) -> 378 | J131: SAN4-B Core SRDF GTDC | K131: jar-c-4 | L131: 1
A132: MXPCD05AC01 | B132: DS-C9513 | C132: 5.2(2a) | D132: FOX1303GF44 | E132: 5 | F132: 31 | G132: =F132/(E132+F132) -> 0.86111111 | H132: 0 | I132: =SUM(E132:F132,H132) -> 36 | J132: SAN5-A Core SRDF Santa Fe/Mont | K132: jar-c-5 | L132: 1
A133: MXPCD05BC01 | B133: DS-C9513 | C133: 5.2(2a) | D133: FOX1245GJTJ | E133: 5 | F133: 31 | G133: =F133/(E133+F133) -> 0.86111111 | H133: 0 | I133: =SUM(E133:F133,H133) -> 36 | J133: SAN5-B Core SRDF Santa Fe/Mont | K133: jar-c-5 | L133: 1
A134: McData | E134: Capacity
A135: Switch Name | B135: Frame Model | C135: Code Level | D135: Serial Number | E135: Used Ports | F135: Free Ports | G135: Percent Free | H135: Not Installed | I135: Switch Capacity | J135: Comments
A136: MXPMD00AC01 | B136: ED-140M | C136: 09.01.00 | D136: MC5I05993N | E136: 18 | F136: 114 | G136: =F136/(E136+F136) -> 0.86363636 | H136: 8 | I136: =SUM(E136:F136,H136) -> 140 | J136: SAN0-A Core | K136: jar-c-1 | L136: 1
A137: MXPMD01AC01 | B137: ED-64 | C137: 05.03.00 | D137: MC5FJ00253 | E137: 23 | F137: 41 | G137: =F137/(E137+F137) -> 0.640625 | H137: 0 | I137: =SUM(E137:F137,H137) -> 64 | J137: SAN1-A Core | K137: jar-c-1 | L137: 1
A138: MXPMD01BC01 | B138: ED-64 | C138: 05.02.00 | D138: MC5FJ20652 | E138: 15 | F138: 49 | G138: =F138/(E138+F138) -> 0.765625 | H138: 0 | I138: =SUM(E138:F138,H138) -> 64 | J138: SAN1-B Core | K138: jar-c-1 | L138: 1
A141: London, Canada (Legacy NAIT)
A142: McData | E142: Capacity
A143: Switch Name | B143: Frame Model | C143: Code Level | D143: Serial Number | E143: Used Ports | F143: Free Ports | G143: Percent Free | H143: Not Installed | I143: Switch Capacity | J143: Comments
A144: CALMD02AC01 | B144: DS4700M | C144: 09.09.07 | D144: MC51005193R | E144: 9 | F144: 23 | G144: =F144/(E144+F144) -> 0.71875 | H144: 0 | I144: =SUM(E144:F144,H144) -> 32 | J144: SAN2-A | K144: lon-d-2 | L144: 1
A145: CALMD02AE01 | B145: DS4700M | C145: 09.09.07 | D145: MC51005339R | E145: 6 | F145: 26 | G145: =F145/(E145+F145) -> 0.8125 | H145: 0 | I145: =SUM(E145:F145,H145) -> 32 | J145: SAN2-A | K145: lon-d-2 | L145: 1
A146: CALMD02BC01 | B146: DS4700M | C146: 09.09.07 | D146: MC51005334R | E146: 7 | F146: 25 | G146: =F146/(E146+F146) -> 0.78125 | H146: 0 | I146: =SUM(E146:F146,H146) -> 32 | J146: SAN2-B | K146: lon-d-2 | L146: 1
A147: CALMD02BE01 | B147: DS4700M | C147: 09.09.07 | D147: MC51005182R | E147: 5 | F147: 27 | G147: =F147/(E147+F147) -> 0.84375 | H147: 0 | I147: =SUM(E147:F147,H147) -> 32 | J147: SAN2-B | K147: lon-d-2 | L147: 1
A148: CALMT01AC01 | B148: DS4700M | C148: 09.09.07 | D148: MC51005336R | E148: 2 | F148: 30 | G148: =F148/(E148+F148) -> 0.9375 | H148: 0 | I148: =SUM(E148:F148,H148) -> 32 | J148: SAN1-A Tape | K148: lon-t-3 | L148: 1
A149: CALMT03AC01 | B149: DS4700M | C149: 09.09.07 | D149: MC51005326R | E149: 2 | F149: 30 | G149: =F149/(E149+F149) -> 0.9375 | H149: 0 | I149: =SUM(E149:F149,H149) -> 32 | J149: SAN3-A Tape | K149: lon-t-3 | L149: 1
A152: Mississauga, Canada (Legacy NAIT)
A153: Cisco | E153: Capacity
A154: Switch Name | B154: Frame Model | C154: Code Level | D154: Serial Number | E154: Used Ports | F154: Free Ports | G154: Percent Free | H154: Not Installed | I154: Switch Capacity | J154: Comments
A155: CABCD01AC01 | B155: DS-C9513 | C155: 5.2(8b) | D155: FOX1337GT7Z | E155: 41 | F155: 55 | G155: =F155/(E155+F155) -> 0.57291667 | H155: 0 | I155: =SUM(E155:F155,H155) -> 96 | J155: SAN1-A Core | K155: mis-c-1 | L155: 1
A156: CABCD01BC01 | B156: DS-C9513 | C156: 5.2(8b) | D156: FOX1337GT6T | E156: 39 | F156: 57 | G156: =F156/(E156+F156) -> 0.59375 | H156: 0 | I156: =SUM(E156:F156,H156) -> 96 | J156: SAN1-B Core | K156: mis-c-1 | L156: 1
A157: CABCD02AC01 | B157: DS-C9513 | C157: 5.2(8b) | D157: FOX1536G8MC | E157: 68 | F157: 28 | G157: =F157/(E157+F157) -> 0.29166667 | H157: 0 | I157: =SUM(E157:F157,H157) -> 96 | J157: SAN2-A Core Install 2012-05 | K157: mis-c-2 | L157: 1
A158: CABCD02BC01 | B158: DS-C9513 | C158: 5.2(8b) | D158: FOX1544GFPU | E158: 66 | F158: 30 | G158: =F158/(E158+F158) -> 0.3125 | H158: 0 | I158: =SUM(E158:F158,H158) -> 96 | J158: SAN2-B Core Install 2012-05 | K158: mis-c-2 | L158: 1
A159: McData | E159: Capacity
A160: Switch Name | B160: Frame Model | C160: Code Level | D160: Serial Number | E160: Used Ports | F160: Free Ports | G160: Percent Free | H160: Not Installed | I160: Switch Capacity | J160: Comments
A161: CABMD01AE01 | B161: DS4700M | C161: 09.09.07 | D161: MC51001668R | E161: 11 | F161: 21 | G161: =F161/(E161+F161) -> 0.65625 | H161: 0 | I161: =SUM(E161:F161,H161) -> 32 | J161: SAN1-A | K161: mis-d-1 | L161: 1
A162: CABMD01BE01 | B162: DS4700M | C162: 09.09.07 | D162: MC51001612R | E162: 8 | F162: 24 | G162: =F162/(E162+F162) -> 0.75 | H162: 0 | I162: =SUM(E162:F162,H162) -> 32 | J162: SAN1-B | K162: mis-d-1 | L162: 1
A163: CABMT02BC01 | B163: DS4700M | C163: 09.09.07 | D163: MC51004284R | E163: 5 | F163: 27 | G163: =F163/(E163+F163) -> 0.84375 | H163: 0 | I163: =SUM(E163:F163,H163) -> 32 | J163: SAN2-A Tape | K163: mis-t-2 | L163: 1
A164: CABMT02BC02 | B164: DS4700M | C164: 09.09.07 | D164: MC51004285R | E164: 5 | F164: 27 | G164: =F164/(E164+F164) -> 0.84375 | H164: 0 | I164: =SUM(E164:F164,H164) -> 32 | J164: SAN2-B Tape | K164: mis-t-2 | L164: 1
A167: Monterrey, Mexico
A168: Brocade | E168: Capacity
A169: Switch Name | B169: Frame Model | C169: Code Level | D169: Serial Number | E169: Used Ports | F169: Free Ports | G169: Percent Free | H169: Not Installed | I169: Switch Capacity | J169: Comments
...

Sheet EMEA
A1: EMEA - Citigroup Distributed Fibre Switch Inventory for December 2013
A2: London - RIVERDALE DATA CENTER (RDC)
A3: Cisco | E3: Capacity
A4: Switch Name | B4: Frame Model | C4: Code Level | D4: Serial Number | E4: Used Ports | F4: Free Ports | G4: Percent Free | H4: Not Installed | I4: Switch Capacity | J4: Comments
A5: cmdsrdc3-ct-01 | B5: DS-C9513 | C5: 5.2(8b) | D5: FOX1150H4XB | E5: 109 | F5: 23 | G5: =F5/(E5+F5) -> 0.17424242 | H5: 0 | I5: 132 | J5: CORE - CAT
A6: cmdsrdc3-dg-01 | B6: DS-C9513 | C6: 5.2(8b) | D6: FOX1152HDFX | E6: 112 | F6: 20 | G6: =F6/(E6+F6) -> 0.15151515 | H6: 0 | I6: 132 | J6: CORE - DOG
A7: cmdsrdc4-jd-01 | B7: DS-C9513 | C7: 5.2(8b) | D7: FOX1202H3PN | E7: 116 | F7: 4 | G7: =F7/(E7+F7) -> 0.033333333 | H7: 0 | I7: 120 | J7: CORE - JADE
A8: cmdsrdc4-jd-02 | B8: DS-C9513 | C8: 5.2(8b) | D8: FOX1150H529 | E8: 113 | F8: 7 | G8: =F8/(E8+F8) -> 0.058333333 | H8: 0 | I8: 120 | J8: CORE - JADE
A9: cmdsrdc4-jd-11 | B9: DS-C9513 | C9: 5.2(8b) | D9: FOX1521H7SD | E9: 194 | F9: 110 | G9: =F9/(E9+F9) -> 0.36184211 | H9: 0 | I9: 304 | J9: CORE - JADE
A10: cmdsrdc4-jd-14 | B10: DS-C9513 | C10: 5.2(8b) | D10: FOX1545GUCQ | E10: 20 | F10: 300 | G10: =F10/(E10+F10) -> 0.9375 | H10: 0 | I10: 320 | J10: CORE - JADE
A11: cmdsrdc4-rb-01 | B11: DS-C9513 | C11: 5.2(8b) | D11: FOX1202H3NR | E11: 114 | F11: 18 | G11: =F11/(E11+F11) -> 0.13636364 | H11: 0 | I11: 132 | J11: CORE - RUBY
A12: cmdsrdc4-rb-02 | B12: DS-C9513 | C12: 5.2(8b) | D12: FOX1202H3N8 | E12: 112 | F12: 20 | G12: =F12/(E12+F12) -> 0.15151515 | H12: 0 | I12: 132 | J12: CORE - RUBY
A13: cmdsrdc4-rb-11 | B13: DS-C9513 | C13: 5.2(8b) | D13: FOX1523GLLE | E13: 193 | F13: 111 | G13: =F13/(E13+F13) -> 0.36513158 | H13: 0 | I13: 304 | J13: CORE - RUBY
A14: cmdsrdc4-rb-14 | B14: DS-C9513 | C14: 5.2(8b) | D14: FOX1545GUCC | E14: 20 | F14: 299 | G14: =F14/(E14+F14) -> 0.93730408 | H14: 1 | I14: 320 | J14: CORE - RUBY
A15: emdsrdc1-jd-06 | B15: DS-C9513 | C15: 5.2(8b) | D15: FOX1227GSWP | E15: 101 | F15: 81 | G15: =F15/(E15+F15) -> 0.44505495 | H15: 2 | I15: 184 | J15: EDGE - JADE
A16: emdsrdc1-rb-06 | B16: DS-C9513 | C16: 5.2(8b) | D16: FOX1228GRAY | E16: 100 | F16: 84 | G16: =F16/(E16+F16) -> 0.45652174 | H16: 0 | I16: 184 | J16: EDGE - RUBY
... A38: rmdsrdc4-sl-01 | B38: DS-C9513 | C38: 5.2(2a) | D38: FOX1202H3P2 | E38: 62 | F38: 117 | G38: =F38/(E38+F38) -> 0.65363128 | H38: 1 | I38: 180 | J38: SRDF - SILVER
A39: Brocade | E39: Capacity
A40: Switch Name | B40: Frame Model | C40: Code Level | D40: Serial Number | E40: Used Ports | F40: Free Ports | G40: Percent Free | H40: Not Installed | I40: Switch Capacity | J40: Comments
A41: SW01R_CORE_RED_RDC1 | B41: ED-140M | C41: 09.09.07 | D41: MC5IN03437 | J41: CORE - RED | K41: Decommission in Progress
A42: SW02R_CORE_BLUE_RDC1 | B42: ED-140M | C42: 09.09.07 | D42: MC5IN03434 | J42: CORE - BLUE
A43: SW03R_EDGE_RED_RDC1 | B43: ED-140M | C43: 09.09.07 | D43: MC5IN03438 | J43: EDGE - RED
A44: SW04R_EDGE_BLUE_RDC1 | B44: ED-140M | C44: 09.09.07 | D44: MC5IN03435 | J44: EDGE - BLUE
A45: SW05R_EDGE_RED_RDC1 | B45: ED-140M | C45: 09.09.07 | D45: MC5IN03439 | J45: EDGE - RED
A46: SW06R_EDGE_BLUE_RDC1 | B46: ED-140M | C46: 09.09.07 | D46: MC5IN03436 | J46: EDGE - BLUE
A47: SW13R_EDGE_RED_RDC1 | B47: ED-140M | C47: 09.09.07
A48: SW14R_EDGE_BLUE_RDC1 | B48: ED-140M | C48: 09.09.07
A49: SW15R_CORE_RED_RDC4 | B49: ED-140M | C49: 09.09.07 | D49: MC5IN02561 | J49: CORE - RED
A50: SW16R_CORE_BLUE_RDC4 | B50: ED-140M | C50: 09.09.07 | D50: MC5IN02566 | J50: CORE - BLUE
A51: SW19R_EDGE_RED_RDC1 | B51: ED-140M | C51: 09.09.07
A52: SW1_TL_RDC3 | B52: ED-64M | C52: 09.00.00
A53: SW20R_EDGE_BLUE_RDC1 | B53: ED-140M | C53: 09.09.07
A54: SW22R_EDGE_BLUE_RDC3 | B54: ED-64M | C54: 09.00.00
A55: SW23R_EDGE_RED_RDC4 | B55: ED-140M | C55: 09.09.07 | D55: MC5IN04319 | J55: EDGE - RED
A56: SW24R_EDGE_BLUE_RDC4 | B56: ED-140M | C56: 09.09.07 | D56: MC5IN04320 | J56: EDGE - BLUE
A57: SW25R_CORE_RED_RDC4 | B57: ED-140M | C57: 09.09.07 | D57: MC5IN04503 | J57: CORE - RED
A58: SW26R_CORE_BLUE_RDC4 | B58: ED-140M | C58: 09.09.07 | D58: MC5IN04504 | J58: CORE - BLUE
A59: SW27R_EDGE_RED_RDC3 | B59: ED-140M | C59: 09.09.07 | D59: MC5I05965N | J59: EDGE - RED
A60: SW28R_EDGE_BLUE_RDC3 | B60: ED-140M | C60: 09.09.07 | D60: MC5I05888N | J60: EDGE - BLUE
A61: SW29R_EDGE_RED_RDC3 | B61: ED-140M | C61: 09.09.07 | D61: MC5I05881N | J61: EDGE - RED
A62: SW30R_EDGE_BLUE_RDC3 | B62: ED-140M | C62: 09.09.07 | D62: MC5I05884N | J62: EDGE - BLUE
A63: SW31R_EDGE_RED_RDC4 | B63: ED-140M | C63: 09.09.07 | D63: MC5I05883N | J63: EDGE - RED
A64: SW32R_EDGE_BLUE_RDC4 | B64: ED-140M | C64: 09.09.07 | D64: MC5I05871N | J64: EDGE - BLUE
A65: SW92R_SRDF_BLACK_RDC1 | B65: ED-64M | C65: 09.00.00
A66: SW94R_SRDF_BLACK_RDC4 | B66: ED-64M | C66: 09.09.07
A67: London - Citigroup Centre (CGC)
A68: Cisco | E68: Capacity
A69: Switch Name | B69: Frame Model | C69: Code Level | D69: Serial Number | E69: Used Ports | F69: Free Ports | G69: Percent Free | H69: Not Installed | I69: Switch Capacity | J69: Comments
A70: cmdscgc1-ct-01 | B70: DS-C9513 | C70: 5.2(8b) | D70: FOX1205GAHN | E70: 16 | F70: 32 | G70: =F70/(E70+F70) -> 0.66666667 | H70: 0 | I70: 48 | J70: CORE - CAT
A71: cmdscgc1-dg-01 | B71: DS-C9513 | C71: 5.2(8b) | D71: FOX1202H3PG | E71: 16 | F71: 32 | G71: =F71/(E71+F71) -> 0.66666667 | H71: 0 | I71: 48 | J71: CORE - DOG
A72: cmdscgc1-jd-01 | B72: DS-C9513 | C72: 5.2(8b) | D72: FOX1330G5AC | E72: 65 | F72: 139 | G72: =F72/(E72+F72) -> 0.68137255 | H72: 0 | I72: 204 | J72: CORE - JADE
A73: cmdscgc1-rb-01 | B73: DS-C9513 | C73: 5.2(8b) | D73: FOX1329GR3T | E73: 65 | F73: 139 | G73: =F73/(E73+F73) -> 0.68137255 | H73: 0 | I73: 204 | J73: CORE - RUBY
A74: emdscgc1-jd-03 | B74: DS-C9513 | C74: 5.2(8b) | D74: FOX1331GYC3 | E74: 137 | F74: 55 | G74: =F74/(E74+F74) -> 0.28645833 | H74: 0 | I74: 192 | J74: EDGE - JADE
A75: emdscgc1-jd-04 | B75: DS-C9513 | C75: 5.2(8b) | D75: FOX1323G9E1 | E75: 39 | F75: 153 | G75: =F75/(E75+F75) -> 0.796875 | H75: 0 | I75: 192 | J75: EDGE - JADE
A76: emdscgc1-jd-05 | B76: DS-C9513 | C76: 5.2(8b) | D76: FOX1329GR3G | E76: 59 | F76: 205 | G76: =F76/(E76+F76) -> 0.77651515 | H76: 0 | I76: 264 | J76: EDGE - JADE
A77: emdscgc1-rb-03 | B77: DS-C9513 | C77: 5.2(8b) | D77: FOX1323G9EW | E77: 138 | F77: 54 | G77: =F77/(E77+F77) -> 0.28125 | H77: 0 | I77: 192 | J77: EDGE - RUBY
A78: emdscgc1-rb-04 | B78: DS-C9513 | C78: 5.2(8b) | D78: FOX1331GYC8 | E78: 39 | F78: 153 | G78: =F78/(E78+F78) -> 0.796875 | H78: 0 | I78: 192 | J78: EDGE - RUBY
A79: emdscgc1-rb-05 | B79: DS-C9513 | C79: 5.2(8b) | D79: FOX1331GYBH | E79: 59 | F79: 205 | G79: =F79/(E79+F79) -> 0.77651515 | H79: 0 | I79: 264 | J79: EDGE - RUBY
A80: rmdscgc1-gl-01 | B80: DS-C9509 | C80: 5.2(2a) | D80: FOX1210GT0F | E80: 14 | F80: 58 | G80: =F80/(E80+F80) -> 0.80555556 | H80: 0 | I80: 72 | J80: SRDF - GOLD
A81: rmdscgc1-sl-01 | B81: DS-C9509 | C81: 5.2(2a) | D81: FOX1212GP09 | E81: 14 | F81: 58 | G81: =F81/(E81+F81) -> 0.80555556 | H81: 0 | I81: 72 | J81: SRDF - SILVER
A82: Brocade | E82: Capacity
A83: Switch Name | B83: Frame Model | C83: Code Level | D83: Serial Number | E83: Used Ports | F83: Free Ports | G83: Percent Free | H83: Not Installed | I83: Switch Capacity | J83: Comments
A84: SW01C_CORE_RED_CGC1 | B84: ED-140M | C84: 09.09.07 | D84: MC5IN02563 | J84: CORE - RED | K84: Decommission in Progress
A85: SW02C_CORE_BLUE_CGC1 | B85: ED-140M | C85: 09.09.07 | D85: MC5IN02565 | J85: CORE - BLUE
A86: SW25C_EDGE_RED_CGC2 | B86: ED-140M | C86: 09.09.07 | D86: MC5IN01485 | J86: EDGE - RED
A87: SW26C_EDGE_BLUE_CGC | B87: ED-140M | C87: 09.09.07 | D87: MC5IN01482 | J87: EDGE - BLUE
A88: Germany - Frankfurt Data Centre (FDC)
A89: Cisco | E89: Capacity
A90: Switch Name | B90: Frame Model | C90: Code Level | D90: Serial Number | E90: Used Ports | F90: Free Ports | G90: Percent Free | H90: Not Installed | I90: Switch Capacity | J90: Comments
A91: cmdsfdc1a-jd-01 | B91: DS-C9513 | C91: 5.2(8b) | D91: FOX1205GAK0 | E91: 134 | F91: 10 | G91: =F91/(E91+F91) -> 0.069444444 | H91: 0 | I91: 144 | J91: CORE - JADE
A92: cmdsfdc1a-jd-02 | B92: DS-C9513 | C92: 5.2(8b) | D92: FOX1202H3NV | E92: 130 | F92: 14 | G92: =F92/(E92+F92) -> 0.097222222 | H92: 0 | I92: 144 | J92: CORE - JADE
A93: cmdsfdc1a-jd-09 | B93: DS-C9513 | C93: 5.2(8b) | D93: FOX1303GF5Z | E93: 113 | F93: 19 | G93: =F93/(E93+F93) -> 0.14393939 | H93: 0 | I93: 132 | J93: CORE - JADE
A94: cmdsfdc1a-jd-12 | B94: DS-C9513 | C94: 5.2(8b) | D94: FOX1524GQF5 | E94: 78 | F94: 66 | G94: =F94/(E94+F94) -> 0.45833333 | H94: 0 | I94: 144 | J94: CORE - JADE
A95: cmdsfdc1a-rb-01 | B95: DS-C9513 | C95: 5.2(8b) | D95: FOX1205H322 | E95: 134 | F95: 9 | G95: =F95/(E95+F95) -> 0.062937063 | H95: 1 | I95: 144 | J95: CORE - RUBY
A96: cmdsfdc1a-rb-02 | B96: DS-C9513 | C96: 5.2(8b) | D96: FOX1150H51Y | E96: 130 | F96: 14 | G96: =F96/(E96+F96) -> 0.097222222 | H96: 0 | I96: 144 | J96: CORE - RUBY
A97: cmdsfdc1a-rb-09 | B97: DS-C9513 | C97: 5.2(8b) | D97: FOX1249GKZD | E97: 112 | F97: 20 | G97: =F97/(E97+F97) -> 0.15151515 | H97: 0 | I97: 132 | J97: CORE - RUBY
A98: cmdsfdc1a-rb-12 | B98: DS-C9513 | C98: 5.2(8b) | D98: FOX1523GLMS | E98: 78 | F98: 66 | G98: =F98/(E98+F98) -> 0.45833333 | H98: 0 | I98: 144 | J98: CORE - RUBY
A99: cmdsfdc1b-ct-01 | B99: DS-C9513 | C99: 5.2(8b) | D99: FOX1202H3N1 | E99: 103 | F99: 17 | G99: =F99/(E99+F99) -> 0.14166667 | H99: 0 | I99: 120 | J99: CORE - CAT
A100: cmdsfdc1b-dg-01 | B100: DS-C9513 | C100: 5.2(8b) | D100: FOX1123078E | E100: 102 | F100: 18 | G100: =F100/(E100+F100) -> 0.15 | H100: 0 | I100: 120 | J100: CORE - DOG
A101: cmdsfdc1b-jd-15 | B101: DS-C9513 | C101: 5.2(8b) | D101: FOX1549G4GB | E101: 138 | F101: 214 | G101: =F101/(E101+F101) -> 0.60795455 | H101: 0 | I101: 352 | J101: CORE - JADE
A102: cmdsfdc1b-rb-15 | B102: DS-C9513 | C102: 5.2(8b) | D102: FOX1543GCE5 | E102: 138 | F102: 214 | G102: =F102/(E102+F102) -> 0.60795455 | H102: 0 | I102: 352 | J102: CORE - RUBY
A103: delcd01ae16 | B103: DS-C9513 | C103: 5.2(8b) | D103: FOX1643S004 | E103: 53 | F103: 107 | G103: =F103/(E103+F103) -> 0.66875 | H103: 0 | I103: 160
A104: delcd01be16 | B104: DS-C9513 | C104: 5.2(8b) | D104: FOX1639S32M | E104: 52 | F104: 108 | G104: =F104/(E104+F104) -> 0.675 | H104: 0 | I104: 160
A105: emdsfdc1a-jd-03 | B105: DS-C9513 | C105: 5.2(8b) | D105: FOX1205GAJH | E105: 169 | F105: 71 | G105: =F105/(E105+F105) -> 0.29583333 | H105: 0 | I105: 240 | J105: EDGE - JADE
A106: emdsfdc1a-jd-04 | B106: DS-C9513 | C106: 5.2(8b) | D106: FOX1205GAJT | E106: 183 | F106: 81 | G106: =F106/(E106+F106) -> 0.30681818 | H106: 0 | I106: 264 | J106: EDGE - JADE
A107: emdsfdc1a-jd-06 | B107: DS-C9513 | C107: 5.2(8b) | D107: FOX1205GAGY | E107: 108 | F107: 60 | G107: =F107/(E107+F107) -> 0.35714286 | H107: 0 | I107: 168 | J107: EDGE - JADE
A108: emdsfdc1a-jd-07 | B108: DS-C9513 | C108: 5.2(8b) | D108: FOX1203H6FM | E108: 110 | F108: 82 | G108: =F108/(E108+F108) -> 0.42708333 | H108: 0 | I108: 192 | J108: EDGE - JADE
A109: emdsfdc1a-jd-08 | B109: DS-C9513 | C109: 5.2(8b) | D109: FOX1205GAJZ | E109: 175 | F109: 65 | G109: =F109/(E109+F109) -> 0.27083333 | H109: 0 | I109: 240 | J109: EDGE - JADE
A110: emdsfdc1a-jd-11 | B110: DS-C9513 | C110: 5.2(8b) | D110: FOX1431GUQ1 | E110: 236 | F110: 100 | G110: =F110/(E110+F110) -> 0.29761905 | H110: 0 | I110: 336 | J110: EDGE - JADE
A111: emdsfdc1a-jd-13 | B111: DS-C9513 | C111: 5.2(8b) | D111: FOX1525GRWR | E111: 222 | F111: 57 | G111: =F111/(E111+F111) -> 0.20430108 | H111: 1 | I111: 280 | J111: EDGE - JADE
A112: emdsfdc1a-rb-03 | B112: DS-C9513 | C112: 5.2(8b) | D112: FOX1205GAK1 | E112: 169 | F112: 71 | G112: =F112/(E112+F112) -> 0.29583333 | H112: 0 | I112: 240 | J112: EDGE - RUBY
A113: emdsfdc1a-rb-04 | B113: DS-C9513 | C113: 5.2(8b) | D113: FOX1202H3PA | E113: 183 | F113: 81 | G113: =F113/(E113+F113) -> 0.30681818 | H113: 0 | I113: 264 | J113: EDGE - RUBY
A114: emdsfdc1a-rb-06 | B114: DS-C9513 | C114: 5.2(8b) | D114: FOX1205GAKE | E114: 108 | F114: 60 | G114: =F114/(E114+F114) -> 0.35714286 | H114: 0 | I114: 168 | J114: EDGE - RUBY
A115: emdsfdc1a-rb-07 | B115: DS-C9513 | C115: 5.2(8b) | D115: FOX1205GAGW | E115: 110 | F115: 82 | G115: =F115/(E115+F115) -> 0.42708333 | H115: 0 | I115: 192 | J115: EDGE - RUBY
A116: emdsfdc1a-rb-08 | B116: DS-C9513 | C116: 5.2(8b) | D116: FOX1202H3NK | E116: 174 | F116: 66 | G116: =F116/(E116+F116) -> 0.275 | H116: 0 | I116: 240 | J116: EDGE - RUBY
... A120: emdsfdc1b-jd-10 | B120: DS-C9513 | C120: 5.2(8b) | D120: FOX1311H3WH | E120: 218 | F120: 22 | G120: =F120/(E120+F120) -> 0.091666667 | H120: 0 | I120: 240 | J120: EDGE - JADE
A121: emdsfdc1b-jd-14 | B121: DS-C9513 | C121: 5.2(8b) | D121: FOX1543GCCH | E121: 199 | F121: 113 | G121: =F121/(E121+F121) -> 0.36217949 | H121: 0 | I121: 312
A122: emdsfdc1b-rb-05 | B122: DS-C9513 | C122: 5.2(8b) | D122: FOX1205GAJR | E122: 161 | F122: 30 | G122: =F122/(E122+F122) -> 0.15706806 | H122: 1 | I122: 192 | J122: EDGE - RUBY
A123: emdsfdc1b-rb-10 | B123: DS-C9513 | C123: 5.2(8b) | D123: FOX1311H3V4 | E123: 218 | F123: 22 | G123: =F123/(E123+F123) -> 0.091666667 | H123: 0 | I123: 240 | J123: EDGE - RUBY
A124: emdsfdc1b-rb-14 | B124: DS-C9513 | C124: 5.2(8b) | D124: FOX1539H1ZN | E124: 198 | F124: 114 | G124: =F124/(E124+F124) -> 0.36538462 | H124: 0 | I124: 312 | J124: EDGE - RUBY
...

Sheet EMEA-Edited
A1: London - RIVERDALE DATA CENTER (RDC)
A2: Cisco | E2: Capacity
A3: Switch Name | B3: Frame Model | C3: Code Level | D3: Serial Number | E3: Used Ports | F3: Free Ports | G3: Percent Free | H3: Not Installed | I3: Switch Capacity
A4: cmdsrdc3-ct-01 | B4: DS-C9513 | C4: 5.2(8b) | D4: FOX1150H4XB | E4: 109 | F4: 23 | G4: =F4/(E4+F4) -> 0.17424242 | H4: 0 | I4: 132
A5: cmdsrdc3-dg-01 | B5: DS-C9513 | C5: 5.2(8b) | D5: FOX1152HDFX | E5: 112 | F5: 20 | G5: =F5/(E5+F5) -> 0.15151515 | H5: 0 | I5: 132
A6: cmdsrdc4-jd-01 | B6: DS-C9513 | C6: 5.2(8b) | D6: FOX1202H3PN | E6: 116 | F6: 4 | G6: =F6/(E6+F6) -> 0.033333333 | H6: 0 | I6: 120
A7: cmdsrdc4-jd-02 | B7: DS-C9513 | C7: 5.2(8b) | D7: FOX1150H529 | E7: 113 | F7: 7 | G7: =F7/(E7+F7) -> 0.058333333 | H7: 0 | I7: 120
A8: cmdsrdc4-jd-11 | B8: DS-C9513 | C8: 5.2(8b) | D8: FOX1521H7SD | E8: 194 | F8: 110 | G8: =F8/(E8+F8) -> 0.36184211 | H8: 0 | I8: 304
A9: cmdsrdc4-jd-14 | B9: DS-C9513 | C9: 5.2(8b) | D9: FOX1545GUCQ | E9: 20 | F9: 300 | G9: =F9/(E9+F9) -> 0.9375 | H9: 0 | I9: 320
A10: cmdsrdc4-rb-01 | B10: DS-C9513 | C10: 5.2(8b) | D10: FOX1202H3NR | E10: 114 | F10: 18 | G10: =F10/(E10+F10) -> 0.13636364 | H10: 0 | I10: 132
A11: cmdsrdc4-rb-02 | B11: DS-C9513 | C11: 5.2(8b) | D11: FOX1202H3N8 | E11: 112 | F11: 20 | G11: =F11/(E11+F11) -> 0.15151515 | H11: 0 | I11: 132
A12: cmdsrdc4-rb-11 | B12: DS-C9513 | C12: 5.2(8b) | D12: FOX1523GLLE | E12: 193 | F12: 111 | G12: =F12/(E12+F12) -> 0.36513158 | H12: 0 | I12: 304
A13: cmdsrdc4-rb-14 | B13: DS-C9513 | C13: 5.2(8b) | D13: FOX1545GUCC | E13: 20 | F13: 299 | G13: =F13/(E13+F13) -> 0.93730408 | H13: 1 | I13: 320
A14: emdsrdc1-jd-06 | B14: DS-C9513 | C14: 5.2(8b) | D14: FOX1227GSWP | E14: 101 | F14: 81 | G14: =F14/(E14+F14) -> 0.44505495 | H14: 2 | I14: 184
A15: emdsrdc1-rb-06 | B15: DS-C9513 | C15: 5.2(8b) | D15: FOX1228GRAY | E15: 100 | F15: 84 | G15: =F15/(E15+F15) -> 0.45652174 | H15: 0 | I15: 184
... A37: rmdsrdc4-sl-01 | B37: DS-C9513 | C37: 5.2(2a) | D37: FOX1202H3P2 | E37: 62 | F37: 117 | G37: =F37/(E37+F37) -> 0.65363128 | H37: 1 | I37: 180
A38: London - Citigroup Centre (CGC)
A39: Cisco | E39: Capacity
A40: Switch Name | B40: Frame Model | C40: Code Level | D40: Serial Number | E40: Used Ports | F40: Free Ports | G40: Percent Free | H40: Not Installed | I40: Switch Capacity
A41: cmdscgc1-ct-01 | B41: DS-C9513 | C41: 5.2(8b) | D41: FOX1205GAHN | E41: 16 | F41: 32 | G41: =F41/(E41+F41) -> 0.66666667 | H41: 0 | I41: 48
A42: cmdscgc1-dg-01 | B42: DS-C9513 | C42: 5.2(8b) | D42: FOX1202H3PG | E42: 16 | F42: 32 | G42: =F42/(E42+F42) -> 0.66666667 | H42: 0 | I42: 48
A43: cmdscgc1-jd-01 | B43: DS-C9513 | C43: 5.2(8b) | D43: FOX1330G5AC | E43: 65 | F43: 139 | G43: =F43/(E43+F43) -> 0.68137255 | H43: 0 | I43: 204
A44: cmdscgc1-rb-01 | B44: DS-C9513 | C44: 5.2(8b) | D44: FOX1329GR3T | E44: 65 | F44: 139 | G44: =F44/(E44+F44) -> 0.68137255 | H44: 0 | I44: 204
A45: emdscgc1-jd-03 | B45: DS-C9513 | C45: 5.2(8b) | D45: FOX1331GYC3 | E45: 137 | F45: 55 | G45: =F45/(E45+F45) -> 0.28645833 | H45: 0 | I45: 192
A46: emdscgc1-jd-04 | B46: DS-C9513 | C46: 5.2(8b) | D46: FOX1323G9E1 | E46: 39 | F46: 153 | G46: =F46/(E46+F46) -> 0.796875 | H46: 0 | I46: 192
A47: emdscgc1-jd-05 | B47: DS-C9513 | C47: 5.2(8b) | D47: FOX1329GR3G | E47: 59 | F47: 205 | G47: =F47/(E47+F47) -> 0.77651515 | H47: 0 | I47: 264
A48: emdscgc1-rb-03 | B48: DS-C9513 | C48: 5.2(8b) | D48: FOX1323G9EW | E48: 138 | F48: 54 | G48: =F48/(E48+F48) -> 0.28125 | H48: 0 | I48: 192
A49: emdscgc1-rb-04 | B49: DS-C9513 | C49: 5.2(8b) | D49: FOX1331GYC8 | E49: 39 | F49: 153 | G49: =F49/(E49+F49) -> 0.796875 | H49: 0 | I49: 192
A50: emdscgc1-rb-05 | B50: DS-C9513 | C50: 5.2(8b) | D50: FOX1331GYBH | E50: 59 | F50: 205 | G50: =F50/(E50+F50) -> 0.77651515 | H50: 0 | I50: 264
A51: rmdscgc1-gl-01 | B51: DS-C9509 | C51: 5.2(2a) | D51: FOX1210GT0F | E51: 14 | F51: 58 | G51: =F51/(E51+F51) -> 0.80555556 | H51: 0 | I51: 72
A52: rmdscgc1-sl-01 | B52: DS-C9509 | C52: 5.2(2a) | D52: FOX1212GP09 | E52: 14 | F52: 58 | G52: =F52/(E52+F52) -> 0.80555556 | H52: 0 | I52: 72
A53: Germany - Frankfurt Data Centre (FDC)
A54: Cisco | E54: Capacity
A55: Switch Name | B55: Frame Model | C55: Code Level | D55: Serial Number | E55: Used Ports | F55: Free Ports | G55: Percent Free | H55: Not Installed | I55: Switch Capacity
A56: cmdsfdc1a-jd-01 | B56: DS-C9513 | C56: 5.2(8b) | D56: FOX1205GAK0 | E56: 134 | F56: 10 | G56: =F56/(E56+F56) -> 0.069444444 | H56: 0 | I56: 144
A57: cmdsfdc1a-jd-02 | B57: DS-C9513 | C57: 5.2(8b) | D57: FOX1202H3NV | E57: 130 | F57: 14 | G57: =F57/(E57+F57) -> 0.097222222 | H57: 0 | I57: 144
A58: cmdsfdc1a-jd-09 | B58: DS-C9513 | C58: 5.2(8b) | D58: FOX1303GF5Z | E58: 113 | F58: 19 | G58: =F58/(E58+F58) -> 0.14393939 | H58: 0 | I58: 132
A59: cmdsfdc1a-jd-12 | B59: DS-C9513 | C59: 5.2(8b) | D59: FOX1524GQF5 | E59: 78 | F59: 66 | G59: =F59/(E59+F59) -> 0.45833333 | H59: 0 | I59: 144
A60: cmdsfdc1a-rb-01 | B60: DS-C9513 | C60: 5.2(8b) | D60: FOX1205H322 | E60: 134 | F60: 9 | G60: =F60/(E60+F60) -> 0.062937063 | H60: 1 | I60: 144
A61: cmdsfdc1a-rb-02 | B61: DS-C9513 | C61: 5.2(8b) | D61: FOX1150H51Y | E61: 130 | F61: 14 | G61: =F61/(E61+F61) -> 0.097222222 | H61: 0 | I61: 144
A62: cmdsfdc1a-rb-09 | B62: DS-C9513 | C62: 5.2(8b) | D62: FOX1249GKZD | E62: 112 | F62: 20 | G62: =F62/(E62+F62) -> 0.15151515 | H62: 0 | I62: 132
A63: cmdsfdc1a-rb-12 | B63: DS-C9513 | C63: 5.2(8b) | D63: FOX1523GLMS | E63: 78 | F63: 66 | G63: =F63/(E63+F63) -> 0.45833333 | H63: 0 | I63: 144
A64: cmdsfdc1b-ct-01 | B64: DS-C9513 | C64: 5.2(8b) | D64: FOX1202H3N1 | E64: 103 | F64: 17 | G64: =F64/(E64+F64) -> 0.14166667 | H64: 0 | I64: 120
A65: cmdsfdc1b-dg-01 | B65: DS-C9513 | C65: 5.2(8b) | D65: FOX1123078E | E65: 102 | F65: 18 | G65: =F65/(E65+F65) -> 0.15 | H65: 0 | I65: 120
A66: cmdsfdc1b-jd-15 | B66: DS-C9513 | C66: 5.2(8b) | D66: FOX1549G4GB | E66: 138 | F66: 214 | G66: =F66/(E66+F66) -> 0.60795455 | H66: 0 | I66: 352
A67: cmdsfdc1b-rb-15 | B67: DS-C9513 | C67: 5.2(8b) | D67: FOX1543GCE5 | E67: 138 | F67: 214 | G67: =F67/(E67+F67) -> 0.60795455 | H67: 0 | I67: 352
... A91: rmdsfdc1a-sl-01 | B91: DS-C9513 | C91: 5.2(2a) | D91: FOX1205GAKG | E91: 61 | F91: 119 | G91: =F91/(E91+F91) -> 0.66111111 | H91: 0 | I91: 180
A92: Germany - Welle
A93: Cisco | E93: Capacity
A94: Switch Name | B94: Frame Model | C94: Code Level | D94: Serial Number | E94: Used Ports | F94: Free Ports | G94: Percent Free | H94: Not Installed | I94: Switch Capacity
A95: rmdswell-gl-01 | B95: DS-C9509 | C95: 5.2(2a) | D95: FOX1241G3Y0 | E95: 16 | F95: 38 | G95: =F95/(E95+F95) -> 0.7037037 | H95: 0 | I95: 54
A96: rmdswell-sl-01 | B96: DS-C9509 | C96: 5.2(2a) | D96: FOX1252G2SP | E96: 16 | F96: 38 | G96: =F96/(E96+F96) -> 0.7037037 | H96: 0 | I96: 54
A97: cmdswell-ct-01 | B97: DS-C9513 | C97: 5.2(8b) | D97: FOX1202H3N2 | E97: 18 | F97: 30 | G97: =F97/(E97+F97) -> 0.625 | H97: 0 | I97: 48
A98: cmdswell-dg-01 | B98: DS-C9513 | C98: 5.2(8b) | D98: FOX1202H3NC | E98: 17 | F98: 31 | G98: =F98/(E98+F98) -> 0.64583333 | H98: 0 | I98: 48
A99: Switzerland - Colt
A100: Cisco | E100: Capacity
A101: Switch Name | B101: Frame Model | C101: Code Level | D101: Serial Number | E101: Used Ports | F101: Free Ports | G101: Percent Free | H101: Not Installed | I101: Switch Capacity
A102: cmdscolt_rb_01 | B102: DS-C9506 | C102: 5.2.8b | D102: FOX1638GFVX | E102: 35 | F102: 0 | G102: =F102/(E102+F102) -> 0 | H102: 77 | I102: 112
A103: cmdscolt_jd_01 | B103: DS-C9506 | C103: 5.2.8b | D103: FOX1638GFW7 | E103: 35 | F103: 0 | G103: =F103/(E103+F103) -> 0 | H103: 77 | I103: 112
A104: cmdsclt_ct_01 | B104: DS-C9124-K9 | C104: 5.2.8b | D104: FOX1511H7YK | E104: 10 | F104: 14 | G104: =F104/(E104+F104) -> 0.58333333 | H104: 0 | I104: 24
A105: cmdsclt_dg_01 | B105: DS-C9124-K9 | C105: 5.2.8b | D105: FOX1511H7WD | E105: 10 | F105: 14 | G105: =F105/(E105+F105) -> 0.58333333 | H105: 0 | I105: 24
A106: Switzerland - BLWG
A107: Cisco | E107: Capacity
A108: Switch Name | B108: Frame Model | C108: Code Level | D108: Serial Number | E108: Used Ports | F108: Free Ports | G108: Percent Free | H108: Not Installed | I108: Switch Capacity
A109: cmdsblwg_rb_01 | B109: DS-C9506 | C109: 5.2.8b | D109: FOX1638GFVX | E109: 37 | F109: 0 | G109: =F109/(E109+F109) -> 0 | H109: 75 | I109: 112
A110: cmdsblwg_jd_01 | B110: DS-C9506 | C110: 5.2.8b | D110: FOX1638GFW7 | E110: 37 | F110: 0 | G110: =F110/(E110+F110) -> 0 | H110: 75 | I110: 112
A111: cmdsblw_ct_01 | B111: DS-C9124-K9 | C111: 5.2.8b | D111: FOX1511H7YQ | E111: 10 | F111: 14 | G111: =F111/(E111+F111) -> 0.58333333 | H111: 0 | I111: 24
A112: cmdsblw_dg_01 | B112: DS-C9124-K9 | C112: 5.2.8b | D112: FOX1511H81U | E112: 10 | F112: 14 | G112: =F112/(E112+F112) -> 0.58333333 | H112: 0 | I112: 24

Sheet EMEA_NEW
A1: London - RIVERDALE DATA CENTER (RDC)
A2: Cisco | E2: Capacity
A3: Switch Name | B3: Frame Model | C3: Code Level | D3: Serial Number | E3: Used Ports | F3: Free Ports | G3: Percent Free | H3: Not Installed | I3: Switch Capacity
A4: cmdsrdc3-ct-01 | B4: DS-C9513 | C4: 5.2(8b) | D4: FOX1150H4XB | E4: =VLOOKUP(A4,INPUT!A:D,2,FALSE) -> 109 | F4: =VLOOKUP(A4,INPUT!A:D,3,FALSE) -> 23 | G4: =F4/E4 -> 0.21100917 | H4: =VLOOKUP(A4,INPUT!A:D,4,FALSE) -> 0 | I4: =E4+F4+H4 -> 132
A5: cmdsrdc3-dg-01 | B5: DS-C9513 | C5: 5.2(8b) | D5: FOX1152HDFX | E5: =VLOOKUP(A5,INPUT!A:D,2,FALSE) -> 110 | F5: =VLOOKUP(A5,INPUT!A:D,3,FALSE) -> 22 | G5: =F5/E5 -> 0.2 | H5: =VLOOKUP(A5,INPUT!A:D,4,FALSE) -> 0 | I5: =E5+F5+H5 -> 132
A6: rmdsrdc4-gl-01 | B6: DS-C9513 | C6: 5.2(8c) | D6: FOX1205GAK2 | E6: =VLOOKUP(A6,INPUT!A:D,2,FALSE) -> 69 | F6: =VLOOKUP(A6,INPUT!A:D,3,FALSE) -> 111 | G6: =F6/E6 -> 1.6086957 | H6: =VLOOKUP(A6,INPUT!A:D,4,FALSE) -> 0 | I6: =E6+F6+H6 -> 180
A7: rmdsrdc4-sl-01 | B7: DS-C9513 | C7: 5.2(8c) | D7: FOX1202H3P2 | E7: =VLOOKUP(A7,INPUT!A:D,2,FALSE) -> 66 | F7: =VLOOKUP(A7,INPUT!A:D,3,FALSE) -> 113 | G7: =F7/E7 -> 1.7121212 | H7: =VLOOKUP(A7,INPUT!A:D,4,FALSE) -> 1 | I7: =E7+F7+H7 -> 180
A8: cmdsrdc4-jd-01 | B8: DS-C9513 | C8: 5.2(8b) | D8: FOX1202H3PN | E8: =VLOOKUP(A8,INPUT!A:D,2,FALSE) -> 112 | F8: =VLOOKUP(A8,INPUT!A:D,3,FALSE) -> 8 | G8: =F8/E8 -> 0.071428571 | H8: =VLOOKUP(A8,INPUT!A:D,4,FALSE) -> 0 | I8: =E8+F8+H8 -> 120
A9: cmdsrdc4-jd-02 | B9: DS-C9513 | C9: 5.2(8b) | D9: FOX1150H529 | E9: =VLOOKUP(A9,INPUT!A:D,2,FALSE) -> 116 | F9: =VLOOKUP(A9,INPUT!A:D,3,FALSE) -> 4 | G9: =F9/E9 -> 0.034482759 | H9: =VLOOKUP(A9,INPUT!A:D,4,FALSE) -> 0 | I9: =E9+F9+H9 -> 120
A10: cmdsrdc4-jd-11 | B10: DS-C9513 | C10: 5.2(8b) | D10: FOX1521H7SD | E10: =VLOOKUP(A10,INPUT!A:D,2,FALSE) -> 220 | F10: =VLOOKUP(A10,INPUT!A:D,3,FALSE) -> 84 | G10: =F10/E10 -> 0.38181818 | H10: =VLOOKUP(A10,INPUT!A:D,4,FALSE) -> 0 | I10: =E10+F10+H10 -> 304
A11: emdsrdc1-jd-06 | B11: DS-C9513 | C11: 5.2(8b) | D11: FOX1227GSWP | E11: =VLOOKUP(A11,INPUT!A:D,2,FALSE) -> 101 | F11: =VLOOKUP(A11,INPUT!A:D,3,FALSE) -> 81 | G11: =F11/E11 -> 0.8019802 | H11: =VLOOKUP(A11,INPUT!A:D,4,FALSE) -> 0 | I11: =E11+F11+H11 -> 182
A12: emdsrdc3-jd-04 | B12: DS-C9513 | C12: 5.2(8b) | D12: FOX1205GAHQ | E12: =VLOOKUP(A12,INPUT!A:D,2,FALSE) -> 198 | F12: =VLOOKUP(A12,INPUT!A:D,3,FALSE) -> 138 | G12: =F12/E12 -> 0.6969697 | H12: =VLOOKUP(A12,INPUT!A:D,4,FALSE) -> 0 | I12: =E12+F12+H12 -> 336
A13: emdsrdc3-jd-07 | B13: DS-C9513 | C13: 5.2(8b) | D13: FOX1228H2G9 | E13: =VLOOKUP(A13,INPUT!A:D,2,FALSE) -> 139 | F13: =VLOOKUP(A13,INPUT!A:D,3,FALSE) -> 101 | G13: =F13/E13 -> 0.72661871 | H13: =VLOOKUP(A13,INPUT!A:D,4,FALSE) -> 0 | I13: =E13+F13+H13 -> 240
A14: emdsrdc3-jd-09 | B14: DS-C9513 | C14: 5.2(8b) | D14: FOX1307GMZA | E14: =VLOOKUP(A14,INPUT!A:D,2,FALSE) -> 291 | F14: =VLOOKUP(A14,INPUT!A:D,3,FALSE) -> 21 | G14: =F14/E14 -> 0.072164948 | H14: =VLOOKUP(A14,INPUT!A:D,4,FALSE) -> 0 | I14: =E14+F14+H14 -> 312
A15: emdsrdc4-jd-03 | B15: DS-C9513 | C15: 5.2(8b) | D15: FOX1202H3MX | E15: =VLOOKUP(A15,INPUT!A:D,2,FALSE) -> 117 | F15: =VLOOKUP(A15,INPUT!A:D,3,FALSE) -> 123 | G15: =F15/E15 -> 1.0512821 | H15: =VLOOKUP(A15,INPUT!A:D,4,FALSE) -> 0 | I15: =E15+F15+H15 -> 240
... A45: GBKCD01BE19 | B45: DS-C9148 | C45: 5.2(8c) | D45: AMS17100432 | E45: =VLOOKUP(A45,INPUT!A:D,2,FALSE) -> 21 | F45: =VLOOKUP(A45,INPUT!A:D,3,FALSE) -> 27 | G45: =F45/E45 -> 1.2857143 | H45: =VLOOKUP(A45,INPUT!A:D,4,FALSE) -> 0 | I45: =E45+F45+H45 -> 48
A46: Brocade | E46: Capacity
A47: Switch Name | B47: Frame Model | C47: Code Level | D47: Serial Number | E47: Used Ports | F47: Free Ports | G47: Percent Free | H47: Not Installed | I47: Switch Capacity | J47: Comments
A48: SW01R_CORE_RED_RDC1 | B48: ED-140M | C48: 09.09.07 | D48: MC5IN03437 | J48: CORE - RED | K48: Decommission in Progress
A49: SW02R_CORE_BLUE_RDC1 | B49: ED-140M | C49: 09.09.07 | D49: MC5IN03434 | J49: CORE - BLUE
A50: SW03R_EDGE_RED_RDC1 | B50: ED-140M | C50: 09.09.07 | D50: MC5IN03438 | J50: EDGE - RED
A51: SW04R_EDGE_BLUE_RDC1 | B51: ED-140M | C51: 09.09.07 | D51: MC5IN03435 | J51: EDGE - BLUE
A52: SW05R_EDGE_RED_RDC1 | B52: ED-140M | C52: 09.09.07 | D52: MC5IN03439 | J52: EDGE - RED
A53: SW06R_EDGE_BLUE_RDC1 | B53: ED-140M | C53: 09.09.07 | D53: MC5IN03436 | J53: EDGE - BLUE
A54: SW13R_EDGE_RED_RDC1 | B54: ED-140M | C54: 09.09.07
A55: SW14R_EDGE_BLUE_RDC1 | B55: ED-140M | C55: 09.09.07
A56: SW15R_CORE_RED_RDC4 | B56: ED-140M | C56: 09.09.07 | D56: MC5IN02561 | J56: CORE - RED
A57: SW16R_CORE_BLUE_RDC4 | B57: ED-140M | C57: 09.09.07 | D57: MC5IN02566 | J57: CORE - BLUE
A58: SW19R_EDGE_RED_RDC1 | B58: ED-140M | C58: 09.09.07
A59: SW1_TL_RDC3 | B59: ED-64M | C59: 09.00.00
A60: SW20R_EDGE_BLUE_RDC1 | B60: ED-140M | C60: 09.09.07
A61: SW22R_EDGE_BLUE_RDC3 | B61: ED-64M | C61: 09.00.00
A62: SW23R_EDGE_RED_RDC4 | B62: ED-140M | C62: 09.09.07 | D62: MC5IN04319 | J62: EDGE - RED
A63: SW24R_EDGE_BLUE_RDC4 | B63: ED-140M | C63: 09.09.07 | D63: MC5IN04320 | J63: EDGE - BLUE
A64: SW25R_CORE_RED_RDC4 | B64: ED-140M | C64: 09.09.07 | D64: MC5IN04503 | J64: CORE - RED
A65: SW26R_CORE_BLUE_RDC4 | B65: ED-140M | C65: 09.09.07 | D65: MC5IN04504 | J65: CORE - BLUE
A66: SW27R_EDGE_RED_RDC3 | B66: ED-140M | C66: 09.09.07 | D66: MC5I05965N | J66: EDGE - RED
A67: SW28R_EDGE_BLUE_RDC3 | B67: ED-140M | C67: 09.09.07 | D67: MC5I05888N | J67: EDGE - BLUE
A68: SW29R_EDGE_RED_RDC3 | B68: ED-140M | C68: 09.09.07 | D68: MC5I05881N | J68: EDGE - RED
A69: SW30R_EDGE_BLUE_RDC3 | B69: ED-140M | C69: 09.09.07 | D69: MC5I05884N | J69: EDGE - BLUE
A70: SW31R_EDGE_RED_RDC4 | B70: ED-140M | C70: 09.09.07 | D70: MC5I05883N | J70: EDGE - RED
A71: SW32R_EDGE_BLUE_RDC4 | B71: ED-140M | C71: 09.09.07 | D71: MC5I05871N | J71: EDGE - BLUE
A72: SW92R_SRDF_BLACK_RDC1 | B72: ED-64M | C72: 09.00.00
A73: SW94R_SRDF_BLACK_RDC4 | B73: ED-64M | C73: 09.09.07
A74: London - Citigroup Centre (CGC)
A75: Cisco | E75: Capacity
A76: Switch Name | B76: Frame Model | C76: Code Level | D76: Serial Number | E76: Used Ports | F76: Free Ports | G76: Percent Free | H76: Not Installed | I76: Switch Capacity
A77: cmdscgc1-ct-01 | B77: DS-C9513 | C77: 5.2(8b) | D77: FOX1205GAHN | E77: =VLOOKUP(A77,INPUT!A:D,2,FALSE) -> 16 | F77: =VLOOKUP(A77,INPUT!A:D,3,FALSE) -> 32 | G77: =F77/(E77+F77) -> 0.66666667 | H77: =VLOOKUP(A77,INPUT!A:D,4,FALSE) -> 0 | I77: =E77+F77+H77 -> 48
A78: cmdscgc1-dg-01 | B78: DS-C9513 | C78: 5.2(8b) | D78: FOX1202H3PG | E78: =VLOOKUP(A78,INPUT!A:D,2,FALSE) -> 16 | F78: =VLOOKUP(A78,INPUT!A:D,3,FALSE) -> 32 | G78: =F78/(E78+F78) -> 0.66666667 | H78: =VLOOKUP(A78,INPUT!A:D,4,FALSE) -> 0 | I78: =E78+F78+H78 -> 48
A79: cmdscgc1-jd-01 | B79: DS-C9513 | C79: 5.2(8b) | D79: FOX1330G5AC | E79: =VLOOKUP(A79,INPUT!A:D,2,FALSE) -> 63 | F79: =VLOOKUP(A79,INPUT!A:D,3,FALSE) -> 141 | G79: =F79/(E79+F79) -> 0.69117647 | H79: =VLOOKUP(A79,INPUT!A:D,4,FALSE) -> 0 | I79: =E79+F79+H79 -> 204
A80: cmdscgc1-rb-01 | B80: DS-C9513 | C80: 5.2(8b) | D80: FOX1329GR3T | E80: =VLOOKUP(A80,INPUT!A:D,2,FALSE) -> 63 | F80: =VLOOKUP(A80,INPUT!A:D,3,FALSE) -> 141 | G80: =F80/(E80+F80) -> 0.69117647 | H80: =VLOOKUP(A80,INPUT!A:D,4,FALSE) -> 0 | I80: =E80+F80+H80 -> 204
A81: emdscgc1-jd-03 | B81: DS-C9513 | C81: 5.2(8b) | D81: FOX1331GYC3 | E81: =VLOOKUP(A81,INPUT!A:D,2,FALSE) -> 138 | F81: =VLOOKUP(A81,INPUT!A:D,3,FALSE) -> 54 | G81: =F81/(E81+F81) -> 0.28125 | H81: =VLOOKUP(A81,INPUT!A:D,4,FALSE) -> 0 | I81: =E81+F81+H81 -> 192
A82: emdscgc1-jd-04 | B82: DS-C9513 | C82: 5.2(8b) | D82: FOX1323G9E1 | E82: =VLOOKUP(A82,INPUT!A:D,2,FALSE) -> 36 | F82: =VLOOKUP(A82,INPUT!A:D,3,FALSE) -> 156 | G82: =F82/(E82+F82) -> 0.8125 | H82: =VLOOKUP(A82,INPUT!A:D,4,FALSE) -> 0 | I82: =E82+F82+H82 -> 192
A83: emdscgc1-jd-05 | B83: DS-C9513 | C83: 5.2(8b) | D83: FOX1329GR3G | E83: =VLOOKUP(A83,INPUT!A:D,2,FALSE) -> 31 | F83: =VLOOKUP(A83,INPUT!A:D,3,FALSE) -> 233 | G83: =F83/(E83+F83) -> 0.88257576 | H83: =VLOOKUP(A83,INPUT!A:D,4,FALSE) -> 0 | I83: =E83+F83+H83 -> 264
A84: emdscgc1-rb-03 | B84: DS-C9513 | C84: 5.2(8b) | D84: FOX1323G9EW | E84: =VLOOKUP(A84,INPUT!A:D,2,FALSE) -> 141 | F84: =VLOOKUP(A84,INPUT!A:D,3,FALSE) -> 51 | G84: =F84/(E84+F84) -> 0.265625 | H84: =VLOOKUP(A84,INPUT!A:D,4,FALSE) -> 0 | I84: =E84+F84+H84 -> 192
A85: emdscgc1-rb-04 | B85: DS-C9513 | C85: 5.2(8b) | D85: FOX1331GYC8 | E85: =VLOOKUP(A85,INPUT!A:D,2,FALSE) -> 33 | F85: =VLOOKUP(A85,INPUT!A:D,3,FALSE) -> 159 | G85: =F85/(E85+F85) -> 0.828125 | H85: =VLOOKUP(A85,INPUT!A:D,4,FALSE) -> 0 | I85: =E85+F85+H85 -> 192
A86: emdscgc1-rb-05 | B86: DS-C9513 | C86: 5.2(8b) | D86: FOX1331GYBH | E86: =VLOOKUP(A86,INPUT!A:D,2,FALSE) -> 31 | F86: =VLOOKUP(A86,INPUT!A:D,3,FALSE) -> 233 | G86: =F86/(E86+F86) -> 0.88257576 | H86: =VLOOKUP(A86,INPUT!A:D,4,FALSE) -> 0 | I86: =E86+F86+H86 -> 264
A87: rmdscgc1-gl-01 | B87: DS-C9509 | C87: 5.2(2a) | D87: FOX1210GT0F | E87: =VLOOKUP(A87,INPUT!A:D,2,FALSE) -> 6 | F87: =VLOOKUP(A87,INPUT!A:D,3,FALSE) -> 66 | G87: =F87/(E87+F87) -> 0.91666667 | H87: =VLOOKUP(A87,INPUT!A:D,4,FALSE) -> 0 | I87: =E87+F87+H87 -> 72
A88: rmdscgc1-sl-01 | B88: DS-C9509 | C88: 5.2(2a) | D88: FOX1212GP09 | E88: =VLOOKUP(A88,INPUT!A:D,2,FALSE) -> 6 | F88: =VLOOKUP(A88,INPUT!A:D,3,FALSE) -> 66 | G88: =F88/(E88+F88) -> 0.91666667 | H88: =VLOOKUP(A88,INPUT!A:D,4,FALSE) -> 0 | I88: =E88+F88+H88 -> 72
A89: Brocade | E89: Capacity
A90: Switch Name | B90: Frame Model | C90: Code Level | D90: Serial Number | E90: Used Ports | F90: Free Ports | G90: Percent Free | H90: Not Installed | I90: Switch Capacity | J90: Comments
A91: SW01C_CORE_RED_CGC1 | B91: ED-140M | C91: 09.09.07 | D91: MC5IN02563 | J91: CORE - RED | K91: Decommission in Progress
A92: SW02C_CORE_BLUE_CGC1 | B92: ED-140M | C92: 09.09.07 | D92: MC5IN02565 | J92: CORE - BLUE
A93: SW25C_EDGE_RED_CGC2 | B93: ED-140M | C93: 09.09.07 | D93: MC5IN01485 | J93: EDGE - RED
A94: SW26C_EDGE_BLUE_CGC | B94: ED-140M | C94: 09.09.07 | D94: MC5IN01482 | J94: EDGE - BLUE
A95: Germany - Frankfurt Data Centre (FDC)
A96: Cisco | E96: Capacity
A97: Switch Name | B97: Frame Model | C97: Code Level | D97: Serial Number | E97: Used Ports | F97: Free Ports | G97: Percent Free | H97: Not Installed | I97: Switch Capacity
A98: cmdsfdc1a-jd-01 | B98: DS-C9513 | C98: 5.2(8b) | D98: FOX1205GAK0 | E98: =VLOOKUP(A98,INPUT!A:D,2,FALSE) -> 134 | F98: =VLOOKUP(A98,INPUT!A:D,3,FALSE) -> 10 | G98: =F98/(E98+F98) -> 0.069444444 | H98: =VLOOKUP(A98,INPUT!A:D,4,FALSE) -> 0 | I98: =E98+F98+H98 -> 144
A99: cmdsfdc1a-jd-02 | B99: DS-C9513 | C99: 5.2(8b) | D99: FOX1202H3NV | E99: =VLOOKUP(A99,INPUT!A:D,2,FALSE) -> 131 | F99: =VLOOKUP(A99,INPUT!A:D,3,FALSE) -> 13 | G99: =F99/(E99+F99) -> 0.090277778 | H99: =VLOOKUP(A99,INPUT!A:D,4,FALSE) -> 0 | I99: =E99+F99+H99 -> 144
A100: cmdsfdc1a-jd-09 | B100: DS-C9513 | C100: 5.2(8b) | D100: FOX1303GF5Z | E100: =VLOOKUP(A100,INPUT!A:D,2,FALSE) -> 113 | F100: =VLOOKUP(A100,INPUT!A:D,3,FALSE) -> 19 | G100: =F100/(E100+F100) -> 0.14393939 | H100: =VLOOKUP(A100,INPUT!A:D,4,FALSE) -> 0 | I100: =E100+F100+H100 -> 132
A101: cmdsfdc1a-jd-12 | B101: DS-C9513 | C101: 5.2(8b) | D101: FOX1524GQF5 | E101: =VLOOKUP(A101,INPUT!A:D,2,FALSE) -> 78 | F101: =VLOOKUP(A101,INPUT!A:D,3,FALSE) -> 66 | G101: =F101/(E101+F101) -> 0.45833333 | H101: =VLOOKUP(A101,INPUT!A:D,4,FALSE) -> 0 | I101: =E101+F101+H101 -> 144
A102: cmdsfdc1a-rb-01 | B102: DS-C9513 | C102: 5.2(8b) | D102: FOX1205H322 | E102: =VLOOKUP(A102,INPUT!A:D,2,FALSE) -> 135 | F102: =VLOOKUP(A102,INPUT!A:D,3,FALSE) -> 8 | G102: =F102/(E102+F102) -> 0.055944056 | H102: =VLOOKUP(A102,INPUT!A:D,4,FALSE) -> 1 | I102: =E102+F102+H102 -> 144
A103: cmdsfdc1a-rb-02 | B103: DS-C9513 | C103: 5.2(8b) | D103: FOX1150H51Y | E103: =VLOOKUP(A103,INPUT!A:D,2,FALSE) -> 131 | F103: =VLOOKUP(A103,INPUT!A:D,3,FALSE) -> 13 | G103: =F103/(E103+F103) -> 0.090277778 | H103: =VLOOKUP(A103,INPUT!A:D,4,FALSE) -> 0 | I103: =E103+F103+H103 -> 144
A104: cmdsfdc1a-rb-09 | B104: DS-C9513 | C104: 5.2(8b) | D104: FOX1249GKZD | E104: =VLOOKUP(A104,INPUT!A:D,2,FALSE) -> 112 | F104: =VLOOKUP(A104,INPUT!A:D,3,FALSE) -> 20 | G104: =F104/(E104+F104) -> 0.15151515 | H104: =VLOOKUP(A104,INPUT!A:D,4,FALSE) -> 0 | I104: =E104+F104+H104 -> 132
A105: cmdsfdc1a-rb-12 | B105: DS-C9513 | C105: 5.2(8b) | D105: FOX1523GLMS | E105: =VLOOKUP(A105,INPUT!A:D,2,FALSE) -> 78 | F105: =VLOOKUP(A105,INPUT!A:D,3,FALSE) -> 66 | G105: =F105/(E105+F105) -> 0.45833333 | H105: =VLOOKUP(A105,INPUT!A:D,4,FALSE) -> 0 | I105: =E105+F105+H105 -> 144
A106: cmdsfdc1b-ct-01 | B106: DS-C9513 | C106: 5.2(8b) | D106: FOX1202H3N1 | E106: =VLOOKUP(A106,INPUT!A:D,2,FALSE) -> 101 | F106: =VLOOKUP(A106,INPUT!A:D,3,FALSE) -> 19 | G106: =F106/(E106+F106) -> 0.15833333 | H106: =VLOOKUP(A106,INPUT!A:D,4,FALSE) -> 0 | I106: =E106+F106+H106 -> 120
A107: cmdsfdc1b-dg-01 | B107: DS-C9513 | C107: 5.2(8b) | D107: FOX1123078E | E107: =VLOOKUP(A107,INPUT!A:D,2,FALSE) -> 100 | F107: =VLOOKUP(A107,INPUT!A:D,3,FALSE) -> 20 | G107: =F107/(E107+F107) -> 0.16666667 | H107: =VLOOKUP(A107,INPUT!A:D,4,FALSE) -> 0 | I107: =E107+F107+H107 -> 120
A108: cmdsfdc1b-jd-15 | B108: DS-C9513 | C108: 5.2(8b) | D108: FOX1549G4GB | E108: =VLOOKUP(A108,INPUT!A:D,2,FALSE) -> 183 | F108: =VLOOKUP(A108,INPUT!A:D,3,FALSE) -> 169 | G108: =F108/(E108+F108) -> 0.48011364 | H108: =VLOOKUP(A108,INPUT!A:D,4,FALSE) -> 0 | I108: =E108+F108+H108 -> 352
A109: cmdsfdc1b-rb-15 | B109: DS-C9513 | C109: 5.2(8b) | D109: FOX1543GCE5 | E109: =VLOOKUP(A109,INPUT!A:D,2,FALSE) -> 184 | F109: =VLOOKUP(A109,INPUT!A:D,3,FALSE) -> 168 | G109: =F109/(E109+F109) -> 0.47727273 | H109: =VLOOKUP(A109,INPUT!A:D,4,FALSE) -> 0 | I109: =E109+F109+H109 -> 352
... A133: rmdsfdc1a-sl-01 | B133: DS-C9513 | C133: 5.2(2a) | D133: FOX1205GAKG | E133: =VLOOKUP(A133,INPUT!A:D,2,FALSE) -> 69 | F133: =VLOOKUP(A133,INPUT!A:D,3,FALSE) -> 111 | G133: =F133/(E133+F133) -> 0.61666667 | H133: =VLOOKUP(A133,INPUT!A:D,4,FALSE) -> 0 | I133: =E133+F133+H133 -> 180
A134: Germany - Welle
A135: Cisco | E135: Capacity
A136: Switch Name | B136: Frame Model | C136: Code Level | D136: Serial Number | E136: Used Ports | F136: Free Ports | G136: Percent Free | H136: Not Installed | I136: Switch Capacity
A137: rmdswell-gl-01 | B137: DS-C9509 | C137: 5.2(2a) | D137: FOX1241G3Y0 | E137: =VLOOKUP(A137,INPUT!A:D,2,FALSE) -> 16 | F137: =VLOOKUP(A137,INPUT!A:D,3,FALSE) -> 38 | G137: =F137/(E137+F137) -> 0.7037037 | H137: =VLOOKUP(A137,INPUT!A:D,4,FALSE) -> 0 | I137: =E137+F137+H137 -> 54
A138: rmdswell-sl-01 | B138: DS-C9509 | C138: 5.2(2a) | D138: FOX1252G2SP | E138: =VLOOKUP(A138,INPUT!A:D,2,FALSE) -> 16 | F138: =VLOOKUP(A138,INPUT!A:D,3,FALSE) -> 38 | G138: =F138/(E138+F138) -> 0.7037037 | H138: =VLOOKUP(A138,INPUT!A:D,4,FALSE) -> 0 | I138: =E138+F138+H138 -> 54
A139: cmdswell-ct-01 | B139: DS-C9513 | C139: 5.2(8b) | D139: FOX1202H3N2 | E139: =VLOOKUP(A139,INPUT!A:D,2,FALSE) -> 18 | F139: =VLOOKUP(A139,INPUT!A:D,3,FALSE) -> 30 | G139: =F139/(E139+F139) -> 0.625 | H139: =VLOOKUP(A139,INPUT!A:D,4,FALSE) -> 0 | I139: =E139+F139+H139 -> 48
A140: cmdswell-dg-01 | B140: DS-C9513 | C140: 5.2(8b) | D140: FOX1202H3NC | E140: =VLOOKUP(A140,INPUT!A:D,2,FALSE) -> 17 | F140: =VLOOKUP(A140,INPUT!A:D,3,FALSE) -> 31 | G140: =F140/(E140+F140) -> 0.64583333 | H140: =VLOOKUP(A140,INPUT!A:D,4,FALSE) -> 0 | I140: =E140+F140+H140 -> 48
A141: Switzerland - Colt
A142: Cisco | E142: Capacity
A143: Switch Name | B143: Frame Model | C143: Code Level | D143: Serial Number | E143: Used Ports | F143: Free Ports | G143: Percent Free | H143: Not Installed | I143: Switch Capacity
A144: cmdscolt-rb-01 | B144: DS-C9506 | C144: 5.2.8b | D144: FOX1638GFVX | E144: =VLOOKUP(A144,INPUT!A:D,2,FALSE) -> 35 | F144: =VLOOKUP(A144,INPUT!A:D,3,FALSE) -> 1 | G144: =F144/(E144+F144) -> 0.027777778 | H144: =VLOOKUP(A144,INPUT!A:D,4,FALSE) -> 76 | I144: =E144+F144+H144 -> 112
A145: cmdscolt-jd-01 | B145: DS-C9506 | C145: 5.2.8b | D145: FOX1638GFW7 | E145: =VLOOKUP(A145,INPUT!A:D,2,FALSE) -> 35 | F145: =VLOOKUP(A145,INPUT!A:D,3,FALSE) -> 1 | G145: =F145/(E145+F145) -> 0.027777778 | H145: =VLOOKUP(A145,INPUT!A:D,4,FALSE) -> 76 | I145: =E145+F145+H145 -> 112
A146: cmdsclt-ct-01 | B146: DS-C9124-K9 | C146: 5.2.8b | D146: FOX1511H7YK | E146: =VLOOKUP(A146,INPUT!A:D,2,FALSE) -> 10 | F146: =VLOOKUP(A146,INPUT!A:D,3,FALSE) -> 14 | G146: =F146/(E146+F146) -> 0.58333333 | H146: =VLOOKUP(A146,INPUT!A:D,4,FALSE) -> 0 | I146: =E146+F146+H146 -> 24
A147: cmdsclt-dg-01 | B147: DS-C9124-K9 | C147: 5.2.8b | D147: FOX1511H7WD | E147: =VLOOKUP(A147,INPUT!A:D,2,FALSE) -> 10 | F147: =VLOOKUP(A147,INPUT!A:D,3,FALSE) -> 14 | G147: =F147/(E147+F147) -> 0.58333333 | H147: =VLOOKUP(A147,INPUT!A:D,4,FALSE) -> 0 | I147: =E147+F147+H147 -> 24
A148: Switzerland - BLWG
A149: Cisco | E149: Capacity
A150: Switch Name | B150: Frame Model | C150: Code Level | D150: Serial Number | E150: Used Ports | F150: Free Ports | G150: Percent Free | H150: Not Installed | I150: Switch Capacity
A151: cmdsblwg-rb-01 | B151: DS-C9506 | C151: 5.2.8b | D151: FOX1638GFVX | E151: =VLOOKUP(A151,INPUT!A:D,2,FALSE) -> 37 | F151: 14 | G151: =F151/(E151+F151) -> 0.2745098 | H151: =VLOOKUP(A151,INPUT!A:D,4,FALSE) -> 74 | I151: =E151+F151+H151 -> 125
A152: cmdsblwg-jd-01 | B152: DS-C9506 | C152: 5.2.8b | D152: FOX1638GFW7 | E152: =VLOOKUP(A152,INPUT!A:D,2,FALSE) -> 37 | F152: 14 | G152: =F152/(E152+F152) -> 0.2745098 | H152: =VLOOKUP(A152,INPUT!A:D,4,FALSE) -> 74 | I152: =E152+F152+H152 -> 125
...

Sheet INPUT
A1: cmdsrdc3-ct-01 | B1: 109 | C1: 23 | D1: 0
A2: cmdscgc1-jd-01 | B2: 63 | C2: 141 | D2: 0
A3: emdscgc1-jd-03 | B3: 138 | C3: 54 | D3: 0
A4: emdscgc1-jd-04 | B4: 36 | C4: 156 | D4: 0
A5: emdscgc1-jd-05 | B5: 31 | C5: 233 | D5: 0
A6: cmdscgc1-rb-01 | B6: 63 | C6: 141 | D6: 0
A7: emdscgc1-rb-03 | B7: 141 | C7: 51 | D7: 0
A8: emdscgc1-rb-04 | B8: 33 | C8: 159 | D8: 0
A9: emdscgc1-rb-05 | B9: 31 | C9: 233 | D9: 0
A10: cmdscgc1-dg-01 | B10: 16 | C10: 32 | D10: 0
A11: cmdsrdc3-dg-01 | B11: 110 | C11: 22 | D11: 0
A12: rmdscgc1-gl-01 | B12: 6 | C12: 66 | D12: 0
... A106: delcd01ae16 | B106: 85 | C106: 171 | D106: 0
A107: GBKCD01AE16 | B107: 21 | C107: 27 | D107: 0 | H107: sh int brief | include swl | egrep 'up|trun' | wc
A108: GBKCD01BE16 | B108: 21 | C108: 27 | D108: 0 | H108: sh int brief | include swl | egrep 'down|notC' | wc
A109: GBKCD01AE17 | B109: 4 | C109: 44 | D109: 0 | H109: sh int brief | include swl | wc
A110: GBKCD01BE17 | B110: 4 | C110: 44 | D110: 0
A111: GBKCD01AE18 | B111: 42 | C111: 6 | D111: 0
A112: GBKCD01BE18 | B112: 42 | C112: 6 | D112: 0
A113: GBKCD01AE19 | B113: 21 | C113: 27 | D113: 0
A114: GBKCD01BE19 | B114: 21 | C114: 27 | D114: 0
