Workbook
Name RMCF1C00_Spare: '[1]CFR-Ports'!$B$153
Name RMCF1C00_Used: '[1]CFR-Ports'!$B$154
Name RMCF1E00_Spare: '[1]CFR-Ports'!$D$153
Name RMCF1E00_Used: '[1]CFR-Ports'!$D$154

Sheet APAC
A1: APAC - Citigroup Distributed Fibre Switch Inventory for December 2013
A2: Singapore - Cintech B1
A3: Cisco | E3: Capacity
A4: Switch Name | B4: Frame Model | C4: Code Level | D4: Serial Number | E4: Used Ports | F4: Free Ports | G4: Percent Free | H4: Not Installed | I4: Switch Capacity | J4: Comments
A5: MDS21CSW1 | B5: 9513 | C5: 5.2(1) | D5: FOX1448G68H | E5: 311 | F5: 1 | G5: =F5/(E5+F5) -> 0.0032051282 | H5: 0 | I5: 312 | J5: CT2/B1_CORE - FABRIC-A | K5: 1
A6: MDS41CSW1 | B6: 9513 | C6: 5.2(1) | D6: FOX1549G4G2 | E6: 228 | F6: 12 | G6: =F6/(E6+F6) -> 0.05 | H6: 0 | I6: 240 | J6: CT2/B1_CORE - FABRIC-A
A7: MDS45CSW1 | B7: 9513 | C7: 5.2(1) | D7: FOX1645Q07H | E7: 128 | F7: 64 | G7: =F7/(E7+F7) -> 0.33333333 | H7: 0 | I7: 192 | J7: CT2/B1_CORE - FABRIC-A
A8: MDS17SW2 | B8: 9513 | C8: 5.2(1) | D8: FOX1443GRM6 | E8: 210 | F8: 30 | G8: =F8/(E8+F8) -> 0.125 | H8: 0 | I8: 240 | J8: CT2/B1_EDGE - FABRIC-A
A9: MDS25ESW1 | B9: 9513 | C9: 5.2(1) | D9: FOX1516GHC4 | E9: 330 | F9: 78 | G9: =F9/(E9+F9) -> 0.19117647 | H9: 0 | I9: 408 | J9: CT2/B1_EDGE - FABRIC-A
A10: MDS29ESW1 | B10: 9513 | C10: 5.2(1) | D10: FOX1516GHC6 | E10: 384 | F10: 96 | G10: =F10/(E10+F10) -> 0.2 | H10: 0 | I10: 480 | J10: CT2/B1_EDGE - FABRIC-A
A11: MDS05SW2 | B11: 9513 | C11: 5.2(1) | D11: FOX1149H2MH | E11: 232 | F11: 8 | G11: =F11/(E11+F11) -> 0.033333333 | H11: 0 | I11: 240 | J11: CT2/B1_EDGE - FABRIC-A - Under Tech Refresh
A12: MDS09SW1 | B12: 9513 | C12: 5.2(1) | D12: FOX1210GS3N | E12: 62 | F12: 10 | G12: =F12/(E12+F12) -> 0.13888889 | H12: 0 | I12: 72 | J12: CT2/B1_EDGE - FABRIC-A - Under Tech Refresh
A13: MDS09SW2 | B13: 9513 | C13: 5.2(1) | D13: FOX1210G5RT | E13: 168 | F13: 12 | G13: =F13/(E13+F13) -> 0.066666667 | H13: 0 | I13: 180 | J13: SRDF - FABRIC-A - Under Tech Refresh
A14: MDS05SW1 | B14: 9513 | C14: 5.2(1) | D14: FOX1147GMAA | E14: 98 | F14: 22 | G14: =F14/(E14+F14) -> 0.18333333 | H14: 0 | I14: 120 | J14: TAPE - FABRIC- Under Tech Refresh
A15: MDS23CSW1 | B15: 9513 | C15: 5.2(1) | D15: FOX1448GFSJ | E15: 311 | F15: 1 | G15: =F15/(E15+F15) -> 0.0032051282 | H15: 0 | I15: 312 | J15: CT2/B1_CORE - FABRIC-B
A16: MDS43CSW1 | B16: 9513 | C16: 5.2(1) | D16: FOX1549G4GA | E16: 228 | F16: 12 | G16: =F16/(E16+F16) -> 0.05 | H16: 0 | I16: 240 | J16: CT2/B1_CORE- FABRIC-B
A17: MDS47CSW1 | B17: 9513 | C17: 5.2(1) | D17: FOX1645Q08M | E17: 128 | F17: 64 | G17: =F17/(E17+F17) -> 0.33333333 | H17: 0 | I17: 192 | J17: CT2/B1_CORE- FABRIC-B
... A23: MDS11SW2 | B23: 9513 | C23: 5.2(1) | D23: FOX1309HB4D | E23: 168 | F23: 12 | G23: =F23/(E23+F23) -> 0.066666667 | H23: 0 | I23: 180 | J23: SRDF - FABRIC-B - Under Tech Refresh
A24: MDS07SW1 | B24: 9513 | C24: 5.2(1) | D24: FOX1149H2MM | E24: 0 | F24: 0 | G24: 0 | H24: 0 | I24: 0 | J24: TAPE - FABRIC - Under Tech Refresh
A25: Singapore - Cintech L1
A26: Cisco | E26: Capacity
A27: Switch Name | B27: Frame Model | C27: Code Level | D27: Serial Number | E27: Used Ports | F27: Free Ports | G27: Percent Free | H27: Not Installed | I27: Switch Capacity | J27: Comments
A28: MDS49CSW1 | B28: 9513 | C28: 5.2(8b) | D28: FOX1726S01E | E28: 99 | F28: 29 | G28: =F28/(E28+F28) -> 0.2265625 | H28: 0 | I28: 128 | J28: CT2/L1_CORE - FABRIC-A
A29: MDS53ESW1 | B29: 9513 | C29: 5.2(8b) | D29: FOX1726S025 | E29: 150 | F29: 10 | G29: =F29/(E29+F29) -> 0.0625 | H29: 0 | I29: 160 | J29: CT2/L1_EDGE - FABRIC-A
A30: MDS33ESW1 | B30: 9513 | C30: 5.2(1) | D30: FOX1519GN4Y | E30: 216 | F30: 72 | G30: =F30/(E30+F30) -> 0.25 | H30: 0 | I30: 288 | J30: CT2/L1_EDGE - FABRIC-A
A31: MDS37ESW1 | B31: 9513 | C31: 5.2(1) | D31: FOX1521GT8C | E31: 151 | F31: 41 | G31: =F31/(E31+F31) -> 0.21354167 | H31: 0 | I31: 192 | J31: CT2/L1_EDGE - FABRIC-A
A32: MDS57FSW1 | B32: 9513 | C32: 5.2(8b) | D32: FOX1726S034 | E32: 60 | F32: 12 | G32: =F32/(E32+F32) -> 0.16666667 | H32: 0 | I32: 72 | J32: CT2/L1_SRDF - FABRIC-A
A33: MDS01SW1 | B33: 9513 | C33: 5.2(1) | D33: FOX1205GAJD | E33: 292 | F33: 20 | G33: =F33/(E33+F33) -> 0.064102564 | H33: 0 | I33: 312 | J33: CT2/L1_SRDF/TAPE - FABRIC-A - Under Tech Refresh
A34: MDS01SW2 | B34: 9513 | C34: 5.2(1) | D34: FOX1205GAHD | E34: 215 | F34: 25 | G34: =F34/(E34+F34) -> 0.10416667 | H34: 0 | I34: 240 | J34: CT2/L1_EDGE - FABRIC-A - Under Tech Refresh
A35: MDS13SW1 | B35: 9513 | C35: 5.2(1) | D35: FOX1215GT64 | E35: 85 | F35: 35 | G35: =F35/(E35+F35) -> 0.29166667 | H35: 0 | I35: 120 | J35: CT2/L1_EDGE - FABRIC-A - Under Tech Refresh
A36: MDS33TSW2 | B36: 9513 | C36: 5.2(1) | D36: FOX1203HDLY | E36: 2 | F36: 46 | G36: =F36/(E36+F36) -> 0.95833333 | H36: 0 | I36: 48 | J36: CT2/L1_EDGE - FABRIC-A - Under Tech Refresh
A37: MDS51CSW1 | B37: 9513 | C37: 5.2(8b) | D37: FOX1726S03B | E37: 99 | F37: 29 | G37: =F37/(E37+F37) -> 0.2265625 | H37: 0 | I37: 128 | J37: CT2/L1_CORE - FABRIC-B
A38: MDS55ESW1 | B38: 9513 | C38: 5.2(8b) | D38: FOX1726S03C | E38: 150 | F38: 10 | G38: =F38/(E38+F38) -> 0.0625 | H38: 0 | I38: 160 | J38: CT2/L1_EDGE - FABRIC-B
A39: MDS35ESW1 | B39: 9513 | C39: 5.2(1) | D39: FOX1519GN5F | E39: 216 | F39: 72 | G39: =F39/(E39+F39) -> 0.25 | H39: 0 | I39: 288 | J39: CT2/L1_EDGE - FABRIC-B
... A45: MDS35TSW2 | B45: 9513 | C45: 5.2(1) | D45: FOX1205GAJM | E45: 2 | F45: 46 | G45: =F45/(E45+F45) -> 0.95833333 | H45: 0 | I45: 48 | J45: CT2/L1_EDGE - FABRIC-B - Under Tech Refresh
A46: Hong Kong AST - DC6
A47: Cisco | E47: Capacity
A48: Switch Name | B48: Frame Model | C48: Code Level | D48: Serial Number | E48: Used Ports | F48: Free Ports | G48: Percent Free | H48: Not Installed | I48: Switch Capacity | J48: Comments
A49: MDS3CSWA01 | B49: 9513 | C49: 5.2(1) | D49: FOX1544GAVC | E49: 154 | F49: 86 | G49: =F49/(E49+F49) -> 0.35833333 | H49: 0 | I49: 240 | J49: HK/ASTDC6_CORE - FABRIC-A
A50: MDS3ESWA01 | B50: 9513 | C50: 5.2(1) | D50: FOX1546G7U9 | E50: 208 | F50: 176 | G50: =F50/(E50+F50) -> 0.45833333 | H50: 0 | I50: 384 | J50: HK/ASTDC6_EDGE - FABRIC-A
...

Sheet Americas
A1: Citigroup Distributed Fibre Switch Inventory for December 2013
A2: 390 Greenwich, NY
A3: Cisco | E3: Capacity
A4: Switch Name | B4: Frame Model | C4: Code Level | D4: Serial Number | E4: Used Ports | F4: Free Ports | G4: Percent Free | H4: Not Installed | I4: Switch Capacity | J4: Comments
A5: USECD11AC01 | B5: DS-C9513 | C5: 5.2(8b) | D5: FOX1245GJSV | E5: 97 | F5: 35 | G5: =F5/(E5+F5) -> 0.26515152 | H5: 0 | I5: =SUM(E5:F5,H5) -> 132 | J5: SAN11-A Core Install 2010-01 | K5: 390-c-11 | L5: 1
A6: USECD11AC02 | B6: DS-C9513 | C6: 5.2(8b) | D6: FOX1244GG45 | E6: 97 | F6: 35 | G6: =F6/(E6+F6) -> 0.26515152 | H6: 0 | I6: =SUM(E6:F6,H6) -> 132 | J6: SAN11-A Core Install 2010-01 | K6: 390-c-11 | L6: 1
A7: USECD11AE01 | B7: DS-C9513 | C7: 5.2(8b) | D7: FOX1244GK0A | E7: 200 | F7: 88 | G7: =F7/(E7+F7) -> 0.30555556 | H7: 0 | I7: =SUM(E7:F7,H7) -> 288 | J7: SAN11-A Install 2010-01 | K7: 390-e-11 | L7: 1
A8: USECD11AE02 | B8: DS-C9513 | C8: 5.2(8b) | D8: FOX1244GJZF | E8: 173 | F8: 115 | G8: =F8/(E8+F8) -> 0.39930556 | H8: 0 | I8: =SUM(E8:F8,H8) -> 288 | J8: SAN11-A Install 2010-01 | K8: 390-e-11 | L8: 1
A9: USECD11AE03 | B9: DS-C9513 | C9: 5.2(8b) | D9: FOX1244GK08 | E9: 193 | F9: 71 | G9: =F9/(E9+F9) -> 0.26893939 | H9: 0 | I9: =SUM(E9:F9,H9) -> 264 | J9: SAN11-A Install 2010-01 | K9: 390-e-11 | L9: 1
A10: USECD11AE04 | B10: DS-C9513 | C10: 5.2(8b) | D10: FOX1244GG44 | E10: 145 | F10: 119 | G10: =F10/(E10+F10) -> 0.45075758 | H10: 0 | I10: =SUM(E10:F10,H10) -> 264 | J10: SAN11-A Install 2010-01 | K10: 390-e-11 | L10: 1
A11: USECD11BC01 | B11: DS-C9513 | C11: 5.2(8b) | D11: FOX1244GK0F | E11: 96 | F11: 36 | G11: =F11/(E11+F11) -> 0.27272727 | H11: 0 | I11: =SUM(E11:F11,H11) -> 132 | J11: SAN11-B Core Install 2010-01 | K11: 390-c-11 | L11: 1
A12: USECD11BC02 | B12: DS-C9513 | C12: 5.2(8b) | D12: FOX1244GJZA | E12: 97 | F12: 35 | G12: =F12/(E12+F12) -> 0.26515152 | H12: 0 | I12: =SUM(E12:F12,H12) -> 132 | J12: SAN11-B Core Install 2010-01 | K12: 390-c-11 | L12: 1
A13: USECD11BE01 | B13: DS-C9513 | C13: 5.2(8b) | D13: FOX1244GJZC | E13: 202 | F13: 86 | G13: =F13/(E13+F13) -> 0.29861111 | H13: 0 | I13: =SUM(E13:F13,H13) -> 288 | J13: SAN11-B Install 2010-01 | K13: 390-e-11 | L13: 1
A14: USECD11BE02 | B14: DS-C9513 | C14: 5.2(8b) | D14: FOX1243GJ1B | E14: 174 | F14: 114 | G14: =F14/(E14+F14) -> 0.39583333 | H14: 0 | I14: =SUM(E14:F14,H14) -> 288 | J14: SAN11-B Install 2010-01 | K14: 390-e-11 | L14: 1
A15: USECD11BE03 | B15: DS-C9513 | C15: 5.2(8b) | D15: FOX1244GK0C | E15: 193 | F15: 71 | G15: =F15/(E15+F15) -> 0.26893939 | H15: 0 | I15: =SUM(E15:F15,H15) -> 264 | J15: SAN11-B Install 2010-01 | K15: 390-e-11 | L15: 1
A16: USECD11BE04 | B16: DS-C9513 | C16: 5.2(8b) | D16: FOX1244GG43 | E16: 145 | F16: 119 | G16: =F16/(E16+F16) -> 0.45075758 | H16: 0 | I16: =SUM(E16:F16,H16) -> 264 | J16: SAN11-B Install 2010-01 | K16: 390-e-11 | L16: 1
... A30: USECT10BC01 | B30: DS-C9513 | C30: 5.2(8b) | D30: FOX1147GMCR | E30: 65 | F30: 151 | G30: =F30/(E30+F30) -> 0.69907407 | H30: 0 | I30: =SUM(E30:F30,H30) -> 216 | J30: SAN10-B Tape Install 2009-03 | K30: 390-c-10 | L30: 1
A33: Columbus, OH (MWDC)
A34: Cisco | E34: Capacity
A35: Switch Name | B35: Frame Model | C35: Code Level | D35: Serial Number | E35: Used Ports | F35: Free Ports | G35: Percent Free | H35: Not Installed | I35: Switch Capacity | J35: Comments
A36: USMCD01AC01 | B36: DS-C9513 | C36: 5.2(1) | D36: FOX11120D9Z | E36: 149 | F36: 3 | G36: =F36/(E36+F36) -> 0.019736842 | H36: 0 | I36: =SUM(E36:F36,H36) -> 152 | J36: SAN1-A Core Install 2007-10 | K36: mw-c-1 | L36: 1
A37: USMCD01AC02 | B37: DS-C9513 | C37: 5.2(1) | D37: FOX11070AWB | E37: 148 | F37: 4 | G37: =F37/(E37+F37) -> 0.026315789 | H37: 0 | I37: =SUM(E37:F37,H37) -> 152 | J37: SAN1-A Core Install 2007-10 | K37: mw-c-1 | L37: 1
A38: USMCD01AE01 | B38: DS-C9513 | C38: 5.2(1) | D38: FOX110605TC | E38: 257 | F38: 31 | G38: =F38/(E38+F38) -> 0.10763889 | H38: 0 | I38: =SUM(E38:F38,H38) -> 288 | J38: SAN1-A Install 2007-10 | K38: mw-e-1 | L38: 1
A39: USMCD01AE02 | B39: DS-C9513 | C39: 5.2(1) | D39: FOX11160H71 | E39: 242 | F39: 46 | G39: =F39/(E39+F39) -> 0.15972222 | H39: 0 | I39: =SUM(E39:F39,H39) -> 288 | J39: SAN1-A Install 2007-10 | K39: mw-e-1 | L39: 1
A40: USMCD01AE03 | B40: DS-C9513 | C40: 5.2(1) | D40: FOX11070MJ3 | E40: 228 | F40: 60 | G40: =F40/(E40+F40) -> 0.20833333 | H40: 0 | I40: =SUM(E40:F40,H40) -> 288 | J40: SAN1-A Install 2007-10 | K40: mw-e-1 | L40: 1
A41: USMCD01AE04 | B41: DS-C9513 | C41: 5.2(1) | D41: FOX11120D9X | E41: 230 | F41: 58 | G41: =F41/(E41+F41) -> 0.20138889 | H41: 0 | I41: =SUM(E41:F41,H41) -> 288 | J41: SAN1-A Install 2007-10 | K41: mw-e-1 | L41: 1
A42: USMCD01BC01 | B42: DS-C9513 | C42: 5.2(1) | D42: FOX11070MJ2 | E42: 149 | F42: 3 | G42: =F42/(E42+F42) -> 0.019736842 | H42: 0 | I42: =SUM(E42:F42,H42) -> 152 | J42: SAN1-B Core Install 2007-10 | K42: mw-c-1 | L42: 1
A43: USMCD01BC02 | B43: DS-C9513 | C43: 5.2(1) | D43: FOX11070AX5 | E43: 147 | F43: 5 | G43: =F43/(E43+F43) -> 0.032894737 | H43: 0 | I43: =SUM(E43:F43,H43) -> 152 | J43: SAN1-B Core Install 2007-10 | K43: mw-c-1 | L43: 1
A44: USMCD01BE01 | B44: DS-C9513 | C44: 5.2(1) | D44: FOX110905RK | E44: 255 | F44: 33 | G44: =F44/(E44+F44) -> 0.11458333 | H44: 0 | I44: =SUM(E44:F44,H44) -> 288 | J44: SAN1-B Install 2007-10 | K44: mw-e-1 | L44: 1
A45: USMCD01BE02 | B45: DS-C9513 | C45: 5.2(1) | D45: FOX11070MKG | E45: 242 | F45: 46 | G45: =F45/(E45+F45) -> 0.15972222 | H45: 0 | I45: =SUM(E45:F45,H45) -> 288 | J45: SAN1-B Install 2007-10 | K45: mw-e-1 | L45: 1
A46: USMCD01BE03 | B46: DS-C9513 | C46: 5.2(1) | D46: FOX104002T3 | E46: 234 | F46: 54 | G46: =F46/(E46+F46) -> 0.1875 | H46: 0 | I46: =SUM(E46:F46,H46) -> 288 | J46: SAN1-B Install 2007-10 | K46: mw-e-1 | L46: 1
A47: USMCD01BE04 | B47: DS-C9513 | C47: 5.2(1) | D47: FOX11160H6X | E47: 238 | F47: 50 | G47: =F47/(E47+F47) -> 0.17361111 | H47: 0 | I47: =SUM(E47:F47,H47) -> 288 | J47: SAN1-B Install 2007-10 | K47: mw-e-1 | L47: 1
... A75: USMCT02BC01 | B75: DS-C9513 | C75: 5.2(8b) | D75: FOX11110TAX | E75: 166 | F75: 26 | G75: =F75/(E75+F75) -> 0.13541667 | H75: 0 | I75: =SUM(E75:F75,H75) -> 192 | J75: SAN2-B Core Tape Install 2007-10 | K75: mw-t-2 | L75: 1
A78: Georgetown DataCenter (Georgetown, TX)
A79: Cisco | E79: Capacity
A80: Switch Name | B80: Frame Model | C80: Code Level | D80: Serial Number | E80: Used Ports | F80: Free Ports | G80: Percent Free | H80: Not Installed | I80: Switch Capacity | J80: Comments
A81: USGCD01AC01 | B81: DS-C9513 | C81: 5.2(1) | D81: FOX1147GMB2 | E81: 126 | F81: 6 | G81: =F81/(E81+F81) -> 0.045454545 | H81: 0 | I81: =SUM(E81:F81,H81) -> 132 | J81: SAN1-A Core Install 2008-04 | K81: gt-c-1 | L81: 1
A82: USGCD01AC02 | B82: DS-C9513 | C82: 5.2(1) | D82: FOX114507ZQ | E82: 131 | F82: 1 | G82: =F82/(E82+F82) -> 0.0075757576 | H82: 0 | I82: =SUM(E82:F82,H82) -> 132 | J82: SAN1-A Core Install 2008-04 | K82: gt-c-1 | L82: 1
A83: USGCD01AE01 | B83: DS-C9513 | C83: 5.2(1) | D83: FOX1149H2MF | E83: 317 | F83: 19 | G83: =F83/(E83+F83) -> 0.056547619 | H83: 0 | I83: =SUM(E83:F83,H83) -> 336 | J83: SAN1-A Install 2008-04 | K83: gt-e-1 | L83: 1
A84: USGCD01AE02 | B84: DS-C9513 | C84: 5.2(1) | D84: FOX1147GMAJ | E84: 315 | F84: 21 | G84: =F84/(E84+F84) -> 0.0625 | H84: 0 | I84: =SUM(E84:F84,H84) -> 336 | J84: SAN1-A Install 2008-04 | K84: gt-e-1 | L84: 1
...

Sheet EMEA
A1: EMEA - Citigroup Distributed Fibre Switch Inventory for December 2013
A2: London - RIVERDALE DATA CENTER (RDC)
A3: Cisco | E3: Capacity
A4: Switch Name | B4: Frame Model | C4: Code Level | D4: Serial Number | E4: Used Ports | F4: Free Ports | G4: Percent Free | H4: Not Installed | I4: Switch Capacity | J4: Comments
A5: cmdsrdc3-ct-01 | B5: DS-C9513 | C5: 5.2(8b) | D5: FOX1150H4XB | E5: 109 | F5: 23 | G5: =F5/(E5+F5) -> 0.17424242 | H5: 0 | I5: 132 | J5: CORE - CAT
A6: cmdsrdc3-dg-01 | B6: DS-C9513 | C6: 5.2(8b) | D6: FOX1152HDFX | E6: 112 | F6: 20 | G6: =F6/(E6+F6) -> 0.15151515 | H6: 0 | I6: 132 | J6: CORE - DOG
A7: cmdsrdc4-jd-01 | B7: DS-C9513 | C7: 5.2(8b) | D7: FOX1202H3PN | E7: 116 | F7: 4 | G7: =F7/(E7+F7) -> 0.033333333 | H7: 0 | I7: 120 | J7: CORE - JADE
A8: cmdsrdc4-jd-02 | B8: DS-C9513 | C8: 5.2(8b) | D8: FOX1150H529 | E8: 113 | F8: 7 | G8: =F8/(E8+F8) -> 0.058333333 | H8: 0 | I8: 120 | J8: CORE - JADE
A9: cmdsrdc4-jd-11 | B9: DS-C9513 | C9: 5.2(8b) | D9: FOX1521H7SD | E9: 194 | F9: 110 | G9: =F9/(E9+F9) -> 0.36184211 | H9: 0 | I9: 304 | J9: CORE - JADE
A10: cmdsrdc4-jd-14 | B10: DS-C9513 | C10: 5.2(8b) | D10: FOX1545GUCQ | E10: 20 | F10: 300 | G10: =F10/(E10+F10) -> 0.9375 | H10: 0 | I10: 320 | J10: CORE - JADE
A11: cmdsrdc4-rb-01 | B11: DS-C9513 | C11: 5.2(8b) | D11: FOX1202H3NR | E11: 114 | F11: 18 | G11: =F11/(E11+F11) -> 0.13636364 | H11: 0 | I11: 132 | J11: CORE - RUBY
A12: cmdsrdc4-rb-02 | B12: DS-C9513 | C12: 5.2(8b) | D12: FOX1202H3N8 | E12: 112 | F12: 20 | G12: =F12/(E12+F12) -> 0.15151515 | H12: 0 | I12: 132 | J12: CORE - RUBY
A13: cmdsrdc4-rb-11 | B13: DS-C9513 | C13: 5.2(8b) | D13: FOX1523GLLE | E13: 193 | F13: 111 | G13: =F13/(E13+F13) -> 0.36513158 | H13: 0 | I13: 304 | J13: CORE - RUBY
A14: cmdsrdc4-rb-14 | B14: DS-C9513 | C14: 5.2(8b) | D14: FOX1545GUCC | E14: 20 | F14: 299 | G14: =F14/(E14+F14) -> 0.93730408 | H14: 1 | I14: 320 | J14: CORE - RUBY
A15: emdsrdc1-jd-06 | B15: DS-C9513 | C15: 5.2(8b) | D15: FOX1227GSWP | E15: 101 | F15: 81 | G15: =F15/(E15+F15) -> 0.44505495 | H15: 2 | I15: 184 | J15: EDGE - JADE
A16: emdsrdc1-rb-06 | B16: DS-C9513 | C16: 5.2(8b) | D16: FOX1228GRAY | E16: 100 | F16: 84 | G16: =F16/(E16+F16) -> 0.45652174 | H16: 0 | I16: 184 | J16: EDGE - RUBY
... A38: rmdsrdc4-sl-01 | B38: DS-C9513 | C38: 5.2(2a) | D38: FOX1202H3P2 | E38: 62 | F38: 117 | G38: =F38/(E38+F38) -> 0.65363128 | H38: 1 | I38: 180 | J38: SRDF - SILVER
A39: Brocade | E39: Capacity
A40: Switch Name | B40: Frame Model | C40: Code Level | D40: Serial Number | E40: Used Ports | F40: Free Ports | G40: Percent Free | H40: Not Installed | I40: Switch Capacity | J40: Comments
A41: SW01R_CORE_RED_RDC1 | B41: ED-140M | C41: 09.09.07 | D41: MC5IN03437 | J41: CORE - RED | K41: Decommission in Progress
A42: SW02R_CORE_BLUE_RDC1 | B42: ED-140M | C42: 09.09.07 | D42: MC5IN03434 | J42: CORE - BLUE
A43: SW03R_EDGE_RED_RDC1 | B43: ED-140M | C43: 09.09.07 | D43: MC5IN03438 | J43: EDGE - RED
A44: SW04R_EDGE_BLUE_RDC1 | B44: ED-140M | C44: 09.09.07 | D44: MC5IN03435 | J44: EDGE - BLUE
A45: SW05R_EDGE_RED_RDC1 | B45: ED-140M | C45: 09.09.07 | D45: MC5IN03439 | J45: EDGE - RED
A46: SW06R_EDGE_BLUE_RDC1 | B46: ED-140M | C46: 09.09.07 | D46: MC5IN03436 | J46: EDGE - BLUE
A47: SW13R_EDGE_RED_RDC1 | B47: ED-140M | C47: 09.09.07
A48: SW14R_EDGE_BLUE_RDC1 | B48: ED-140M | C48: 09.09.07
A49: SW15R_CORE_RED_RDC4 | B49: ED-140M | C49: 09.09.07 | D49: MC5IN02561 | J49: CORE - RED
A50: SW16R_CORE_BLUE_RDC4 | B50: ED-140M | C50: 09.09.07 | D50: MC5IN02566 | J50: CORE - BLUE
A51: SW19R_EDGE_RED_RDC1 | B51: ED-140M | C51: 09.09.07
A52: SW1_TL_RDC3 | B52: ED-64M | C52: 09.00.00
A53: SW20R_EDGE_BLUE_RDC1 | B53: ED-140M | C53: 09.09.07
A54: SW22R_EDGE_BLUE_RDC3 | B54: ED-64M | C54: 09.00.00
A55: SW23R_EDGE_RED_RDC4 | B55: ED-140M | C55: 09.09.07 | D55: MC5IN04319 | J55: EDGE - RED
A56: SW24R_EDGE_BLUE_RDC4 | B56: ED-140M | C56: 09.09.07 | D56: MC5IN04320 | J56: EDGE - BLUE
A57: SW25R_CORE_RED_RDC4 | B57: ED-140M | C57: 09.09.07 | D57: MC5IN04503 | J57: CORE - RED
A58: SW26R_CORE_BLUE_RDC4 | B58: ED-140M | C58: 09.09.07 | D58: MC5IN04504 | J58: CORE - BLUE
A59: SW27R_EDGE_RED_RDC3 | B59: ED-140M | C59: 09.09.07 | D59: MC5I05965N | J59: EDGE - RED
A60: SW28R_EDGE_BLUE_RDC3 | B60: ED-140M | C60: 09.09.07 | D60: MC5I05888N | J60: EDGE - BLUE
A61: SW29R_EDGE_RED_RDC3 | B61: ED-140M | C61: 09.09.07 | D61: MC5I05881N | J61: EDGE - RED
...

Sheet EMEA-Edited
A1: London - RIVERDALE DATA CENTER (RDC)
A2: Cisco | E2: Capacity
A3: Switch Name | B3: Frame Model | C3: Code Level | D3: Serial Number | E3: Used Ports | F3: Free Ports | G3: Percent Free | H3: Not Installed | I3: Switch Capacity
A4: cmdsrdc3-ct-01 | B4: DS-C9513 | C4: 5.2(8b) | D4: FOX1150H4XB | E4: 109 | F4: 23 | G4: =F4/(E4+F4) -> 0.17424242 | H4: 0 | I4: 132
A5: cmdsrdc3-dg-01 | B5: DS-C9513 | C5: 5.2(8b) | D5: FOX1152HDFX | E5: 112 | F5: 20 | G5: =F5/(E5+F5) -> 0.15151515 | H5: 0 | I5: 132
A6: cmdsrdc4-jd-01 | B6: DS-C9513 | C6: 5.2(8b) | D6: FOX1202H3PN | E6: 116 | F6: 4 | G6: =F6/(E6+F6) -> 0.033333333 | H6: 0 | I6: 120
A7: cmdsrdc4-jd-02 | B7: DS-C9513 | C7: 5.2(8b) | D7: FOX1150H529 | E7: 113 | F7: 7 | G7: =F7/(E7+F7) -> 0.058333333 | H7: 0 | I7: 120
A8: cmdsrdc4-jd-11 | B8: DS-C9513 | C8: 5.2(8b) | D8: FOX1521H7SD | E8: 194 | F8: 110 | G8: =F8/(E8+F8) -> 0.36184211 | H8: 0 | I8: 304
A9: cmdsrdc4-jd-14 | B9: DS-C9513 | C9: 5.2(8b) | D9: FOX1545GUCQ | E9: 20 | F9: 300 | G9: =F9/(E9+F9) -> 0.9375 | H9: 0 | I9: 320
A10: cmdsrdc4-rb-01 | B10: DS-C9513 | C10: 5.2(8b) | D10: FOX1202H3NR | E10: 114 | F10: 18 | G10: =F10/(E10+F10) -> 0.13636364 | H10: 0 | I10: 132
A11: cmdsrdc4-rb-02 | B11: DS-C9513 | C11: 5.2(8b) | D11: FOX1202H3N8 | E11: 112 | F11: 20 | G11: =F11/(E11+F11) -> 0.15151515 | H11: 0 | I11: 132
A12: cmdsrdc4-rb-11 | B12: DS-C9513 | C12: 5.2(8b) | D12: FOX1523GLLE | E12: 193 | F12: 111 | G12: =F12/(E12+F12) -> 0.36513158 | H12: 0 | I12: 304
A13: cmdsrdc4-rb-14 | B13: DS-C9513 | C13: 5.2(8b) | D13: FOX1545GUCC | E13: 20 | F13: 299 | G13: =F13/(E13+F13) -> 0.93730408 | H13: 1 | I13: 320
A14: emdsrdc1-jd-06 | B14: DS-C9513 | C14: 5.2(8b) | D14: FOX1227GSWP | E14: 101 | F14: 81 | G14: =F14/(E14+F14) -> 0.44505495 | H14: 2 | I14: 184
A15: emdsrdc1-rb-06 | B15: DS-C9513 | C15: 5.2(8b) | D15: FOX1228GRAY | E15: 100 | F15: 84 | G15: =F15/(E15+F15) -> 0.45652174 | H15: 0 | I15: 184
... A37: rmdsrdc4-sl-01 | B37: DS-C9513 | C37: 5.2(2a) | D37: FOX1202H3P2 | E37: 62 | F37: 117 | G37: =F37/(E37+F37) -> 0.65363128 | H37: 1 | I37: 180
A38: London - Citigroup Centre (CGC)
A39: Cisco | E39: Capacity
A40: Switch Name | B40: Frame Model | C40: Code Level | D40: Serial Number | E40: Used Ports | F40: Free Ports | G40: Percent Free | H40: Not Installed | I40: Switch Capacity
A41: cmdscgc1-ct-01 | B41: DS-C9513 | C41: 5.2(8b) | D41: FOX1205GAHN | E41: 16 | F41: 32 | G41: =F41/(E41+F41) -> 0.66666667 | H41: 0 | I41: 48
A42: cmdscgc1-dg-01 | B42: DS-C9513 | C42: 5.2(8b) | D42: FOX1202H3PG | E42: 16 | F42: 32 | G42: =F42/(E42+F42) -> 0.66666667 | H42: 0 | I42: 48
A43: cmdscgc1-jd-01 | B43: DS-C9513 | C43: 5.2(8b) | D43: FOX1330G5AC | E43: 65 | F43: 139 | G43: =F43/(E43+F43) -> 0.68137255 | H43: 0 | I43: 204
A44: cmdscgc1-rb-01 | B44: DS-C9513 | C44: 5.2(8b) | D44: FOX1329GR3T | E44: 65 | F44: 139 | G44: =F44/(E44+F44) -> 0.68137255 | H44: 0 | I44: 204
A45: emdscgc1-jd-03 | B45: DS-C9513 | C45: 5.2(8b) | D45: FOX1331GYC3 | E45: 137 | F45: 55 | G45: =F45/(E45+F45) -> 0.28645833 | H45: 0 | I45: 192
A46: emdscgc1-jd-04 | B46: DS-C9513 | C46: 5.2(8b) | D46: FOX1323G9E1 | E46: 39 | F46: 153 | G46: =F46/(E46+F46) -> 0.796875 | H46: 0 | I46: 192
A47: emdscgc1-jd-05 | B47: DS-C9513 | C47: 5.2(8b) | D47: FOX1329GR3G | E47: 59 | F47: 205 | G47: =F47/(E47+F47) -> 0.77651515 | H47: 0 | I47: 264
A48: emdscgc1-rb-03 | B48: DS-C9513 | C48: 5.2(8b) | D48: FOX1323G9EW | E48: 138 | F48: 54 | G48: =F48/(E48+F48) -> 0.28125 | H48: 0 | I48: 192
A49: emdscgc1-rb-04 | B49: DS-C9513 | C49: 5.2(8b) | D49: FOX1331GYC8 | E49: 39 | F49: 153 | G49: =F49/(E49+F49) -> 0.796875 | H49: 0 | I49: 192
A50: emdscgc1-rb-05 | B50: DS-C9513 | C50: 5.2(8b) | D50: FOX1331GYBH | E50: 59 | F50: 205 | G50: =F50/(E50+F50) -> 0.77651515 | H50: 0 | I50: 264
A51: rmdscgc1-gl-01 | B51: DS-C9509 | C51: 5.2(2a) | D51: FOX1210GT0F | E51: 14 | F51: 58 | G51: =F51/(E51+F51) -> 0.80555556 | H51: 0 | I51: 72
A52: rmdscgc1-sl-01 | B52: DS-C9509 | C52: 5.2(2a) | D52: FOX1212GP09 | E52: 14 | F52: 58 | G52: =F52/(E52+F52) -> 0.80555556 | H52: 0 | I52: 72
A53: Germany - Frankfurt Data Centre (FDC)
A54: Cisco | E54: Capacity
A55: Switch Name | B55: Frame Model | C55: Code Level | D55: Serial Number | E55: Used Ports | F55: Free Ports | G55: Percent Free | H55: Not Installed | I55: Switch Capacity
A56: cmdsfdc1a-jd-01 | B56: DS-C9513 | C56: 5.2(8b) | D56: FOX1205GAK0 | E56: 134 | F56: 10 | G56: =F56/(E56+F56) -> 0.069444444 | H56: 0 | I56: 144
A57: cmdsfdc1a-jd-02 | B57: DS-C9513 | C57: 5.2(8b) | D57: FOX1202H3NV | E57: 130 | F57: 14 | G57: =F57/(E57+F57) -> 0.097222222 | H57: 0 | I57: 144
A58: cmdsfdc1a-jd-09 | B58: DS-C9513 | C58: 5.2(8b) | D58: FOX1303GF5Z | E58: 113 | F58: 19 | G58: =F58/(E58+F58) -> 0.14393939 | H58: 0 | I58: 132
A59: cmdsfdc1a-jd-12 | B59: DS-C9513 | C59: 5.2(8b) | D59: FOX1524GQF5 | E59: 78 | F59: 66 | G59: =F59/(E59+F59) -> 0.45833333 | H59: 0 | I59: 144
A60: cmdsfdc1a-rb-01 | B60: DS-C9513 | C60: 5.2(8b) | D60: FOX1205H322 | E60: 134 | F60: 9 | G60: =F60/(E60+F60) -> 0.062937063 | H60: 1 | I60: 144
A61: cmdsfdc1a-rb-02 | B61: DS-C9513 | C61: 5.2(8b) | D61: FOX1150H51Y | E61: 130 | F61: 14 | G61: =F61/(E61+F61) -> 0.097222222 | H61: 0 | I61: 144
...

Sheet EMEA_NEW
A1: London - RIVERDALE DATA CENTER (RDC)
A2: Cisco | E2: Capacity
A3: Switch Name | B3: Frame Model | C3: Code Level | D3: Serial Number | E3: Used Ports | F3: Free Ports | G3: Percent Free | H3: Not Installed | I3: Switch Capacity
A4: cmdsrdc3-ct-01 | B4: DS-C9513 | C4: 5.2(8b) | D4: FOX1150H4XB | E4: =VLOOKUP(A4,INPUT!A:D,2,FALSE) -> 109 | F4: =VLOOKUP(A4,INPUT!A:D,3,FALSE) -> 23 | G4: =F4/E4 -> 0.21100917 | H4: =VLOOKUP(A4,INPUT!A:D,4,FALSE) -> 0 | I4: =E4+F4+H4 -> 132
A5: cmdsrdc3-dg-01 | B5: DS-C9513 | C5: 5.2(8b) | D5: FOX1152HDFX | E5: =VLOOKUP(A5,INPUT!A:D,2,FALSE) -> 110 | F5: =VLOOKUP(A5,INPUT!A:D,3,FALSE) -> 22 | G5: =F5/E5 -> 0.2 | H5: =VLOOKUP(A5,INPUT!A:D,4,FALSE) -> 0 | I5: =E5+F5+H5 -> 132
A6: rmdsrdc4-gl-01 | B6: DS-C9513 | C6: 5.2(8c) | D6: FOX1205GAK2 | E6: =VLOOKUP(A6,INPUT!A:D,2,FALSE) -> 69 | F6: =VLOOKUP(A6,INPUT!A:D,3,FALSE) -> 111 | G6: =F6/E6 -> 1.6086957 | H6: =VLOOKUP(A6,INPUT!A:D,4,FALSE) -> 0 | I6: =E6+F6+H6 -> 180
A7: rmdsrdc4-sl-01 | B7: DS-C9513 | C7: 5.2(8c) | D7: FOX1202H3P2 | E7: =VLOOKUP(A7,INPUT!A:D,2,FALSE) -> 66 | F7: =VLOOKUP(A7,INPUT!A:D,3,FALSE) -> 113 | G7: =F7/E7 -> 1.7121212 | H7: =VLOOKUP(A7,INPUT!A:D,4,FALSE) -> 1 | I7: =E7+F7+H7 -> 180
A8: cmdsrdc4-jd-01 | B8: DS-C9513 | C8: 5.2(8b) | D8: FOX1202H3PN | E8: =VLOOKUP(A8,INPUT!A:D,2,FALSE) -> 112 | F8: =VLOOKUP(A8,INPUT!A:D,3,FALSE) -> 8 | G8: =F8/E8 -> 0.071428571 | H8: =VLOOKUP(A8,INPUT!A:D,4,FALSE) -> 0 | I8: =E8+F8+H8 -> 120
A9: cmdsrdc4-jd-02 | B9: DS-C9513 | C9: 5.2(8b) | D9: FOX1150H529 | E9: =VLOOKUP(A9,INPUT!A:D,2,FALSE) -> 116 | F9: =VLOOKUP(A9,INPUT!A:D,3,FALSE) -> 4 | G9: =F9/E9 -> 0.034482759 | H9: =VLOOKUP(A9,INPUT!A:D,4,FALSE) -> 0 | I9: =E9+F9+H9 -> 120
A10: cmdsrdc4-jd-11 | B10: DS-C9513 | C10: 5.2(8b) | D10: FOX1521H7SD | E10: =VLOOKUP(A10,INPUT!A:D,2,FALSE) -> 220 | F10: =VLOOKUP(A10,INPUT!A:D,3,FALSE) -> 84 | G10: =F10/E10 -> 0.38181818 | H10: =VLOOKUP(A10,INPUT!A:D,4,FALSE) -> 0 | I10: =E10+F10+H10 -> 304
A11: emdsrdc1-jd-06 | B11: DS-C9513 | C11: 5.2(8b) | D11: FOX1227GSWP | E11: =VLOOKUP(A11,INPUT!A:D,2,FALSE) -> 101 | F11: =VLOOKUP(A11,INPUT!A:D,3,FALSE) -> 81 | G11: =F11/E11 -> 0.8019802 | H11: =VLOOKUP(A11,INPUT!A:D,4,FALSE) -> 0 | I11: =E11+F11+H11 -> 182
A12: emdsrdc3-jd-04 | B12: DS-C9513 | C12: 5.2(8b) | D12: FOX1205GAHQ | E12: =VLOOKUP(A12,INPUT!A:D,2,FALSE) -> 198 | F12: =VLOOKUP(A12,INPUT!A:D,3,FALSE) -> 138 | G12: =F12/E12 -> 0.6969697 | H12: =VLOOKUP(A12,INPUT!A:D,4,FALSE) -> 0 | I12: =E12+F12+H12 -> 336
A13: emdsrdc3-jd-07 | B13: DS-C9513 | C13: 5.2(8b) | D13: FOX1228H2G9 | E13: =VLOOKUP(A13,INPUT!A:D,2,FALSE) -> 139 | F13: =VLOOKUP(A13,INPUT!A:D,3,FALSE) -> 101 | G13: =F13/E13 -> 0.72661871 | H13: =VLOOKUP(A13,INPUT!A:D,4,FALSE) -> 0 | I13: =E13+F13+H13 -> 240
A14: emdsrdc3-jd-09 | B14: DS-C9513 | C14: 5.2(8b) | D14: FOX1307GMZA | E14: =VLOOKUP(A14,INPUT!A:D,2,FALSE) -> 291 | F14: =VLOOKUP(A14,INPUT!A:D,3,FALSE) -> 21 | G14: =F14/E14 -> 0.072164948 | H14: =VLOOKUP(A14,INPUT!A:D,4,FALSE) -> 0 | I14: =E14+F14+H14 -> 312
A15: emdsrdc4-jd-03 | B15: DS-C9513 | C15: 5.2(8b) | D15: FOX1202H3MX | E15: =VLOOKUP(A15,INPUT!A:D,2,FALSE) -> 117 | F15: =VLOOKUP(A15,INPUT!A:D,3,FALSE) -> 123 | G15: =F15/E15 -> 1.0512821 | H15: =VLOOKUP(A15,INPUT!A:D,4,FALSE) -> 0 | I15: =E15+F15+H15 -> 240
... A45: GBKCD01BE19 | B45: DS-C9148 | C45: 5.2(8c) | D45: AMS17100432 | E45: =VLOOKUP(A45,INPUT!A:D,2,FALSE) -> 21 | F45: =VLOOKUP(A45,INPUT!A:D,3,FALSE) -> 27 | G45: =F45/E45 -> 1.2857143 | H45: =VLOOKUP(A45,INPUT!A:D,4,FALSE) -> 0 | I45: =E45+F45+H45 -> 48
A46: Brocade | E46: Capacity
A47: Switch Name | B47: Frame Model | C47: Code Level | D47: Serial Number | E47: Used Ports | F47: Free Ports | G47: Percent Free | H47: Not Installed | I47: Switch Capacity | J47: Comments
A48: SW01R_CORE_RED_RDC1 | B48: ED-140M | C48: 09.09.07 | D48: MC5IN03437 | J48: CORE - RED | K48: Decommission in Progress
A49: SW02R_CORE_BLUE_RDC1 | B49: ED-140M | C49: 09.09.07 | D49: MC5IN03434 | J49: CORE - BLUE
A50: SW03R_EDGE_RED_RDC1 | B50: ED-140M | C50: 09.09.07 | D50: MC5IN03438 | J50: EDGE - RED
A51: SW04R_EDGE_BLUE_RDC1 | B51: ED-140M | C51: 09.09.07 | D51: MC5IN03435 | J51: EDGE - BLUE
A52: SW05R_EDGE_RED_RDC1 | B52: ED-140M | C52: 09.09.07 | D52: MC5IN03439 | J52: EDGE - RED
A53: SW06R_EDGE_BLUE_RDC1 | B53: ED-140M | C53: 09.09.07 | D53: MC5IN03436 | J53: EDGE - BLUE
A54: SW13R_EDGE_RED_RDC1 | B54: ED-140M | C54: 09.09.07
A55: SW14R_EDGE_BLUE_RDC1 | B55: ED-140M | C55: 09.09.07
A56: SW15R_CORE_RED_RDC4 | B56: ED-140M | C56: 09.09.07 | D56: MC5IN02561 | J56: CORE - RED
A57: SW16R_CORE_BLUE_RDC4 | B57: ED-140M | C57: 09.09.07 | D57: MC5IN02566 | J57: CORE - BLUE
A58: SW19R_EDGE_RED_RDC1 | B58: ED-140M | C58: 09.09.07
A59: SW1_TL_RDC3 | B59: ED-64M | C59: 09.00.00
A60: SW20R_EDGE_BLUE_RDC1 | B60: ED-140M | C60: 09.09.07
A61: SW22R_EDGE_BLUE_RDC3 | B61: ED-64M | C61: 09.00.00
A62: SW23R_EDGE_RED_RDC4 | B62: ED-140M | C62: 09.09.07 | D62: MC5IN04319 | J62: EDGE - RED
A63: SW24R_EDGE_BLUE_RDC4 | B63: ED-140M | C63: 09.09.07 | D63: MC5IN04320 | J63: EDGE - BLUE
A64: SW25R_CORE_RED_RDC4 | B64: ED-140M | C64: 09.09.07 | D64: MC5IN04503 | J64: CORE - RED
A65: SW26R_CORE_BLUE_RDC4 | B65: ED-140M | C65: 09.09.07 | D65: MC5IN04504 | J65: CORE - BLUE
A66: SW27R_EDGE_RED_RDC3 | B66: ED-140M | C66: 09.09.07 | D66: MC5I05965N | J66: EDGE - RED
A67: SW28R_EDGE_BLUE_RDC3 | B67: ED-140M | C67: 09.09.07 | D67: MC5I05888N | J67: EDGE - BLUE
A68: SW29R_EDGE_RED_RDC3 | B68: ED-140M | C68: 09.09.07 | D68: MC5I05881N | J68: EDGE - RED
A69: SW30R_EDGE_BLUE_RDC3 | B69: ED-140M | C69: 09.09.07 | D69: MC5I05884N | J69: EDGE - BLUE
...

Sheet INPUT
A1: cmdsrdc3-ct-01 | B1: 109 | C1: 23 | D1: 0
A2: cmdscgc1-jd-01 | B2: 63 | C2: 141 | D2: 0
A3: emdscgc1-jd-03 | B3: 138 | C3: 54 | D3: 0
A4: emdscgc1-jd-04 | B4: 36 | C4: 156 | D4: 0
A5: emdscgc1-jd-05 | B5: 31 | C5: 233 | D5: 0
A6: cmdscgc1-rb-01 | B6: 63 | C6: 141 | D6: 0
A7: emdscgc1-rb-03 | B7: 141 | C7: 51 | D7: 0
A8: emdscgc1-rb-04 | B8: 33 | C8: 159 | D8: 0
A9: emdscgc1-rb-05 | B9: 31 | C9: 233 | D9: 0
A10: cmdscgc1-dg-01 | B10: 16 | C10: 32 | D10: 0
A11: cmdsrdc3-dg-01 | B11: 110 | C11: 22 | D11: 0
A12: rmdscgc1-gl-01 | B12: 6 | C12: 66 | D12: 0
... A106: delcd01ae16 | B106: 85 | C106: 171 | D106: 0
A107: GBKCD01AE16 | B107: 21 | C107: 27 | D107: 0 | H107: sh int brief | include swl | egrep 'up|trun' | wc
A108: GBKCD01BE16 | B108: 21 | C108: 27 | D108: 0 | H108: sh int brief | include swl | egrep 'down|notC' | wc
A109: GBKCD01AE17 | B109: 4 | C109: 44 | D109: 0 | H109: sh int brief | include swl | wc
A110: GBKCD01BE17 | B110: 4 | C110: 44 | D110: 0
A111: GBKCD01AE18 | B111: 42 | C111: 6 | D111: 0
A112: GBKCD01BE18 | B112: 42 | C112: 6 | D112: 0
A113: GBKCD01AE19 | B113: 21 | C113: 27 | D113: 0
A114: GBKCD01BE19 | B114: 21 | C114: 27 | D114: 0
