Workbook

Sheet Source
A1: ARRAY | B1: Usable GBs | C1: Free GBs | D1: Used GBs | E1: Configured Devices | F1: Available Devices | G1: Mapped Storage Total | H1: CGC
A2: 292600623 | B2: 250018.4 | C2: 146691.5 | D2: 103325.3 | E2: 5644 | F2: 349 | G2: 168060
A3: 292600745 | B3: 150516.7 | C3: 66663 | D3: 83852.9 | E3: 3620 | F3: 611 | G3: 101049
A5: ARRAY | B5: Usable GBs | C5: Free GBs | D5: Used GBs | E5: Configured Devices | F5: Available Devices | G5: Mapped Storage Total | H5: RDC
A6: 292600552 | B6: 150516.7 | C6: 65953.8 | D6: 84562 | E6: 3591 | F6: 582 | G6: 101049
A7: 292600678 | B7: 181998.8 | C7: 43719.2 | D7: 138278.6 | E7: 8910 | F7: 2091 | G7: 211912
A8: 292602230 | B8: 171975.5 | C8: 49570 | D8: 122404.6 | E8: 8298 | F8: 3565 | G8: 159522
A9: 292603073 | B9: 389505 | C9: 173141.5 | D9: 216361.2 | E9: 15703 | F9: 2082 | G9: 444187
A10: 292603286 | B10: 165765.7 | C10: 49766.2 | D10: 115998.6 | E10: 8432 | F10: 5066 | G10: 111205
A11: 292603696 | B11: 166078 | C11: 115705.5 | D11: 50371.5 | E11: 9599 | F11: 8220 | G11: 46536.5
A12: 292604330 | B12: 124019.2 | C12: 39756.5 | D12: 84259.7 | E12: 7072 | F12: 2853 | G12: 143176
A13: 295700347 | B13: 224071.2 | C13: 146948.1 | D13: 77122.2 | E13: 9334 | F13: 2646 | G13: 225887
A14: 295700671 | B14: 209496.5 | C14: 179768.4 | D14: 29722.3 | E14: 7999 | F14: 5509 | G14: 62679.7
A15: 295700689 | B15: 102196.5 | C15: 86731.1 | D15: 15463.1 | E15: 3999 | F15: 2884 | G15: 37642.8
A16: 295700704 | B16: 224071.2 | C16: 224066.1 | D16: 4.9 | E16: 6399 | F16: 6400 | G16: 0
A17: 295700706 | B17: 102196.5 | C17: 102193.1 | D17: 3.1 | E17: 3999 | F17: 3438 | G17: 18949
H18: FDC
A19: ARRAY | B19: Usable GBs | C19: Free GBs | D19: Used GBs | E19: Configured Devices | F19: Available Devices | G19: Mapped Storage Total
A20: 292600879 | B20: 193029.1 | C20: 57284.9 | D20: 135743 | E20: 8061 | F20: 1647 | G20: 212280
A21: 292602231 | B21: 276130.4 | C21: 49650.3 | D21: 226479.2 | E21: 10643 | F21: 5485 | G21: 145657
A22: 292602804 | B22: 83038.8 | C22: 24499.6 | D22: 58538.9 | E22: 4357 | F22: 921 | G22: 115895
A23: 292603004 | B23: 438219.9 | C23: 225999 | D23: 212220.5 | E23: 11924 | F23: 1052 | G23: 366652
A24: 292603875 | B24: 83038.8 | C24: 56994.8 | D24: 26043.7 | E24: 4799 | F24: 2972 | G24: 61652.2
A25: 292604652 | B25: 191618.2 | C25: 58363.5 | D25: 133249.6 | E25: 9711 | F25: 5113 | G25: 141268
A26: 295700349 | B26: 257886.5 | C26: 84576.8 | D26: 173308.3 | E26: 11664 | F26: 1569 | G26: 340559
A27: 295700667 | B27: 102196.5 | C27: 87332.9 | D27: 14861.3 | E27: 3999 | F27: 2141 | G27: 62679.7
A28: 295700709 | B28: 328695.2 | C28: 305293.5 | D28: 23398.3 | E28: 11999 | F28: 10021 | G28: 66757.2
A29: 295700710 | B29: 209496.5 | C29: 178572.4 | D29: 30918.4 | E29: 7999 | F29: 6606 | G29: 37609
A30: 295700712 | B30: 209496.5 | C30: 209493.6 | D30: 6 | E30: 7999 | F30: 6886 | G30: 18949
A31: 295700713 | B31: 190871.2 | C31: 190870 | D31: 4.9 | E31: 6400 | F31: 6400 | G31: 0
H32: ZDC
A33: ARRAY | B33: Usable GBs | C33: Free GBs | D33: Used GBs | E33: Configured Devices | F33: Available Devices | G33: Mapped Storage Total
A34: 292602262 | B34: 55151 | C34: 38557.2 | D34: 16593.7 | E34: 2480 | F34: 764 | G34: 57858.1
A35: 492600377 | B35: 33090.5 | C35: 22863.9 | D35: 10226.6 | E35: 1570 | F35: 467 | G35: 37189.7

Sheet Report

Sheet Table
A1: 41822
A2: Site | C2: CGC | D2: CGC | E2: RDC | F2: RDC | G2: RDC | H2: RDC | I2: RDC | J2: RDC | K2: RDC | L2: RDC | M2: FDC | N2: FDC | O2: FDC | P2: FDC | Q2: FDC | R2: FDC | S2: FDC | T2: ZDC | U2: ZDC | V2: FDC | W2: RDC | X2: RDC | Y2: FDC | Z2: RDC | AA2: FDC | AB2: FDC | AC2: FDC | AD2: Total | AE2: VMAX | AO2: Site | AQ2: CGC | AR2: RDC | AT2: FDC
A3: VMAX | C3: 0623 | D3: 0745 | E3: 0552 | F3: 0678 | G3: 3286 | H3: 3073 | I3: 2230 | J3: 3696 | K3: 4330 | L3: 0347 | M3: 0879 | N3: 3004 | O3: 2804 | P3: 2231 | Q3: 3875 | R3: 4652 | S3: 0349 | T3: 2262 | U3: 0377 | V3: 0667 | W3: 0671 | X3: 0689 | Y3: 0710 | Z3: 0706 | AA3: 0712 | AB3: 0709 | AC3: 0713 | AE3: Site | AF3: CGC Non-Rep | AG3: CGC-Rep | AH3: RDC Non-Rep | AI3: RDC-Rep | AJ3: FDC Non-Rep | AK3: FDC-Rep | AL3: ZDC Non-Rep | AM3: Total Rep | AN3: Total Non-Rep | AO3: VMAX | AQ3: 0623 | AR3: 3073 | AS3: 0347 | AT3: 3004 | AU3: 0349
A4: Enabled Pool Devices | B4: Total GB | C4: =Source!B2 -> 250018.4 | D4: =Source!B3 -> 150516.7 | E4: =Source!B6 -> 150516.7 | F4: =Source!B7 -> 181998.8 | G4: =Source!B10 -> 165765.7 | H4: =Source!B9 -> 389505 | I4: =Source!B8 -> 171975.5 | J4: =Source!B11 -> 166078 | K4: =Source!B12 -> 124019.2 | L4: =Source!B13 -> 224071.2 | M4: =Source!B20 -> 193029.1 | N4: =Source!B23 -> 438219.9 | O4: =Source!B22 -> 83038.8 | P4: =Source!B21 -> 276130.4 | Q4: =Source!B24 -> 83038.8 | R4: =Source!B25 -> 191618.2 | S4: =Source!B26 -> 257886.5 | T4: =Source!B34 -> 55151 | U4: =Source!B35 -> 33090.5 | V4: =Source!B27 -> 102196.5 | W4: =Source!B14 -> 209496.5 | X4: =Source!B15 -> 102196.5 | Y4: =Source!B29 -> 209496.5 | Z4: =Source!B17 -> 102196.5 | AA4: =Source!B30 -> 209496.5 | AB4: =Source!B28 -> 328695.2 | AC4: =Source!B31 -> 190871.2 | AD4: =SUM(C4:AC4) -> 5040313.8 | AE4: Total GB | AF4: =C4 -> 250018.4 | AG4: =D4 -> 150516.7 | AH4: =F4+H4+L4 -> 795575 | AI4: =E4+G4+I4+J4+K4+W4+X4+Z4 -> 1192244.6 | AJ4: =M4+N4+S4+AB4+AC4 -> 1408701.9 | AK4: =O4+P4+Q4+R4+V4+Y4+AA4 -> 1155015.7 | AL4: =T4+U4 -> 88241.5 | AM4: =AG4+AI4+AK4 -> 2497777 | AN4: =AF4+AH4+AJ4+AL4 -> 2542536.8 | AO4: FC Pool Devices | AP4: Total GB | AQ4: 143393 | AR4: 132132 | AS4: 83196.1 | AT4: 132132.2 | AU4: 83196.1
B5: Used GB | C5: =Source!D2 -> 103325.3 | D5: =Source!D3 -> 83852.9 | E5: =Source!D6 -> 84562 | F5: =Source!D7 -> 138278.6 | G5: =Source!D10 -> 115998.6 | H5: =Source!D9 -> 216361.2 | I5: =Source!D8 -> 122404.6 | J5: =Source!D11 -> 50371.5 | K5: =Source!D12 -> 84259.7 | L5: =Source!D13 -> 77122.2 | M5: =Source!D20 -> 135743 | N5: =Source!D23 -> 212220.5 | O5: =Source!D22 -> 58538.9 | P5: =Source!D21 -> 226479.2 | Q5: =Source!D24 -> 26043.7 | R5: =Source!D25 -> 133249.6 | S5: =Source!D26 -> 173308.3 | T5: =Source!D34 -> 16593.7 | U5: =Source!D35 -> 10226.6 | V5: =Source!D27 -> 14861.3 | W5: =Source!D14 -> 29722.3 | X5: =Source!D15 -> 15463.1 | Y5: =Source!D29 -> 30918.4 | Z5: =Source!D17 -> 3.1 | AA5: =Source!D30 -> 6 | AB5: =Source!D28 -> 23398.3 | AC5: =Source!D31 -> 4.9 | AD5: =SUM(C5:AC5) -> 2183317.5 | AE5: Used GB | AF5: =C5 -> 103325.3 | AG5: =D5 -> 83852.9 | AH5: =H5+F5+L5 -> 431762 | AI5: =E5+G5+I5+J5+K5+W5+X5+Z5 -> 502784.9 | AJ5: =M5+N5+S5+AB5+AC5 -> 544675 | AK5: =O5+P5+Q5+R5+V5+Y5+AA5 -> 490097.1 | AL5: =T5+U5 -> 26820.3 | AM5: =AG5+AI5+AK5 -> 1076734.9 | AN5: =AF5+AH5+AJ5+AL5 -> 1106582.6 | AP5: Used GB | AQ5: 51964.9 | AR5: 58542 | AS5: 2519 | AT5: 70731 | AU5: 31444.9
B6: % full | C6: =C5/C4 -> 0.41327078 | D6: =D5/D4 -> 0.55710031 | E6: =E5/E4 -> 0.56181141 | F6: =F5/F4 -> 0.75977754 | G6: =G5/G4 -> 0.69977444 | H6: =H5/H4 -> 0.55547734 | I6: =I5/I4 -> 0.71175604 | J6: =J5/J4 -> 0.30330026 | ... AD6: =AD5/AD4 -> 0.43317095 | AE6: % full | AF6: =AF5/AF4 -> 0.41327078 | AG6: =AG5/AG4 -> 0.55710031 | AH6: =AH5/AH4 -> 0.54270433 | AI6: =AI5/AI4 -> 0.42171288 | AJ6: =AJ5/AJ4 -> 0.38665029 | AK6: =AK5/AK4 -> 0.42432073 | AL6: =AL5/AL4 -> 0.30394202 | AM6: =AM5/AM4 -> 0.43107727 | AN6: =AN5/AN4 -> 0.43522776 | AP6: % full | AQ6: =AQ5/AQ4 -> 0.36239496 | AR6: =AR5/AR4 -> 0.44305694 | AS6: =AS5/AS4 -> 0.030277862 | AT6: =AT5/AT4 -> 0.53530479 | AU6: =AU5/AU4 -> 0.37796123
A7: Thin Devices | B7: # Devices | C7: =Source!E2 -> 5644 | D7: =Source!E3 -> 3620 | E7: =Source!E6 -> 3591 | F7: =Source!E7 -> 8910 | G7: =Source!E10 -> 8432 | H7: =Source!E9 -> 15703 | I7: =Source!E8 -> 8298 | J7: =Source!E11 -> 9599 | K7: =Source!E12 -> 7072 | L7: =Source!E13 -> 9334 | M7: =Source!E20 -> 8061 | N7: =Source!E23 -> 11924 | O7: =Source!E22 -> 4357 | P7: =Source!E21 -> 10643 | Q7: =Source!E24 -> 4799 | R7: =Source!E25 -> 9711 | S7: =Source!E26 -> 11664 | T7: =Source!E34 -> 2480 | U7: =Source!E35 -> 1570 | V7: =Source!E27 -> 3999 | W7: =Source!E14 -> 7999 | X7: =Source!E15 -> 3999 | Y7: =Source!E29 -> 7999 | Z7: =Source!E17 -> 3999 | AA7: =Source!E30 -> 7999 | AB7: =Source!E28 -> 11999 | AC7: =Source!E31 -> 6400 | AD7: =SUM(C7:AC7) -> 199805 | AE7: # Devices | AF7: =C7 -> 5644 | AG7: =D7 -> 3620 | AH7: =F7+H7+L7 -> 33947 | AI7: =E7+G7+I7+J7+K7+W7+X7+Z7 -> 52989 | AJ7: =M7+N7+S7+AB7+AC7 -> 50048 | AK7: =O7+P7+Q7+R7+V7+Y7+AA7 -> 49507 | AL7: =T7+U7 -> 4050 | AM7: =AG7+AI7+AK7 -> 106116 | AN7: =AF7+AH7+AJ7+AL7 -> 93689 | AO7: EFD Pool Devices | AP7: Total GB | AQ7: 9191.8 | AR7: 13787.7 | AS7: 8804.8 | AT7: 13787.7 | AU7: 8804.8
B8: Virtual Capacity GB | C8: =C7*33.717 -> 190298.75 | D8: =D7*33.717 -> 122055.54 | E8: =E7*33.717 -> 121077.75 | F8: =F7*33.717 -> 300418.47 | G8: =G7*33.717 -> 284301.74 | H8: =H7*33.717 -> 529458.05 | I8: =I7*33.717 -> 279783.67 | J8: =J7*33.717 -> 323649.48 | ... AC8: =AC7*33.717 -> 215788.8 | AD8: =SUM(C8:AC8) -> 6736825.2 | AE8: Virtual Capacity GB | AF8: =AF7*33.717 -> 190298.75 | AG8: =AG7*33.717 -> 122055.54 | AH8: =AH7*33.717 -> 1144591 | AI8: =AI7*33.717 -> 1786630.1 | AJ8: =AJ7*33.717 -> 1687468.4 | AK8: =AK7*33.717 -> 1669227.5 | AL8: =AL7*33.717 -> 136553.85 | AM8: =AM7*33.717 -> 3577913.2 | AN8: =AN7*33.717 -> 3158912 | AP8: Used GB | AQ8: 7975.5 | AR8: 13649 | AS8: 1289.9 | AT8: 13642 | AU8: 5483.9
B9: Available GB | C9: =C4-C5 -> 146693.1 | D9: =D4-D5 -> 66663.8 | E9: =E4-E5 -> 65954.7 | F9: =F4-F5 -> 43720.2 | G9: =G4-G5 -> 49767.1 | H9: =H4-H5 -> 173143.8 | I9: =I4-I5 -> 49570.9 | J9: =J4-J5 -> 115706.5 | ... AD9: =AD4-AD5 -> 2856996.3 | AE9: Available GB | AF9: =AF4-AF5 -> 146693.1 | AG9: =AG4-AG5 -> 66663.8 | AH9: =AH4-AH5 -> 363813 | AI9: =AI4-AI5 -> 689459.7 | AJ9: =AJ4-AJ5 -> 864026.9 | AK9: =AK4-AK5 -> 664918.6 | AL9: =AL4-AL5 -> 61421.2 | AM9: =AM4-AM5 -> 1421042.1 | AN9: =AN4-AN5 -> 1435954.2 | AP9: % full | AQ9: =AQ8/AQ7 -> 0.86767554 | AR9: =AR8/AR7 -> 0.98994031 | AS9: =AS8/AS7 -> 0.14649964 | AT9: =AT8/AT7 -> 0.98943261 | AU9: =AU8/AU7 -> 0.62283073
B10: # Allocated | C10: =SUM(C7-Source!F2) -> 5295 | D10: =SUM(D7-Source!F3) -> 3009 | E10: =SUM(E7-Source!F6) -> 3009 | F10: =SUM(F7-Source!F7) -> 6819 | G10: =SUM(G7-Source!F10) -> 3366 | H10: =SUM(H7-Source!F9) -> 13621 | I10: =SUM(I7-(Source!F8-2216)) -> 6949 | J10: =SUM(J7-Source!F11) -> 1379 | K10: =SUM(K7-(Source!F12-1760)) -> 5979 | L10: =SUM(L7-Source!F13) -> 6688 | M10: =SUM(M7-Source!F20) -> 6414 | N10: =SUM(N7-Source!F23) -> 10872 | O10: =SUM(O7-Source!F22) -> 3436 | P10: =SUM(P7-(Source!F21-2614)) -> 7772 | Q10: =SUM(Q7-Source!F24) -> 1827 | R10: =SUM(R7-Source!F25) -> 4598 | S10: =SUM(S7-Source!F26) -> 10095 | T10: =SUM(T7-Source!F34) -> 1716 | U10: =SUM(U7-Source!F35) -> 1103 | V10: =SUM(V7-Source!F27) -> 1858 | W10: =SUM(W7-Source!F14) -> 2490 | X10: =SUM(X7-Source!F15) -> 1115 | Y10: =SUM(Y7-Source!F29) -> 1393 | Z10: =SUM(Z7-Source!F17) -> 561 | AA10: =SUM(AA7-Source!F30) -> 1113 | AB10: =SUM(AB7-Source!F28) -> 1978 | AC10: =SUM(AC7-Source!F31) -> 0 | AD10: =SUM(C10:AC10) -> 114455 | AE10: # Allocated | AF10: =C10 -> 5295 | AG10: =D10 -> 3009 | AH10: =F10+H10+L10 -> 27128 | AI10: =E10+G10+I10+J10+K10+W10+X10+Z10 -> 24848 | AJ10: =M10+N10+S10+AB10+AC10 -> 29359 | AK10: =O10+P10+Q10+R10+V10+Y10+AA10 -> 21997 | AL10: =T10+U10 -> 2819 | AM10: =AG10+AI10+AK10 -> 49854 | AN10: =AF10+AH10+AJ10+AL10 -> 64601 | AO10: SATA Pool Devices | AP10: Total GB | AQ10: 97433.6 | AR10: 243584.4 | AS10: 132070.3 | AT10: 292299.3 | AU10: 132070.4
B11: GB Allocated | C11: =C10*33.717 -> 178531.51 | D11: =D10*33.717 -> 101454.45 | E11: =E10*33.717 -> 101454.45 | F11: =F10*33.717 -> 229916.22 | G11: =G10*33.717 -> 113491.42 | H11: =H10*33.717 -> 459259.26 | I11: =I10*33.717 -> 234299.43 | J11: =J10*33.717 -> 46495.743 | ... N11: =N10*33.717 -> 366571.22 | O11: =(O10*33.717) -> 115851.61 | P11: =P10*33.717-(2614*33.717) -> 173912.29 | Q11: =Q10*33.717 -> 61600.959 | R11: =R10*33.717 -> 155030.77 | S11: =S10*33.717 -> 340373.11 | T11: =T10*33.717 -> 57858.372 | U11: =U10*33.717 -> 37189.851 | V11: =V10*33.717 -> 62646.186 | W11: =W10*33.717 -> 83955.33 | X11: =X10*33.717 -> 37594.455 | ... AC11: =AC10*33.717 -> 0 | AD11: =SUM(C11:AC11) -> 3770943 | AE11: GB Allocated | AF11: =AF10*33.717 -> 178531.51 | AG11: =AG10*33.717 -> 101454.45 | AH11: =AH10*33.717 -> 914674.78 | AI11: =AI10*33.717 -> 837800.02 | AJ11: =AJ10*33.717 -> 989897.4 | AK11: =AK10*33.717 -> 741672.85 | AL11: =AL10*33.717 -> 95048.223 | AM11: =AM10*33.717 -> 1680927.3 | AN11: =AN10*33.717 -> 2178151.9 | AP11: Used GB | AQ11: 38973.2 | AR11: 124350.5 | AS11: 3817.1 | AT11: 109009 | AU11: 33401
B12: subscription vs allocated | C12: =C11/C4 -> 0.7140735 | D12: =D11/D4 -> 0.67404117 | E12: =E11/E4 -> 0.67404117 | F12: =F11/F4 -> 1.2632843 | G12: =G11/G4 -> 0.68464961 | H12: =H11/H4 -> 1.1790844 | I12: =I11/I4 -> 1.3624001 | J12: =J11/J4 -> 0.27996329 | ... AD12: =AD11/AD4 -> 0.74815639 | AE12: subscription vs allocated | AF12: =AF11/AF4 -> 0.7140735 | AG12: =AG11/AG4 -> 0.67404117 | AH12: =AH11/AH4 -> 1.1497028 | AI12: =AI11/AI4 -> 0.70270817 | AJ12: =AJ11/AJ4 -> 0.70270183 | AK12: =AK11/AK4 -> 0.64213227 | AL12: =AL11/AL4 -> 1.0771374 | AM12: =AM11/AM4 -> 0.67296933 | AN12: =AN11/AN4 -> 0.85668452 | AP12: % full | AQ12: =AQ11/AQ10 -> 0.39999754 | AR12: =AR11/AR10 -> 0.51050273 | AS12: =AS11/AS10 -> 0.028902032 | AT12: =AT11/AT10 -> 0.37293623 | AU12: =AU11/AU10 -> 0.252903
B13: GB Mapped(First Port) | C13: =Source!G2 -> 168060 | D13: =Source!G3 -> 101049 | E13: =Source!G6 -> 101049 | F13: =Source!G7 -> 211912 | G13: =Source!G10 -> 111205 | H13: =Source!G9 -> 444187 | I13: =Source!G8 -> 159522 | J13: =Source!G11 -> 46536.5 | K13: =Source!G12 -> 143176 | L13: =Source!G13 -> 225887 | M13: =Source!G20 -> 212280 | N13: =Source!G23 -> 366652 | O13: =Source!G22 -> 115895 | P13: =Source!G21 -> 145657 | Q13: =Source!G24 -> 61652.2 | R13: =Source!G25 -> 141268 | S13: =Source!G26 -> 340559 | T13: =Source!G34 -> 57858.1 | U13: =Source!G35 -> 37189.7 | V13: =Source!G27 -> 62679.7 | W13: =Source!G14 -> 62679.7 | X13: =Source!G15 -> 37642.8 | Y13: =Source!G29 -> 37609 | Z13: =Source!G17 -> 18949 | AA13: =Source!G30 -> 18949 | AB13: =Source!G28 -> 66757.2 | AC13: =Source!G31 -> 0 | AD13: =SUM(C13:AC13) -> 3496860.9 | AE13: GB Mapped(First Port) | AF13: =C13 -> 168060 | AG13: =D13 -> 101049 | AH13: =F13+H13+L13 -> 881986 | AI13: =E13+G13+I13+J13+K13+W13+X13+Z13 -> 680760 | AJ13: =M13+N13+S13+AB13+AC13 -> 986248.2 | AK13: =O13+P13+Q13+R13+V13+Y13+AA13 -> 583709.9 | AL13: =T13+U13 -> 95047.8 | AM13: =AG13+AI13+AK13 -> 1365518.9 | AN13: =AF13+AH13+AJ13+AL13 -> 2131342 | AO13: Total | AP13: % full | AQ13: =(AQ6+AQ12)/2 -> 0.38119625 | AR13: =(AR6+AR12)/2 -> 0.47677983 | AS13: =(AS6+AS12)/2 -> 0.029589947 | AT13: =(AT6+AT12)/2 -> 0.45412051 | AU13: =(AU6+AU12)/2 -> 0.31543211
B14: subscription vs Mapped | C14: =C13/C4 -> 0.67219053 | D14: =D13/D4 -> 0.67134743 | E14: =E13/E4 -> 0.67134743 | F14: =F13/F4 -> 1.1643593 | G14: =G13/G4 -> 0.67085652 | H14: =H13/H4 -> 1.1403884 | I14: =I13/I4 -> 0.92758562 | J14: =J13/J4 -> 0.2802087 | ... AD14: =AD13/AD4 -> 0.69377841 | AE14: subscription vs Mapped | AF14: =AF13/AF4 -> 0.67219053 | AG14: =AG13/AG4 -> 0.67134743 | AH14: =AH13/AH4 -> 1.1086145 | AI14: =AI13/AI4 -> 0.57099021 | AJ14: =AJ13/AJ4 -> 0.70011136 | AK14: =AK13/AK4 -> 0.50536967 | AL14: =AL13/AL4 -> 1.0771326 | AM14: =AM13/AM4 -> 0.54669368 | AN14: =AN13/AN4 -> 0.83827381
A15: 41815
A16: Site | C16: CGC | D16: CGC | E16: RDC | F16: RDC | G16: RDC | H16: RDC | I16: RDC | J16: RDC | K16: RDC | L16: RDC | M16: FDC | N16: FDC | O16: FDC | P16: FDC | Q16: FDC | R16: FDC | S16: FDC | T16: ZDC | U16: ZDC | V16: FDC | W16: RDC | X16: RDC | Y16: FDC | Z16: RDC | AA16: FDC | AB16: FDC | AC16: FDC | AD16: Total | AE16: VMAX | AO16: Site | AQ16: CGC | AR16: RDC | AT16: FDC
A17: VMAX | C17: 0623 | D17: 0745 | E17: 0552 | F17: 0678 | G17: 3286 | H17: 3073 | I17: 2230 | J17: 3696 | K17: 4330 | L17: 0347 | M17: 0879 | N17: 3004 | O17: 2804 | P17: 2231 | Q17: 3875 | R17: 4652 | S17: 0349 | T17: 2262 | U17: 0377 | V17: 0667 | W17: 0671 | X17: 0689 | Y17: 0710 | Z17: 0706 | AA17: 0712 | AB17: 0709 | AC17: 0713 | AE17: Site | AF17: CGC Non-Rep | AG17: CGC-Rep | AH17: RDC Non-Rep | AI17: RDC-Rep | AJ17: FDC Non-Rep | AK17: FDC-Rep | AL17: ZDC Non-Rep | AM17: Total Rep | AN17: Total Non-Rep | AO17: VMAX | AQ17: 0623 | AR17: 3073 | AS17: 0347 | AT17: 3004 | AU17: 0349
A18: Enabled Pool Devices | B18: Total GB | C18: 250018.4 | D18: 150516.7 | E18: 150516.7 | F18: 181998.8 | G18: 165765.7 | H18: 389505 | I18: 171975.5 | J18: 166078 | K18: 124019.2 | L18: 224071.2 | M18: 193029.1 | N18: 438219.9 | O18: 83038.8 | P18: 276130.4 | Q18: 83038.8 | R18: 191618.2 | S18: 257886.5 | T18: 55151 | U18: 33090.5 | V18: 102196.5 | W18: 209496.5 | X18: 102196.5 | Y18: 209496.5 | Z18: 102196.5 | AA18: 209496.5 | AB18: 328695.2 | AC18: 190871.2 | AD18: 5040313.8 | AE18: Total GB | AF18: 250018.4 | AG18: 150516.7 | AH18: 795575 | AI18: 1192244.6 | AJ18: 1408701.9 | AK18: 1155015.7 | AL18: 88241.5 | AM18: 2497777 | AN18: 2542536.8 | AO18: FC Pool Devices | AP18: Total GB | AQ18: 143393 | AR18: 132132 | AS18: 83196.1 | AT18: 132132.2 | AU18: 83196.1
B19: Used GB | C19: 103064.3 | D19: 83794.5 | E19: 84503.8 | F19: 138218.7 | G19: 115588.1 | H19: 215662.6 | I19: 122210.1 | J19: 50246.9 | K19: 83765.9 | L19: 75784.5 | M19: 135603.5 | N19: 211901.6 | O19: 58338.2 | P19: 226157.4 | Q19: 25981.3 | R19: 132480.7 | S19: 171934.9 | T19: 16593.7 | U19: 10226.6 | V19: 14797.3 | W19: 29594.5 | X19: 15453.1 | Y19: 30896.9 | Z19: 3.1 | AA19: 6 | AB19: 23373.7 | AC19: 4.9 | AD19: 2176186.8 | AE19: Used GB | AF19: 103064.3 | AG19: 83794.5 | AH19: 429665.8 | AI19: 501365.5 | AJ19: 542818.6 | AK19: 488657.8 | AL19: 26820.3 | AM19: 1073817.8 | AN19: 1102369 | AP19: Used GB | AQ19: 51964.9 | AR19: 58542 | AS19: 2519 | AT19: 70731 | AU19: 31444.9
B20: % full | C20: 0.41222686 | D20: 0.55671231 | E20: 0.56142475 | F20: 0.75944841 | G20: 0.69729805 | H20: 0.55368378 | I20: 0.71062506 | J20: 0.30255001 | K20: 0.67542687 | L20: 0.33821616 | M20: 0.70250289 | N20: 0.48355084 | O20: 0.70254146 | P20: 0.81902391 | Q20: 0.31288145 | R20: 0.69137848 | S20: 0.66670764 | T20: 0.30087759 | U20: 0.30904943 | V20: 0.14479263 | W20: 0.14126489 | X20: 0.15120968 | Y20: 0.1474817 | Z20: 3.033372e-05 | AA20: 2.8640097e-05 | AB20: 0.071110561 | AC20: 2.5671762e-05 | AD20: 0.43175621 | AE20: % full | AF20: 0.41222686 | AG20: 0.55671231 | AH20: 0.54006951 | AI20: 0.42052235 | AJ20: 0.38533248 | AK20: 0.4230746 | AL20: 0.30394202 | AM20: 0.4299094 | AN20: 0.43357052 | AP20: % full | AQ20: =AQ19/AQ18 -> 0.36239496 | AR20: =AR19/AR18 -> 0.44305694 | AS20: =AS19/AS18 -> 0.030277862 | AT20: =AT19/AT18 -> 0.53530479 | AU20: =AU19/AU18 -> 0.37796123
A21: Thin Devices | B21: # Devices | C21: 5644 | D21: 3620 | E21: 3591 | F21: 8910 | G21: 8432 | H21: 15703 | I21: 8298 | J21: 9599 | K21: 7072 | L21: 9334 | M21: 8061 | N21: 11924 | O21: 4357 | P21: 10643 | Q21: 4799 | R21: 9711 | S21: 11664 | T21: 2480 | U21: 1570 | V21: 3999 | W21: 7999 | X21: 3999 | Y21: 7999 | Z21: 3999 | AA21: 7999 | AB21: 11999 | AC21: 6400 | AD21: 199805 | AE21: # Devices | AF21: 5644 | AG21: 3620 | AH21: 33947 | AI21: 52989 | AJ21: 50048 | AK21: 49507 | AL21: 4050 | AM21: 106116 | AN21: 93689 | AO21: EFD Pool Devices | AP21: Total GB | AQ21: 9191.8 | AR21: 13787.7 | AS21: 8804.8 | AT21: 13787.7 | AU21: 8804.8
B22: Virtual Capacity GB | C22: 190298.75 | D22: 122055.54 | E22: 121077.75 | F22: 300418.47 | G22: 284301.74 | H22: 529458.05 | I22: 279783.67 | J22: 323649.48 | K22: 238446.62 | L22: 314714.48 | M22: 271792.74 | N22: 402041.51 | O22: 146904.97 | P22: 358850.03 | Q22: 161807.88 | R22: 327425.79 | S22: 393275.09 | T22: 83618.16 | U22: 52935.69 | V22: 134834.28 | W22: 269702.28 | X22: 134834.28 | Y22: 269702.28 | Z22: 134834.28 | AA22: 269702.28 | AB22: 404570.28 | AC22: 215788.8 | AD22: 6736825.2 | AE22: Virtual Capacity GB | AF22: 190298.75 | AG22: 122055.54 | AH22: 1144591 | AI22: 1786630.1 | AJ22: 1687468.4 | AK22: 1669227.5 | AL22: 136553.85 | AM22: 3577913.2 | AN22: 3158912 | AP22: Used GB | AQ22: 7975.5 | AR22: 13649 | AS22: 1289.9 | AT22: 13642 | AU22: 5483.9
B23: capacity threshold | C23: =C18-C19 -> 146954.1 | D23: =D18-D19 -> 66722.2 | E23: =E18-E19 -> 66012.9 | F23: =F18-F19 -> 43780.1 | G23: =G18-G19 -> 50177.6 | H23: =H18-H19 -> 173842.4 | I23: =I18-I19 -> 49765.4 | J23: =J18-J19 -> 115831.1 | ... AD23: =AD18-AD19 -> 2864127 | AE23: capacity threshold | AF23: 500036.8 | AG23: 301033.4 | AH23: 1591150 | AI23: 2384489.2 | AJ23: 2817403.8 | AK23: 2310031.4 | AL23: 176483 | AM23: 4995554 | AN23: 5085073.6 | AP23: % full | AQ23: =AQ22/AQ21 -> 0.86767554 | AR23: =AR22/AR21 -> 0.98994031 | AS23: =AS22/AS21 -> 0.14649964 | AT23: =AT22/AT21 -> 0.98943261 | AU23: =AU22/AU21 -> 0.62283073
B24: # Allocated | C24: 5295 | D24: 3009 | E24: 3009 | F24: 6819 | G24: 3366 | H24: 13621 | I24: 6949 | J24: 1379 | K24: 5979 | L24: 6688 | M24: 6414 | N24: 10872 | O24: 3436 | P24: 7772 | Q24: 1827 | R24: 4598 | S24: 10095 | T24: 1716 | U24: 1103 | V24: 1858 | W24: 2490 | X24: 1115 | Y24: 1393 | Z24: 561 | AA24: 1113 | AB24: 1978 | AC24: 0 | AD24: 114455 | AE24: # Allocated | AF24: 5295 | AG24: 3009 | AH24: 27128 | AI24: 24848 | AJ24: 29359 | AK24: 21997 | AL24: 2819 | AM24: 49854 | AN24: 64601 | AO24: SATA Pool Devices | AP24: Total GB | AQ24: 97433.6 | AR24: 243584.4 | AS24: 132070.3 | AT24: 292299.3 | AU24: 132070.4
B25: GB Allocated | C25: 178531.51 | D25: 101454.45 | E25: 101454.45 | F25: 229916.22 | G25: 113491.42 | H25: 459259.26 | I25: 234299.43 | J25: 46495.743 | K25: 201593.94 | L25: 225499.3 | M25: 216260.84 | N25: 366571.22 | O25: 115851.61 | P25: 173912.29 | Q25: 61600.959 | R25: 155030.77 | S25: 340373.11 | T25: 57858.372 | U25: 37189.851 | V25: 62646.186 | W25: 83955.33 | X25: 37594.455 | Y25: 46967.781 | Z25: 18915.237 | AA25: 37527.021 | AB25: 66692.226 | AC25: 0 | AD25: 3770943 | AE25: GB Allocated | AF25: 178531.51 | AG25: 101454.45 | AH25: 914674.78 | AI25: 837800.02 | AJ25: 989897.4 | AK25: 741672.85 | AL25: 95048.223 | AM25: 1680927.3 | AN25: 2178151.9 | AP25: Used GB | AQ25: 38973.2 | AR25: 124350.5 | AS25: 3817.1 | AT25: 109009 | AU25: 33401
B26: subscription vs allocated | C26: 0.7140735 | D26: 0.67404117 | E26: 0.67404117 | F26: 1.2632843 | G26: 0.68464961 | H26: 1.1790844 | I26: 1.3624001 | J26: 0.27996329 | K26: 1.6255059 | L26: 1.0063734 | M26: 1.1203536 | N26: 0.83650063 | O26: 1.3951504 | P26: 0.62981941 | Q26: 0.74183344 | R26: 0.80906076 | S26: 1.3198563 | T26: 1.0490902 | U26: 1.123883 | V26: 0.61299737 | W26: 0.40074813 | X26: 0.36786441 | Y26: 0.22419363 | Z26: 0.18508694 | AA26: 0.17912958 | AB26: 0.20289991 | AC26: 0 | AD26: 0.74815639 | AE26: subscription vs allocated | AF26: 0.7140735 | AG26: 0.67404117 | AH26: 1.1497028 | AI26: 0.70270817 | AJ26: 0.70270183 | AK26: 0.64213227 | AL26: 1.0771374 | AM26: 0.67296933 | AN26: 0.85668452 | AP26: % full | AQ26: =AQ25/AQ24 -> 0.39999754 | AR26: =AR25/AR24 -> 0.51050273 | AS26: =AS25/AS24 -> 0.028902032 | AT26: =AT25/AT24 -> 0.37293623 | AU26: =AU25/AU24 -> 0.252903
B27: GB Mapped(First Port) | C27: 168060 | D27: 101049 | E27: 101049 | F27: 211912 | G27: 111205 | H27: 444187 | I27: 159522 | J27: 46536.5 | K27: 143176 | L27: 225887 | M27: 212280 | N27: 366652 | O27: 115895 | P27: 145657 | Q27: 61652.2 | R27: 141268 | S27: 340559 | T27: 57858.1 | U27: 37189.7 | V27: 62679.7 | W27: 62679.7 | X27: 37642.8 | Y27: 37609 | Z27: 18949 | AA27: 18949 | AB27: 66757.2 | AC27: 0 | AD27: 3496860.9 | AE27: GB Mapped(First Port) | AF27: 168060 | AG27: 101049 | AH27: 881986 | AI27: 680760 | AJ27: 986248.2 | AK27: 583709.9 | AL27: 95047.8 | AM27: 1365518.9 | AN27: 2131342 | AO27: Total | AP27: % full | AQ27: =(AQ20+AQ26)/2 -> 0.38119625 | AR27: =(AR20+AR26)/2 -> 0.47677983 | AS27: =(AS20+AS26)/2 -> 0.029589947 | AT27: =(AT20+AT26)/2 -> 0.45412051 | AU27: =(AU20+AU26)/2 -> 0.31543211
B28: subscription vs Mapped | C28: 0.67219053 | D28: 0.67134743 | E28: 0.67134743 | F28: 1.1643593 | G28: 0.67085652 | H28: 1.1403884 | I28: 0.92758562 | J28: 0.2802087 | K28: 1.1544664 | L28: 1.0081037 | M28: 1.0997306 | N28: 0.83668496 | O28: 1.3956729 | P28: 0.52749353 | Q28: 0.74245052 | R28: 0.73723686 | S28: 1.3205771 | T28: 1.0490852 | U28: 1.1238785 | V28: 0.61332531 | W28: 0.29919211 | X28: 0.36833747 | Y28: 0.1795209 | Z28: 0.18541731 | AA28: 0.090450198 | AB28: 0.20309758 | AC28: 0 | AD28: 0.69377841 | AE28: subscription vs Mapped | AF28: 0.67219053 | AG28: 0.67134743 | AH28: 1.1086145 | AI28: 0.57099021 | AJ28: 0.70011136 | AK28: 0.50536967 | AL28: 1.0771326 | AM28: 0.54669368 | AN28: 0.83827381
A29: 41808
A30: Site | C30: CGC | D30: CGC | E30: RDC | F30: RDC | G30: RDC | H30: RDC | I30: RDC | J30: RDC | K30: RDC | L30: RDC | M30: FDC | N30: FDC | O30: FDC | P30: FDC | Q30: FDC | R30: FDC | S30: FDC | T30: ZDC | U30: ZDC | V30: FDC | W30: RDC | X30: RDC | Y30: FDC | Z30: RDC | AA30: FDC | AB30: FDC | AC30: FDC | AD30: Total | AE30: VMAX | AO30: Site | AQ30: CGC | AR30: RDC | AT30: FDC
A31: VMAX | C31: 0623 | D31: 0745 | E31: 0552 | F31: 0678 | G31: 3286 | H31: 3073 | I31: 2230 | J31: 3696 | K31: 4330 | L31: 0347 | M31: 0879 | N31: 3004 | O31: 2804 | P31: 2231 | Q31: 3875 | R31: 4652 | S31: 0349 | T31: 2262 | U31: 0377 | V31: 0667 | W31: 0671 | X31: 0689 | Y31: 0710 | Z31: 0706 | AA31: 0712 | AB31: 0709 | AC31: 0713 | AE31: Site | AF31: CGC Non-Rep | AG31: CGC-Rep | AH31: RDC Non-Rep | AI31: RDC-Rep | AJ31: FDC Non-Rep | AK31: FDC-Rep | AL31: ZDC Non-Rep | AM31: Total Rep | AN31: Total Non-Rep | AO31: VMAX | AQ31: 0623 | AR31: 3073 | AS31: 0347 | AT31: 3004 | AU31: 0349
A32: Enabled Pool Devices | B32: Total GB | C32: 250018.4 | D32: 150516.7 | E32: 150516.7 | F32: 181998.8 | G32: 165765.7 | H32: 389505 | I32: 171975.5 | J32: 166078 | K32: 124019.2 | L32: 224071.2 | M32: 193029.1 | N32: 438219.9 | O32: 83038.8 | P32: 276130.4 | Q32: 83038.8 | R32: 191618.2 | S32: 257886.5 | T32: 55151 | U32: 33090.5 | V32: 102196.5 | W32: 209496.5 | X32: 102196.5 | Y32: 209496.5 | Z32: 102196.5 | AA32: 209496.5 | AB32: 262657.9 | AC32: 190871.2 | AD32: 4974276.5 | AE32: Total GB | AF32: 250018.4 | AG32: 150516.7 | AH32: 795575 | AI32: 1192244.6 | AJ32: 1342664.6 | AK32: 1155015.7 | AL32: 88241.5 | AM32: 2497777 | AN32: 2476499.5 | AO32: FC Pool Devices | AP32: Total GB | AQ32: 143393 | AR32: 132132 | AS32: 83196.1 | AT32: 132132.2 | AU32: 83196.1
B33: Used GB | C33: 102703.9 | D33: 83557.8 | E33: 84309.6 | F33: 138124.6 | G33: 115485.3 | H33: 214843.4 | I33: 122009.1 | J33: 50069.7 | K33: 83342.4 | L33: 72466.3 | M33: 135250.8 | N33: 211435.5 | O33: 58291.3 | P33: 225635 | Q33: 25892.2 | R33: 131717.7 | S33: 171461.4 | T33: 16593.7 | U33: 10226.6 | V33: 14746 | W33: 29491.9 | X33: 15125.9 | Y33: 30236.5 | Z33: 3.1 | AA33: 6 | AB33: 18364.5 | AC33: 4.9 | AD33: 2161395.1 | AE33: Used GB | AF33: 102703.9 | AG33: 83557.8 | AH33: 425434.3 | AI33: 499837 | AJ33: 536517.1 | AK33: 486524.7 | AL33: 26820.3 | AM33: 1069919.5 | AN33: 1091475.6 | AP33: Used GB | AQ33: 51964.9 | AR33: 58542 | AS33: 2519 | AT33: 70731 | AU33: 31444.9
B34: % full | C34: 0.41078537 | D34: 0.55513973 | E34: 0.56013452 | F34: 0.75893138 | G34: 0.6966779 | H34: 0.5515806 | I34: 0.70945629 | J34: 0.30148304 | K34: 0.67201208 | L34: 0.32340747 | M34: 0.7006757 | N34: 0.48248722 | O34: 0.70197667 | P34: 0.81713205 | Q34: 0.31180846 | R34: 0.6873966 | S34: 0.66487156 | T34: 0.30087759 | U34: 0.30904943 | V34: 0.14429066 | W34: 0.14077514 | X34: 0.148008 | Y34: 0.14432938 | Z34: 3.033372e-05 | AA34: 2.8640097e-05 | AB34: 0.069917943 | AC34: 2.5671762e-05 | AD34: 0.43451447 | AE34: % full | AF34: 0.41078537 | AG34: 0.55513973 | AH34: 0.53475071 | AI34: 0.41924031 | AJ34: 0.39959131 | AK34: 0.42122778 | AL34: 0.30394202 | AM34: 0.42834869 | AN34: 0.44073322 | AP34: % full | AQ34: 0.36239496 | AR34: 0.44305694 | AS34: 0.030277862 | AT34: 0.53530479 | AU34: 0.37796123
A35: Thin Devices | B35: # Devices | C35: 5644 | D35: 3620 | E35: 3591 | F35: 8910 | G35: 8432 | H35: 15703 | I35: 8298 | J35: 9599 | K35: 7072 | L35: 9334 | M35: 8046 | N35: 11924 | O35: 4357 | P35: 10643 | Q35: 4799 | R35: 9711 | S35: 11664 | T35: 2480 | U35: 1570 | V35: 3999 | W35: 7999 | X35: 3999 | Y35: 7999 | Z35: 3999 | AA35: 7999 | AB35: 11999 | AC35: 6400 | AD35: 199790 | AE35: # Devices | AF35: 5644 | AG35: 3620 | AH35: 33947 | AI35: 52989 | AJ35: 50033 | AK35: 49507 | AL35: 4050 | AM35: 106116 | AN35: 93674 | AO35: EFD Pool Devices | AP35: Total GB | AQ35: 9191.8 | AR35: 13787.7 | AS35: 8804.8 | AT35: 13787.7 | AU35: 8804.8
B36: Virtual Capacity GB | C36: 190298.75 | D36: 122055.54 | E36: 121077.75 | F36: 300418.47 | G36: 284301.74 | H36: 529458.05 | I36: 279783.67 | J36: 323649.48 | K36: 238446.62 | L36: 314714.48 | M36: 271286.98 | N36: 402041.51 | O36: 146904.97 | P36: 358850.03 | Q36: 161807.88 | R36: 327425.79 | S36: 393275.09 | T36: 83618.16 | U36: 52935.69 | V36: 134834.28 | W36: 269702.28 | X36: 134834.28 | Y36: 269702.28 | Z36: 134834.28 | AA36: 269702.28 | AB36: 404570.28 | AC36: 215788.8 | AD36: 6736319.4 | AE36: Virtual Capacity GB | AF36: 190298.75 | AG36: 122055.54 | AH36: 1144591 | AI36: 1786630.1 | AJ36: 1686962.7 | AK36: 1669227.5 | AL36: 136553.85 | AM36: 3577913.2 | AN36: 3158406.3 | AP36: Used GB | AQ36: 7975.5 | AR36: 13649 | AS36: 1289.9 | AT36: 13642 | AU36: 5483.9
B37: capacity threshold | C37: =C32-C33 -> 147314.5 | D37: =D32-D33 -> 66958.9 | E37: =E32-E33 -> 66207.1 | F37: =F32-F33 -> 43874.2 | G37: =G32-G33 -> 50280.4 | H37: =H32-H33 -> 174661.6 | I37: =I32-I33 -> 49966.4 | J37: =J32-J33 -> 116008.3 | ... AC37: =AC32-AC33 -> 190866.3 | AD37: 7744521.6 | AE37: capacity threshold | AF37: 500036.8 | AG37: 301033.4 | AH37: 1591150 | AI37: 2384489.2 | AJ37: 2685329.2 | AK37: 2310031.4 | AL37: 176483 | AM37: 4995554 | AN37: 4952999 | AP37: % full | AQ37: 0.86767554 | AR37: 0.98994031 | AS37: 0.14649964 | AT37: 0.98943261 | AU37: 0.62283073
B38: # Allocated | C38: 5321 | D38: 2948 | E38: 2948 | F38: 7143 | G38: 3360 | H38: 13616 | I38: 6949 | J38: 1379 | K38: 5979 | L38: 6618 | M38: 6669 | N38: 10872 | O38: 3430 | P38: 7807 | Q38: 1827 | R38: 4598 | S38: 10019 | T38: 1716 | U38: 1103 | V38: 1858 | W38: 2490 | X38: 946 | Y38: 1224 | Z38: 561 | AA38: 1113 | AB38: 795 | AC38: 0 | AD38: 113289 | AE38: # Allocated | AF38: 5321 | AG38: 2948 | AH38: 27377 | AI38: 24612 | AJ38: 28355 | AK38: 21857 | AL38: 2819 | AM38: 49417 | AN38: 63872 | AO38: SATA Pool Devices | AP38: Total GB | AQ38: 97433.6 | AR38: 243584.4 | AS38: 132070.3 | AT38: 292299.3 | AU38: 132070.4
B39: GB Allocated | C39: 179408.16 | D39: 99397.716 | E39: 99397.716 | F39: 240840.53 | G39: 113289.12 | H39: 459090.67 | I39: 234299.43 | J39: 46495.743 | K39: 201593.94 | L39: 223139.11 | M39: 224858.67 | N39: 366571.22 | O39: 115649.31 | P39: 175092.38 | Q39: 61600.959 | R39: 155030.77 | S39: 337810.62 | T39: 57858.372 | U39: 37189.851 | V39: 62646.186 | W39: 83955.33 | X39: 31896.282 | Y39: 41269.608 | Z39: 18915.237 | AA39: 37527.021 | AB39: 26805.015 | AC39: 0 | AD39: 3731629 | AE39: GB Allocated | AF39: 179408.16 | AG39: 99397.716 | AH39: 923070.31 | AI39: 829842.8 | AJ39: 956045.53 | AK39: 736952.47 | AL39: 95048.223 | AM39: 1666193 | AN39: 2153572.2 | AP39: Used GB | AQ39: 38973.2 | AR39: 124350.5 | AS39: 3817.1 | AT39: 109009 | AU39: 33401
B40: subscription vs allocated | C40: 0.71757981 | D40: 0.66037666 | E40: 0.66037666 | F40: 1.3233083 | G40: 0.6834292 | H40: 1.1786516 | I40: 1.3624001 | J40: 0.27996329 | K40: 1.6255059 | L40: 0.99584019 | M40: 1.1648952 | N40: 0.83650063 | O40: 1.3927141 | P40: 0.6340931 | Q40: 0.74183344 | R40: 0.80906076 | S40: 1.3099198 | T40: 1.0490902 | U40: 1.123883 | V40: 0.61299737 | W40: 0.40074813 | X40: 0.31210738 | Y40: 0.19699426 | Z40: 0.18508694 | AA40: 0.17912958 | AB40: 0.10205296 | AC40: 0 | AD40: 0.75018527 | AE40: subscription vs allocated | AF40: 0.71757981 | AG40: 0.66037666 | AH40: 1.1602555 | AI40: 0.69603402 | AJ40: 0.7120509 | AK40: 0.63804541 | AL40: 1.0771374 | AM40: 0.66707035 | AN40: 0.86960333 | AP40: % full | AQ40: 0.39999754 | AR40: 0.51050273 | AS40: 0.028902032 | AT40: 0.37293623 | AU40: 0.252903
...

Sheet WeeklyReport
H1: Available | I1: Available | J1: Available | K1: Available | L1: Available | M1: Available | N1: Available | O1: Available | P1: Available | Q1: Available | R1: Available | S1: Available | T1: Available | U1: Available | V1: Available | W1: Available | X1: Available | Y1: Available
C2: Notes | D2: Approx number of weeks Available | E2: Total Storage(Available + Used Capacity) | F2: % Available | G2: Used Capacity | H2: =Table!A1 -> 41822 | I2: =Table!A15 -> 41815 | J2: =Table!A29 -> 41808 | K2: =Table!A43 -> 41801 | L2: =Table!A57 -> 41794 | M2: =Table!A71 -> 41787 | N2: =Table!A85 -> 41780 | O2: =Table!A99 -> 41773 | P2: =Table!A113 -> 41766 | Q2: =Table!A127 -> 41752 | R2: =Table!A141 -> 41745 | S2: =Table!A155 -> 41739 | T2: =Table!A169 -> 41732 | U2: =Table!A183 -> 41725 | V2: =Table!A197 -> 41709 | W2: =Table!A211 -> 41704 | X2: =Table!A225 -> 41703 | Y2: =Table!A239 -> 41702
A3: CGC | B3: 0623 | D3: =H3/AVERAGE(H4:Z4) -> 1001.47 | E3: =Table!C4 -> 250018.4 | F3: =H3/E3 -> 0.58672922 | G3: =Table!C5 -> 103325.3 | H3: =Table!C9 -> 146693.1 | I3: =Table!C23 -> 146954.1 | J3: =Table!C37 -> 147314.5 | K3: =Table!C51 -> 147314.5 | L3: =Table!C65 -> 147880.6 | M3: =Table!C79 -> 145722.5 | N3: =Table!C93 -> 145702.1 | O3: =Table!C107 -> 146034.8 | P3: =Table!C121 -> 146123.1 | Q3: =Table!C135 -> 145162.5 | R3: =Table!C149 -> 144485.2 | S3: =Table!C163 -> 144573 | T3: =Table!C177 -> 145463.9 | U3: =Table!C191 -> 145988 | V3: =Table!C205 -> 148723.7 | W3: =Table!C219 -> 149298.1 | X3: =Table!C233 -> 149332.6 | Y3: =Table!C247 -> 149329.7 | Z3: 149329.7
B4: Used per Week | H4: =I3-H3 -> 261 | I4: =J3-I3 -> 360.4 | J4: =K3-J3 -> 0 | K4: =L3-K3 -> 566.1 | L4: =M3-L3 -> -2158.1 | M4: =N3-M3 -> -20.4 | N4: =O3-N3 -> 332.7 | O4: =P3-O3 -> 88.3 | ... Y4: =Z3-Y3 -> 0
A5: CGC | B5: 0745 | D5: =H5/AVERAGE(H6:Z6) -> 1087.7966 | E5: =Table!D4 -> 150516.7 | F5: =H5/E5 -> 0.44289969 | G5: =Table!D5 -> 83852.9 | H5: =Table!D9 -> 66663.8 | I5: =Table!D23 -> 66722.2 | J5: =Table!D37 -> 66958.9 | K5: =Table!D51 -> 66958.9 | L5: =Table!D65 -> 66993.5 | M5: =Table!D79 -> 67079.7 | N5: =Table!D93 -> 66045.3 | O5: =Table!D107 -> 66072.9 | P5: =Table!D121 -> 66424.1 | Q5: =Table!D135 -> 66601.9 | R5: =Table!D149 -> 66632.2 | S5: =Table!D163 -> 66716.9 | T5: =Table!D177 -> 67174.2 | U5: =Table!D191 -> 67271.6 | V5: =Table!D205 -> 67406.8 | W5: =Table!D205 -> 67406.8 | X5: =Table!D233 -> 67766.9 | Y5: =Table!D247 -> 67766.9 | Z5: 67766.9
B6: Used per Week | H6: =I5-H5 -> 58.4 | I6: =J5-I5 -> 236.7 | J6: =K5-J5 -> 0 | K6: =L5-K5 -> 34.6 | L6: =M5-L5 -> 86.2 | M6: =N5-M5 -> -1034.4 | N6: =O5-N5 -> 27.6 | O6: =P5-O5 -> 351.2 | ... Y6: =Z5-Y5 -> 0
A7: RDC | B7: 0552 | D7: =H7/AVERAGE(H8:Z8) -> 2525.3874 | E7: =Table!E4 -> 150516.7 | F7: =H7/E7 -> 0.43818859 | G7: =Table!E5 -> 84562 | H7: =Table!E9 -> 65954.7 | I7: =Table!E23 -> 66012.9 | J7: =Table!E37 -> 66207.1 | K7: =Table!E51 -> 66249.8 | L7: =Table!E65 -> 66315.5 | M7: =Table!E79 -> 65738.8 | N7: =Table!E93 -> 64706.7 | O7: =Table!E107 -> 64733.3 | P7: =Table!E121 -> 65082.2 | Q7: =Table!E135 -> 65259.9 | R7: =Table!E149 -> 65290.1 | S7: =Table!E163 -> 65374.9 | T7: =Table!E177 -> 65826.4 | U7: =Table!E191 -> 65929.6 | V7: =Table!E205 -> 66064.6 | W7: =Table!E205 -> 66064.6 | X7: =Table!E205 -> 66064.6 | Y7: =Table!E247 -> 66424.8 | Z7: 66424.8 | AG7: =Table!AE5 -> Used GB | AH7: =Table!AF5 -> 103325.3 | AI7: =Table!AG5 -> 83852.9 | AJ7: =Table!AH5 -> 431762 | AK7: =Table!AI5 -> 502784.9 | AL7: =Table!AJ5 -> 544675 | AM7: =Table!AK5 -> 490097.1 | AN7: =Table!AL5 -> 26820.3
B8: Used per Week | H8: =I7-H7 -> 58.2 | I8: =J7-I7 -> 194.2 | J8: =K7-J7 -> 42.7 | K8: =L7-K7 -> 65.7 | L8: =M7-L7 -> -576.7 | M8: =N7-M7 -> -1032.1 | N8: =O7-N7 -> 26.6 | O8: =P7-O7 -> 348.9 | ... Y8: =Z7-Y7 -> 0
A9: RDC | B9: 0678 | D9: =H9/AVERAGE(H10:Z10) -> -89.571199 | E9: =Table!F4 -> 181998.8 | F9: =H9/E9 -> 0.24022246 | G9: =Table!F5 -> 138278.6 | H9: =Table!F9 -> 43720.2 | I9: =Table!F23 -> 43780.1 | J9: =Table!F37 -> 43874.2 | K9: =Table!F51 -> 34187.4 | L9: =Table!F65 -> 34383.4 | M9: =Table!F79 -> 34657.5 | N9: =Table!F93 -> 30556.8 | O9: =Table!F107 -> 30641 | P9: =Table!F121 -> 30858.2 | Q9: =Table!F135 -> 31213.9 | R9: =Table!F149 -> 31466.4 | S9: =Table!F163 -> 31600.7 | T9: =Table!F177 -> 31790.8 | U9: =Table!F191 -> 32038.4 | V9: =Table!F205 -> 34934.3 | W9: =Table!F205 -> 34934.3 | X9: =Table!F205 -> 34934.3 | Y9: =Table!F205 -> 34934.3 | Z9: 34934.3
B10: Used per Week | H10: =I9-H9 -> 59.9 | I10: =J9-I9 -> 94.1 | J10: =K9-J9 -> -9686.8 | K10: =L9-K9 -> 196 | L10: =M9-L9 -> 274.1 | M10: =N9-M9 -> -4100.7 | N10: =O9-N9 -> 84.2 | O10: =P9-O9 -> 217.2 | ... Y10: =Z9-Y9 -> 0
A11: RDC | B11: 3286 | D11: =H11/AVERAGE(H12:Z12) -> 623.17064 | E11: =Table!G4 -> 165765.7 | F11: =H11/E11 -> 0.30022556 | G11: =Table!G5 -> 115998.6 | H11: =Table!G9 -> 49767.1 | I11: =Table!G23 -> 50177.6 | J11: =Table!G37 -> 50280.4 | K11: =Table!G51 -> 51040.7 | L11: =Table!G65 -> 51372.8 | M11: =Table!G79 -> 51841.6 | N11: =Table!G93 -> 51947.3 | O11: =Table!G107 -> 52735.7 | P11: =Table!G121 -> 54543.3 | Q11: =Table!G135 -> 54291.5 | R11: =Table!G149 -> 53144.5 | S11: =Table!G163 -> 50523.1 | T11: =Table!G177 -> 50767 | U11: =Table!G191 -> 51205.1 | V11: =Table!G205 -> 51204.6 | W11: =Table!G205 -> 51204.6 | X11: =Table!G205 -> 51204.6 | Y11: =Table!G205 -> 51204.6 | Z11: 51204.6
B12: Used per Week | H12: =I11-H11 -> 410.5 | I12: =J11-I11 -> 102.8 | J12: =K11-J11 -> 760.3 | K12: =L11-K11 -> 332.1 | L12: =M11-L11 -> 468.8 | M12: =N11-M11 -> 105.7 | N12: =O11-N11 -> 788.4 | O12: =P11-O11 -> 1807.6 | ... Y12: =Z11-Y11 -> 0
A13: RDC | B13: 3073 | D13: =H13/AVERAGE(H14:Z14) -> 235.12372 | E13: =Table!H4 -> 389505 | F13: =H13/E13 -> 0.44452266 | G13: =Table!H5 -> 216361.2 | H13: =Table!H9 -> 173143.8 | I13: =Table!H23 -> 173842.4 | J13: =Table!H37 -> 174661.6 | K13: =Table!H51 -> 175251.7 | L13: =Table!H65 -> 175672.5 | M13: =Table!H79 -> 176340.9 | N13: =Table!H93 -> 177412.2 | O13: =Table!H107 -> 178584.8 | P13: =Table!H121 -> 179093.1 | Q13: =Table!H135 -> 180376.6 | R13: =Table!H149 -> 181250.5 | S13: =Table!H163 -> 182902.2 | T13: =Table!H177 -> 183386.7 | U13: =Table!H191 -> 183935 | V13: =Table!H205 -> 186398.9 | W13: =Table!H205 -> 186398.9 | X13: =Table!H205 -> 186398.9 | Y13: =Table!H205 -> 186398.9 | Z13: 186398.9
B14: Used per Week | H14: =I13-H13 -> 698.6 | I14: =J13-I13 -> 819.2 | J14: =K13-J13 -> 590.1 | K14: =L13-K13 -> 420.8 | L14: =M13-L13 -> 668.4 | M14: =N13-M13 -> 1071.3 | N14: =O13-N13 -> 1172.6 | O14: =P13-O13 -> 508.3 | ... Y14: =Z13-Y13 -> 0
A15: RDC | B15: 2230 | D15: =H15/AVERAGE(H16:Z16) -> 225.90415 | E15: =Table!I4 -> 171975.5 | F15: =H15/E15 -> 0.28824396 | G15: =Table!I5 -> 122404.6 | H15: =Table!I9 -> 49570.9 | I15: =Table!I23 -> 49765.4 | J15: =Table!I37 -> 49966.4 | K15: =Table!I51 -> 50174.9 | L15: =Table!I65 -> 51073.3 | M15: =Table!I79 -> 48514.6 | N15: =Table!I93 -> 46066.1 | O15: =Table!I107 -> 46780.9 | P15: =Table!I121 -> 46963.3 | Q15: =Table!I135 -> 47158.3 | R15: =Table!I149 -> 49485.1 | S15: =Table!I163 -> 50603.6 | T15: =Table!I177 -> 51093.7 | U15: =Table!I191 -> 51993.1 | V15: =Table!I205 -> 53520.7 | W15: =Table!I205 -> 53520.7 | X15: =Table!I205 -> 53520.7 | Y15: =Table!I205 -> 53520.7 | Z15: 53520.7
B16: Used per Week | H16: =I15-H15 -> 194.5 | I16: =J15-I15 -> 201 | J16: =K15-J15 -> 208.5 | K16: =L15-K15 -> 898.4 | L16: =M15-L15 -> -2558.7 | M16: =N15-M15 -> -2448.5 | N16: =O15-N15 -> 714.8 | O16: =P15-O15 -> 182.4 | ... Y16: =Z15-Y15 -> 0
A17: RDC | B17: 3696 | D17: =H17/AVERAGE(H18:Z18) -> 218.13809 | E17: =Table!J4 -> 166078 | F17: =H17/E17 -> 0.69669974 | G17: =Table!J5 -> 50371.5 | H17: =Table!J9 -> 115706.5 | I17: =Table!J23 -> 115831.1 | J17: =Table!J37 -> 116008.3 | K17: =Table!J51 -> 116071 | L17: =Table!J65 -> 116746.6 | M17: =Table!J79 -> 116889.3 | N17: =Table!J93 -> 117070.1 | O17: =Table!J107 -> 117462 | P17: =Table!J121 -> 118434.6 | Q17: =Table!J135 -> 120343.3 | R17: =Table!J149 -> 121385.8 | S17: =Table!J163 -> 121456.2 | T17: =Table!J177 -> 122795.8 | U17: =Table!J191 -> 122961.6 | V17: =Table!J205 -> 125254.2 | W17: =Table!J205 -> 125254.2 | X17: =Table!J205 -> 125254.2 | Y17: =Table!J205 -> 125254.2 | Z17: 125254.2
B18: Used per Week | H18: =I17-H17 -> 124.6 | I18: =J17-I17 -> 177.2 | J18: =K17-J17 -> 62.7 | K18: =L17-K17 -> 675.6 | L18: =M17-L17 -> 142.7 | M18: =N17-M17 -> 180.8 | N18: =O17-N17 -> 391.9 | O18: =P17-O17 -> 972.6 | ... Y18: =Z17-Y17 -> 0
A19: RDC | B19: 4330 | D19: =H19/AVERAGE(H20:Z20) -> 37.974085 | E19: =Table!K4 -> 124019.2 | F19: =H19/E19 -> 0.32059149 | G19: =Table!K5 -> 84259.7 | H19: =Table!K9 -> 39759.5 | I19: =Table!K23 -> 40253.3 | J19: =Table!K37 -> 40676.8 | K19: =Table!K51 -> 41353.2 | L19: =Table!K65 -> 41469.3 | M19: =Table!K79 -> 41680.9 | N19: =Table!K93 -> 41911.3 | O19: =Table!K107 -> 42155.9 | P19: =Table!K121 -> 42408.7 | Q19: =Table!K135 -> 46258 | R19: =Table!K149 -> 46914.8 | S19: =Table!K163 -> 47212.3 | T19: =Table!K177 -> 47917.5 | U19: =Table!K191 -> 48446.2 | V19: =Table!K205 -> 58605.8 | W19: =Table!K205 -> 58605.8 | X19: =Table!K205 -> 58605.8 | Y19: =Table!K205 -> 58605.8 | Z19: 58605.8
B20: Used per Week | H20: =I19-H19 -> 493.8 | I20: =J19-I19 -> 423.5 | J20: =K19-J19 -> 676.4 | K20: =L19-K19 -> 116.1 | L20: =M19-L19 -> 211.6 | M20: =N19-M19 -> 230.4 | N20: =O19-N19 -> 244.6 | O20: =P19-O19 -> 252.8 | ... Y20: =Z19-Y19 -> 0
A21: RDC | B21: 0347 | D21: =H21/AVERAGE(H22:Z22) -> 51.519275 | E21: =Table!L4 -> 224071.2 | F21: =H21/E21 -> 0.65581387 | G21: =Table!L5 -> 77122.2 | H21: =Table!L9 -> 146949 | I21: =Table!L23 -> 148286.7 | J21: =Table!L37 -> 151604.9 | K21: =Table!L51 -> 152563.5 | L21: =Table!L65 -> 157165.1 | M21: =Table!L79 -> 165178.7 | N21: =Table!L93 -> 165779.5 | O21: =Table!L107 -> 169358 | P21: =Table!L121 -> 171892.5 | Q21: =Table!L135 -> 179030.8 | R21: =Table!L149 -> 181874.4 | S21: =Table!L163 -> 188864.1 | T21: =Table!L177 -> 192083.9 | U21: =Table!L191 -> 192497.3 | V21: =Table!L205 -> 198290.6 | W21: =Table!L205 -> 198290.6 | X21: =Table!L205 -> 198290.6 | Y21: =Table!L205 -> 198290.6 | Z21: 198290.6
B22: Used per Week | H22: =I21-H21 -> 1337.7 | I22: =J21-I21 -> 3318.2 | J22: =K21-J21 -> 958.6 | K22: =L21-K21 -> 4601.6 | L22: =M21-L21 -> 8013.6 | M22: =N21-M21 -> 600.8 | N22: =O21-N21 -> 3578.5 | O22: =P21-O21 -> 2534.5 | ... Y22: =Z21-Y21 -> 0
A23: FDC | B23: 0879 | D23: =H23/AVERAGE(H24:Z24) -> -49.905373 | E23: =Table!M4 -> 193029.1 | F23: =H23/E23 -> 0.29677442 | G23: =Table!M5 -> 135743 | H23: =Table!M9 -> 57286.1 | I23: =Table!M23 -> 57425.6 | J23: =Table!M37 -> 57778.3 | K23: =Table!M51 -> 45751.8 | L23: =Table!M65 -> 46007.7 | M23: =Table!M79 -> 39037.6 | N23: =Table!M93 -> 33103.4 | O23: =Table!M107 -> 33202.8 | P23: =Table!M121 -> 33400.1 | Q23: =Table!M135 -> 33780.8 | R23: =Table!M149 -> 34240.8 | S23: =Table!M163 -> 34533.5 | T23: =Table!M177 -> 34656.4 | U23: =Table!M191 -> 34790.6 | V23: =Table!M205 -> 36624 | W23: =Table!M205 -> 36624 | X23: =Table!M205 -> 36624 | Y23: =Table!M205 -> 36624 | Z23: 36624
B24: Used per Week | H24: =I23-H23 -> 139.5 | I24: =J23-I23 -> 352.7 | J24: =K23-J23 -> -12026.5 | K24: =L23-K23 -> 255.9 | L24: =M23-L23 -> -6970.1 | M24: =N23-M23 -> -5934.2 | N24: =O23-N23 -> 99.4 | O24: =P23-O23 -> 197.3 | ... Y24: =Z23-Y23 -> 0
A25: FDC | B25: 3004 | D25: =H25/AVERAGE(H26:Z26) -> 397.51302 | E25: =Table!N4 -> 438219.9 | F25: =H25/E25 -> 0.51572144 | G25: =Table!N5 -> 212220.5 | H25: =Table!N9 -> 225999.4 | I25: =Table!N23 -> 226318.3 | J25: =Table!N37 -> 226784.4 | K25: =Table!N51 -> 227141.4 | L25: =Table!N65 -> 227517.1 | M25: =Table!N79 -> 228113.1 | N25: =Table!N93 -> 228951.7 | O25: =Table!N107 -> 229545.5 | P25: =Table!N121 -> 230049.5 | Q25: =Table!N135 -> 231265.8 | R25: =Table!N149 -> 231893.9 | S25: =Table!N163 -> 233340.1 | T25: =Table!N177 -> 234481.3 | U25: =Table!N191 -> 234767 | V25: =Table!N205 -> 236233 | W25: =Table!N205 -> 236233 | X25: =Table!N205 -> 236233 | Y25: =Table!N205 -> 236233 | Z25: 236233
B26: Used per Week | H26: =I25-H25 -> 318.9 | I26: =J25-I25 -> 466.1 | J26: =K25-J25 -> 357 | K26: =L25-K25 -> 375.7 | L26: =M25-L25 -> 596 | M26: =N25-M25 -> 838.6 | N26: =O25-N25 -> 593.8 | O26: =P25-O25 -> 504 | ... Y26: =Z25-Y25 -> 0
A27: FDC | B27: 2804 | D27: =H27/AVERAGE(H28:Z28) -> -720.46757 | E27: =Table!O4 -> 83038.8 | F27: =H27/E27 -> 0.2950416 | G27: =Table!O5 -> 58538.9 | H27: =Table!O9 -> 24499.9 | I27: =Table!O23 -> 24700.6 | J27: =Table!O37 -> 24747.5 | K27: =Table!O51 -> 25123.9 | L27: =Table!O65 -> 25281.2 | M27: =Table!O79 -> 25483.2 | N27: =Table!O93 -> 25673.9 | O27: =Table!O107 -> 26055 | P27: =Table!O121 -> 26940.8 | Q27: =Table!O135 -> 26937 | R27: =Table!O149 -> 25159.4 | S27: =Table!O163 -> 23850.1 | T27: =Table!O177 -> 23465.6 | U27: =Table!O191 -> 23679.8 | V27: =Table!O205 -> 23887.8 | W27: =Table!O205 -> 23887.8 | X27: =Table!O205 -> 23887.8 | Y27: =Table!O205 -> 23887.8 | Z27: 23887.8
B28: Used per Week | H28: =I27-H27 -> 200.7 | I28: =J27-I27 -> 46.9 | J28: =K27-J27 -> 376.4 | K28: =L27-K27 -> 157.3 | L28: =M27-L27 -> 202 | M28: =N27-M27 -> 190.7 | N28: =O27-N27 -> 381.1 | O28: =P27-O27 -> 885.8 | ... Y28: =Z27-Y27 -> 0
A29: FDC | B29: 2231 | D29: =H29/AVERAGE(H30:Z30) -> 110.18636 | E29: =Table!P4 -> 276130.4 | F29: =H29/E29 -> 0.1798107 | G29: =Table!P5 -> 226479.2 | H29: =Table!P9 -> 49651.2 | I29: =Table!P23 -> 49973 | J29: =Table!P37 -> 50495.4 | K29: =Table!P51 -> 50903.2 | L29: =Table!P65 -> 52659 | M29: =Table!P79 -> 47523.5 | N29: =Table!P93 -> 42619.1 | O29: =Table!P107 -> 43883.9 | P29: =Table!P121 -> 44227 | Q29: =Table!P135 -> 46025.4 | R29: =Table!P149 -> 50341.2 | S29: =Table!P163 -> 52545.2 | T29: =Table!P177 -> 53245.7 | U29: =Table!P191 -> 55029.5 | V29: =Table!P205 -> 57762.2 | W29: =Table!P205 -> 57762.2 | X29: =Table!P205 -> 57762.2 | Y29: =Table!P205 -> 57762.2 | Z29: 57762.2
B30: Used per Week | H30: =I29-H29 -> 321.8 | I30: =J29-I29 -> 522.4 | J30: =K29-J29 -> 407.8 | K30: =L29-K29 -> 1755.8 | L30: =M29-L29 -> -5135.5 | M30: =N29-M29 -> -4904.4 | N30: =O29-N29 -> 1264.8 | O30: =P29-O29 -> 343.1 | ... Y30: =Z29-Y29 -> 0
A31: FDC | B31: 3875 | D31: =H31/AVERAGE(H32:Z32) -> 210.3054 | E31: =Table!Q4 -> 83038.8 | F31: =H31/E31 -> 0.6863671 | G31: =Table!Q5 -> 26043.7 | H31: =Table!Q9 -> 56995.1 | I31: =Table!Q23 -> 57057.5 | J31: =Table!Q37 -> 57146.6 | K31: =Table!Q51 -> 57178 | L31: =Table!Q65 -> 57515.8 | M31: =Table!Q79 -> 57587.2 | N31: =Table!Q93 -> 57678.3 | O31: =Table!Q107 -> 57875.6 | P31: =Table!Q121 -> 58398.9 | Q31: =Table!Q135 -> 59353.2 | R31: =Table!Q149 -> 59874.4 | S31: =Table!Q163 -> 59919.7 | T31: =Table!Q177 -> 60590 | U31: =Table!Q191 -> 60722.6 | V31: =Table!Q205 -> 61873.3 | W31: =Table!Q205 -> 61873.3 | X31: =Table!Q205 -> 61873.3 | Y31: =Table!Q205 -> 61873.3 | Z31: 61873.3
B32: Used per Week | H32: =I31-H31 -> 62.4 | I32: =J31-I31 -> 89.1 | J32: =K31-J31 -> 31.4 | K32: =L31-K31 -> 337.8 | L32: =M31-L31 -> 71.4 | M32: =N31-M31 -> 91.1 | N32: =O31-N31 -> 197.3 | O32: =P31-O31 -> 523.3 | ... Y32: =Z31-Y31 -> 0
A33: FDC | B33: 4652 | D33: =H33/AVERAGE(H34:Z34) -> 40.76494 | E33: =Table!R4 -> 191618.2 | F33: =H33/E33 -> 0.30460885 | G33: =Table!R5 -> 133249.6 | H33: =Table!R9 -> 58368.6 | I33: =Table!R23 -> 59137.5 | J33: =Table!R37 -> 59900.5 | K33: =Table!R51 -> 65681.2 | L33: =Table!R65 -> 65877.3 | M33: =Table!R79 -> 62304.4 | N33: =Table!R93 -> 62747.1 | O33: =Table!R107 -> 65607.8 | P33: =Table!R121 -> 65894.9 | Q33: =Table!R135 -> 72302 | R33: =Table!R149 -> 73514.6 | S33: =Table!R163 -> 73619.1 | T33: =Table!R177 -> 75805.2 | U33: =Table!R191 -> 76091.9 | V33: =Table!R205 -> 84141.6 | W33: =Table!R205 -> 84141.6 | X33: =Table!R205 -> 84141.6 | Y33: =Table!R205 -> 84141.6 | Z33: 84141.6
B34: Used per Week | H34: =I33-H33 -> 768.9 | I34: =J33-I33 -> 763 | J34: =K33-J33 -> 5780.7 | K34: =L33-K33 -> 196.1 | L34: =M33-L33 -> -3572.9 | M34: =N33-M33 -> 442.7 | N34: =O33-N33 -> 2860.7 | O34: =P33-O33 -> 287.1 | ... Y34: =Z33-Y33 -> 0
A35: FDC | B35: 0349 | D35: =H35/AVERAGE(H36:Z36) -> 63.816817 | E35: =Table!S4 -> 257886.5 | F35: =H35/E35 -> 0.32796676 | G35: =Table!S5 -> 173308.3 | H35: =Table!S9 -> 84578.2 | I35: =Table!S23 -> 85951.6 | J35: =Table!S37 -> 86425.1 | K35: =Table!S51 -> 90199.2 | L35: =Table!S65 -> 91734.4 | M35: =Table!S79 -> 94531 | N35: =Table!S93 -> 98935.7 | O35: =Table!S107 -> 71374.8 | P35: =Table!S121 -> 73936.1 | Q35: =Table!S135 -> 79342.9 | R35: =Table!S149 -> 81272.5 | S35: =Table!S163 -> 84041.8 | T35: =Table!S177 -> 98797.5 | U35: =Table!S191 -> 104038 | V35: =Table!S205 -> 108434.1 | W35: =Table!S205 -> 108434.1 | X35: =Table!S205 -> 108434.1 | Y35: =Table!S205 -> 108434.1 | Z35: 108434.1
B36: Used per Week | H36: =I35-H35 -> 1373.4 | I36: =J35-I35 -> 473.5 | J36: =K35-J35 -> 3774.1 | K36: =L35-K35 -> 1535.2 | L36: =M35-L35 -> 2796.6 | M36: =N35-M35 -> 4404.7 | N36: =O35-N35 -> -27560.9 | O36: =P35-O35 -> 2561.3 | ... Y36: =Z35-Y35 -> 0
A37: ZDC | B37: 2262 | D37: =H37/AVERAGE(H38:Z38) -> 277.87932 | E37: =Table!T4 -> 55151 | F37: =H37/E37 -> 0.69912241 | G37: =Table!T5 -> 16593.7 | H37: =Table!T9 -> 38557.3 | I37: =Table!T23 -> 38557.3 | J37: =Table!T37 -> 38557.3 | K37: =Table!T51 -> 38557.3 | L37: =Table!T65 -> 38557.3 | M37: =Table!T79 -> 38557.3 | N37: =Table!T93 -> 38557.3 | O37: =Table!T107 -> 39160.6 | P37: =Table!T121 -> 39160.6 | Q37: =Table!T135 -> 39160.6 | R37: =Table!T149 -> 39160.6 | S37: =Table!T163 -> 41054.9 | T37: =Table!T177 -> 41054.9 | U37: =Table!T191 -> 41054.9 | V37: =Table!T205 -> 41054.9 | W37: =Table!T205 -> 41054.9 | X37: =Table!T205 -> 41054.9 | Y37: =Table!T205 -> 41054.9 | Z37: 41054.9
B38: Used per Week | H38: =I37-H37 -> 0 | I38: =J37-I37 -> 0 | J38: =K37-J37 -> 0 | K38: =L37-K37 -> 0 | L38: =M37-L37 -> 0 | M38: =N37-M37 -> 0 | N38: =O37-N37 -> 603.3 | O38: =P37-O37 -> 0 | ... Y38: =Z37-Y37 -> 0
A39: ZDC | B39: 0377 | D39: =H39/AVERAGE(H40:Z40) -> 141.56727 | E39: =Table!U4 -> 33090.5 | F39: =H39/E39 -> 0.69095057 | G39: =Table!U5 -> 10226.6 | H39: =Table!U9 -> 22863.9 | I39: =Table!U23 -> 22863.9 | J39: =Table!U37 -> 22863.9 | K39: =Table!U51 -> 22863.9 | L39: =Table!U65 -> 22863.9 | M39: =Table!U79 -> 22863.9 | N39: =Table!U93 -> 22863.9 | O39: =Table!U107 -> 23634.1 | P39: =Table!U121 -> 23634.6 | Q39: =Table!U135 -> 23634.1 | R39: =Table!U149 -> 23634.1 | S39: =Table!U163 -> 25771 | T39: =Table!U177 -> 25771 | U39: =Table!U191 -> 25771 | V39: =Table!U205 -> 25771 | W39: =Table!U205 -> 25771 | X39: =Table!U205 -> 25771 | Y39: =Table!U205 -> 25771 | Z39: 25771
B40: Used per Week | H40: =I39-H39 -> 0 | I40: =J39-I39 -> 0 | J40: =K39-J39 -> 0 | K40: =L39-K39 -> 0 | L40: =M39-L39 -> 0 | M40: =N39-M39 -> 0 | N40: =O39-N39 -> 770.2 | O40: =P39-O39 -> 0.5 | ... Y40: =Z39-Y39 -> 0
...

Sheet used space Charts
B1: 0623 | C1: 0745 | D1: 0552 | E1: 0678 | F1: 3286 | G1: 3073 | H1: 2230 | I1: 3696 | J1: 4330 | K1: 0347 | L1: 0879 | M1: 3004 | N1: 2804 | O1: 2231 | P1: 3875 | Q1: 4652 | R1: 0349 | S1: 2262 | T1: 0377 | U1: 0667 | V1: 0671 | W1: 0689 | X1: 0710 | Y1: 0706 | Z1: 0712 | AA1: 0709 | AB1: 0713
B2: CGC T4 V-MAX 0623 | C2: CGC T3 V-MAX 0745 | D2: RDC T3 V-MAX 0552 | E2: RDC T4 V-MAX 0678 | F2: RDC T3 V-MAX 3286 | G2: RDC T4 V-MAX 3073 | H2: RDC T3 V-MAX 2230 | I2: RDC T3 V-MAX 3696 | J2: RDC T3 V-MAX 4330 | K2: RDC T4 V-MAX 0347 | L2: FDC T4 V-MAX 0879 | M2: FDC T4 V-MAX 3004 | N2: FDC T3 V-MAX 2804 | O2: FDC T3 V-MAX 2231 | P2: FDC T3 V-MAX 3875 | Q2: FDC T3 V-MAX 4652 | R2: FDC T4 V-MAX 0349 | S2: ZDC T4 VMAX 2262 | T2: ZDC T4 VMAX 0377 | U2: FDC T3 VMAX 667 | V2: RDC T3 VMAX 0671 | W2: RDC T3 V-Max 0689 | X2: FDC T3 V-Max 0710 | Y2: RDC T3 V-Max 0706 | Z2: FDC T3 V-Max 0712 | AA2: FDC T4 V-Max 0709 | AB2: FDC T4 V-Max 0713 | AC2: Row | AD2: % full | AE2: =MATCH(AD2,Table!$B:$B,0) -> 6 | AG2: Row | AH2: VMAX | AI2: =MATCH(AH2,Table!$A:$A,0) -> 3 | AJ2: Max Column
A3: 41822 | B3: =IF(ISERROR(MATCH(B$1,INDIRECT("Table!A"&$AG3):INDIRECT("Table!" & $AJ$91 & $AG3),0)),"",INDIRECT(CONCATENATE("Table!",ADDRESS($AC3,MATCH(B$1,INDIRECT("Table!A" & $AG3):INDIRECT("Table!" & $AJ$90 & $AG3),0))))) -> 0.41327078 | C3: =IF(ISERROR(MATCH(C$1,INDIRECT("Table!A"&$AG3):INDIRECT("Table!" & $AJ$90 & $AG3),0)),"",INDIRECT(CONCATENATE("Table!",ADDRESS($AC3,MATCH(C$1,INDIRECT("Table!A" & $AG3):INDIRECT("Table!" & $AJ$90 & $AG3),0))))) -> 0.55710031 | D3: =IF(ISERROR(MATCH(D$1,INDIRECT("Table!A"&$AG3):INDIRECT("Table!" & $AJ$90 & $AG3),0)),"",INDIRECT(CONCATENATE("Table!",ADDRESS($AC3,MATCH(D$1,INDIRECT("Table!A" & $AG3):INDIRECT("Table!" & $AJ$90 & $AG3),0))))) -> 0.56181141 | E3: =IF(ISERROR(MATCH(E$1,INDIRECT("Table!A"&$AG3):INDIRECT("Table!" & $AJ$90 & $AG3),0)),"",INDIRECT(CONCATENATE("Table!",ADDRESS($AC3,MATCH(E$1,INDIRECT("Table!A" & $AG3):INDIRECT("Table!" & $AJ$90 & $AG3),0))))) -> 0.75977754 | F3: =IF(ISERROR(MATCH(F$1,INDIRECT("Table!A"&$AG3):INDIRECT("Table!" & $AJ$90 & $AG3),0)),"",INDIRECT(CONCATENATE("Table!",ADDRESS($AC3,MATCH(F$1,INDIRECT("Table!A" & $AG3):INDIRECT("Table!" & $AJ$90 & $AG3),0))))) -> 0.69977444 | G3: =IF(ISERROR(MATCH(G$1,INDIRECT("Table!A"&$AG3):INDIRECT("Table!" & $AJ$90 & $AG3),0)),"",INDIRECT(CONCATENATE("Table!",ADDRESS($AC3,MATCH(G$1,INDIRECT("Table!A" & $AG3):INDIRECT("Table!" & $AJ$90 & $AG3),0))))) -> 0.55547734 | H3: =IF(ISERROR(MATCH(H$1,INDIRECT("Table!A"&$AG3):INDIRECT("Table!" & $AJ$90 & $AG3),0)),"",INDIRECT(CONCATENATE("Table!",ADDRESS($AC3,MATCH(H$1,INDIRECT("Table!A" & $AG3):INDIRECT("Table!" & $AJ$90 & $AG3),0))))) -> 0.71175604 | I3: =IF(ISERROR(MATCH(I$1,INDIRECT("Table!A"&$AG3):INDIRECT("Table!" & $AJ$69 & $AG3),0)),"",INDIRECT(CONCATENATE("Table!",ADDRESS($AC3,MATCH(I$1,INDIRECT("Table!A" & $AG3):INDIRECT("Table!" & $AJ$69 & $AG3),0))))) -> 0.30330026 | J3: =IF(ISERROR(MATCH(J$1,INDIRECT("Table!A"&$AG3):INDIRECT("Table!" & $AJ$69 & $AG3),0)),"",INDIRECT(CONCATENATE("Table!",ADDRESS($AC3,MATCH(J$1,INDIRECT("Table!A" & $AG3):INDIRECT("Table!" & $AJ$69 & $AG3),0))))) -> 0.67940851 | K3: =IF(ISERROR(MATCH(K$1,INDIRECT("Table!A"&$AG3):INDIRECT("Table!" & $AJ$69 & $AG3),0)),"",INDIRECT(CONCATENATE("Table!",ADDRESS($AC3,MATCH(K$1,INDIRECT("Table!A" & $AG3):INDIRECT("Table!" & $AJ$69 & $AG3),0))))) -> 0.34418613 | L3: =IF(ISERROR(MATCH(L$1,INDIRECT("Table!A"&$AG3):INDIRECT("Table!" & $AJ$69 & $AG3),0)),"",INDIRECT(CONCATENATE("Table!",ADDRESS($AC3,MATCH(L$1,INDIRECT("Table!A" & $AG3):INDIRECT("Table!" & $AJ$69 & $AG3),0))))) -> 0.70322558 | M3: =IF(ISERROR(MATCH(M$1,INDIRECT("Table!A"&$AG3):INDIRECT("Table!" & $AJ$69 & $AG3),0)),"",INDIRECT(CONCATENATE("Table!",ADDRESS($AC3,MATCH(M$1,INDIRECT("Table!A" & $AG3):INDIRECT("Table!" & $AJ$69 & $AG3),0))))) -> 0.48427856 | N3: =IF(ISERROR(MATCH(N$1,INDIRECT("Table!A"&$AG3):INDIRECT("Table!" & $AJ$69 & $AG3),0)),"",INDIRECT(CONCATENATE("Table!",ADDRESS($AC3,MATCH(N$1,INDIRECT("Table!A" & $AG3):INDIRECT("Table!" & $AJ$69 & $AG3),0))))) -> 0.7049584 | O3: =IF(ISERROR(MATCH(O$1,INDIRECT("Table!A"&$AG3):INDIRECT("Table!" & $AJ$69 & $AG3),0)),"",INDIRECT(CONCATENATE("Table!",ADDRESS($AC3,MATCH(O$1,INDIRECT("Table!A" & $AG3):INDIRECT("Table!" & $AJ$69 & $AG3),0))))) -> 0.8201893 | P3: =IF(ISERROR(MATCH(P$1,INDIRECT("Table!A"&$AG3):INDIRECT("Table!" & $AJ$69 & $AG3),0)),"",INDIRECT(CONCATENATE("Table!",ADDRESS($AC3,MATCH(P$1,INDIRECT("Table!A" & $AG3):INDIRECT("Table!" & $AJ$69 & $AG3),0))))) -> 0.3136329 | ... R3: =IF(ISERROR(MATCH(R$1,INDIRECT("Table!A"&$AG3):INDIRECT("Table!" & $AJ$69 & $AG3),0)),"",INDIRECT(CONCATENATE("Table!",ADDRESS($AC3,MATCH(R$1,INDIRECT("Table!A" & $AG3):INDIRECT("Table!" & $AJ$69 & $AG3),0))))) -> 0.67203324 | S3: =IF(ISERROR(MATCH(S$1,INDIRECT("Table!A"&$AG3):INDIRECT("Table!" & $AJ$43 & $AG3),0)),"",INDIRECT(CONCATENATE("Table!",ADDRESS($AC3,MATCH(S$1,INDIRECT("Table!A" & $AG3):INDIRECT("Table!" & $AJ$43 & $AG3),0))))) -> 0.30087759 | T3: =IF(ISERROR(MATCH(T$1,INDIRECT("Table!A"&$AG3):INDIRECT("Table!" & $AJ$43 & $AG3),0)),"",INDIRECT(CONCATENATE("Table!",ADDRESS($AC3,MATCH(T$1,INDIRECT("Table!A" & $AG3):INDIRECT("Table!" & $AJ$43 & $AG3),0))))) -> 0.30904943 | U3: =IF(ISERROR(MATCH(U$1,INDIRECT("Table!A"&$AG3):INDIRECT("Table!" & $AJ$43 & $AG3),0)),"",INDIRECT(CONCATENATE("Table!",ADDRESS($AC3,MATCH(U$1,INDIRECT("Table!A" & $AG3):INDIRECT("Table!" & $AJ$43 & $AG3),0))))) -> 0.14541887 | V3: =IF(ISERROR(MATCH(V$1,INDIRECT("Table!A"&$AG3):INDIRECT("Table!" & $AJ$43 & $AG3),0)),"",INDIRECT(CONCATENATE("Table!",ADDRESS($AC3,MATCH(V$1,INDIRECT("Table!A" & $AG3):INDIRECT("Table!" & $AJ$43 & $AG3),0))))) -> 0.14187492 | W3: =IF(ISERROR(MATCH(W$1,INDIRECT("Table!A"&$AG3):INDIRECT("Table!" & $AJ$43 & $AG3),0)),"",INDIRECT(CONCATENATE("Table!",ADDRESS($AC3,MATCH(W$1,INDIRECT("Table!A" & $AG3):INDIRECT("Table!" & $AJ$43 & $AG3),0))))) -> 0.15130753 | X3: =IF(ISERROR(MATCH(X$1,INDIRECT("Table!A"&$AG3):INDIRECT("Table!" & $AJ$43 & $AG3),0)),"",INDIRECT(CONCATENATE("Table!",ADDRESS($AC3,MATCH(X$1,INDIRECT("Table!A" & $AG3):INDIRECT("Table!" & $AJ$43 & $AG3),0))))) -> 0.14758433 | Y3: =IF(ISERROR(MATCH(Y$1,INDIRECT("Table!A"&$AG3):INDIRECT("Table!" & $AJ$43 & $AG3),0)),"",INDIRECT(CONCATENATE("Table!",ADDRESS($AC3,MATCH(Y$1,INDIRECT("Table!A" & $AG3):INDIRECT("Table!" & $AJ$43 & $AG3),0))))) -> 3.033372e-05 | Z3: =IF(ISERROR(MATCH(Z$1,INDIRECT("Table!A"&$AG3):INDIRECT("Table!" & $AJ$43 & $AG3),0)),"",INDIRECT(CONCATENATE("Table!",ADDRESS($AC3,MATCH(Z$1,INDIRECT("Table!A" & $AG3):INDIRECT("Table!" & $AJ$43 & $AG3),0))))) -> 2.8640097e-05 | ... AB3: =IF(ISERROR(MATCH(AB$1,INDIRECT("Table!A"&$AG3):INDIRECT("Table!" & $AJ$43 & $AG3),0)),"",INDIRECT(CONCATENATE("Table!",ADDRESS($AC3,MATCH(AB$1,INDIRECT("Table!A" & $AG3):INDIRECT("Table!" & $AJ$43 & $AG3),0))))) | AC3: =MATCH($A3,Table!$A:$A,0)+$AE$2-1 -> 6 | AG3: =MATCH($A3,Table!$A:$A,0)+$AI$2-1 -> 3 | AJ3: AB
