Workbook

Sheet Source
A1: ARRAY | B1: Usable GBs | C1: Free GBs | D1: Used GBs | E1: Configured Devices | F1: Available Devices | G1: Mapped Storage Total | H1: CGC
A2: 292600623 | B2: 250018.4 | C2: 146691.5 | D2: 103325.3 | E2: 5644 | F2: 349 | G2: 168060
A3: 292600745 | B3: 150516.7 | C3: 66663 | D3: 83852.9 | E3: 3620 | F3: 611 | G3: 101049
A5: ARRAY | B5: Usable GBs | C5: Free GBs | D5: Used GBs | E5: Configured Devices | F5: Available Devices | G5: Mapped Storage Total | H5: RDC
A6: 292600552 | B6: 150516.7 | C6: 65953.8 | D6: 84562 | E6: 3591 | F6: 582 | G6: 101049
A7: 292600678 | B7: 181998.8 | C7: 43719.2 | D7: 138278.6 | E7: 8910 | F7: 2091 | G7: 211912
A8: 292602230 | B8: 171975.5 | C8: 49570 | D8: 122404.6 | E8: 8298 | F8: 3565 | G8: 159522
A9: 292603073 | B9: 389505 | C9: 173141.5 | D9: 216361.2 | E9: 15703 | F9: 2082 | G9: 444187
A10: 292603286 | B10: 165765.7 | C10: 49766.2 | D10: 115998.6 | E10: 8432 | F10: 5066 | G10: 111205
A11: 292603696 | B11: 166078 | C11: 115705.5 | D11: 50371.5 | E11: 9599 | F11: 8220 | G11: 46536.5
A12: 292604330 | B12: 124019.2 | C12: 39756.5 | D12: 84259.7 | E12: 7072 | F12: 2853 | G12: 143176
A13: 295700347 | B13: 224071.2 | C13: 146948.1 | D13: 77122.2 | E13: 9334 | F13: 2646 | G13: 225887
A14: 295700671 | B14: 209496.5 | C14: 179768.4 | D14: 29722.3 | E14: 7999 | F14: 5509 | G14: 62679.7
A15: 295700689 | B15: 102196.5 | C15: 86731.1 | D15: 15463.1 | E15: 3999 | F15: 2884 | G15: 37642.8
A16: 295700704 | B16: 224071.2 | C16: 224066.1 | D16: 4.9 | E16: 6399 | F16: 6400 | G16: 0
A17: 295700706 | B17: 102196.5 | C17: 102193.1 | D17: 3.1 | E17: 3999 | F17: 3438 | G17: 18949
H18: FDC
A19: ARRAY | B19: Usable GBs | C19: Free GBs | D19: Used GBs | E19: Configured Devices | F19: Available Devices | G19: Mapped Storage Total
A20: 292600879 | B20: 193029.1 | C20: 57284.9 | D20: 135743 | E20: 8061 | F20: 1647 | G20: 212280
A21: 292602231 | B21: 276130.4 | C21: 49650.3 | D21: 226479.2 | E21: 10643 | F21: 5485 | G21: 145657
A22: 292602804 | B22: 83038.8 | C22: 24499.6 | D22: 58538.9 | E22: 4357 | F22: 921 | G22: 115895
A23: 292603004 | B23: 438219.9 | C23: 225999 | D23: 212220.5 | E23: 11924 | F23: 1052 | G23: 366652
A24: 292603875 | B24: 83038.8 | C24: 56994.8 | D24: 26043.7 | E24: 4799 | F24: 2972 | G24: 61652.2
A25: 292604652 | B25: 191618.2 | C25: 58363.5 | D25: 133249.6 | E25: 9711 | F25: 5113 | G25: 141268
A26: 295700349 | B26: 257886.5 | C26: 84576.8 | D26: 173308.3 | E26: 11664 | F26: 1569 | G26: 340559
A27: 295700667 | B27: 102196.5 | C27: 87332.9 | D27: 14861.3 | E27: 3999 | F27: 2141 | G27: 62679.7
A28: 295700709 | B28: 328695.2 | C28: 305293.5 | D28: 23398.3 | E28: 11999 | F28: 10021 | G28: 66757.2
A29: 295700710 | B29: 209496.5 | C29: 178572.4 | D29: 30918.4 | E29: 7999 | F29: 6606 | G29: 37609
A30: 295700712 | B30: 209496.5 | C30: 209493.6 | D30: 6 | E30: 7999 | F30: 6886 | G30: 18949
A31: 295700713 | B31: 190871.2 | C31: 190870 | D31: 4.9 | E31: 6400 | F31: 6400 | G31: 0
H32: ZDC
A33: ARRAY | B33: Usable GBs | C33: Free GBs | D33: Used GBs | E33: Configured Devices | F33: Available Devices | G33: Mapped Storage Total
A34: 292602262 | B34: 55151 | C34: 38557.2 | D34: 16593.7 | E34: 2480 | F34: 764 | G34: 57858.1
A35: 492600377 | B35: 33090.5 | C35: 22863.9 | D35: 10226.6 | E35: 1570 | F35: 467 | G35: 37189.7

Sheet Report

Sheet Table
A1: 41822
A2: Site | C2: CGC | D2: CGC | E2: RDC | F2: RDC | G2: RDC | H2: RDC | I2: RDC | J2: RDC | K2: RDC | L2: RDC | M2: FDC | N2: FDC | O2: FDC | P2: FDC | Q2: FDC | R2: FDC | S2: FDC | T2: ZDC | U2: ZDC | V2: FDC | W2: RDC | X2: RDC | Y2: FDC | Z2: RDC | AA2: FDC | AB2: FDC | AC2: FDC | AD2: Total | AE2: VMAX | AO2: Site | AQ2: CGC | AR2: RDC | AT2: FDC
A3: VMAX | C3: 0623 | D3: 0745 | E3: 0552 | F3: 0678 | G3: 3286 | H3: 3073 | I3: 2230 | J3: 3696 | K3: 4330 | L3: 0347 | M3: 0879 | N3: 3004 | O3: 2804 | P3: 2231 | Q3: 3875 | R3: 4652 | S3: 0349 | T3: 2262 | U3: 0377 | V3: 0667 | W3: 0671 | X3: 0689 | Y3: 0710 | Z3: 0706 | AA3: 0712 | AB3: 0709 | AC3: 0713 | AE3: Site | AF3: CGC Non-Rep | AG3: CGC-Rep | AH3: RDC Non-Rep | AI3: RDC-Rep | AJ3: FDC Non-Rep | AK3: FDC-Rep | AL3: ZDC Non-Rep | AM3: Total Rep | AN3: Total Non-Rep | AO3: VMAX | AQ3: 0623 | AR3: 3073 | AS3: 0347 | AT3: 3004 | AU3: 0349
A4: Enabled Pool Devices | B4: Total GB | C4: =Source!B2 -> 250018.4 | D4: =Source!B3 -> 150516.7 | E4: =Source!B6 -> 150516.7 | F4: =Source!B7 -> 181998.8 | G4: =Source!B10 -> 165765.7 | H4: =Source!B9 -> 389505 | I4: =Source!B8 -> 171975.5 | J4: =Source!B11 -> 166078 | K4: =Source!B12 -> 124019.2 | L4: =Source!B13 -> 224071.2 | M4: =Source!B20 -> 193029.1 | N4: =Source!B23 -> 438219.9 | O4: =Source!B22 -> 83038.8 | P4: =Source!B21 -> 276130.4 | Q4: =Source!B24 -> 83038.8 | R4: =Source!B25 -> 191618.2 | S4: =Source!B26 -> 257886.5 | T4: =Source!B34 -> 55151 | U4: =Source!B35 -> 33090.5 | V4: =Source!B27 -> 102196.5 | W4: =Source!B14 -> 209496.5 | X4: =Source!B15 -> 102196.5 | Y4: =Source!B29 -> 209496.5 | Z4: =Source!B17 -> 102196.5 | AA4: =Source!B30 -> 209496.5 | AB4: =Source!B28 -> 328695.2 | AC4: =Source!B31 -> 190871.2 | AD4: =SUM(C4:AC4) -> 5040313.8 | AE4: Total GB | AF4: =C4 -> 250018.4 | AG4: =D4 -> 150516.7 | AH4: =F4+H4+L4 -> 795575 | AI4: =E4+G4+I4+J4+K4+W4+X4+Z4 -> 1192244.6 | AJ4: =M4+N4+S4+AB4+AC4 -> 1408701.9 | AK4: =O4+P4+Q4+R4+V4+Y4+AA4 -> 1155015.7 | AL4: =T4+U4 -> 88241.5 | AM4: =AG4+AI4+AK4 -> 2497777 | AN4: =AF4+AH4+AJ4+AL4 -> 2542536.8 | AO4: FC Pool Devices | AP4: Total GB | AQ4: 143393 | AR4: 132132 | AS4: 83196.1 | AT4: 132132.2 | AU4: 83196.1
B5: Used GB | C5: =Source!D2 -> 103325.3 | D5: =Source!D3 -> 83852.9 | E5: =Source!D6 -> 84562 | F5: =Source!D7 -> 138278.6 | G5: =Source!D10 -> 115998.6 | H5: =Source!D9 -> 216361.2 | I5: =Source!D8 -> 122404.6 | J5: =Source!D11 -> 50371.5 | K5: =Source!D12 -> 84259.7 | L5: =Source!D13 -> 77122.2 | M5: =Source!D20 -> 135743 | N5: =Source!D23 -> 212220.5 | O5: =Source!D22 -> 58538.9 | P5: =Source!D21 -> 226479.2 | Q5: =Source!D24 -> 26043.7 | R5: =Source!D25 -> 133249.6 | S5: =Source!D26 -> 173308.3 | T5: =Source!D34 -> 16593.7 | U5: =Source!D35 -> 10226.6 | V5: =Source!D27 -> 14861.3 | W5: =Source!D14 -> 29722.3 | X5: =Source!D15 -> 15463.1 | Y5: =Source!D29 -> 30918.4 | Z5: =Source!D17 -> 3.1 | AA5: =Source!D30 -> 6 | AB5: =Source!D28 -> 23398.3 | AC5: =Source!D31 -> 4.9 | AD5: =SUM(C5:AC5) -> 2183317.5 | AE5: Used GB | AF5: =C5 -> 103325.3 | AG5: =D5 -> 83852.9 | AH5: =H5+F5+L5 -> 431762 | AI5: =E5+G5+I5+J5+K5+W5+X5+Z5 -> 502784.9 | AJ5: =M5+N5+S5+AB5+AC5 -> 544675 | AK5: =O5+P5+Q5+R5+V5+Y5+AA5 -> 490097.1 | AL5: =T5+U5 -> 26820.3 | AM5: =AG5+AI5+AK5 -> 1076734.9 | AN5: =AF5+AH5+AJ5+AL5 -> 1106582.6 | AP5: Used GB | AQ5: 51964.9 | AR5: 58542 | AS5: 2519 | AT5: 70731 | AU5: 31444.9
B6: % full | C6: =C5/C4 -> 0.41327078 | D6: =D5/D4 -> 0.55710031 | E6: =E5/E4 -> 0.56181141 | F6: =F5/F4 -> 0.75977754 | G6: =G5/G4 -> 0.69977444 | H6: =H5/H4 -> 0.55547734 | I6: =I5/I4 -> 0.71175604 | J6: =J5/J4 -> 0.30330026 | ... AD6: =AD5/AD4 -> 0.43317095 | AE6: % full | AF6: =AF5/AF4 -> 0.41327078 | AG6: =AG5/AG4 -> 0.55710031 | AH6: =AH5/AH4 -> 0.54270433 | AI6: =AI5/AI4 -> 0.42171288 | AJ6: =AJ5/AJ4 -> 0.38665029 | AK6: =AK5/AK4 -> 0.42432073 | AL6: =AL5/AL4 -> 0.30394202 | AM6: =AM5/AM4 -> 0.43107727 | AN6: =AN5/AN4 -> 0.43522776 | AP6: % full | AQ6: =AQ5/AQ4 -> 0.36239496 | AR6: =AR5/AR4 -> 0.44305694 | AS6: =AS5/AS4 -> 0.030277862 | AT6: =AT5/AT4 -> 0.53530479 | AU6: =AU5/AU4 -> 0.37796123
A7: Thin Devices | B7: # Devices | C7: =Source!E2 -> 5644 | D7: =Source!E3 -> 3620 | E7: =Source!E6 -> 3591 | F7: =Source!E7 -> 8910 | G7: =Source!E10 -> 8432 | H7: =Source!E9 -> 15703 | I7: =Source!E8 -> 8298 | J7: =Source!E11 -> 9599 | K7: =Source!E12 -> 7072 | L7: =Source!E13 -> 9334 | M7: =Source!E20 -> 8061 | N7: =Source!E23 -> 11924 | O7: =Source!E22 -> 4357 | P7: =Source!E21 -> 10643 | Q7: =Source!E24 -> 4799 | R7: =Source!E25 -> 9711 | S7: =Source!E26 -> 11664 | T7: =Source!E34 -> 2480 | U7: =Source!E35 -> 1570 | V7: =Source!E27 -> 3999 | W7: =Source!E14 -> 7999 | X7: =Source!E15 -> 3999 | Y7: =Source!E29 -> 7999 | Z7: =Source!E17 -> 3999 | AA7: =Source!E30 -> 7999 | AB7: =Source!E28 -> 11999 | AC7: =Source!E31 -> 6400 | AD7: =SUM(C7:AC7) -> 199805 | AE7: # Devices | AF7: =C7 -> 5644 | AG7: =D7 -> 3620 | AH7: =F7+H7+L7 -> 33947 | AI7: =E7+G7+I7+J7+K7+W7+X7+Z7 -> 52989 | AJ7: =M7+N7+S7+AB7+AC7 -> 50048 | AK7: =O7+P7+Q7+R7+V7+Y7+AA7 -> 49507 | AL7: =T7+U7 -> 4050 | AM7: =AG7+AI7+AK7 -> 106116 | AN7: =AF7+AH7+AJ7+AL7 -> 93689 | AO7: EFD Pool Devices | AP7: Total GB | AQ7: 9191.8 | AR7: 13787.7 | AS7: 8804.8 | AT7: 13787.7 | AU7: 8804.8
B8: Virtual Capacity GB | C8: =C7*33.717 -> 190298.75 | D8: =D7*33.717 -> 122055.54 | E8: =E7*33.717 -> 121077.75 | F8: =F7*33.717 -> 300418.47 | G8: =G7*33.717 -> 284301.74 | H8: =H7*33.717 -> 529458.05 | I8: =I7*33.717 -> 279783.67 | J8: =J7*33.717 -> 323649.48 | ... AC8: =AC7*33.717 -> 215788.8 | AD8: =SUM(C8:AC8) -> 6736825.2 | AE8: Virtual Capacity GB | AF8: =AF7*33.717 -> 190298.75 | AG8: =AG7*33.717 -> 122055.54 | AH8: =AH7*33.717 -> 1144591 | AI8: =AI7*33.717 -> 1786630.1 | AJ8: =AJ7*33.717 -> 1687468.4 | AK8: =AK7*33.717 -> 1669227.5 | AL8: =AL7*33.717 -> 136553.85 | AM8: =AM7*33.717 -> 3577913.2 | AN8: =AN7*33.717 -> 3158912 | AP8: Used GB | AQ8: 7975.5 | AR8: 13649 | AS8: 1289.9 | AT8: 13642 | AU8: 5483.9
B9: Available GB | C9: =C4-C5 -> 146693.1 | D9: =D4-D5 -> 66663.8 | E9: =E4-E5 -> 65954.7 | F9: =F4-F5 -> 43720.2 | G9: =G4-G5 -> 49767.1 | H9: =H4-H5 -> 173143.8 | I9: =I4-I5 -> 49570.9 | J9: =J4-J5 -> 115706.5 | ... AD9: =AD4-AD5 -> 2856996.3 | AE9: Available GB | AF9: =AF4-AF5 -> 146693.1 | AG9: =AG4-AG5 -> 66663.8 | AH9: =AH4-AH5 -> 363813 | AI9: =AI4-AI5 -> 689459.7 | AJ9: =AJ4-AJ5 -> 864026.9 | AK9: =AK4-AK5 -> 664918.6 | AL9: =AL4-AL5 -> 61421.2 | AM9: =AM4-AM5 -> 1421042.1 | AN9: =AN4-AN5 -> 1435954.2 | AP9: % full | AQ9: =AQ8/AQ7 -> 0.86767554 | AR9: =AR8/AR7 -> 0.98994031 | AS9: =AS8/AS7 -> 0.14649964 | AT9: =AT8/AT7 -> 0.98943261 | AU9: =AU8/AU7 -> 0.62283073
B10: # Allocated | C10: =SUM(C7-Source!F2) -> 5295 | D10: =SUM(D7-Source!F3) -> 3009 | E10: =SUM(E7-Source!F6) -> 3009 | F10: =SUM(F7-Source!F7) -> 6819 | G10: =SUM(G7-Source!F10) -> 3366 | H10: =SUM(H7-Source!F9) -> 13621 | I10: =SUM(I7-(Source!F8-2216)) -> 6949 | J10: =SUM(J7-Source!F11) -> 1379 | K10: =SUM(K7-(Source!F12-1760)) -> 5979 | L10: =SUM(L7-Source!F13) -> 6688 | M10: =SUM(M7-Source!F20) -> 6414 | N10: =SUM(N7-Source!F23) -> 10872 | O10: =SUM(O7-Source!F22) -> 3436 | P10: =SUM(P7-(Source!F21-2614)) -> 7772 | Q10: =SUM(Q7-Source!F24) -> 1827 | R10: =SUM(R7-Source!F25) -> 4598 | S10: =SUM(S7-Source!F26) -> 10095 | T10: =SUM(T7-Source!F34) -> 1716 | U10: =SUM(U7-Source!F35) -> 1103 | V10: =SUM(V7-Source!F27) -> 1858 | W10: =SUM(W7-Source!F14) -> 2490 | X10: =SUM(X7-Source!F15) -> 1115 | Y10: =SUM(Y7-Source!F29) -> 1393 | Z10: =SUM(Z7-Source!F17) -> 561 | AA10: =SUM(AA7-Source!F30) -> 1113 | AB10: =SUM(AB7-Source!F28) -> 1978 | AC10: =SUM(AC7-Source!F31) -> 0 | AD10: =SUM(C10:AC10) -> 114455 | AE10: # Allocated | AF10: =C10 -> 5295 | AG10: =D10 -> 3009 | AH10: =F10+H10+L10 -> 27128 | AI10: =E10+G10+I10+J10+K10+W10+X10+Z10 -> 24848 | AJ10: =M10+N10+S10+AB10+AC10 -> 29359 | AK10: =O10+P10+Q10+R10+V10+Y10+AA10 -> 21997 | AL10: =T10+U10 -> 2819 | AM10: =AG10+AI10+AK10 -> 49854 | AN10: =AF10+AH10+AJ10+AL10 -> 64601 | AO10: SATA Pool Devices | AP10: Total GB | AQ10: 97433.6 | AR10: 243584.4 | AS10: 132070.3 | AT10: 292299.3 | AU10: 132070.4
B11: GB Allocated | C11: =C10*33.717 -> 178531.51 | D11: =D10*33.717 -> 101454.45 | E11: =E10*33.717 -> 101454.45 | F11: =F10*33.717 -> 229916.22 | G11: =G10*33.717 -> 113491.42 | H11: =H10*33.717 -> 459259.26 | I11: =I10*33.717 -> 234299.43 | J11: =J10*33.717 -> 46495.743 | ... N11: =N10*33.717 -> 366571.22 | O11: =(O10*33.717) -> 115851.61 | P11: =P10*33.717-(2614*33.717) -> 173912.29 | Q11: =Q10*33.717 -> 61600.959 | R11: =R10*33.717 -> 155030.77 | S11: =S10*33.717 -> 340373.11 | T11: =T10*33.717 -> 57858.372 | U11: =U10*33.717 -> 37189.851 | V11: =V10*33.717 -> 62646.186 | W11: =W10*33.717 -> 83955.33 | X11: =X10*33.717 -> 37594.455 | ... AC11: =AC10*33.717 -> 0 | AD11: =SUM(C11:AC11) -> 3770943 | AE11: GB Allocated | AF11: =AF10*33.717 -> 178531.51 | AG11: =AG10*33.717 -> 101454.45 | AH11: =AH10*33.717 -> 914674.78 | AI11: =AI10*33.717 -> 837800.02 | AJ11: =AJ10*33.717 -> 989897.4 | AK11: =AK10*33.717 -> 741672.85 | AL11: =AL10*33.717 -> 95048.223 | AM11: =AM10*33.717 -> 1680927.3 | AN11: =AN10*33.717 -> 2178151.9 | AP11: Used GB | AQ11: 38973.2 | AR11: 124350.5 | AS11: 3817.1 | AT11: 109009 | AU11: 33401
B12: subscription vs allocated | C12: =C11/C4 -> 0.7140735 | D12: =D11/D4 -> 0.67404117 | E12: =E11/E4 -> 0.67404117 | F12: =F11/F4 -> 1.2632843 | G12: =G11/G4 -> 0.68464961 | H12: =H11/H4 -> 1.1790844 | I12: =I11/I4 -> 1.3624001 | J12: =J11/J4 -> 0.27996329 | ... AD12: =AD11/AD4 -> 0.74815639 | AE12: subscription vs allocated | AF12: =AF11/AF4 -> 0.7140735 | AG12: =AG11/AG4 -> 0.67404117 | AH12: =AH11/AH4 -> 1.1497028 | AI12: =AI11/AI4 -> 0.70270817 | AJ12: =AJ11/AJ4 -> 0.70270183 | AK12: =AK11/AK4 -> 0.64213227 | AL12: =AL11/AL4 -> 1.0771374 | AM12: =AM11/AM4 -> 0.67296933 | AN12: =AN11/AN4 -> 0.85668452 | AP12: % full | AQ12: =AQ11/AQ10 -> 0.39999754 | AR12: =AR11/AR10 -> 0.51050273 | AS12: =AS11/AS10 -> 0.028902032 | AT12: =AT11/AT10 -> 0.37293623 | AU12: =AU11/AU10 -> 0.252903
B13: GB Mapped(First Port) | C13: =Source!G2 -> 168060 | D13: =Source!G3 -> 101049 | E13: =Source!G6 -> 101049 | F13: =Source!G7 -> 211912 | G13: =Source!G10 -> 111205 | H13: =Source!G9 -> 444187 | I13: =Source!G8 -> 159522 | J13: =Source!G11 -> 46536.5 | K13: =Source!G12 -> 143176 | L13: =Source!G13 -> 225887 | M13: =Source!G20 -> 212280 | N13: =Source!G23 -> 366652 | O13: =Source!G22 -> 115895 | P13: =Source!G21 -> 145657 | Q13: =Source!G24 -> 61652.2 | R13: =Source!G25 -> 141268 | S13: =Source!G26 -> 340559 | T13: =Source!G34 -> 57858.1 | U13: =Source!G35 -> 37189.7 | V13: =Source!G27 -> 62679.7 | W13: =Source!G14 -> 62679.7 | X13: =Source!G15 -> 37642.8 | Y13: =Source!G29 -> 37609 | Z13: =Source!G17 -> 18949 | AA13: =Source!G30 -> 18949 | AB13: =Source!G28 -> 66757.2 | AC13: =Source!G31 -> 0 | AD13: =SUM(C13:AC13) -> 3496860.9 | AE13: GB Mapped(First Port) | AF13: =C13 -> 168060 | AG13: =D13 -> 101049 | AH13: =F13+H13+L13 -> 881986 | AI13: =E13+G13+I13+J13+K13+W13+X13+Z13 -> 680760 | AJ13: =M13+N13+S13+AB13+AC13 -> 986248.2 | AK13: =O13+P13+Q13+R13+V13+Y13+AA13 -> 583709.9 | AL13: =T13+U13 -> 95047.8 | AM13: =AG13+AI13+AK13 -> 1365518.9 | AN13: =AF13+AH13+AJ13+AL13 -> 2131342 | AO13: Total | AP13: % full | AQ13: =(AQ6+AQ12)/2 -> 0.38119625 | AR13: =(AR6+AR12)/2 -> 0.47677983 | AS13: =(AS6+AS12)/2 -> 0.029589947 | AT13: =(AT6+AT12)/2 -> 0.45412051 | AU13: =(AU6+AU12)/2 -> 0.31543211
B14: subscription vs Mapped | C14: =C13/C4 -> 0.67219053 | D14: =D13/D4 -> 0.67134743 | E14: =E13/E4 -> 0.67134743 | F14: =F13/F4 -> 1.1643593 | G14: =G13/G4 -> 0.67085652 | H14: =H13/H4 -> 1.1403884 | I14: =I13/I4 -> 0.92758562 | J14: =J13/J4 -> 0.2802087 | ... AD14: =AD13/AD4 -> 0.69377841 | AE14: subscription vs Mapped | AF14: =AF13/AF4 -> 0.67219053 | AG14: =AG13/AG4 -> 0.67134743 | AH14: =AH13/AH4 -> 1.1086145 | AI14: =AI13/AI4 -> 0.57099021 | AJ14: =AJ13/AJ4 -> 0.70011136 | AK14: =AK13/AK4 -> 0.50536967 | AL14: =AL13/AL4 -> 1.0771326 | AM14: =AM13/AM4 -> 0.54669368 | AN14: =AN13/AN4 -> 0.83827381
A15: 41815
A16: Site | C16: CGC | D16: CGC | E16: RDC | F16: RDC | G16: RDC | H16: RDC | I16: RDC | J16: RDC | K16: RDC | L16: RDC | M16: FDC | N16: FDC | O16: FDC | P16: FDC | Q16: FDC | R16: FDC | S16: FDC | T16: ZDC | U16: ZDC | V16: FDC | W16: RDC | X16: RDC | Y16: FDC | Z16: RDC | AA16: FDC | AB16: FDC | AC16: FDC | AD16: Total | AE16: VMAX | AO16: Site | AQ16: CGC | AR16: RDC | AT16: FDC
A17: VMAX | C17: 0623 | D17: 0745 | E17: 0552 | F17: 0678 | G17: 3286 | H17: 3073 | I17: 2230 | J17: 3696 | K17: 4330 | L17: 0347 | M17: 0879 | N17: 3004 | O17: 2804 | P17: 2231 | Q17: 3875 | R17: 4652 | S17: 0349 | T17: 2262 | U17: 0377 | V17: 0667 | W17: 0671 | X17: 0689 | Y17: 0710 | Z17: 0706 | AA17: 0712 | AB17: 0709 | AC17: 0713 | AE17: Site | AF17: CGC Non-Rep | AG17: CGC-Rep | AH17: RDC Non-Rep | AI17: RDC-Rep | AJ17: FDC Non-Rep | AK17: FDC-Rep | AL17: ZDC Non-Rep | AM17: Total Rep | AN17: Total Non-Rep | AO17: VMAX | AQ17: 0623 | AR17: 3073 | AS17: 0347 | AT17: 3004 | AU17: 0349
A18: Enabled Pool Devices | B18: Total GB | C18: 250018.4 | D18: 150516.7 | E18: 150516.7 | F18: 181998.8 | G18: 165765.7 | H18: 389505 | I18: 171975.5 | J18: 166078 | K18: 124019.2 | L18: 224071.2 | M18: 193029.1 | N18: 438219.9 | O18: 83038.8 | P18: 276130.4 | Q18: 83038.8 | R18: 191618.2 | S18: 257886.5 | T18: 55151 | U18: 33090.5 | V18: 102196.5 | W18: 209496.5 | X18: 102196.5 | Y18: 209496.5 | Z18: 102196.5 | AA18: 209496.5 | AB18: 328695.2 | AC18: 190871.2 | AD18: 5040313.8 | AE18: Total GB | AF18: 250018.4 | AG18: 150516.7 | AH18: 795575 | AI18: 1192244.6 | AJ18: 1408701.9 | AK18: 1155015.7 | AL18: 88241.5 | AM18: 2497777 | AN18: 2542536.8 | AO18: FC Pool Devices | AP18: Total GB | AQ18: 143393 | AR18: 132132 | AS18: 83196.1 | AT18: 132132.2 | AU18: 83196.1
B19: Used GB | C19: 103064.3 | D19: 83794.5 | E19: 84503.8 | F19: 138218.7 | G19: 115588.1 | H19: 215662.6 | I19: 122210.1 | J19: 50246.9 | K19: 83765.9 | L19: 75784.5 | M19: 135603.5 | N19: 211901.6 | O19: 58338.2 | P19: 226157.4 | Q19: 25981.3 | R19: 132480.7 | S19: 171934.9 | T19: 16593.7 | U19: 10226.6 | V19: 14797.3 | W19: 29594.5 | X19: 15453.1 | Y19: 30896.9 | Z19: 3.1 | AA19: 6 | AB19: 23373.7 | AC19: 4.9 | AD19: 2176186.8 | AE19: Used GB | AF19: 103064.3 | AG19: 83794.5 | AH19: 429665.8 | AI19: 501365.5 | AJ19: 542818.6 | AK19: 488657.8 | AL19: 26820.3 | AM19: 1073817.8 | AN19: 1102369 | AP19: Used GB | AQ19: 51964.9 | AR19: 58542 | AS19: 2519 | AT19: 70731 | AU19: 31444.9
B20: % full | C20: 0.41222686 | D20: 0.55671231 | E20: 0.56142475 | F20: 0.75944841 | G20: 0.69729805 | H20: 0.55368378 | I20: 0.71062506 | J20: 0.30255001 | K20: 0.67542687 | L20: 0.33821616 | M20: 0.70250289 | N20: 0.48355084 | O20: 0.70254146 | P20: 0.81902391 | Q20: 0.31288145 | R20: 0.69137848 | S20: 0.66670764 | T20: 0.30087759 | U20: 0.30904943 | V20: 0.14479263 | W20: 0.14126489 | X20: 0.15120968 | Y20: 0.1474817 | Z20: 3.033372e-05 | AA20: 2.8640097e-05 | AB20: 0.071110561 | AC20: 2.5671762e-05 | AD20: 0.43175621 | AE20: % full | AF20: 0.41222686 | AG20: 0.55671231 | AH20: 0.54006951 | AI20: 0.42052235 | AJ20: 0.38533248 | AK20: 0.4230746 | AL20: 0.30394202 | AM20: 0.4299094 | AN20: 0.43357052 | AP20: % full | AQ20: =AQ19/AQ18 -> 0.36239496 | AR20: =AR19/AR18 -> 0.44305694 | AS20: =AS19/AS18 -> 0.030277862 | AT20: =AT19/AT18 -> 0.53530479 | AU20: =AU19/AU18 -> 0.37796123
A21: Thin Devices | B21: # Devices | C21: 5644 | D21: 3620 | E21: 3591 | F21: 8910 | G21: 8432 | H21: 15703 | I21: 8298 | J21: 9599 | K21: 7072 | L21: 9334 | M21: 8061 | N21: 11924 | O21: 4357 | P21: 10643 | Q21: 4799 | R21: 9711 | S21: 11664 | T21: 2480 | U21: 1570 | V21: 3999 | W21: 7999 | X21: 3999 | Y21: 7999 | Z21: 3999 | AA21: 7999 | AB21: 11999 | AC21: 6400 | AD21: 199805 | AE21: # Devices | AF21: 5644 | AG21: 3620 | AH21: 33947 | AI21: 52989 | AJ21: 50048 | AK21: 49507 | AL21: 4050 | AM21: 106116 | AN21: 93689 | AO21: EFD Pool Devices | AP21: Total GB | AQ21: 9191.8 | AR21: 13787.7 | AS21: 8804.8 | AT21: 13787.7 | AU21: 8804.8
B22: Virtual Capacity GB | C22: 190298.75 | D22: 122055.54 | E22: 121077.75 | F22: 300418.47 | G22: 284301.74 | H22: 529458.05 | I22: 279783.67 | J22: 323649.48 | K22: 238446.62 | L22: 314714.48 | M22: 271792.74 | N22: 402041.51 | O22: 146904.97 | P22: 358850.03 | Q22: 161807.88 | R22: 327425.79 | S22: 393275.09 | T22: 83618.16 | U22: 52935.69 | V22: 134834.28 | W22: 269702.28 | X22: 134834.28 | Y22: 269702.28 | Z22: 134834.28 | AA22: 269702.28 | AB22: 404570.28 | AC22: 215788.8 | AD22: 6736825.2 | AE22: Virtual Capacity GB | AF22: 190298.75 | AG22: 122055.54 | AH22: 1144591 | AI22: 1786630.1 | AJ22: 1687468.4 | AK22: 1669227.5 | AL22: 136553.85 | AM22: 3577913.2 | AN22: 3158912 | AP22: Used GB | AQ22: 7975.5 | AR22: 13649 | AS22: 1289.9 | AT22: 13642 | AU22: 5483.9
B23: capacity threshold | C23: =C18-C19 -> 146954.1 | D23: =D18-D19 -> 66722.2 | E23: =E18-E19 -> 66012.9 | F23: =F18-F19 -> 43780.1 | G23: =G18-G19 -> 50177.6 | H23: =H18-H19 -> 173842.4 | I23: =I18-I19 -> 49765.4 | J23: =J18-J19 -> 115831.1 | ... AD23: =AD18-AD19 -> 2864127 | AE23: capacity threshold | AF23: 500036.8 | AG23: 301033.4 | AH23: 1591150 | AI23: 2384489.2 | AJ23: 2817403.8 | AK23: 2310031.4 | AL23: 176483 | AM23: 4995554 | AN23: 5085073.6 | AP23: % full | AQ23: =AQ22/AQ21 -> 0.86767554 | AR23: =AR22/AR21 -> 0.98994031 | AS23: =AS22/AS21 -> 0.14649964 | AT23: =AT22/AT21 -> 0.98943261 | AU23: =AU22/AU21 -> 0.62283073
B24: # Allocated | C24: 5295 | D24: 3009 | E24: 3009 | F24: 6819 | G24: 3366 | H24: 13621 | I24: 6949 | J24: 1379 | K24: 5979 | L24: 6688 | M24: 6414 | N24: 10872 | O24: 3436 | P24: 7772 | Q24: 1827 | R24: 4598 | S24: 10095 | T24: 1716 | U24: 1103 | V24: 1858 | W24: 2490 | X24: 1115 | Y24: 1393 | Z24: 561 | AA24: 1113 | AB24: 1978 | AC24: 0 | AD24: 114455 | AE24: # Allocated | AF24: 5295 | AG24: 3009 | AH24: 27128 | AI24: 24848 | AJ24: 29359 | AK24: 21997 | AL24: 2819 | AM24: 49854 | AN24: 64601 | AO24: SATA Pool Devices | AP24: Total GB | AQ24: 97433.6 | AR24: 243584.4 | AS24: 132070.3 | AT24: 292299.3 | AU24: 132070.4
B25: GB Allocated | C25: 178531.51 | D25: 101454.45 | E25: 101454.45 | F25: 229916.22 | G25: 113491.42 | H25: 459259.26 | I25: 234299.43 | J25: 46495.743 | K25: 201593.94 | L25: 225499.3 | M25: 216260.84 | N25: 366571.22 | O25: 115851.61 | P25: 173912.29 | Q25: 61600.959 | R25: 155030.77 | S25: 340373.11 | T25: 57858.372 | U25: 37189.851 | V25: 62646.186 | W25: 83955.33 | X25: 37594.455 | Y25: 46967.781 | Z25: 18915.237 | AA25: 37527.021 | AB25: 66692.226 | AC25: 0 | AD25: 3770943 | AE25: GB Allocated | AF25: 178531.51 | AG25: 101454.45 | AH25: 914674.78 | AI25: 837800.02 | AJ25: 989897.4 | AK25: 741672.85 | AL25: 95048.223 | AM25: 1680927.3 | AN25: 2178151.9 | AP25: Used GB | AQ25: 38973.2 | AR25: 124350.5 | AS25: 3817.1 | AT25: 109009 | AU25: 33401
B26: subscription vs allocated | C26: 0.7140735 | D26: 0.67404117 | E26: 0.67404117 | F26: 1.2632843 | G26: 0.68464961 | H26: 1.1790844 | I26: 1.3624001 | J26: 0.27996329 | K26: 1.6255059 | L26: 1.0063734 | M26: 1.1203536 | N26: 0.83650063 | O26: 1.3951504 | P26: 0.62981941 | Q26: 0.74183344 | R26: 0.80906076 | S26: 1.3198563 | T26: 1.0490902 | U26: 1.123883 | V26: 0.61299737 | W26: 0.40074813 | X26: 0.36786441 | Y26: 0.22419363 | Z26: 0.18508694 | AA26: 0.17912958 | AB26: 0.20289991 | AC26: 0 | AD26: 0.74815639 | AE26: subscription vs allocated | AF26: 0.7140735 | AG26: 0.67404117 | AH26: 1.1497028 | AI26: 0.70270817 | AJ26: 0.70270183 | AK26: 0.64213227 | AL26: 1.0771374 | AM26: 0.67296933 | AN26: 0.85668452 | AP26: % full | AQ26: =AQ25/AQ24 -> 0.39999754 | AR26: =AR25/AR24 -> 0.51050273 | AS26: =AS25/AS24 -> 0.028902032 | AT26: =AT25/AT24 -> 0.37293623 | AU26: =AU25/AU24 -> 0.252903
B27: GB Mapped(First Port) | C27: 168060 | D27: 101049 | E27: 101049 | F27: 211912 | G27: 111205 | H27: 444187 | I27: 159522 | J27: 46536.5 | K27: 143176 | L27: 225887 | M27: 212280 | N27: 366652 | O27: 115895 | P27: 145657 | Q27: 61652.2 | R27: 141268 | S27: 340559 | T27: 57858.1 | U27: 37189.7 | V27: 62679.7 | W27: 62679.7 | X27: 37642.8 | Y27: 37609 | Z27: 18949 | AA27: 18949 | AB27: 66757.2 | AC27: 0 | AD27: 3496860.9 | AE27: GB Mapped(First Port) | AF27: 168060 | AG27: 101049 | AH27: 881986 | AI27: 680760 | AJ27: 986248.2 | AK27: 583709.9 | AL27: 95047.8 | AM27: 1365518.9 | AN27: 2131342 | AO27: Total | AP27: % full | AQ27: =(AQ20+AQ26)/2 -> 0.38119625 | AR27: =(AR20+AR26)/2 -> 0.47677983 | AS27: =(AS20+AS26)/2 -> 0.029589947 | AT27: =(AT20+AT26)/2 -> 0.45412051 | AU27: =(AU20+AU26)/2 -> 0.31543211
B28: subscription vs Mapped | C28: 0.67219053 | D28: 0.67134743 | E28: 0.67134743 | F28: 1.1643593 | G28: 0.67085652 | H28: 1.1403884 | I28: 0.92758562 | J28: 0.2802087 | K28: 1.1544664 | L28: 1.0081037 | M28: 1.0997306 | N28: 0.83668496 | O28: 1.3956729 | P28: 0.52749353 | Q28: 0.74245052 | R28: 0.73723686 | S28: 1.3205771 | T28: 1.0490852 | U28: 1.1238785 | V28: 0.61332531 | W28: 0.29919211 | X28: 0.36833747 | Y28: 0.1795209 | Z28: 0.18541731 | AA28: 0.090450198 | AB28: 0.20309758 | AC28: 0 | AD28: 0.69377841 | AE28: subscription vs Mapped | AF28: 0.67219053 | AG28: 0.67134743 | AH28: 1.1086145 | AI28: 0.57099021 | AJ28: 0.70011136 | AK28: 0.50536967 | AL28: 1.0771326 | AM28: 0.54669368 | AN28: 0.83827381
A29: 41808
A30: Site | C30: CGC | D30: CGC | E30: RDC | F30: RDC | G30: RDC | H30: RDC | I30: RDC | J30: RDC | K30: RDC | L30: RDC | M30: FDC | N30: FDC | O30: FDC | P30: FDC | Q30: FDC | R30: FDC | S30: FDC | T30: ZDC | U30: ZDC | V30: FDC | W30: RDC | X30: RDC | Y30: FDC | Z30: RDC | AA30: FDC | AB30: FDC | AC30: FDC | AD30: Total | AE30: VMAX | AO30: Site | AQ30: CGC | AR30: RDC | AT30: FDC
A31: VMAX | C31: 0623 | D31: 0745 | E31: 0552 | F31: 0678 | G31: 3286 | H31: 3073 | I31: 2230 | J31: 3696 | K31: 4330 | L31: 0347 | M31: 0879 | N31: 3004 | O31: 2804 | P31: 2231 | Q31: 3875 | R31: 4652 | S31: 0349 | T31: 2262 | U31: 0377 | V31: 0667 | W31: 0671 | X31: 0689 | Y31: 0710 | Z31: 0706 | AA31: 0712 | AB31: 0709 | AC31: 0713 | AE31: Site | AF31: CGC Non-Rep | AG31: CGC-Rep | AH31: RDC Non-Rep | AI31: RDC-Rep | AJ31: FDC Non-Rep | AK31: FDC-Rep | AL31: ZDC Non-Rep | AM31: Total Rep | AN31: Total Non-Rep | AO31: VMAX | AQ31: 0623 | AR31: 3073 | AS31: 0347 | AT31: 3004 | AU31: 0349
A32: Enabled Pool Devices | B32: Total GB | C32: 250018.4 | D32: 150516.7 | E32: 150516.7 | F32: 181998.8 | G32: 165765.7 | H32: 389505 | I32: 171975.5 | J32: 166078 | K32: 124019.2 | L32: 224071.2 | M32: 193029.1 | N32: 438219.9 | O32: 83038.8 | P32: 276130.4 | Q32: 83038.8 | R32: 191618.2 | S32: 257886.5 | T32: 55151 | U32: 33090.5 | V32: 102196.5 | W32: 209496.5 | X32: 102196.5 | Y32: 209496.5 | Z32: 102196.5 | AA32: 209496.5 | AB32: 262657.9 | AC32: 190871.2 | AD32: 4974276.5 | AE32: Total GB | AF32: 250018.4 | AG32: 150516.7 | AH32: 795575 | AI32: 1192244.6 | AJ32: 1342664.6 | AK32: 1155015.7 | AL32: 88241.5 | AM32: 2497777 | AN32: 2476499.5 | AO32: FC Pool Devices | AP32: Total GB | AQ32: 143393 | AR32: 132132 | AS32: 83196.1 | AT32: 132132.2 | AU32: 83196.1
B33: Used GB | C33: 102703.9 | D33: 83557.8 | E33: 84309.6 | F33: 138124.6 | G33: 115485.3 | H33: 214843.4 | I33: 122009.1 | J33: 50069.7 | K33: 83342.4 | L33: 72466.3 | M33: 135250.8 | N33: 211435.5 | O33: 58291.3 | P33: 225635 | Q33: 25892.2 | R33: 131717.7 | S33: 171461.4 | T33: 16593.7 | U33: 10226.6 | V33: 14746 | W33: 29491.9 | X33: 15125.9 | Y33: 30236.5 | Z33: 3.1 | AA33: 6 | AB33: 18364.5 | AC33: 4.9 | AD33: 2161395.1 | AE33: Used GB | AF33: 102703.9 | AG33: 83557.8 | AH33: 425434.3 | AI33: 499837 | AJ33: 536517.1 | AK33: 486524.7 | AL33: 26820.3 | AM33: 1069919.5 | AN33: 1091475.6 | AP33: Used GB | AQ33: 51964.9 | AR33: 58542 | AS33: 2519 | AT33: 70731 | AU33: 31444.9
B34: % full | C34: 0.41078537 | D34: 0.55513973 | E34: 0.56013452 | F34: 0.75893138 | G34: 0.6966779 | H34: 0.5515806 | I34: 0.70945629 | J34: 0.30148304 | K34: 0.67201208 | L34: 0.32340747 | M34: 0.7006757 | N34: 0.48248722 | O34: 0.70197667 | P34: 0.81713205 | Q34: 0.31180846 | R34: 0.6873966 | S34: 0.66487156 | T34: 0.30087759 | U34: 0.30904943 | V34: 0.14429066 | W34: 0.14077514 | X34: 0.148008 | Y34: 0.14432938 | Z34: 3.033372e-05 | AA34: 2.8640097e-05 | AB34: 0.069917943 | AC34: 2.5671762e-05 | AD34: 0.43451447 | AE34: % full | AF34: 0.41078537 | AG34: 0.55513973 | AH34: 0.53475071 | AI34: 0.41924031 | AJ34: 0.39959131 | AK34: 0.42122778 | AL34: 0.30394202 | AM34: 0.42834869 | AN34: 0.44073322 | AP34: % full | AQ34: 0.36239496 | AR34: 0.44305694 | AS34: 0.030277862 | AT34: 0.53530479 | AU34: 0.37796123
A35: Thin Devices | B35: # Devices | C35: 5644 | D35: 3620 | E35: 3591 | F35: 8910 | G35: 8432 | H35: 15703 | I35: 8298 | J35: 9599 | K35: 7072 | L35: 9334 | M35: 8046 | N35: 11924 | O35: 4357 | P35: 10643 | Q35: 4799 | R35: 9711 | S35: 11664 | T35: 2480 | U35: 1570 | V35: 3999 | W35: 7999 | X35: 3999 | Y35: 7999 | Z35: 3999 | AA35: 7999 | AB35: 11999 | AC35: 6400 | AD35: 199790 | AE35: # Devices | AF35: 5644 | AG35: 3620 | AH35: 33947 | AI35: 52989 | AJ35: 50033 | AK35: 49507 | AL35: 4050 | AM35: 106116 | AN35: 93674 | AO35: EFD Pool Devices | AP35: Total GB | AQ35: 9191.8 | AR35: 13787.7 | AS35: 8804.8 | AT35: 13787.7 | AU35: 8804.8
B36: Virtual Capacity GB | C36: 190298.75 | D36: 122055.54 | E36: 121077.75 | F36: 300418.47 | G36: 284301.74 | H36: 529458.05 | I36: 279783.67 | J36: 323649.48 | K36: 238446.62 | L36: 314714.48 | M36: 271286.98 | N36: 402041.51 | O36: 146904.97 | P36: 358850.03 | Q36: 161807.88 | R36: 327425.79 | S36: 393275.09 | T36: 83618.16 | U36: 52935.69 | V36: 134834.28 | W36: 269702.28 | X36: 134834.28 | Y36: 269702.28 | Z36: 134834.28 | AA36: 269702.28 | AB36: 404570.28 | AC36: 215788.8 | AD36: 6736319.4 | AE36: Virtual Capacity GB | AF36: 190298.75 | AG36: 122055.54 | AH36: 1144591 | AI36: 1786630.1 | AJ36: 1686962.7 | AK36: 1669227.5 | AL36: 136553.85 | AM36: 3577913.2 | AN36: 3158406.3 | AP36: Used GB | AQ36: 7975.5 | AR36: 13649 | AS36: 1289.9 | AT36: 13642 | AU36: 5483.9
B37: capacity threshold | C37: =C32-C33 -> 147314.5 | D37: =D32-D33 -> 66958.9 | E37: =E32-E33 -> 66207.1 | F37: =F32-F33 -> 43874.2 | G37: =G32-G33 -> 50280.4 | H37: =H32-H33 -> 174661.6 | I37: =I32-I33 -> 49966.4 | J37: =J32-J33 -> 116008.3 | ... AC37: =AC32-AC33 -> 190866.3 | AD37: 7744521.6 | AE37: capacity threshold | AF37: 500036.8 | AG37: 301033.4 | AH37: 1591150 | AI37: 2384489.2 | AJ37: 2685329.2 | AK37: 2310031.4 | AL37: 176483 | AM37: 4995554 | AN37: 4952999 | AP37: % full | AQ37: 0.86767554 | AR37: 0.98994031 | AS37: 0.14649964 | AT37: 0.98943261 | AU37: 0.62283073
B38: # Allocated | C38: 5321 | D38: 2948 | E38: 2948 | F38: 7143 | G38: 3360 | H38: 13616 | I38: 6949 | J38: 1379 | K38: 5979 | L38: 6618 | M38: 6669 | N38: 10872 | O38: 3430 | P38: 7807 | Q38: 1827 | R38: 4598 | S38: 10019 | T38: 1716 | U38: 1103 | V38: 1858 | W38: 2490 | X38: 946 | Y38: 1224 | Z38: 561 | AA38: 1113 | AB38: 795 | AC38: 0 | AD38: 113289 | AE38: # Allocated | AF38: 5321 | AG38: 2948 | AH38: 27377 | AI38: 24612 | AJ38: 28355 | AK38: 21857 | AL38: 2819 | AM38: 49417 | AN38: 63872 | AO38: SATA Pool Devices | AP38: Total GB | AQ38: 97433.6 | AR38: 243584.4 | AS38: 132070.3 | AT38: 292299.3 | AU38: 132070.4
B39: GB Allocated | C39: 179408.16 | D39: 99397.716 | E39: 99397.716 | F39: 240840.53 | G39: 113289.12 | H39: 459090.67 | I39: 234299.43 | J39: 46495.743 | K39: 201593.94 | L39: 223139.11 | M39: 224858.67 | N39: 366571.22 | O39: 115649.31 | P39: 175092.38 | Q39: 61600.959 | R39: 155030.77 | S39: 337810.62 | T39: 57858.372 | U39: 37189.851 | V39: 62646.186 | W39: 83955.33 | X39: 31896.282 | Y39: 41269.608 | Z39: 18915.237 | AA39: 37527.021 | AB39: 26805.015 | AC39: 0 | AD39: 3731629 | AE39: GB Allocated | AF39: 179408.16 | AG39: 99397.716 | AH39: 923070.31 | AI39: 829842.8 | AJ39: 956045.53 | AK39: 736952.47 | AL39: 95048.223 | AM39: 1666193 | AN39: 2153572.2 | AP39: Used GB | AQ39: 38973.2 | AR39: 124350.5 | AS39: 3817.1 | AT39: 109009 | AU39: 33401
B40: subscription vs allocated | C40: 0.71757981 | D40: 0.66037666 | E40: 0.66037666 | F40: 1.3233083 | G40: 0.6834292 | H40: 1.1786516 | I40: 1.3624001 | J40: 0.27996329 | K40: 1.6255059 | L40: 0.99584019 | M40: 1.1648952 | N40: 0.83650063 | O40: 1.3927141 | P40: 0.6340931 | Q40: 0.74183344 | R40: 0.80906076 | S40: 1.3099198 | T40: 1.0490902 | U40: 1.123883 | V40: 0.61299737 | W40: 0.40074813 | X40: 0.31210738 | Y40: 0.19699426 | Z40: 0.18508694 | AA40: 0.17912958 | AB40: 0.10205296 | AC40: 0 | AD40: 0.75018527 | AE40: subscription vs allocated | AF40: 0.71757981 | AG40: 0.66037666 | AH40: 1.1602555 | AI40: 0.69603402 | AJ40: 0.7120509 | AK40: 0.63804541 | AL40: 1.0771374 | AM40: 0.66707035 | AN40: 0.86960333 | AP40: % full | AQ40: 0.39999754 | AR40: 0.51050273 | AS40: 0.028902032 | AT40: 0.37293623 | AU40: 0.252903
B41: GB Mapped(First Port) | C41: 168937 | D41: 98992.5 | E41: 98992.5 | F41: 222843 | G41: 111003 | H41: 444018 | I41: 159522 | J41: 46536.5 | K41: 143176 | L41: 223522 | M41: 220891 | N41: 366652 | O41: 115693 | P41: 146837 | Q41: 61652.2 | R41: 141268 | S41: 337989 | T41: 57858.1 | U41: 37189.7 | V41: 62679.7 | W41: 62679.7 | X41: 31944.6 | Y41: 31910.9 | Z41: 18949 | AA41: 18949 | AB41: 26851.2 | AC41: 0 | AD41: 3457536.6 | AE41: GB Mapped(First Port) | AF41: 168937 | AG41: 98992.5 | AH41: 890383 | AI41: 672803.3 | AJ41: 952383.2 | AK41: 578989.8 | AL41: 95047.8 | AM41: 1350785.6 | AN41: 2106751 | AO41: Total | AP41: % full | AQ41: 0.38119625 | AR41: 0.47677983 | AS41: 0.029589947 | AT41: 0.45412051 | AU41: 0.31543211
B42: subscription vs Mapped | C42: =C41/C32 -> 0.67569827 | D42: =D41/D32 -> 0.6576845 | E42: =E41/E32 -> 0.6576845 | F42: =F41/F32 -> 1.2244202 | G42: =G41/G32 -> 0.66963793 | H42: =H41/H32 -> 1.1399546 | I42: =I41/I32 -> 0.92758562 | J42: =J41/J32 -> 0.2802087 | ... AD42: =AD41/AD32 -> 0.69508332 | AE42: subscription vs Mapped | AF42: =AF41/AF32 -> 0.67569827 | AG42: =AG41/AG32 -> 0.6576845 | AH42: =AH41/AH32 -> 1.1191692 | AI42: =AI41/AI32 -> 0.5643165 | AJ42: =AJ41/AJ32 -> 0.70932324 | AK42: =AK41/AK32 -> 0.50128306 | AL42: =AL41/AL32 -> 1.0771326 | AM42: =AM41/AM32 -> 0.54079512 | AN42: =AN41/AN32 -> 0.85069712
A43: 41801
A44: Site | C44: CGC | D44: CGC | E44: RDC | F44: RDC | G44: RDC | H44: RDC | I44: RDC | J44: RDC | K44: RDC | L44: RDC | M44: FDC | N44: FDC | O44: FDC | P44: FDC | Q44: FDC | R44: FDC | S44: FDC | T44: ZDC | U44: ZDC | V44: FDC | W44: RDC | X44: RDC | Y44: FDC | Z44: RDC | AA44: FDC | AB44: FDC | AC44: Total | AN44: Site | AP44: CGC | AQ44: RDC | AS44: FDC
A45: VMAX | C45: 0623 | D45: 0745 | E45: 0552 | F45: 0678 | G45: 3286 | H45: 3073 | I45: 2230 | J45: 3696 | K45: 4330 | L45: 0347 | M45: 0879 | N45: 3004 | O45: 2804 | P45: 2231 | Q45: 3875 | R45: 4652 | S45: 0349 | T45: 2262 | U45: 0377 | V45: 0667 | W45: 0671 | X45: 0689 | Y45: 0710 | Z45: 0706 | AA45: 0712 | AB45: 0709 | AE45: CGC Non-Rep | AF45: CGC-Rep | AG45: RDC Non-Rep | AH45: RDC-Rep | AI45: FDC Non-Rep | AJ45: FDC-Rep | AK45: ZDC Non-Rep | AL45: Total Rep | AM45: Total Non-Rep | AN45: VMAX | AP45: 0623 | AQ45: 3073 | AR45: 0347 | AS45: 3004 | AT45: 0349
A46: Enabled Pool Devices | B46: Total GB | C46: 250018.4 | D46: 150516.7 | E46: 150516.7 | F46: 181998.8 | G46: 165765.7 | H46: 389505 | I46: 171975.5 | J46: 166078 | K46: 124019.2 | L46: 224071.2 | M46: 193029.1 | N46: 438219.9 | O46: 83038.8 | P46: 276130.4 | Q46: 83038.8 | R46: 191618.2 | S46: 257886.5 | T46: 55151 | U46: 33090.5 | V46: 102196.5 | W46: 209496.5 | X46: 102196.5 | Y46: 209496.5 | Z46: 102196.5 | AA46: 209496.5 | AB46: 228473.6 | AC46: 4749221 | AD46: Total GB | AE46: 250018.4 | AF46: 150516.7 | AG46: 795575 | AH46: 1192244.6 | AI46: 1117609.1 | AJ46: 1155015.7 | AK46: 88241.5 | AL46: 2497777 | AM46: 2251444 | AN46: FC Pool Devices | AO46: Total GB | AP46: 143393 | AQ46: 132132 | AR46: 83196.1 | AS46: 132132.2 | AT46: 83196.1
B47: Used GB | C47: 102703.9 | D47: 83557.8 | E47: 84266.9 | F47: 147811.4 | G47: 114725 | H47: 214253.3 | I47: 121800.6 | J47: 50007 | K47: 82666 | L47: 71507.7 | M47: 147277.3 | N47: 211078.5 | O47: 57914.9 | P47: 225227.2 | Q47: 25860.8 | R47: 125937 | S47: 167687.3 | T47: 16593.7 | U47: 10226.6 | V47: 14431.1 | W47: 28862.2 | X47: 8037.3 | Y47: 16059.2 | Z47: 3.1 | AA47: 6 | AB47: 18050.2 | AC47: 2146552 | AD47: Used GB | AE47: 102703.9 | AF47: 83557.8 | AG47: 433572.4 | AH47: 490368.1 | AI47: 544093.3 | AJ47: 465436.2 | AK47: 26820.3 | AL47: 1039362.1 | AM47: 1107189.9 | AO47: Used GB | AP47: 51964.9 | AQ47: 58542 | AR47: 2519 | AS47: 70731 | AT47: 31444.9
B48: % full | C48: 0.41078537 | D48: 0.55513973 | E48: 0.55985083 | F48: 0.8121559 | G48: 0.69209131 | H48: 0.5500656 | I48: 0.70824391 | J48: 0.3011055 | K48: 0.66655808 | L48: 0.31912937 | M48: 0.76297978 | N48: 0.48167256 | O48: 0.69744385 | P48: 0.81565521 | Q48: 0.31143032 | R48: 0.6572288 | S48: 0.65023683 | T48: 0.30087759 | U48: 0.30904943 | V48: 0.14120934 | W48: 0.13776937 | X48: 0.07864555 | Y48: 0.076656173 | Z48: 3.033372e-05 | AA48: 2.8640097e-05 | AB48: 0.079003438 | AC48: 0.45197981 | AD48: % full | AE48: 0.41078537 | AF48: 0.55513973 | AG48: 0.54497992 | AH48: 0.41129824 | AI48: 0.48683686 | AJ48: 0.40296959 | AK48: 0.30394202 | AL48: 0.41611485 | AM48: 0.49176879 | AO48: % full | AP48: =AP47/AP46 -> 0.36239496 | AQ48: =AQ47/AQ46 -> 0.44305694 | AR48: =AR47/AR46 -> 0.030277862 | AS48: =AS47/AS46 -> 0.53530479 | AT48: =AT47/AT46 -> 0.37796123
A49: Thin Devices | B49: # Devices | C49: 5644 | D49: 3620 | E49: 3591 | F49: 9273 | G49: 8432 | H49: 15703 | I49: 8298 | J49: 9599 | K49: 7072 | L49: 9414 | M49: 8345 | N49: 11924 | O49: 4357 | P49: 10643 | Q49: 4799 | R49: 9711 | S49: 11664 | T49: 2480 | U49: 1570 | V49: 3999 | W49: 7999 | X49: 3999 | Y49: 7999 | Z49: 3999 | AA49: 7999 | AB49: 11999 | AC49: 194132 | AD49: # Devices | AE49: 5644 | AF49: 3620 | AG49: 34390 | AH49: 52989 | AI49: 43932 | AJ49: 49507 | AK49: 4050 | AL49: 106116 | AM49: 88016 | AN49: EFD Pool Devices | AO49: Total GB | AP49: 9191.8 | AQ49: 13787.7 | AR49: 8804.8 | AS49: 13787.7 | AT49: 8804.8
B50: Virtual Capacity GB | C50: 190298.75 | D50: 122055.54 | E50: 121077.75 | F50: 312657.74 | G50: 284301.74 | H50: 529458.05 | I50: 279783.67 | J50: 323649.48 | K50: 238446.62 | L50: 317411.84 | M50: 281368.36 | N50: 402041.51 | O50: 146904.97 | P50: 358850.03 | Q50: 161807.88 | R50: 327425.79 | S50: 393275.09 | T50: 83618.16 | U50: 52935.69 | V50: 134834.28 | W50: 269702.28 | X50: 134834.28 | Y50: 269702.28 | Z50: 134834.28 | AA50: 269702.28 | AB50: 404570.28 | AC50: 6545548.6 | AD50: Virtual Capacity GB | AE50: 190298.75 | AF50: 122055.54 | AG50: 1159527.6 | AH50: 1786630.1 | AI50: 1481255.2 | AJ50: 1669227.5 | AK50: 136553.85 | AL50: 3577913.2 | AM50: 2967635.5 | AO50: Used GB | AP50: 7975.5 | AQ50: 13649 | AR50: 1289.9 | AS50: 13642 | AT50: 5483.9
B51: capacity threshold | C51: =C46-C47 -> 147314.5 | D51: =D46-D47 -> 66958.9 | E51: =E46-E47 -> 66249.8 | F51: =F46-F47 -> 34187.4 | G51: =G46-G47 -> 51040.7 | H51: =H46-H47 -> 175251.7 | I51: =I46-I47 -> 50174.9 | J51: =J46-J47 -> 116071 | ... AC51: =AC46-AC47 -> 2602669 | AD51: capacity threshold | AE51: 500036.8 | AF51: 301033.4 | AG51: 1591150 | AH51: 2384489.2 | AI51: 2235218.2 | AJ51: 2310031.4 | AK51: 176483 | AL51: 4995554 | AM51: 4502888 | AO51: % full | AP51: =AP50/AP49 -> 0.86767554 | AQ51: =AQ50/AQ49 -> 0.98994031 | AR51: =AR50/AR49 -> 0.14649964 | AS51: =AS50/AS49 -> 0.98943261 | AT51: =AT50/AT49 -> 0.62283073
B52: # Allocated | C52: 5321 | D52: 2948 | E52: 2948 | F52: 7524 | G52: 3348 | H52: 13616 | I52: 6949 | J52: 1379 | K52: 5956 | L52: 6588 | M52: 7040 | N52: 10872 | O52: 3430 | P52: 8071 | Q52: 1827 | R52: 4575 | S52: 10016 | T52: 1716 | U52: 1103 | V52: 1848 | W52: 2480 | X52: 682 | Y52: 960 | Z52: 561 | AA52: 1113 | AB52: 719 | AC52: 113590 | AD52: # Allocated | AE52: 5321 | AF52: 2948 | AG52: 27728 | AH52: 24303 | AI52: 28647 | AJ52: 21824 | AK52: 2819 | AL52: 49075 | AM52: 64515 | AN52: SATA Pool Devices | AO52: Total GB | AP52: 97433.6 | AQ52: 243584.4 | AR52: 132070.3 | AS52: 292299.3 | AT52: 132070.4
B53: GB Allocated | C53: 179408.16 | D53: 99397.716 | E53: 99397.716 | F53: 253686.71 | G53: 112884.52 | H53: 459090.67 | I53: 234299.43 | J53: 46495.743 | K53: 200818.45 | L53: 222127.6 | M53: 237367.68 | N53: 366571.22 | O53: 115649.31 | P53: 183993.67 | Q53: 61600.959 | R53: 154255.27 | S53: 337709.47 | T53: 57858.372 | U53: 37189.851 | V53: 62309.016 | W53: 83618.16 | X53: 22994.994 | Y53: 32368.32 | Z53: 18915.237 | AA53: 37527.021 | AB53: 24242.523 | AC53: 3741777.8 | AD53: GB Allocated | AE53: 179408.16 | AF53: 99397.716 | AG53: 934904.98 | AH53: 819424.25 | AI53: 965890.9 | AJ53: 735839.81 | AK53: 95048.223 | AL53: 1654661.8 | AM53: 2175252.3 | AO53: Used GB | AP53: 38973.2 | AQ53: 124350.5 | AR53: 3817.1 | AS53: 109009 | AT53: 33401
B54: subscription vs allocated | C54: 0.71757981 | D54: 0.66037666 | E54: 0.66037666 | F54: 1.3938922 | G54: 0.68098838 | H54: 1.1786516 | I54: 1.3624001 | J54: 0.27996329 | K54: 1.6192529 | L54: 0.99132595 | M54: 1.2296989 | N54: 0.83650063 | O54: 1.3927141 | P54: 0.66632891 | Q54: 0.74183344 | R54: 0.80501369 | S54: 1.3095275 | T54: 1.0490902 | U54: 1.123883 | V54: 0.60969814 | W54: 0.3991387 | X54: 0.22500765 | Y54: 0.1545053 | Z54: 0.18508694 | AA54: 0.17912958 | AB54: 0.10610645 | AC54: 0.7878719 | AD54: subscription vs allocated | AE54: 0.71757981 | AF54: 0.66037666 | AG54: 1.1751312 | AH54: 0.68729542 | AI54: 0.86424753 | AJ54: 0.63708208 | AK54: 1.0771374 | AL54: 0.66245376 | AM54: 0.96615872 | AO54: % full | AP54: =AP53/AP52 -> 0.39999754 | AQ54: =AQ53/AQ52 -> 0.51050273 | AR54: =AR53/AR52 -> 0.028902032 | AS54: =AS53/AS52 -> 0.37293623 | AT54: =AT53/AT52 -> 0.252903
B55: GB Mapped(First Port) | C55: 168937 | D55: 98992.5 | E55: 98992.5 | F55: 235689 | G55: 110597 | H55: 444018 | I55: 159522 | J55: 46536.5 | K55: 142401 | L55: 222509 | M55: 233403 | N55: 366652 | O55: 115692 | P55: 155739 | Q55: 61652.2 | R55: 140493 | S55: 337888 | T55: 57858.1 | U55: 37189.7 | V55: 62342.5 | W55: 62342.5 | X55: 23040.2 | Y55: 23006.5 | Z55: 18949 | AA55: 18949 | AB55: 24278.2 | AC55: 3467669.4 | AD55: GB Mapped(First Port) | AE55: 168937 | AF55: 98992.5 | AG55: 902216 | AH55: 662380.7 | AI55: 962221.2 | AJ55: 577874.2 | AK55: 95047.8 | AL55: 1339247.4 | AM55: 2128422 | AN55: Total | AO55: % full | AP55: =(AP48+AP54)/2 -> 0.38119625 | AQ55: =(AQ48+AQ54)/2 -> 0.47677983 | AR55: =(AR48+AR54)/2 -> 0.029589947 | AS55: =(AS48+AS54)/2 -> 0.45412051 | AT55: =(AT48+AT54)/2 -> 0.31543211
B56: subscription vs Mapped | C56: 0.67569827 | D56: 0.6576845 | E56: 0.6576845 | F56: 1.295003 | G56: 0.66718869 | H56: 1.1399546 | I56: 0.92758562 | J56: 0.2802087 | K56: 1.1482174 | L56: 0.99302811 | M56: 1.2091597 | N56: 0.83668496 | O56: 1.3932282 | P56: 0.56400527 | Q56: 0.74245052 | R56: 0.73319236 | S56: 1.3102198 | T56: 1.0490852 | U56: 1.1238785 | V56: 0.61002578 | W56: 0.29758254 | X56: 0.22544999 | Y56: 0.10981806 | Z56: 0.18541731 | AA56: 0.090450198 | AB56: 0.10626261 | AC56: 0.73015541 | AD56: subscription vs Mapped | AE56: 0.67569827 | AF56: 0.6576845 | AG56: 1.1340427 | AH56: 0.5555745 | AI56: 0.860964 | AJ56: 0.50031718 | AK56: 1.0771326 | AL56: 0.53617573 | AM56: 0.94535862
A57: 41794
A58: Site | C58: CGC | D58: CGC | E58: RDC | F58: RDC | G58: RDC | H58: RDC | I58: RDC | J58: RDC | K58: RDC | L58: RDC | M58: FDC | N58: FDC | O58: FDC | P58: FDC | Q58: FDC | R58: FDC | S58: FDC | T58: ZDC | U58: ZDC | V58: FDC | W58: RDC | X58: RDC | Y58: FDC | Z58: RDC | AA58: FDC | AB58: FDC | AC58: Total | AN58: Site | AP58: CGC | AQ58: RDC | AS58: FDC
A59: VMAX | C59: 0623 | D59: 0745 | E59: 0552 | F59: 0678 | G59: 3286 | H59: 3073 | I59: 2230 | J59: 3696 | K59: 4330 | L59: 0347 | M59: 0879 | N59: 3004 | O59: 2804 | P59: 2231 | Q59: 3875 | R59: 4652 | S59: 0349 | T59: 2262 | U59: 0377 | V59: 0667 | W59: 0671 | X59: 0689 | Y59: 0710 | Z59: 0706 | AA59: 0712 | AB59: 0709 | AE59: CGC Non-Rep | AF59: CGC-Rep | AG59: RDC Non-Rep | AH59: RDC-Rep | AI59: FDC Non-Rep | AJ59: FDC-Rep | AK59: ZDC Non-Rep | AL59: Total Rep | AM59: Total Non-Rep | AN59: VMAX | AP59: 0623 | AQ59: 3073 | AR59: 0347 | AS59: 3004 | AT59: 0349
A60: Enabled Pool Devices | B60: Total GB | C60: 250018.4 | D60: 150516.7 | E60: 150516.7 | F60: 181998.8 | G60: 165765.7 | H60: 389505 | I60: 171975.5 | J60: 166078 | K60: 124019.2 | L60: 224071.2 | M60: 193029.1 | N60: 438219.9 | O60: 83038.8 | P60: 276130.4 | Q60: 83038.8 | R60: 191618.2 | S60: 257886.5 | T60: 55151 | U60: 33090.5 | V60: 102196.5 | W60: 209496.5 | X60: 102196.5 | Y60: 209496.5 | Z60: 102196.5 | AA60: 209496.5 | AB60: 228473.6 | AC60: 4749221 | AD60: Total GB | AE60: 250018.4 | AF60: 150516.7 | AG60: 795575 | AH60: 1192244.6 | AI60: 1117609.1 | AJ60: 1155015.7 | AK60: 88241.5 | AL60: 2497777 | AM60: 2251444 | AN60: FC Pool Devices | AO60: Total GB | AP60: 143393 | AQ60: 132132 | AR60: 83196.1 | AS60: 132132.2 | AT60: 83196.1
B61: Used GB | C61: 102137.8 | D61: 83523.2 | E61: 84201.2 | F61: 147615.4 | G61: 114392.9 | H61: 213832.5 | I61: 120902.2 | J61: 49331.4 | K61: 82549.9 | L61: 66906.1 | M61: 147021.4 | N61: 210702.8 | O61: 57757.6 | P61: 223471.4 | Q61: 25523 | R61: 125740.9 | S61: 166152.1 | T61: 16593.7 | U61: 10226.6 | V61: 12513.4 | W61: 25026.7 | X61: 6856.2 | Y61: 13696.6 | Z61: 3.1 | AA61: 6 | AB61: 14720.2 | AC61: 2121404.3 | AD61: Used GB | AE61: 102137.8 | AF61: 83523.2 | AG61: 428354 | AH61: 483263.6 | AI61: 538596.5 | AJ61: 458708.9 | AK61: 26820.3 | AL61: 1025495.7 | AM61: 1095908.6 | AO61: Used GB | AP61: 51964.9 | AQ61: 58542 | AR61: 2519 | AS61: 70731 | AT61: 31444.9
B62: % full | C62: 0.40852113 | D62: 0.55490985 | E62: 0.55941434 | F62: 0.81107897 | G62: 0.69008788 | H62: 0.54898525 | I62: 0.70301991 | J62: 0.29703754 | K62: 0.66562194 | L62: 0.29859304 | M62: 0.76165407 | N62: 0.48081523 | O62: 0.69554955 | P62: 0.80929662 | Q62: 0.30736234 | R62: 0.65620541 | S62: 0.64428382 | T62: 0.30087759 | U62: 0.30904943 | V62: 0.12244451 | W62: 0.11946118 | X62: 0.067088403 | Y62: 0.065378658 | Z62: 3.033372e-05 | AA62: 2.8640097e-05 | AB62: 0.06442845 | AC62: 0.44668469 | AD62: % full | AE62: 0.40852113 | AF62: 0.55490985 | AG62: 0.53842064 | AH62: 0.40533931 | AI62: 0.4819185 | AJ62: 0.39714516 | AK62: 0.30394202 | AL62: 0.41056335 | AM62: 0.4867581 | AO62: % full | AP62: 0.36239496 | AQ62: 0.44305694 | AR62: 0.030277862 | AS62: 0.53530479 | AT62: 0.37796123
A63: Thin Devices | B63: # Devices | C63: 5644 | D63: 3620 | E63: 3591 | F63: 9273 | G63: 8432 | H63: 15703 | I63: 8298 | J63: 9599 | K63: 7072 | L63: 9414 | M63: 8345 | N63: 11924 | O63: 4357 | P63: 10643 | Q63: 4799 | R63: 9711 | S63: 11664 | T63: 2480 | U63: 1570 | V63: 3999 | W63: 7999 | X63: 3999 | Y63: 7999 | Z63: 3999 | AA63: 7999 | AB63: 11999 | AC63: 194132 | AD63: # Devices | AE63: 5644 | AF63: 3620 | AG63: 34390 | AH63: 52989 | AI63: 43932 | AJ63: 49507 | AK63: 4050 | AL63: 106116 | AM63: 88016 | AN63: EFD Pool Devices | AO63: Total GB | AP63: 9191.8 | AQ63: 13787.7 | AR63: 8804.8 | AS63: 13787.7 | AT63: 8804.8
B64: Virtual Capacity GB | C64: 190298.75 | D64: 122055.54 | E64: 121077.75 | F64: 312657.74 | G64: 284301.74 | H64: 529458.05 | I64: 279783.67 | J64: 323649.48 | K64: 238446.62 | L64: 317411.84 | M64: 281368.36 | N64: 402041.51 | O64: 146904.97 | P64: 358850.03 | Q64: 161807.88 | R64: 327425.79 | S64: 393275.09 | T64: 83618.16 | U64: 52935.69 | V64: 134834.28 | W64: 269702.28 | X64: 134834.28 | Y64: 269702.28 | Z64: 134834.28 | AA64: 269702.28 | AB64: 404570.28 | AC64: 6545548.6 | AD64: Virtual Capacity GB | AE64: 190298.75 | AF64: 122055.54 | AG64: 1159527.6 | AH64: 1786630.1 | AI64: 1481255.2 | AJ64: 1669227.5 | AK64: 136553.85 | AL64: 3577913.2 | AM64: 2967635.5 | AO64: Used GB | AP64: 7975.5 | AQ64: 13649 | AR64: 1289.9 | AS64: 13642 | AT64: 5483.9
B65: capacity threshold | C65: =C60-C61 -> 147880.6 | D65: =D60-D61 -> 66993.5 | E65: =E60-E61 -> 66315.5 | F65: =F60-F61 -> 34383.4 | G65: =G60-G61 -> 51372.8 | H65: =H60-H61 -> 175672.5 | I65: =I60-I61 -> 51073.3 | J65: =J60-J61 -> 116746.6 | ... AB65: =AB60-AB61 -> 213753.4 | AC65: 7294410.6 | AD65: capacity threshold | AE65: 500036.8 | AF65: 301033.4 | AG65: 1591150 | AH65: 2384489.2 | AI65: 2235218.2 | AJ65: 2310031.4 | AK65: 176483 | AL65: 4995554 | AM65: 4502888 | AO65: % full | AP65: 0.86767554 | AQ65: 0.98994031 | AR65: 0.14649964 | AS65: 0.98943261 | AT65: 0.62283073
B66: # Allocated | C66: 5321 | D66: 2948 | E66: 2948 | F66: 7524 | G66: 3348 | H66: 13616 | I66: 6938 | J66: 1379 | K66: 5956 | L66: 6576 | M66: 7040 | N66: 10872 | O66: 3430 | P66: 8060 | Q66: 1827 | R66: 4575 | S66: 9974 | T66: 1716 | U66: 1103 | V66: 1848 | W66: 2480 | X66: 664 | Y66: 942 | Z66: 469 | AA66: 933 | AB66: 585 | AC66: 113072 | AD66: # Allocated | AE66: 5321 | AF66: 2948 | AG66: 27716 | AH66: 24182 | AI66: 28471 | AJ66: 21615 | AK66: 2819 | AL66: 48745 | AM66: 64327 | AN66: SATA Pool Devices | AO66: Total GB | AP66: 97433.6 | AQ66: 243584.4 | AR66: 132070.3 | AS66: 292299.3 | AT66: 132070.4
B67: GB Allocated | C67: 179408.16 | D67: 99397.716 | E67: 99397.716 | F67: 253686.71 | G67: 112884.52 | H67: 459090.67 | I67: 233928.55 | J67: 46495.743 | K67: 200818.45 | L67: 221722.99 | M67: 237367.68 | N67: 366571.22 | O67: 115649.31 | P67: 183622.78 | Q67: 61600.959 | R67: 154255.27 | S67: 336293.36 | T67: 57858.372 | U67: 37189.851 | V67: 62309.016 | W67: 83618.16 | X67: 22388.088 | Y67: 31761.414 | Z67: 15813.273 | AA67: 31457.961 | AB67: 19724.445 | AC67: 3724312.4 | AD67: GB Allocated | AE67: 179408.16 | AF67: 99397.716 | AG67: 934500.37 | AH67: 815344.49 | AI67: 959956.71 | AJ67: 728792.95 | AK67: 95048.223 | AL67: 1643535.2 | AM67: 2168913.5 | AO67: Used GB | AP67: 38973.2 | AQ67: 124350.5 | AR67: 3817.1 | AS67: 109009 | AT67: 33401
B68: subscription vs allocated | C68: 0.71757981 | D68: 0.66037666 | E68: 0.66037666 | F68: 1.3938922 | G68: 0.68098838 | H68: 1.1786516 | I68: 1.3602434 | J68: 0.27996329 | K68: 1.6192529 | L68: 0.98952026 | M68: 1.2296989 | N68: 0.83650063 | O68: 1.3927141 | P68: 0.66498575 | Q68: 0.74183344 | R68: 0.80501369 | S68: 1.3040363 | T68: 1.0490902 | U68: 1.123883 | V68: 0.60969814 | W68: 0.3991387 | X68: 0.21906903 | Y68: 0.15160833 | Z68: 0.154734 | AA68: 0.15015984 | AB68: 0.086331397 | AC68: 0.78419437 | AD68: subscription vs allocated | AE68: 0.71757981 | AF68: 0.66037666 | AG68: 1.1746226 | AH68: 0.68387351 | AI68: 0.8589378 | AJ68: 0.63098099 | AK68: 1.0771374 | AL68: 0.65799916 | AM68: 0.96334329 | AO68: % full | AP68: 0.39999754 | AQ68: 0.51050273 | AR68: 0.028902032 | AS68: 0.37293623 | AT68: 0.252903
B69: GB Mapped(First Port) | C69: 168937 | D69: 98992.5 | E69: 98992.5 | F69: 235689 | G69: 110597 | H69: 444018 | I69: 159151 | J69: 46535.5 | K69: 142401 | L69: 222103 | M69: 233403 | N69: 366652 | O69: 115692 | P69: 155368 | Q69: 61652.2 | R69: 140493 | S69: 336472 | T69: 57858.1 | U69: 37189.7 | V69: 62342.5 | W69: 62342.5 | X69: 22433.3 | Y69: 22399.6 | Z69: 15847 | AA69: 15847 | AB69: 19760.2 | AC69: 3453168.6 | AD69: GB Mapped(First Port) | AE69: 168937 | AF69: 98992.5 | AG69: 901810 | AH69: 658299.8 | AI69: 956287.2 | AJ69: 573794.3 | AK69: 95047.8 | AL69: 1331086.6 | AM69: 2122082 | AN69: Total | AO69: % full | AP69: 0.38119625 | AQ69: 0.47677983 | AR69: 0.029589947 | AS69: 0.45412051 | AT69: 0.31543211
B70: subscription vs Mapped | C70: 0.67569827 | D70: 0.6576845 | E70: 0.6576845 | F70: 1.295003 | G70: 0.66718869 | H70: 1.1399546 | I70: 0.92542833 | J70: 0.28020268 | K70: 1.1482174 | L70: 0.99121618 | M70: 1.2091597 | N70: 0.83668496 | O70: 1.3932282 | P70: 0.5626617 | Q70: 0.74245052 | R70: 0.73319236 | S70: 1.304729 | T70: 1.0490852 | U70: 1.1238785 | V70: 0.61002578 | W70: 0.29758254 | X70: 0.21951143 | Y70: 0.10692112 | Z70: 0.15506402 | AA70: 0.075643269 | AB70: 0.086487892 | AC70: 0.72710211 | AD70: subscription vs Mapped | AE70: 0.67569827 | AF70: 0.6576845 | AG70: 1.1335324 | AH70: 0.55215163 | AI70: 0.85565445 | AJ70: 0.49678485 | AK70: 1.0771326 | AL70: 0.5329085 | AM70: 0.94254265
A71: 41787
A72: Site | C72: CGC | D72: CGC | E72: RDC | F72: RDC | G72: RDC | H72: RDC | I72: RDC | J72: RDC | K72: RDC | L72: RDC | M72: FDC | N72: FDC | O72: FDC | P72: FDC | Q72: FDC | R72: FDC | S72: FDC | T72: ZDC | U72: ZDC | V72: FDC | W72: RDC | X72: RDC | Y72: FDC | Z72: RDC | AA72: FDC | AB72: FDC | AC72: Total | AN72: Site | AP72: CGC | AQ72: RDC | AS72: FDC
A73: VMAX | C73: 0623 | D73: 0745 | E73: 0552 | F73: 0678 | G73: 3286 | H73: 3073 | I73: 2230 | J73: 3696 | K73: 4330 | L73: 0347 | M73: 0879 | N73: 3004 | O73: 2804 | P73: 2231 | Q73: 3875 | R73: 4652 | S73: 0349 | T73: 2262 | U73: 0377 | V73: 0667 | W73: 0671 | X73: 0689 | Y73: 0710 | Z73: 0706 | AA73: 0712 | AB73: 0709 | AE73: CGC Non-Rep | AF73: CGC-Rep | AG73: RDC Non-Rep | AH73: RDC-Rep | AI73: FDC Non-Rep | AJ73: FDC-Rep | AK73: ZDC Non-Rep | AL73: Total Rep | AM73: Total Non-Rep | AN73: VMAX | AP73: 0623 | AQ73: 3073 | AR73: 0347 | AS73: 3004 | AT73: 0349
A74: Enabled Pool Devices | B74: Total GB | C74: 250018.4 | D74: 150516.7 | E74: 150516.7 | F74: 181998.8 | G74: 165765.7 | H74: 389505 | I74: 171975.5 | J74: 166078 | K74: 124019.2 | L74: 224071.2 | M74: 193029.1 | N74: 438219.9 | O74: 83038.8 | P74: 276130.4 | Q74: 83038.8 | R74: 191618.2 | S74: 257886.5 | T74: 55151 | U74: 33090.5 | V74: 102196.5 | W74: 209496.5 | X74: 102196.5 | Y74: 209496.5 | Z74: 102196.5 | AA74: 209496.5 | AB74: 228473.6 | AC74: 4749221 | AD74: Total GB | AE74: 250018.4 | AF74: 150516.7 | AG74: 795575 | AH74: 1192244.6 | AI74: 1117609.1 | AJ74: 1155015.7 | AK74: 88241.5 | AL74: 2497777 | AM74: 2251444 | AN74: FC Pool Devices | AO74: Total GB | AP74: 143393 | AQ74: 132132 | AR74: 83196.1 | AS74: 132132.2 | AT74: 83196.1
B75: Used GB | C75: 104295.9 | D75: 83437 | E75: 84777.9 | F75: 147341.3 | G75: 113924.1 | H75: 213164.1 | I75: 123460.9 | J75: 49188.7 | K75: 82338.3 | L75: 58892.5 | M75: 153991.5 | N75: 210106.8 | O75: 57555.6 | P75: 228606.9 | Q75: 25451.6 | R75: 129313.8 | S75: 163355.5 | T75: 16593.7 | U75: 10226.6 | V75: 12448.1 | W75: 24896.2 | X75: 6606.1 | Y75: 13193 | Z75: 3.1 | AA75: 6 | AB75: 6025.8 | AC75: 2119201 | AD75: Used GB | AE75: 104295.9 | AF75: 83437 | AG75: 419397.9 | AH75: 485195.3 | AI75: 533479.6 | AJ75: 466575 | AK75: 26820.3 | AL75: 1035207.3 | AM75: 1083993.7 | AO75: Used GB | AP75: 51964.9 | AQ75: 58542 | AR75: 2519 | AS75: 70731 | AT75: 31444.9
B76: % full | C76: 0.4171529 | D76: 0.55433716 | E76: 0.56324581 | F76: 0.80957292 | G76: 0.68725979 | H76: 0.54726923 | I76: 0.71789819 | J76: 0.2961783 | K76: 0.66391575 | L76: 0.2628294 | M76: 0.79776314 | N76: 0.47945518 | O76: 0.69311695 | P76: 0.82789472 | Q76: 0.3065025 | R76: 0.67485135 | S76: 0.63343952 | T76: 0.30087759 | U76: 0.30904943 | V76: 0.12180554 | W76: 0.11883826 | X76: 0.064641157 | Y76: 0.062974799 | Z76: 3.033372e-05 | AA76: 2.8640097e-05 | AB76: 0.026374163 | AC76: 0.44622076 | AD76: % full | AE76: 0.4171529 | AF76: 0.55433716 | AG76: 0.52716325 | AH76: 0.40695953 | AI76: 0.47734006 | AJ76: 0.40395555 | AK76: 0.30394202 | AL76: 0.41445145 | AM76: 0.48146598 | AO76: % full | AP76: 0.36239496 | AQ76: 0.44305694 | AR76: 0.030277862 | AS76: 0.53530479 | AT76: 0.37796123
A77: Thin Devices | B77: # Devices | C77: 5732 | D77: 3620 | E77: 3617 | F77: 9273 | G77: 8416 | H77: 15703 | I77: 8315 | J77: 9599 | K77: 7072 | L77: 9417 | M77: 8601 | N77: 11924 | O77: 4357 | P77: 10677 | Q77: 4799 | R77: 9711 | S77: 11666 | T77: 2480 | U77: 1570 | V77: 3999 | W77: 7999 | X77: 3999 | Y77: 7999 | Z77: 3999 | AA77: 7999 | AB77: 11999 | AC77: 194542 | AD77: # Devices | AE77: 5732 | AF77: 3620 | AG77: 34393 | AH77: 53016 | AI77: 44190 | AJ77: 49541 | AK77: 4050 | AL77: 106177 | AM77: 88365 | AN77: EFD Pool Devices | AO77: Total GB | AP77: 9191.8 | AQ77: 13787.7 | AR77: 8804.8 | AS77: 13787.7 | AT77: 8804.8
B78: Virtual Capacity GB | C78: 193265.84 | D78: 122055.54 | E78: 121954.39 | F78: 312657.74 | G78: 283762.27 | H78: 529458.05 | I78: 280356.85 | J78: 323649.48 | K78: 238446.62 | L78: 317512.99 | M78: 289999.92 | N78: 402041.51 | O78: 146904.97 | P78: 359996.41 | Q78: 161807.88 | R78: 327425.79 | S78: 393342.52 | T78: 83618.16 | U78: 52935.69 | V78: 134834.28 | W78: 269702.28 | X78: 134834.28 | Y78: 269702.28 | Z78: 134834.28 | AA78: 269702.28 | AB78: 404570.28 | AC78: 6559372.6 | AD78: Virtual Capacity GB | AE78: 193265.84 | AF78: 122055.54 | AG78: 1159628.8 | AH78: 1787540.5 | AI78: 1489954.2 | AJ78: 1670373.9 | AK78: 136553.85 | AL78: 3579969.9 | AM78: 2979402.7 | AO78: Used GB | AP78: 7975.5 | AQ78: 13649 | AR78: 1289.9 | AS78: 13642 | AT78: 5483.9
B79: capacity threshold | C79: =C74-C75 -> 145722.5 | D79: =D74-D75 -> 67079.7 | E79: =E74-E75 -> 65738.8 | F79: =F74-F75 -> 34657.5 | G79: =G74-G75 -> 51841.6 | H79: =H74-H75 -> 176340.9 | I79: =I74-I75 -> 48514.6 | J79: =J74-J75 -> 116889.3 | ... AB79: =AB74-AB75 -> 222447.8 | AC79: 7294410.6 | AD79: capacity threshold | AE79: 500036.8 | AF79: 301033.4 | AG79: 1591150 | AH79: 2384489.2 | AI79: 2235218.2 | AJ79: 2310031.4 | AK79: 176483 | AL79: 4995554 | AM79: 4502888 | AO79: % full | AP79: 0.86767554 | AQ79: 0.98994031 | AR79: 0.14649964 | AS79: 0.98943261 | AT79: 0.62283073
B80: # Allocated | C80: 5365 | D80: 2948 | E80: 2948 | F80: 7524 | G80: 3348 | H80: 13616 | I80: 7019 | J80: 1379 | K80: 5940 | L80: 5992 | M80: 7169 | N80: 10872 | O80: 3430 | P80: 8202 | Q80: 1827 | R80: 4543 | S80: 9821 | T80: 1716 | U80: 1103 | V80: 1848 | W80: 2480 | X80: 664 | Y80: 942 | Z80: 469 | AA80: 933 | AB80: 199 | AC80: 112297 | AD80: # Allocated | AE80: 5365 | AF80: 2948 | AG80: 27132 | AH80: 24247 | AI80: 28061 | AJ80: 21725 | AK80: 2819 | AL80: 48920 | AM80: 63377 | AN80: SATA Pool Devices | AO80: Total GB | AP80: 97433.6 | AQ80: 243584.4 | AR80: 132070.3 | AS80: 292299.3 | AT80: 132070.4
B81: GB Allocated | C81: 180891.7 | D81: 99397.716 | E81: 99397.716 | F81: 253686.71 | G81: 112884.52 | H81: 459090.67 | I81: 236659.62 | J81: 46495.743 | K81: 200278.98 | L81: 202032.26 | M81: 241717.17 | N81: 366571.22 | O81: 115649.31 | P81: 188410.6 | Q81: 61600.959 | R81: 153176.33 | S81: 331134.66 | T81: 57858.372 | U81: 37189.851 | V81: 62309.016 | W81: 83618.16 | X81: 22388.088 | Y81: 31761.414 | Z81: 15813.273 | AA81: 31457.961 | AB81: 6709.683 | AC81: 3698181.7 | AD81: GB Allocated | AE81: 180891.7 | AF81: 99397.716 | AG81: 914809.64 | AH81: 817536.1 | AI81: 946132.74 | AJ81: 732501.82 | AK81: 95048.223 | AL81: 1649435.6 | AM81: 2136882.3 | AO81: Used GB | AP81: 38973.2 | AQ81: 124350.5 | AR81: 3817.1 | AS81: 109009 | AT81: 33401
B82: subscription vs allocated | C82: 0.72351357 | D82: 0.66037666 | E82: 0.66037666 | F82: 1.3938922 | G82: 0.68098838 | H82: 1.1786516 | I82: 1.3761241 | J82: 0.27996329 | K82: 1.614903 | L82: 0.90164316 | M82: 1.2522318 | N82: 0.83650063 | O82: 1.3927141 | P82: 0.68232471 | Q82: 0.74183344 | R82: 0.799383 | S82: 1.2840325 | T82: 1.0490902 | U82: 1.123883 | V82: 0.60969814 | W82: 0.3991387 | X82: 0.21906903 | Y82: 0.15160833 | Z82: 0.154734 | AA82: 0.15015984 | AB82: 0.029367432 | AC82: 0.77869228 | AD82: subscription vs allocated | AE82: 0.72351357 | AF82: 0.66037666 | AG82: 1.1498723 | AH82: 0.68571172 | AI82: 0.84656857 | AJ82: 0.63419209 | AK82: 1.0771374 | AL82: 0.66036145 | AM82: 0.94911635 | AO82: % full | AP82: 0.39999754 | AQ82: 0.51050273 | AR82: 0.028902032 | AS82: 0.37293623 | AT82: 0.252903
B83: GB Mapped(First Port) | C83: 170421 | D83: 98992.5 | E83: 98992.5 | F83: 235689 | G83: 110597 | H83: 444018 | I83: 160432 | J83: 46535.5 | K83: 141861 | L83: 202411 | M83: 237753 | N83: 366652 | O83: 115692 | P83: 156649 | Q83: 61651.1 | R83: 139953 | S83: 331311 | T83: 57858.1 | U83: 37189.7 | V83: 62342.5 | W83: 62342.5 | X83: 22433.3 | Y83: 22399.6 | Z83: 15847 | AA83: 15847 | AB83: 6744.41 | AC83: 3422614.7 | AD83: GB Mapped(First Port) | AE83: 170421 | AF83: 98992.5 | AG83: 882118 | AH83: 659040.8 | AI83: 942460.41 | AJ83: 574534.2 | AK83: 95047.8 | AL83: 1332567.5 | AM83: 2090047.2 | AN83: Total | AO83: % full | AP83: 0.38119625 | AQ83: 0.47677983 | AR83: 0.029589947 | AS83: 0.45412051 | AT83: 0.31543211
B84: subscription vs Mapped | C84: 0.68163383 | D84: 0.6576845 | E84: 0.6576845 | F84: 1.295003 | G84: 0.66718869 | H84: 1.1399546 | I84: 0.93287707 | J84: 0.28020268 | K84: 1.1438632 | L84: 0.9033334 | M84: 1.2316951 | N84: 0.83668496 | O84: 1.3932282 | P84: 0.56730081 | Q84: 0.74243727 | R84: 0.73037425 | S84: 1.2847163 | T84: 1.0490852 | U84: 1.1238785 | V84: 0.61002578 | W84: 0.29758254 | X84: 0.21951143 | Y84: 0.10692112 | Z84: 0.15506402 | AA84: 0.075643269 | AB84: 0.029519428 | AC84: 0.72066865 | AD84: subscription vs Mapped | AE84: 0.68163383 | AF84: 0.6576845 | AG84: 1.1087804 | AH84: 0.55277315 | AI84: 0.84328269 | AJ84: 0.49742545 | AK84: 1.0771326 | AL84: 0.53350139 | AM84: 0.9283141
A85: 41780
A86: Site | C86: CGC | D86: CGC | E86: RDC | F86: RDC | G86: RDC | H86: RDC | I86: RDC | J86: RDC | K86: RDC | L86: RDC | M86: FDC | N86: FDC | O86: FDC | P86: FDC | Q86: FDC | R86: FDC | S86: FDC | T86: ZDC | U86: ZDC | V86: FDC | W86: RDC | X86: RDC | Y86: FDC | Z86: RDC | AA86: FDC | AB86: FDC | AC86: Total | AN86: Site | AP86: CGC | AQ86: RDC | AS86: FDC
A87: VMAX | C87: 0623 | D87: 0745 | E87: 0552 | F87: 0678 | G87: 3286 | H87: 3073 | I87: 2230 | J87: 3696 | K87: 4330 | L87: 0347 | M87: 0879 | N87: 3004 | O87: 2804 | P87: 2231 | Q87: 3875 | R87: 4652 | S87: 0349 | T87: 2262 | U87: 0377 | V87: 0667 | W87: 0671 | X87: 0689 | Y87: 0710 | Z87: 0706 | AA87: 0712 | AB87: 0709 | AE87: CGC Non-Rep | AF87: CGC-Rep | AG87: RDC Non-Rep | AH87: RDC-Rep | AI87: FDC Non-Rep | AJ87: FDC-Rep | AK87: ZDC Non-Rep | AL87: Total Rep | AM87: Total Non-Rep | AN87: VMAX | AP87: 0623 | AQ87: 3073 | AR87: 0347 | AS87: 3004 | AT87: 0349
A88: Enabled Pool Devices | B88: Total GB | C88: 250018.4 | D88: 150516.7 | E88: 150516.7 | F88: 181998.8 | G88: 165765.7 | H88: 389505 | I88: 171975.5 | J88: 166078 | K88: 124019.2 | L88: 224071.2 | M88: 193029.1 | N88: 438219.9 | O88: 83038.8 | P88: 276130.4 | Q88: 83038.8 | R88: 191618.2 | S88: 257886.5 | T88: 55151 | U88: 33090.5 | V88: 102196.5 | W88: 209496.5 | X88: 102196.5 | Y88: 209496.5 | Z88: 102196.5 | AA88: 209496.5 | AB88: 228473.6 | AC88: 4749221 | AD88: Total GB | AE88: 250018.4 | AF88: 150516.7 | AG88: 795575 | AH88: 1192244.6 | AI88: 1117609.1 | AJ88: 1155015.7 | AK88: 88241.5 | AL88: 2497777 | AM88: 2251444 | AN88: FC Pool Devices | AO88: Total GB | AP88: 143393 | AQ88: 132132 | AR88: 83196.1 | AS88: 132132.2 | AT88: 83196.1
B89: Used GB | C89: 104316.3 | D89: 84471.4 | E89: 85810 | F89: 151442 | G89: 113818.4 | H89: 212092.8 | I89: 125909.4 | J89: 49007.9 | K89: 82107.9 | L89: 58291.7 | M89: 159925.7 | N89: 209268.2 | O89: 57364.9 | P89: 233511.3 | Q89: 25360.5 | R89: 128871.1 | S89: 158950.8 | T89: 16593.7 | U89: 10226.6 | V89: 12122.2 | W89: 24245.1 | X89: 3772.6 | Y89: 7535.5 | Z89: 3.1 | AA89: 6 | AB89: 9 | AC89: 2115034.1 | AD89: Used GB | AE89: 104316.3 | AF89: 84471.4 | AG89: 421826.5 | AH89: 484674.4 | AI89: 528153.7 | AJ89: 464771.5 | AK89: 26820.3 | AL89: 1033917.3 | AM89: 1081116.8 | AO89: Used GB | AP89: 51964.9 | AQ89: 58542 | AR89: 2519 | AS89: 70731 | AT89: 31444.9
B90: % full | C90: 0.41723449 | D90: 0.56120949 | E90: 0.57010285 | F90: 0.83210439 | G90: 0.68662214 | H90: 0.54451881 | I90: 0.73213568 | J90: 0.29508966 | K90: 0.66205797 | L90: 0.26014811 | M90: 0.82850565 | N90: 0.47754153 | O90: 0.69082044 | P90: 0.84565589 | Q90: 0.30540542 | R90: 0.67254102 | S90: 0.61635952 | T90: 0.30087759 | U90: 0.30904943 | V90: 0.11861659 | W90: 0.11573033 | X90: 0.036915159 | Y90: 0.035969575 | Z90: 3.033372e-05 | AA90: 2.8640097e-05 | AB90: 3.939186e-05 | AC90: 0.44534337 | AD90: % full | AE90: 0.41723449 | AF90: 0.56120949 | AG90: 0.53021588 | AH90: 0.40652262 | AI90: 0.47257462 | AJ90: 0.4023941 | AK90: 0.30394202 | AL90: 0.41393499 | AM90: 0.48018818 | AO90: % full | AP90: 0.36239496 | AQ90: 0.44305694 | AR90: 0.030277862 | AS90: 0.53530479 | AT90: 0.37796123
A91: Thin Devices | B91: # Devices | C91: 5741 | D91: 3653 | E91: 3650 | F91: 9450 | G91: 8432 | H91: 15703 | I91: 8405 | J91: 9599 | K91: 7072 | L91: 9423 | M91: 8889 | N91: 11924 | O91: 4357 | P91: 10857 | Q91: 4799 | R91: 9711 | S91: 11666 | T91: 2480 | U91: 1570 | V91: 3999 | W91: 7999 | X91: 3999 | Y91: 7999 | Z91: 3999 | AA91: 7999 | AB91: 11999 | AC91: 195374 | AD91: # Devices | AE91: 5741 | AF91: 3653 | AG91: 34576 | AH91: 53155 | AI91: 44478 | AJ91: 49721 | AK91: 4050 | AL91: 106529 | AM91: 88845 | AN91: EFD Pool Devices | AO91: Total GB | AP91: 9191.8 | AQ91: 13787.7 | AR91: 8804.8 | AS91: 13787.7 | AT91: 8804.8
B92: Virtual Capacity GB | C92: 193569.3 | D92: 123168.2 | E92: 123067.05 | F92: 318625.65 | G92: 284301.74 | H92: 529458.05 | I92: 283391.39 | J92: 323649.48 | K92: 238446.62 | L92: 317715.29 | M92: 299710.41 | N92: 402041.51 | O92: 146904.97 | P92: 366065.47 | Q92: 161807.88 | R92: 327425.79 | S92: 393342.52 | T92: 83618.16 | U92: 52935.69 | V92: 134834.28 | W92: 269702.28 | X92: 134834.28 | Y92: 269702.28 | Z92: 134834.28 | AA92: 269702.28 | AB92: 404570.28 | AC92: 6587425.2 | AD92: Virtual Capacity GB | AE92: 193569.3 | AF92: 123168.2 | AG92: 1165799 | AH92: 1792227.1 | AI92: 1499664.7 | AJ92: 1676443 | AK92: 136553.85 | AL92: 3591838.3 | AM92: 2995586.9 | AO92: Used GB | AP92: 7975.5 | AQ92: 13649 | AR92: 1289.9 | AS92: 13642 | AT92: 5483.9
B93: capacity threshold | C93: =C88-C89 -> 145702.1 | D93: =D88-D89 -> 66045.3 | E93: =E88-E89 -> 64706.7 | F93: =F88-F89 -> 30556.8 | G93: =G88-G89 -> 51947.3 | H93: =H88-H89 -> 177412.2 | I93: =I88-I89 -> 46066.1 | J93: =J88-J89 -> 117070.1 | ... AB93: =AB88-AB89 -> 228464.6 | AC93: 7294410.6 | AD93: capacity threshold | AE93: 500036.8 | AF93: 301033.4 | AG93: 1591150 | AH93: 2384489.2 | AI93: 2235218.2 | AJ93: 2310031.4 | AK93: 176483 | AL93: 4995554 | AM93: 4502888 | AO93: % full | AP93: 0.86767554 | AQ93: 0.98994031 | AR93: 0.14649964 | AS93: 0.98943261 | AT93: 0.62283073
B94: # Allocated | C94: 5397 | D94: 2981 | E94: 3007 | F94: 7701 | G94: 3356 | H94: 13615 | I94: 7093 | J94: 1379 | K94: 5848 | L94: 5649 | M94: 7608 | N94: 10872 | O94: 3430 | P94: 8202 | Q94: 1827 | R94: 4451 | S94: 9656 | T94: 1716 | U94: 1103 | V94: 1848 | W94: 2480 | X94: 503 | Y94: 694 | Z94: 469 | AA94: 933 | AB94: -1 | AC94: 111817 | AD94: # Allocated | AE94: 5397 | AF94: 2981 | AG94: 26965 | AH94: 24135 | AI94: 28135 | AJ94: 21385 | AK94: 2819 | AL94: 48501 | AM94: 63316 | AN94: SATA Pool Devices | AO94: Total GB | AP94: 97433.6 | AQ94: 243584.4 | AR94: 132070.3 | AS94: 292299.3 | AT94: 132070.4
B95: GB Allocated | C95: 181970.65 | D95: 100510.38 | E95: 101387.02 | F95: 259654.62 | G95: 113154.25 | H95: 459056.95 | I95: 239154.68 | J95: 46495.743 | K95: 197177.02 | L95: 190467.33 | M95: 256518.94 | N95: 366571.22 | O95: 115649.31 | P95: 188410.6 | Q95: 61600.959 | R95: 150074.37 | S95: 325571.35 | T95: 57858.372 | U95: 37189.851 | V95: 62309.016 | W95: 83618.16 | X95: 16959.651 | Y95: 23399.598 | Z95: 15813.273 | AA95: 31457.961 | AB95: -33.717 | AC95: 3681997.6 | AD95: GB Allocated | AE95: 181970.65 | AF95: 100510.38 | AG95: 909178.9 | AH95: 813759.79 | AI95: 948627.79 | AJ95: 721038.04 | AK95: 95048.223 | AL95: 1635308.2 | AM95: 2134825.6 | AO95: Used GB | AP95: 38973.2 | AQ95: 124350.5 | AR95: 3817.1 | AS95: 109009 | AT95: 33401
B96: subscription vs allocated | C96: 0.72782903 | D96: 0.66776894 | E96: 0.67359316 | F96: 1.4266831 | G96: 0.6826156 | H96: 1.178565 | I96: 1.3906323 | J96: 0.27996329 | K96: 1.589891 | L96: 0.85003041 | M96: 1.3289133 | N96: 0.83650063 | O96: 1.3927141 | P96: 0.68232471 | Q96: 0.74183344 | R96: 0.78319474 | S96: 1.2624598 | T96: 1.0490902 | U96: 1.123883 | V96: 0.60969814 | W96: 0.3991387 | X96: 0.16595139 | Y96: 0.11169446 | Z96: 0.154734 | AA96: 0.15015984 | AB96: -0.00014757504 | AC96: 0.77528453 | AD96: subscription vs allocated | AE96: 0.72782903 | AF96: 0.66776894 | AG96: 1.1427947 | AH96: 0.68254433 | AI96: 0.84880107 | AJ96: 0.62426688 | AK96: 1.0771374 | AL96: 0.65470545 | AM96: 0.94820283 | AO96: % full | AP96: 0.39999754 | AQ96: 0.51050273 | AR96: 0.028902032 | AS96: 0.37293623 | AT96: 0.252903
B97: GB Mapped(First Port) | C97: 171500 | D97: 100105 | E97: 100982 | F97: 241657 | G97: 110867 | H97: 443985 | I97: 164406 | J97: 46535.5 | K97: 138759 | L97: 190845 | M97: 252557 | N97: 366652 | O97: 115692 | P97: 158128 | Q97: 61651.1 | R97: 136851 | S97: 325741 | T97: 57858.1 | U97: 37189.7 | V97: 62342.5 | W97: 62342.5 | X97: 17003.8 | Y97: 16970.1 | Z97: 15847 | AA97: 15847 | AB97: 0 | AC97: 3412314.3 | AD97: GB Mapped(First Port) | AE97: 171500 | AF97: 100105 | AG97: 876487 | AH97: 656742.8 | AI97: 944950 | AJ97: 567481.7 | AK97: 95047.8 | AL97: 1324329.5 | AM97: 2087984.8 | AN97: Total | AO97: % full | AP97: 0.38119625 | AQ97: 0.47677983 | AR97: 0.029589947 | AS97: 0.45412051 | AT97: 0.31543211
B98: subscription vs Mapped | C98: 0.68594951 | D98: 0.6650757 | E98: 0.6709023 | F98: 1.3277945 | G98: 0.66881749 | H98: 1.1398698 | I98: 0.95598501 | J98: 0.28020268 | K98: 1.118851 | L98: 0.85171588 | M98: 1.3083882 | N98: 0.83668496 | O98: 1.3932282 | P98: 0.57265698 | Q98: 0.74243727 | R98: 0.71418581 | S98: 1.2631177 | T98: 1.0490852 | U98: 1.1238785 | V98: 0.61002578 | W98: 0.29758254 | X98: 0.16638339 | Y98: 0.081004217 | Z98: 0.15506402 | AA98: 0.075643269 | AB98: 0 | AC98: 0.71849979 | AD98: subscription vs Mapped | AE98: 0.68594951 | AF98: 0.6650757 | AG98: 1.1017025 | AH98: 0.55084569 | AI98: 0.8455103 | AJ98: 0.49131947 | AK98: 1.0771326 | AL98: 0.53020326 | AM98: 0.92739806
A99: 41773
A100: Site | C100: CGC | D100: CGC | E100: RDC | F100: RDC | G100: RDC | H100: RDC | I100: RDC | J100: RDC | K100: RDC | L100: RDC | M100: FDC | N100: FDC | O100: FDC | P100: FDC | Q100: FDC | R100: FDC | S100: FDC | T100: ZDC | U100: ZDC | V100: FDC | W100: RDC | X100: RDC | Y100: FDC | Z100: RDC | AA100: FDC | AB100: Total | AM100: Site | AO100: CGC | AP100: RDC | AR100: FDC
...

Sheet WeeklyReport
H1: Available | I1: Available | J1: Available | K1: Available | L1: Available | M1: Available | N1: Available | O1: Available | P1: Available | Q1: Available | R1: Available | S1: Available | T1: Available | U1: Available | V1: Available | W1: Available | X1: Available | Y1: Available
C2: Notes | D2: Approx number of weeks Available | E2: Total Storage(Available + Used Capacity) | F2: % Available | G2: Used Capacity | H2: =Table!A1 -> 41822 | I2: =Table!A15 -> 41815 | J2: =Table!A29 -> 41808 | K2: =Table!A43 -> 41801 | L2: =Table!A57 -> 41794 | M2: =Table!A71 -> 41787 | N2: =Table!A85 -> 41780 | O2: =Table!A99 -> 41773 | P2: =Table!A113 -> 41766 | Q2: =Table!A127 -> 41752 | R2: =Table!A141 -> 41745 | S2: =Table!A155 -> 41739 | T2: =Table!A169 -> 41732 | U2: =Table!A183 -> 41725 | V2: =Table!A197 -> 41709 | W2: =Table!A211 -> 41704 | X2: =Table!A225 -> 41703 | Y2: =Table!A239 -> 41702
A3: CGC | B3: 0623 | D3: =H3/AVERAGE(H4:Z4) -> 1001.47 | E3: =Table!C4 -> 250018.4 | F3: =H3/E3 -> 0.58672922 | G3: =Table!C5 -> 103325.3 | H3: =Table!C9 -> 146693.1 | I3: =Table!C23 -> 146954.1 | J3: =Table!C37 -> 147314.5 | K3: =Table!C51 -> 147314.5 | L3: =Table!C65 -> 147880.6 | M3: =Table!C79 -> 145722.5 | N3: =Table!C93 -> 145702.1 | O3: =Table!C107 -> 146034.8 | P3: =Table!C121 -> 146123.1 | Q3: =Table!C135 -> 145162.5 | R3: =Table!C149 -> 144485.2 | S3: =Table!C163 -> 144573 | T3: =Table!C177 -> 145463.9 | U3: =Table!C191 -> 145988 | V3: =Table!C205 -> 148723.7 | W3: =Table!C219 -> 149298.1 | X3: =Table!C233 -> 149332.6 | Y3: =Table!C247 -> 149329.7 | Z3: 149329.7
B4: Used per Week | H4: =I3-H3 -> 261 | I4: =J3-I3 -> 360.4 | J4: =K3-J3 -> 0 | K4: =L3-K3 -> 566.1 | L4: =M3-L3 -> -2158.1 | M4: =N3-M3 -> -20.4 | N4: =O3-N3 -> 332.7 | O4: =P3-O3 -> 88.3 | ... Y4: =Z3-Y3 -> 0
A5: CGC | B5: 0745 | D5: =H5/AVERAGE(H6:Z6) -> 1087.7966 | E5: =Table!D4 -> 150516.7 | F5: =H5/E5 -> 0.44289969 | G5: =Table!D5 -> 83852.9 | H5: =Table!D9 -> 66663.8 | I5: =Table!D23 -> 66722.2 | J5: =Table!D37 -> 66958.9 | K5: =Table!D51 -> 66958.9 | L5: =Table!D65 -> 66993.5 | M5: =Table!D79 -> 67079.7 | N5: =Table!D93 -> 66045.3 | O5: =Table!D107 -> 66072.9 | P5: =Table!D121 -> 66424.1 | Q5: =Table!D135 -> 66601.9 | R5: =Table!D149 -> 66632.2 | S5: =Table!D163 -> 66716.9 | T5: =Table!D177 -> 67174.2 | U5: =Table!D191 -> 67271.6 | V5: =Table!D205 -> 67406.8 | W5: =Table!D205 -> 67406.8 | X5: =Table!D233 -> 67766.9 | Y5: =Table!D247 -> 67766.9 | Z5: 67766.9
B6: Used per Week | H6: =I5-H5 -> 58.4 | I6: =J5-I5 -> 236.7 | J6: =K5-J5 -> 0 | K6: =L5-K5 -> 34.6 | L6: =M5-L5 -> 86.2 | M6: =N5-M5 -> -1034.4 | N6: =O5-N5 -> 27.6 | O6: =P5-O5 -> 351.2 | ... Y6: =Z5-Y5 -> 0
A7: RDC | B7: 0552 | D7: =H7/AVERAGE(H8:Z8) -> 2525.3874 | E7: =Table!E4 -> 150516.7 | F7: =H7/E7 -> 0.43818859 | G7: =Table!E5 -> 84562 | H7: =Table!E9 -> 65954.7 | I7: =Table!E23 -> 66012.9 | J7: =Table!E37 -> 66207.1 | K7: =Table!E51 -> 66249.8 | L7: =Table!E65 -> 66315.5 | M7: =Table!E79 -> 65738.8 | N7: =Table!E93 -> 64706.7 | O7: =Table!E107 -> 64733.3 | P7: =Table!E121 -> 65082.2 | Q7: =Table!E135 -> 65259.9 | R7: =Table!E149 -> 65290.1 | S7: =Table!E163 -> 65374.9 | T7: =Table!E177 -> 65826.4 | U7: =Table!E191 -> 65929.6 | V7: =Table!E205 -> 66064.6 | W7: =Table!E205 -> 66064.6 | X7: =Table!E205 -> 66064.6 | Y7: =Table!E247 -> 66424.8 | Z7: 66424.8 | AG7: =Table!AE5 -> Used GB | AH7: =Table!AF5 -> 103325.3 | AI7: =Table!AG5 -> 83852.9 | AJ7: =Table!AH5 -> 431762 | AK7: =Table!AI5 -> 502784.9 | AL7: =Table!AJ5 -> 544675 | AM7: =Table!AK5 -> 490097.1 | AN7: =Table!AL5 -> 26820.3
B8: Used per Week | H8: =I7-H7 -> 58.2 | I8: =J7-I7 -> 194.2 | J8: =K7-J7 -> 42.7 | K8: =L7-K7 -> 65.7 | L8: =M7-L7 -> -576.7 | M8: =N7-M7 -> -1032.1 | N8: =O7-N7 -> 26.6 | O8: =P7-O7 -> 348.9 | ... Y8: =Z7-Y7 -> 0
A9: RDC | B9: 0678 | D9: =H9/AVERAGE(H10:Z10) -> -89.571199 | E9: =Table!F4 -> 181998.8 | F9: =H9/E9 -> 0.24022246 | G9: =Table!F5 -> 138278.6 | H9: =Table!F9 -> 43720.2 | I9: =Table!F23 -> 43780.1 | J9: =Table!F37 -> 43874.2 | K9: =Table!F51 -> 34187.4 | L9: =Table!F65 -> 34383.4 | M9: =Table!F79 -> 34657.5 | N9: =Table!F93 -> 30556.8 | O9: =Table!F107 -> 30641 | P9: =Table!F121 -> 30858.2 | Q9: =Table!F135 -> 31213.9 | R9: =Table!F149 -> 31466.4 | S9: =Table!F163 -> 31600.7 | T9: =Table!F177 -> 31790.8 | U9: =Table!F191 -> 32038.4 | V9: =Table!F205 -> 34934.3 | W9: =Table!F205 -> 34934.3 | X9: =Table!F205 -> 34934.3 | Y9: =Table!F205 -> 34934.3 | Z9: 34934.3
B10: Used per Week | H10: =I9-H9 -> 59.9 | I10: =J9-I9 -> 94.1 | J10: =K9-J9 -> -9686.8 | K10: =L9-K9 -> 196 | L10: =M9-L9 -> 274.1 | M10: =N9-M9 -> -4100.7 | N10: =O9-N9 -> 84.2 | O10: =P9-O9 -> 217.2 | ... Y10: =Z9-Y9 -> 0
A11: RDC | B11: 3286 | D11: =H11/AVERAGE(H12:Z12) -> 623.17064 | E11: =Table!G4 -> 165765.7 | F11: =H11/E11 -> 0.30022556 | G11: =Table!G5 -> 115998.6 | H11: =Table!G9 -> 49767.1 | I11: =Table!G23 -> 50177.6 | J11: =Table!G37 -> 50280.4 | K11: =Table!G51 -> 51040.7 | L11: =Table!G65 -> 51372.8 | M11: =Table!G79 -> 51841.6 | N11: =Table!G93 -> 51947.3 | O11: =Table!G107 -> 52735.7 | P11: =Table!G121 -> 54543.3 | Q11: =Table!G135 -> 54291.5 | R11: =Table!G149 -> 53144.5 | S11: =Table!G163 -> 50523.1 | T11: =Table!G177 -> 50767 | U11: =Table!G191 -> 51205.1 | V11: =Table!G205 -> 51204.6 | W11: =Table!G205 -> 51204.6 | X11: =Table!G205 -> 51204.6 | Y11: =Table!G205 -> 51204.6 | Z11: 51204.6
B12: Used per Week | H12: =I11-H11 -> 410.5 | I12: =J11-I11 -> 102.8 | J12: =K11-J11 -> 760.3 | K12: =L11-K11 -> 332.1 | L12: =M11-L11 -> 468.8 | M12: =N11-M11 -> 105.7 | N12: =O11-N11 -> 788.4 | O12: =P11-O11 -> 1807.6 | ... Y12: =Z11-Y11 -> 0
A13: RDC | B13: 3073 | D13: =H13/AVERAGE(H14:Z14) -> 235.12372 | E13: =Table!H4 -> 389505 | F13: =H13/E13 -> 0.44452266 | G13: =Table!H5 -> 216361.2 | H13: =Table!H9 -> 173143.8 | I13: =Table!H23 -> 173842.4 | J13: =Table!H37 -> 174661.6 | K13: =Table!H51 -> 175251.7 | L13: =Table!H65 -> 175672.5 | M13: =Table!H79 -> 176340.9 | N13: =Table!H93 -> 177412.2 | O13: =Table!H107 -> 178584.8 | P13: =Table!H121 -> 179093.1 | Q13: =Table!H135 -> 180376.6 | R13: =Table!H149 -> 181250.5 | S13: =Table!H163 -> 182902.2 | T13: =Table!H177 -> 183386.7 | U13: =Table!H191 -> 183935 | V13: =Table!H205 -> 186398.9 | W13: =Table!H205 -> 186398.9 | X13: =Table!H205 -> 186398.9 | Y13: =Table!H205 -> 186398.9 | Z13: 186398.9
B14: Used per Week | H14: =I13-H13 -> 698.6 | I14: =J13-I13 -> 819.2 | J14: =K13-J13 -> 590.1 | K14: =L13-K13 -> 420.8 | L14: =M13-L13 -> 668.4 | M14: =N13-M13 -> 1071.3 | N14: =O13-N13 -> 1172.6 | O14: =P13-O13 -> 508.3 | ... Y14: =Z13-Y13 -> 0
A15: RDC | B15: 2230 | D15: =H15/AVERAGE(H16:Z16) -> 225.90415 | E15: =Table!I4 -> 171975.5 | F15: =H15/E15 -> 0.28824396 | G15: =Table!I5 -> 122404.6 | H15: =Table!I9 -> 49570.9 | I15: =Table!I23 -> 49765.4 | J15: =Table!I37 -> 49966.4 | K15: =Table!I51 -> 50174.9 | L15: =Table!I65 -> 51073.3 | M15: =Table!I79 -> 48514.6 | N15: =Table!I93 -> 46066.1 | O15: =Table!I107 -> 46780.9 | P15: =Table!I121 -> 46963.3 | Q15: =Table!I135 -> 47158.3 | R15: =Table!I149 -> 49485.1 | S15: =Table!I163 -> 50603.6 | T15: =Table!I177 -> 51093.7 | U15: =Table!I191 -> 51993.1 | V15: =Table!I205 -> 53520.7 | W15: =Table!I205 -> 53520.7 | X15: =Table!I205 -> 53520.7 | Y15: =Table!I205 -> 53520.7 | Z15: 53520.7
B16: Used per Week | H16: =I15-H15 -> 194.5 | I16: =J15-I15 -> 201 | J16: =K15-J15 -> 208.5 | K16: =L15-K15 -> 898.4 | L16: =M15-L15 -> -2558.7 | M16: =N15-M15 -> -2448.5 | N16: =O15-N15 -> 714.8 | O16: =P15-O15 -> 182.4 | ... Y16: =Z15-Y15 -> 0
A17: RDC | B17: 3696 | D17: =H17/AVERAGE(H18:Z18) -> 218.13809 | E17: =Table!J4 -> 166078 | F17: =H17/E17 -> 0.69669974 | G17: =Table!J5 -> 50371.5 | H17: =Table!J9 -> 115706.5 | I17: =Table!J23 -> 115831.1 | J17: =Table!J37 -> 116008.3 | K17: =Table!J51 -> 116071 | L17: =Table!J65 -> 116746.6 | M17: =Table!J79 -> 116889.3 | N17: =Table!J93 -> 117070.1 | O17: =Table!J107 -> 117462 | P17: =Table!J121 -> 118434.6 | Q17: =Table!J135 -> 120343.3 | R17: =Table!J149 -> 121385.8 | S17: =Table!J163 -> 121456.2 | T17: =Table!J177 -> 122795.8 | U17: =Table!J191 -> 122961.6 | V17: =Table!J205 -> 125254.2 | W17: =Table!J205 -> 125254.2 | X17: =Table!J205 -> 125254.2 | Y17: =Table!J205 -> 125254.2 | Z17: 125254.2
B18: Used per Week | H18: =I17-H17 -> 124.6 | I18: =J17-I17 -> 177.2 | J18: =K17-J17 -> 62.7 | K18: =L17-K17 -> 675.6 | L18: =M17-L17 -> 142.7 | M18: =N17-M17 -> 180.8 | N18: =O17-N17 -> 391.9 | O18: =P17-O17 -> 972.6 | ... Y18: =Z17-Y17 -> 0
A19: RDC | B19: 4330 | D19: =H19/AVERAGE(H20:Z20) -> 37.974085 | E19: =Table!K4 -> 124019.2 | F19: =H19/E19 -> 0.32059149 | G19: =Table!K5 -> 84259.7 | H19: =Table!K9 -> 39759.5 | I19: =Table!K23 -> 40253.3 | J19: =Table!K37 -> 40676.8 | K19: =Table!K51 -> 41353.2 | L19: =Table!K65 -> 41469.3 | M19: =Table!K79 -> 41680.9 | N19: =Table!K93 -> 41911.3 | O19: =Table!K107 -> 42155.9 | P19: =Table!K121 -> 42408.7 | Q19: =Table!K135 -> 46258 | R19: =Table!K149 -> 46914.8 | S19: =Table!K163 -> 47212.3 | T19: =Table!K177 -> 47917.5 | U19: =Table!K191 -> 48446.2 | V19: =Table!K205 -> 58605.8 | W19: =Table!K205 -> 58605.8 | X19: =Table!K205 -> 58605.8 | Y19: =Table!K205 -> 58605.8 | Z19: 58605.8
B20: Used per Week | H20: =I19-H19 -> 493.8 | I20: =J19-I19 -> 423.5 | J20: =K19-J19 -> 676.4 | K20: =L19-K19 -> 116.1 | L20: =M19-L19 -> 211.6 | M20: =N19-M19 -> 230.4 | N20: =O19-N19 -> 244.6 | O20: =P19-O19 -> 252.8 | ... Y20: =Z19-Y19 -> 0
A21: RDC | B21: 0347 | D21: =H21/AVERAGE(H22:Z22) -> 51.519275 | E21: =Table!L4 -> 224071.2 | F21: =H21/E21 -> 0.65581387 | G21: =Table!L5 -> 77122.2 | H21: =Table!L9 -> 146949 | I21: =Table!L23 -> 148286.7 | J21: =Table!L37 -> 151604.9 | K21: =Table!L51 -> 152563.5 | L21: =Table!L65 -> 157165.1 | M21: =Table!L79 -> 165178.7 | N21: =Table!L93 -> 165779.5 | O21: =Table!L107 -> 169358 | P21: =Table!L121 -> 171892.5 | Q21: =Table!L135 -> 179030.8 | R21: =Table!L149 -> 181874.4 | S21: =Table!L163 -> 188864.1 | T21: =Table!L177 -> 192083.9 | U21: =Table!L191 -> 192497.3 | V21: =Table!L205 -> 198290.6 | W21: =Table!L205 -> 198290.6 | X21: =Table!L205 -> 198290.6 | Y21: =Table!L205 -> 198290.6 | Z21: 198290.6
B22: Used per Week | H22: =I21-H21 -> 1337.7 | I22: =J21-I21 -> 3318.2 | J22: =K21-J21 -> 958.6 | K22: =L21-K21 -> 4601.6 | L22: =M21-L21 -> 8013.6 | M22: =N21-M21 -> 600.8 | N22: =O21-N21 -> 3578.5 | O22: =P21-O21 -> 2534.5 | ... Y22: =Z21-Y21 -> 0
A23: FDC | B23: 0879 | D23: =H23/AVERAGE(H24:Z24) -> -49.905373 | E23: =Table!M4 -> 193029.1 | F23: =H23/E23 -> 0.29677442 | G23: =Table!M5 -> 135743 | H23: =Table!M9 -> 57286.1 | I23: =Table!M23 -> 57425.6 | J23: =Table!M37 -> 57778.3 | K23: =Table!M51 -> 45751.8 | L23: =Table!M65 -> 46007.7 | M23: =Table!M79 -> 39037.6 | N23: =Table!M93 -> 33103.4 | O23: =Table!M107 -> 33202.8 | P23: =Table!M121 -> 33400.1 | Q23: =Table!M135 -> 33780.8 | R23: =Table!M149 -> 34240.8 | S23: =Table!M163 -> 34533.5 | T23: =Table!M177 -> 34656.4 | U23: =Table!M191 -> 34790.6 | V23: =Table!M205 -> 36624 | W23: =Table!M205 -> 36624 | X23: =Table!M205 -> 36624 | Y23: =Table!M205 -> 36624 | Z23: 36624
B24: Used per Week | H24: =I23-H23 -> 139.5 | I24: =J23-I23 -> 352.7 | J24: =K23-J23 -> -12026.5 | K24: =L23-K23 -> 255.9 | L24: =M23-L23 -> -6970.1 | M24: =N23-M23 -> -5934.2 | N24: =O23-N23 -> 99.4 | O24: =P23-O23 -> 197.3 | ... Y24: =Z23-Y23 -> 0
A25: FDC | B25: 3004 | D25: =H25/AVERAGE(H26:Z26) -> 397.51302 | E25: =Table!N4 -> 438219.9 | F25: =H25/E25 -> 0.51572144 | G25: =Table!N5 -> 212220.5 | H25: =Table!N9 -> 225999.4 | I25: =Table!N23 -> 226318.3 | J25: =Table!N37 -> 226784.4 | K25: =Table!N51 -> 227141.4 | L25: =Table!N65 -> 227517.1 | M25: =Table!N79 -> 228113.1 | N25: =Table!N93 -> 228951.7 | O25: =Table!N107 -> 229545.5 | P25: =Table!N121 -> 230049.5 | Q25: =Table!N135 -> 231265.8 | R25: =Table!N149 -> 231893.9 | S25: =Table!N163 -> 233340.1 | T25: =Table!N177 -> 234481.3 | U25: =Table!N191 -> 234767 | V25: =Table!N205 -> 236233 | W25: =Table!N205 -> 236233 | X25: =Table!N205 -> 236233 | Y25: =Table!N205 -> 236233 | Z25: 236233
B26: Used per Week | H26: =I25-H25 -> 318.9 | I26: =J25-I25 -> 466.1 | J26: =K25-J25 -> 357 | K26: =L25-K25 -> 375.7 | L26: =M25-L25 -> 596 | M26: =N25-M25 -> 838.6 | N26: =O25-N25 -> 593.8 | O26: =P25-O25 -> 504 | ... Y26: =Z25-Y25 -> 0
A27: FDC | B27: 2804 | D27: =H27/AVERAGE(H28:Z28) -> -720.46757 | E27: =Table!O4 -> 83038.8 | F27: =H27/E27 -> 0.2950416 | G27: =Table!O5 -> 58538.9 | H27: =Table!O9 -> 24499.9 | I27: =Table!O23 -> 24700.6 | J27: =Table!O37 -> 24747.5 | K27: =Table!O51 -> 25123.9 | L27: =Table!O65 -> 25281.2 | M27: =Table!O79 -> 25483.2 | N27: =Table!O93 -> 25673.9 | O27: =Table!O107 -> 26055 | P27: =Table!O121 -> 26940.8 | Q27: =Table!O135 -> 26937 | R27: =Table!O149 -> 25159.4 | S27: =Table!O163 -> 23850.1 | T27: =Table!O177 -> 23465.6 | U27: =Table!O191 -> 23679.8 | V27: =Table!O205 -> 23887.8 | W27: =Table!O205 -> 23887.8 | X27: =Table!O205 -> 23887.8 | Y27: =Table!O205 -> 23887.8 | Z27: 23887.8
B28: Used per Week | H28: =I27-H27 -> 200.7 | I28: =J27-I27 -> 46.9 | J28: =K27-J27 -> 376.4 | K28: =L27-K27 -> 157.3 | L28: =M27-L27 -> 202 | M28: =N27-M27 -> 190.7 | N28: =O27-N27 -> 381.1 | O28: =P27-O27 -> 885.8 | ... Y28: =Z27-Y27 -> 0
A29: FDC | B29: 2231 | D29: =H29/AVERAGE(H30:Z30) -> 110.18636 | E29: =Table!P4 -> 276130.4 | F29: =H29/E29 -> 0.1798107 | G29: =Table!P5 -> 226479.2 | H29: =Table!P9 -> 49651.2 | I29: =Table!P23 -> 49973 | J29: =Table!P37 -> 50495.4 | K29: =Table!P51 -> 50903.2 | L29: =Table!P65 -> 52659 | M29: =Table!P79 -> 47523.5 | N29: =Table!P93 -> 42619.1 | O29: =Table!P107 -> 43883.9 | P29: =Table!P121 -> 44227 | Q29: =Table!P135 -> 46025.4 | R29: =Table!P149 -> 50341.2 | S29: =Table!P163 -> 52545.2 | T29: =Table!P177 -> 53245.7 | U29: =Table!P191 -> 55029.5 | V29: =Table!P205 -> 57762.2 | W29: =Table!P205 -> 57762.2 | X29: =Table!P205 -> 57762.2 | Y29: =Table!P205 -> 57762.2 | Z29: 57762.2
B30: Used per Week | H30: =I29-H29 -> 321.8 | I30: =J29-I29 -> 522.4 | J30: =K29-J29 -> 407.8 | K30: =L29-K29 -> 1755.8 | L30: =M29-L29 -> -5135.5 | M30: =N29-M29 -> -4904.4 | N30: =O29-N29 -> 1264.8 | O30: =P29-O29 -> 343.1 | ... Y30: =Z29-Y29 -> 0
A31: FDC | B31: 3875 | D31: =H31/AVERAGE(H32:Z32) -> 210.3054 | E31: =Table!Q4 -> 83038.8 | F31: =H31/E31 -> 0.6863671 | G31: =Table!Q5 -> 26043.7 | H31: =Table!Q9 -> 56995.1 | I31: =Table!Q23 -> 57057.5 | J31: =Table!Q37 -> 57146.6 | K31: =Table!Q51 -> 57178 | L31: =Table!Q65 -> 57515.8 | M31: =Table!Q79 -> 57587.2 | N31: =Table!Q93 -> 57678.3 | O31: =Table!Q107 -> 57875.6 | P31: =Table!Q121 -> 58398.9 | Q31: =Table!Q135 -> 59353.2 | R31: =Table!Q149 -> 59874.4 | S31: =Table!Q163 -> 59919.7 | T31: =Table!Q177 -> 60590 | U31: =Table!Q191 -> 60722.6 | V31: =Table!Q205 -> 61873.3 | W31: =Table!Q205 -> 61873.3 | X31: =Table!Q205 -> 61873.3 | Y31: =Table!Q205 -> 61873.3 | Z31: 61873.3
B32: Used per Week | H32: =I31-H31 -> 62.4 | I32: =J31-I31 -> 89.1 | J32: =K31-J31 -> 31.4 | K32: =L31-K31 -> 337.8 | L32: =M31-L31 -> 71.4 | M32: =N31-M31 -> 91.1 | N32: =O31-N31 -> 197.3 | O32: =P31-O31 -> 523.3 | ... Y32: =Z31-Y31 -> 0
A33: FDC | B33: 4652 | D33: =H33/AVERAGE(H34:Z34) -> 40.76494 | E33: =Table!R4 -> 191618.2 | F33: =H33/E33 -> 0.30460885 | G33: =Table!R5 -> 133249.6 | H33: =Table!R9 -> 58368.6 | I33: =Table!R23 -> 59137.5 | J33: =Table!R37 -> 59900.5 | K33: =Table!R51 -> 65681.2 | L33: =Table!R65 -> 65877.3 | M33: =Table!R79 -> 62304.4 | N33: =Table!R93 -> 62747.1 | O33: =Table!R107 -> 65607.8 | P33: =Table!R121 -> 65894.9 | Q33: =Table!R135 -> 72302 | R33: =Table!R149 -> 73514.6 | S33: =Table!R163 -> 73619.1 | T33: =Table!R177 -> 75805.2 | U33: =Table!R191 -> 76091.9 | V33: =Table!R205 -> 84141.6 | W33: =Table!R205 -> 84141.6 | X33: =Table!R205 -> 84141.6 | Y33: =Table!R205 -> 84141.6 | Z33: 84141.6
B34: Used per Week | H34: =I33-H33 -> 768.9 | I34: =J33-I33 -> 763 | J34: =K33-J33 -> 5780.7 | K34: =L33-K33 -> 196.1 | L34: =M33-L33 -> -3572.9 | M34: =N33-M33 -> 442.7 | N34: =O33-N33 -> 2860.7 | O34: =P33-O33 -> 287.1 | ... Y34: =Z33-Y33 -> 0
A35: FDC | B35: 0349 | D35: =H35/AVERAGE(H36:Z36) -> 63.816817 | E35: =Table!S4 -> 257886.5 | F35: =H35/E35 -> 0.32796676 | G35: =Table!S5 -> 173308.3 | H35: =Table!S9 -> 84578.2 | I35: =Table!S23 -> 85951.6 | J35: =Table!S37 -> 86425.1 | K35: =Table!S51 -> 90199.2 | L35: =Table!S65 -> 91734.4 | M35: =Table!S79 -> 94531 | N35: =Table!S93 -> 98935.7 | O35: =Table!S107 -> 71374.8 | P35: =Table!S121 -> 73936.1 | Q35: =Table!S135 -> 79342.9 | R35: =Table!S149 -> 81272.5 | S35: =Table!S163 -> 84041.8 | T35: =Table!S177 -> 98797.5 | U35: =Table!S191 -> 104038 | V35: =Table!S205 -> 108434.1 | W35: =Table!S205 -> 108434.1 | X35: =Table!S205 -> 108434.1 | Y35: =Table!S205 -> 108434.1 | Z35: 108434.1
B36: Used per Week | H36: =I35-H35 -> 1373.4 | I36: =J35-I35 -> 473.5 | J36: =K35-J35 -> 3774.1 | K36: =L35-K35 -> 1535.2 | L36: =M35-L35 -> 2796.6 | M36: =N35-M35 -> 4404.7 | N36: =O35-N35 -> -27560.9 | O36: =P35-O35 -> 2561.3 | ... Y36: =Z35-Y35 -> 0
A37: ZDC | B37: 2262 | D37: =H37/AVERAGE(H38:Z38) -> 277.87932 | E37: =Table!T4 -> 55151 | F37: =H37/E37 -> 0.69912241 | G37: =Table!T5 -> 16593.7 | H37: =Table!T9 -> 38557.3 | I37: =Table!T23 -> 38557.3 | J37: =Table!T37 -> 38557.3 | K37: =Table!T51 -> 38557.3 | L37: =Table!T65 -> 38557.3 | M37: =Table!T79 -> 38557.3 | N37: =Table!T93 -> 38557.3 | O37: =Table!T107 -> 39160.6 | P37: =Table!T121 -> 39160.6 | Q37: =Table!T135 -> 39160.6 | R37: =Table!T149 -> 39160.6 | S37: =Table!T163 -> 41054.9 | T37: =Table!T177 -> 41054.9 | U37: =Table!T191 -> 41054.9 | V37: =Table!T205 -> 41054.9 | W37: =Table!T205 -> 41054.9 | X37: =Table!T205 -> 41054.9 | Y37: =Table!T205 -> 41054.9 | Z37: 41054.9
B38: Used per Week | H38: =I37-H37 -> 0 | I38: =J37-I37 -> 0 | J38: =K37-J37 -> 0 | K38: =L37-K37 -> 0 | L38: =M37-L37 -> 0 | M38: =N37-M37 -> 0 | N38: =O37-N37 -> 603.3 | O38: =P37-O37 -> 0 | ... Y38: =Z37-Y37 -> 0
A39: ZDC | B39: 0377 | D39: =H39/AVERAGE(H40:Z40) -> 141.56727 | E39: =Table!U4 -> 33090.5 | F39: =H39/E39 -> 0.69095057 | G39: =Table!U5 -> 10226.6 | H39: =Table!U9 -> 22863.9 | I39: =Table!U23 -> 22863.9 | J39: =Table!U37 -> 22863.9 | K39: =Table!U51 -> 22863.9 | L39: =Table!U65 -> 22863.9 | M39: =Table!U79 -> 22863.9 | N39: =Table!U93 -> 22863.9 | O39: =Table!U107 -> 23634.1 | P39: =Table!U121 -> 23634.6 | Q39: =Table!U135 -> 23634.1 | R39: =Table!U149 -> 23634.1 | S39: =Table!U163 -> 25771 | T39: =Table!U177 -> 25771 | U39: =Table!U191 -> 25771 | V39: =Table!U205 -> 25771 | W39: =Table!U205 -> 25771 | X39: =Table!U205 -> 25771 | Y39: =Table!U205 -> 25771 | Z39: 25771
B40: Used per Week | H40: =I39-H39 -> 0 | I40: =J39-I39 -> 0 | J40: =K39-J39 -> 0 | K40: =L39-K39 -> 0 | L40: =M39-L39 -> 0 | M40: =N39-M39 -> 0 | N40: =O39-N39 -> 770.2 | O40: =P39-O39 -> 0.5 | ... Y40: =Z39-Y39 -> 0
A41: FDC | B41: 0667 | D41: =H41/AVERAGE(H42:Z42) -> 134.93387 | E41: =Table!V4 -> 102196.5 | F41: =H41/E41 -> 0.85458113 | G41: =Table!V5 -> 14861.3 | H41: =Table!V9 -> 87335.2 | I41: =Table!V23 -> 87399.2 | J41: =Table!V37 -> 87450.5 | K41: =Table!V51 -> 87765.4 | L41: =Table!V65 -> 89683.1 | M41: =Table!V79 -> 89748.4 | N41: =Table!V93 -> 90074.3 | O41: =Table!V107 -> 90940 | P41: =Table!V121 -> 92679.6 | Q41: =Table!V135 -> 94472.3 | R41: =Table!V149 -> 95024.8 | S41: =Table!V163 -> 95056.2 | T41: =Table!V177 -> 95060.5 | U41: =Table!V191 -> 95917.8 | V41: =Table!V205 -> 98985.6 | W41: =Table!V205 -> 98985.6 | X41: =Table!V205 -> 98985.6 | Y41: =Table!V205 -> 98985.6 | Z41: 98985.6
B42: Used per Week | H42: =I41-H41 -> 64 | I42: =J41-I41 -> 51.3 | J42: =K41-J41 -> 314.9 | K42: =L41-K41 -> 1917.7 | L42: =M41-L41 -> 65.3 | M42: =N41-M41 -> 325.9 | N42: =O41-N41 -> 865.7 | O42: =P41-O41 -> 1739.6 | ... Y42: =Z41-Y41 -> 0
A43: RDC | B43: 0671 | D43: =H43/AVERAGE(H44:Z44) -> 138.87718 | E43: =Table!W4 -> 209496.5 | F43: =H43/E43 -> 0.85812508 | G43: =Table!W5 -> 29722.3 | H43: =Table!W9 -> 179774.2 | I43: =Table!W23 -> 179902 | J43: =Table!W37 -> 180004.6 | K43: =Table!W51 -> 180634.3 | L43: =Table!W65 -> 184469.8 | M43: =Table!W79 -> 184600.3 | N43: =Table!W93 -> 185251.4 | O43: =Table!W107 -> 186983.7 | P43: =Table!W121 -> 190462.4 | Q43: =Table!W135 -> 194048.4 | R43: =Table!W149 -> 195153.2 | S43: =Table!W163 -> 195216 | T43: =Table!W177 -> 195224.6 | U43: =Table!W191 -> 196939.2 | V43: =Table!W205 -> 203074.9 | W43: =Table!W205 -> 203074.9 | X43: =Table!W205 -> 203074.9 | Y43: =Table!W205 -> 203074.9 | Z43: 203074.9
B44: Used per Week | H44: =I43-H43 -> 127.8 | I44: =J43-I43 -> 102.6 | J44: =K43-J43 -> 629.7 | K44: =L43-K43 -> 3835.5 | L44: =M43-L43 -> 130.5 | M44: =N43-M43 -> 651.1 | N44: =O43-N43 -> 1732.3 | O44: =P43-O43 -> 3478.7 | ... Y44: =Z43-Y43 -> 0
A45: RDC | B45: 0689 | D45: =H45/AVERAGE(H46:Z46) -> 100.98326 | E45: =Table!X4 -> 102196.5 | F45: =H45/E45 -> 0.84869247 | G45: =Table!X5 -> 15463.1 | H45: =Table!X9 -> 86733.4 | I45: =Table!X23 -> 86743.4 | J45: =Table!X37 -> 87070.6 | K45: =Table!X51 -> 94159.2 | L45: =Table!X65 -> 95340.3 | M45: =Table!X79 -> 95590.4 | N45: =Table!X93 -> 98423.9 | O45: =Table!X107 -> 100894.1 | P45: =Table!X121 -> 100910.4 | Q45: =Table!X135 -> 100917.1 | R45: =Table!X149 -> 102193.4 | S45: 102193.4
B46: Used per Week | H46: =I45-H45 -> 10 | I46: =J45-I45 -> 327.2 | J46: =K45-J45 -> 7088.6 | K46: =L45-K45 -> 1181.1 | L46: =M45-L45 -> 250.1 | M46: =N45-M45 -> 2833.5 | N46: =O45-N45 -> 2470.2 | O46: =P45-O45 -> 16.3 | ... R46: =S45-R45 -> 0 | S46: 0 | T46: =U45-T45 -> 0 | U46: =V45-U45 -> 0 | V46: =W45-V45 -> 0 | W46: =X45-W45 -> 0 | X46: =Y45-X45 -> 0 | Y46: =Z45-Y45 -> 0
A47: FDC | B47: 0710 | D47: =H47/AVERAGE(H48:Z48) -> 103.98435 | E47: =Table!Y4 -> 209496.5 | F47: =H47/E47 -> 0.85241567 | G47: =Table!Y5 -> 30918.4 | H47: =Table!Y9 -> 178578.1 | I47: =Table!Y23 -> 178599.6 | J47: =Table!Y37 -> 179260 | K47: =Table!Y51 -> 193437.3 | L47: =Table!Y65 -> 195799.9 | M47: =Table!Y79 -> 196303.5 | N47: =Table!Y93 -> 201961 | O47: =Table!Y107 -> 206902.5 | P47: =Table!Y121 -> 206934.6 | Q47: =Table!Y135 -> 206948.4 | R47: =Table!Y149 -> 209490.5
B48: Used per Week | H48: =I47-H47 -> 21.5 | I48: =J47-I47 -> 660.4 | J48: =K47-J47 -> 14177.3 | K48: =L47-K47 -> 2362.6 | L48: =M47-L47 -> 503.6 | M48: =N47-M47 -> 5657.5 | N48: =O47-N47 -> 4941.5 | O48: =P47-O47 -> 32.1 | ... Q48: =R47-Q47 -> 2542.1 | R48: 0 | S48: =T47-S47 -> 0 | T48: =U47-T47 -> 0 | U48: =V47-U47 -> 0 | V48: =W47-V47 -> 0 | W48: =X47-W47 -> 0 | X48: =Y47-X47 -> 0 | Y48: =Z47-Y47 -> 0
A49: RDC | B49: 0706 | D49: =H49/AVERAGE(H50:Z50) -> 3678962.4 | E49: =Table!Z4 -> 102196.5 | F49: =H49/E49 -> 0.99996967 | G49: =Table!Z5 -> 3.1 | H49: =Table!Z9 -> 102193.4 | I49: =Table!Z23 -> 102193.4 | J49: =Table!Z37 -> 102193.4 | K49: =Table!Z51 -> 102193.4 | L49: =Table!Z65 -> 102193.4 | M49: =Table!Z79 -> 102193.4 | N49: =Table!Z93 -> 102193.4 | O49: =Table!Z107 -> 102193.4 | P49: =Table!Z121 -> 102193.9
B50: Used per Week | H50: =I49-H49 -> 0 | I50: =J49-I49 -> 0 | J50: =K49-J49 -> 0 | K50: =L49-K49 -> 0 | L50: =M49-L49 -> 0 | M50: =N49-M49 -> 0 | N50: =O49-N49 -> 0 | O50: =P49-O49 -> 0.5 | P50: 0 | Q50: =R49-Q49 -> 0 | R50: =S49-R49 -> 0 | S50: =T49-S49 -> 0 | T50: =U49-T49 -> 0 | U50: =V49-U49 -> 0 | V50: =W49-V49 -> 0 | W50: =X49-W49 -> 0 | X50: =Y49-X49 -> 0 | Y50: =Z49-Y49 -> 0
A51: FDC | B51: 0712 | D51: =H51/AVERAGE(H52:Z52) -> 7541658 | E51: =Table!AA4 -> 209496.5 | F51: =H51/E51 -> 0.99997136 | G51: =Table!AA5 -> 6 | H51: =Table!AA9 -> 209490.5 | I51: =Table!AA23 -> 209490.5 | J51: =Table!AA37 -> 209490.5 | K51: =Table!AA51 -> 209490.5 | L51: =Table!AA65 -> 209490.5 | M51: =Table!AA79 -> 209490.5 | N51: =Table!AA93 -> 209490.5 | O51: =Table!AA107 -> 209490.5 | P51: =Table!AA121 -> 209491
B52: Used per Week | H52: =I51-H51 -> 0 | I52: =J51-I51 -> 0 | J52: =K51-J51 -> 0 | K52: =L51-K51 -> 0 | L52: =M51-L51 -> 0 | M52: =N51-M51 -> 0 | N52: =O51-N51 -> 0 | O52: =P51-O51 -> 0.5 | P52: 0 | Q52: =R51-Q51 -> 0 | R52: =S51-R51 -> 0 | S52: =T51-S51 -> 0 | T52: =U51-T51 -> 0 | U52: =V51-U51 -> 0 | V52: =W51-V51 -> 0 | W52: =X51-W51 -> 0 | X52: =Y51-X51 -> 0 | Y52: =Z51-Y51 -> 0
A53: FDC | B53: 0709 | D53: =H53/AVERAGE(H54:Z54) -> 304.18494 | E53: =Table!AB4 -> 328695.2 | F53: =H53/E53 -> 0.9288146 | G53: =Table!AB5 -> 23398.3 | H53: =Table!AB9 -> 305296.9 | I53: =Table!AB23 -> 305321.5 | J53: =Table!AB37 -> 244293.4 | K53: =Table!AB51 -> 210423.4 | L53: =Table!AB65 -> 213753.4 | M53: =Table!AB79 -> 222447.8 | N53: =Table!AB93 -> 228464.6
B54: Used per Week | H54: =I53-H53 -> 24.6 | I54: 0 | J54: 0 | K54: =L53-K53 -> 3330 | L54: =M53-L53 -> 8694.4 | M54: =N53-M53 -> 6016.8 | N54: 0 | O54: =P53-O53 -> 0 | P54: =Q53-P53 -> 0 | Q54: =R53-Q53 -> 0 | R54: =S53-R53 -> 0 | S54: =T53-S53 -> 0 | T54: =U53-T53 -> 0 | U54: =V53-U53 -> 0 | V54: =W53-V53 -> 0 | ... Y54: =Z53-Y53 -> 0
A55: FDC | B55: 0713 | D55: =H55/AVERAGE(H56:Z56) -> #DIV/0! | E55: =Table!AC4 -> 190871.2 | F55: =H55/E55 -> 0.99997433 | G55: =Table!AC5 -> 4.9 | H55: =Table!AC9 -> 190866.3 | I55: =Table!AC23 -> 190866.3 | J55: =Table!AC37 -> 190866.3
B56: Used per Week | H56: =I55-H55 -> 0 | I56: =J55-I55 -> 0 | J56: 0 | K56: =L55-K55 -> 0 | L56: =M55-L55 -> 0 | M56: =N55-M55 -> 0 | N56: =O55-N55 -> 0 | O56: =P55-O55 -> 0 | P56: =Q55-P55 -> 0 | Q56: =R55-Q55 -> 0 | R56: =S55-R55 -> 0 | ... Y56: =Z55-Y55 -> 0
E58: =SUM(E3:E55) -> 5040313.8 | G58: =SUM(G3:G55) -> 2183317.5 | H58: =SUM(H3:H55) -> 2864127 | I58: =SUM(I3:I55) -> 2873909.5 | J58: =SUM(J3:J55) -> 2827405.3 | K58: =SUM(K3:K55) -> 2627816.7 | L58: =SUM(L3:L55) -> 2630020 | M58: =SUM(M3:M55) -> 2634186.9 | N58: =SUM(N3:N55) -> 2630768.2 | ... Y58: =SUM(Y3:Y55) -> 1969572.9

Sheet used space Charts
B1: 0623 | C1: 0745 | D1: 0552 | E1: 0678 | F1: 3286 | G1: 3073 | H1: 2230 | I1: 3696 | J1: 4330 | K1: 0347 | L1: 0879 | M1: 3004 | N1: 2804 | O1: 2231 | P1: 3875 | Q1: 4652 | R1: 0349 | S1: 2262 | T1: 0377 | U1: 0667 | V1: 0671 | W1: 0689 | X1: 0710 | Y1: 0706 | Z1: 0712 | AA1: 0709 | AB1: 0713
B2: CGC T4 V-MAX 0623 | C2: CGC T3 V-MAX 0745 | D2: RDC T3 V-MAX 0552 | E2: RDC T4 V-MAX 0678 | F2: RDC T3 V-MAX 3286 | G2: RDC T4 V-MAX 3073 | H2: RDC T3 V-MAX 2230 | I2: RDC T3 V-MAX 3696 | J2: RDC T3 V-MAX 4330 | K2: RDC T4 V-MAX 0347 | L2: FDC T4 V-MAX 0879 | M2: FDC T4 V-MAX 3004 | N2: FDC T3 V-MAX 2804 | O2: FDC T3 V-MAX 2231 | P2: FDC T3 V-MAX 3875 | Q2: FDC T3 V-MAX 4652 | R2: FDC T4 V-MAX 0349 | S2: ZDC T4 VMAX 2262 | T2: ZDC T4 VMAX 0377 | U2: FDC T3 VMAX 667 | V2: RDC T3 VMAX 0671 | W2: RDC T3 V-Max 0689 | X2: FDC T3 V-Max 0710 | Y2: RDC T3 V-Max 0706 | Z2: FDC T3 V-Max 0712 | AA2: FDC T4 V-Max 0709 | AB2: FDC T4 V-Max 0713 | AC2: Row | AD2: % full | AE2: =MATCH(AD2,Table!$B:$B,0) -> 6 | AG2: Row | AH2: VMAX | AI2: =MATCH(AH2,Table!$A:$A,0) -> 3 | AJ2: Max Column
A3: 41822 | B3: =IF(ISERROR(MATCH(B$1,INDIRECT("Table!A"&$AG3):INDIRECT("Table!" & $AJ$91 & $AG3),0)),"",INDIRECT(CONCATENATE("Table!",ADDRESS($AC3,MATCH(B$1,INDIRECT("Table!A" & $AG3):INDIRECT("Table!" & $AJ$90 & $AG3),0))))) -> 0.41327078 | C3: =IF(ISERROR(MATCH(C$1,INDIRECT("Table!A"&$AG3):INDIRECT("Table!" & $AJ$90 & $AG3),0)),"",INDIRECT(CONCATENATE("Table!",ADDRESS($AC3,MATCH(C$1,INDIRECT("Table!A" & $AG3):INDIRECT("Table!" & $AJ$90 & $AG3),0))))) -> 0.55710031 | D3: =IF(ISERROR(MATCH(D$1,INDIRECT("Table!A"&$AG3):INDIRECT("Table!" & $AJ$90 & $AG3),0)),"",INDIRECT(CONCATENATE("Table!",ADDRESS($AC3,MATCH(D$1,INDIRECT("Table!A" & $AG3):INDIRECT("Table!" & $AJ$90 & $AG3),0))))) -> 0.56181141 | E3: =IF(ISERROR(MATCH(E$1,INDIRECT("Table!A"&$AG3):INDIRECT("Table!" & $AJ$90 & $AG3),0)),"",INDIRECT(CONCATENATE("Table!",ADDRESS($AC3,MATCH(E$1,INDIRECT("Table!A" & $AG3):INDIRECT("Table!" & $AJ$90 & $AG3),0))))) -> 0.75977754 | F3: =IF(ISERROR(MATCH(F$1,INDIRECT("Table!A"&$AG3):INDIRECT("Table!" & $AJ$90 & $AG3),0)),"",INDIRECT(CONCATENATE("Table!",ADDRESS($AC3,MATCH(F$1,INDIRECT("Table!A" & $AG3):INDIRECT("Table!" & $AJ$90 & $AG3),0))))) -> 0.69977444 | G3: =IF(ISERROR(MATCH(G$1,INDIRECT("Table!A"&$AG3):INDIRECT("Table!" & $AJ$90 & $AG3),0)),"",INDIRECT(CONCATENATE("Table!",ADDRESS($AC3,MATCH(G$1,INDIRECT("Table!A" & $AG3):INDIRECT("Table!" & $AJ$90 & $AG3),0))))) -> 0.55547734 | H3: =IF(ISERROR(MATCH(H$1,INDIRECT("Table!A"&$AG3):INDIRECT("Table!" & $AJ$90 & $AG3),0)),"",INDIRECT(CONCATENATE("Table!",ADDRESS($AC3,MATCH(H$1,INDIRECT("Table!A" & $AG3):INDIRECT("Table!" & $AJ$90 & $AG3),0))))) -> 0.71175604 | I3: =IF(ISERROR(MATCH(I$1,INDIRECT("Table!A"&$AG3):INDIRECT("Table!" & $AJ$69 & $AG3),0)),"",INDIRECT(CONCATENATE("Table!",ADDRESS($AC3,MATCH(I$1,INDIRECT("Table!A" & $AG3):INDIRECT("Table!" & $AJ$69 & $AG3),0))))) -> 0.30330026 | J3: =IF(ISERROR(MATCH(J$1,INDIRECT("Table!A"&$AG3):INDIRECT("Table!" & $AJ$69 & $AG3),0)),"",INDIRECT(CONCATENATE("Table!",ADDRESS($AC3,MATCH(J$1,INDIRECT("Table!A" & $AG3):INDIRECT("Table!" & $AJ$69 & $AG3),0))))) -> 0.67940851 | K3: =IF(ISERROR(MATCH(K$1,INDIRECT("Table!A"&$AG3):INDIRECT("Table!" & $AJ$69 & $AG3),0)),"",INDIRECT(CONCATENATE("Table!",ADDRESS($AC3,MATCH(K$1,INDIRECT("Table!A" & $AG3):INDIRECT("Table!" & $AJ$69 & $AG3),0))))) -> 0.34418613 | L3: =IF(ISERROR(MATCH(L$1,INDIRECT("Table!A"&$AG3):INDIRECT("Table!" & $AJ$69 & $AG3),0)),"",INDIRECT(CONCATENATE("Table!",ADDRESS($AC3,MATCH(L$1,INDIRECT("Table!A" & $AG3):INDIRECT("Table!" & $AJ$69 & $AG3),0))))) -> 0.70322558 | M3: =IF(ISERROR(MATCH(M$1,INDIRECT("Table!A"&$AG3):INDIRECT("Table!" & $AJ$69 & $AG3),0)),"",INDIRECT(CONCATENATE("Table!",ADDRESS($AC3,MATCH(M$1,INDIRECT("Table!A" & $AG3):INDIRECT("Table!" & $AJ$69 & $AG3),0))))) -> 0.48427856 | N3: =IF(ISERROR(MATCH(N$1,INDIRECT("Table!A"&$AG3):INDIRECT("Table!" & $AJ$69 & $AG3),0)),"",INDIRECT(CONCATENATE("Table!",ADDRESS($AC3,MATCH(N$1,INDIRECT("Table!A" & $AG3):INDIRECT("Table!" & $AJ$69 & $AG3),0))))) -> 0.7049584 | O3: =IF(ISERROR(MATCH(O$1,INDIRECT("Table!A"&$AG3):INDIRECT("Table!" & $AJ$69 & $AG3),0)),"",INDIRECT(CONCATENATE("Table!",ADDRESS($AC3,MATCH(O$1,INDIRECT("Table!A" & $AG3):INDIRECT("Table!" & $AJ$69 & $AG3),0))))) -> 0.8201893 | P3: =IF(ISERROR(MATCH(P$1,INDIRECT("Table!A"&$AG3):INDIRECT("Table!" & $AJ$69 & $AG3),0)),"",INDIRECT(CONCATENATE("Table!",ADDRESS($AC3,MATCH(P$1,INDIRECT("Table!A" & $AG3):INDIRECT("Table!" & $AJ$69 & $AG3),0))))) -> 0.3136329 | ... R3: =IF(ISERROR(MATCH(R$1,INDIRECT("Table!A"&$AG3):INDIRECT("Table!" & $AJ$69 & $AG3),0)),"",INDIRECT(CONCATENATE("Table!",ADDRESS($AC3,MATCH(R$1,INDIRECT("Table!A" & $AG3):INDIRECT("Table!" & $AJ$69 & $AG3),0))))) -> 0.67203324 | S3: =IF(ISERROR(MATCH(S$1,INDIRECT("Table!A"&$AG3):INDIRECT("Table!" & $AJ$43 & $AG3),0)),"",INDIRECT(CONCATENATE("Table!",ADDRESS($AC3,MATCH(S$1,INDIRECT("Table!A" & $AG3):INDIRECT("Table!" & $AJ$43 & $AG3),0))))) -> 0.30087759 | T3: =IF(ISERROR(MATCH(T$1,INDIRECT("Table!A"&$AG3):INDIRECT("Table!" & $AJ$43 & $AG3),0)),"",INDIRECT(CONCATENATE("Table!",ADDRESS($AC3,MATCH(T$1,INDIRECT("Table!A" & $AG3):INDIRECT("Table!" & $AJ$43 & $AG3),0))))) -> 0.30904943 | U3: =IF(ISERROR(MATCH(U$1,INDIRECT("Table!A"&$AG3):INDIRECT("Table!" & $AJ$43 & $AG3),0)),"",INDIRECT(CONCATENATE("Table!",ADDRESS($AC3,MATCH(U$1,INDIRECT("Table!A" & $AG3):INDIRECT("Table!" & $AJ$43 & $AG3),0))))) -> 0.14541887 | V3: =IF(ISERROR(MATCH(V$1,INDIRECT("Table!A"&$AG3):INDIRECT("Table!" & $AJ$43 & $AG3),0)),"",INDIRECT(CONCATENATE("Table!",ADDRESS($AC3,MATCH(V$1,INDIRECT("Table!A" & $AG3):INDIRECT("Table!" & $AJ$43 & $AG3),0))))) -> 0.14187492 | W3: =IF(ISERROR(MATCH(W$1,INDIRECT("Table!A"&$AG3):INDIRECT("Table!" & $AJ$43 & $AG3),0)),"",INDIRECT(CONCATENATE("Table!",ADDRESS($AC3,MATCH(W$1,INDIRECT("Table!A" & $AG3):INDIRECT("Table!" & $AJ$43 & $AG3),0))))) -> 0.15130753 | X3: =IF(ISERROR(MATCH(X$1,INDIRECT("Table!A"&$AG3):INDIRECT("Table!" & $AJ$43 & $AG3),0)),"",INDIRECT(CONCATENATE("Table!",ADDRESS($AC3,MATCH(X$1,INDIRECT("Table!A" & $AG3):INDIRECT("Table!" & $AJ$43 & $AG3),0))))) -> 0.14758433 | Y3: =IF(ISERROR(MATCH(Y$1,INDIRECT("Table!A"&$AG3):INDIRECT("Table!" & $AJ$43 & $AG3),0)),"",INDIRECT(CONCATENATE("Table!",ADDRESS($AC3,MATCH(Y$1,INDIRECT("Table!A" & $AG3):INDIRECT("Table!" & $AJ$43 & $AG3),0))))) -> 3.033372e-05 | Z3: =IF(ISERROR(MATCH(Z$1,INDIRECT("Table!A"&$AG3):INDIRECT("Table!" & $AJ$43 & $AG3),0)),"",INDIRECT(CONCATENATE("Table!",ADDRESS($AC3,MATCH(Z$1,INDIRECT("Table!A" & $AG3):INDIRECT("Table!" & $AJ$43 & $AG3),0))))) -> 2.8640097e-05 | ... AB3: =IF(ISERROR(MATCH(AB$1,INDIRECT("Table!A"&$AG3):INDIRECT("Table!" & $AJ$43 & $AG3),0)),"",INDIRECT(CONCATENATE("Table!",ADDRESS($AC3,MATCH(AB$1,INDIRECT("Table!A" & $AG3):INDIRECT("Table!" & $AJ$43 & $AG3),0))))) | AC3: =MATCH($A3,Table!$A:$A,0)+$AE$2-1 -> 6 | AG3: =MATCH($A3,Table!$A:$A,0)+$AI$2-1 -> 3 | AJ3: AB
A4: 41815 | B4: =IF(ISERROR(MATCH(B$1,INDIRECT("Table!A"&$AG4):INDIRECT("Table!" & $AJ$91 & $AG4),0)),"",INDIRECT(CONCATENATE("Table!",ADDRESS($AC4,MATCH(B$1,INDIRECT("Table!A" & $AG4):INDIRECT("Table!" & $AJ$90 & $AG4),0))))) -> 0.41222686 | C4: =IF(ISERROR(MATCH(C$1,INDIRECT("Table!A"&$AG4):INDIRECT("Table!" & $AJ$90 & $AG4),0)),"",INDIRECT(CONCATENATE("Table!",ADDRESS($AC4,MATCH(C$1,INDIRECT("Table!A" & $AG4):INDIRECT("Table!" & $AJ$90 & $AG4),0))))) -> 0.55671231 | D4: =IF(ISERROR(MATCH(D$1,INDIRECT("Table!A"&$AG4):INDIRECT("Table!" & $AJ$90 & $AG4),0)),"",INDIRECT(CONCATENATE("Table!",ADDRESS($AC4,MATCH(D$1,INDIRECT("Table!A" & $AG4):INDIRECT("Table!" & $AJ$90 & $AG4),0))))) -> 0.56142475 | E4: =IF(ISERROR(MATCH(E$1,INDIRECT("Table!A"&$AG4):INDIRECT("Table!" & $AJ$90 & $AG4),0)),"",INDIRECT(CONCATENATE("Table!",ADDRESS($AC4,MATCH(E$1,INDIRECT("Table!A" & $AG4):INDIRECT("Table!" & $AJ$90 & $AG4),0))))) -> 0.75944841 | F4: =IF(ISERROR(MATCH(F$1,INDIRECT("Table!A"&$AG4):INDIRECT("Table!" & $AJ$90 & $AG4),0)),"",INDIRECT(CONCATENATE("Table!",ADDRESS($AC4,MATCH(F$1,INDIRECT("Table!A" & $AG4):INDIRECT("Table!" & $AJ$90 & $AG4),0))))) -> 0.69729805 | G4: =IF(ISERROR(MATCH(G$1,INDIRECT("Table!A"&$AG4):INDIRECT("Table!" & $AJ$90 & $AG4),0)),"",INDIRECT(CONCATENATE("Table!",ADDRESS($AC4,MATCH(G$1,INDIRECT("Table!A" & $AG4):INDIRECT("Table!" & $AJ$90 & $AG4),0))))) -> 0.55368378 | H4: =IF(ISERROR(MATCH(H$1,INDIRECT("Table!A"&$AG4):INDIRECT("Table!" & $AJ$90 & $AG4),0)),"",INDIRECT(CONCATENATE("Table!",ADDRESS($AC4,MATCH(H$1,INDIRECT("Table!A" & $AG4):INDIRECT("Table!" & $AJ$90 & $AG4),0))))) -> 0.71062506 | I4: =IF(ISERROR(MATCH(I$1,INDIRECT("Table!A"&$AG4):INDIRECT("Table!" & $AJ$69 & $AG4),0)),"",INDIRECT(CONCATENATE("Table!",ADDRESS($AC4,MATCH(I$1,INDIRECT("Table!A" & $AG4):INDIRECT("Table!" & $AJ$69 & $AG4),0))))) -> 0.30255001 | J4: =IF(ISERROR(MATCH(J$1,INDIRECT("Table!A"&$AG4):INDIRECT("Table!" & $AJ$69 & $AG4),0)),"",INDIRECT(CONCATENATE("Table!",ADDRESS($AC4,MATCH(J$1,INDIRECT("Table!A" & $AG4):INDIRECT("Table!" & $AJ$69 & $AG4),0))))) -> 0.67542687 | K4: =IF(ISERROR(MATCH(K$1,INDIRECT("Table!A"&$AG4):INDIRECT("Table!" & $AJ$69 & $AG4),0)),"",INDIRECT(CONCATENATE("Table!",ADDRESS($AC4,MATCH(K$1,INDIRECT("Table!A" & $AG4):INDIRECT("Table!" & $AJ$69 & $AG4),0))))) -> 0.33821616 | L4: =IF(ISERROR(MATCH(L$1,INDIRECT("Table!A"&$AG4):INDIRECT("Table!" & $AJ$69 & $AG4),0)),"",INDIRECT(CONCATENATE("Table!",ADDRESS($AC4,MATCH(L$1,INDIRECT("Table!A" & $AG4):INDIRECT("Table!" & $AJ$69 & $AG4),0))))) -> 0.70250289 | M4: =IF(ISERROR(MATCH(M$1,INDIRECT("Table!A"&$AG4):INDIRECT("Table!" & $AJ$69 & $AG4),0)),"",INDIRECT(CONCATENATE("Table!",ADDRESS($AC4,MATCH(M$1,INDIRECT("Table!A" & $AG4):INDIRECT("Table!" & $AJ$69 & $AG4),0))))) -> 0.48355084 | N4: =IF(ISERROR(MATCH(N$1,INDIRECT("Table!A"&$AG4):INDIRECT("Table!" & $AJ$69 & $AG4),0)),"",INDIRECT(CONCATENATE("Table!",ADDRESS($AC4,MATCH(N$1,INDIRECT("Table!A" & $AG4):INDIRECT("Table!" & $AJ$69 & $AG4),0))))) -> 0.70254146 | O4: =IF(ISERROR(MATCH(O$1,INDIRECT("Table!A"&$AG4):INDIRECT("Table!" & $AJ$69 & $AG4),0)),"",INDIRECT(CONCATENATE("Table!",ADDRESS($AC4,MATCH(O$1,INDIRECT("Table!A" & $AG4):INDIRECT("Table!" & $AJ$69 & $AG4),0))))) -> 0.81902391 | P4: =IF(ISERROR(MATCH(P$1,INDIRECT("Table!A"&$AG4):INDIRECT("Table!" & $AJ$69 & $AG4),0)),"",INDIRECT(CONCATENATE("Table!",ADDRESS($AC4,MATCH(P$1,INDIRECT("Table!A" & $AG4):INDIRECT("Table!" & $AJ$69 & $AG4),0))))) -> 0.31288145 | ... R4: =IF(ISERROR(MATCH(R$1,INDIRECT("Table!A"&$AG4):INDIRECT("Table!" & $AJ$69 & $AG4),0)),"",INDIRECT(CONCATENATE("Table!",ADDRESS($AC4,MATCH(R$1,INDIRECT("Table!A" & $AG4):INDIRECT("Table!" & $AJ$69 & $AG4),0))))) -> 0.66670764 | S4: =IF(ISERROR(MATCH(S$1,INDIRECT("Table!A"&$AG4):INDIRECT("Table!" & $AJ$43 & $AG4),0)),"",INDIRECT(CONCATENATE("Table!",ADDRESS($AC4,MATCH(S$1,INDIRECT("Table!A" & $AG4):INDIRECT("Table!" & $AJ$43 & $AG4),0))))) -> 0.30087759 | T4: =IF(ISERROR(MATCH(T$1,INDIRECT("Table!A"&$AG4):INDIRECT("Table!" & $AJ$43 & $AG4),0)),"",INDIRECT(CONCATENATE("Table!",ADDRESS($AC4,MATCH(T$1,INDIRECT("Table!A" & $AG4):INDIRECT("Table!" & $AJ$43 & $AG4),0))))) -> 0.30904943 | U4: =IF(ISERROR(MATCH(U$1,INDIRECT("Table!A"&$AG4):INDIRECT("Table!" & $AJ$43 & $AG4),0)),"",INDIRECT(CONCATENATE("Table!",ADDRESS($AC4,MATCH(U$1,INDIRECT("Table!A" & $AG4):INDIRECT("Table!" & $AJ$43 & $AG4),0))))) -> 0.14479263 | V4: =IF(ISERROR(MATCH(V$1,INDIRECT("Table!A"&$AG4):INDIRECT("Table!" & $AJ$43 & $AG4),0)),"",INDIRECT(CONCATENATE("Table!",ADDRESS($AC4,MATCH(V$1,INDIRECT("Table!A" & $AG4):INDIRECT("Table!" & $AJ$43 & $AG4),0))))) -> 0.14126489 | W4: =IF(ISERROR(MATCH(W$1,INDIRECT("Table!A"&$AG4):INDIRECT("Table!" & $AJ$43 & $AG4),0)),"",INDIRECT(CONCATENATE("Table!",ADDRESS($AC4,MATCH(W$1,INDIRECT("Table!A" & $AG4):INDIRECT("Table!" & $AJ$43 & $AG4),0))))) -> 0.15120968 | X4: =IF(ISERROR(MATCH(X$1,INDIRECT("Table!A"&$AG4):INDIRECT("Table!" & $AJ$43 & $AG4),0)),"",INDIRECT(CONCATENATE("Table!",ADDRESS($AC4,MATCH(X$1,INDIRECT("Table!A" & $AG4):INDIRECT("Table!" & $AJ$43 & $AG4),0))))) -> 0.1474817 | Y4: =IF(ISERROR(MATCH(Y$1,INDIRECT("Table!A"&$AG4):INDIRECT("Table!" & $AJ$43 & $AG4),0)),"",INDIRECT(CONCATENATE("Table!",ADDRESS($AC4,MATCH(Y$1,INDIRECT("Table!A" & $AG4):INDIRECT("Table!" & $AJ$43 & $AG4),0))))) -> 3.033372e-05 | Z4: =IF(ISERROR(MATCH(Z$1,INDIRECT("Table!A"&$AG4):INDIRECT("Table!" & $AJ$43 & $AG4),0)),"",INDIRECT(CONCATENATE("Table!",ADDRESS($AC4,MATCH(Z$1,INDIRECT("Table!A" & $AG4):INDIRECT("Table!" & $AJ$43 & $AG4),0))))) -> 2.8640097e-05 | ... AB4: =IF(ISERROR(MATCH(AB$1,INDIRECT("Table!A"&$AG4):INDIRECT("Table!" & $AJ$43 & $AG4),0)),"",INDIRECT(CONCATENATE("Table!",ADDRESS($AC4,MATCH(AB$1,INDIRECT("Table!A" & $AG4):INDIRECT("Table!" & $AJ$43 & $AG4),0))))) | AC4: =MATCH($A4,Table!$A:$A,0)+$AE$2-1 -> 20 | AG4: =MATCH($A4,Table!$A:$A,0)+$AI$2-1 -> 17 | AJ4: AB
A5: 41808 | B5: =IF(ISERROR(MATCH(B$1,INDIRECT("Table!A"&$AG5):INDIRECT("Table!" & $AJ$91 & $AG5),0)),"",INDIRECT(CONCATENATE("Table!",ADDRESS($AC5,MATCH(B$1,INDIRECT("Table!A" & $AG5):INDIRECT("Table!" & $AJ$90 & $AG5),0))))) -> 0.41078537 | C5: =IF(ISERROR(MATCH(C$1,INDIRECT("Table!A"&$AG5):INDIRECT("Table!" & $AJ$90 & $AG5),0)),"",INDIRECT(CONCATENATE("Table!",ADDRESS($AC5,MATCH(C$1,INDIRECT("Table!A" & $AG5):INDIRECT("Table!" & $AJ$90 & $AG5),0))))) -> 0.55513973 | D5: =IF(ISERROR(MATCH(D$1,INDIRECT("Table!A"&$AG5):INDIRECT("Table!" & $AJ$90 & $AG5),0)),"",INDIRECT(CONCATENATE("Table!",ADDRESS($AC5,MATCH(D$1,INDIRECT("Table!A" & $AG5):INDIRECT("Table!" & $AJ$90 & $AG5),0))))) -> 0.56013452 | E5: =IF(ISERROR(MATCH(E$1,INDIRECT("Table!A"&$AG5):INDIRECT("Table!" & $AJ$90 & $AG5),0)),"",INDIRECT(CONCATENATE("Table!",ADDRESS($AC5,MATCH(E$1,INDIRECT("Table!A" & $AG5):INDIRECT("Table!" & $AJ$90 & $AG5),0))))) -> 0.75893138 | F5: =IF(ISERROR(MATCH(F$1,INDIRECT("Table!A"&$AG5):INDIRECT("Table!" & $AJ$90 & $AG5),0)),"",INDIRECT(CONCATENATE("Table!",ADDRESS($AC5,MATCH(F$1,INDIRECT("Table!A" & $AG5):INDIRECT("Table!" & $AJ$90 & $AG5),0))))) -> 0.6966779 | G5: =IF(ISERROR(MATCH(G$1,INDIRECT("Table!A"&$AG5):INDIRECT("Table!" & $AJ$90 & $AG5),0)),"",INDIRECT(CONCATENATE("Table!",ADDRESS($AC5,MATCH(G$1,INDIRECT("Table!A" & $AG5):INDIRECT("Table!" & $AJ$90 & $AG5),0))))) -> 0.5515806 | H5: =IF(ISERROR(MATCH(H$1,INDIRECT("Table!A"&$AG5):INDIRECT("Table!" & $AJ$90 & $AG5),0)),"",INDIRECT(CONCATENATE("Table!",ADDRESS($AC5,MATCH(H$1,INDIRECT("Table!A" & $AG5):INDIRECT("Table!" & $AJ$90 & $AG5),0))))) -> 0.70945629 | I5: =IF(ISERROR(MATCH(I$1,INDIRECT("Table!A"&$AG5):INDIRECT("Table!" & $AJ$69 & $AG5),0)),"",INDIRECT(CONCATENATE("Table!",ADDRESS($AC5,MATCH(I$1,INDIRECT("Table!A" & $AG5):INDIRECT("Table!" & $AJ$69 & $AG5),0))))) -> 0.30148304 | J5: =IF(ISERROR(MATCH(J$1,INDIRECT("Table!A"&$AG5):INDIRECT("Table!" & $AJ$69 & $AG5),0)),"",INDIRECT(CONCATENATE("Table!",ADDRESS($AC5,MATCH(J$1,INDIRECT("Table!A" & $AG5):INDIRECT("Table!" & $AJ$69 & $AG5),0))))) -> 0.67201208 | K5: =IF(ISERROR(MATCH(K$1,INDIRECT("Table!A"&$AG5):INDIRECT("Table!" & $AJ$69 & $AG5),0)),"",INDIRECT(CONCATENATE("Table!",ADDRESS($AC5,MATCH(K$1,INDIRECT("Table!A" & $AG5):INDIRECT("Table!" & $AJ$69 & $AG5),0))))) -> 0.32340747 | L5: =IF(ISERROR(MATCH(L$1,INDIRECT("Table!A"&$AG5):INDIRECT("Table!" & $AJ$69 & $AG5),0)),"",INDIRECT(CONCATENATE("Table!",ADDRESS($AC5,MATCH(L$1,INDIRECT("Table!A" & $AG5):INDIRECT("Table!" & $AJ$69 & $AG5),0))))) -> 0.7006757 | M5: =IF(ISERROR(MATCH(M$1,INDIRECT("Table!A"&$AG5):INDIRECT("Table!" & $AJ$69 & $AG5),0)),"",INDIRECT(CONCATENATE("Table!",ADDRESS($AC5,MATCH(M$1,INDIRECT("Table!A" & $AG5):INDIRECT("Table!" & $AJ$69 & $AG5),0))))) -> 0.48248722 | N5: =IF(ISERROR(MATCH(N$1,INDIRECT("Table!A"&$AG5):INDIRECT("Table!" & $AJ$69 & $AG5),0)),"",INDIRECT(CONCATENATE("Table!",ADDRESS($AC5,MATCH(N$1,INDIRECT("Table!A" & $AG5):INDIRECT("Table!" & $AJ$69 & $AG5),0))))) -> 0.70197667 | O5: =IF(ISERROR(MATCH(O$1,INDIRECT("Table!A"&$AG5):INDIRECT("Table!" & $AJ$69 & $AG5),0)),"",INDIRECT(CONCATENATE("Table!",ADDRESS($AC5,MATCH(O$1,INDIRECT("Table!A" & $AG5):INDIRECT("Table!" & $AJ$69 & $AG5),0))))) -> 0.81713205 | P5: =IF(ISERROR(MATCH(P$1,INDIRECT("Table!A"&$AG5):INDIRECT("Table!" & $AJ$69 & $AG5),0)),"",INDIRECT(CONCATENATE("Table!",ADDRESS($AC5,MATCH(P$1,INDIRECT("Table!A" & $AG5):INDIRECT("Table!" & $AJ$69 & $AG5),0))))) -> 0.31180846 | ... R5: =IF(ISERROR(MATCH(R$1,INDIRECT("Table!A"&$AG5):INDIRECT("Table!" & $AJ$69 & $AG5),0)),"",INDIRECT(CONCATENATE("Table!",ADDRESS($AC5,MATCH(R$1,INDIRECT("Table!A" & $AG5):INDIRECT("Table!" & $AJ$69 & $AG5),0))))) -> 0.66487156 | S5: =IF(ISERROR(MATCH(S$1,INDIRECT("Table!A"&$AG5):INDIRECT("Table!" & $AJ$43 & $AG5),0)),"",INDIRECT(CONCATENATE("Table!",ADDRESS($AC5,MATCH(S$1,INDIRECT("Table!A" & $AG5):INDIRECT("Table!" & $AJ$43 & $AG5),0))))) -> 0.30087759 | T5: =IF(ISERROR(MATCH(T$1,INDIRECT("Table!A"&$AG5):INDIRECT("Table!" & $AJ$43 & $AG5),0)),"",INDIRECT(CONCATENATE("Table!",ADDRESS($AC5,MATCH(T$1,INDIRECT("Table!A" & $AG5):INDIRECT("Table!" & $AJ$43 & $AG5),0))))) -> 0.30904943 | U5: =IF(ISERROR(MATCH(U$1,INDIRECT("Table!A"&$AG5):INDIRECT("Table!" & $AJ$43 & $AG5),0)),"",INDIRECT(CONCATENATE("Table!",ADDRESS($AC5,MATCH(U$1,INDIRECT("Table!A" & $AG5):INDIRECT("Table!" & $AJ$43 & $AG5),0))))) -> 0.14429066 | V5: =IF(ISERROR(MATCH(V$1,INDIRECT("Table!A"&$AG5):INDIRECT("Table!" & $AJ$43 & $AG5),0)),"",INDIRECT(CONCATENATE("Table!",ADDRESS($AC5,MATCH(V$1,INDIRECT("Table!A" & $AG5):INDIRECT("Table!" & $AJ$43 & $AG5),0))))) -> 0.14077514 | W5: =IF(ISERROR(MATCH(W$1,INDIRECT("Table!A"&$AG5):INDIRECT("Table!" & $AJ$43 & $AG5),0)),"",INDIRECT(CONCATENATE("Table!",ADDRESS($AC5,MATCH(W$1,INDIRECT("Table!A" & $AG5):INDIRECT("Table!" & $AJ$43 & $AG5),0))))) -> 0.148008 | X5: =IF(ISERROR(MATCH(X$1,INDIRECT("Table!A"&$AG5):INDIRECT("Table!" & $AJ$43 & $AG5),0)),"",INDIRECT(CONCATENATE("Table!",ADDRESS($AC5,MATCH(X$1,INDIRECT("Table!A" & $AG5):INDIRECT("Table!" & $AJ$43 & $AG5),0))))) -> 0.14432938 | Y5: =IF(ISERROR(MATCH(Y$1,INDIRECT("Table!A"&$AG5):INDIRECT("Table!" & $AJ$43 & $AG5),0)),"",INDIRECT(CONCATENATE("Table!",ADDRESS($AC5,MATCH(Y$1,INDIRECT("Table!A" & $AG5):INDIRECT("Table!" & $AJ$43 & $AG5),0))))) -> 3.033372e-05 | Z5: =IF(ISERROR(MATCH(Z$1,INDIRECT("Table!A"&$AG5):INDIRECT("Table!" & $AJ$43 & $AG5),0)),"",INDIRECT(CONCATENATE("Table!",ADDRESS($AC5,MATCH(Z$1,INDIRECT("Table!A" & $AG5):INDIRECT("Table!" & $AJ$43 & $AG5),0))))) -> 2.8640097e-05 | ... AB5: =IF(ISERROR(MATCH(AB$1,INDIRECT("Table!A"&$AG5):INDIRECT("Table!" & $AJ$43 & $AG5),0)),"",INDIRECT(CONCATENATE("Table!",ADDRESS($AC5,MATCH(AB$1,INDIRECT("Table!A" & $AG5):INDIRECT("Table!" & $AJ$43 & $AG5),0))))) | AC5: =MATCH($A5,Table!$A:$A,0)+$AE$2-1 -> 34 | AG5: =MATCH($A5,Table!$A:$A,0)+$AI$2-1 -> 31 | AJ5: AB
A6: 41801 | B6: =IF(ISERROR(MATCH(B$1,INDIRECT("Table!A"&$AG6):INDIRECT("Table!" & $AJ$91 & $AG6),0)),"",INDIRECT(CONCATENATE("Table!",ADDRESS($AC6,MATCH(B$1,INDIRECT("Table!A" & $AG6):INDIRECT("Table!" & $AJ$90 & $AG6),0))))) -> 0.41078537 | C6: =IF(ISERROR(MATCH(C$1,INDIRECT("Table!A"&$AG6):INDIRECT("Table!" & $AJ$90 & $AG6),0)),"",INDIRECT(CONCATENATE("Table!",ADDRESS($AC6,MATCH(C$1,INDIRECT("Table!A" & $AG6):INDIRECT("Table!" & $AJ$90 & $AG6),0))))) -> 0.55513973 | D6: =IF(ISERROR(MATCH(D$1,INDIRECT("Table!A"&$AG6):INDIRECT("Table!" & $AJ$90 & $AG6),0)),"",INDIRECT(CONCATENATE("Table!",ADDRESS($AC6,MATCH(D$1,INDIRECT("Table!A" & $AG6):INDIRECT("Table!" & $AJ$90 & $AG6),0))))) -> 0.55985083 | E6: =IF(ISERROR(MATCH(E$1,INDIRECT("Table!A"&$AG6):INDIRECT("Table!" & $AJ$90 & $AG6),0)),"",INDIRECT(CONCATENATE("Table!",ADDRESS($AC6,MATCH(E$1,INDIRECT("Table!A" & $AG6):INDIRECT("Table!" & $AJ$90 & $AG6),0))))) -> 0.8121559 | F6: =IF(ISERROR(MATCH(F$1,INDIRECT("Table!A"&$AG6):INDIRECT("Table!" & $AJ$90 & $AG6),0)),"",INDIRECT(CONCATENATE("Table!",ADDRESS($AC6,MATCH(F$1,INDIRECT("Table!A" & $AG6):INDIRECT("Table!" & $AJ$90 & $AG6),0))))) -> 0.69209131 | G6: =IF(ISERROR(MATCH(G$1,INDIRECT("Table!A"&$AG6):INDIRECT("Table!" & $AJ$90 & $AG6),0)),"",INDIRECT(CONCATENATE("Table!",ADDRESS($AC6,MATCH(G$1,INDIRECT("Table!A" & $AG6):INDIRECT("Table!" & $AJ$90 & $AG6),0))))) -> 0.5500656 | H6: =IF(ISERROR(MATCH(H$1,INDIRECT("Table!A"&$AG6):INDIRECT("Table!" & $AJ$90 & $AG6),0)),"",INDIRECT(CONCATENATE("Table!",ADDRESS($AC6,MATCH(H$1,INDIRECT("Table!A" & $AG6):INDIRECT("Table!" & $AJ$90 & $AG6),0))))) -> 0.70824391 | I6: =IF(ISERROR(MATCH(I$1,INDIRECT("Table!A"&$AG6):INDIRECT("Table!" & $AJ$69 & $AG6),0)),"",INDIRECT(CONCATENATE("Table!",ADDRESS($AC6,MATCH(I$1,INDIRECT("Table!A" & $AG6):INDIRECT("Table!" & $AJ$69 & $AG6),0))))) -> 0.3011055 | J6: =IF(ISERROR(MATCH(J$1,INDIRECT("Table!A"&$AG6):INDIRECT("Table!" & $AJ$69 & $AG6),0)),"",INDIRECT(CONCATENATE("Table!",ADDRESS($AC6,MATCH(J$1,INDIRECT("Table!A" & $AG6):INDIRECT("Table!" & $AJ$69 & $AG6),0))))) -> 0.66655808 | K6: =IF(ISERROR(MATCH(K$1,INDIRECT("Table!A"&$AG6):INDIRECT("Table!" & $AJ$69 & $AG6),0)),"",INDIRECT(CONCATENATE("Table!",ADDRESS($AC6,MATCH(K$1,INDIRECT("Table!A" & $AG6):INDIRECT("Table!" & $AJ$69 & $AG6),0))))) -> 0.31912937 | L6: =IF(ISERROR(MATCH(L$1,INDIRECT("Table!A"&$AG6):INDIRECT("Table!" & $AJ$69 & $AG6),0)),"",INDIRECT(CONCATENATE("Table!",ADDRESS($AC6,MATCH(L$1,INDIRECT("Table!A" & $AG6):INDIRECT("Table!" & $AJ$69 & $AG6),0))))) -> 0.76297978 | M6: =IF(ISERROR(MATCH(M$1,INDIRECT("Table!A"&$AG6):INDIRECT("Table!" & $AJ$69 & $AG6),0)),"",INDIRECT(CONCATENATE("Table!",ADDRESS($AC6,MATCH(M$1,INDIRECT("Table!A" & $AG6):INDIRECT("Table!" & $AJ$69 & $AG6),0))))) -> 0.48167256 | N6: =IF(ISERROR(MATCH(N$1,INDIRECT("Table!A"&$AG6):INDIRECT("Table!" & $AJ$69 & $AG6),0)),"",INDIRECT(CONCATENATE("Table!",ADDRESS($AC6,MATCH(N$1,INDIRECT("Table!A" & $AG6):INDIRECT("Table!" & $AJ$69 & $AG6),0))))) -> 0.69744385 | O6: =IF(ISERROR(MATCH(O$1,INDIRECT("Table!A"&$AG6):INDIRECT("Table!" & $AJ$69 & $AG6),0)),"",INDIRECT(CONCATENATE("Table!",ADDRESS($AC6,MATCH(O$1,INDIRECT("Table!A" & $AG6):INDIRECT("Table!" & $AJ$69 & $AG6),0))))) -> 0.81565521 | P6: =IF(ISERROR(MATCH(P$1,INDIRECT("Table!A"&$AG6):INDIRECT("Table!" & $AJ$69 & $AG6),0)),"",INDIRECT(CONCATENATE("Table!",ADDRESS($AC6,MATCH(P$1,INDIRECT("Table!A" & $AG6):INDIRECT("Table!" & $AJ$69 & $AG6),0))))) -> 0.31143032 | ... R6: =IF(ISERROR(MATCH(R$1,INDIRECT("Table!A"&$AG6):INDIRECT("Table!" & $AJ$69 & $AG6),0)),"",INDIRECT(CONCATENATE("Table!",ADDRESS($AC6,MATCH(R$1,INDIRECT("Table!A" & $AG6):INDIRECT("Table!" & $AJ$69 & $AG6),0))))) -> 0.65023683 | S6: =IF(ISERROR(MATCH(S$1,INDIRECT("Table!A"&$AG6):INDIRECT("Table!" & $AJ$43 & $AG6),0)),"",INDIRECT(CONCATENATE("Table!",ADDRESS($AC6,MATCH(S$1,INDIRECT("Table!A" & $AG6):INDIRECT("Table!" & $AJ$43 & $AG6),0))))) -> 0.30087759 | T6: =IF(ISERROR(MATCH(T$1,INDIRECT("Table!A"&$AG6):INDIRECT("Table!" & $AJ$43 & $AG6),0)),"",INDIRECT(CONCATENATE("Table!",ADDRESS($AC6,MATCH(T$1,INDIRECT("Table!A" & $AG6):INDIRECT("Table!" & $AJ$43 & $AG6),0))))) -> 0.30904943 | U6: =IF(ISERROR(MATCH(U$1,INDIRECT("Table!A"&$AG6):INDIRECT("Table!" & $AJ$43 & $AG6),0)),"",INDIRECT(CONCATENATE("Table!",ADDRESS($AC6,MATCH(U$1,INDIRECT("Table!A" & $AG6):INDIRECT("Table!" & $AJ$43 & $AG6),0))))) -> 0.14120934 | V6: =IF(ISERROR(MATCH(V$1,INDIRECT("Table!A"&$AG6):INDIRECT("Table!" & $AJ$43 & $AG6),0)),"",INDIRECT(CONCATENATE("Table!",ADDRESS($AC6,MATCH(V$1,INDIRECT("Table!A" & $AG6):INDIRECT("Table!" & $AJ$43 & $AG6),0))))) -> 0.13776937 | W6: =IF(ISERROR(MATCH(W$1,INDIRECT("Table!A"&$AG6):INDIRECT("Table!" & $AJ$43 & $AG6),0)),"",INDIRECT(CONCATENATE("Table!",ADDRESS($AC6,MATCH(W$1,INDIRECT("Table!A" & $AG6):INDIRECT("Table!" & $AJ$43 & $AG6),0))))) -> 0.07864555 | X6: =IF(ISERROR(MATCH(X$1,INDIRECT("Table!A"&$AG6):INDIRECT("Table!" & $AJ$43 & $AG6),0)),"",INDIRECT(CONCATENATE("Table!",ADDRESS($AC6,MATCH(X$1,INDIRECT("Table!A" & $AG6):INDIRECT("Table!" & $AJ$43 & $AG6),0))))) -> 0.076656173 | Y6: =IF(ISERROR(MATCH(Y$1,INDIRECT("Table!A"&$AG6):INDIRECT("Table!" & $AJ$43 & $AG6),0)),"",INDIRECT(CONCATENATE("Table!",ADDRESS($AC6,MATCH(Y$1,INDIRECT("Table!A" & $AG6):INDIRECT("Table!" & $AJ$43 & $AG6),0))))) -> 3.033372e-05 | Z6: =IF(ISERROR(MATCH(Z$1,INDIRECT("Table!A"&$AG6):INDIRECT("Table!" & $AJ$43 & $AG6),0)),"",INDIRECT(CONCATENATE("Table!",ADDRESS($AC6,MATCH(Z$1,INDIRECT("Table!A" & $AG6):INDIRECT("Table!" & $AJ$43 & $AG6),0))))) -> 2.8640097e-05 | ... AB6: =IF(ISERROR(MATCH(AB$1,INDIRECT("Table!A"&$AG6):INDIRECT("Table!" & $AJ$43 & $AG6),0)),"",INDIRECT(CONCATENATE("Table!",ADDRESS($AC6,MATCH(AB$1,INDIRECT("Table!A" & $AG6):INDIRECT("Table!" & $AJ$43 & $AG6),0))))) | AC6: =MATCH($A6,Table!$A:$A,0)+$AE$2-1 -> 48 | AG6: =MATCH($A6,Table!$A:$A,0)+$AI$2-1 -> 45 | AJ6: AB
A7: 41794 | B7: =IF(ISERROR(MATCH(B$1,INDIRECT("Table!A"&$AG7):INDIRECT("Table!" & $AJ$91 & $AG7),0)),"",INDIRECT(CONCATENATE("Table!",ADDRESS($AC7,MATCH(B$1,INDIRECT("Table!A" & $AG7):INDIRECT("Table!" & $AJ$90 & $AG7),0))))) -> 0.40852113 | C7: =IF(ISERROR(MATCH(C$1,INDIRECT("Table!A"&$AG7):INDIRECT("Table!" & $AJ$90 & $AG7),0)),"",INDIRECT(CONCATENATE("Table!",ADDRESS($AC7,MATCH(C$1,INDIRECT("Table!A" & $AG7):INDIRECT("Table!" & $AJ$90 & $AG7),0))))) -> 0.55490985 | D7: =IF(ISERROR(MATCH(D$1,INDIRECT("Table!A"&$AG7):INDIRECT("Table!" & $AJ$90 & $AG7),0)),"",INDIRECT(CONCATENATE("Table!",ADDRESS($AC7,MATCH(D$1,INDIRECT("Table!A" & $AG7):INDIRECT("Table!" & $AJ$90 & $AG7),0))))) -> 0.55941434 | E7: =IF(ISERROR(MATCH(E$1,INDIRECT("Table!A"&$AG7):INDIRECT("Table!" & $AJ$90 & $AG7),0)),"",INDIRECT(CONCATENATE("Table!",ADDRESS($AC7,MATCH(E$1,INDIRECT("Table!A" & $AG7):INDIRECT("Table!" & $AJ$90 & $AG7),0))))) -> 0.81107897 | F7: =IF(ISERROR(MATCH(F$1,INDIRECT("Table!A"&$AG7):INDIRECT("Table!" & $AJ$90 & $AG7),0)),"",INDIRECT(CONCATENATE("Table!",ADDRESS($AC7,MATCH(F$1,INDIRECT("Table!A" & $AG7):INDIRECT("Table!" & $AJ$90 & $AG7),0))))) -> 0.69008788 | G7: =IF(ISERROR(MATCH(G$1,INDIRECT("Table!A"&$AG7):INDIRECT("Table!" & $AJ$90 & $AG7),0)),"",INDIRECT(CONCATENATE("Table!",ADDRESS($AC7,MATCH(G$1,INDIRECT("Table!A" & $AG7):INDIRECT("Table!" & $AJ$90 & $AG7),0))))) -> 0.54898525 | H7: =IF(ISERROR(MATCH(H$1,INDIRECT("Table!A"&$AG7):INDIRECT("Table!" & $AJ$90 & $AG7),0)),"",INDIRECT(CONCATENATE("Table!",ADDRESS($AC7,MATCH(H$1,INDIRECT("Table!A" & $AG7):INDIRECT("Table!" & $AJ$90 & $AG7),0))))) -> 0.70301991 | I7: =IF(ISERROR(MATCH(I$1,INDIRECT("Table!A"&$AG7):INDIRECT("Table!" & $AJ$69 & $AG7),0)),"",INDIRECT(CONCATENATE("Table!",ADDRESS($AC7,MATCH(I$1,INDIRECT("Table!A" & $AG7):INDIRECT("Table!" & $AJ$69 & $AG7),0))))) -> 0.29703754 | J7: =IF(ISERROR(MATCH(J$1,INDIRECT("Table!A"&$AG7):INDIRECT("Table!" & $AJ$69 & $AG7),0)),"",INDIRECT(CONCATENATE("Table!",ADDRESS($AC7,MATCH(J$1,INDIRECT("Table!A" & $AG7):INDIRECT("Table!" & $AJ$69 & $AG7),0))))) -> 0.66562194 | K7: =IF(ISERROR(MATCH(K$1,INDIRECT("Table!A"&$AG7):INDIRECT("Table!" & $AJ$69 & $AG7),0)),"",INDIRECT(CONCATENATE("Table!",ADDRESS($AC7,MATCH(K$1,INDIRECT("Table!A" & $AG7):INDIRECT("Table!" & $AJ$69 & $AG7),0))))) -> 0.29859304 | L7: =IF(ISERROR(MATCH(L$1,INDIRECT("Table!A"&$AG7):INDIRECT("Table!" & $AJ$69 & $AG7),0)),"",INDIRECT(CONCATENATE("Table!",ADDRESS($AC7,MATCH(L$1,INDIRECT("Table!A" & $AG7):INDIRECT("Table!" & $AJ$69 & $AG7),0))))) -> 0.76165407 | M7: =IF(ISERROR(MATCH(M$1,INDIRECT("Table!A"&$AG7):INDIRECT("Table!" & $AJ$69 & $AG7),0)),"",INDIRECT(CONCATENATE("Table!",ADDRESS($AC7,MATCH(M$1,INDIRECT("Table!A" & $AG7):INDIRECT("Table!" & $AJ$69 & $AG7),0))))) -> 0.48081523 | N7: =IF(ISERROR(MATCH(N$1,INDIRECT("Table!A"&$AG7):INDIRECT("Table!" & $AJ$69 & $AG7),0)),"",INDIRECT(CONCATENATE("Table!",ADDRESS($AC7,MATCH(N$1,INDIRECT("Table!A" & $AG7):INDIRECT("Table!" & $AJ$69 & $AG7),0))))) -> 0.69554955 | O7: =IF(ISERROR(MATCH(O$1,INDIRECT("Table!A"&$AG7):INDIRECT("Table!" & $AJ$69 & $AG7),0)),"",INDIRECT(CONCATENATE("Table!",ADDRESS($AC7,MATCH(O$1,INDIRECT("Table!A" & $AG7):INDIRECT("Table!" & $AJ$69 & $AG7),0))))) -> 0.80929662 | P7: =IF(ISERROR(MATCH(P$1,INDIRECT("Table!A"&$AG7):INDIRECT("Table!" & $AJ$69 & $AG7),0)),"",INDIRECT(CONCATENATE("Table!",ADDRESS($AC7,MATCH(P$1,INDIRECT("Table!A" & $AG7):INDIRECT("Table!" & $AJ$69 & $AG7),0))))) -> 0.30736234 | ... R7: =IF(ISERROR(MATCH(R$1,INDIRECT("Table!A"&$AG7):INDIRECT("Table!" & $AJ$69 & $AG7),0)),"",INDIRECT(CONCATENATE("Table!",ADDRESS($AC7,MATCH(R$1,INDIRECT("Table!A" & $AG7):INDIRECT("Table!" & $AJ$69 & $AG7),0))))) -> 0.64428382 | S7: =IF(ISERROR(MATCH(S$1,INDIRECT("Table!A"&$AG7):INDIRECT("Table!" & $AJ$43 & $AG7),0)),"",INDIRECT(CONCATENATE("Table!",ADDRESS($AC7,MATCH(S$1,INDIRECT("Table!A" & $AG7):INDIRECT("Table!" & $AJ$43 & $AG7),0))))) -> 0.30087759 | T7: =IF(ISERROR(MATCH(T$1,INDIRECT("Table!A"&$AG7):INDIRECT("Table!" & $AJ$43 & $AG7),0)),"",INDIRECT(CONCATENATE("Table!",ADDRESS($AC7,MATCH(T$1,INDIRECT("Table!A" & $AG7):INDIRECT("Table!" & $AJ$43 & $AG7),0))))) -> 0.30904943 | U7: =IF(ISERROR(MATCH(U$1,INDIRECT("Table!A"&$AG7):INDIRECT("Table!" & $AJ$43 & $AG7),0)),"",INDIRECT(CONCATENATE("Table!",ADDRESS($AC7,MATCH(U$1,INDIRECT("Table!A" & $AG7):INDIRECT("Table!" & $AJ$43 & $AG7),0))))) -> 0.12244451 | V7: =IF(ISERROR(MATCH(V$1,INDIRECT("Table!A"&$AG7):INDIRECT("Table!" & $AJ$43 & $AG7),0)),"",INDIRECT(CONCATENATE("Table!",ADDRESS($AC7,MATCH(V$1,INDIRECT("Table!A" & $AG7):INDIRECT("Table!" & $AJ$43 & $AG7),0))))) -> 0.11946118 | W7: =IF(ISERROR(MATCH(W$1,INDIRECT("Table!A"&$AG7):INDIRECT("Table!" & $AJ$43 & $AG7),0)),"",INDIRECT(CONCATENATE("Table!",ADDRESS($AC7,MATCH(W$1,INDIRECT("Table!A" & $AG7):INDIRECT("Table!" & $AJ$43 & $AG7),0))))) -> 0.067088403 | X7: =IF(ISERROR(MATCH(X$1,INDIRECT("Table!A"&$AG7):INDIRECT("Table!" & $AJ$43 & $AG7),0)),"",INDIRECT(CONCATENATE("Table!",ADDRESS($AC7,MATCH(X$1,INDIRECT("Table!A" & $AG7):INDIRECT("Table!" & $AJ$43 & $AG7),0))))) -> 0.065378658 | Y7: =IF(ISERROR(MATCH(Y$1,INDIRECT("Table!A"&$AG7):INDIRECT("Table!" & $AJ$43 & $AG7),0)),"",INDIRECT(CONCATENATE("Table!",ADDRESS($AC7,MATCH(Y$1,INDIRECT("Table!A" & $AG7):INDIRECT("Table!" & $AJ$43 & $AG7),0))))) -> 3.033372e-05 | Z7: =IF(ISERROR(MATCH(Z$1,INDIRECT("Table!A"&$AG7):INDIRECT("Table!" & $AJ$43 & $AG7),0)),"",INDIRECT(CONCATENATE("Table!",ADDRESS($AC7,MATCH(Z$1,INDIRECT("Table!A" & $AG7):INDIRECT("Table!" & $AJ$43 & $AG7),0))))) -> 2.8640097e-05 | ... AB7: =IF(ISERROR(MATCH(AB$1,INDIRECT("Table!A"&$AG7):INDIRECT("Table!" & $AJ$43 & $AG7),0)),"",INDIRECT(CONCATENATE("Table!",ADDRESS($AC7,MATCH(AB$1,INDIRECT("Table!A" & $AG7):INDIRECT("Table!" & $AJ$43 & $AG7),0))))) | AC7: =MATCH($A7,Table!$A:$A,0)+$AE$2-1 -> 62 | AG7: =MATCH($A7,Table!$A:$A,0)+$AI$2-1 -> 59 | AJ7: AB
A8: 41787 | B8: =IF(ISERROR(MATCH(B$1,INDIRECT("Table!A"&$AG8):INDIRECT("Table!" & $AJ$91 & $AG8),0)),"",INDIRECT(CONCATENATE("Table!",ADDRESS($AC8,MATCH(B$1,INDIRECT("Table!A" & $AG8):INDIRECT("Table!" & $AJ$90 & $AG8),0))))) -> 0.4171529 | C8: =IF(ISERROR(MATCH(C$1,INDIRECT("Table!A"&$AG8):INDIRECT("Table!" & $AJ$90 & $AG8),0)),"",INDIRECT(CONCATENATE("Table!",ADDRESS($AC8,MATCH(C$1,INDIRECT("Table!A" & $AG8):INDIRECT("Table!" & $AJ$90 & $AG8),0))))) -> 0.55433716 | D8: =IF(ISERROR(MATCH(D$1,INDIRECT("Table!A"&$AG8):INDIRECT("Table!" & $AJ$90 & $AG8),0)),"",INDIRECT(CONCATENATE("Table!",ADDRESS($AC8,MATCH(D$1,INDIRECT("Table!A" & $AG8):INDIRECT("Table!" & $AJ$90 & $AG8),0))))) -> 0.56324581 | E8: =IF(ISERROR(MATCH(E$1,INDIRECT("Table!A"&$AG8):INDIRECT("Table!" & $AJ$90 & $AG8),0)),"",INDIRECT(CONCATENATE("Table!",ADDRESS($AC8,MATCH(E$1,INDIRECT("Table!A" & $AG8):INDIRECT("Table!" & $AJ$90 & $AG8),0))))) -> 0.80957292 | F8: =IF(ISERROR(MATCH(F$1,INDIRECT("Table!A"&$AG8):INDIRECT("Table!" & $AJ$90 & $AG8),0)),"",INDIRECT(CONCATENATE("Table!",ADDRESS($AC8,MATCH(F$1,INDIRECT("Table!A" & $AG8):INDIRECT("Table!" & $AJ$90 & $AG8),0))))) -> 0.68725979 | G8: =IF(ISERROR(MATCH(G$1,INDIRECT("Table!A"&$AG8):INDIRECT("Table!" & $AJ$90 & $AG8),0)),"",INDIRECT(CONCATENATE("Table!",ADDRESS($AC8,MATCH(G$1,INDIRECT("Table!A" & $AG8):INDIRECT("Table!" & $AJ$90 & $AG8),0))))) -> 0.54726923 | H8: =IF(ISERROR(MATCH(H$1,INDIRECT("Table!A"&$AG8):INDIRECT("Table!" & $AJ$90 & $AG8),0)),"",INDIRECT(CONCATENATE("Table!",ADDRESS($AC8,MATCH(H$1,INDIRECT("Table!A" & $AG8):INDIRECT("Table!" & $AJ$90 & $AG8),0))))) -> 0.71789819 | I8: =IF(ISERROR(MATCH(I$1,INDIRECT("Table!A"&$AG8):INDIRECT("Table!" & $AJ$69 & $AG8),0)),"",INDIRECT(CONCATENATE("Table!",ADDRESS($AC8,MATCH(I$1,INDIRECT("Table!A" & $AG8):INDIRECT("Table!" & $AJ$69 & $AG8),0))))) -> 0.2961783 | J8: =IF(ISERROR(MATCH(J$1,INDIRECT("Table!A"&$AG8):INDIRECT("Table!" & $AJ$69 & $AG8),0)),"",INDIRECT(CONCATENATE("Table!",ADDRESS($AC8,MATCH(J$1,INDIRECT("Table!A" & $AG8):INDIRECT("Table!" & $AJ$69 & $AG8),0))))) -> 0.66391575 | K8: =IF(ISERROR(MATCH(K$1,INDIRECT("Table!A"&$AG8):INDIRECT("Table!" & $AJ$69 & $AG8),0)),"",INDIRECT(CONCATENATE("Table!",ADDRESS($AC8,MATCH(K$1,INDIRECT("Table!A" & $AG8):INDIRECT("Table!" & $AJ$69 & $AG8),0))))) -> 0.2628294 | L8: =IF(ISERROR(MATCH(L$1,INDIRECT("Table!A"&$AG8):INDIRECT("Table!" & $AJ$69 & $AG8),0)),"",INDIRECT(CONCATENATE("Table!",ADDRESS($AC8,MATCH(L$1,INDIRECT("Table!A" & $AG8):INDIRECT("Table!" & $AJ$69 & $AG8),0))))) -> 0.79776314 | M8: =IF(ISERROR(MATCH(M$1,INDIRECT("Table!A"&$AG8):INDIRECT("Table!" & $AJ$69 & $AG8),0)),"",INDIRECT(CONCATENATE("Table!",ADDRESS($AC8,MATCH(M$1,INDIRECT("Table!A" & $AG8):INDIRECT("Table!" & $AJ$69 & $AG8),0))))) -> 0.47945518 | N8: =IF(ISERROR(MATCH(N$1,INDIRECT("Table!A"&$AG8):INDIRECT("Table!" & $AJ$69 & $AG8),0)),"",INDIRECT(CONCATENATE("Table!",ADDRESS($AC8,MATCH(N$1,INDIRECT("Table!A" & $AG8):INDIRECT("Table!" & $AJ$69 & $AG8),0))))) -> 0.69311695 | O8: =IF(ISERROR(MATCH(O$1,INDIRECT("Table!A"&$AG8):INDIRECT("Table!" & $AJ$69 & $AG8),0)),"",INDIRECT(CONCATENATE("Table!",ADDRESS($AC8,MATCH(O$1,INDIRECT("Table!A" & $AG8):INDIRECT("Table!" & $AJ$69 & $AG8),0))))) -> 0.82789472 | P8: =IF(ISERROR(MATCH(P$1,INDIRECT("Table!A"&$AG8):INDIRECT("Table!" & $AJ$69 & $AG8),0)),"",INDIRECT(CONCATENATE("Table!",ADDRESS($AC8,MATCH(P$1,INDIRECT("Table!A" & $AG8):INDIRECT("Table!" & $AJ$69 & $AG8),0))))) -> 0.3065025 | ... R8: =IF(ISERROR(MATCH(R$1,INDIRECT("Table!A"&$AG8):INDIRECT("Table!" & $AJ$69 & $AG8),0)),"",INDIRECT(CONCATENATE("Table!",ADDRESS($AC8,MATCH(R$1,INDIRECT("Table!A" & $AG8):INDIRECT("Table!" & $AJ$69 & $AG8),0))))) -> 0.63343952 | S8: =IF(ISERROR(MATCH(S$1,INDIRECT("Table!A"&$AG8):INDIRECT("Table!" & $AJ$43 & $AG8),0)),"",INDIRECT(CONCATENATE("Table!",ADDRESS($AC8,MATCH(S$1,INDIRECT("Table!A" & $AG8):INDIRECT("Table!" & $AJ$43 & $AG8),0))))) -> 0.30087759 | T8: =IF(ISERROR(MATCH(T$1,INDIRECT("Table!A"&$AG8):INDIRECT("Table!" & $AJ$43 & $AG8),0)),"",INDIRECT(CONCATENATE("Table!",ADDRESS($AC8,MATCH(T$1,INDIRECT("Table!A" & $AG8):INDIRECT("Table!" & $AJ$43 & $AG8),0))))) -> 0.30904943 | U8: =IF(ISERROR(MATCH(U$1,INDIRECT("Table!A"&$AG8):INDIRECT("Table!" & $AJ$43 & $AG8),0)),"",INDIRECT(CONCATENATE("Table!",ADDRESS($AC8,MATCH(U$1,INDIRECT("Table!A" & $AG8):INDIRECT("Table!" & $AJ$43 & $AG8),0))))) -> 0.12180554 | V8: =IF(ISERROR(MATCH(V$1,INDIRECT("Table!A"&$AG8):INDIRECT("Table!" & $AJ$43 & $AG8),0)),"",INDIRECT(CONCATENATE("Table!",ADDRESS($AC8,MATCH(V$1,INDIRECT("Table!A" & $AG8):INDIRECT("Table!" & $AJ$43 & $AG8),0))))) -> 0.11883826 | W8: =IF(ISERROR(MATCH(W$1,INDIRECT("Table!A"&$AG8):INDIRECT("Table!" & $AJ$43 & $AG8),0)),"",INDIRECT(CONCATENATE("Table!",ADDRESS($AC8,MATCH(W$1,INDIRECT("Table!A" & $AG8):INDIRECT("Table!" & $AJ$43 & $AG8),0))))) -> 0.064641157 | X8: =IF(ISERROR(MATCH(X$1,INDIRECT("Table!A"&$AG8):INDIRECT("Table!" & $AJ$43 & $AG8),0)),"",INDIRECT(CONCATENATE("Table!",ADDRESS($AC8,MATCH(X$1,INDIRECT("Table!A" & $AG8):INDIRECT("Table!" & $AJ$43 & $AG8),0))))) -> 0.062974799 | Y8: =IF(ISERROR(MATCH(Y$1,INDIRECT("Table!A"&$AG8):INDIRECT("Table!" & $AJ$43 & $AG8),0)),"",INDIRECT(CONCATENATE("Table!",ADDRESS($AC8,MATCH(Y$1,INDIRECT("Table!A" & $AG8):INDIRECT("Table!" & $AJ$43 & $AG8),0))))) -> 3.033372e-05 | Z8: =IF(ISERROR(MATCH(Z$1,INDIRECT("Table!A"&$AG8):INDIRECT("Table!" & $AJ$43 & $AG8),0)),"",INDIRECT(CONCATENATE("Table!",ADDRESS($AC8,MATCH(Z$1,INDIRECT("Table!A" & $AG8):INDIRECT("Table!" & $AJ$43 & $AG8),0))))) -> 2.8640097e-05 | ... AB8: =IF(ISERROR(MATCH(AB$1,INDIRECT("Table!A"&$AG8):INDIRECT("Table!" & $AJ$43 & $AG8),0)),"",INDIRECT(CONCATENATE("Table!",ADDRESS($AC8,MATCH(AB$1,INDIRECT("Table!A" & $AG8):INDIRECT("Table!" & $AJ$43 & $AG8),0))))) | AC8: =MATCH($A8,Table!$A:$A,0)+$AE$2-1 -> 76 | AG8: =MATCH($A8,Table!$A:$A,0)+$AI$2-1 -> 73 | AJ8: AB
A9: 41780 | B9: =IF(ISERROR(MATCH(B$1,INDIRECT("Table!A"&$AG9):INDIRECT("Table!" & $AJ$91 & $AG9),0)),"",INDIRECT(CONCATENATE("Table!",ADDRESS($AC9,MATCH(B$1,INDIRECT("Table!A" & $AG9):INDIRECT("Table!" & $AJ$90 & $AG9),0))))) -> 0.41723449 | C9: =IF(ISERROR(MATCH(C$1,INDIRECT("Table!A"&$AG9):INDIRECT("Table!" & $AJ$90 & $AG9),0)),"",INDIRECT(CONCATENATE("Table!",ADDRESS($AC9,MATCH(C$1,INDIRECT("Table!A" & $AG9):INDIRECT("Table!" & $AJ$90 & $AG9),0))))) -> 0.56120949 | D9: =IF(ISERROR(MATCH(D$1,INDIRECT("Table!A"&$AG9):INDIRECT("Table!" & $AJ$90 & $AG9),0)),"",INDIRECT(CONCATENATE("Table!",ADDRESS($AC9,MATCH(D$1,INDIRECT("Table!A" & $AG9):INDIRECT("Table!" & $AJ$90 & $AG9),0))))) -> 0.57010285 | E9: =IF(ISERROR(MATCH(E$1,INDIRECT("Table!A"&$AG9):INDIRECT("Table!" & $AJ$90 & $AG9),0)),"",INDIRECT(CONCATENATE("Table!",ADDRESS($AC9,MATCH(E$1,INDIRECT("Table!A" & $AG9):INDIRECT("Table!" & $AJ$90 & $AG9),0))))) -> 0.83210439 | F9: =IF(ISERROR(MATCH(F$1,INDIRECT("Table!A"&$AG9):INDIRECT("Table!" & $AJ$90 & $AG9),0)),"",INDIRECT(CONCATENATE("Table!",ADDRESS($AC9,MATCH(F$1,INDIRECT("Table!A" & $AG9):INDIRECT("Table!" & $AJ$90 & $AG9),0))))) -> 0.68662214 | G9: =IF(ISERROR(MATCH(G$1,INDIRECT("Table!A"&$AG9):INDIRECT("Table!" & $AJ$90 & $AG9),0)),"",INDIRECT(CONCATENATE("Table!",ADDRESS($AC9,MATCH(G$1,INDIRECT("Table!A" & $AG9):INDIRECT("Table!" & $AJ$90 & $AG9),0))))) -> 0.54451881 | H9: =IF(ISERROR(MATCH(H$1,INDIRECT("Table!A"&$AG9):INDIRECT("Table!" & $AJ$90 & $AG9),0)),"",INDIRECT(CONCATENATE("Table!",ADDRESS($AC9,MATCH(H$1,INDIRECT("Table!A" & $AG9):INDIRECT("Table!" & $AJ$90 & $AG9),0))))) -> 0.73213568 | I9: =IF(ISERROR(MATCH(I$1,INDIRECT("Table!A"&$AG9):INDIRECT("Table!" & $AJ$69 & $AG9),0)),"",INDIRECT(CONCATENATE("Table!",ADDRESS($AC9,MATCH(I$1,INDIRECT("Table!A" & $AG9):INDIRECT("Table!" & $AJ$69 & $AG9),0))))) -> 0.29508966 | J9: =IF(ISERROR(MATCH(J$1,INDIRECT("Table!A"&$AG9):INDIRECT("Table!" & $AJ$69 & $AG9),0)),"",INDIRECT(CONCATENATE("Table!",ADDRESS($AC9,MATCH(J$1,INDIRECT("Table!A" & $AG9):INDIRECT("Table!" & $AJ$69 & $AG9),0))))) -> 0.66205797 | K9: =IF(ISERROR(MATCH(K$1,INDIRECT("Table!A"&$AG9):INDIRECT("Table!" & $AJ$69 & $AG9),0)),"",INDIRECT(CONCATENATE("Table!",ADDRESS($AC9,MATCH(K$1,INDIRECT("Table!A" & $AG9):INDIRECT("Table!" & $AJ$69 & $AG9),0))))) -> 0.26014811 | L9: =IF(ISERROR(MATCH(L$1,INDIRECT("Table!A"&$AG9):INDIRECT("Table!" & $AJ$69 & $AG9),0)),"",INDIRECT(CONCATENATE("Table!",ADDRESS($AC9,MATCH(L$1,INDIRECT("Table!A" & $AG9):INDIRECT("Table!" & $AJ$69 & $AG9),0))))) -> 0.82850565 | M9: =IF(ISERROR(MATCH(M$1,INDIRECT("Table!A"&$AG9):INDIRECT("Table!" & $AJ$69 & $AG9),0)),"",INDIRECT(CONCATENATE("Table!",ADDRESS($AC9,MATCH(M$1,INDIRECT("Table!A" & $AG9):INDIRECT("Table!" & $AJ$69 & $AG9),0))))) -> 0.47754153 | N9: =IF(ISERROR(MATCH(N$1,INDIRECT("Table!A"&$AG9):INDIRECT("Table!" & $AJ$69 & $AG9),0)),"",INDIRECT(CONCATENATE("Table!",ADDRESS($AC9,MATCH(N$1,INDIRECT("Table!A" & $AG9):INDIRECT("Table!" & $AJ$69 & $AG9),0))))) -> 0.69082044 | O9: =IF(ISERROR(MATCH(O$1,INDIRECT("Table!A"&$AG9):INDIRECT("Table!" & $AJ$69 & $AG9),0)),"",INDIRECT(CONCATENATE("Table!",ADDRESS($AC9,MATCH(O$1,INDIRECT("Table!A" & $AG9):INDIRECT("Table!" & $AJ$69 & $AG9),0))))) -> 0.84565589 | P9: =IF(ISERROR(MATCH(P$1,INDIRECT("Table!A"&$AG9):INDIRECT("Table!" & $AJ$69 & $AG9),0)),"",INDIRECT(CONCATENATE("Table!",ADDRESS($AC9,MATCH(P$1,INDIRECT("Table!A" & $AG9):INDIRECT("Table!" & $AJ$69 & $AG9),0))))) -> 0.30540542 | ... R9: =IF(ISERROR(MATCH(R$1,INDIRECT("Table!A"&$AG9):INDIRECT("Table!" & $AJ$69 & $AG9),0)),"",INDIRECT(CONCATENATE("Table!",ADDRESS($AC9,MATCH(R$1,INDIRECT("Table!A" & $AG9):INDIRECT("Table!" & $AJ$69 & $AG9),0))))) -> 0.61635952 | S9: =IF(ISERROR(MATCH(S$1,INDIRECT("Table!A"&$AG9):INDIRECT("Table!" & $AJ$43 & $AG9),0)),"",INDIRECT(CONCATENATE("Table!",ADDRESS($AC9,MATCH(S$1,INDIRECT("Table!A" & $AG9):INDIRECT("Table!" & $AJ$43 & $AG9),0))))) -> 0.30087759 | T9: =IF(ISERROR(MATCH(T$1,INDIRECT("Table!A"&$AG9):INDIRECT("Table!" & $AJ$43 & $AG9),0)),"",INDIRECT(CONCATENATE("Table!",ADDRESS($AC9,MATCH(T$1,INDIRECT("Table!A" & $AG9):INDIRECT("Table!" & $AJ$43 & $AG9),0))))) -> 0.30904943 | U9: =IF(ISERROR(MATCH(U$1,INDIRECT("Table!A"&$AG9):INDIRECT("Table!" & $AJ$43 & $AG9),0)),"",INDIRECT(CONCATENATE("Table!",ADDRESS($AC9,MATCH(U$1,INDIRECT("Table!A" & $AG9):INDIRECT("Table!" & $AJ$43 & $AG9),0))))) -> 0.11861659 | V9: =IF(ISERROR(MATCH(V$1,INDIRECT("Table!A"&$AG9):INDIRECT("Table!" & $AJ$43 & $AG9),0)),"",INDIRECT(CONCATENATE("Table!",ADDRESS($AC9,MATCH(V$1,INDIRECT("Table!A" & $AG9):INDIRECT("Table!" & $AJ$43 & $AG9),0))))) -> 0.11573033 | W9: =IF(ISERROR(MATCH(W$1,INDIRECT("Table!A"&$AG9):INDIRECT("Table!" & $AJ$43 & $AG9),0)),"",INDIRECT(CONCATENATE("Table!",ADDRESS($AC9,MATCH(W$1,INDIRECT("Table!A" & $AG9):INDIRECT("Table!" & $AJ$43 & $AG9),0))))) -> 0.036915159 | X9: =IF(ISERROR(MATCH(X$1,INDIRECT("Table!A"&$AG9):INDIRECT("Table!" & $AJ$43 & $AG9),0)),"",INDIRECT(CONCATENATE("Table!",ADDRESS($AC9,MATCH(X$1,INDIRECT("Table!A" & $AG9):INDIRECT("Table!" & $AJ$43 & $AG9),0))))) -> 0.035969575 | Y9: =IF(ISERROR(MATCH(Y$1,INDIRECT("Table!A"&$AG9):INDIRECT("Table!" & $AJ$43 & $AG9),0)),"",INDIRECT(CONCATENATE("Table!",ADDRESS($AC9,MATCH(Y$1,INDIRECT("Table!A" & $AG9):INDIRECT("Table!" & $AJ$43 & $AG9),0))))) -> 3.033372e-05 | Z9: =IF(ISERROR(MATCH(Z$1,INDIRECT("Table!A"&$AG9):INDIRECT("Table!" & $AJ$43 & $AG9),0)),"",INDIRECT(CONCATENATE("Table!",ADDRESS($AC9,MATCH(Z$1,INDIRECT("Table!A" & $AG9):INDIRECT("Table!" & $AJ$43 & $AG9),0))))) -> 2.8640097e-05 | ... AB9: =IF(ISERROR(MATCH(AB$1,INDIRECT("Table!A"&$AG9):INDIRECT("Table!" & $AJ$43 & $AG9),0)),"",INDIRECT(CONCATENATE("Table!",ADDRESS($AC9,MATCH(AB$1,INDIRECT("Table!A" & $AG9):INDIRECT("Table!" & $AJ$43 & $AG9),0))))) | AC9: =MATCH($A9,Table!$A:$A,0)+$AE$2-1 -> 90 | AG9: =MATCH($A9,Table!$A:$A,0)+$AI$2-1 -> 87 | AJ9: AB
A10: 41773 | B10: =IF(ISERROR(MATCH(B$1,INDIRECT("Table!A"&$AG10):INDIRECT("Table!" & $AJ$91 & $AG10),0)),"",INDIRECT(CONCATENATE("Table!",ADDRESS($AC10,MATCH(B$1,INDIRECT("Table!A" & $AG10):INDIRECT("Table!" & $AJ$90 & $AG10),0))))) -> 0.41590379 | C10: =IF(ISERROR(MATCH(C$1,INDIRECT("Table!A"&$AG10):INDIRECT("Table!" & $AJ$90 & $AG10),0)),"",INDIRECT(CONCATENATE("Table!",ADDRESS($AC10,MATCH(C$1,INDIRECT("Table!A" & $AG10):INDIRECT("Table!" & $AJ$90 & $AG10),0))))) -> 0.56102612 | D10: =IF(ISERROR(MATCH(D$1,INDIRECT("Table!A"&$AG10):INDIRECT("Table!" & $AJ$90 & $AG10),0)),"",INDIRECT(CONCATENATE("Table!",ADDRESS($AC10,MATCH(D$1,INDIRECT("Table!A" & $AG10):INDIRECT("Table!" & $AJ$90 & $AG10),0))))) -> 0.56992613 | E10: =IF(ISERROR(MATCH(E$1,INDIRECT("Table!A"&$AG10):INDIRECT("Table!" & $AJ$90 & $AG10),0)),"",INDIRECT(CONCATENATE("Table!",ADDRESS($AC10,MATCH(E$1,INDIRECT("Table!A" & $AG10):INDIRECT("Table!" & $AJ$90 & $AG10),0))))) -> 0.83164175 | F10: =IF(ISERROR(MATCH(F$1,INDIRECT("Table!A"&$AG10):INDIRECT("Table!" & $AJ$90 & $AG10),0)),"",INDIRECT(CONCATENATE("Table!",ADDRESS($AC10,MATCH(F$1,INDIRECT("Table!A" & $AG10):INDIRECT("Table!" & $AJ$90 & $AG10),0))))) -> 0.68186603 | G10: =IF(ISERROR(MATCH(G$1,INDIRECT("Table!A"&$AG10):INDIRECT("Table!" & $AJ$90 & $AG10),0)),"",INDIRECT(CONCATENATE("Table!",ADDRESS($AC10,MATCH(G$1,INDIRECT("Table!A" & $AG10):INDIRECT("Table!" & $AJ$90 & $AG10),0))))) -> 0.54150832 | H10: =IF(ISERROR(MATCH(H$1,INDIRECT("Table!A"&$AG10):INDIRECT("Table!" & $AJ$90 & $AG10),0)),"",INDIRECT(CONCATENATE("Table!",ADDRESS($AC10,MATCH(H$1,INDIRECT("Table!A" & $AG10):INDIRECT("Table!" & $AJ$90 & $AG10),0))))) -> 0.72797928 | I10: =IF(ISERROR(MATCH(I$1,INDIRECT("Table!A"&$AG10):INDIRECT("Table!" & $AJ$69 & $AG10),0)),"",INDIRECT(CONCATENATE("Table!",ADDRESS($AC10,MATCH(I$1,INDIRECT("Table!A" & $AG10):INDIRECT("Table!" & $AJ$69 & $AG10),0))))) -> 0.29272992 | J10: =IF(ISERROR(MATCH(J$1,INDIRECT("Table!A"&$AG10):INDIRECT("Table!" & $AJ$69 & $AG10),0)),"",INDIRECT(CONCATENATE("Table!",ADDRESS($AC10,MATCH(J$1,INDIRECT("Table!A" & $AG10):INDIRECT("Table!" & $AJ$69 & $AG10),0))))) -> 0.6600857 | K10: =IF(ISERROR(MATCH(K$1,INDIRECT("Table!A"&$AG10):INDIRECT("Table!" & $AJ$69 & $AG10),0)),"",INDIRECT(CONCATENATE("Table!",ADDRESS($AC10,MATCH(K$1,INDIRECT("Table!A" & $AG10):INDIRECT("Table!" & $AJ$69 & $AG10),0))))) -> 0.24417774 | L10: =IF(ISERROR(MATCH(L$1,INDIRECT("Table!A"&$AG10):INDIRECT("Table!" & $AJ$69 & $AG10),0)),"",INDIRECT(CONCATENATE("Table!",ADDRESS($AC10,MATCH(L$1,INDIRECT("Table!A" & $AG10):INDIRECT("Table!" & $AJ$69 & $AG10),0))))) -> 0.8279907 | M10: =IF(ISERROR(MATCH(M$1,INDIRECT("Table!A"&$AG10):INDIRECT("Table!" & $AJ$69 & $AG10),0)),"",INDIRECT(CONCATENATE("Table!",ADDRESS($AC10,MATCH(M$1,INDIRECT("Table!A" & $AG10):INDIRECT("Table!" & $AJ$69 & $AG10),0))))) -> 0.4761865 | N10: =IF(ISERROR(MATCH(N$1,INDIRECT("Table!A"&$AG10):INDIRECT("Table!" & $AJ$69 & $AG10),0)),"",INDIRECT(CONCATENATE("Table!",ADDRESS($AC10,MATCH(N$1,INDIRECT("Table!A" & $AG10):INDIRECT("Table!" & $AJ$69 & $AG10),0))))) -> 0.68623101 | O10: =IF(ISERROR(MATCH(O$1,INDIRECT("Table!A"&$AG10):INDIRECT("Table!" & $AJ$69 & $AG10),0)),"",INDIRECT(CONCATENATE("Table!",ADDRESS($AC10,MATCH(O$1,INDIRECT("Table!A" & $AG10):INDIRECT("Table!" & $AJ$69 & $AG10),0))))) -> 0.84107545 | P10: =IF(ISERROR(MATCH(P$1,INDIRECT("Table!A"&$AG10):INDIRECT("Table!" & $AJ$69 & $AG10),0)),"",INDIRECT(CONCATENATE("Table!",ADDRESS($AC10,MATCH(P$1,INDIRECT("Table!A" & $AG10):INDIRECT("Table!" & $AJ$69 & $AG10),0))))) -> 0.30302943 | ... R10: =IF(ISERROR(MATCH(R$1,INDIRECT("Table!A"&$AG10):INDIRECT("Table!" & $AJ$69 & $AG10),0)),"",INDIRECT(CONCATENATE("Table!",ADDRESS($AC10,MATCH(R$1,INDIRECT("Table!A" & $AG10):INDIRECT("Table!" & $AJ$69 & $AG10),0))))) -> 0.68146375 | S10: =IF(ISERROR(MATCH(S$1,INDIRECT("Table!A"&$AG10):INDIRECT("Table!" & $AJ$43 & $AG10),0)),"",INDIRECT(CONCATENATE("Table!",ADDRESS($AC10,MATCH(S$1,INDIRECT("Table!A" & $AG10):INDIRECT("Table!" & $AJ$43 & $AG10),0))))) -> 0.28993853 | T10: =IF(ISERROR(MATCH(T$1,INDIRECT("Table!A"&$AG10):INDIRECT("Table!" & $AJ$43 & $AG10),0)),"",INDIRECT(CONCATENATE("Table!",ADDRESS($AC10,MATCH(T$1,INDIRECT("Table!A" & $AG10):INDIRECT("Table!" & $AJ$43 & $AG10),0))))) -> 0.28577386 | U10: =IF(ISERROR(MATCH(U$1,INDIRECT("Table!A"&$AG10):INDIRECT("Table!" & $AJ$43 & $AG10),0)),"",INDIRECT(CONCATENATE("Table!",ADDRESS($AC10,MATCH(U$1,INDIRECT("Table!A" & $AG10):INDIRECT("Table!" & $AJ$43 & $AG10),0))))) -> 0.11014565 | V10: =IF(ISERROR(MATCH(V$1,INDIRECT("Table!A"&$AG10):INDIRECT("Table!" & $AJ$43 & $AG10),0)),"",INDIRECT(CONCATENATE("Table!",ADDRESS($AC10,MATCH(V$1,INDIRECT("Table!A" & $AG10):INDIRECT("Table!" & $AJ$43 & $AG10),0))))) -> 0.10746146 | W10: =IF(ISERROR(MATCH(W$1,INDIRECT("Table!A"&$AG10):INDIRECT("Table!" & $AJ$43 & $AG10),0)),"",INDIRECT(CONCATENATE("Table!",ADDRESS($AC10,MATCH(W$1,INDIRECT("Table!A" & $AG10):INDIRECT("Table!" & $AJ$43 & $AG10),0))))) -> 0.012744076 | X10: =IF(ISERROR(MATCH(X$1,INDIRECT("Table!A"&$AG10):INDIRECT("Table!" & $AJ$43 & $AG10),0)),"",INDIRECT(CONCATENATE("Table!",ADDRESS($AC10,MATCH(X$1,INDIRECT("Table!A" & $AG10):INDIRECT("Table!" & $AJ$43 & $AG10),0))))) -> 0.012382068 | Y10: =IF(ISERROR(MATCH(Y$1,INDIRECT("Table!A"&$AG10):INDIRECT("Table!" & $AJ$43 & $AG10),0)),"",INDIRECT(CONCATENATE("Table!",ADDRESS($AC10,MATCH(Y$1,INDIRECT("Table!A" & $AG10):INDIRECT("Table!" & $AJ$43 & $AG10),0))))) -> 3.033372e-05 | Z10: =IF(ISERROR(MATCH(Z$1,INDIRECT("Table!A"&$AG10):INDIRECT("Table!" & $AJ$43 & $AG10),0)),"",INDIRECT(CONCATENATE("Table!",ADDRESS($AC10,MATCH(Z$1,INDIRECT("Table!A" & $AG10):INDIRECT("Table!" & $AJ$43 & $AG10),0))))) -> 2.8640097e-05 | ... AB10: =IF(ISERROR(MATCH(AB$1,INDIRECT("Table!A"&$AG10):INDIRECT("Table!" & $AJ$43 & $AG10),0)),"",INDIRECT(CONCATENATE("Table!",ADDRESS($AC10,MATCH(AB$1,INDIRECT("Table!A" & $AG10):INDIRECT("Table!" & $AJ$43 & $AG10),0))))) | AC10: =MATCH($A10,Table!$A:$A,0)+$AE$2-1 -> 104 | AG10: =MATCH($A10,Table!$A:$A,0)+$AI$2-1 -> 101 | AJ10: AB
A11: 41766 | B11: =IF(ISERROR(MATCH(B$1,INDIRECT("Table!A"&$AG11):INDIRECT("Table!" & $AJ$91 & $AG11),0)),"",INDIRECT(CONCATENATE("Table!",ADDRESS($AC11,MATCH(B$1,INDIRECT("Table!A" & $AG11):INDIRECT("Table!" & $AJ$90 & $AG11),0))))) -> 0.4155 | C11: =IF(ISERROR(MATCH(C$1,INDIRECT("Table!A"&$AG11):INDIRECT("Table!" & $AJ$90 & $AG11),0)),"",INDIRECT(CONCATENATE("Table!",ADDRESS($AC11,MATCH(C$1,INDIRECT("Table!A" & $AG11):INDIRECT("Table!" & $AJ$90 & $AG11),0))))) -> 0.5587 | D11: =IF(ISERROR(MATCH(D$1,INDIRECT("Table!A"&$AG11):INDIRECT("Table!" & $AJ$90 & $AG11),0)),"",INDIRECT(CONCATENATE("Table!",ADDRESS($AC11,MATCH(D$1,INDIRECT("Table!A" & $AG11):INDIRECT("Table!" & $AJ$90 & $AG11),0))))) -> 0.5676 | E11: =IF(ISERROR(MATCH(E$1,INDIRECT("Table!A"&$AG11):INDIRECT("Table!" & $AJ$90 & $AG11),0)),"",INDIRECT(CONCATENATE("Table!",ADDRESS($AC11,MATCH(E$1,INDIRECT("Table!A" & $AG11):INDIRECT("Table!" & $AJ$90 & $AG11),0))))) -> 0.8304 | F11: =IF(ISERROR(MATCH(F$1,INDIRECT("Table!A"&$AG11):INDIRECT("Table!" & $AJ$90 & $AG11),0)),"",INDIRECT(CONCATENATE("Table!",ADDRESS($AC11,MATCH(F$1,INDIRECT("Table!A" & $AG11):INDIRECT("Table!" & $AJ$90 & $AG11),0))))) -> 0.671 | G11: =IF(ISERROR(MATCH(G$1,INDIRECT("Table!A"&$AG11):INDIRECT("Table!" & $AJ$90 & $AG11),0)),"",INDIRECT(CONCATENATE("Table!",ADDRESS($AC11,MATCH(G$1,INDIRECT("Table!A" & $AG11):INDIRECT("Table!" & $AJ$90 & $AG11),0))))) -> 0.5402 | H11: =IF(ISERROR(MATCH(H$1,INDIRECT("Table!A"&$AG11):INDIRECT("Table!" & $AJ$90 & $AG11),0)),"",INDIRECT(CONCATENATE("Table!",ADDRESS($AC11,MATCH(H$1,INDIRECT("Table!A" & $AG11):INDIRECT("Table!" & $AJ$90 & $AG11),0))))) -> 0.7269 | I11: =IF(ISERROR(MATCH(I$1,INDIRECT("Table!A"&$AG11):INDIRECT("Table!" & $AJ$69 & $AG11),0)),"",INDIRECT(CONCATENATE("Table!",ADDRESS($AC11,MATCH(I$1,INDIRECT("Table!A" & $AG11):INDIRECT("Table!" & $AJ$69 & $AG11),0))))) -> 0.2869 | J11: =IF(ISERROR(MATCH(J$1,INDIRECT("Table!A"&$AG11):INDIRECT("Table!" & $AJ$69 & $AG11),0)),"",INDIRECT(CONCATENATE("Table!",ADDRESS($AC11,MATCH(J$1,INDIRECT("Table!A" & $AG11):INDIRECT("Table!" & $AJ$69 & $AG11),0))))) -> 0.658 | K11: =IF(ISERROR(MATCH(K$1,INDIRECT("Table!A"&$AG11):INDIRECT("Table!" & $AJ$69 & $AG11),0)),"",INDIRECT(CONCATENATE("Table!",ADDRESS($AC11,MATCH(K$1,INDIRECT("Table!A" & $AG11):INDIRECT("Table!" & $AJ$69 & $AG11),0))))) -> 0.2329 | L11: =IF(ISERROR(MATCH(L$1,INDIRECT("Table!A"&$AG11):INDIRECT("Table!" & $AJ$69 & $AG11),0)),"",INDIRECT(CONCATENATE("Table!",ADDRESS($AC11,MATCH(L$1,INDIRECT("Table!A" & $AG11):INDIRECT("Table!" & $AJ$69 & $AG11),0))))) -> 0.827 | M11: =IF(ISERROR(MATCH(M$1,INDIRECT("Table!A"&$AG11):INDIRECT("Table!" & $AJ$69 & $AG11),0)),"",INDIRECT(CONCATENATE("Table!",ADDRESS($AC11,MATCH(M$1,INDIRECT("Table!A" & $AG11):INDIRECT("Table!" & $AJ$69 & $AG11),0))))) -> 0.475 | N11: =IF(ISERROR(MATCH(N$1,INDIRECT("Table!A"&$AG11):INDIRECT("Table!" & $AJ$69 & $AG11),0)),"",INDIRECT(CONCATENATE("Table!",ADDRESS($AC11,MATCH(N$1,INDIRECT("Table!A" & $AG11):INDIRECT("Table!" & $AJ$69 & $AG11),0))))) -> 0.6756 | O11: =IF(ISERROR(MATCH(O$1,INDIRECT("Table!A"&$AG11):INDIRECT("Table!" & $AJ$69 & $AG11),0)),"",INDIRECT(CONCATENATE("Table!",ADDRESS($AC11,MATCH(O$1,INDIRECT("Table!A" & $AG11):INDIRECT("Table!" & $AJ$69 & $AG11),0))))) -> 0.8398 | P11: =IF(ISERROR(MATCH(P$1,INDIRECT("Table!A"&$AG11):INDIRECT("Table!" & $AJ$69 & $AG11),0)),"",INDIRECT(CONCATENATE("Table!",ADDRESS($AC11,MATCH(P$1,INDIRECT("Table!A" & $AG11):INDIRECT("Table!" & $AJ$69 & $AG11),0))))) -> 0.2967 | ... R11: =IF(ISERROR(MATCH(R$1,INDIRECT("Table!A"&$AG11):INDIRECT("Table!" & $AJ$69 & $AG11),0)),"",INDIRECT(CONCATENATE("Table!",ADDRESS($AC11,MATCH(R$1,INDIRECT("Table!A" & $AG11):INDIRECT("Table!" & $AJ$69 & $AG11),0))))) -> 0.67 | S11: =IF(ISERROR(MATCH(S$1,INDIRECT("Table!A"&$AG11):INDIRECT("Table!" & $AJ$43 & $AG11),0)),"",INDIRECT(CONCATENATE("Table!",ADDRESS($AC11,MATCH(S$1,INDIRECT("Table!A" & $AG11):INDIRECT("Table!" & $AJ$43 & $AG11),0))))) -> 0.2899 | T11: =IF(ISERROR(MATCH(T$1,INDIRECT("Table!A"&$AG11):INDIRECT("Table!" & $AJ$43 & $AG11),0)),"",INDIRECT(CONCATENATE("Table!",ADDRESS($AC11,MATCH(T$1,INDIRECT("Table!A" & $AG11):INDIRECT("Table!" & $AJ$43 & $AG11),0))))) -> 0.2858 | U11: =IF(ISERROR(MATCH(U$1,INDIRECT("Table!A"&$AG11):INDIRECT("Table!" & $AJ$43 & $AG11),0)),"",INDIRECT(CONCATENATE("Table!",ADDRESS($AC11,MATCH(U$1,INDIRECT("Table!A" & $AG11):INDIRECT("Table!" & $AJ$43 & $AG11),0))))) -> 0.0931 | V11: =IF(ISERROR(MATCH(V$1,INDIRECT("Table!A"&$AG11):INDIRECT("Table!" & $AJ$43 & $AG11),0)),"",INDIRECT(CONCATENATE("Table!",ADDRESS($AC11,MATCH(V$1,INDIRECT("Table!A" & $AG11):INDIRECT("Table!" & $AJ$43 & $AG11),0))))) -> 0.0909 | W11: =IF(ISERROR(MATCH(W$1,INDIRECT("Table!A"&$AG11):INDIRECT("Table!" & $AJ$43 & $AG11),0)),"",INDIRECT(CONCATENATE("Table!",ADDRESS($AC11,MATCH(W$1,INDIRECT("Table!A" & $AG11):INDIRECT("Table!" & $AJ$43 & $AG11),0))))) -> 0.0126 | X11: =IF(ISERROR(MATCH(X$1,INDIRECT("Table!A"&$AG11):INDIRECT("Table!" & $AJ$43 & $AG11),0)),"",INDIRECT(CONCATENATE("Table!",ADDRESS($AC11,MATCH(X$1,INDIRECT("Table!A" & $AG11):INDIRECT("Table!" & $AJ$43 & $AG11),0))))) -> 0.0122 | Y11: =IF(ISERROR(MATCH(Y$1,INDIRECT("Table!A"&$AG11):INDIRECT("Table!" & $AJ$43 & $AG11),0)),"",INDIRECT(CONCATENATE("Table!",ADDRESS($AC11,MATCH(Y$1,INDIRECT("Table!A" & $AG11):INDIRECT("Table!" & $AJ$43 & $AG11),0))))) -> 0 | Z11: =IF(ISERROR(MATCH(Z$1,INDIRECT("Table!A"&$AG11):INDIRECT("Table!" & $AJ$43 & $AG11),0)),"",INDIRECT(CONCATENATE("Table!",ADDRESS($AC11,MATCH(Z$1,INDIRECT("Table!A" & $AG11):INDIRECT("Table!" & $AJ$43 & $AG11),0))))) -> 0 | ... AB11: =IF(ISERROR(MATCH(AB$1,INDIRECT("Table!A"&$AG11):INDIRECT("Table!" & $AJ$43 & $AG11),0)),"",INDIRECT(CONCATENATE("Table!",ADDRESS($AC11,MATCH(AB$1,INDIRECT("Table!A" & $AG11):INDIRECT("Table!" & $AJ$43 & $AG11),0))))) | AC11: =MATCH($A11,Table!$A:$A,0)+$AE$2-1 -> 118 | AG11: =MATCH($A11,Table!$A:$A,0)+$AI$2-1 -> 115 | AJ11: AB
A12: 41752 | B12: =IF(ISERROR(MATCH(B$1,INDIRECT("Table!A"&$AG12):INDIRECT("Table!" & $AJ$91 & $AG12),0)),"",INDIRECT(CONCATENATE("Table!",ADDRESS($AC12,MATCH(B$1,INDIRECT("Table!A" & $AG12):INDIRECT("Table!" & $AJ$90 & $AG12),0))))) -> 0.41939273 | C12: =IF(ISERROR(MATCH(C$1,INDIRECT("Table!A"&$AG12):INDIRECT("Table!" & $AJ$90 & $AG12),0)),"",INDIRECT(CONCATENATE("Table!",ADDRESS($AC12,MATCH(C$1,INDIRECT("Table!A" & $AG12):INDIRECT("Table!" & $AJ$90 & $AG12),0))))) -> 0.55751156 | D12: =IF(ISERROR(MATCH(D$1,INDIRECT("Table!A"&$AG12):INDIRECT("Table!" & $AJ$90 & $AG12),0)),"",INDIRECT(CONCATENATE("Table!",ADDRESS($AC12,MATCH(D$1,INDIRECT("Table!A" & $AG12):INDIRECT("Table!" & $AJ$90 & $AG12),0))))) -> 0.56642751 | E12: =IF(ISERROR(MATCH(E$1,INDIRECT("Table!A"&$AG12):INDIRECT("Table!" & $AJ$90 & $AG12),0)),"",INDIRECT(CONCATENATE("Table!",ADDRESS($AC12,MATCH(E$1,INDIRECT("Table!A" & $AG12):INDIRECT("Table!" & $AJ$90 & $AG12),0))))) -> 0.82849392 | F12: =IF(ISERROR(MATCH(F$1,INDIRECT("Table!A"&$AG12):INDIRECT("Table!" & $AJ$90 & $AG12),0)),"",INDIRECT(CONCATENATE("Table!",ADDRESS($AC12,MATCH(F$1,INDIRECT("Table!A" & $AG12):INDIRECT("Table!" & $AJ$90 & $AG12),0))))) -> 0.6724805 | G12: =IF(ISERROR(MATCH(G$1,INDIRECT("Table!A"&$AG12):INDIRECT("Table!" & $AJ$90 & $AG12),0)),"",INDIRECT(CONCATENATE("Table!",ADDRESS($AC12,MATCH(G$1,INDIRECT("Table!A" & $AG12):INDIRECT("Table!" & $AJ$90 & $AG12),0))))) -> 0.53690813 | H12: =IF(ISERROR(MATCH(H$1,INDIRECT("Table!A"&$AG12):INDIRECT("Table!" & $AJ$90 & $AG12),0)),"",INDIRECT(CONCATENATE("Table!",ADDRESS($AC12,MATCH(H$1,INDIRECT("Table!A" & $AG12):INDIRECT("Table!" & $AJ$90 & $AG12),0))))) -> 0.72578478 | I12: =IF(ISERROR(MATCH(I$1,INDIRECT("Table!A"&$AG12):INDIRECT("Table!" & $AJ$69 & $AG12),0)),"",INDIRECT(CONCATENATE("Table!",ADDRESS($AC12,MATCH(I$1,INDIRECT("Table!A" & $AG12):INDIRECT("Table!" & $AJ$69 & $AG12),0))))) -> 0.27538041 | J12: =IF(ISERROR(MATCH(J$1,INDIRECT("Table!A"&$AG12):INDIRECT("Table!" & $AJ$69 & $AG12),0)),"",INDIRECT(CONCATENATE("Table!",ADDRESS($AC12,MATCH(J$1,INDIRECT("Table!A" & $AG12):INDIRECT("Table!" & $AJ$69 & $AG12),0))))) -> 0.62700937 | K12: =IF(ISERROR(MATCH(K$1,INDIRECT("Table!A"&$AG12):INDIRECT("Table!" & $AJ$69 & $AG12),0)),"",INDIRECT(CONCATENATE("Table!",ADDRESS($AC12,MATCH(K$1,INDIRECT("Table!A" & $AG12):INDIRECT("Table!" & $AJ$69 & $AG12),0))))) -> 0.20100932 | L12: =IF(ISERROR(MATCH(L$1,INDIRECT("Table!A"&$AG12):INDIRECT("Table!" & $AJ$69 & $AG12),0)),"",INDIRECT(CONCATENATE("Table!",ADDRESS($AC12,MATCH(L$1,INDIRECT("Table!A" & $AG12):INDIRECT("Table!" & $AJ$69 & $AG12),0))))) -> 0.82499633 | M12: =IF(ISERROR(MATCH(M$1,INDIRECT("Table!A"&$AG12):INDIRECT("Table!" & $AJ$69 & $AG12),0)),"",INDIRECT(CONCATENATE("Table!",ADDRESS($AC12,MATCH(M$1,INDIRECT("Table!A" & $AG12):INDIRECT("Table!" & $AJ$69 & $AG12),0))))) -> 0.47226084 | N12: =IF(ISERROR(MATCH(N$1,INDIRECT("Table!A"&$AG12):INDIRECT("Table!" & $AJ$69 & $AG12),0)),"",INDIRECT(CONCATENATE("Table!",ADDRESS($AC12,MATCH(N$1,INDIRECT("Table!A" & $AG12):INDIRECT("Table!" & $AJ$69 & $AG12),0))))) -> 0.67560947 | O12: =IF(ISERROR(MATCH(O$1,INDIRECT("Table!A"&$AG12):INDIRECT("Table!" & $AJ$69 & $AG12),0)),"",INDIRECT(CONCATENATE("Table!",ADDRESS($AC12,MATCH(O$1,INDIRECT("Table!A" & $AG12):INDIRECT("Table!" & $AJ$69 & $AG12),0))))) -> 0.83332005 | P12: =IF(ISERROR(MATCH(P$1,INDIRECT("Table!A"&$AG12):INDIRECT("Table!" & $AJ$69 & $AG12),0)),"",INDIRECT(CONCATENATE("Table!",ADDRESS($AC12,MATCH(P$1,INDIRECT("Table!A" & $AG12):INDIRECT("Table!" & $AJ$69 & $AG12),0))))) -> 0.28523534 | ... R12: =IF(ISERROR(MATCH(R$1,INDIRECT("Table!A"&$AG12):INDIRECT("Table!" & $AJ$69 & $AG12),0)),"",INDIRECT(CONCATENATE("Table!",ADDRESS($AC12,MATCH(R$1,INDIRECT("Table!A" & $AG12):INDIRECT("Table!" & $AJ$69 & $AG12),0))))) -> 0.64590318 | S12: =IF(ISERROR(MATCH(S$1,INDIRECT("Table!A"&$AG12):INDIRECT("Table!" & $AJ$43 & $AG12),0)),"",INDIRECT(CONCATENATE("Table!",ADDRESS($AC12,MATCH(S$1,INDIRECT("Table!A" & $AG12):INDIRECT("Table!" & $AJ$43 & $AG12),0))))) -> 0.28993853 | T12: =IF(ISERROR(MATCH(T$1,INDIRECT("Table!A"&$AG12):INDIRECT("Table!" & $AJ$43 & $AG12),0)),"",INDIRECT(CONCATENATE("Table!",ADDRESS($AC12,MATCH(T$1,INDIRECT("Table!A" & $AG12):INDIRECT("Table!" & $AJ$43 & $AG12),0))))) -> 0.28577386 | U12: =IF(ISERROR(MATCH(U$1,INDIRECT("Table!A"&$AG12):INDIRECT("Table!" & $AJ$43 & $AG12),0)),"",INDIRECT(CONCATENATE("Table!",ADDRESS($AC12,MATCH(U$1,INDIRECT("Table!A" & $AG12):INDIRECT("Table!" & $AJ$43 & $AG12),0))))) -> 0.075581845 | V12: =IF(ISERROR(MATCH(V$1,INDIRECT("Table!A"&$AG12):INDIRECT("Table!" & $AJ$43 & $AG12),0)),"",INDIRECT(CONCATENATE("Table!",ADDRESS($AC12,MATCH(V$1,INDIRECT("Table!A" & $AG12):INDIRECT("Table!" & $AJ$43 & $AG12),0))))) -> 0.073739179 | W12: =IF(ISERROR(MATCH(W$1,INDIRECT("Table!A"&$AG12):INDIRECT("Table!" & $AJ$43 & $AG12),0)),"",INDIRECT(CONCATENATE("Table!",ADDRESS($AC12,MATCH(W$1,INDIRECT("Table!A" & $AG12):INDIRECT("Table!" & $AJ$43 & $AG12),0))))) -> 0.01251902 | X12: =IF(ISERROR(MATCH(X$1,INDIRECT("Table!A"&$AG12):INDIRECT("Table!" & $AJ$43 & $AG12),0)),"",INDIRECT(CONCATENATE("Table!",ADDRESS($AC12,MATCH(X$1,INDIRECT("Table!A" & $AG12):INDIRECT("Table!" & $AJ$43 & $AG12),0))))) -> 0.012162972 | Y12: =IF(ISERROR(MATCH(Y$1,INDIRECT("Table!A"&$AG12):INDIRECT("Table!" & $AJ$43 & $AG12),0)),"",INDIRECT(CONCATENATE("Table!",ADDRESS($AC12,MATCH(Y$1,INDIRECT("Table!A" & $AG12):INDIRECT("Table!" & $AJ$43 & $AG12),0))))) | Z12: =IF(ISERROR(MATCH(Z$1,INDIRECT("Table!A"&$AG12):INDIRECT("Table!" & $AJ$43 & $AG12),0)),"",INDIRECT(CONCATENATE("Table!",ADDRESS($AC12,MATCH(Z$1,INDIRECT("Table!A" & $AG12):INDIRECT("Table!" & $AJ$43 & $AG12),0))))) | ... AB12: =IF(ISERROR(MATCH(AB$1,INDIRECT("Table!A"&$AG12):INDIRECT("Table!" & $AJ$43 & $AG12),0)),"",INDIRECT(CONCATENATE("Table!",ADDRESS($AC12,MATCH(AB$1,INDIRECT("Table!A" & $AG12):INDIRECT("Table!" & $AJ$43 & $AG12),0))))) | AC12: =MATCH($A12,Table!$A:$A,0)+$AE$2-1 -> 132 | AG12: =MATCH($A12,Table!$A:$A,0)+$AI$2-1 -> 129 | AJ12: AB
A13: 41745 | B13: =IF(ISERROR(MATCH(B$1,INDIRECT("Table!A"&$AG13):INDIRECT("Table!" & $AJ$91 & $AG13),0)),"",INDIRECT(CONCATENATE("Table!",ADDRESS($AC13,MATCH(B$1,INDIRECT("Table!A" & $AG13):INDIRECT("Table!" & $AJ$90 & $AG13),0))))) -> 0.42210173 | C13: =IF(ISERROR(MATCH(C$1,INDIRECT("Table!A"&$AG13):INDIRECT("Table!" & $AJ$90 & $AG13),0)),"",INDIRECT(CONCATENATE("Table!",ADDRESS($AC13,MATCH(C$1,INDIRECT("Table!A" & $AG13):INDIRECT("Table!" & $AJ$90 & $AG13),0))))) -> 0.55731025 | D13: =IF(ISERROR(MATCH(D$1,INDIRECT("Table!A"&$AG13):INDIRECT("Table!" & $AJ$90 & $AG13),0)),"",INDIRECT(CONCATENATE("Table!",ADDRESS($AC13,MATCH(D$1,INDIRECT("Table!A" & $AG13):INDIRECT("Table!" & $AJ$90 & $AG13),0))))) -> 0.56622687 | E13: =IF(ISERROR(MATCH(E$1,INDIRECT("Table!A"&$AG13):INDIRECT("Table!" & $AJ$90 & $AG13),0)),"",INDIRECT(CONCATENATE("Table!",ADDRESS($AC13,MATCH(E$1,INDIRECT("Table!A" & $AG13):INDIRECT("Table!" & $AJ$90 & $AG13),0))))) -> 0.82710655 | F13: =IF(ISERROR(MATCH(F$1,INDIRECT("Table!A"&$AG13):INDIRECT("Table!" & $AJ$90 & $AG13),0)),"",INDIRECT(CONCATENATE("Table!",ADDRESS($AC13,MATCH(F$1,INDIRECT("Table!A" & $AG13):INDIRECT("Table!" & $AJ$90 & $AG13),0))))) -> 0.6793999 | G13: =IF(ISERROR(MATCH(G$1,INDIRECT("Table!A"&$AG13):INDIRECT("Table!" & $AJ$90 & $AG13),0)),"",INDIRECT(CONCATENATE("Table!",ADDRESS($AC13,MATCH(G$1,INDIRECT("Table!A" & $AG13):INDIRECT("Table!" & $AJ$90 & $AG13),0))))) -> 0.53466451 | H13: =IF(ISERROR(MATCH(H$1,INDIRECT("Table!A"&$AG13):INDIRECT("Table!" & $AJ$90 & $AG13),0)),"",INDIRECT(CONCATENATE("Table!",ADDRESS($AC13,MATCH(H$1,INDIRECT("Table!A" & $AG13):INDIRECT("Table!" & $AJ$90 & $AG13),0))))) -> 0.71225494 | I13: =IF(ISERROR(MATCH(I$1,INDIRECT("Table!A"&$AG13):INDIRECT("Table!" & $AJ$69 & $AG13),0)),"",INDIRECT(CONCATENATE("Table!",ADDRESS($AC13,MATCH(I$1,INDIRECT("Table!A" & $AG13):INDIRECT("Table!" & $AJ$69 & $AG13),0))))) -> 0.26910323 | J13: =IF(ISERROR(MATCH(J$1,INDIRECT("Table!A"&$AG13):INDIRECT("Table!" & $AJ$69 & $AG13),0)),"",INDIRECT(CONCATENATE("Table!",ADDRESS($AC13,MATCH(J$1,INDIRECT("Table!A" & $AG13):INDIRECT("Table!" & $AJ$69 & $AG13),0))))) -> 0.62171341 | K13: =IF(ISERROR(MATCH(K$1,INDIRECT("Table!A"&$AG13):INDIRECT("Table!" & $AJ$69 & $AG13),0)),"",INDIRECT(CONCATENATE("Table!",ADDRESS($AC13,MATCH(K$1,INDIRECT("Table!A" & $AG13):INDIRECT("Table!" & $AJ$69 & $AG13),0))))) -> 0.18831871 | L13: =IF(ISERROR(MATCH(L$1,INDIRECT("Table!A"&$AG13):INDIRECT("Table!" & $AJ$69 & $AG13),0)),"",INDIRECT(CONCATENATE("Table!",ADDRESS($AC13,MATCH(L$1,INDIRECT("Table!A" & $AG13):INDIRECT("Table!" & $AJ$69 & $AG13),0))))) -> 0.82261327 | M13: =IF(ISERROR(MATCH(M$1,INDIRECT("Table!A"&$AG13):INDIRECT("Table!" & $AJ$69 & $AG13),0)),"",INDIRECT(CONCATENATE("Table!",ADDRESS($AC13,MATCH(M$1,INDIRECT("Table!A" & $AG13):INDIRECT("Table!" & $AJ$69 & $AG13),0))))) -> 0.47082755 | N13: =IF(ISERROR(MATCH(N$1,INDIRECT("Table!A"&$AG13):INDIRECT("Table!" & $AJ$69 & $AG13),0)),"",INDIRECT(CONCATENATE("Table!",ADDRESS($AC13,MATCH(N$1,INDIRECT("Table!A" & $AG13):INDIRECT("Table!" & $AJ$69 & $AG13),0))))) -> 0.69701633 | O13: =IF(ISERROR(MATCH(O$1,INDIRECT("Table!A"&$AG13):INDIRECT("Table!" & $AJ$69 & $AG13),0)),"",INDIRECT(CONCATENATE("Table!",ADDRESS($AC13,MATCH(O$1,INDIRECT("Table!A" & $AG13):INDIRECT("Table!" & $AJ$69 & $AG13),0))))) -> 0.81769048 | P13: =IF(ISERROR(MATCH(P$1,INDIRECT("Table!A"&$AG13):INDIRECT("Table!" & $AJ$69 & $AG13),0)),"",INDIRECT(CONCATENATE("Table!",ADDRESS($AC13,MATCH(P$1,INDIRECT("Table!A" & $AG13):INDIRECT("Table!" & $AJ$69 & $AG13),0))))) -> 0.27895875 | ... R13: =IF(ISERROR(MATCH(R$1,INDIRECT("Table!A"&$AG13):INDIRECT("Table!" & $AJ$69 & $AG13),0)),"",INDIRECT(CONCATENATE("Table!",ADDRESS($AC13,MATCH(R$1,INDIRECT("Table!A" & $AG13):INDIRECT("Table!" & $AJ$69 & $AG13),0))))) -> 0.63729163 | S13: =IF(ISERROR(MATCH(S$1,INDIRECT("Table!A"&$AG13):INDIRECT("Table!" & $AJ$43 & $AG13),0)),"",INDIRECT(CONCATENATE("Table!",ADDRESS($AC13,MATCH(S$1,INDIRECT("Table!A" & $AG13):INDIRECT("Table!" & $AJ$43 & $AG13),0))))) -> 0.28993853 | T13: =IF(ISERROR(MATCH(T$1,INDIRECT("Table!A"&$AG13):INDIRECT("Table!" & $AJ$43 & $AG13),0)),"",INDIRECT(CONCATENATE("Table!",ADDRESS($AC13,MATCH(T$1,INDIRECT("Table!A" & $AG13):INDIRECT("Table!" & $AJ$43 & $AG13),0))))) -> 0.28577386 | U13: =IF(ISERROR(MATCH(U$1,INDIRECT("Table!A"&$AG13):INDIRECT("Table!" & $AJ$43 & $AG13),0)),"",INDIRECT(CONCATENATE("Table!",ADDRESS($AC13,MATCH(U$1,INDIRECT("Table!A" & $AG13):INDIRECT("Table!" & $AJ$43 & $AG13),0))))) -> 0.070175593 | V13: =IF(ISERROR(MATCH(V$1,INDIRECT("Table!A"&$AG13):INDIRECT("Table!" & $AJ$43 & $AG13),0)),"",INDIRECT(CONCATENATE("Table!",ADDRESS($AC13,MATCH(V$1,INDIRECT("Table!A" & $AG13):INDIRECT("Table!" & $AJ$43 & $AG13),0))))) -> 0.068465583 | W13: =IF(ISERROR(MATCH(W$1,INDIRECT("Table!A"&$AG13):INDIRECT("Table!" & $AJ$43 & $AG13),0)),"",INDIRECT(CONCATENATE("Table!",ADDRESS($AC13,MATCH(W$1,INDIRECT("Table!A" & $AG13):INDIRECT("Table!" & $AJ$43 & $AG13),0))))) -> 3.033372e-05 | X13: =IF(ISERROR(MATCH(X$1,INDIRECT("Table!A"&$AG13):INDIRECT("Table!" & $AJ$43 & $AG13),0)),"",INDIRECT(CONCATENATE("Table!",ADDRESS($AC13,MATCH(X$1,INDIRECT("Table!A" & $AG13):INDIRECT("Table!" & $AJ$43 & $AG13),0))))) -> 2.8640097e-05 | Y13: =IF(ISERROR(MATCH(Y$1,INDIRECT("Table!A"&$AG13):INDIRECT("Table!" & $AJ$43 & $AG13),0)),"",INDIRECT(CONCATENATE("Table!",ADDRESS($AC13,MATCH(Y$1,INDIRECT("Table!A" & $AG13):INDIRECT("Table!" & $AJ$43 & $AG13),0))))) | Z13: =IF(ISERROR(MATCH(Z$1,INDIRECT("Table!A"&$AG13):INDIRECT("Table!" & $AJ$43 & $AG13),0)),"",INDIRECT(CONCATENATE("Table!",ADDRESS($AC13,MATCH(Z$1,INDIRECT("Table!A" & $AG13):INDIRECT("Table!" & $AJ$43 & $AG13),0))))) | ... AB13: =IF(ISERROR(MATCH(AB$1,INDIRECT("Table!A"&$AG13):INDIRECT("Table!" & $AJ$43 & $AG13),0)),"",INDIRECT(CONCATENATE("Table!",ADDRESS($AC13,MATCH(AB$1,INDIRECT("Table!A" & $AG13):INDIRECT("Table!" & $AJ$43 & $AG13),0))))) | AC13: =MATCH($A13,Table!$A:$A,0)+$AE$2-1 -> 146 | AG13: =MATCH($A13,Table!$A:$A,0)+$AI$2-1 -> 143 | AJ13: AB
A14: 41739 | B14: =IF(ISERROR(MATCH(B$1,INDIRECT("Table!A"&$AG14):INDIRECT("Table!" & $AJ$91 & $AG14),0)),"",INDIRECT(CONCATENATE("Table!",ADDRESS($AC14,MATCH(B$1,INDIRECT("Table!A" & $AG14):INDIRECT("Table!" & $AJ$90 & $AG14),0))))) -> 0.42175056 | C14: =IF(ISERROR(MATCH(C$1,INDIRECT("Table!A"&$AG14):INDIRECT("Table!" & $AJ$90 & $AG14),0)),"",INDIRECT(CONCATENATE("Table!",ADDRESS($AC14,MATCH(C$1,INDIRECT("Table!A" & $AG14):INDIRECT("Table!" & $AJ$90 & $AG14),0))))) -> 0.55674752 | D14: =IF(ISERROR(MATCH(D$1,INDIRECT("Table!A"&$AG14):INDIRECT("Table!" & $AJ$90 & $AG14),0)),"",INDIRECT(CONCATENATE("Table!",ADDRESS($AC14,MATCH(D$1,INDIRECT("Table!A" & $AG14):INDIRECT("Table!" & $AJ$90 & $AG14),0))))) -> 0.56566348 | E14: =IF(ISERROR(MATCH(E$1,INDIRECT("Table!A"&$AG14):INDIRECT("Table!" & $AJ$90 & $AG14),0)),"",INDIRECT(CONCATENATE("Table!",ADDRESS($AC14,MATCH(E$1,INDIRECT("Table!A" & $AG14):INDIRECT("Table!" & $AJ$90 & $AG14),0))))) -> 0.82636864 | F14: =IF(ISERROR(MATCH(F$1,INDIRECT("Table!A"&$AG14):INDIRECT("Table!" & $AJ$90 & $AG14),0)),"",INDIRECT(CONCATENATE("Table!",ADDRESS($AC14,MATCH(F$1,INDIRECT("Table!A" & $AG14):INDIRECT("Table!" & $AJ$90 & $AG14),0))))) -> 0.69521379 | G14: =IF(ISERROR(MATCH(G$1,INDIRECT("Table!A"&$AG14):INDIRECT("Table!" & $AJ$90 & $AG14),0)),"",INDIRECT(CONCATENATE("Table!",ADDRESS($AC14,MATCH(G$1,INDIRECT("Table!A" & $AG14):INDIRECT("Table!" & $AJ$90 & $AG14),0))))) -> 0.530424 | H14: =IF(ISERROR(MATCH(H$1,INDIRECT("Table!A"&$AG14):INDIRECT("Table!" & $AJ$90 & $AG14),0)),"",INDIRECT(CONCATENATE("Table!",ADDRESS($AC14,MATCH(H$1,INDIRECT("Table!A" & $AG14):INDIRECT("Table!" & $AJ$90 & $AG14),0))))) -> 0.70575111 | I14: =IF(ISERROR(MATCH(I$1,INDIRECT("Table!A"&$AG14):INDIRECT("Table!" & $AJ$69 & $AG14),0)),"",INDIRECT(CONCATENATE("Table!",ADDRESS($AC14,MATCH(I$1,INDIRECT("Table!A" & $AG14):INDIRECT("Table!" & $AJ$69 & $AG14),0))))) -> 0.26867934 | J14: =IF(ISERROR(MATCH(J$1,INDIRECT("Table!A"&$AG14):INDIRECT("Table!" & $AJ$69 & $AG14),0)),"",INDIRECT(CONCATENATE("Table!",ADDRESS($AC14,MATCH(J$1,INDIRECT("Table!A" & $AG14):INDIRECT("Table!" & $AJ$69 & $AG14),0))))) -> 0.61931459 | K14: =IF(ISERROR(MATCH(K$1,INDIRECT("Table!A"&$AG14):INDIRECT("Table!" & $AJ$69 & $AG14),0)),"",INDIRECT(CONCATENATE("Table!",ADDRESS($AC14,MATCH(K$1,INDIRECT("Table!A" & $AG14):INDIRECT("Table!" & $AJ$69 & $AG14),0))))) -> 0.15712461 | L14: =IF(ISERROR(MATCH(L$1,INDIRECT("Table!A"&$AG14):INDIRECT("Table!" & $AJ$69 & $AG14),0)),"",INDIRECT(CONCATENATE("Table!",ADDRESS($AC14,MATCH(L$1,INDIRECT("Table!A" & $AG14):INDIRECT("Table!" & $AJ$69 & $AG14),0))))) -> 0.82109692 | M14: =IF(ISERROR(MATCH(M$1,INDIRECT("Table!A"&$AG14):INDIRECT("Table!" & $AJ$69 & $AG14),0)),"",INDIRECT(CONCATENATE("Table!",ADDRESS($AC14,MATCH(M$1,INDIRECT("Table!A" & $AG14):INDIRECT("Table!" & $AJ$69 & $AG14),0))))) -> 0.46752738 | N14: =IF(ISERROR(MATCH(N$1,INDIRECT("Table!A"&$AG14):INDIRECT("Table!" & $AJ$69 & $AG14),0)),"",INDIRECT(CONCATENATE("Table!",ADDRESS($AC14,MATCH(N$1,INDIRECT("Table!A" & $AG14):INDIRECT("Table!" & $AJ$69 & $AG14),0))))) -> 0.71278366 | O14: =IF(ISERROR(MATCH(O$1,INDIRECT("Table!A"&$AG14):INDIRECT("Table!" & $AJ$69 & $AG14),0)),"",INDIRECT(CONCATENATE("Table!",ADDRESS($AC14,MATCH(O$1,INDIRECT("Table!A" & $AG14):INDIRECT("Table!" & $AJ$69 & $AG14),0))))) -> 0.80970875 | P14: =IF(ISERROR(MATCH(P$1,INDIRECT("Table!A"&$AG14):INDIRECT("Table!" & $AJ$69 & $AG14),0)),"",INDIRECT(CONCATENATE("Table!",ADDRESS($AC14,MATCH(P$1,INDIRECT("Table!A" & $AG14):INDIRECT("Table!" & $AJ$69 & $AG14),0))))) -> 0.27841322 | ... R14: =IF(ISERROR(MATCH(R$1,INDIRECT("Table!A"&$AG14):INDIRECT("Table!" & $AJ$69 & $AG14),0)),"",INDIRECT(CONCATENATE("Table!",ADDRESS($AC14,MATCH(R$1,INDIRECT("Table!A" & $AG14):INDIRECT("Table!" & $AJ$69 & $AG14),0))))) -> 0.62493261 | S14: =IF(ISERROR(MATCH(S$1,INDIRECT("Table!A"&$AG14):INDIRECT("Table!" & $AJ$43 & $AG14),0)),"",INDIRECT(CONCATENATE("Table!",ADDRESS($AC14,MATCH(S$1,INDIRECT("Table!A" & $AG14):INDIRECT("Table!" & $AJ$43 & $AG14),0))))) -> 0.25559101 | T14: =IF(ISERROR(MATCH(T$1,INDIRECT("Table!A"&$AG14):INDIRECT("Table!" & $AJ$43 & $AG14),0)),"",INDIRECT(CONCATENATE("Table!",ADDRESS($AC14,MATCH(T$1,INDIRECT("Table!A" & $AG14):INDIRECT("Table!" & $AJ$43 & $AG14),0))))) -> 0.22119642 | U14: =IF(ISERROR(MATCH(U$1,INDIRECT("Table!A"&$AG14):INDIRECT("Table!" & $AJ$43 & $AG14),0)),"",INDIRECT(CONCATENATE("Table!",ADDRESS($AC14,MATCH(U$1,INDIRECT("Table!A" & $AG14):INDIRECT("Table!" & $AJ$43 & $AG14),0))))) -> 0.069868342 | V14: =IF(ISERROR(MATCH(V$1,INDIRECT("Table!A"&$AG14):INDIRECT("Table!" & $AJ$43 & $AG14),0)),"",INDIRECT(CONCATENATE("Table!",ADDRESS($AC14,MATCH(V$1,INDIRECT("Table!A" & $AG14):INDIRECT("Table!" & $AJ$43 & $AG14),0))))) -> 0.068165817 | W14: =IF(ISERROR(MATCH(W$1,INDIRECT("Table!A"&$AG14):INDIRECT("Table!" & $AJ$43 & $AG14),0)),"",INDIRECT(CONCATENATE("Table!",ADDRESS($AC14,MATCH(W$1,INDIRECT("Table!A" & $AG14):INDIRECT("Table!" & $AJ$43 & $AG14),0))))) | X14: =IF(ISERROR(MATCH(X$1,INDIRECT("Table!A"&$AG14):INDIRECT("Table!" & $AJ$43 & $AG14),0)),"",INDIRECT(CONCATENATE("Table!",ADDRESS($AC14,MATCH(X$1,INDIRECT("Table!A" & $AG14):INDIRECT("Table!" & $AJ$43 & $AG14),0))))) | Y14: =IF(ISERROR(MATCH(Y$1,INDIRECT("Table!A"&$AG14):INDIRECT("Table!" & $AJ$43 & $AG14),0)),"",INDIRECT(CONCATENATE("Table!",ADDRESS($AC14,MATCH(Y$1,INDIRECT("Table!A" & $AG14):INDIRECT("Table!" & $AJ$43 & $AG14),0))))) | Z14: =IF(ISERROR(MATCH(Z$1,INDIRECT("Table!A"&$AG14):INDIRECT("Table!" & $AJ$43 & $AG14),0)),"",INDIRECT(CONCATENATE("Table!",ADDRESS($AC14,MATCH(Z$1,INDIRECT("Table!A" & $AG14):INDIRECT("Table!" & $AJ$43 & $AG14),0))))) | ... AB14: =IF(ISERROR(MATCH(AB$1,INDIRECT("Table!A"&$AG14):INDIRECT("Table!" & $AJ$43 & $AG14),0)),"",INDIRECT(CONCATENATE("Table!",ADDRESS($AC14,MATCH(AB$1,INDIRECT("Table!A" & $AG14):INDIRECT("Table!" & $AJ$43 & $AG14),0))))) | AC14: =MATCH($A14,Table!$A:$A,0)+$AE$2-1 -> 160 | AG14: =MATCH($A14,Table!$A:$A,0)+$AI$2-1 -> 157 | AJ14: AB
A15: 41732 | B15: =IF(ISERROR(MATCH(B$1,INDIRECT("Table!A"&$AG15):INDIRECT("Table!" & $AJ$91 & $AG15),0)),"",INDIRECT(CONCATENATE("Table!",ADDRESS($AC15,MATCH(B$1,INDIRECT("Table!A" & $AG15):INDIRECT("Table!" & $AJ$90 & $AG15),0))))) -> 0.41818722 | C15: =IF(ISERROR(MATCH(C$1,INDIRECT("Table!A"&$AG15):INDIRECT("Table!" & $AJ$90 & $AG15),0)),"",INDIRECT(CONCATENATE("Table!",ADDRESS($AC15,MATCH(C$1,INDIRECT("Table!A" & $AG15):INDIRECT("Table!" & $AJ$90 & $AG15),0))))) -> 0.55370932 | D15: =IF(ISERROR(MATCH(D$1,INDIRECT("Table!A"&$AG15):INDIRECT("Table!" & $AJ$90 & $AG15),0)),"",INDIRECT(CONCATENATE("Table!",ADDRESS($AC15,MATCH(D$1,INDIRECT("Table!A" & $AG15):INDIRECT("Table!" & $AJ$90 & $AG15),0))))) -> 0.56266381 | E15: =IF(ISERROR(MATCH(E$1,INDIRECT("Table!A"&$AG15):INDIRECT("Table!" & $AJ$90 & $AG15),0)),"",INDIRECT(CONCATENATE("Table!",ADDRESS($AC15,MATCH(E$1,INDIRECT("Table!A" & $AG15):INDIRECT("Table!" & $AJ$90 & $AG15),0))))) -> 0.82532412 | F15: =IF(ISERROR(MATCH(F$1,INDIRECT("Table!A"&$AG15):INDIRECT("Table!" & $AJ$90 & $AG15),0)),"",INDIRECT(CONCATENATE("Table!",ADDRESS($AC15,MATCH(F$1,INDIRECT("Table!A" & $AG15):INDIRECT("Table!" & $AJ$90 & $AG15),0))))) -> 0.69374243 | G15: =IF(ISERROR(MATCH(G$1,INDIRECT("Table!A"&$AG15):INDIRECT("Table!" & $AJ$90 & $AG15),0)),"",INDIRECT(CONCATENATE("Table!",ADDRESS($AC15,MATCH(G$1,INDIRECT("Table!A" & $AG15):INDIRECT("Table!" & $AJ$90 & $AG15),0))))) -> 0.52918011 | H15: =IF(ISERROR(MATCH(H$1,INDIRECT("Table!A"&$AG15):INDIRECT("Table!" & $AJ$90 & $AG15),0)),"",INDIRECT(CONCATENATE("Table!",ADDRESS($AC15,MATCH(H$1,INDIRECT("Table!A" & $AG15):INDIRECT("Table!" & $AJ$90 & $AG15),0))))) -> 0.70290129 | I15: =IF(ISERROR(MATCH(I$1,INDIRECT("Table!A"&$AG15):INDIRECT("Table!" & $AJ$69 & $AG15),0)),"",INDIRECT(CONCATENATE("Table!",ADDRESS($AC15,MATCH(I$1,INDIRECT("Table!A" & $AG15):INDIRECT("Table!" & $AJ$69 & $AG15),0))))) -> 0.26061324 | J15: =IF(ISERROR(MATCH(J$1,INDIRECT("Table!A"&$AG15):INDIRECT("Table!" & $AJ$69 & $AG15),0)),"",INDIRECT(CONCATENATE("Table!",ADDRESS($AC15,MATCH(J$1,INDIRECT("Table!A" & $AG15):INDIRECT("Table!" & $AJ$69 & $AG15),0))))) -> 0.61362837 | K15: =IF(ISERROR(MATCH(K$1,INDIRECT("Table!A"&$AG15):INDIRECT("Table!" & $AJ$69 & $AG15),0)),"",INDIRECT(CONCATENATE("Table!",ADDRESS($AC15,MATCH(K$1,INDIRECT("Table!A" & $AG15):INDIRECT("Table!" & $AJ$69 & $AG15),0))))) -> 0.14275507 | L15: =IF(ISERROR(MATCH(L$1,INDIRECT("Table!A"&$AG15):INDIRECT("Table!" & $AJ$69 & $AG15),0)),"",INDIRECT(CONCATENATE("Table!",ADDRESS($AC15,MATCH(L$1,INDIRECT("Table!A" & $AG15):INDIRECT("Table!" & $AJ$69 & $AG15),0))))) -> 0.82046023 | M15: =IF(ISERROR(MATCH(M$1,INDIRECT("Table!A"&$AG15):INDIRECT("Table!" & $AJ$69 & $AG15),0)),"",INDIRECT(CONCATENATE("Table!",ADDRESS($AC15,MATCH(M$1,INDIRECT("Table!A" & $AG15):INDIRECT("Table!" & $AJ$69 & $AG15),0))))) -> 0.4649232 | N15: =IF(ISERROR(MATCH(N$1,INDIRECT("Table!A"&$AG15):INDIRECT("Table!" & $AJ$69 & $AG15),0)),"",INDIRECT(CONCATENATE("Table!",ADDRESS($AC15,MATCH(N$1,INDIRECT("Table!A" & $AG15):INDIRECT("Table!" & $AJ$69 & $AG15),0))))) -> 0.71741403 | O15: =IF(ISERROR(MATCH(O$1,INDIRECT("Table!A"&$AG15):INDIRECT("Table!" & $AJ$69 & $AG15),0)),"",INDIRECT(CONCATENATE("Table!",ADDRESS($AC15,MATCH(O$1,INDIRECT("Table!A" & $AG15):INDIRECT("Table!" & $AJ$69 & $AG15),0))))) -> 0.8071719 | P15: =IF(ISERROR(MATCH(P$1,INDIRECT("Table!A"&$AG15):INDIRECT("Table!" & $AJ$69 & $AG15),0)),"",INDIRECT(CONCATENATE("Table!",ADDRESS($AC15,MATCH(P$1,INDIRECT("Table!A" & $AG15):INDIRECT("Table!" & $AJ$69 & $AG15),0))))) -> 0.27034109 | ... R15: =IF(ISERROR(MATCH(R$1,INDIRECT("Table!A"&$AG15):INDIRECT("Table!" & $AJ$69 & $AG15),0)),"",INDIRECT(CONCATENATE("Table!",ADDRESS($AC15,MATCH(R$1,INDIRECT("Table!A" & $AG15):INDIRECT("Table!" & $AJ$69 & $AG15),0))))) -> 0.55907988 | S15: =IF(ISERROR(MATCH(S$1,INDIRECT("Table!A"&$AG15):INDIRECT("Table!" & $AJ$43 & $AG15),0)),"",INDIRECT(CONCATENATE("Table!",ADDRESS($AC15,MATCH(S$1,INDIRECT("Table!A" & $AG15):INDIRECT("Table!" & $AJ$43 & $AG15),0))))) -> 0.25559101 | T15: =IF(ISERROR(MATCH(T$1,INDIRECT("Table!A"&$AG15):INDIRECT("Table!" & $AJ$43 & $AG15),0)),"",INDIRECT(CONCATENATE("Table!",ADDRESS($AC15,MATCH(T$1,INDIRECT("Table!A" & $AG15):INDIRECT("Table!" & $AJ$43 & $AG15),0))))) -> 0.22119642 | U15: =IF(ISERROR(MATCH(U$1,INDIRECT("Table!A"&$AG15):INDIRECT("Table!" & $AJ$43 & $AG15),0)),"",INDIRECT(CONCATENATE("Table!",ADDRESS($AC15,MATCH(U$1,INDIRECT("Table!A" & $AG15):INDIRECT("Table!" & $AJ$43 & $AG15),0))))) -> 0.069826266 | V15: =IF(ISERROR(MATCH(V$1,INDIRECT("Table!A"&$AG15):INDIRECT("Table!" & $AJ$43 & $AG15),0)),"",INDIRECT(CONCATENATE("Table!",ADDRESS($AC15,MATCH(V$1,INDIRECT("Table!A" & $AG15):INDIRECT("Table!" & $AJ$43 & $AG15),0))))) -> 0.068124766 | W15: =IF(ISERROR(MATCH(W$1,INDIRECT("Table!A"&$AG15):INDIRECT("Table!" & $AJ$43 & $AG15),0)),"",INDIRECT(CONCATENATE("Table!",ADDRESS($AC15,MATCH(W$1,INDIRECT("Table!A" & $AG15):INDIRECT("Table!" & $AJ$43 & $AG15),0))))) | AC15: =MATCH($A15,Table!$A:$A,0)+$AE$2-1 -> 174 | AG15: =MATCH($A15,Table!$A:$A,0)+$AI$2-1 -> 171 | AJ15: AB
A16: 41725 | B16: =IF(ISERROR(MATCH(B$1,INDIRECT("Table!A"&$AG16):INDIRECT("Table!" & $AJ$91 & $AG16),0)),"",INDIRECT(CONCATENATE("Table!",ADDRESS($AC16,MATCH(B$1,INDIRECT("Table!A" & $AG16):INDIRECT("Table!" & $AJ$90 & $AG16),0))))) -> 0.41609098 | C16: =IF(ISERROR(MATCH(C$1,INDIRECT("Table!A"&$AG16):INDIRECT("Table!" & $AJ$90 & $AG16),0)),"",INDIRECT(CONCATENATE("Table!",ADDRESS($AC16,MATCH(C$1,INDIRECT("Table!A" & $AG16):INDIRECT("Table!" & $AJ$90 & $AG16),0))))) -> 0.55306222 | D16: =IF(ISERROR(MATCH(D$1,INDIRECT("Table!A"&$AG16):INDIRECT("Table!" & $AJ$90 & $AG16),0)),"",INDIRECT(CONCATENATE("Table!",ADDRESS($AC16,MATCH(D$1,INDIRECT("Table!A" & $AG16):INDIRECT("Table!" & $AJ$90 & $AG16),0))))) -> 0.56197817 | E16: =IF(ISERROR(MATCH(E$1,INDIRECT("Table!A"&$AG16):INDIRECT("Table!" & $AJ$90 & $AG16),0)),"",INDIRECT(CONCATENATE("Table!",ADDRESS($AC16,MATCH(E$1,INDIRECT("Table!A" & $AG16):INDIRECT("Table!" & $AJ$90 & $AG16),0))))) -> 0.82396367 | F16: =IF(ISERROR(MATCH(F$1,INDIRECT("Table!A"&$AG16):INDIRECT("Table!" & $AJ$90 & $AG16),0)),"",INDIRECT(CONCATENATE("Table!",ADDRESS($AC16,MATCH(F$1,INDIRECT("Table!A" & $AG16):INDIRECT("Table!" & $AJ$90 & $AG16),0))))) -> 0.69109955 | G16: =IF(ISERROR(MATCH(G$1,INDIRECT("Table!A"&$AG16):INDIRECT("Table!" & $AJ$90 & $AG16),0)),"",INDIRECT(CONCATENATE("Table!",ADDRESS($AC16,MATCH(G$1,INDIRECT("Table!A" & $AG16):INDIRECT("Table!" & $AJ$90 & $AG16),0))))) -> 0.52777243 | H16: =IF(ISERROR(MATCH(H$1,INDIRECT("Table!A"&$AG16):INDIRECT("Table!" & $AJ$90 & $AG16),0)),"",INDIRECT(CONCATENATE("Table!",ADDRESS($AC16,MATCH(H$1,INDIRECT("Table!A" & $AG16):INDIRECT("Table!" & $AJ$90 & $AG16),0))))) -> 0.69767147 | I16: =IF(ISERROR(MATCH(I$1,INDIRECT("Table!A"&$AG16):INDIRECT("Table!" & $AJ$69 & $AG16),0)),"",INDIRECT(CONCATENATE("Table!",ADDRESS($AC16,MATCH(I$1,INDIRECT("Table!A" & $AG16):INDIRECT("Table!" & $AJ$69 & $AG16),0))))) -> 0.25961492 | J16: =IF(ISERROR(MATCH(J$1,INDIRECT("Table!A"&$AG16):INDIRECT("Table!" & $AJ$69 & $AG16),0)),"",INDIRECT(CONCATENATE("Table!",ADDRESS($AC16,MATCH(J$1,INDIRECT("Table!A" & $AG16):INDIRECT("Table!" & $AJ$69 & $AG16),0))))) -> 0.60936532 | K16: =IF(ISERROR(MATCH(K$1,INDIRECT("Table!A"&$AG16):INDIRECT("Table!" & $AJ$69 & $AG16),0)),"",INDIRECT(CONCATENATE("Table!",ADDRESS($AC16,MATCH(K$1,INDIRECT("Table!A" & $AG16):INDIRECT("Table!" & $AJ$69 & $AG16),0))))) -> 0.14091012 | L16: =IF(ISERROR(MATCH(L$1,INDIRECT("Table!A"&$AG16):INDIRECT("Table!" & $AJ$69 & $AG16),0)),"",INDIRECT(CONCATENATE("Table!",ADDRESS($AC16,MATCH(L$1,INDIRECT("Table!A" & $AG16):INDIRECT("Table!" & $AJ$69 & $AG16),0))))) -> 0.819765 | M16: =IF(ISERROR(MATCH(M$1,INDIRECT("Table!A"&$AG16):INDIRECT("Table!" & $AJ$69 & $AG16),0)),"",INDIRECT(CONCATENATE("Table!",ADDRESS($AC16,MATCH(M$1,INDIRECT("Table!A" & $AG16):INDIRECT("Table!" & $AJ$69 & $AG16),0))))) -> 0.46427125 | N16: =IF(ISERROR(MATCH(N$1,INDIRECT("Table!A"&$AG16):INDIRECT("Table!" & $AJ$69 & $AG16),0)),"",INDIRECT(CONCATENATE("Table!",ADDRESS($AC16,MATCH(N$1,INDIRECT("Table!A" & $AG16):INDIRECT("Table!" & $AJ$69 & $AG16),0))))) -> 0.71483451 | O16: =IF(ISERROR(MATCH(O$1,INDIRECT("Table!A"&$AG16):INDIRECT("Table!" & $AJ$69 & $AG16),0)),"",INDIRECT(CONCATENATE("Table!",ADDRESS($AC16,MATCH(O$1,INDIRECT("Table!A" & $AG16):INDIRECT("Table!" & $AJ$69 & $AG16),0))))) -> 0.80071191 | P16: =IF(ISERROR(MATCH(P$1,INDIRECT("Table!A"&$AG16):INDIRECT("Table!" & $AJ$69 & $AG16),0)),"",INDIRECT(CONCATENATE("Table!",ADDRESS($AC16,MATCH(P$1,INDIRECT("Table!A" & $AG16):INDIRECT("Table!" & $AJ$69 & $AG16),0))))) -> 0.26874425 | ... R16: =IF(ISERROR(MATCH(R$1,INDIRECT("Table!A"&$AG16):INDIRECT("Table!" & $AJ$69 & $AG16),0)),"",INDIRECT(CONCATENATE("Table!",ADDRESS($AC16,MATCH(R$1,INDIRECT("Table!A" & $AG16):INDIRECT("Table!" & $AJ$69 & $AG16),0))))) -> 0.53569223 | S16: =IF(ISERROR(MATCH(S$1,INDIRECT("Table!A"&$AG16):INDIRECT("Table!" & $AJ$43 & $AG16),0)),"",INDIRECT(CONCATENATE("Table!",ADDRESS($AC16,MATCH(S$1,INDIRECT("Table!A" & $AG16):INDIRECT("Table!" & $AJ$43 & $AG16),0))))) -> 0.25559101 | T16: =IF(ISERROR(MATCH(T$1,INDIRECT("Table!A"&$AG16):INDIRECT("Table!" & $AJ$43 & $AG16),0)),"",INDIRECT(CONCATENATE("Table!",ADDRESS($AC16,MATCH(T$1,INDIRECT("Table!A" & $AG16):INDIRECT("Table!" & $AJ$43 & $AG16),0))))) -> 0.22119642 | U16: =IF(ISERROR(MATCH(U$1,INDIRECT("Table!A"&$AG16):INDIRECT("Table!" & $AJ$43 & $AG16),0)),"",INDIRECT(CONCATENATE("Table!",ADDRESS($AC16,MATCH(U$1,INDIRECT("Table!A" & $AG16):INDIRECT("Table!" & $AJ$43 & $AG16),0))))) -> 0.061437525 | V16: =IF(ISERROR(MATCH(V$1,INDIRECT("Table!A"&$AG16):INDIRECT("Table!" & $AJ$43 & $AG16),0)),"",INDIRECT(CONCATENATE("Table!",ADDRESS($AC16,MATCH(V$1,INDIRECT("Table!A" & $AG16):INDIRECT("Table!" & $AJ$43 & $AG16),0))))) -> 0.059940381 | W16: =IF(ISERROR(MATCH(W$1,INDIRECT("Table!A"&$AG16):INDIRECT("Table!" & $AJ$43 & $AG16),0)),"",INDIRECT(CONCATENATE("Table!",ADDRESS($AC16,MATCH(W$1,INDIRECT("Table!A" & $AG16):INDIRECT("Table!" & $AJ$43 & $AG16),0))))) | AC16: =MATCH($A16,Table!$A:$A,0)+$AE$2-1 -> 188 | AG16: =MATCH($A16,Table!$A:$A,0)+$AI$2-1 -> 185 | AJ16: AB
A17: 41709 | B17: =IF(ISERROR(MATCH(B$1,INDIRECT("Table!A"&$AG17):INDIRECT("Table!" & $AJ$91 & $AG17),0)),"",INDIRECT(CONCATENATE("Table!",ADDRESS($AC17,MATCH(B$1,INDIRECT("Table!A" & $AG17):INDIRECT("Table!" & $AJ$90 & $AG17),0))))) -> 0.40514898 | C17: =IF(ISERROR(MATCH(C$1,INDIRECT("Table!A"&$AG17):INDIRECT("Table!" & $AJ$90 & $AG17),0)),"",INDIRECT(CONCATENATE("Table!",ADDRESS($AC17,MATCH(C$1,INDIRECT("Table!A" & $AG17):INDIRECT("Table!" & $AJ$90 & $AG17),0))))) -> 0.55216398 | D17: =IF(ISERROR(MATCH(D$1,INDIRECT("Table!A"&$AG17):INDIRECT("Table!" & $AJ$90 & $AG17),0)),"",INDIRECT(CONCATENATE("Table!",ADDRESS($AC17,MATCH(D$1,INDIRECT("Table!A" & $AG17):INDIRECT("Table!" & $AJ$90 & $AG17),0))))) -> 0.56108126 | E17: =IF(ISERROR(MATCH(E$1,INDIRECT("Table!A"&$AG17):INDIRECT("Table!" & $AJ$90 & $AG17),0)),"",INDIRECT(CONCATENATE("Table!",ADDRESS($AC17,MATCH(E$1,INDIRECT("Table!A" & $AG17):INDIRECT("Table!" & $AJ$90 & $AG17),0))))) -> 0.80805203 | F17: =IF(ISERROR(MATCH(F$1,INDIRECT("Table!A"&$AG17):INDIRECT("Table!" & $AJ$90 & $AG17),0)),"",INDIRECT(CONCATENATE("Table!",ADDRESS($AC17,MATCH(F$1,INDIRECT("Table!A" & $AG17):INDIRECT("Table!" & $AJ$90 & $AG17),0))))) -> 0.69110256 | G17: =IF(ISERROR(MATCH(G$1,INDIRECT("Table!A"&$AG17):INDIRECT("Table!" & $AJ$90 & $AG17),0)),"",INDIRECT(CONCATENATE("Table!",ADDRESS($AC17,MATCH(G$1,INDIRECT("Table!A" & $AG17):INDIRECT("Table!" & $AJ$90 & $AG17),0))))) -> 0.52144671 | H17: =IF(ISERROR(MATCH(H$1,INDIRECT("Table!A"&$AG17):INDIRECT("Table!" & $AJ$90 & $AG17),0)),"",INDIRECT(CONCATENATE("Table!",ADDRESS($AC17,MATCH(H$1,INDIRECT("Table!A" & $AG17):INDIRECT("Table!" & $AJ$90 & $AG17),0))))) -> 0.68878881 | I17: =IF(ISERROR(MATCH(I$1,INDIRECT("Table!A"&$AG17):INDIRECT("Table!" & $AJ$69 & $AG17),0)),"",INDIRECT(CONCATENATE("Table!",ADDRESS($AC17,MATCH(I$1,INDIRECT("Table!A" & $AG17):INDIRECT("Table!" & $AJ$69 & $AG17),0))))) -> 0.24581055 | J17: =IF(ISERROR(MATCH(J$1,INDIRECT("Table!A"&$AG17):INDIRECT("Table!" & $AJ$69 & $AG17),0)),"",INDIRECT(CONCATENATE("Table!",ADDRESS($AC17,MATCH(J$1,INDIRECT("Table!A" & $AG17):INDIRECT("Table!" & $AJ$69 & $AG17),0))))) -> 0.52744575 | K17: =IF(ISERROR(MATCH(K$1,INDIRECT("Table!A"&$AG17):INDIRECT("Table!" & $AJ$69 & $AG17),0)),"",INDIRECT(CONCATENATE("Table!",ADDRESS($AC17,MATCH(K$1,INDIRECT("Table!A" & $AG17):INDIRECT("Table!" & $AJ$69 & $AG17),0))))) -> 0.11505539 | L17: =IF(ISERROR(MATCH(L$1,INDIRECT("Table!A"&$AG17):INDIRECT("Table!" & $AJ$69 & $AG17),0)),"",INDIRECT(CONCATENATE("Table!",ADDRESS($AC17,MATCH(L$1,INDIRECT("Table!A" & $AG17):INDIRECT("Table!" & $AJ$69 & $AG17),0))))) -> 0.81026695 | M17: =IF(ISERROR(MATCH(M$1,INDIRECT("Table!A"&$AG17):INDIRECT("Table!" & $AJ$69 & $AG17),0)),"",INDIRECT(CONCATENATE("Table!",ADDRESS($AC17,MATCH(M$1,INDIRECT("Table!A" & $AG17):INDIRECT("Table!" & $AJ$69 & $AG17),0))))) -> 0.4609259 | N17: =IF(ISERROR(MATCH(N$1,INDIRECT("Table!A"&$AG17):INDIRECT("Table!" & $AJ$69 & $AG17),0)),"",INDIRECT(CONCATENATE("Table!",ADDRESS($AC17,MATCH(N$1,INDIRECT("Table!A" & $AG17):INDIRECT("Table!" & $AJ$69 & $AG17),0))))) -> 0.71232966 | O17: =IF(ISERROR(MATCH(O$1,INDIRECT("Table!A"&$AG17):INDIRECT("Table!" & $AJ$69 & $AG17),0)),"",INDIRECT(CONCATENATE("Table!",ADDRESS($AC17,MATCH(O$1,INDIRECT("Table!A" & $AG17):INDIRECT("Table!" & $AJ$69 & $AG17),0))))) -> 0.7908155 | P17: =IF(ISERROR(MATCH(P$1,INDIRECT("Table!A"&$AG17):INDIRECT("Table!" & $AJ$69 & $AG17),0)),"",INDIRECT(CONCATENATE("Table!",ADDRESS($AC17,MATCH(P$1,INDIRECT("Table!A" & $AG17):INDIRECT("Table!" & $AJ$69 & $AG17),0))))) -> 0.25488687 | ... R17: =IF(ISERROR(MATCH(R$1,INDIRECT("Table!A"&$AG17):INDIRECT("Table!" & $AJ$69 & $AG17),0)),"",INDIRECT(CONCATENATE("Table!",ADDRESS($AC17,MATCH(R$1,INDIRECT("Table!A" & $AG17):INDIRECT("Table!" & $AJ$69 & $AG17),0))))) -> 0.51607302 | S17: =IF(ISERROR(MATCH(S$1,INDIRECT("Table!A"&$AG17):INDIRECT("Table!" & $AJ$43 & $AG17),0)),"",INDIRECT(CONCATENATE("Table!",ADDRESS($AC17,MATCH(S$1,INDIRECT("Table!A" & $AG17):INDIRECT("Table!" & $AJ$43 & $AG17),0))))) -> 0.25559101 | T17: =IF(ISERROR(MATCH(T$1,INDIRECT("Table!A"&$AG17):INDIRECT("Table!" & $AJ$43 & $AG17),0)),"",INDIRECT(CONCATENATE("Table!",ADDRESS($AC17,MATCH(T$1,INDIRECT("Table!A" & $AG17):INDIRECT("Table!" & $AJ$43 & $AG17),0))))) -> 0.22119642 | U17: =IF(ISERROR(MATCH(U$1,INDIRECT("Table!A"&$AG17):INDIRECT("Table!" & $AJ$43 & $AG17),0)),"",INDIRECT(CONCATENATE("Table!",ADDRESS($AC17,MATCH(U$1,INDIRECT("Table!A" & $AG17):INDIRECT("Table!" & $AJ$43 & $AG17),0))))) -> 0.031418884 | V17: =IF(ISERROR(MATCH(V$1,INDIRECT("Table!A"&$AG17):INDIRECT("Table!" & $AJ$43 & $AG17),0)),"",INDIRECT(CONCATENATE("Table!",ADDRESS($AC17,MATCH(V$1,INDIRECT("Table!A" & $AG17):INDIRECT("Table!" & $AJ$43 & $AG17),0))))) -> 0.030652541 | W17: =IF(ISERROR(MATCH(W$1,INDIRECT("Table!A"&$AG17):INDIRECT("Table!" & $AJ$43 & $AG17),0)),"",INDIRECT(CONCATENATE("Table!",ADDRESS($AC17,MATCH(W$1,INDIRECT("Table!A" & $AG17):INDIRECT("Table!" & $AJ$43 & $AG17),0))))) | AC17: =MATCH($A17,Table!$A:$A,0)+$AE$2-1 -> 202 | AG17: =MATCH($A17,Table!$A:$A,0)+$AI$2-1 -> 199 | AJ17: AB
A18: 41704 | B18: =IF(ISERROR(MATCH(B$1,INDIRECT("Table!A"&$AG18):INDIRECT("Table!" & $AJ$91 & $AG18),0)),"",INDIRECT(CONCATENATE("Table!",ADDRESS($AC18,MATCH(B$1,INDIRECT("Table!A" & $AG18):INDIRECT("Table!" & $AJ$90 & $AG18),0))))) -> 0.40285155 | C18: =IF(ISERROR(MATCH(C$1,INDIRECT("Table!A"&$AG18):INDIRECT("Table!" & $AJ$90 & $AG18),0)),"",INDIRECT(CONCATENATE("Table!",ADDRESS($AC18,MATCH(C$1,INDIRECT("Table!A" & $AG18):INDIRECT("Table!" & $AJ$90 & $AG18),0))))) -> 0.54977953 | D18: =IF(ISERROR(MATCH(D$1,INDIRECT("Table!A"&$AG18):INDIRECT("Table!" & $AJ$90 & $AG18),0)),"",INDIRECT(CONCATENATE("Table!",ADDRESS($AC18,MATCH(D$1,INDIRECT("Table!A" & $AG18):INDIRECT("Table!" & $AJ$90 & $AG18),0))))) -> 0.55869548 | E18: =IF(ISERROR(MATCH(E$1,INDIRECT("Table!A"&$AG18):INDIRECT("Table!" & $AJ$90 & $AG18),0)),"",INDIRECT(CONCATENATE("Table!",ADDRESS($AC18,MATCH(E$1,INDIRECT("Table!A" & $AG18):INDIRECT("Table!" & $AJ$90 & $AG18),0))))) -> 0.86177326 | F18: =IF(ISERROR(MATCH(F$1,INDIRECT("Table!A"&$AG18):INDIRECT("Table!" & $AJ$90 & $AG18),0)),"",INDIRECT(CONCATENATE("Table!",ADDRESS($AC18,MATCH(F$1,INDIRECT("Table!A" & $AG18):INDIRECT("Table!" & $AJ$90 & $AG18),0))))) -> 0.68927408 | G18: =IF(ISERROR(MATCH(G$1,INDIRECT("Table!A"&$AG18):INDIRECT("Table!" & $AJ$90 & $AG18),0)),"",INDIRECT(CONCATENATE("Table!",ADDRESS($AC18,MATCH(G$1,INDIRECT("Table!A" & $AG18):INDIRECT("Table!" & $AJ$90 & $AG18),0))))) -> 0.52003363 | H18: =IF(ISERROR(MATCH(H$1,INDIRECT("Table!A"&$AG18):INDIRECT("Table!" & $AJ$90 & $AG18),0)),"",INDIRECT(CONCATENATE("Table!",ADDRESS($AC18,MATCH(H$1,INDIRECT("Table!A" & $AG18):INDIRECT("Table!" & $AJ$90 & $AG18),0))))) -> 0.6877875 | I18: =IF(ISERROR(MATCH(I$1,INDIRECT("Table!A"&$AG18):INDIRECT("Table!" & $AJ$69 & $AG18),0)),"",INDIRECT(CONCATENATE("Table!",ADDRESS($AC18,MATCH(I$1,INDIRECT("Table!A" & $AG18):INDIRECT("Table!" & $AJ$69 & $AG18),0))))) -> 0.23374091 | J18: =IF(ISERROR(MATCH(J$1,INDIRECT("Table!A"&$AG18):INDIRECT("Table!" & $AJ$69 & $AG18),0)),"",INDIRECT(CONCATENATE("Table!",ADDRESS($AC18,MATCH(J$1,INDIRECT("Table!A" & $AG18):INDIRECT("Table!" & $AJ$69 & $AG18),0))))) -> 0.52594276 | K18: =IF(ISERROR(MATCH(K$1,INDIRECT("Table!A"&$AG18):INDIRECT("Table!" & $AJ$69 & $AG18),0)),"",INDIRECT(CONCATENATE("Table!",ADDRESS($AC18,MATCH(K$1,INDIRECT("Table!A" & $AG18):INDIRECT("Table!" & $AJ$69 & $AG18),0))))) -> 0.10829504 | L18: =IF(ISERROR(MATCH(L$1,INDIRECT("Table!A"&$AG18):INDIRECT("Table!" & $AJ$69 & $AG18),0)),"",INDIRECT(CONCATENATE("Table!",ADDRESS($AC18,MATCH(L$1,INDIRECT("Table!A" & $AG18):INDIRECT("Table!" & $AJ$69 & $AG18),0))))) -> 0.87432672 | M18: =IF(ISERROR(MATCH(M$1,INDIRECT("Table!A"&$AG18):INDIRECT("Table!" & $AJ$69 & $AG18),0)),"",INDIRECT(CONCATENATE("Table!",ADDRESS($AC18,MATCH(M$1,INDIRECT("Table!A" & $AG18):INDIRECT("Table!" & $AJ$69 & $AG18),0))))) -> 0.45734573 | N18: =IF(ISERROR(MATCH(N$1,INDIRECT("Table!A"&$AG18):INDIRECT("Table!" & $AJ$69 & $AG18),0)),"",INDIRECT(CONCATENATE("Table!",ADDRESS($AC18,MATCH(N$1,INDIRECT("Table!A" & $AG18):INDIRECT("Table!" & $AJ$69 & $AG18),0))))) -> 0.71031735 | O18: =IF(ISERROR(MATCH(O$1,INDIRECT("Table!A"&$AG18):INDIRECT("Table!" & $AJ$69 & $AG18),0)),"",INDIRECT(CONCATENATE("Table!",ADDRESS($AC18,MATCH(O$1,INDIRECT("Table!A" & $AG18):INDIRECT("Table!" & $AJ$69 & $AG18),0))))) -> 0.78955414 | P18: =IF(ISERROR(MATCH(P$1,INDIRECT("Table!A"&$AG18):INDIRECT("Table!" & $AJ$69 & $AG18),0)),"",INDIRECT(CONCATENATE("Table!",ADDRESS($AC18,MATCH(P$1,INDIRECT("Table!A" & $AG18):INDIRECT("Table!" & $AJ$69 & $AG18),0))))) -> 0.24275279 | ... R18: =IF(ISERROR(MATCH(R$1,INDIRECT("Table!A"&$AG18):INDIRECT("Table!" & $AJ$69 & $AG18),0)),"",INDIRECT(CONCATENATE("Table!",ADDRESS($AC18,MATCH(R$1,INDIRECT("Table!A" & $AG18):INDIRECT("Table!" & $AJ$69 & $AG18),0))))) -> 0.5001437 | S18: =IF(ISERROR(MATCH(S$1,INDIRECT("Table!A"&$AG18):INDIRECT("Table!" & $AJ$43 & $AG18),0)),"",INDIRECT(CONCATENATE("Table!",ADDRESS($AC18,MATCH(S$1,INDIRECT("Table!A" & $AG18):INDIRECT("Table!" & $AJ$43 & $AG18),0))))) -> 0.25559101 | T18: =IF(ISERROR(MATCH(T$1,INDIRECT("Table!A"&$AG18):INDIRECT("Table!" & $AJ$43 & $AG18),0)),"",INDIRECT(CONCATENATE("Table!",ADDRESS($AC18,MATCH(T$1,INDIRECT("Table!A" & $AG18):INDIRECT("Table!" & $AJ$43 & $AG18),0))))) -> 0.22119642 | U18: =IF(ISERROR(MATCH(U$1,INDIRECT("Table!A"&$AG18):INDIRECT("Table!" & $AJ$43 & $AG18),0)),"",INDIRECT(CONCATENATE("Table!",ADDRESS($AC18,MATCH(U$1,INDIRECT("Table!A" & $AG18):INDIRECT("Table!" & $AJ$43 & $AG18),0))))) -> 0.031309291 | V18: =IF(ISERROR(MATCH(V$1,INDIRECT("Table!A"&$AG18):INDIRECT("Table!" & $AJ$43 & $AG18),0)),"",INDIRECT(CONCATENATE("Table!",ADDRESS($AC18,MATCH(V$1,INDIRECT("Table!A" & $AG18):INDIRECT("Table!" & $AJ$43 & $AG18),0))))) -> 0.030546095 | W18: =IF(ISERROR(MATCH(W$1,INDIRECT("Table!A"&$AG18):INDIRECT("Table!" & $AJ$43 & $AG18),0)),"",INDIRECT(CONCATENATE("Table!",ADDRESS($AC18,MATCH(W$1,INDIRECT("Table!A" & $AG18):INDIRECT("Table!" & $AJ$43 & $AG18),0))))) | AC18: =MATCH($A18,Table!$A:$A,0)+$AE$2-1 -> 216 | AG18: =MATCH($A18,Table!$A:$A,0)+$AI$2-1 -> 213 | AJ18: AB
A19: 41703 | B19: =IF(ISERROR(MATCH(B$1,INDIRECT("Table!A"&$AG19):INDIRECT("Table!" & $AJ$91 & $AG19),0)),"",INDIRECT(CONCATENATE("Table!",ADDRESS($AC19,MATCH(B$1,INDIRECT("Table!A" & $AG19):INDIRECT("Table!" & $AJ$90 & $AG19),0))))) -> 0.40271356 | C19: =IF(ISERROR(MATCH(C$1,INDIRECT("Table!A"&$AG19):INDIRECT("Table!" & $AJ$90 & $AG19),0)),"",INDIRECT(CONCATENATE("Table!",ADDRESS($AC19,MATCH(C$1,INDIRECT("Table!A" & $AG19):INDIRECT("Table!" & $AJ$90 & $AG19),0))))) -> 0.54977155 | D19: =IF(ISERROR(MATCH(D$1,INDIRECT("Table!A"&$AG19):INDIRECT("Table!" & $AJ$90 & $AG19),0)),"",INDIRECT(CONCATENATE("Table!",ADDRESS($AC19,MATCH(D$1,INDIRECT("Table!A" & $AG19):INDIRECT("Table!" & $AJ$90 & $AG19),0))))) -> 0.55868817 | E19: =IF(ISERROR(MATCH(E$1,INDIRECT("Table!A"&$AG19):INDIRECT("Table!" & $AJ$90 & $AG19),0)),"",INDIRECT(CONCATENATE("Table!",ADDRESS($AC19,MATCH(E$1,INDIRECT("Table!A" & $AG19):INDIRECT("Table!" & $AJ$90 & $AG19),0))))) -> 0.861587 | F19: =IF(ISERROR(MATCH(F$1,INDIRECT("Table!A"&$AG19):INDIRECT("Table!" & $AJ$90 & $AG19),0)),"",INDIRECT(CONCATENATE("Table!",ADDRESS($AC19,MATCH(F$1,INDIRECT("Table!A" & $AG19):INDIRECT("Table!" & $AJ$90 & $AG19),0))))) -> 0.68787873 | G19: =IF(ISERROR(MATCH(G$1,INDIRECT("Table!A"&$AG19):INDIRECT("Table!" & $AJ$90 & $AG19),0)),"",INDIRECT(CONCATENATE("Table!",ADDRESS($AC19,MATCH(G$1,INDIRECT("Table!A" & $AG19):INDIRECT("Table!" & $AJ$90 & $AG19),0))))) -> 0.51952735 | H19: =IF(ISERROR(MATCH(H$1,INDIRECT("Table!A"&$AG19):INDIRECT("Table!" & $AJ$90 & $AG19),0)),"",INDIRECT(CONCATENATE("Table!",ADDRESS($AC19,MATCH(H$1,INDIRECT("Table!A" & $AG19):INDIRECT("Table!" & $AJ$90 & $AG19),0))))) -> 0.68673038 | I19: =IF(ISERROR(MATCH(I$1,INDIRECT("Table!A"&$AG19):INDIRECT("Table!" & $AJ$69 & $AG19),0)),"",INDIRECT(CONCATENATE("Table!",ADDRESS($AC19,MATCH(I$1,INDIRECT("Table!A" & $AG19):INDIRECT("Table!" & $AJ$69 & $AG19),0))))) -> 0.23350127 | J19: =IF(ISERROR(MATCH(J$1,INDIRECT("Table!A"&$AG19):INDIRECT("Table!" & $AJ$69 & $AG19),0)),"",INDIRECT(CONCATENATE("Table!",ADDRESS($AC19,MATCH(J$1,INDIRECT("Table!A" & $AG19):INDIRECT("Table!" & $AJ$69 & $AG19),0))))) -> 0.52587341 | K19: =IF(ISERROR(MATCH(K$1,INDIRECT("Table!A"&$AG19):INDIRECT("Table!" & $AJ$69 & $AG19),0)),"",INDIRECT(CONCATENATE("Table!",ADDRESS($AC19,MATCH(K$1,INDIRECT("Table!A" & $AG19):INDIRECT("Table!" & $AJ$69 & $AG19),0))))) -> 0.10479303 | L19: =IF(ISERROR(MATCH(L$1,INDIRECT("Table!A"&$AG19):INDIRECT("Table!" & $AJ$69 & $AG19),0)),"",INDIRECT(CONCATENATE("Table!",ADDRESS($AC19,MATCH(L$1,INDIRECT("Table!A" & $AG19):INDIRECT("Table!" & $AJ$69 & $AG19),0))))) -> 0.87375012 | M19: =IF(ISERROR(MATCH(M$1,INDIRECT("Table!A"&$AG19):INDIRECT("Table!" & $AJ$69 & $AG19),0)),"",INDIRECT(CONCATENATE("Table!",ADDRESS($AC19,MATCH(M$1,INDIRECT("Table!A" & $AG19):INDIRECT("Table!" & $AJ$69 & $AG19),0))))) -> 0.45694684 | N19: =IF(ISERROR(MATCH(N$1,INDIRECT("Table!A"&$AG19):INDIRECT("Table!" & $AJ$69 & $AG19),0)),"",INDIRECT(CONCATENATE("Table!",ADDRESS($AC19,MATCH(N$1,INDIRECT("Table!A" & $AG19):INDIRECT("Table!" & $AJ$69 & $AG19),0))))) -> 0.70893606 | O19: =IF(ISERROR(MATCH(O$1,INDIRECT("Table!A"&$AG19):INDIRECT("Table!" & $AJ$69 & $AG19),0)),"",INDIRECT(CONCATENATE("Table!",ADDRESS($AC19,MATCH(O$1,INDIRECT("Table!A" & $AG19):INDIRECT("Table!" & $AJ$69 & $AG19),0))))) -> 0.78829097 | P19: =IF(ISERROR(MATCH(P$1,INDIRECT("Table!A"&$AG19):INDIRECT("Table!" & $AJ$69 & $AG19),0)),"",INDIRECT(CONCATENATE("Table!",ADDRESS($AC19,MATCH(P$1,INDIRECT("Table!A" & $AG19):INDIRECT("Table!" & $AJ$69 & $AG19),0))))) -> 0.24251555 | ... R19: =IF(ISERROR(MATCH(R$1,INDIRECT("Table!A"&$AG19):INDIRECT("Table!" & $AJ$69 & $AG19),0)),"",INDIRECT(CONCATENATE("Table!",ADDRESS($AC19,MATCH(R$1,INDIRECT("Table!A" & $AG19):INDIRECT("Table!" & $AJ$69 & $AG19),0))))) -> 0.4844054 | S19: =IF(ISERROR(MATCH(S$1,INDIRECT("Table!A"&$AG19):INDIRECT("Table!" & $AJ$43 & $AG19),0)),"",INDIRECT(CONCATENATE("Table!",ADDRESS($AC19,MATCH(S$1,INDIRECT("Table!A" & $AG19):INDIRECT("Table!" & $AJ$43 & $AG19),0))))) -> 0.25559101 | T19: =IF(ISERROR(MATCH(T$1,INDIRECT("Table!A"&$AG19):INDIRECT("Table!" & $AJ$43 & $AG19),0)),"",INDIRECT(CONCATENATE("Table!",ADDRESS($AC19,MATCH(T$1,INDIRECT("Table!A" & $AG19):INDIRECT("Table!" & $AJ$43 & $AG19),0))))) -> 0.22119642 | U19: =IF(ISERROR(MATCH(U$1,INDIRECT("Table!A"&$AG19):INDIRECT("Table!" & $AJ$43 & $AG19),0)),"",INDIRECT(CONCATENATE("Table!",ADDRESS($AC19,MATCH(U$1,INDIRECT("Table!A" & $AG19):INDIRECT("Table!" & $AJ$43 & $AG19),0))))) -> 0.031299506 | V19: =IF(ISERROR(MATCH(V$1,INDIRECT("Table!A"&$AG19):INDIRECT("Table!" & $AJ$43 & $AG19),0)),"",INDIRECT(CONCATENATE("Table!",ADDRESS($AC19,MATCH(V$1,INDIRECT("Table!A" & $AG19):INDIRECT("Table!" & $AJ$43 & $AG19),0))))) -> 0.030536548 | W19: =IF(ISERROR(MATCH(W$1,INDIRECT("Table!A"&$AG19):INDIRECT("Table!" & $AJ$43 & $AG19),0)),"",INDIRECT(CONCATENATE("Table!",ADDRESS($AC19,MATCH(W$1,INDIRECT("Table!A" & $AG19):INDIRECT("Table!" & $AJ$43 & $AG19),0))))) | AC19: =MATCH($A19,Table!$A:$A,0)+$AE$2-1 -> 230 | AG19: =MATCH($A19,Table!$A:$A,0)+$AI$2-1 -> 227 | AJ19: AB
A20: 41702 | B20: =IF(ISERROR(MATCH(B$1,INDIRECT("Table!A"&$AG20):INDIRECT("Table!" & $AJ$91 & $AG20),0)),"",INDIRECT(CONCATENATE("Table!",ADDRESS($AC20,MATCH(B$1,INDIRECT("Table!A" & $AG20):INDIRECT("Table!" & $AJ$90 & $AG20),0))))) -> 0.40272516 | C20: =IF(ISERROR(MATCH(C$1,INDIRECT("Table!A"&$AG20):INDIRECT("Table!" & $AJ$90 & $AG20),0)),"",INDIRECT(CONCATENATE("Table!",ADDRESS($AC20,MATCH(C$1,INDIRECT("Table!A" & $AG20):INDIRECT("Table!" & $AJ$90 & $AG20),0))))) -> 0.54977155 | D20: =IF(ISERROR(MATCH(D$1,INDIRECT("Table!A"&$AG20):INDIRECT("Table!" & $AJ$90 & $AG20),0)),"",INDIRECT(CONCATENATE("Table!",ADDRESS($AC20,MATCH(D$1,INDIRECT("Table!A" & $AG20):INDIRECT("Table!" & $AJ$90 & $AG20),0))))) -> 0.55868817 | E20: =IF(ISERROR(MATCH(E$1,INDIRECT("Table!A"&$AG20):INDIRECT("Table!" & $AJ$90 & $AG20),0)),"",INDIRECT(CONCATENATE("Table!",ADDRESS($AC20,MATCH(E$1,INDIRECT("Table!A" & $AG20):INDIRECT("Table!" & $AJ$90 & $AG20),0))))) -> 0.861587 | F20: =IF(ISERROR(MATCH(F$1,INDIRECT("Table!A"&$AG20):INDIRECT("Table!" & $AJ$90 & $AG20),0)),"",INDIRECT(CONCATENATE("Table!",ADDRESS($AC20,MATCH(F$1,INDIRECT("Table!A" & $AG20):INDIRECT("Table!" & $AJ$90 & $AG20),0))))) -> 0.68917672 | G20: =IF(ISERROR(MATCH(G$1,INDIRECT("Table!A"&$AG20):INDIRECT("Table!" & $AJ$90 & $AG20),0)),"",INDIRECT(CONCATENATE("Table!",ADDRESS($AC20,MATCH(G$1,INDIRECT("Table!A" & $AG20):INDIRECT("Table!" & $AJ$90 & $AG20),0))))) -> 0.5195407 | H20: =IF(ISERROR(MATCH(H$1,INDIRECT("Table!A"&$AG20):INDIRECT("Table!" & $AJ$90 & $AG20),0)),"",INDIRECT(CONCATENATE("Table!",ADDRESS($AC20,MATCH(H$1,INDIRECT("Table!A" & $AG20):INDIRECT("Table!" & $AJ$90 & $AG20),0))))) -> 0.6907748 | I20: =IF(ISERROR(MATCH(I$1,INDIRECT("Table!A"&$AG20):INDIRECT("Table!" & $AJ$69 & $AG20),0)),"",INDIRECT(CONCATENATE("Table!",ADDRESS($AC20,MATCH(I$1,INDIRECT("Table!A" & $AG20):INDIRECT("Table!" & $AJ$69 & $AG20),0))))) -> 0.23438247 | J20: =IF(ISERROR(MATCH(J$1,INDIRECT("Table!A"&$AG20):INDIRECT("Table!" & $AJ$69 & $AG20),0)),"",INDIRECT(CONCATENATE("Table!",ADDRESS($AC20,MATCH(J$1,INDIRECT("Table!A" & $AG20):INDIRECT("Table!" & $AJ$69 & $AG20),0))))) -> 0.53729612 | K20: =IF(ISERROR(MATCH(K$1,INDIRECT("Table!A"&$AG20):INDIRECT("Table!" & $AJ$69 & $AG20),0)),"",INDIRECT(CONCATENATE("Table!",ADDRESS($AC20,MATCH(K$1,INDIRECT("Table!A" & $AG20):INDIRECT("Table!" & $AJ$69 & $AG20),0))))) -> 0.10487336 | L20: =IF(ISERROR(MATCH(L$1,INDIRECT("Table!A"&$AG20):INDIRECT("Table!" & $AJ$69 & $AG20),0)),"",INDIRECT(CONCATENATE("Table!",ADDRESS($AC20,MATCH(L$1,INDIRECT("Table!A" & $AG20):INDIRECT("Table!" & $AJ$69 & $AG20),0))))) -> 0.87375012 | M20: =IF(ISERROR(MATCH(M$1,INDIRECT("Table!A"&$AG20):INDIRECT("Table!" & $AJ$69 & $AG20),0)),"",INDIRECT(CONCATENATE("Table!",ADDRESS($AC20,MATCH(M$1,INDIRECT("Table!A" & $AG20):INDIRECT("Table!" & $AJ$69 & $AG20),0))))) -> 0.45695551 | N20: =IF(ISERROR(MATCH(N$1,INDIRECT("Table!A"&$AG20):INDIRECT("Table!" & $AJ$69 & $AG20),0)),"",INDIRECT(CONCATENATE("Table!",ADDRESS($AC20,MATCH(N$1,INDIRECT("Table!A" & $AG20):INDIRECT("Table!" & $AJ$69 & $AG20),0))))) -> 0.7116115 | O20: =IF(ISERROR(MATCH(O$1,INDIRECT("Table!A"&$AG20):INDIRECT("Table!" & $AJ$69 & $AG20),0)),"",INDIRECT(CONCATENATE("Table!",ADDRESS($AC20,MATCH(O$1,INDIRECT("Table!A" & $AG20):INDIRECT("Table!" & $AJ$69 & $AG20),0))))) -> 0.78936411 | P20: =IF(ISERROR(MATCH(P$1,INDIRECT("Table!A"&$AG20):INDIRECT("Table!" & $AJ$69 & $AG20),0)),"",INDIRECT(CONCATENATE("Table!",ADDRESS($AC20,MATCH(P$1,INDIRECT("Table!A" & $AG20):INDIRECT("Table!" & $AJ$69 & $AG20),0))))) -> 0.24343077 | ... R20: =IF(ISERROR(MATCH(R$1,INDIRECT("Table!A"&$AG20):INDIRECT("Table!" & $AJ$69 & $AG20),0)),"",INDIRECT(CONCATENATE("Table!",ADDRESS($AC20,MATCH(R$1,INDIRECT("Table!A" & $AG20):INDIRECT("Table!" & $AJ$69 & $AG20),0))))) -> 0.48454955 | S20: =IF(ISERROR(MATCH(S$1,INDIRECT("Table!A"&$AG20):INDIRECT("Table!" & $AJ$43 & $AG20),0)),"",INDIRECT(CONCATENATE("Table!",ADDRESS($AC20,MATCH(S$1,INDIRECT("Table!A" & $AG20):INDIRECT("Table!" & $AJ$43 & $AG20),0))))) -> 0.25559101 | T20: =IF(ISERROR(MATCH(T$1,INDIRECT("Table!A"&$AG20):INDIRECT("Table!" & $AJ$43 & $AG20),0)),"",INDIRECT(CONCATENATE("Table!",ADDRESS($AC20,MATCH(T$1,INDIRECT("Table!A" & $AG20):INDIRECT("Table!" & $AJ$43 & $AG20),0))))) -> 0.22119642 | U20: =IF(ISERROR(MATCH(U$1,INDIRECT("Table!A"&$AG20):INDIRECT("Table!" & $AJ$43 & $AG20),0)),"",INDIRECT(CONCATENATE("Table!",ADDRESS($AC20,MATCH(U$1,INDIRECT("Table!A" & $AG20):INDIRECT("Table!" & $AJ$43 & $AG20),0))))) -> 0.031883379 | V20: =IF(ISERROR(MATCH(V$1,INDIRECT("Table!A"&$AG20):INDIRECT("Table!" & $AJ$43 & $AG20),0)),"",INDIRECT(CONCATENATE("Table!",ADDRESS($AC20,MATCH(V$1,INDIRECT("Table!A" & $AG20):INDIRECT("Table!" & $AJ$43 & $AG20),0))))) -> 0.0308118 | W20: =IF(ISERROR(MATCH(W$1,INDIRECT("Table!A"&$AG20):INDIRECT("Table!" & $AJ$43 & $AG20),0)),"",INDIRECT(CONCATENATE("Table!",ADDRESS($AC20,MATCH(W$1,INDIRECT("Table!A" & $AG20):INDIRECT("Table!" & $AJ$43 & $AG20),0))))) | AC20: =MATCH($A20,Table!$A:$A,0)+$AE$2-1 -> 244 | AG20: =MATCH($A20,Table!$A:$A,0)+$AI$2-1 -> 241 | AJ20: AB
