Workbook

Sheet Main
J1: 41640 | K1: 41640 | L1: 41623 | M1: 41609 | N1: 41593 | O1: 41584 | P1: 41577 | Q1: 41561 | R1: 41548 | S1: 41520 | T1: 41518 | U1: 41501 | V1: 41485 | W1: 41470 | X1: 41454 | Y1: 41439 | Z1: 41423 | AA1: 41408 | AB1: 41393 | AC1: 41378 | AD1: 41364 | AE1: 41348 | AF1: 41333 | AG1: 41319 | AH1: 41303 | AI1: 41289 | AJ1: 41276
B2: Site | C2: SID | D2: Alias | E2: ST_TYPE | F2: Tier | G2: SD_TYPE | H2: Total Capacity (TB) | I2: Used Capacity (TB) | J2: Available Capacity (TB) | K2: =VLOOKUP(K1:AJ1,'CK200053010120 '!A:D,3,FALSE) -> 15 | L2: =VLOOKUP(Main!L1,'CK200053010120 '!A:D,3,FALSE) -> 15 | M2: =VLOOKUP(Main!M1,'CK200053010120 '!B:E,3,FALSE) -> #N/A | N2: =VLOOKUP(Main!L1,'CK200053010120 '!A:D,3,FALSE) -> 15 | O2: =VLOOKUP(Main!O1,'CK200053010120 '!E:H,3,FALSE) -> #N/A | P2: =VLOOKUP(Main!P1,'CK200053010120 '!F:I,3,FALSE) -> 24 | Q2: =VLOOKUP(Main!Q1,'CK200053010120 '!G:J,3,FALSE) -> #N/A | R2: =VLOOKUP(Main!R1,'CK200053010120 '!H:K,3,FALSE) -> #N/A | S2: =VLOOKUP(Main!S1,'CK200053010120 '!I:L,3,FALSE) -> #N/A | T2: =VLOOKUP(Main!T1,'CK200053010120 '!J:M,3,FALSE) -> #N/A | U2: =VLOOKUP(Main!U1,'CK200053010120 '!K:N,3,FALSE) -> #N/A | V2: =VLOOKUP(Main!V1,'CK200053010120 '!L:O,3,FALSE) -> #N/A | W2: =VLOOKUP(Main!W1,'CK200053010120 '!M:P,3,FALSE) -> #N/A | X2: =VLOOKUP(Main!X1,'CK200053010120 '!N:Q,3,FALSE) -> #N/A | Y2: =VLOOKUP(Main!Y1,'CK200053010120 '!O:R,3,FALSE) -> #N/A | Z2: =VLOOKUP(Main!Z1,'CK200053010120 '!P:S,3,FALSE) -> #N/A | AA2: =VLOOKUP(Main!AA1,'CK200053010120 '!Q:T,3,FALSE) -> #N/A | AB2: =VLOOKUP(Main!AB1,'CK200053010120 '!R:U,3,FALSE) -> #N/A | AC2: =VLOOKUP(Main!AC1,'CK200053010120 '!S:V,3,FALSE) -> #N/A | AD2: =VLOOKUP(Main!AD1,'CK200053010120 '!T:W,3,FALSE) -> #N/A | AE2: =VLOOKUP(Main!AE1,'CK200053010120 '!U:X,3,FALSE) -> #N/A | AF2: =VLOOKUP(Main!AF1,'CK200053010120 '!V:Y,3,FALSE) -> #N/A | AG2: =VLOOKUP(Main!AG1,'CK200053010120 '!W:Z,3,FALSE) -> #N/A | AH2: =VLOOKUP(Main!AH1,'CK200053010120 '!X:AA,3,FALSE) -> #N/A | AI2: =VLOOKUP(Main!AI1,'CK200053010120 '!Y:AB,3,FALSE) -> #N/A | AJ2: =VLOOKUP(Main!L1,'CK200053010120 '!A:D,3,FALSE) -> 15
B3: Goleszowska DC | C3: centera_PL_01G | D3: centera_PL_01G CK200053810059 | E3: Centera | F3: FAT | G3: FAT
B4: Senatorska DC | C4: centera_PL_01S | D4: centera_PL_01S CK200054900293 | E4: Centera | F4: FAT | G4: FAT
B5: Goleszowska DC | C5: centera_PL_02G | D5: centera_PL_02G CK200042100431 | E5: Centera | F5: FAT | G5: FAT
B6: Senatorska DC | C6: centera_PL_02S | D6: centera_PL_02S CK200042100432 | E6: Centera | F6: FAT | G6: FAT | J6: =SUMIF('CK200054900163 '!A:A,#REF!,'CK200054900163 '!D:D) -> 0 | K6: =SUMIF('CK200054900163 '!A:A,#REF!,'CK200054900163 '!D:D) -> 0 | L6: =SUMIF('CK200054900163 '!A:A,#REF!,'CK200054900163 '!D:D) -> 0 | M6: =SUMIF('CK200054900163 '!A:A,#REF!,'CK200054900163 '!D:D) -> 0 | N6: =SUMIF('CK200054900163 '!A:A,#REF!,'CK200054900163 '!D:D) -> 0
A7: CK200053010120 | B7: Switzerland DC | C7: centera_CH_01E | D7: centera_CH_01E CK200053010120 | E7: Centera | F7: FAT | G7: FAT | H7: 44 | I7: 15 | J7: =SUMIF('CK200054900163 '!A:A,#REF!,'CK200054900163 '!D:D) -> 0 | K7: =SUMIF('CK200054900163 '!A:A,#REF!,'CK200054900163 '!D:D) -> 0 | L7: =SUMIF('CK200054900163 '!A:A,#REF!,'CK200054900163 '!D:D) -> 0 | M7: =SUMIF('CK200054900163 '!A:A,#REF!,'CK200054900163 '!D:D) -> 0 | N7: =SUMIF('CK200054900163 '!A:A,#REF!,'CK200054900163 '!D:D) -> 0
A8: CK200054900163 | B8: Switzerland DC | C8: centera_CH_01R | D8: centera_CH_01R CK200054900163 | E8: Centera | F8: FAT | G8: FAT | J8: =SUMIF('CK200054900163 '!A:A,J1:AJ1,'CK200054900163 '!D:D) -> 25 | K8: =SUMIF('CK200054900163 '!A:A,J1:AJ1,'CK200054900163 '!D:D) -> 25 | L8: =SUMIF('CK200054900163 '!A:A,J1:AJ1,'CK200054900163 '!D:D) -> 25 | M8: =SUMIF('CK200054900163 '!A:A,J1:AJ1,'CK200054900163 '!D:D) -> 25 | N8: =SUMIF('CK200054900163 '!A:A,J1:AJ1,'CK200054900163 '!D:D) -> 26 | O8: =SUMIF('CK200054900163 '!A:A,J1:AJ1,'CK200054900163 '!D:D) -> 0 | P8: =SUMIF('CK200054900163 '!C:C,L1:AL1,'CK200054900163 '!F:F) -> 0 | Q8: =SUMIF('CK200054900163 '!D:D,M1:AM1,'CK200054900163 '!G:G) -> 0 | R8: =SUMIF('CK200054900163 '!E:E,N1:AN1,'CK200054900163 '!H:H) -> 0 | S8: =SUMIF('CK200054900163 '!F:F,O1:AO1,'CK200054900163 '!I:I) -> 0 | T8: =SUMIF('CK200054900163 '!G:G,P1:AP1,'CK200054900163 '!J:J) -> 0 | U8: =SUMIF('CK200054900163 '!H:H,Q1:AQ1,'CK200054900163 '!K:K) -> 0 | V8: =SUMIF('CK200054900163 '!I:I,R1:AR1,'CK200054900163 '!L:L) -> 0 | W8: =SUMIF('CK200054900163 '!J:J,S1:AS1,'CK200054900163 '!M:M) -> 0 | X8: =SUMIF('CK200054900163 '!K:K,T1:AT1,'CK200054900163 '!N:N) -> 0 | Y8: =SUMIF('CK200054900163 '!L:L,U1:AU1,'CK200054900163 '!O:O) -> 0 | Z8: =SUMIF('CK200054900163 '!M:M,V1:AV1,'CK200054900163 '!P:P) -> 0 | AA8: =SUMIF('CK200054900163 '!N:N,W1:AW1,'CK200054900163 '!Q:Q) -> 0 | AB8: =SUMIF('CK200054900163 '!O:O,X1:AX1,'CK200054900163 '!R:R) -> 0 | AC8: =SUMIF('CK200054900163 '!P:P,Y1:AY1,'CK200054900163 '!S:S) -> 0 | AD8: =SUMIF('CK200054900163 '!Q:Q,Z1:AZ1,'CK200054900163 '!T:T) -> 0 | AE8: =SUMIF('CK200054900163 '!R:R,AA1:BA1,'CK200054900163 '!U:U) -> 0 | AF8: =SUMIF('CK200054900163 '!S:S,AB1:BB1,'CK200054900163 '!V:V) -> 0 | AG8: =SUMIF('CK200054900163 '!T:T,AC1:BC1,'CK200054900163 '!W:W) -> 0 | AH8: =SUMIF('CK200054900163 '!U:U,AD1:BD1,'CK200054900163 '!X:X) -> 0 | AI8: =SUMIF('CK200054900163 '!V:V,AE1:BE1,'CK200054900163 '!Y:Y) -> 0 | AJ8: =SUMIF('CK200054900163 '!W:W,AF1:BF1,'CK200054900163 '!Z:Z) -> 0 | AK8: =SUMIF('CK200054900163 '!X:X,AG1:BG1,'CK200054900163 '!AA:AA) -> 0
A9: CK200054900292 | B9: Turkey DC | C9: centera_TK_01T | D9: centera_TK_01T CK200054900292 | E9: Centera | F9: FAT | G9: FAT
A10: CK200054900294 | B10: Turkey DC | C10: centera_TK_01Y | D10: centera_TK_01Y CK200054900294 | E10: Centera | F10: FAT | G10: FAT
A11: CK200061900567 | B11: Riverdale DC | C11: centera_UK_01R | D11: centera_UK_01R CK200061900567 | E11: Centera | F11: FAT | G11: FAT
A12: CK200061900265 | B12: Welle DC | C12: centera_DE_01E | D12: centera_DE_01E CK200061900265 | E12: Centera | F12: FAT | G12: FAT
A13: CK200062000592 | B13: Welle DC | C13: centera_DE_02E | D13: centera_DE_02E CK200062000592 | E13: Centera | F13: FAT | G13: FAT
A14: CK200062000593 | B14: Riverdale DC | C14: centera_UK_02R | D14: centera_UK_02R CK200062000593 | E14: Centera | F14: FAT | G14: FAT
A15: CK200113804158 | B15: Riverdale DC | C15: rdccentera01 | D15: rdccentera01 CK200113804158 | E15: Centera | F15: FAT | G15: FAT
A16: CK200113804159 | B16: Frankfurt DC | C16: fdccentera01 | D16: fdccentera01 CK200113804159 | E16: Centera | F16: FAT | G16: FAT
Q22: `

Sheet CK200054900163 
A1: Date | B1: Total Capacity (TB) | C1: Used Capacity (TB) | D1: Available Capacity (TB)
A2: 41276 | B2: 21 | C2: 18.1 | D2: 2.9
A3: 41289 | B3: 21 | C3: 17.6 | D3: 3.4
A4: 41303 | B4: 21 | C4: 18.4 | D4: 2.6
A5: 41320 | B5: 21 | C5: 19.6 | D5: 1.4
A6: 41333 | B6: 21 | C6: 19.1 | D6: 1.9
A7: 41348 | B7: 21 | C7: 18.7 | D7: 2.3
A8: 41364 | B8: 21 | C8: 18.7 | D8: 2.3
A9: 41379 | B9: 21 | C9: 18.6 | D9: 2.4
A10: 41394 | B10: 21 | C10: 18.7 | D10: 2.3
A11: 41409 | B11: 21 | C11: 18.8 | D11: 2.2
A12: 41424 | B12: 21 | C12: 19 | D12: 2
A13: 41440 | B13: 50 | C13: 22 | D13: 28
... A29: 41640 | B29: 44 | C29: 18 | D29: 25

Sheet CK200053010120 
A1: Date | B1: Total Capacity (TB) | C1: Used Capacity (TB) | D1: Available Capacity (TB) | F1: Total Capacity (TB) | G1: (All)
A2: 41640 | B2: 44 | C2: 15 | D2: 29
A3: 41623 | B3: 44 | C3: 15 | D3: 29 | F3: Row Labels | G3: Sum of Used Capacity (TB) | H3: Sum of Available Capacity (TB)
A4: 41609 | B4: 44 | C4: 15 | D4: 29 | F4: 41276 | G4: 14.5 | H4: 8.5
A5: 41593 | B5: 44 | C5: 15 | D5: 29 | F5: 41289 | G5: 12 | H5: 11
A6: 41584 | B6: 44 | C6: 20 | D6: 24 | F6: 41303 | G6: 12 | H6: 11
A7: 41577 | B7: 44 | C7: 20 | D7: 24 | F7: 41319 | G7: 14.9 | H7: 8.1
A8: 41561 | B8: 44 | C8: 20 | D8: 24 | F8: 41333 | G8: 12 | H8: 11
A9: 41548 | B9: 53 | C9: 30 | D9: 23 | F9: 41348 | G9: 15.1 | H9: 7.9
A10: 41520 | B10: 52 | C10: 29 | D10: 23 | F10: 41364 | G10: 16.5 | H10: 6.5
A11: 41518 | B11: 52 | C11: 29 | D11: 23 | F11: 41378 | G11: 16.3 | H11: 6.7
A12: 41501 | B12: 52 | C12: 29 | D12: 23 | F12: 41393 | G12: 16.5 | H12: 6.5
A13: 41485 | B13: 52 | C13: 25 | D13: 27 | F13: 41408 | G13: 16.4 | H13: 6.6
A14: 41470 | B14: 52 | C14: 20 | D14: 32 | F14: 41423 | G14: 16.6 | H14: 6.4
A15: 41454 | B15: 52 | C15: 20 | D15: 32 | F15: 41439 | G15: 19 | H15: 33
... A27: 41276 | B27: 23 | C27: 14.5 | D27: 8.5 | F27: 41609 | G27: 15 | H27: 29
F28: 41623 | G28: 15 | H28: 29
F29: 41640 | G29: 15 | H29: 29
F30: Grand Total | G30: 483.8 | H30: 494.2

Sheet CK200113804159
A1: Date | B1: Total Capacity (TB) | C1: Available Capacity (TB) | D1: Used Capacity (TB) | F1: Total Capacity (TB) | G1: (All)
A2: 41640 | B2: 29 | C2: 15 | D2: =B2-C2 -> 14
A3: 41623 | B3: 29 | C3: 15 | D3: =B3-C3 -> 14 | F3: Row Labels | G3: Sum of Used Capacity (TB) | H3: Sum of Available Capacity (TB)
A4: 41609 | B4: 29 | C4: 15 | D4: =B4-C4 -> 14 | F4: 41275 | G4: 10 | H4: 19
A5: 41593 | B5: 29 | C5: 15 | D5: =B5-C5 -> 14 | F5: 41289 | G5: 10 | H5: 19
A6: 41584 | B6: 29 | C6: 15 | D6: =B6-C6 -> 14 | F6: 41305 | G6: 11 | H6: 18
A7: 41578 | B7: 19 | C7: 15 | D7: =B7-C7 -> 4 | F7: 41320 | G7: 11 | H7: 18
A8: 41562 | B8: 29 | C8: 16 | D8: =B8-C8 -> 13 | F8: 41333 | G8: 11 | H8: 18
A9: 41547 | B9: 29 | C9: 16 | D9: =B9-C9 -> 13 | F9: 41348 | G9: 11 | H9: 18
A10: 41532 | B10: 19 | C10: 16 | D10: =B10-C10 -> 3 | F10: 41364 | G10: 11 | H10: 18
A11: 41517 | B11: 29 | C11: 16 | D11: =B11-C11 -> 13 | F11: 41379 | G11: 11 | H11: 18
A12: 41501 | B12: 29 | C12: 16 | D12: =B12-C12 -> 13 | F12: 41394 | G12: 11 | H12: 18
A13: 41486 | B13: 29 | C13: 17 | D13: =B13-C13 -> 12 | F13: 41409 | G13: 12 | H13: 17
A14: 41470 | B14: 29 | C14: 17 | D14: =B14-C14 -> 12 | F14: 41425 | G14: 12 | H14: 17
A15: 41455 | B15: 29 | C15: 17 | D15: =B15-C15 -> 12 | F15: 41440 | G15: 12 | H15: 17
... A27: 41275 | B27: 29 | C27: 19 | D27: =B27-C27 -> 10 | F27: 41609 | G27: 14 | H27: 15
F28: 41623 | G28: 14 | H28: 15
F29: 41640 | G29: 14 | H29: 15
F30: (blank)
F31: Grand Total | G31: 298 | H31: 436

Sheet CK200113804158
A1: Date | B1: Total Capacity (TB) | C1: Available Capacity (TB) | D1: Used Capacity (TB)
A2: 41275 | B2: 29 | C2: 22 | D2: =B2-C2 -> 7
A3: 41289 | B3: 29 | C3: 22 | D3: =B3-C3 -> 7
A4: 41305 | B4: 29 | C4: 22 | D4: =B4-C4 -> 7
A5: 41320 | B5: 29 | C5: 22 | D5: =B5-C5 -> 7
A6: 41333 | B6: 29 | C6: 22 | D6: =B6-C6 -> 7
A7: 41348 | B7: 29 | C7: 21 | D7: =B7-C7 -> 8
A8: 41364 | B8: 29 | C8: 21 | D8: =B8-C8 -> 8
A9: 41379 | B9: 29 | C9: 21 | D9: =B9-C9 -> 8
A10: 41394 | B10: 29 | C10: 21 | D10: =B10-C10 -> 8
A11: 41409 | B11: 29 | C11: 21 | D11: =B11-C11 -> 8
A12: 41425 | B12: 29 | C12: 21 | D12: =B12-C12 -> 8
A13: 41440 | B13: 29 | C13: 21 | D13: =B13-C13 -> 8
... A27: 41640 | B27: 29 | C27: 20 | D27: =B27-C27 -> 9

Sheet CK200062000593
A1: Date | B1: Total Capacity (TB) | C1: Available Capacity (TB) | D1: Used Capacity (TB)
A2: 41275 | B2: 111 | C2: 28 | D2: =B2-C2 -> 83
A3: 41289 | B3: 111 | C3: 28 | D3: =B3-C3 -> 83
A4: 41305 | B4: 111 | C4: 27 | D4: =B4-C4 -> 84
A5: 41320 | B5: 111 | C5: 30 | D5: =B5-C5 -> 81
A6: 41333 | B6: 111 | C6: 30 | D6: =B6-C6 -> 81
A7: 41348 | B7: 111 | C7: 30 | D7: =B7-C7 -> 81
A8: 41364 | B8: 111 | C8: 30 | D8: =B8-C8 -> 81
A9: 41379 | B9: 111 | C9: 30 | D9: =B9-C9 -> 81
A10: 41394 | B10: 111 | C10: 29 | D10: =B10-C10 -> 82
A11: 41409 | B11: 111 | C11: 31 | D11: =B11-C11 -> 80
A12: 41425 | B12: 111 | C12: 31 | D12: =B12-C12 -> 80
A13: 41440 | B13: 111 | C13: 30 | D13: =B13-C13 -> 81
... A27: 41640 | B27: 111 | C27: 24 | D27: =B27-C27 -> 87

Sheet CK200062000592
A1: Date | B1: Total Capacity (TB) | C1: Available Capacity (TB) | D1: Used Capacity (TB)
A2: 41275 | B2: 98 | C2: 13 | D2: =B2-C2 -> 85
A3: 41289 | B3: 113 | C3: 27 | D3: =B3-C3 -> 86
A4: 41305 | B4: 113 | C4: 26 | D4: =B4-C4 -> 87
A5: 41320 | B5: 113 | C5: 25 | D5: =B5-C5 -> 88
A6: 41333 | B6: 113 | C6: 25 | D6: =B6-C6 -> 88
A7: 41348 | B7: 113 | C7: 25 | D7: =B7-C7 -> 88
A8: 41364 | B8: 113 | C8: 25 | D8: =B8-C8 -> 88
A9: 41379 | B9: 113 | C9: 25 | D9: =B9-C9 -> 88
A10: 41394 | B10: 113 | C10: 27 | D10: =B10-C10 -> 86
A11: 41409 | B11: 113 | C11: 27 | D11: =B11-C11 -> 86
A12: 41425 | B12: 113 | C12: 27 | D12: =B12-C12 -> 86
A13: 41440 | B13: 113 | C13: 27 | D13: =B13-C13 -> 86
... A27: 41640 | B27: 113 | C27: 27 | D27: =B27-C27 -> 86

Sheet CK200061900567
A1: Date | B1: Total Capacity (TB) | C1: Available Capacity (TB) | D1: Used Capacity (TB)
A2: 41275 | B2: 170 | C2: 23 | D2: =B2-C2 -> 147
A3: 41289 | B3: 257 | C3: 106 | D3: =B3-C3 -> 151
A4: 41305 | B4: 257 | C4: 104 | D4: =B4-C4 -> 153
A5: 41320 | B5: 257 | C5: 103 | D5: =B5-C5 -> 154
A6: 41333 | B6: 257 | C6: 101 | D6: =B6-C6 -> 156
A7: 41348 | B7: 257 | C7: 99 | D7: =B7-C7 -> 158
A8: 41364 | B8: 257 | C8: 97 | D8: =B8-C8 -> 160
A9: 41379 | B9: 257 | C9: 96 | D9: =B9-C9 -> 161
A10: 41394 | B10: 257 | C10: 94 | D10: =B10-C10 -> 163
A11: 41409 | B11: 257 | C11: 93 | D11: =B11-C11 -> 164
A12: 41425 | B12: 257 | C12: 91 | D12: =B12-C12 -> 166
A13: 41440 | B13: 257 | C13: 90 | D13: =B13-C13 -> 167
... A27: 41640 | B27: 257 | C27: 68 | D27: =B27-C27 -> 189

Sheet CK200061900265
A1: Date | B1: Total Capacity (TB) | C1: Available Capacity (TB) | D1: Used Capacity (TB)
A2: 41275 | B2: 171 | C2: 25 | D2: =B2-C2 -> 146
A3: 41289 | B3: 258 | C3: 109 | D3: =B3-C3 -> 149
A4: 41305 | B4: 258 | C4: 107 | D4: =B4-C4 -> 151
A5: 41320 | B5: 258 | C5: 105 | D5: =B5-C5 -> 153
A6: 41333 | B6: 258 | C6: 104 | D6: =B6-C6 -> 154
A7: 41348 | B7: 258 | C7: 102 | D7: =B7-C7 -> 156
A8: 41364 | B8: 258 | C8: 100 | D8: =B8-C8 -> 158
A9: 41379 | B9: 258 | C9: 99 | D9: =B9-C9 -> 159
A10: 41394 | B10: 258 | C10: 97 | D10: =B10-C10 -> 161
A11: 41409 | B11: 258 | C11: 96 | D11: =B11-C11 -> 162
A12: 41425 | B12: 258 | C12: 94 | D12: =B12-C12 -> 164
A13: 41440 | B13: 258 | C13: 93 | D13: =B13-C13 -> 165
... A25: 41609 | B25: 258 | C25: 74 | D25: =B25-C25 -> 184
A26: 41623 | B26: 258 | C26: 72 | D26: 169
A27: 41640 | B27: 258 | C27: 71 | D27: 170

Sheet CK200054900294
A1: Date | B1: Total Capacity (TB) | C1: Available Capacity (TB) | D1: Used Capacity (TB)
A2: 41275 | B2: 63 | C2: 13 | D2: =B2-C2 -> 50
A3: 41289 | B3: 63 | C3: 12 | D3: =B3-C3 -> 51
A4: 41305 | B4: 63 | C4: 12 | D4: =B4-C4 -> 51
A5: 41320 | B5: 63 | C5: 12 | D5: =B5-C5 -> 51
A6: 41333 | B6: 63 | C6: 11 | D6: =B6-C6 -> 52
A7: 41348 | B7: 63 | C7: 11 | D7: =B7-C7 -> 52
A8: 41364 | B8: 63 | C8: 11 | D8: =B8-C8 -> 52
A9: 41379 | B9: 63 | C9: 11 | D9: =B9-C9 -> 52
A10: 41394 | B10: 63 | C10: 10 | D10: =B10-C10 -> 53
A11: 41409 | B11: 63 | C11: 10 | D11: =B11-C11 -> 53
A12: 41425 | B12: 63 | C12: 9.8 | D12: =B12-C12 -> 53.2
A13: 41440 | B13: 63 | C13: 9 | D13: =B13-C13 -> 54
... A25: 41609 | B25: 75 | C25: 10 | D25: =B25-C25 -> 65

Sheet CK200054900292
A1: Date | B1: Total Capacity (TB) | C1: Available Capacity (TB) | D1: Used Capacity (TB)
A2: 41275 | B2: 63 | C2: 12 | D2: =B2-C2 -> 51
A3: 41289 | B3: 63 | C3: 12 | D3: =B3-C3 -> 51
A4: 41305 | B4: 63 | C4: 12 | D4: =B4-C4 -> 51
A5: 41320 | B5: 63 | C5: 11 | D5: =B5-C5 -> 52
A6: 41333 | B6: 63 | C6: 11 | D6: =B6-C6 -> 52
A7: 41348 | B7: 63 | C7: 11 | D7: =B7-C7 -> 52
A8: 41364 | B8: 63 | C8: 11 | D8: =B8-C8 -> 52
A9: 41379 | B9: 63 | C9: 10 | D9: =B9-C9 -> 53
A10: 41394 | B10: 63 | C10: 10 | D10: =B10-C10 -> 53
A11: 41409 | B11: 63 | C11: 9.8 | D11: =B11-C11 -> 53.2
A12: 41425 | B12: 63 | C12: 9.6 | D12: =B12-C12 -> 53.4
A13: 41440 | B13: 63 | C13: 8.9 | D13: =B13-C13 -> 54.1
