Workbook

Sheet Rainbow Server Info. Leg1-Leg2 
A1: Env Label | B1: Description | C1: Type | D1: Existing Server? | E1: Hostname | F1: Server Model | G1: O/S | H1: STORAGE FRAME | I1: Remarks | J1: RU/CZ Cluster | K1: RU/CZ Standalone | L1: UKC-Cluster | M1: UKC- Standalone | N1: OCI-F2F-Cluster | O1: OCI-F2F Standalone | P1: TCRS to be raise for Total Requirment for Wave-2 | Q1: Storage - Aug 2013 | R1: Leg1-Cluster | S1: Leg2 | T1: Leg2-Cluster | U1: Non-Replicated(#3004) | V1: Non-Replicated - Cluster(#3004) | W1: Storage Match for all servers | X1: Storage Match - 27TB Excel | Y1: Diff. | Z1: Migration type | AA1: Aperture rqs for storage config | AB1: Migration RFC# | AC1: Migration target date | AD1: Migration status | AE1: Storage release Aperture / RFC# | AF1: Storage release target date | AG1: Storage release status
A2: PAT | B2: Oracle RAC -CLMS, CitiPlanner, TCON, URS, CitiOption, citiwatch | C2: DB | D2: Yes - Outside this BoM | E2: fdcgcgracad31p | F2: IBM p7 p795 | G2: AIX 6.1 | H2: NR | I2: NA | Q2: =VLOOKUP($E2,[1]PROD!$O$3:$Q$217,3,0) -> 202.30078 | R2: =IF(ISNA(VLOOKUP($E2,[1]PROD!$F$3:$H$217,3,0)),0,(VLOOKUP($E2,[1]PROD!$F$3:$H$217,3,0))) -> 0 | S2: =IF(ISNA(VLOOKUP($E2,[1]PROD!$I$3:$K$217,3,0)),0,(VLOOKUP($E2,[1]PROD!$I$3:$K$217,3,0))) -> 0 | T2: =VLOOKUP($E2,[1]PROD!$L$3:$N$217,3,0) -> #N/A | U2: =VLOOKUP($E2,[1]PROD!$O$3:$Q$217,3,0) -> 202.30078 | V2: =VLOOKUP($E2,[1]PROD!$R$3:$T$217,3,0) -> #N/A | W2: =(VLOOKUP($E2,'27TB Excel'!$A$3:$B$159,2,0)/1024) -> #N/A | X2: =IF(ISNUMBER(VLOOKUP($E2,Others!$A$2:$B$68,2,0)/1024),(VLOOKUP($E2,Others!$A$2:$B$68,2,0)/1024),0) -> 0 | Y2: =IF($Q2-$W2=0,0,$Q2-$W2) -> #N/A | AD2: planning
A3: PAT | B3: Oracle RAC -CLMS, CitiPlanner, TCON, URS, CitiOption, citiwatch | C3: DB | D3: Yes - Outside this BoM | E3: fdcgcgracad32p | F3: IBM p7 p795 | G3: AIX 6.1 | H3: NR | I3: NA | Q3: =VLOOKUP($E3,[1]PROD!$O$3:$Q$217,3,0) -> 202.30078 | R3: =IF(ISNA(VLOOKUP($E3,[1]PROD!$F$3:$H$217,3,0)),0,(VLOOKUP($E3,[1]PROD!$F$3:$H$217,3,0))) -> 0 | S3: =IF(ISNA(VLOOKUP($E3,[1]PROD!$I$3:$K$217,3,0)),0,(VLOOKUP($E3,[1]PROD!$I$3:$K$217,3,0))) -> 0 | T3: =VLOOKUP($E3,[1]PROD!$L$3:$N$217,3,0) -> #N/A | U3: =VLOOKUP($E3,[1]PROD!$O$3:$Q$217,3,0) -> 202.30078 | V3: =VLOOKUP($E3,[1]PROD!$R$3:$T$217,3,0) -> #N/A | W3: =(VLOOKUP($E3,'27TB Excel'!$A$3:$B$159,2,0)/1024) -> #N/A | X3: =IF(ISNUMBER(VLOOKUP($E3,Others!$A$2:$B$68,2,0)/1024),(VLOOKUP($E3,Others!$A$2:$B$68,2,0)/1024),0) -> 0 | Y3: =IF($Q3-$W3=0,0,$Q3-$W3) -> #N/A | AD3: planning
A4: PAT | B4: Oracle RAC IVR , ESB, MemFis, WPS, | C4: DB | D4: Yes - Outside this BoM | E4: fdcgcgracad33p | F4: IBM p7 p795 | G4: AIX 6.1 | H4: NR | I4: NA | Q4: =VLOOKUP($E4,[1]PROD!$O$3:$Q$217,3,0) -> 202.30078 | R4: =IF(ISNA(VLOOKUP($E4,[1]PROD!$F$3:$H$217,3,0)),0,(VLOOKUP($E4,[1]PROD!$F$3:$H$217,3,0))) -> 0 | S4: =IF(ISNA(VLOOKUP($E4,[1]PROD!$I$3:$K$217,3,0)),0,(VLOOKUP($E4,[1]PROD!$I$3:$K$217,3,0))) -> 0 | T4: =VLOOKUP($E4,[1]PROD!$L$3:$N$217,3,0) -> #N/A | U4: =VLOOKUP($E4,[1]PROD!$O$3:$Q$217,3,0) -> 202.30078 | V4: =VLOOKUP($E4,[1]PROD!$R$3:$T$217,3,0) -> #N/A | W4: =(VLOOKUP($E4,'27TB Excel'!$A$3:$B$159,2,0)/1024) -> #N/A | X4: =IF(ISNUMBER(VLOOKUP($E4,Others!$A$2:$B$68,2,0)/1024),(VLOOKUP($E4,Others!$A$2:$B$68,2,0)/1024),0) -> 0 | Y4: =IF($Q4-$W4=0,0,$Q4-$W4) -> #N/A | AD4: planning
A5: PAT | B5: Oracle RAC IVR , ESB, MemFis, WPS, | C5: DB | D5: Yes - Outside this BoM | E5: fdcgcgracad34p | F5: IBM p7 p795 | G5: AIX 6.1 | H5: NR | I5: NA | Q5: =VLOOKUP($E5,[1]PROD!$O$3:$Q$217,3,0) -> 202.30078 | R5: =IF(ISNA(VLOOKUP($E5,[1]PROD!$F$3:$H$217,3,0)),0,(VLOOKUP($E5,[1]PROD!$F$3:$H$217,3,0))) -> 0 | S5: =IF(ISNA(VLOOKUP($E5,[1]PROD!$I$3:$K$217,3,0)),0,(VLOOKUP($E5,[1]PROD!$I$3:$K$217,3,0))) -> 0 | T5: =VLOOKUP($E5,[1]PROD!$L$3:$N$217,3,0) -> #N/A | U5: =VLOOKUP($E5,[1]PROD!$O$3:$Q$217,3,0) -> 202.30078 | V5: =VLOOKUP($E5,[1]PROD!$R$3:$T$217,3,0) -> #N/A | W5: =(VLOOKUP($E5,'27TB Excel'!$A$3:$B$159,2,0)/1024) -> #N/A | X5: =IF(ISNUMBER(VLOOKUP($E5,Others!$A$2:$B$68,2,0)/1024),(VLOOKUP($E5,Others!$A$2:$B$68,2,0)/1024),0) -> 0 | Y5: =IF($Q5-$W5=0,0,$Q5-$W5) -> #N/A | AD5: planning
A6: PAT/PROD | B6: BOXI | C6: AP | D6: Yes - Outside this BoM | E6: fdcgcgboxaa01p | F6: IBM p7 p780 | G6: AIX 6.1 | H6: LEG1 | I6: Confirmed - No Migration | J6: 90 | K6: 30 | L6: 60 | P6: =SUM(J6:L6) -> 180 | Q6: =VLOOKUP($E6,[1]PROD!$C$3:$E$217,3,0) -> 202.30078 | R6: =IF(ISNA(VLOOKUP($E6,[1]PROD!$F$3:$H$217,3,0)),0,(VLOOKUP($E6,[1]PROD!$F$3:$H$217,3,0))) -> 0 | S6: =IF(ISNA(VLOOKUP($E6,[1]PROD!$I$3:$K$217,3,0)),0,(VLOOKUP($E6,[1]PROD!$I$3:$K$217,3,0))) -> 0 | T6: =VLOOKUP($E6,[1]PROD!$L$3:$N$217,3,0) -> #N/A | U6: =VLOOKUP($E6,[1]PROD!$O$3:$Q$217,3,0) -> #N/A | V6: =VLOOKUP($E6,[1]PROD!$R$3:$T$217,3,0) -> #N/A | W6: =(VLOOKUP($E6,'27TB Excel'!$A$3:$B$159,2,0)/1024) -> 202.30078 | X6: =IF(ISNUMBER(VLOOKUP($E6,Others!$A$2:$B$68,2,0)/1024),(VLOOKUP($E6,Others!$A$2:$B$68,2,0)/1024),0) -> 202.30078 | Y6: =IF($Q6-$W6=0,0,$Q6-$W6) -> 0 | AD6: planning
A7: PAT/PROD | B7: BOXI | C7: AP | D7: Yes - Outside this BoM | E7: fdcgcgboxaa02p | F7: IBM p7 p780 | G7: AIX 6.1 | H7: LEG1 | I7: Confirmed - No Migration | K7: 30 | P7: =SUM(J7:L7) -> 30 | Q7: =VLOOKUP($E7,[1]PROD!$C$3:$E$217,3,0) -> 202.30078 | R7: =IF(ISNA(VLOOKUP($E7,[1]PROD!$F$3:$H$217,3,0)),0,(VLOOKUP($E7,[1]PROD!$F$3:$H$217,3,0))) -> 0 | S7: =IF(ISNA(VLOOKUP($E7,[1]PROD!$I$3:$K$217,3,0)),0,(VLOOKUP($E7,[1]PROD!$I$3:$K$217,3,0))) -> 0 | T7: =VLOOKUP($E7,[1]PROD!$L$3:$N$217,3,0) -> #N/A | U7: =VLOOKUP($E7,[1]PROD!$O$3:$Q$217,3,0) -> #N/A | V7: =VLOOKUP($E7,[1]PROD!$R$3:$T$217,3,0) -> #N/A | W7: =(VLOOKUP($E7,'27TB Excel'!$A$3:$B$159,2,0)/1024) -> 202.30078 | X7: =IF(ISNUMBER(VLOOKUP($E7,Others!$A$2:$B$68,2,0)/1024),(VLOOKUP($E7,Others!$A$2:$B$68,2,0)/1024),0) -> 202.30078 | Y7: =IF($Q7-$W7=0,0,$Q7-$W7) -> 0 | AD7: planning
A8: PAT/PROD | B8: CMR AB Initio 1 | C8: AP | D8: Yes - Outside this BoM | E8: fdcgcgcmraa01p | F8: IBM p7 p795 | G8: AIX 6.1 | H8: LEG1 | L8: 360 | P8: =SUM(J8:L8) -> 360 | Q8: =VLOOKUP($E8,[1]PROD!$C$3:$E$217,3,0) -> 134.86719 | R8: =IF(ISNA(VLOOKUP($E8,[1]PROD!$F$3:$H$217,3,0)),0,(VLOOKUP($E8,[1]PROD!$F$3:$H$217,3,0))) -> 0 | S8: =IF(ISNA(VLOOKUP($E8,[1]PROD!$I$3:$K$217,3,0)),0,(VLOOKUP($E8,[1]PROD!$I$3:$K$217,3,0))) -> 0 | T8: =VLOOKUP($E8,[1]PROD!$L$3:$N$217,3,0) -> #N/A | U8: =VLOOKUP($E8,[1]PROD!$O$3:$Q$217,3,0) -> #N/A | V8: =VLOOKUP($E8,[1]PROD!$R$3:$T$217,3,0) -> #N/A | W8: =(VLOOKUP($E8,'27TB Excel'!$A$3:$B$159,2,0)/1024) -> 134.86719 | X8: =IF(ISNUMBER(VLOOKUP($E8,Others!$A$2:$B$68,2,0)/1024),(VLOOKUP($E8,Others!$A$2:$B$68,2,0)/1024),0) -> 0 | Y8: =IF($Q8-$W8=0,0,$Q8-$W8) -> 0 | AD8: planning
A9: PAT/PROD | B9: CMR AB Initio 2 | C9: AP | D9: Yes - Outside this BoM | E9: fdcgcgcmraa02p | F9: IBM p7 p795 | G9: AIX 6.1 | H9: LEG1 | P9: =SUM(J9:L9) -> 0 | Q9: =VLOOKUP($E9,[1]PROD!$C$3:$E$217,3,0) -> 134.86719 | R9: =IF(ISNA(VLOOKUP($E9,[1]PROD!$F$3:$H$217,3,0)),0,(VLOOKUP($E9,[1]PROD!$F$3:$H$217,3,0))) -> 0 | S9: =IF(ISNA(VLOOKUP($E9,[1]PROD!$I$3:$K$217,3,0)),0,(VLOOKUP($E9,[1]PROD!$I$3:$K$217,3,0))) -> 0 | T9: =VLOOKUP($E9,[1]PROD!$L$3:$N$217,3,0) -> #N/A | U9: =VLOOKUP($E9,[1]PROD!$O$3:$Q$217,3,0) -> #N/A | V9: =VLOOKUP($E9,[1]PROD!$R$3:$T$217,3,0) -> #N/A | W9: =(VLOOKUP($E9,'27TB Excel'!$A$3:$B$159,2,0)/1024) -> 134.86719 | X9: =IF(ISNUMBER(VLOOKUP($E9,Others!$A$2:$B$68,2,0)/1024),(VLOOKUP($E9,Others!$A$2:$B$68,2,0)/1024),0) -> 0 | Y9: =IF($Q9-$W9=0,0,$Q9-$W9) -> 0 | AD9: planning
A10: PAT/PROD | B10: ETL Engine Tier - UAE, UK IPB (Primary) | C10: AP | D10: Yes - Outside this BoM | E10: fdcgcgetlaa01p | F10: IBM p7 p780 | G10: AIX 6.1 | H10: LEG1 | I10: Confirmed - No Migration | L10: 400 | P10: =SUM(J10:L10) -> 400 | Q10: 641.67 | R10: =IF(ISNA(VLOOKUP($E10,[1]PROD!$F$3:$H$217,3,0)),0,(VLOOKUP($E10,[1]PROD!$F$3:$H$217,3,0))) -> 0 | S10: =IF(ISNA(VLOOKUP($E10,[1]PROD!$I$3:$K$217,3,0)),0,(VLOOKUP($E10,[1]PROD!$I$3:$K$217,3,0))) -> 0 | T10: =VLOOKUP($E10,[1]PROD!$L$3:$N$217,3,0) -> #N/A | U10: =VLOOKUP($E10,[1]PROD!$O$3:$Q$217,3,0) -> #N/A | V10: =VLOOKUP($E10,[1]PROD!$R$3:$T$217,3,0) -> #N/A | W10: =(VLOOKUP($E10,'27TB Excel'!$A$3:$B$159,2,0)/1024) -> 33.716797 | X10: =IF(ISNUMBER(VLOOKUP($E10,Others!$A$2:$B$68,2,0)/1024),(VLOOKUP($E10,Others!$A$2:$B$68,2,0)/1024),0) -> 33.716797 | Y10: =IF($Q10-$W10=0,0,$Q10-$W10) -> 607.9532 | AD10: planning
A11: PAT/PROD | B11: ETL Engine Tier - UAE, UK IPB (Secondary) | C11: AP | D11: Yes - Outside this BoM | E11: fdcgcgetlaa02p | F11: IBM p7 p780 | G11: AIX 6.1 | H11: LEG1 | I11: Confirmed - No Migration | Q11: =VLOOKUP($E11,[1]PROD!$C$3:$E$217,3,0) -> 33.716797 | R11: =IF(ISNA(VLOOKUP($E11,[1]PROD!$F$3:$H$217,3,0)),0,(VLOOKUP($E11,[1]PROD!$F$3:$H$217,3,0))) -> 0 | S11: =IF(ISNA(VLOOKUP($E11,[1]PROD!$I$3:$K$217,3,0)),0,(VLOOKUP($E11,[1]PROD!$I$3:$K$217,3,0))) -> 0 | T11: =VLOOKUP($E11,[1]PROD!$L$3:$N$217,3,0) -> #N/A | U11: =VLOOKUP($E11,[1]PROD!$O$3:$Q$217,3,0) -> #N/A | V11: =VLOOKUP($E11,[1]PROD!$R$3:$T$217,3,0) -> #N/A | W11: =(VLOOKUP($E11,'27TB Excel'!$A$3:$B$159,2,0)/1024) -> 33.716797 | X11: =IF(ISNUMBER(VLOOKUP($E11,Others!$A$2:$B$68,2,0)/1024),(VLOOKUP($E11,Others!$A$2:$B$68,2,0)/1024),0) -> 33.716797 | Y11: =IF($Q11-$W11=0,0,$Q11-$W11) -> 0 | AD11: planning
A12: PAT/PROD | B12: ETL Engine Tier - Hungary,Czech (Secondary) | C12: AP | D12: Yes - Outside this BoM | E12: fdcgcgetlaa03p | F12: IBM p7 p780 | G12: AIX 6.1 | H12: LEG1 | I12: Confirmed - No Migration | J12: 400 | L12: 0 | P12: =SUM(J12:L12) -> 400 | Q12: 843.97 | R12: =IF(ISNA(VLOOKUP($E12,[1]PROD!$F$3:$H$217,3,0)),0,(VLOOKUP($E12,[1]PROD!$F$3:$H$217,3,0))) -> 0 | S12: =IF(ISNA(VLOOKUP($E12,[1]PROD!$I$3:$K$217,3,0)),0,(VLOOKUP($E12,[1]PROD!$I$3:$K$217,3,0))) -> 0 | T12: =VLOOKUP($E12,[1]PROD!$L$3:$N$217,3,0) -> #N/A | U12: =VLOOKUP($E12,[1]PROD!$O$3:$Q$217,3,0) -> #N/A | V12: =VLOOKUP($E12,[1]PROD!$R$3:$T$217,3,0) -> #N/A | W12: =(VLOOKUP($E12,'27TB Excel'!$A$3:$B$159,2,0)/1024) -> 33.716797 | X12: =IF(ISNUMBER(VLOOKUP($E12,Others!$A$2:$B$68,2,0)/1024),(VLOOKUP($E12,Others!$A$2:$B$68,2,0)/1024),0) -> 33.716797 | Y12: =IF($Q12-$W12=0,0,$Q12-$W12) -> 810.2532 | AD12: planning
A13: PAT/PROD | B13: ETL Engine Tier Hungary,Czech (Primary) | C13: AP | D13: Yes - Outside this BoM | E13: fdcgcgetlaa04p | F13: IBM p7 p780 | G13: AIX 6.1 | H13: LEG1 | I13: Confirmed - No Migration | L13: 0 | Q13: =VLOOKUP($E13,[1]PROD!$C$3:$E$217,3,0) -> 33.716797 | R13: =IF(ISNA(VLOOKUP($E13,[1]PROD!$F$3:$H$217,3,0)),0,(VLOOKUP($E13,[1]PROD!$F$3:$H$217,3,0))) -> 0 | S13: =IF(ISNA(VLOOKUP($E13,[1]PROD!$I$3:$K$217,3,0)),0,(VLOOKUP($E13,[1]PROD!$I$3:$K$217,3,0))) -> 0 | T13: =VLOOKUP($E13,[1]PROD!$L$3:$N$217,3,0) -> #N/A | U13: =VLOOKUP($E13,[1]PROD!$O$3:$Q$217,3,0) -> #N/A | V13: =VLOOKUP($E13,[1]PROD!$R$3:$T$217,3,0) -> #N/A | W13: =(VLOOKUP($E13,'27TB Excel'!$A$3:$B$159,2,0)/1024) -> 33.716797 | X13: =IF(ISNUMBER(VLOOKUP($E13,Others!$A$2:$B$68,2,0)/1024),(VLOOKUP($E13,Others!$A$2:$B$68,2,0)/1024),0) -> 33.716797 | Y13: =IF($Q13-$W13=0,0,$Q13-$W13) -> 0 | AD13: planning
A14: PAT/PROD | B14: ETL Engine Tier - Poland (Seconday) | C14: AP | D14: Yes - Outside this BoM | E14: fdcgcgetlaa05p | F14: IBM p7 p780 | G14: AIX 6.1 | H14: LEG1 | I14: Confirmed - No Migration | Q14: 1316 | R14: =IF(ISNA(VLOOKUP($E14,[1]PROD!$F$3:$H$217,3,0)),0,(VLOOKUP($E14,[1]PROD!$F$3:$H$217,3,0))) -> 0 | S14: =IF(ISNA(VLOOKUP($E14,[1]PROD!$I$3:$K$217,3,0)),0,(VLOOKUP($E14,[1]PROD!$I$3:$K$217,3,0))) -> 0 | T14: =VLOOKUP($E14,[1]PROD!$L$3:$N$217,3,0) -> #N/A | U14: =VLOOKUP($E14,[1]PROD!$O$3:$Q$217,3,0) -> #N/A | V14: =VLOOKUP($E14,[1]PROD!$R$3:$T$217,3,0) -> #N/A | W14: =(VLOOKUP($E14,'27TB Excel'!$A$3:$B$159,2,0)/1024) -> 33.716797 | X14: =IF(ISNUMBER(VLOOKUP($E14,Others!$A$2:$B$68,2,0)/1024),(VLOOKUP($E14,Others!$A$2:$B$68,2,0)/1024),0) -> 33.716797 | Y14: =IF($Q14-$W14=0,0,$Q14-$W14) -> 1282.2832 | AD14: planning
A15: PAT/PROD | B15: ETL Engine Tier - Poland (Primary) | C15: AP | D15: Yes - Outside this BoM | E15: fdcgcgetlaa06p | F15: IBM p7 p780 | G15: AIX 6.1 | H15: LEG1 | I15: Confirmed - No Migration | Q15: =VLOOKUP($E15,[1]PROD!$C$3:$E$217,3,0) -> 33.716797 | R15: =IF(ISNA(VLOOKUP($E15,[1]PROD!$F$3:$H$217,3,0)),0,(VLOOKUP($E15,[1]PROD!$F$3:$H$217,3,0))) -> 0 | S15: =IF(ISNA(VLOOKUP($E15,[1]PROD!$I$3:$K$217,3,0)),0,(VLOOKUP($E15,[1]PROD!$I$3:$K$217,3,0))) -> 0 | T15: =VLOOKUP($E15,[1]PROD!$L$3:$N$217,3,0) -> #N/A | U15: =VLOOKUP($E15,[1]PROD!$O$3:$Q$217,3,0) -> #N/A | V15: =VLOOKUP($E15,[1]PROD!$R$3:$T$217,3,0) -> #N/A | W15: =(VLOOKUP($E15,'27TB Excel'!$A$3:$B$159,2,0)/1024) -> 33.716797 | X15: =IF(ISNUMBER(VLOOKUP($E15,Others!$A$2:$B$68,2,0)/1024),(VLOOKUP($E15,Others!$A$2:$B$68,2,0)/1024),0) -> 33.716797 | Y15: =IF($Q15-$W15=0,0,$Q15-$W15) -> 0 | AD15: planning
A16: PAT/PROD | B16: ETL Engine Tier - , , Czech HA -(Secondary) | C16: AP | D16: Yes - Outside this BoM | E16: fdcgcgetlaa07p | F16: IBM p7 p780 | G16: AIX 6.1 | H16: LEG1 | I16: Confirmed - No Migration | Q16: 203 | R16: =IF(ISNA(VLOOKUP($E16,[1]PROD!$F$3:$H$217,3,0)),0,(VLOOKUP($E16,[1]PROD!$F$3:$H$217,3,0))) -> 0 | S16: =IF(ISNA(VLOOKUP($E16,[1]PROD!$I$3:$K$217,3,0)),0,(VLOOKUP($E16,[1]PROD!$I$3:$K$217,3,0))) -> 0 | T16: =VLOOKUP($E16,[1]PROD!$L$3:$N$217,3,0) -> #N/A | U16: =VLOOKUP($E16,[1]PROD!$O$3:$Q$217,3,0) -> #N/A | V16: =VLOOKUP($E16,[1]PROD!$R$3:$T$217,3,0) -> #N/A | W16: =(VLOOKUP($E16,'27TB Excel'!$A$3:$B$159,2,0)/1024) -> 33.716797 | X16: =IF(ISNUMBER(VLOOKUP($E16,Others!$A$2:$B$68,2,0)/1024),(VLOOKUP($E16,Others!$A$2:$B$68,2,0)/1024),0) -> 33.716797 | Y16: =IF($Q16-$W16=0,0,$Q16-$W16) -> 169.2832 | AD16: planning
A17: PAT/PROD | B17: ETL Engine Tier - , , Czech -DEDICATED I/O | C17: AP | D17: Yes - Outside this BoM | E17: fdcgcgetlaa08p | F17: IBM p7 p780 | G17: AIX 6.1 | H17: LEG1 | I17: Confirmed - No Migration | Q17: 33.72 | R17: =IF(ISNA(VLOOKUP($E17,[1]PROD!$F$3:$H$217,3,0)),0,(VLOOKUP($E17,[1]PROD!$F$3:$H$217,3,0))) -> 0 | S17: =IF(ISNA(VLOOKUP($E17,[1]PROD!$I$3:$K$217,3,0)),0,(VLOOKUP($E17,[1]PROD!$I$3:$K$217,3,0))) -> 0 | T17: =VLOOKUP($E17,[1]PROD!$L$3:$N$217,3,0) -> #N/A | U17: =VLOOKUP($E17,[1]PROD!$O$3:$Q$217,3,0) -> #N/A | V17: =VLOOKUP($E17,[1]PROD!$R$3:$T$217,3,0) -> #N/A | W17: =(VLOOKUP($E17,'27TB Excel'!$A$3:$B$159,2,0)/1024) -> 33.716797 | X17: =IF(ISNUMBER(VLOOKUP($E17,Others!$A$2:$B$68,2,0)/1024),(VLOOKUP($E17,Others!$A$2:$B$68,2,0)/1024),0) -> 33.716797 | Y17: =IF($Q17-$W17=0,0,$Q17-$W17) -> 0.003203125 | AD17: planning
A18: PAT/PROD | B18: ETL Engine Tier Russia (Primary) | C18: AP | D18: Yes - Outside this BoM | E18: fdcgcgetlaa09p | F18: IBM p7 p780 | G18: AIX 6.1 | H18: LEG1 | I18: Confirmed - No Migration | J18: 1100 | L18: 0 | N18: 200 | P18: 1300 | Q18: 978 | R18: =IF(ISNA(VLOOKUP($E18,[1]PROD!$F$3:$H$217,3,0)),0,(VLOOKUP($E18,[1]PROD!$F$3:$H$217,3,0))) -> 0 | S18: =IF(ISNA(VLOOKUP($E18,[1]PROD!$I$3:$K$217,3,0)),0,(VLOOKUP($E18,[1]PROD!$I$3:$K$217,3,0))) -> 0 | T18: =VLOOKUP($E18,[1]PROD!$L$3:$N$217,3,0) -> #N/A | U18: =VLOOKUP($E18,[1]PROD!$O$3:$Q$217,3,0) -> #N/A | V18: =VLOOKUP($E18,[1]PROD!$R$3:$T$217,3,0) -> #N/A | W18: =(VLOOKUP($E18,'27TB Excel'!$A$3:$B$159,2,0)/1024) -> 134.86719 | X18: =IF(ISNUMBER(VLOOKUP($E18,Others!$A$2:$B$68,2,0)/1024),(VLOOKUP($E18,Others!$A$2:$B$68,2,0)/1024),0) -> 134.86719 | Y18: =IF($Q18-$W18=0,0,$Q18-$W18) -> 843.13281 | AD18: planning
A19: PAT/PROD | B19: ETL Engine Tier - Russia (Secondary) | C19: AP | D19: Yes - Outside this BoM | E19: fdcgcgetlaa10p | F19: IBM p7 p780 | G19: AIX 6.1 | H19: LEG1 | I19: Confirmed - No Migration | L19: 0 | Q19: =VLOOKUP($E19,[1]PROD!$C$3:$E$217,3,0) -> 134.86719 | R19: =IF(ISNA(VLOOKUP($E19,[1]PROD!$F$3:$H$217,3,0)),0,(VLOOKUP($E19,[1]PROD!$F$3:$H$217,3,0))) -> 0 | S19: =IF(ISNA(VLOOKUP($E19,[1]PROD!$I$3:$K$217,3,0)),0,(VLOOKUP($E19,[1]PROD!$I$3:$K$217,3,0))) -> 0 | T19: =VLOOKUP($E19,[1]PROD!$L$3:$N$217,3,0) -> #N/A | U19: =VLOOKUP($E19,[1]PROD!$O$3:$Q$217,3,0) -> #N/A | V19: =VLOOKUP($E19,[1]PROD!$R$3:$T$217,3,0) -> #N/A | W19: =(VLOOKUP($E19,'27TB Excel'!$A$3:$B$159,2,0)/1024) -> 134.86719 | X19: =IF(ISNUMBER(VLOOKUP($E19,Others!$A$2:$B$68,2,0)/1024),(VLOOKUP($E19,Others!$A$2:$B$68,2,0)/1024),0) -> 134.86719 | Y19: =IF($Q19-$W19=0,0,$Q19-$W19) -> 0
A20: PAT/PROD | B20: ETL -Service Tier Active -Active | C20: WW | D20: Yes - Outside this BoM | E20: fdcgcgetlaa15p | F20: IBM p7 p780 | G20: AIX 6.1 | H20: LEG1 | I20: Confirmed - No Migration | Q20: =VLOOKUP($E20,[1]PROD!$C$3:$E$217,3,0) -> 236.01758 | R20: =IF(ISNA(VLOOKUP($E20,[1]PROD!$F$3:$H$217,3,0)),0,(VLOOKUP($E20,[1]PROD!$F$3:$H$217,3,0))) -> 0 | S20: =IF(ISNA(VLOOKUP($E20,[1]PROD!$I$3:$K$217,3,0)),0,(VLOOKUP($E20,[1]PROD!$I$3:$K$217,3,0))) -> 0 | T20: =VLOOKUP($E20,[1]PROD!$L$3:$N$217,3,0) -> #N/A | U20: =VLOOKUP($E20,[1]PROD!$O$3:$Q$217,3,0) -> #N/A | V20: =VLOOKUP($E20,[1]PROD!$R$3:$T$217,3,0) -> #N/A | W20: =(VLOOKUP($E20,'27TB Excel'!$A$3:$B$159,2,0)/1024) -> 236.01758 | X20: =IF(ISNUMBER(VLOOKUP($E20,Others!$A$2:$B$68,2,0)/1024),(VLOOKUP($E20,Others!$A$2:$B$68,2,0)/1024),0) -> 236.01758 | Y20: =IF($Q20-$W20=0,0,$Q20-$W20) -> 0
A21: PAT/PROD | B21: ETL -Service Tier Active -Active | C21: WW | D21: Yes - Outside this BoM | E21: fdcgcgetlaa16p | F21: IBM p7 p780 | G21: AIX 6.1 | H21: LEG2 | I21: 41616 | Q21: 236.01758 | R21: =IF(ISNA(VLOOKUP($E21,[1]PROD!$F$3:$H$217,3,0)),0,(VLOOKUP($E21,[1]PROD!$F$3:$H$217,3,0))) -> 0 | S21: =IF(ISNA(VLOOKUP($E21,[1]PROD!$I$3:$K$217,3,0)),0,(VLOOKUP($E21,[1]PROD!$I$3:$K$217,3,0))) -> 0 | T21: =VLOOKUP($E21,[1]PROD!$L$3:$N$217,3,0) -> #N/A | U21: =VLOOKUP($E21,[1]PROD!$O$3:$Q$217,3,0) -> #N/A | V21: =VLOOKUP($E21,[1]PROD!$R$3:$T$217,3,0) -> #N/A | W21: =(VLOOKUP($E21,'27TB Excel'!$A$3:$B$159,2,0)/1024) -> 236.01758 | X21: =IF(ISNUMBER(VLOOKUP($E21,Others!$A$2:$B$68,2,0)/1024),(VLOOKUP($E21,Others!$A$2:$B$68,2,0)/1024),0) -> 236.01758 | Y21: =IF($Q21-$W21=0,0,$Q21-$W21) -> 0 | Z21: Host | AA21: Completed | AB21: 17695788 | AC21: 41616 | AD21: Completed | AE21: Aperture raised | AF21: 41651 | AG21: SAN to provide
A22: PAT/PROD | B22: Kana Connect/Response | C22: AP | D22: Yes - Outside this BoM | E22: fdcgcgkanaa01p | F22: IBM p7 p795 | G22: AIX 6.1 | H22: LEG1 | K22: 60 | P22: =SUM(J22:L22) -> 60 | Q22: =VLOOKUP($E22,[1]PROD!$C$3:$E$217,3,0) -> 438.31836 | R22: =IF(ISNA(VLOOKUP($E22,[1]PROD!$F$3:$H$217,3,0)),0,(VLOOKUP($E22,[1]PROD!$F$3:$H$217,3,0))) -> 0 | S22: =IF(ISNA(VLOOKUP($E22,[1]PROD!$I$3:$K$217,3,0)),0,(VLOOKUP($E22,[1]PROD!$I$3:$K$217,3,0))) -> 0 | T22: =VLOOKUP($E22,[1]PROD!$L$3:$N$217,3,0) -> #N/A | U22: =VLOOKUP($E22,[1]PROD!$O$3:$Q$217,3,0) -> #N/A | V22: =VLOOKUP($E22,[1]PROD!$R$3:$T$217,3,0) -> #N/A | W22: =(VLOOKUP($E22,'27TB Excel'!$A$3:$B$159,2,0)/1024) -> 438.31836 | X22: =IF(ISNUMBER(VLOOKUP($E22,Others!$A$2:$B$68,2,0)/1024),(VLOOKUP($E22,Others!$A$2:$B$68,2,0)/1024),0) -> 0 | Y22: =IF($Q22-$W22=0,0,$Q22-$W22) -> 0 | AC22: 41616
A23: PAT/PROD | B23: Kana Webserver - DMZ 1 | C23: WW | D23: Yes - Outside this BoM | E23: fdcgcgkanaw01p | F23: IBM p7 p795 | G23: AIX 6.1 | H23: standalone | Q23: =VLOOKUP($E23,[1]Sheet1!$A$2:$C$764,3,0) -> #N/A | R23: =IF(ISNA(VLOOKUP($E23,[1]PROD!$F$3:$H$217,3,0)),0,(VLOOKUP($E23,[1]PROD!$F$3:$H$217,3,0))) -> 0 | S23: =IF(ISNA(VLOOKUP($E23,[1]PROD!$I$3:$K$217,3,0)),0,(VLOOKUP($E23,[1]PROD!$I$3:$K$217,3,0))) -> 0 | T23: =VLOOKUP($E23,[1]PROD!$L$3:$N$217,3,0) -> #N/A | U23: =VLOOKUP($E23,[1]PROD!$O$3:$Q$217,3,0) -> #N/A | V23: =VLOOKUP($E23,[1]PROD!$R$3:$T$217,3,0) -> #N/A | W23: =(VLOOKUP($E23,'27TB Excel'!$A$3:$B$159,2,0)/1024) -> #N/A | X23: =IF(ISNUMBER(VLOOKUP($E23,Others!$A$2:$B$68,2,0)/1024),(VLOOKUP($E23,Others!$A$2:$B$68,2,0)/1024),0) -> 0 | Y23: =IF($Q23-$W23=0,0,$Q23-$W23) -> #N/A | AC23: 41616
A24: PAT/PROD | B24: Kana Webserver - DMZ 2 | C24: WW | D24: Yes - Outside this BoM | E24: fdcgcgkanaw02p | F24: IBM p7 p795 | G24: AIX 6.1 | H24: standalone | Q24: =VLOOKUP($E24,[1]Sheet1!$A$2:$C$764,3,0) -> #N/A | R24: =IF(ISNA(VLOOKUP($E24,[1]PROD!$F$3:$H$217,3,0)),0,(VLOOKUP($E24,[1]PROD!$F$3:$H$217,3,0))) -> 0 | S24: =IF(ISNA(VLOOKUP($E24,[1]PROD!$I$3:$K$217,3,0)),0,(VLOOKUP($E24,[1]PROD!$I$3:$K$217,3,0))) -> 0 | T24: =VLOOKUP($E24,[1]PROD!$L$3:$N$217,3,0) -> #N/A | U24: =VLOOKUP($E24,[1]PROD!$O$3:$Q$217,3,0) -> #N/A | V24: =VLOOKUP($E24,[1]PROD!$R$3:$T$217,3,0) -> #N/A | W24: =(VLOOKUP($E24,'27TB Excel'!$A$3:$B$159,2,0)/1024) -> #N/A | X24: =IF(ISNUMBER(VLOOKUP($E24,Others!$A$2:$B$68,2,0)/1024),(VLOOKUP($E24,Others!$A$2:$B$68,2,0)/1024),0) -> 0 | Y24: =IF($Q24-$W24=0,0,$Q24-$W24) -> #N/A | AC24: 41616
A25: PAT/PROD | B25: Kana Websphere | C25: AP | D25: Yes - Outside this BoM | E25: fdcgcgkanaw03p | F25: IBM p7 p795 | G25: AIX 6.1 | H25: LEG1 | K25: 60 | P25: =SUM(J25:L25) -> 60 | Q25: =VLOOKUP($E25,[1]Sheet1!$A$2:$C$764,3,0) -> 236.01758 | R25: =IF(ISNA(VLOOKUP($E25,[1]PROD!$F$3:$H$217,3,0)),0,(VLOOKUP($E25,[1]PROD!$F$3:$H$217,3,0))) -> 0 | S25: =IF(ISNA(VLOOKUP($E25,[1]PROD!$I$3:$K$217,3,0)),0,(VLOOKUP($E25,[1]PROD!$I$3:$K$217,3,0))) -> 0 | T25: =VLOOKUP($E25,[1]PROD!$L$3:$N$217,3,0) -> #N/A | U25: =VLOOKUP($E25,[1]PROD!$O$3:$Q$217,3,0) -> #N/A | V25: =VLOOKUP($E25,[1]PROD!$R$3:$T$217,3,0) -> #N/A | W25: =(VLOOKUP($E25,'27TB Excel'!$A$3:$B$159,2,0)/1024) -> 236.01758 | X25: =IF(ISNUMBER(VLOOKUP($E25,Others!$A$2:$B$68,2,0)/1024),(VLOOKUP($E25,Others!$A$2:$B$68,2,0)/1024),0) -> 0 | Y25: =IF($Q25-$W25=0,0,$Q25-$W25) -> 0 | AC25: 41616
A26: PAT/PROD | B26: Kana Websphere | C26: AP | D26: Yes - Outside this BoM | E26: fdcgcgkanaw04p | F26: IBM p7 p795 | G26: AIX 6.1 | H26: LEG2 | I26: 41616 | K26: 60 | P26: =SUM(J26:L26) -> 60 | Q26: 337.16797 | R26: =IF(ISNA(VLOOKUP($E26,[1]PROD!$F$3:$H$217,3,0)),0,(VLOOKUP($E26,[1]PROD!$F$3:$H$217,3,0))) -> 0 | S26: =IF(ISNA(VLOOKUP($E26,[1]PROD!$I$3:$K$217,3,0)),0,(VLOOKUP($E26,[1]PROD!$I$3:$K$217,3,0))) -> 0 | T26: =VLOOKUP($E26,[1]PROD!$L$3:$N$217,3,0) -> #N/A | U26: =VLOOKUP($E26,[1]PROD!$O$3:$Q$217,3,0) -> #N/A | V26: =VLOOKUP($E26,[1]PROD!$R$3:$T$217,3,0) -> #N/A | W26: =(VLOOKUP($E26,'27TB Excel'!$A$3:$B$159,2,0)/1024) -> 337.16797 | X26: =IF(ISNUMBER(VLOOKUP($E26,Others!$A$2:$B$68,2,0)/1024),(VLOOKUP($E26,Others!$A$2:$B$68,2,0)/1024),0) -> 337.16797 | Y26: =IF($Q26-$W26=0,0,$Q26-$W26) -> 0 | Z26: Host | AA26: Completed | AB26: 17695788 | AC26: 41616 | AD26: Completed | AE26: Aperture raised | AF26: 41651 | AG26: SAN to provide
A27: PAT/PROD | B27: DWH Portal- Active-Active | C27: WW | D27: Yes - Outside this BoM | E27: fdcgcgporaw01p | F27: IBM p7 p780 | G27: AIX 6.1 | H27: LEG1 | I27: Confirmed - No Migration | K27: 30 | L27: 0 | M27: 30 | P27: 60 | Q27: =VLOOKUP($E27,[1]PROD!$C$3:$E$217,3,0) -> 269.73438 | R27: =IF(ISNA(VLOOKUP($E27,[1]PROD!$F$3:$H$217,3,0)),0,(VLOOKUP($E27,[1]PROD!$F$3:$H$217,3,0))) -> 0 | S27: =IF(ISNA(VLOOKUP($E27,[1]PROD!$I$3:$K$217,3,0)),0,(VLOOKUP($E27,[1]PROD!$I$3:$K$217,3,0))) -> 0 | T27: =VLOOKUP($E27,[1]PROD!$L$3:$N$217,3,0) -> #N/A | U27: =VLOOKUP($E27,[1]PROD!$O$3:$Q$217,3,0) -> #N/A | V27: =VLOOKUP($E27,[1]PROD!$R$3:$T$217,3,0) -> #N/A | W27: =(VLOOKUP($E27,'27TB Excel'!$A$3:$B$159,2,0)/1024) -> 269.73438 | X27: =IF(ISNUMBER(VLOOKUP($E27,Others!$A$2:$B$68,2,0)/1024),(VLOOKUP($E27,Others!$A$2:$B$68,2,0)/1024),0) -> 269.73438 | Y27: =IF($Q27-$W27=0,0,$Q27-$W27) -> 0 | AC27: 41616
A28: PAT/PROD | B28: DWH Portal / SAS Web-Tier | C28: WW | D28: Yes - Outside this BoM | E28: fdcgcgsasaw01p | F28: IBM p7 p780 | G28: AIX 6.1 | H28: LEG2 | I28: 41616 | K28: 30 | L28: 0 | M28: 30 | P28: 60 | Q28: 438.31836 | R28: =IF(ISNA(VLOOKUP($E28,[1]PROD!$F$3:$H$217,3,0)),0,(VLOOKUP($E28,[1]PROD!$F$3:$H$217,3,0))) -> 0 | S28: =IF(ISNA(VLOOKUP($E28,[1]PROD!$I$3:$K$217,3,0)),0,(VLOOKUP($E28,[1]PROD!$I$3:$K$217,3,0))) -> 0 | T28: =VLOOKUP($E28,[1]PROD!$L$3:$N$217,3,0) -> #N/A | U28: =VLOOKUP($E28,[1]PROD!$O$3:$Q$217,3,0) -> #N/A | V28: =VLOOKUP($E28,[1]PROD!$R$3:$T$217,3,0) -> #N/A | W28: =(VLOOKUP($E28,'27TB Excel'!$A$3:$B$159,2,0)/1024) -> 438.31836 | X28: =IF(ISNUMBER(VLOOKUP($E28,Others!$A$2:$B$68,2,0)/1024),(VLOOKUP($E28,Others!$A$2:$B$68,2,0)/1024),0) -> 438.31836 | Y28: =IF($Q28-$W28=0,0,$Q28-$W28) -> 0 | Z28: Host | AA28: Completed | AB28: 17695788 | AC28: 41616 | AD28: Completed | AE28: Aperture raised | AF28: 41651 | AG28: SAN to provide
A29: PAT/PROD | B29: SAS - Meta Tier | C29: AP | D29: Yes - Outside this BoM | E29: fdcgcgsasaa02p | F29: IBM p7 p780 | G29: AIX 6.1 | H29: NR | I29: 41609 | K29: 60 | M29: 30 | P29: =SUM(J29:L29) -> 60 | Q29: 337.16797 | R29: =IF(ISNA(VLOOKUP($E29,[1]PROD!$F$3:$H$217,3,0)),0,(VLOOKUP($E29,[1]PROD!$F$3:$H$217,3,0))) -> 0 | S29: =IF(ISNA(VLOOKUP($E29,[1]PROD!$I$3:$K$217,3,0)),0,(VLOOKUP($E29,[1]PROD!$I$3:$K$217,3,0))) -> 0 | T29: =VLOOKUP($E29,[1]PROD!$L$3:$N$217,3,0) -> #N/A | U29: =VLOOKUP($E29,[1]PROD!$O$3:$Q$217,3,0) -> #N/A | V29: =VLOOKUP($E29,[1]PROD!$R$3:$T$217,3,0) -> #N/A | W29: =(VLOOKUP($E29,'27TB Excel'!$A$3:$B$159,2,0)/1024) -> 337.16797 | X29: =IF(ISNUMBER(VLOOKUP($E29,Others!$A$2:$B$68,2,0)/1024),(VLOOKUP($E29,Others!$A$2:$B$68,2,0)/1024),0) -> 337.16797 | Y29: =IF($Q29-$W29=0,0,$Q29-$W29) -> 0 | Z29: Host | AA29: Completed | AB29: 17695788 | AC29: 41616 | AD29: Completed | AE29: Aperture raised | AF29: 41651 | AG29: SAN to provide
A30: PAT/PROD | B30: SAS - Compute Tier | C30: AP | D30: Yes - Outside this BoM | E30: fdcgcgsasaa03p | F30: IBM p7 p780 | G30: AIX 6.1 | H30: NR | I30: 41609 | K30: 700 | M30: 700 | P30: 1400 | Q30: 6945.6602 | R30: =IF(ISNA(VLOOKUP($E30,[1]PROD!$F$3:$H$217,3,0)),0,(VLOOKUP($E30,[1]PROD!$F$3:$H$217,3,0))) -> 0 | S30: =IF(ISNA(VLOOKUP($E30,[1]PROD!$I$3:$K$217,3,0)),0,(VLOOKUP($E30,[1]PROD!$I$3:$K$217,3,0))) -> 0 | T30: =VLOOKUP($E30,[1]PROD!$L$3:$N$217,3,0) -> #N/A | U30: =VLOOKUP($E30,[1]PROD!$O$3:$Q$217,3,0) -> #N/A | V30: =VLOOKUP($E30,[1]PROD!$R$3:$T$217,3,0) -> #N/A | W30: =(VLOOKUP($E30,'27TB Excel'!$A$3:$B$159,2,0)/1024) -> 6945.6602 | X30: =IF(ISNUMBER(VLOOKUP($E30,Others!$A$2:$B$68,2,0)/1024),(VLOOKUP($E30,Others!$A$2:$B$68,2,0)/1024),0) -> 6945.6602 | Y30: =IF($Q30-$W30=0,0,$Q30-$W30) -> 0 | Z30: Storage | AA30: Completed | AB30: 17695788 | AC30: 41616 | AD30: Completed | AE30: Aperture raised | AF30: 41651 | AG30: SAN to provide
A31: PAT/PROD | B31: Integration Layer - Ab Initio - Node 1 | C31: AP | D31: Yes - Outside this BoM | E31: fdcgcgrilaa01p | F31: IBM p7 p795 | G31: AIX 6.1 | H31: LEG1 | L31: 100 | P31: =SUM(J31:L31) -> 100 | Q31: =VLOOKUP($E31,[1]PROD!$C$3:$E$217,3,0) -> 101.15039 | R31: =IF(ISNA(VLOOKUP($E31,[1]PROD!$F$3:$H$217,3,0)),0,(VLOOKUP($E31,[1]PROD!$F$3:$H$217,3,0))) -> 0 | S31: =IF(ISNA(VLOOKUP($E31,[1]PROD!$I$3:$K$217,3,0)),0,(VLOOKUP($E31,[1]PROD!$I$3:$K$217,3,0))) -> 0 | T31: =VLOOKUP($E31,[1]PROD!$L$3:$N$217,3,0) -> #N/A | U31: =VLOOKUP($E31,[1]PROD!$O$3:$Q$217,3,0) -> #N/A | V31: =VLOOKUP($E31,[1]PROD!$R$3:$T$217,3,0) -> #N/A | W31: =(VLOOKUP($E31,'27TB Excel'!$A$3:$B$159,2,0)/1024) -> 101.15039 | X31: =IF(ISNUMBER(VLOOKUP($E31,Others!$A$2:$B$68,2,0)/1024),(VLOOKUP($E31,Others!$A$2:$B$68,2,0)/1024),0) -> 0 | Y31: =IF($Q31-$W31=0,0,$Q31-$W31) -> 0 | AC31: SA to provide
A32: PAT/PROD | B32: Integration Layer - Ab Initio - Node 2 | C32: AP | D32: Yes - Outside this BoM | E32: fdcgcgrilaa02p | F32: IBM p7 p795 | G32: AIX 6.1 | H32: LEG1 | Q32: =VLOOKUP($E32,[1]PROD!$C$3:$E$217,3,0) -> 101.15039 | R32: =IF(ISNA(VLOOKUP($E32,[1]PROD!$F$3:$H$217,3,0)),0,(VLOOKUP($E32,[1]PROD!$F$3:$H$217,3,0))) -> 0 | S32: =IF(ISNA(VLOOKUP($E32,[1]PROD!$I$3:$K$217,3,0)),0,(VLOOKUP($E32,[1]PROD!$I$3:$K$217,3,0))) -> 0 | T32: =VLOOKUP($E32,[1]PROD!$L$3:$N$217,3,0) -> #N/A | U32: =VLOOKUP($E32,[1]PROD!$O$3:$Q$217,3,0) -> #N/A | V32: =VLOOKUP($E32,[1]PROD!$R$3:$T$217,3,0) -> #N/A | W32: =(VLOOKUP($E32,'27TB Excel'!$A$3:$B$159,2,0)/1024) -> 101.15039 | X32: =IF(ISNUMBER(VLOOKUP($E32,Others!$A$2:$B$68,2,0)/1024),(VLOOKUP($E32,Others!$A$2:$B$68,2,0)/1024),0) -> 0 | Y32: =IF($Q32-$W32=0,0,$Q32-$W32) -> 0 | AC32: SA to provide
A33: PAT/PROD | B33: Integration Layer - Websphere - Node 1 | C33: WW | D33: Yes - Outside this BoM | E33: fdcgcgrilaw01p | F33: IBM p7 p795 | G33: AIX 6.1 | H33: LEG1 | Q33: =VLOOKUP($E33,[1]PROD!$C$3:$E$217,3,0) -> 101.15039 | R33: =IF(ISNA(VLOOKUP($E33,[1]PROD!$F$3:$H$217,3,0)),0,(VLOOKUP($E33,[1]PROD!$F$3:$H$217,3,0))) -> 0 | S33: =IF(ISNA(VLOOKUP($E33,[1]PROD!$I$3:$K$217,3,0)),0,(VLOOKUP($E33,[1]PROD!$I$3:$K$217,3,0))) -> 0 | T33: =VLOOKUP($E33,[1]PROD!$L$3:$N$217,3,0) -> #N/A | U33: =VLOOKUP($E33,[1]PROD!$O$3:$Q$217,3,0) -> #N/A | V33: =VLOOKUP($E33,[1]PROD!$R$3:$T$217,3,0) -> #N/A | W33: =(VLOOKUP($E33,'27TB Excel'!$A$3:$B$159,2,0)/1024) -> 101.15039 | X33: =IF(ISNUMBER(VLOOKUP($E33,Others!$A$2:$B$68,2,0)/1024),(VLOOKUP($E33,Others!$A$2:$B$68,2,0)/1024),0) -> 0 | Y33: =IF($Q33-$W33=0,0,$Q33-$W33) -> 0 | AC33: SA to provide
A34: PROD | B34: CDE | C34: AP | D34: Yes - Outside this BoM | E34: FDCGCGCDELA02P | F34: BL460c | G34: RHEL 5.6 | H34: LEG2 | I34: 41609 | K34: 80 | M34: 60 | P34: 140 | Q34: =VLOOKUP($E34,[1]Sheet1!$A$2:$C$764,3,0) -> 269.73438 | R34: =IF(ISNA(VLOOKUP($E34,[1]PROD!$F$3:$H$217,3,0)),0,(VLOOKUP($E34,[1]PROD!$F$3:$H$217,3,0))) -> 0 | S34: =VLOOKUP($E34,[1]PROD!$I$3:$K$217,3,0) -> #N/A | T34: =VLOOKUP($E34,[1]PROD!$L$3:$N$217,3,0) -> #N/A | U34: =VLOOKUP($E34,[1]PROD!$O$3:$Q$217,3,0) -> #N/A | V34: =VLOOKUP($E34,[1]PROD!$R$3:$T$217,3,0) -> #N/A | W34: =(VLOOKUP($E34,'27TB Excel'!$A$3:$B$159,2,0)/1024) -> 269.73438 | X34: =IF(ISNUMBER(VLOOKUP($E34,Others!$A$2:$B$68,2,0)/1024),(VLOOKUP($E34,Others!$A$2:$B$68,2,0)/1024),0) -> 269.73438 | Y34: =IF($Q34-$W34,0,$Q34-$W34) -> 0 | Z34: Host | AA34: Completed | AB34: 17695788 | AC34: 41616 | AD34: Completed | AE34: Aperture raised | AF34: 41651 | AG34: SAN to provide
A35: PAT/PROD | B35: Oracle HACMP - Tibco, RMAN | C35: DB | D35: Yes - Outside this BoM | E35: fdcgcgticad01p | F35: IBM p7 p780 | G35: AIX 6.1 | H35: LEG1 | N35: 90 | P35: 90 | Q35: =VLOOKUP($E35,[1]PROD!$C$3:$E$217,3,0) -> 134.86719 | R35: =IF(ISNA(VLOOKUP($E35,[1]PROD!$F$3:$H$217,3,0)),0,(VLOOKUP($E35,[1]PROD!$F$3:$H$217,3,0))) -> 0 | S35: =IF(ISNA(VLOOKUP($E35,[1]PROD!$I$3:$K$217,3,0)),0,(VLOOKUP($E35,[1]PROD!$I$3:$K$217,3,0))) -> 0 | T35: =VLOOKUP($E35,[1]PROD!$L$3:$N$217,3,0) -> #N/A | U35: =VLOOKUP($E35,[1]PROD!$O$3:$Q$217,3,0) -> #N/A | V35: =VLOOKUP($E35,[1]PROD!$R$3:$T$217,3,0) -> #N/A | W35: =(VLOOKUP($E35,'27TB Excel'!$A$3:$B$159,2,0)/1024) -> #N/A | X35: =IF(ISNUMBER(VLOOKUP($E35,Others!$A$2:$B$68,2,0)/1024),(VLOOKUP($E35,Others!$A$2:$B$68,2,0)/1024),0) -> 0 | Y35: =IF($Q35-$W35=0,0,$Q35-$W35) -> #N/A | AC35: SA to provide
A36: PAT/PROD | B36: Oracle HACMP - Tibco, RMAN | C36: DB | D36: Yes - Outside this BoM | E36: fdcgcgticad02p | F36: IBM p7 p780 | G36: AIX 6.1 | H36: LEG1 | P36: =SUM(J36:L36) -> 0 | Q36: =VLOOKUP($E36,[1]PROD!$C$3:$E$217,3,0) -> 134.86719 | R36: =IF(ISNA(VLOOKUP($E36,[1]PROD!$F$3:$H$217,3,0)),0,(VLOOKUP($E36,[1]PROD!$F$3:$H$217,3,0))) -> 0 | S36: =IF(ISNA(VLOOKUP($E36,[1]PROD!$I$3:$K$217,3,0)),0,(VLOOKUP($E36,[1]PROD!$I$3:$K$217,3,0))) -> 0 | T36: =VLOOKUP($E36,[1]PROD!$L$3:$N$217,3,0) -> #N/A | U36: =VLOOKUP($E36,[1]PROD!$O$3:$Q$217,3,0) -> #N/A | V36: =VLOOKUP($E36,[1]PROD!$R$3:$T$217,3,0) -> #N/A | W36: =(VLOOKUP($E36,'27TB Excel'!$A$3:$B$159,2,0)/1024) -> #N/A | X36: =IF(ISNUMBER(VLOOKUP($E36,Others!$A$2:$B$68,2,0)/1024),(VLOOKUP($E36,Others!$A$2:$B$68,2,0)/1024),0) -> 0 | Y36: =IF($Q36-$W36=0,0,$Q36-$W36) -> #N/A | AC36: SA to provide
A37: PROD | B37: Dataguard- Oracle RAC-ESB, MemFis, WPS | C37: DB | D37: Yes - Outside this BoM | E37: fdcgcgdtgad14p | F37: IBM p7 p795 | G37: AIX 6.1 | H37: LEG2 | I37: Completed | K37: 630 | M37: 300 | O37: 90 | P37: 1020 | Q37: 1756.46 | R37: =IF(ISNA(VLOOKUP($E37,[1]PROD!$F$3:$H$217,3,0)),0,(VLOOKUP($E37,[1]PROD!$F$3:$H$217,3,0))) -> 0 | S37: =IF(ISNA(VLOOKUP($E37,[1]PROD!$I$3:$K$217,3,0)),0,(VLOOKUP($E37,[1]PROD!$I$3:$K$217,3,0))) -> 1753.2734 | T37: =VLOOKUP($E37,[1]PROD!$L$3:$N$217,3,0) -> #N/A | U37: =VLOOKUP($E37,[1]PROD!$O$3:$Q$217,3,0) -> 3.1582031 | V37: =VLOOKUP($E37,[1]PROD!$R$3:$T$217,3,0) -> #N/A | W37: =(VLOOKUP($E37,'27TB Excel'!$A$3:$B$159,2,0)/1024) -> #N/A | X37: =IF(ISNUMBER(VLOOKUP($E37,Others!$A$2:$B$68,2,0)/1024),(VLOOKUP($E37,Others!$A$2:$B$68,2,0)/1024),0) -> 0 | Y37: =IF($Q37-$W37=0,0,$Q37-$W37) -> #N/A | AC37: SA to provide
A38: PROD | B38: Dataguard- Oracle RAC- Kana, WPS-Leg2 | C38: DB | D38: Yes - Outside this BoM | E38: fdcgcgdtgad16p | F38: IBM p7 p795 | G38: AIX 6.1 | H38: LEG2 | I38: Completed | K38: 240 | M38: 150 | P38: 390 | Q38: =VLOOKUP($E38,[1]PROD!$I$3:$K$217,3,0) -> 977.78711 | R38: =IF(ISNA(VLOOKUP($E38,[1]PROD!$F$3:$H$217,3,0)),0,(VLOOKUP($E38,[1]PROD!$F$3:$H$217,3,0))) -> 0 | S38: =IF(ISNA(VLOOKUP($E38,[1]PROD!$I$3:$K$217,3,0)),0,(VLOOKUP($E38,[1]PROD!$I$3:$K$217,3,0))) -> 977.78711 | T38: =VLOOKUP($E38,[1]PROD!$L$3:$N$217,3,0) -> #N/A | U38: =VLOOKUP($E38,[1]PROD!$O$3:$Q$217,3,0) -> 3.1582031 | V38: =VLOOKUP($E38,[1]PROD!$R$3:$T$217,3,0) -> #N/A | W38: =(VLOOKUP($E38,'27TB Excel'!$A$3:$B$159,2,0)/1024) -> #N/A | X38: =IF(ISNUMBER(VLOOKUP($E38,Others!$A$2:$B$68,2,0)/1024),(VLOOKUP($E38,Others!$A$2:$B$68,2,0)/1024),0) -> 0 | Y38: =IF($Q38-$W38=0,0,$Q38-$W38) -> #N/A | AC38: SA to provide
A39: PROD | B39: Dataguard- Oracle RAC-iProcess -Node | C39: DB | D39: Yes - Outside this BoM | E39: fdcgcgdtgad18p | F39: IBM p7 p795 | G39: AIX 6.1 | H39: LEG2 | I39: Completed | K39: 730 | M39: 300 | O39: 400 | P39: 1430 | Q39: =VLOOKUP($E39,[1]PROD!$I$3:$K$217,3,0) -> 1382.3887 | R39: =IF(ISNA(VLOOKUP($E39,[1]PROD!$F$3:$H$217,3,0)),0,(VLOOKUP($E39,[1]PROD!$F$3:$H$217,3,0))) -> 0 | S39: =IF(ISNA(VLOOKUP($E39,[1]PROD!$I$3:$K$217,3,0)),0,(VLOOKUP($E39,[1]PROD!$I$3:$K$217,3,0))) -> 1382.3887 | T39: =VLOOKUP($E39,[1]PROD!$L$3:$N$217,3,0) -> #N/A | U39: =VLOOKUP($E39,[1]PROD!$O$3:$Q$217,3,0) -> #N/A | V39: =VLOOKUP($E39,[1]PROD!$R$3:$T$217,3,0) -> #N/A | W39: =(VLOOKUP($E39,'27TB Excel'!$A$3:$B$159,2,0)/1024) -> 3.1582031 | X39: =IF(ISNUMBER(VLOOKUP($E39,Others!$A$2:$B$68,2,0)/1024),(VLOOKUP($E39,Others!$A$2:$B$68,2,0)/1024),0) -> 3.1582031 | Y39: =IF($Q39-$W39=0,0,$Q39-$W39) -> 1379.2305 | AC39: SA to provide
A40: PROD | B40: Dataguard- Oracle RAC-Ci/SAO , Integration Layer | C40: DB | D40: Yes - Outside this BoM | E40: fdcgcgdtgad20p | F40: IBM p7 p795 | G40: AIX 6.1 | H40: LEG2 | I40: Completed | K40: 930 | M40: 400 | P40: 1330 | Q40: =VLOOKUP($E40,[1]PROD!$I$3:$K$217,3,0) -> 1921.8574 | R40: =IF(ISNA(VLOOKUP($E40,[1]PROD!$F$3:$H$217,3,0)),0,(VLOOKUP($E40,[1]PROD!$F$3:$H$217,3,0))) -> 0 | S40: =IF(ISNA(VLOOKUP($E40,[1]PROD!$I$3:$K$217,3,0)),0,(VLOOKUP($E40,[1]PROD!$I$3:$K$217,3,0))) -> 1921.8574 | T40: =VLOOKUP($E40,[1]PROD!$L$3:$N$217,3,0) -> #N/A | U40: =VLOOKUP($E40,[1]PROD!$O$3:$Q$217,3,0) -> #N/A | V40: =VLOOKUP($E40,[1]PROD!$R$3:$T$217,3,0) -> #N/A | W40: =(VLOOKUP($E40,'27TB Excel'!$A$3:$B$159,2,0)/1024) -> 3.1582031 | X40: =IF(ISNUMBER(VLOOKUP($E40,Others!$A$2:$B$68,2,0)/1024),(VLOOKUP($E40,Others!$A$2:$B$68,2,0)/1024),0) -> 3.1582031 | Y40: =IF($Q40-$W40=0,0,$Q40-$W40) -> 1918.6992 | AC40: SA to provide
A41: PROD | B41: Dataguard- Oracle RAC - EDW | C41: DB | D41: Yes - Outside this BoM | E41: fdcgcgdtgad22p | F41: IBM p7 p795 | G41: AIX 6.1 | H41: LEG2 | I41: Completed | K41: 120 | P41: 120 | Q41: =VLOOKUP($E41,[1]PROD!$I$3:$K$217,3,0) -> 1416.1055 | R41: =IF(ISNA(VLOOKUP($E41,[1]PROD!$F$3:$H$217,3,0)),0,(VLOOKUP($E41,[1]PROD!$F$3:$H$217,3,0))) -> 0 | S41: =IF(ISNA(VLOOKUP($E41,[1]PROD!$I$3:$K$217,3,0)),0,(VLOOKUP($E41,[1]PROD!$I$3:$K$217,3,0))) -> 1416.1055 | T41: =VLOOKUP($E41,[1]PROD!$L$3:$N$217,3,0) -> #N/A | U41: =VLOOKUP($E41,[1]PROD!$O$3:$Q$217,3,0) -> 3.1582031 | V41: =VLOOKUP($E41,[1]PROD!$R$3:$T$217,3,0) -> #N/A | W41: =(VLOOKUP($E41,'27TB Excel'!$A$3:$B$159,2,0)/1024) -> #N/A | X41: =IF(ISNUMBER(VLOOKUP($E41,Others!$A$2:$B$68,2,0)/1024),(VLOOKUP($E41,Others!$A$2:$B$68,2,0)/1024),0) -> 0 | Y41: =IF($Q41-$W41=0,0,$Q41-$W41) -> #N/A | AC41: SA to provide
A42: PROD | B42: Dataguard -Oracle RAC - TCON, URS, CO,CW | C42: DB | D42: Yes - Outside this BoM | E42: fdcgcgdtgad24p | F42: IBM p7 p795 | G42: AIX 6.1 | H42: LEG2 | I42: Completed | K42: 990 | M42: 600 | P42: 1590 | Q42: =VLOOKUP($E42,[1]PROD!$I$3:$K$217,3,0) -> 2056.7246 | R42: =IF(ISNA(VLOOKUP($E42,[1]PROD!$F$3:$H$217,3,0)),0,(VLOOKUP($E42,[1]PROD!$F$3:$H$217,3,0))) -> 0 | S42: =IF(ISNA(VLOOKUP($E42,[1]PROD!$I$3:$K$217,3,0)),0,(VLOOKUP($E42,[1]PROD!$I$3:$K$217,3,0))) -> 2056.7246 | T42: =VLOOKUP($E42,[1]PROD!$L$3:$N$217,3,0) -> #N/A | U42: =VLOOKUP($E42,[1]PROD!$O$3:$Q$217,3,0) -> 3.1582031 | V42: =VLOOKUP($E42,[1]PROD!$R$3:$T$217,3,0) -> #N/A | W42: =(VLOOKUP($E42,'27TB Excel'!$A$3:$B$159,2,0)/1024) -> #N/A | X42: =IF(ISNUMBER(VLOOKUP($E42,Others!$A$2:$B$68,2,0)/1024),(VLOOKUP($E42,Others!$A$2:$B$68,2,0)/1024),0) -> 0 | Y42: =IF($Q42-$W42=0,0,$Q42-$W42) -> #N/A | AC42: SA to provide
A43: PROD | B43: Dataguard- Oracle RAC - COPS | C43: DB | D43: Yes - Outside this BoM | E43: fdcgcgdtgad26p | F43: IBM p7 p795 | G43: AIX 6.1 | H43: LEG2 | I43: Completed | K43: 5470 | M43: 1500 | P43: 6970 | Q43: 7184.84 | R43: =IF(ISNA(VLOOKUP($E43,[1]PROD!$F$3:$H$217,3,0)),0,(VLOOKUP($E43,[1]PROD!$F$3:$H$217,3,0))) -> 0 | S43: =IF(ISNA(VLOOKUP($E43,[1]PROD!$I$3:$K$217,3,0)),0,(VLOOKUP($E43,[1]PROD!$I$3:$K$217,3,0))) -> 7080.5273 | T43: =VLOOKUP($E43,[1]PROD!$L$3:$N$217,3,0) -> #N/A | U43: =VLOOKUP($E43,[1]PROD!$O$3:$Q$217,3,0) -> 104.30859 | V43: =VLOOKUP($E43,[1]PROD!$R$3:$T$217,3,0) -> #N/A | W43: =(VLOOKUP($E43,'27TB Excel'!$A$3:$B$159,2,0)/1024) -> #N/A | X43: =IF(ISNUMBER(VLOOKUP($E43,Others!$A$2:$B$68,2,0)/1024),(VLOOKUP($E43,Others!$A$2:$B$68,2,0)/1024),0) -> 0 | Y43: =IF($Q43-$W43=0,0,$Q43-$W43) -> #N/A | AC43: SA to provide
A44: PROD | B44: Dataguard-Oracle RAC - CLMS, CitiPlanner | C44: DB | D44: Yes - Outside this BoM | E44: fdcgcgdtgad28p | F44: IBM p7 p795 | G44: AIX 6.1 | H44: LEG2 | I44: Completed | K44: 1230 | M44: 700 | P44: 1930 | Q44: =VLOOKUP($E44,[1]PROD!$I$3:$K$217,3,0) -> 2124.1582 | R44: =IF(ISNA(VLOOKUP($E44,[1]PROD!$F$3:$H$217,3,0)),0,(VLOOKUP($E44,[1]PROD!$F$3:$H$217,3,0))) -> 0 | S44: =IF(ISNA(VLOOKUP($E44,[1]PROD!$I$3:$K$217,3,0)),0,(VLOOKUP($E44,[1]PROD!$I$3:$K$217,3,0))) -> 2124.1582 | T44: =VLOOKUP($E44,[1]PROD!$L$3:$N$217,3,0) -> #N/A | U44: =VLOOKUP($E44,[1]PROD!$O$3:$Q$217,3,0) -> #N/A | V44: =VLOOKUP($E44,[1]PROD!$R$3:$T$217,3,0) -> #N/A | W44: =(VLOOKUP($E44,'27TB Excel'!$A$3:$B$159,2,0)/1024) -> 3.1582031 | X44: =IF(ISNUMBER(VLOOKUP($E44,Others!$A$2:$B$68,2,0)/1024),(VLOOKUP($E44,Others!$A$2:$B$68,2,0)/1024),0) -> 3.1582031 | Y44: =IF($Q44-$W44=0,0,$Q44-$W44) -> 2121 | AC44: SA to provide
A45: PROD | B45: Dataguard-Oracle RAC- ECR | C45: DB | D45: Yes - Outside this BoM | E45: fdcgcgdtgad30p | F45: IBM p7 p795 | G45: AIX 6.1 | H45: LEG2 | I45: Completed | K45: 970 | M45: 750 | P45: 1720 | Q45: =VLOOKUP($E45,[1]PROD!$I$3:$K$217,3,0) -> 2495.043 | R45: =IF(ISNA(VLOOKUP($E45,[1]PROD!$F$3:$H$217,3,0)),0,(VLOOKUP($E45,[1]PROD!$F$3:$H$217,3,0))) -> 0 | S45: =IF(ISNA(VLOOKUP($E45,[1]PROD!$I$3:$K$217,3,0)),0,(VLOOKUP($E45,[1]PROD!$I$3:$K$217,3,0))) -> 2495.043 | T45: =VLOOKUP($E45,[1]PROD!$L$3:$N$217,3,0) -> #N/A | U45: =VLOOKUP($E45,[1]PROD!$O$3:$Q$217,3,0) -> #N/A | V45: =VLOOKUP($E45,[1]PROD!$R$3:$T$217,3,0) -> #N/A | W45: =(VLOOKUP($E45,'27TB Excel'!$A$3:$B$159,2,0)/1024) -> 3.1582031 | X45: =IF(ISNUMBER(VLOOKUP($E45,Others!$A$2:$B$68,2,0)/1024),(VLOOKUP($E45,Others!$A$2:$B$68,2,0)/1024),0) -> 3.1582031 | Y45: =IF($Q45-$W45=0,0,$Q45-$W45) -> 2491.8848 | AC45: SA to provide
A46: PROD | B46: Oracle RAC- IVR -NODE 1 | C46: DB | D46: Yes - Outside this BoM | E46: fdcgcgracad01p | F46: IBM p7 p795 | G46: AIX 6.1 | H46: LEG1 | J46: 180 | L46: 60 | P46: =SUM(J46:L46) -> 240 | Q46: =VLOOKUP($E46,[1]PROD!$C$3:$E$217,3,0) -> 134.86719 | R46: =IF(ISNA(VLOOKUP($E46,[1]PROD!$F$3:$H$217,3,0)),0,(VLOOKUP($E46,[1]PROD!$F$3:$H$217,3,0))) -> 0 | S46: =IF(ISNA(VLOOKUP($E46,[1]PROD!$I$3:$K$217,3,0)),0,(VLOOKUP($E46,[1]PROD!$I$3:$K$217,3,0))) -> 0 | T46: =VLOOKUP($E46,[1]PROD!$L$3:$N$217,3,0) -> #N/A | U46: =VLOOKUP($E46,[1]PROD!$O$3:$Q$217,3,0) -> #N/A | V46: =VLOOKUP($E46,[1]PROD!$R$3:$T$217,3,0) -> #N/A | W46: =(VLOOKUP($E46,'27TB Excel'!$A$3:$B$159,2,0)/1024) -> 134.86719 | X46: =IF(ISNUMBER(VLOOKUP($E46,Others!$A$2:$B$68,2,0)/1024),(VLOOKUP($E46,Others!$A$2:$B$68,2,0)/1024),0) -> 0 | Y46: =IF($Q46-$W46=0,0,$Q46-$W46) -> 0 | AC46: SA to provide
A47: PROD | B47: Oracle RAC- IVR- NODE 2 | C47: DB | D47: Yes - Outside this BoM | E47: fdcgcgracad02p | F47: IBM p7 p795 | G47: AIX 6.1 | H47: LEG1 | P47: =SUM(J47:L47) -> 0 | Q47: =VLOOKUP($E47,[1]PROD!$C$3:$E$217,3,0) -> 134.86719 | R47: =IF(ISNA(VLOOKUP($E47,[1]PROD!$F$3:$H$217,3,0)),0,(VLOOKUP($E47,[1]PROD!$F$3:$H$217,3,0))) -> 0 | S47: =IF(ISNA(VLOOKUP($E47,[1]PROD!$I$3:$K$217,3,0)),0,(VLOOKUP($E47,[1]PROD!$I$3:$K$217,3,0))) -> 0 | T47: =VLOOKUP($E47,[1]PROD!$L$3:$N$217,3,0) -> #N/A | U47: =VLOOKUP($E47,[1]PROD!$O$3:$Q$217,3,0) -> #N/A | V47: =VLOOKUP($E47,[1]PROD!$R$3:$T$217,3,0) -> #N/A | W47: =(VLOOKUP($E47,'27TB Excel'!$A$3:$B$159,2,0)/1024) -> 134.86719 | X47: =IF(ISNUMBER(VLOOKUP($E47,Others!$A$2:$B$68,2,0)/1024),(VLOOKUP($E47,Others!$A$2:$B$68,2,0)/1024),0) -> 0 | Y47: =IF($Q47-$W47=0,0,$Q47-$W47) -> 0
A48: PROD | B48: Dataguard-Oracle RAC - IVR -Node 1 | C48: DB | D48: Yes - Outside this BoM | E48: fdcgcgracad03p | F48: IBM p7 p795 | G48: AIX 6.1 | H48: LEG2 | I48: Completed | J48: 180 | L48: 60 | P48: =SUM(J48:L48) -> 240 | Q48: =VLOOKUP($E48,[1]PROD!$I$3:$K$217,3,0) -> 134.86719 | R48: =IF(ISNA(VLOOKUP($E48,[1]PROD!$F$3:$H$217,3,0)),0,(VLOOKUP($E48,[1]PROD!$F$3:$H$217,3,0))) -> 0 | S48: =IF(ISNA(VLOOKUP($E48,[1]PROD!$I$3:$K$217,3,0)),0,(VLOOKUP($E48,[1]PROD!$I$3:$K$217,3,0))) -> 134.86719 | T48: =VLOOKUP($E48,[1]PROD!$L$3:$N$217,3,0) -> #N/A | U48: =VLOOKUP($E48,[1]PROD!$O$3:$Q$217,3,0) -> #N/A | V48: =VLOOKUP($E48,[1]PROD!$R$3:$T$217,3,0) -> #N/A | W48: =(VLOOKUP($E48,'27TB Excel'!$A$3:$B$159,2,0)/1024) -> 134.86719 | X48: =IF(ISNUMBER(VLOOKUP($E48,Others!$A$2:$B$68,2,0)/1024),(VLOOKUP($E48,Others!$A$2:$B$68,2,0)/1024),0) -> 134.86719 | Y48: =IF($Q48-$W48=0,0,$Q48-$W48) -> 0
A49: PROD | B49: Dataguard-Oracle RAC - IVR -Node 2 | C49: DB | D49: Yes - Outside this BoM | E49: fdcgcgracad04p | F49: IBM p7 p795 | G49: AIX 6.1 | H49: LEG2 | I49: Completed | P49: =SUM(J49:L49) -> 0 | Q49: =VLOOKUP($E49,[1]PROD!$I$3:$K$217,3,0) -> 134.86719 | R49: =IF(ISNA(VLOOKUP($E49,[1]PROD!$F$3:$H$217,3,0)),0,(VLOOKUP($E49,[1]PROD!$F$3:$H$217,3,0))) -> 0 | S49: =IF(ISNA(VLOOKUP($E49,[1]PROD!$I$3:$K$217,3,0)),0,(VLOOKUP($E49,[1]PROD!$I$3:$K$217,3,0))) -> 134.86719 | T49: =VLOOKUP($E49,[1]PROD!$L$3:$N$217,3,0) -> #N/A | U49: =VLOOKUP($E49,[1]PROD!$O$3:$Q$217,3,0) -> #N/A | V49: =VLOOKUP($E49,[1]PROD!$R$3:$T$217,3,0) -> #N/A | W49: =(VLOOKUP($E49,'27TB Excel'!$A$3:$B$159,2,0)/1024) -> 134.86719 | X49: =IF(ISNUMBER(VLOOKUP($E49,Others!$A$2:$B$68,2,0)/1024),(VLOOKUP($E49,Others!$A$2:$B$68,2,0)/1024),0) -> 134.86719 | Y49: =IF($Q49-$W49=0,0,$Q49-$W49) -> 0
A50: PROD | B50: Oracle RAC - Eclipse/CMR -NODE 1 | C50: DB | D50: Yes - Outside this BoM | E50: fdcgcgracad05p | F50: IBM p7 p795 | G50: AIX 6.1 | H50: LEG1 | J50: 650 | K50: 30 | L50: 650 | P50: =SUM(J50:L50) -> 1330 | Q50: =VLOOKUP($E50,[1]PROD!$C$3:$E$217,3,0) -> 269.73438 | R50: =IF(ISNA(VLOOKUP($E50,[1]PROD!$F$3:$H$217,3,0)),0,(VLOOKUP($E50,[1]PROD!$F$3:$H$217,3,0))) -> 0 | S50: =IF(ISNA(VLOOKUP($E50,[1]PROD!$I$3:$K$217,3,0)),0,(VLOOKUP($E50,[1]PROD!$I$3:$K$217,3,0))) -> 0 | T50: =VLOOKUP($E50,[1]PROD!$L$3:$N$217,3,0) -> #N/A | U50: =VLOOKUP($E50,[1]PROD!$O$3:$Q$217,3,0) -> #N/A | V50: =VLOOKUP($E50,[1]PROD!$R$3:$T$217,3,0) -> #N/A | W50: =(VLOOKUP($E50,'27TB Excel'!$A$3:$B$159,2,0)/1024) -> 269.73438 | X50: =IF(ISNUMBER(VLOOKUP($E50,Others!$A$2:$B$68,2,0)/1024),(VLOOKUP($E50,Others!$A$2:$B$68,2,0)/1024),0) -> 0 | Y50: =IF($Q50-$W50=0,0,$Q50-$W50) -> 0
A51: PROD | B51: Oracle RAC - Eclipse/CMR -NODE 2 | C51: DB | D51: Yes - Outside this BoM | E51: fdcgcgracad06p | F51: IBM p7 p795 | G51: AIX 6.1 | H51: LEG1 | K51: 30 | P51: =SUM(J51:L51) -> 30 | Q51: =VLOOKUP($E51,[1]PROD!$C$3:$E$217,3,0) -> 269.73438 | R51: =IF(ISNA(VLOOKUP($E51,[1]PROD!$F$3:$H$217,3,0)),0,(VLOOKUP($E51,[1]PROD!$F$3:$H$217,3,0))) -> 0 | S51: =IF(ISNA(VLOOKUP($E51,[1]PROD!$I$3:$K$217,3,0)),0,(VLOOKUP($E51,[1]PROD!$I$3:$K$217,3,0))) -> 0 | T51: =VLOOKUP($E51,[1]PROD!$L$3:$N$217,3,0) -> #N/A | U51: =VLOOKUP($E51,[1]PROD!$O$3:$Q$217,3,0) -> #N/A | V51: =VLOOKUP($E51,[1]PROD!$R$3:$T$217,3,0) -> #N/A | W51: =(VLOOKUP($E51,'27TB Excel'!$A$3:$B$159,2,0)/1024) -> 269.73438 | X51: =IF(ISNUMBER(VLOOKUP($E51,Others!$A$2:$B$68,2,0)/1024),(VLOOKUP($E51,Others!$A$2:$B$68,2,0)/1024),0) -> 0 | Y51: =IF($Q51-$W51=0,0,$Q51-$W51) -> 0
A52: PROD | B52: Dataguard-Oracle RAC- Eclipse/CMR -Node 1 | C52: DB | D52: Yes - Outside this BoM | E52: fdcgcgracad07p | F52: IBM p7 p795 | G52: AIX 6.1 | H52: LEG2 | I52: 41594 | J52: 650 | K52: 30 | L52: 650 | P52: =SUM(J52:L52) -> 1330 | Q52: 2127.32 | R52: =IF(ISNA(VLOOKUP($E52,[1]PROD!$F$3:$H$217,3,0)),0,(VLOOKUP($E52,[1]PROD!$F$3:$H$217,3,0))) -> 0 | S52: =IF(ISNA(VLOOKUP($E52,[1]PROD!$I$3:$K$217,3,0)),0,(VLOOKUP($E52,[1]PROD!$I$3:$K$217,3,0))) -> 168.58398 | T52: =VLOOKUP($E52,[1]PROD!$L$3:$N$217,3,0) -> #N/A | U52: =VLOOKUP($E52,[1]PROD!$O$3:$Q$217,3,0) -> #N/A | V52: =VLOOKUP($E52,[1]PROD!$R$3:$T$217,3,0) -> #N/A | W52: =(VLOOKUP($E52,'27TB Excel'!$A$3:$B$159,2,0)/1024) -> 168.58398 | X52: =IF(ISNUMBER(VLOOKUP($E52,Others!$A$2:$B$68,2,0)/1024),(VLOOKUP($E52,Others!$A$2:$B$68,2,0)/1024),0) -> 168.58398 | Y52: =IF($Q52-$W52=0,0,$Q52-$W52) -> 1958.736 | Z52: Storage | AA52: Completed | AB52: 17673239 | AD52: Completed | AG52: Completed
A53: PROD | B53: Dataguard-Oracle RAC- Eclipse/CMR -Node 2 | C53: DB | D53: Yes - Outside this BoM | E53: fdcgcgracad08p | F53: IBM p7 p795 | G53: AIX 6.1 | H53: LEG2 | I53: 41594 | K53: 30 | P53: =SUM(J53:L53) -> 30 | Q53: 168.58398 | R53: =IF(ISNA(VLOOKUP($E53,[1]PROD!$F$3:$H$217,3,0)),0,(VLOOKUP($E53,[1]PROD!$F$3:$H$217,3,0))) -> 0 | S53: =IF(ISNA(VLOOKUP($E53,[1]PROD!$I$3:$K$217,3,0)),0,(VLOOKUP($E53,[1]PROD!$I$3:$K$217,3,0))) -> 168.58398 | T53: =VLOOKUP($E53,[1]PROD!$L$3:$N$217,3,0) -> #N/A | U53: =VLOOKUP($E53,[1]PROD!$O$3:$Q$217,3,0) -> #N/A | V53: =VLOOKUP($E53,[1]PROD!$R$3:$T$217,3,0) -> #N/A | W53: =(VLOOKUP($E53,'27TB Excel'!$A$3:$B$159,2,0)/1024) -> 168.58398 | X53: =IF(ISNUMBER(VLOOKUP($E53,Others!$A$2:$B$68,2,0)/1024),(VLOOKUP($E53,Others!$A$2:$B$68,2,0)/1024),0) -> 168.58398 | Y53: =IF($Q53-$W53=0,0,$Q53-$W53) -> 0 | Z53: Host | AA53: Completed | AB53: 17673239 | AD53: Completed | AG53: Completed
A54: PROD | B54: Oracle RAC - ESB, MemFis, WPS Node 1 | C54: DB | D54: Yes - Outside this BoM | E54: fdcgcgracad13p | F54: IBM p7 p795 | G54: AIX 6.1 | H54: LEG1 | J54: 600 | K54: 30 | L54: 300 | N54: 90 | P54: 1020 | Q54: =VLOOKUP($E54,[1]PROD!$C$3:$E$217,3,0) -> 269.73438 | R54: =IF(ISNA(VLOOKUP($E54,[1]PROD!$F$3:$H$217,3,0)),0,(VLOOKUP($E54,[1]PROD!$F$3:$H$217,3,0))) -> 0 | S54: =IF(ISNA(VLOOKUP($E54,[1]PROD!$I$3:$K$217,3,0)),0,(VLOOKUP($E54,[1]PROD!$I$3:$K$217,3,0))) -> 0 | T54: =VLOOKUP($E54,[1]PROD!$L$3:$N$217,3,0) -> #N/A | U54: =VLOOKUP($E54,[1]PROD!$O$3:$Q$217,3,0) -> #N/A | V54: =VLOOKUP($E54,[1]PROD!$R$3:$T$217,3,0) -> #N/A | W54: =(VLOOKUP($E54,'27TB Excel'!$A$3:$B$159,2,0)/1024) -> 269.73438 | X54: =IF(ISNUMBER(VLOOKUP($E54,Others!$A$2:$B$68,2,0)/1024),(VLOOKUP($E54,Others!$A$2:$B$68,2,0)/1024),0) -> 0 | Y54: =IF($Q54-$W54=0,0,$Q54-$W54) -> 0
A55: PROD | B55: Oracle RAC - ESB, MemFis, WPS Node 2 | C55: DB | D55: Yes - Outside this BoM | E55: fdcgcgracad14p | F55: IBM p7 p795 | G55: AIX 6.1 | H55: LEG1 | K55: 30 | P55: =SUM(J55:L55) -> 30 | Q55: =VLOOKUP($E55,[1]PROD!$C$3:$E$217,3,0) -> 134.86719 | R55: =IF(ISNA(VLOOKUP($E55,[1]PROD!$F$3:$H$217,3,0)),0,(VLOOKUP($E55,[1]PROD!$F$3:$H$217,3,0))) -> 0 | S55: =IF(ISNA(VLOOKUP($E55,[1]PROD!$I$3:$K$217,3,0)),0,(VLOOKUP($E55,[1]PROD!$I$3:$K$217,3,0))) -> 0 | T55: =VLOOKUP($E55,[1]PROD!$L$3:$N$217,3,0) -> #N/A | U55: =VLOOKUP($E55,[1]PROD!$O$3:$Q$217,3,0) -> #N/A | V55: =VLOOKUP($E55,[1]PROD!$R$3:$T$217,3,0) -> #N/A | W55: =(VLOOKUP($E55,'27TB Excel'!$A$3:$B$159,2,0)/1024) -> 134.86719 | X55: =IF(ISNUMBER(VLOOKUP($E55,Others!$A$2:$B$68,2,0)/1024),(VLOOKUP($E55,Others!$A$2:$B$68,2,0)/1024),0) -> 0 | Y55: =IF($Q55-$W55=0,0,$Q55-$W55) -> 0
A56: PROD | B56: Oracle RAC - Kana, WPS-Leg2-Node 1 | C56: DB | D56: Yes - Outside this BoM | E56: fdcgcgracad15p | F56: IBM p7 p795 | G56: AIX 6.1 | H56: LEG1 | J56: 210 | K56: 30 | L56: 150 | P56: =SUM(J56:L56) -> 390 | Q56: =VLOOKUP($E56,[1]PROD!$C$3:$E$217,3,0) -> 168.58398 | R56: =IF(ISNA(VLOOKUP($E56,[1]PROD!$F$3:$H$217,3,0)),0,(VLOOKUP($E56,[1]PROD!$F$3:$H$217,3,0))) -> 0 | S56: =IF(ISNA(VLOOKUP($E56,[1]PROD!$I$3:$K$217,3,0)),0,(VLOOKUP($E56,[1]PROD!$I$3:$K$217,3,0))) -> 0 | T56: =VLOOKUP($E56,[1]PROD!$L$3:$N$217,3,0) -> #N/A | U56: =VLOOKUP($E56,[1]PROD!$O$3:$Q$217,3,0) -> #N/A | V56: =VLOOKUP($E56,[1]PROD!$R$3:$T$217,3,0) -> #N/A | W56: =(VLOOKUP($E56,'27TB Excel'!$A$3:$B$159,2,0)/1024) -> 168.58398 | X56: =IF(ISNUMBER(VLOOKUP($E56,Others!$A$2:$B$68,2,0)/1024),(VLOOKUP($E56,Others!$A$2:$B$68,2,0)/1024),0) -> 0 | Y56: =IF($Q56-$W56=0,0,$Q56-$W56) -> 0
A57: PROD | B57: Oracle RAC - Kana, WPS-Leg2-Node 2 | C57: DB | D57: Yes - Outside this BoM | E57: fdcgcgracad16p | F57: IBM p7 p795 | G57: AIX 6.1 | H57: LEG1 | K57: 30 | P57: =SUM(J57:L57) -> 30 | Q57: =VLOOKUP($E57,[1]PROD!$C$3:$E$217,3,0) -> 168.58398 | R57: =IF(ISNA(VLOOKUP($E57,[1]PROD!$F$3:$H$217,3,0)),0,(VLOOKUP($E57,[1]PROD!$F$3:$H$217,3,0))) -> 0 | S57: =IF(ISNA(VLOOKUP($E57,[1]PROD!$I$3:$K$217,3,0)),0,(VLOOKUP($E57,[1]PROD!$I$3:$K$217,3,0))) -> 0 | T57: =VLOOKUP($E57,[1]PROD!$L$3:$N$217,3,0) -> #N/A | U57: =VLOOKUP($E57,[1]PROD!$O$3:$Q$217,3,0) -> #N/A | V57: =VLOOKUP($E57,[1]PROD!$R$3:$T$217,3,0) -> #N/A | W57: =(VLOOKUP($E57,'27TB Excel'!$A$3:$B$159,2,0)/1024) -> 168.58398 | X57: =IF(ISNUMBER(VLOOKUP($E57,Others!$A$2:$B$68,2,0)/1024),(VLOOKUP($E57,Others!$A$2:$B$68,2,0)/1024),0) -> 0 | Y57: =IF($Q57-$W57=0,0,$Q57-$W57) -> 0
A58: PROD | B58: Oracle RAC - iProcess -Node 1 | C58: DB | D58: Yes - Outside this BoM | E58: fdcgcgracad17p | F58: IBM p7 p795 | G58: AIX 6.1 | H58: LEG1 | J58: 700 | K58: 30 | L58: 300 | N58: 400 | P58: 1430 | Q58: =VLOOKUP($E58,[1]PROD!$C$3:$E$217,3,0) -> 134.86719 | R58: =IF(ISNA(VLOOKUP($E58,[1]PROD!$F$3:$H$217,3,0)),0,(VLOOKUP($E58,[1]PROD!$F$3:$H$217,3,0))) -> 0 | S58: =IF(ISNA(VLOOKUP($E58,[1]PROD!$I$3:$K$217,3,0)),0,(VLOOKUP($E58,[1]PROD!$I$3:$K$217,3,0))) -> 0 | T58: =VLOOKUP($E58,[1]PROD!$L$3:$N$217,3,0) -> #N/A | U58: =VLOOKUP($E58,[1]PROD!$O$3:$Q$217,3,0) -> #N/A | V58: =VLOOKUP($E58,[1]PROD!$R$3:$T$217,3,0) -> #N/A | W58: =(VLOOKUP($E58,'27TB Excel'!$A$3:$B$159,2,0)/1024) -> 134.86719 | X58: =IF(ISNUMBER(VLOOKUP($E58,Others!$A$2:$B$68,2,0)/1024),(VLOOKUP($E58,Others!$A$2:$B$68,2,0)/1024),0) -> 0 | Y58: =IF($Q58-$W58=0,0,$Q58-$W58) -> 0
A59: PROD | B59: Oracle RAC - iProcess -Node 2 | C59: DB | D59: Yes - Outside this BoM | E59: fdcgcgracad18p | F59: IBM p7 p795 | G59: AIX 6.1 | H59: LEG1 | K59: 30 | P59: =SUM(J59:L59) -> 30 | Q59: =VLOOKUP($E59,[1]PROD!$C$3:$E$217,3,0) -> 134.86719 | R59: =IF(ISNA(VLOOKUP($E59,[1]PROD!$F$3:$H$217,3,0)),0,(VLOOKUP($E59,[1]PROD!$F$3:$H$217,3,0))) -> 0 | S59: =IF(ISNA(VLOOKUP($E59,[1]PROD!$I$3:$K$217,3,0)),0,(VLOOKUP($E59,[1]PROD!$I$3:$K$217,3,0))) -> 0 | T59: =VLOOKUP($E59,[1]PROD!$L$3:$N$217,3,0) -> #N/A | U59: =VLOOKUP($E59,[1]PROD!$O$3:$Q$217,3,0) -> #N/A | V59: =VLOOKUP($E59,[1]PROD!$R$3:$T$217,3,0) -> #N/A | W59: =(VLOOKUP($E59,'27TB Excel'!$A$3:$B$159,2,0)/1024) -> 134.86719 | X59: =IF(ISNUMBER(VLOOKUP($E59,Others!$A$2:$B$68,2,0)/1024),(VLOOKUP($E59,Others!$A$2:$B$68,2,0)/1024),0) -> 0 | Y59: =IF($Q59-$W59=0,0,$Q59-$W59) -> 0
A60: PROD | B60: Oracle RAC - Ci/SAO , Integration Layer-Node 1 | C60: DB | D60: Yes - Outside this BoM | E60: fdcgcgracad19p | F60: IBM p7 p795 | G60: AIX 6.1 | H60: LEG1 | J60: 900 | K60: 30 | L60: 400 | P60: 1330 | Q60: =VLOOKUP($E60,[1]PROD!$C$3:$E$217,3,0) -> 168.58398 | R60: =IF(ISNA(VLOOKUP($E60,[1]PROD!$F$3:$H$217,3,0)),0,(VLOOKUP($E60,[1]PROD!$F$3:$H$217,3,0))) -> 0 | S60: =IF(ISNA(VLOOKUP($E60,[1]PROD!$I$3:$K$217,3,0)),0,(VLOOKUP($E60,[1]PROD!$I$3:$K$217,3,0))) -> 0 | T60: =VLOOKUP($E60,[1]PROD!$L$3:$N$217,3,0) -> #N/A | U60: =VLOOKUP($E60,[1]PROD!$O$3:$Q$217,3,0) -> #N/A | V60: =VLOOKUP($E60,[1]PROD!$R$3:$T$217,3,0) -> #N/A | W60: =(VLOOKUP($E60,'27TB Excel'!$A$3:$B$159,2,0)/1024) -> 168.58398 | X60: =IF(ISNUMBER(VLOOKUP($E60,Others!$A$2:$B$68,2,0)/1024),(VLOOKUP($E60,Others!$A$2:$B$68,2,0)/1024),0) -> 0 | Y60: =IF($Q60-$W60=0,0,$Q60-$W60) -> 0
A61: PROD | B61: Oracle RAC - Ci/SAO , Integration Layer-Node2 | C61: DB | D61: Yes - Outside this BoM | E61: fdcgcgracad20p | F61: IBM p7 p795 | G61: AIX 6.1 | H61: LEG1 | K61: 30 | P61: =SUM(J61:L61) -> 30 | Q61: =VLOOKUP($E61,[1]PROD!$C$3:$E$217,3,0) -> 168.58398 | R61: =IF(ISNA(VLOOKUP($E61,[1]PROD!$F$3:$H$217,3,0)),0,(VLOOKUP($E61,[1]PROD!$F$3:$H$217,3,0))) -> 0 | S61: =IF(ISNA(VLOOKUP($E61,[1]PROD!$I$3:$K$217,3,0)),0,(VLOOKUP($E61,[1]PROD!$I$3:$K$217,3,0))) -> 0 | T61: =VLOOKUP($E61,[1]PROD!$L$3:$N$217,3,0) -> #N/A | U61: =VLOOKUP($E61,[1]PROD!$O$3:$Q$217,3,0) -> #N/A | V61: =VLOOKUP($E61,[1]PROD!$R$3:$T$217,3,0) -> #N/A | W61: =(VLOOKUP($E61,'27TB Excel'!$A$3:$B$159,2,0)/1024) -> 168.58398 | X61: =IF(ISNUMBER(VLOOKUP($E61,Others!$A$2:$B$68,2,0)/1024),(VLOOKUP($E61,Others!$A$2:$B$68,2,0)/1024),0) -> 0 | Y61: =IF($Q61-$W61=0,0,$Q61-$W61) -> 0
A62: PROD | B62: Oracle RAC - EDW -Node 1 | C62: DB | D62: Yes - Outside this BoM | E62: fdcgcgracad21p | F62: IBM p7 p795 | G62: AIX 6.1 | H62: LEG1 | J62: 120 | P62: =SUM(J62:L62) -> 120 | Q62: =VLOOKUP($E62,[1]PROD!$C$3:$E$217,3,0) -> 539.46875 | R62: =IF(ISNA(VLOOKUP($E62,[1]PROD!$F$3:$H$217,3,0)),0,(VLOOKUP($E62,[1]PROD!$F$3:$H$217,3,0))) -> 0 | S62: =IF(ISNA(VLOOKUP($E62,[1]PROD!$I$3:$K$217,3,0)),0,(VLOOKUP($E62,[1]PROD!$I$3:$K$217,3,0))) -> 0 | T62: =VLOOKUP($E62,[1]PROD!$L$3:$N$217,3,0) -> #N/A | U62: =VLOOKUP($E62,[1]PROD!$O$3:$Q$217,3,0) -> #N/A | V62: =VLOOKUP($E62,[1]PROD!$R$3:$T$217,3,0) -> #N/A | W62: =(VLOOKUP($E62,'27TB Excel'!$A$3:$B$159,2,0)/1024) -> 539.46875 | X62: =IF(ISNUMBER(VLOOKUP($E62,Others!$A$2:$B$68,2,0)/1024),(VLOOKUP($E62,Others!$A$2:$B$68,2,0)/1024),0) -> 0 | Y62: =IF($Q62-$W62=0,0,$Q62-$W62) -> 0
A63: PROD | B63: Oracle RAC - EDW -Node 1 | C63: DB | D63: Yes - Outside this BoM | E63: fdcgcgracad22p | F63: IBM p7 p795 | G63: AIX 6.1 | H63: LEG1 | P63: =SUM(J63:L63) -> 0 | Q63: =VLOOKUP($E63,[1]PROD!$C$3:$E$217,3,0) -> 269.73438 | R63: =IF(ISNA(VLOOKUP($E63,[1]PROD!$F$3:$H$217,3,0)),0,(VLOOKUP($E63,[1]PROD!$F$3:$H$217,3,0))) -> 0 | S63: =IF(ISNA(VLOOKUP($E63,[1]PROD!$I$3:$K$217,3,0)),0,(VLOOKUP($E63,[1]PROD!$I$3:$K$217,3,0))) -> 0 | T63: =VLOOKUP($E63,[1]PROD!$L$3:$N$217,3,0) -> #N/A | U63: =VLOOKUP($E63,[1]PROD!$O$3:$Q$217,3,0) -> #N/A | V63: =VLOOKUP($E63,[1]PROD!$R$3:$T$217,3,0) -> #N/A | W63: =(VLOOKUP($E63,'27TB Excel'!$A$3:$B$159,2,0)/1024) -> 269.73438 | X63: =IF(ISNUMBER(VLOOKUP($E63,Others!$A$2:$B$68,2,0)/1024),(VLOOKUP($E63,Others!$A$2:$B$68,2,0)/1024),0) -> 0 | Y63: =IF($Q63-$W63=0,0,$Q63-$W63) -> 0
A64: PROD | B64: Oracle RAC - TCON, URS, CO,CW- Node 1 | C64: DB | D64: Yes - Outside this BoM | E64: fdcgcgracad23p | F64: IBM p7 p795 | G64: AIX 6.1 | H64: LEG1 | J64: 960 | K64: 30 | L64: 600 | P64: =SUM(J64:L64) -> 1590 | Q64: =VLOOKUP($E64,[1]PROD!$C$3:$E$217,3,0) -> 269.73438 | R64: =IF(ISNA(VLOOKUP($E64,[1]PROD!$F$3:$H$217,3,0)),0,(VLOOKUP($E64,[1]PROD!$F$3:$H$217,3,0))) -> 0 | S64: =IF(ISNA(VLOOKUP($E64,[1]PROD!$I$3:$K$217,3,0)),0,(VLOOKUP($E64,[1]PROD!$I$3:$K$217,3,0))) -> 0 | T64: =VLOOKUP($E64,[1]PROD!$L$3:$N$217,3,0) -> #N/A | U64: =VLOOKUP($E64,[1]PROD!$O$3:$Q$217,3,0) -> #N/A | V64: =VLOOKUP($E64,[1]PROD!$R$3:$T$217,3,0) -> #N/A | W64: =(VLOOKUP($E64,'27TB Excel'!$A$3:$B$159,2,0)/1024) -> 269.73438 | X64: =IF(ISNUMBER(VLOOKUP($E64,Others!$A$2:$B$68,2,0)/1024),(VLOOKUP($E64,Others!$A$2:$B$68,2,0)/1024),0) -> 0 | Y64: =IF($Q64-$W64=0,0,$Q64-$W64) -> 0
A65: PROD | B65: Oracle RAC - TCON, URS, CO,CW- Node 2 | C65: DB | D65: Yes - Outside this BoM | E65: fdcgcgracad24p | F65: IBM p7 p795 | G65: AIX 6.1 | H65: LEG1 | K65: 30 | P65: =SUM(J65:L65) -> 30 | Q65: =VLOOKUP($E65,[1]PROD!$C$3:$E$217,3,0) -> 269.73438 | R65: =IF(ISNA(VLOOKUP($E65,[1]PROD!$F$3:$H$217,3,0)),0,(VLOOKUP($E65,[1]PROD!$F$3:$H$217,3,0))) -> 0 | S65: =IF(ISNA(VLOOKUP($E65,[1]PROD!$I$3:$K$217,3,0)),0,(VLOOKUP($E65,[1]PROD!$I$3:$K$217,3,0))) -> 0 | T65: =VLOOKUP($E65,[1]PROD!$L$3:$N$217,3,0) -> #N/A | U65: =VLOOKUP($E65,[1]PROD!$O$3:$Q$217,3,0) -> #N/A | V65: =VLOOKUP($E65,[1]PROD!$R$3:$T$217,3,0) -> #N/A | W65: =(VLOOKUP($E65,'27TB Excel'!$A$3:$B$159,2,0)/1024) -> 269.73438 | X65: =IF(ISNUMBER(VLOOKUP($E65,Others!$A$2:$B$68,2,0)/1024),(VLOOKUP($E65,Others!$A$2:$B$68,2,0)/1024),0) -> 0 | Y65: =IF($Q65-$W65=0,0,$Q65-$W65) -> 0
A66: PROD | B66: Oracle RAC - COPS-Node 1 | C66: DB | D66: Yes - Outside this BoM | E66: fdcgcgracad25p | F66: IBM p7 p795 | G66: AIX 6.1 | H66: LEG1 | J66: 5440 | K66: 30 | L66: 1500 | P66: =SUM(J66:L66) -> 6970 | Q66: =VLOOKUP($E66,[1]PROD!$C$3:$E$217,3,0) -> 269.73438 | R66: =IF(ISNA(VLOOKUP($E66,[1]PROD!$F$3:$H$217,3,0)),0,(VLOOKUP($E66,[1]PROD!$F$3:$H$217,3,0))) -> 0 | S66: =IF(ISNA(VLOOKUP($E66,[1]PROD!$I$3:$K$217,3,0)),0,(VLOOKUP($E66,[1]PROD!$I$3:$K$217,3,0))) -> 0 | T66: =VLOOKUP($E66,[1]PROD!$L$3:$N$217,3,0) -> #N/A | U66: =VLOOKUP($E66,[1]PROD!$O$3:$Q$217,3,0) -> #N/A | V66: =VLOOKUP($E66,[1]PROD!$R$3:$T$217,3,0) -> #N/A | W66: =(VLOOKUP($E66,'27TB Excel'!$A$3:$B$159,2,0)/1024) -> 269.73438 | X66: =IF(ISNUMBER(VLOOKUP($E66,Others!$A$2:$B$68,2,0)/1024),(VLOOKUP($E66,Others!$A$2:$B$68,2,0)/1024),0) -> 0 | Y66: =IF($Q66-$W66=0,0,$Q66-$W66) -> 0
A67: PROD | B67: Oracle RAC - COPS-Node 2 | C67: DB | D67: Yes - Outside this BoM | E67: fdcgcgracad26p | F67: IBM p7 p795 | G67: AIX 6.1 | H67: LEG1 | K67: 30 | P67: =SUM(J67:L67) -> 30 | Q67: =VLOOKUP($E67,[1]PROD!$C$3:$E$217,3,0) -> 269.73438 | R67: =IF(ISNA(VLOOKUP($E67,[1]PROD!$F$3:$H$217,3,0)),0,(VLOOKUP($E67,[1]PROD!$F$3:$H$217,3,0))) -> 0 | S67: =IF(ISNA(VLOOKUP($E67,[1]PROD!$I$3:$K$217,3,0)),0,(VLOOKUP($E67,[1]PROD!$I$3:$K$217,3,0))) -> 0 | T67: =VLOOKUP($E67,[1]PROD!$L$3:$N$217,3,0) -> #N/A | U67: =VLOOKUP($E67,[1]PROD!$O$3:$Q$217,3,0) -> #N/A | V67: =VLOOKUP($E67,[1]PROD!$R$3:$T$217,3,0) -> #N/A | W67: =(VLOOKUP($E67,'27TB Excel'!$A$3:$B$159,2,0)/1024) -> 269.73438 | X67: =IF(ISNUMBER(VLOOKUP($E67,Others!$A$2:$B$68,2,0)/1024),(VLOOKUP($E67,Others!$A$2:$B$68,2,0)/1024),0) -> 0 | Y67: =IF($Q67-$W67=0,0,$Q67-$W67) -> 0
A68: PROD | B68: Oracle RAC - CLMS, CitiPlanner-Node 1 | C68: DB | D68: Yes - Outside this BoM | E68: fdcgcgracad27p | F68: IBM p7 p795 | G68: AIX 6.1 | H68: LEG1 | J68: 1200 | K68: 30 | L68: 700 | P68: =SUM(J68:L68) -> 1930 | Q68: =VLOOKUP($E68,[1]PROD!$C$3:$E$217,3,0) -> 134.86719 | R68: =IF(ISNA(VLOOKUP($E68,[1]PROD!$F$3:$H$217,3,0)),0,(VLOOKUP($E68,[1]PROD!$F$3:$H$217,3,0))) -> 0 | S68: =IF(ISNA(VLOOKUP($E68,[1]PROD!$I$3:$K$217,3,0)),0,(VLOOKUP($E68,[1]PROD!$I$3:$K$217,3,0))) -> 0 | T68: =VLOOKUP($E68,[1]PROD!$L$3:$N$217,3,0) -> #N/A | U68: =VLOOKUP($E68,[1]PROD!$O$3:$Q$217,3,0) -> #N/A | V68: =VLOOKUP($E68,[1]PROD!$R$3:$T$217,3,0) -> #N/A | W68: =(VLOOKUP($E68,'27TB Excel'!$A$3:$B$159,2,0)/1024) -> 134.86719 | X68: =IF(ISNUMBER(VLOOKUP($E68,Others!$A$2:$B$68,2,0)/1024),(VLOOKUP($E68,Others!$A$2:$B$68,2,0)/1024),0) -> 0 | Y68: =IF($Q68-$W68=0,0,$Q68-$W68) -> 0
A69: PROD | B69: Oracle RAC - CLMS, CitiPlanner-Node 2 | C69: DB | D69: Yes - Outside this BoM | E69: fdcgcgracad28p | F69: IBM p7 p795 | G69: AIX 6.1 | H69: LEG1 | K69: 30 | P69: =SUM(J69:L69) -> 30 | Q69: =VLOOKUP($E69,[1]PROD!$C$3:$E$217,3,0) -> 134.86719 | R69: =IF(ISNA(VLOOKUP($E69,[1]PROD!$F$3:$H$217,3,0)),0,(VLOOKUP($E69,[1]PROD!$F$3:$H$217,3,0))) -> 0 | S69: =IF(ISNA(VLOOKUP($E69,[1]PROD!$I$3:$K$217,3,0)),0,(VLOOKUP($E69,[1]PROD!$I$3:$K$217,3,0))) -> 0 | T69: =VLOOKUP($E69,[1]PROD!$L$3:$N$217,3,0) -> #N/A | U69: =VLOOKUP($E69,[1]PROD!$O$3:$Q$217,3,0) -> #N/A | V69: =VLOOKUP($E69,[1]PROD!$R$3:$T$217,3,0) -> #N/A | W69: =(VLOOKUP($E69,'27TB Excel'!$A$3:$B$159,2,0)/1024) -> 134.86719 | X69: =IF(ISNUMBER(VLOOKUP($E69,Others!$A$2:$B$68,2,0)/1024),(VLOOKUP($E69,Others!$A$2:$B$68,2,0)/1024),0) -> 0 | Y69: =IF($Q69-$W69=0,0,$Q69-$W69) -> 0
A70: PROD | B70: Oracle RAC - ECR-Node 1 | C70: DB | D70: Yes - Outside this BoM | E70: fdcgcgracad29p | F70: IBM p7 p795 | G70: AIX 6.1 | H70: LEG1 | J70: 940 | K70: 30 | L70: 750 | P70: =SUM(J70:L70) -> 1720 | Q70: =VLOOKUP($E70,[1]PROD!$C$3:$E$217,3,0) -> 134.86719 | R70: =IF(ISNA(VLOOKUP($E70,[1]PROD!$F$3:$H$217,3,0)),0,(VLOOKUP($E70,[1]PROD!$F$3:$H$217,3,0))) -> 0 | S70: =IF(ISNA(VLOOKUP($E70,[1]PROD!$I$3:$K$217,3,0)),0,(VLOOKUP($E70,[1]PROD!$I$3:$K$217,3,0))) -> 0 | T70: =VLOOKUP($E70,[1]PROD!$L$3:$N$217,3,0) -> #N/A | U70: =VLOOKUP($E70,[1]PROD!$O$3:$Q$217,3,0) -> #N/A | V70: =VLOOKUP($E70,[1]PROD!$R$3:$T$217,3,0) -> #N/A | W70: =(VLOOKUP($E70,'27TB Excel'!$A$3:$B$159,2,0)/1024) -> 134.86719 | X70: =IF(ISNUMBER(VLOOKUP($E70,Others!$A$2:$B$68,2,0)/1024),(VLOOKUP($E70,Others!$A$2:$B$68,2,0)/1024),0) -> 0 | Y70: =IF($Q70-$W70=0,0,$Q70-$W70) -> 0
A71: PROD | B71: Oracle RAC - ECR-Node 2 | C71: DB | D71: Yes - Outside this BoM | E71: fdcgcgracad30p | F71: IBM p7 p795 | G71: AIX 6.1 | H71: LEG1 | K71: 30 | P71: =SUM(J71:L71) -> 30 | Q71: =VLOOKUP($E71,[1]PROD!$C$3:$E$217,3,0) -> 134.86719 | R71: =IF(ISNA(VLOOKUP($E71,[1]PROD!$F$3:$H$217,3,0)),0,(VLOOKUP($E71,[1]PROD!$F$3:$H$217,3,0))) -> 0 | S71: =IF(ISNA(VLOOKUP($E71,[1]PROD!$I$3:$K$217,3,0)),0,(VLOOKUP($E71,[1]PROD!$I$3:$K$217,3,0))) -> 0 | T71: =VLOOKUP($E71,[1]PROD!$L$3:$N$217,3,0) -> #N/A | U71: =VLOOKUP($E71,[1]PROD!$O$3:$Q$217,3,0) -> #N/A | V71: =VLOOKUP($E71,[1]PROD!$R$3:$T$217,3,0) -> #N/A | W71: =(VLOOKUP($E71,'27TB Excel'!$A$3:$B$159,2,0)/1024) -> 134.86719 | X71: =IF(ISNUMBER(VLOOKUP($E71,Others!$A$2:$B$68,2,0)/1024),(VLOOKUP($E71,Others!$A$2:$B$68,2,0)/1024),0) -> 0 | Y71: =IF($Q71-$W71=0,0,$Q71-$W71) -> 0
A72: PAT | B72: CMR/CDE/CLMS/IVR/WM Fix / Swift Engine App / SNF | C72: AP | D72: Yes - Outside this BoM | E72: FDCGCGCMRLA03P | F72: BL460c | G72: RHEL 5.6 | H72: NR | Q72: =VLOOKUP($E72,[1]Sheet1!$A$2:$C$764,3,0) -> 606.90234 | R72: =IF(ISNA(VLOOKUP($E72,[1]PROD!$F$3:$H$217,3,0)),0,(VLOOKUP($E72,[1]PROD!$F$3:$H$217,3,0))) -> 0 | S72: =VLOOKUP($E72,[1]PROD!$I$3:$K$217,3,0) -> #N/A | T72: =VLOOKUP($E72,[1]PROD!$L$3:$N$217,3,0) -> #N/A | U72: =VLOOKUP($E72,[1]PROD!$O$3:$Q$217,3,0) -> #N/A | V72: =VLOOKUP($E72,[1]PROD!$R$3:$T$217,3,0) -> #N/A | W72: =(VLOOKUP($E72,'27TB Excel'!$A$3:$B$159,2,0)/1024) -> 606.90234 | X72: =IF(ISNUMBER(VLOOKUP($E72,Others!$A$2:$B$68,2,0)/1024),(VLOOKUP($E72,Others!$A$2:$B$68,2,0)/1024),0) -> 0 | Y72: =IF($Q72-$W72,0,$Q72-$W72) -> 0
A73: PAT | B73: CMR/CDE/CLMS/IVR/WM Fix / Swift Engine App / SNF | C73: AP | D73: Yes - Outside this BoM | E73: FDCGCGCMRLA04P | F73: BL460c | G73: RHEL 5.6 | H73: NR | Q73: =VLOOKUP($E73,[1]Sheet1!$A$2:$C$764,3,0) -> 1146.3711 | R73: =IF(ISNA(VLOOKUP($E73,[1]PROD!$F$3:$H$217,3,0)),0,(VLOOKUP($E73,[1]PROD!$F$3:$H$217,3,0))) -> 0 | S73: =VLOOKUP($E73,[1]PROD!$I$3:$K$217,3,0) -> #N/A | T73: =VLOOKUP($E73,[1]PROD!$L$3:$N$217,3,0) -> #N/A | U73: =VLOOKUP($E73,[1]PROD!$O$3:$Q$217,3,0) -> #N/A | V73: =VLOOKUP($E73,[1]PROD!$R$3:$T$217,3,0) -> #N/A | W73: =(VLOOKUP($E73,'27TB Excel'!$A$3:$B$159,2,0)/1024) -> 1146.3711 | X73: =IF(ISNUMBER(VLOOKUP($E73,Others!$A$2:$B$68,2,0)/1024),(VLOOKUP($E73,Others!$A$2:$B$68,2,0)/1024),0) -> 1146.3711 | Y73: =IF($Q73-$W73,0,$Q73-$W73) -> 0
A74: PAT/PROD | B74: OCI | C74: AP | D74: Yes - Outside this BoM | E74: FDCGCGOCILA01P | F74: BL460c | G74: RHEL 5.6 | H74: LEG1 | L74: 0 | O74: 560 | P74: 560 | Q74: =VLOOKUP($E74,[1]Sheet1!$A$2:$C$764,3,0) -> #N/A | R74: =IF(ISNA(VLOOKUP($E74,[1]PROD!$F$3:$H$217,3,0)),0,(VLOOKUP($E74,[1]PROD!$F$3:$H$217,3,0))) -> 0 | S74: =VLOOKUP($E74,[1]PROD!$I$3:$K$217,3,0) -> #N/A | T74: =VLOOKUP($E74,[1]PROD!$L$3:$N$217,3,0) -> #N/A | U74: =VLOOKUP($E74,[1]PROD!$O$3:$Q$217,3,0) -> #N/A | V74: =VLOOKUP($E74,[1]PROD!$R$3:$T$217,3,0) -> #N/A | W74: =(VLOOKUP($E74,'27TB Excel'!$A$3:$B$159,2,0)/1024) -> #N/A | X74: =IF(ISNUMBER(VLOOKUP($E74,Others!$A$2:$B$68,2,0)/1024),(VLOOKUP($E74,Others!$A$2:$B$68,2,0)/1024),0) -> 0 | Y74: =IF($Q74-$W74,0,$Q74-$W74) -> #N/A
A75: PAT/PROD | B75: OCI | C75: AP | D75: Yes - Outside this BoM | E75: FDCGCGOCILA02P | F75: BL460c | G75: RHEL 5.6 | H75: LEG2 | L75: 0 | O75: 560 | P75: 560 | Q75: =VLOOKUP($E75,[1]Sheet1!$A$2:$C$764,3,0) -> #N/A | R75: =IF(ISNA(VLOOKUP($E75,[1]PROD!$F$3:$H$217,3,0)),0,(VLOOKUP($E75,[1]PROD!$F$3:$H$217,3,0))) -> 0 | S75: =VLOOKUP($E75,[1]PROD!$I$3:$K$217,3,0) -> #N/A | T75: =VLOOKUP($E75,[1]PROD!$L$3:$N$217,3,0) -> #N/A | U75: =VLOOKUP($E75,[1]PROD!$O$3:$Q$217,3,0) -> #N/A | V75: =VLOOKUP($E75,[1]PROD!$R$3:$T$217,3,0) -> #N/A | W75: =(VLOOKUP($E75,'27TB Excel'!$A$3:$B$159,2,0)/1024) -> #N/A | X75: =IF(ISNUMBER(VLOOKUP($E75,Others!$A$2:$B$68,2,0)/1024),(VLOOKUP($E75,Others!$A$2:$B$68,2,0)/1024),0) -> 0 | Y75: =IF($Q75-$W75,0,$Q75-$W75) -> #N/A
A76: PAT | B76: FDS - EclipseLite/CI/MEMFIS/ACACS | C76: AP | D76: Yes - Outside this BoM | E76: FDCGCGECLLA05P | F76: BL460c | G76: RHEL 5.6 | H76: NR | Q76: =VLOOKUP($E76,[1]Sheet1!$A$2:$C$764,3,0) -> 202.30078 | R76: =IF(ISNA(VLOOKUP($E76,[1]PROD!$F$3:$H$217,3,0)),0,(VLOOKUP($E76,[1]PROD!$F$3:$H$217,3,0))) -> 0 | S76: =VLOOKUP($E76,[1]PROD!$I$3:$K$217,3,0) -> #N/A | T76: =VLOOKUP($E76,[1]PROD!$L$3:$N$217,3,0) -> #N/A | U76: =VLOOKUP($E76,[1]PROD!$O$3:$Q$217,3,0) -> 134.86719 | V76: =VLOOKUP($E76,[1]PROD!$R$3:$T$217,3,0) -> #N/A | W76: =(VLOOKUP($E76,'27TB Excel'!$A$3:$B$159,2,0)/1024) -> 202.30078 | X76: =IF(ISNUMBER(VLOOKUP($E76,Others!$A$2:$B$68,2,0)/1024),(VLOOKUP($E76,Others!$A$2:$B$68,2,0)/1024),0) -> 0 | Y76: =IF($Q76-$W76,0,$Q76-$W76) -> 0
A77: PAT | B77: FDS - EclipseLite/CI/MEMFIS/ACACS | C77: AP | D77: Yes - Outside this BoM | E77: FDCGCGECLLA06P | F77: BL460c | G77: RHEL 5.6 | H77: NR | Q77: =VLOOKUP($E77,[1]Sheet1!$A$2:$C$764,3,0) -> 202.30078 | R77: =IF(ISNA(VLOOKUP($E77,[1]PROD!$F$3:$H$217,3,0)),0,(VLOOKUP($E77,[1]PROD!$F$3:$H$217,3,0))) -> 0 | S77: =VLOOKUP($E77,[1]PROD!$I$3:$K$217,3,0) -> #N/A | T77: =VLOOKUP($E77,[1]PROD!$L$3:$N$217,3,0) -> #N/A | U77: =VLOOKUP($E77,[1]PROD!$O$3:$Q$217,3,0) -> 134.86719 | V77: =VLOOKUP($E77,[1]PROD!$R$3:$T$217,3,0) -> #N/A | W77: =(VLOOKUP($E77,'27TB Excel'!$A$3:$B$159,2,0)/1024) -> 202.30078 | X77: =IF(ISNUMBER(VLOOKUP($E77,Others!$A$2:$B$68,2,0)/1024),(VLOOKUP($E77,Others!$A$2:$B$68,2,0)/1024),0) -> 202.30078 | Y77: =IF($Q77-$W77,0,$Q77-$W77) -> 0
A78: PAT | B78: Eclipse Portal | C78: WW | D78: Yes - Outside this BoM | E78: FDCGCGECLLW18P | F78: BL460c | G78: RHEL 5.6 | H78: NR | Q78: =VLOOKUP($E78,[1]Sheet1!$A$2:$C$764,3,0) -> 202.30078 | R78: =IF(ISNA(VLOOKUP($E78,[1]PROD!$F$3:$H$217,3,0)),0,(VLOOKUP($E78,[1]PROD!$F$3:$H$217,3,0))) -> 0 | S78: =VLOOKUP($E78,[1]PROD!$I$3:$K$217,3,0) -> #N/A | T78: =VLOOKUP($E78,[1]PROD!$L$3:$N$217,3,0) -> #N/A | U78: =VLOOKUP($E78,[1]PROD!$O$3:$Q$217,3,0) -> 33.716797 | V78: =VLOOKUP($E78,[1]PROD!$R$3:$T$217,3,0) -> #N/A | W78: =(VLOOKUP($E78,'27TB Excel'!$A$3:$B$159,2,0)/1024) -> 202.30078 | X78: =IF(ISNUMBER(VLOOKUP($E78,Others!$A$2:$B$68,2,0)/1024),(VLOOKUP($E78,Others!$A$2:$B$68,2,0)/1024),0) -> 0 | Y78: =IF($Q78-$W78,0,$Q78-$W78) -> 0
A79: PAT | B79: Eclipse Portal | C79: WW | D79: Yes - Outside this BoM | E79: FDCGCGECLLW19P | F79: BL460c | G79: RHEL 5.6 | H79: NR | Q79: =VLOOKUP($E79,[1]Sheet1!$A$2:$C$764,3,0) -> 202.30078 | R79: =IF(ISNA(VLOOKUP($E79,[1]PROD!$F$3:$H$217,3,0)),0,(VLOOKUP($E79,[1]PROD!$F$3:$H$217,3,0))) -> 0 | S79: =VLOOKUP($E79,[1]PROD!$I$3:$K$217,3,0) -> #N/A | T79: =VLOOKUP($E79,[1]PROD!$L$3:$N$217,3,0) -> #N/A | U79: =VLOOKUP($E79,[1]PROD!$O$3:$Q$217,3,0) -> 33.716797 | V79: =VLOOKUP($E79,[1]PROD!$R$3:$T$217,3,0) -> #N/A | W79: =(VLOOKUP($E79,'27TB Excel'!$A$3:$B$159,2,0)/1024) -> 202.30078 | X79: =IF(ISNUMBER(VLOOKUP($E79,Others!$A$2:$B$68,2,0)/1024),(VLOOKUP($E79,Others!$A$2:$B$68,2,0)/1024),0) -> 202.30078 | Y79: =IF($Q79-$W79,0,$Q79-$W79) -> 0
A80: PAT | B80: F2F | C80: WW | D80: Yes - Outside this BoM | E80: FDCGCGF2FLA01P | F80: BL460c | G80: RHEL 5.6 | H80: LEG1 | L80: 0 | O80: 300 | P80: 300 | Q80: =VLOOKUP($E80,[1]Sheet1!$A$2:$C$764,3,0) -> #N/A | R80: =IF(ISNA(VLOOKUP($E80,[1]PROD!$F$3:$H$217,3,0)),0,(VLOOKUP($E80,[1]PROD!$F$3:$H$217,3,0))) -> 0 | S80: =VLOOKUP($E80,[1]PROD!$I$3:$K$217,3,0) -> #N/A | T80: =VLOOKUP($E80,[1]PROD!$L$3:$N$217,3,0) -> #N/A | U80: =VLOOKUP($E80,[1]PROD!$O$3:$Q$217,3,0) -> #N/A | V80: =VLOOKUP($E80,[1]PROD!$R$3:$T$217,3,0) -> #N/A | W80: =(VLOOKUP($E80,'27TB Excel'!$A$3:$B$159,2,0)/1024) -> #N/A | X80: =IF(ISNUMBER(VLOOKUP($E80,Others!$A$2:$B$68,2,0)/1024),(VLOOKUP($E80,Others!$A$2:$B$68,2,0)/1024),0) -> 0 | Y80: =IF($Q80-$W80,0,$Q80-$W80) -> #N/A
A81: PAT | B81: F2F | C81: WW | D81: Yes - Outside this BoM | E81: FDCGCGF2FLA02P | F81: BL460c | G81: RHEL 5.6 | H81: LEG2 | L81: 0 | O81: 300 | P81: 300 | Q81: =VLOOKUP($E81,[1]Sheet1!$A$2:$C$764,3,0) -> #N/A | R81: =IF(ISNA(VLOOKUP($E81,[1]PROD!$F$3:$H$217,3,0)),0,(VLOOKUP($E81,[1]PROD!$F$3:$H$217,3,0))) -> 0 | S81: =VLOOKUP($E81,[1]PROD!$I$3:$K$217,3,0) -> #N/A | T81: =VLOOKUP($E81,[1]PROD!$L$3:$N$217,3,0) -> #N/A | U81: =VLOOKUP($E81,[1]PROD!$O$3:$Q$217,3,0) -> #N/A | V81: =VLOOKUP($E81,[1]PROD!$R$3:$T$217,3,0) -> #N/A | W81: =(VLOOKUP($E81,'27TB Excel'!$A$3:$B$159,2,0)/1024) -> #N/A | X81: =IF(ISNUMBER(VLOOKUP($E81,Others!$A$2:$B$68,2,0)/1024),(VLOOKUP($E81,Others!$A$2:$B$68,2,0)/1024),0) -> 0 | Y81: =IF($Q81-$W81,0,$Q81-$W81) -> #N/A
A82: PAT | B82: ESB-BW-PL | C82: AP | D82: Yes - Outside this BoM | E82: FDCGCGTIBLA21P | F82: BL620C G7 | G82: RHEL 5.6 | H82: LEG1 | I82: NA | Q82: =VLOOKUP($E82,[1]Sheet1!$A$2:$C$764,3,0) -> 0 | R82: =IF(ISNA(VLOOKUP($E82,[1]PROD!$F$3:$H$217,3,0)),0,(VLOOKUP($E82,[1]PROD!$F$3:$H$217,3,0))) -> 0 | S82: =VLOOKUP($E82,[1]PROD!$I$3:$K$217,3,0) -> #N/A | T82: =VLOOKUP($E82,[1]PROD!$L$3:$N$217,3,0) -> #N/A | U82: =VLOOKUP($E82,[1]PROD!$O$3:$Q$217,3,0) -> 202.30078 | V82: =VLOOKUP($E82,[1]PROD!$R$3:$T$217,3,0) -> #N/A | W82: =(VLOOKUP($E82,'27TB Excel'!$A$3:$B$159,2,0)/1024) -> #N/A | X82: =IF(ISNUMBER(VLOOKUP($E82,Others!$A$2:$B$68,2,0)/1024),(VLOOKUP($E82,Others!$A$2:$B$68,2,0)/1024),0) -> 0 | Y82: =IF($Q82-$W82,0,$Q82-$W82) -> #N/A
A83: PAT | B83: ESB-BW-PL | C83: AP | D83: Yes - Outside this BoM | E83: FDCGCGTIBLA22P | F83: BL620C G7 | G83: RHEL 5.6 | H83: LEG1 | I83: NA | Q83: 269.73438 | R83: =IF(ISNA(VLOOKUP($E83,[1]PROD!$F$3:$H$217,3,0)),0,(VLOOKUP($E83,[1]PROD!$F$3:$H$217,3,0))) -> 0 | S83: =VLOOKUP($E83,[1]PROD!$I$3:$K$217,3,0) -> 269.73438 | T83: =VLOOKUP($E83,[1]PROD!$L$3:$N$217,3,0) -> #N/A | U83: =VLOOKUP($E83,[1]PROD!$O$3:$Q$217,3,0) -> 202.30078 | V83: =VLOOKUP($E83,[1]PROD!$R$3:$T$217,3,0) -> #N/A | W83: =(VLOOKUP($E83,'27TB Excel'!$A$3:$B$159,2,0)/1024) -> #N/A | X83: =IF(ISNUMBER(VLOOKUP($E83,Others!$A$2:$B$68,2,0)/1024),(VLOOKUP($E83,Others!$A$2:$B$68,2,0)/1024),0) -> 0 | Y83: =IF($Q83-$W83,0,$Q83-$W83) -> #N/A
A84: PAT | B84: ESB-BW-PL | C84: AP | D84: Yes - Outside this BoM | E84: FDCGCGTIBLA29P | F84: BL620C G7 | G84: RHEL 5.6 | H84: LEG2 | I84: NA | Q84: =VLOOKUP($E84,[1]PROD!$O$3:$Q$217,3,0) -> 202.30078 | R84: =IF(ISNA(VLOOKUP($E84,[1]PROD!$F$3:$H$217,3,0)),0,(VLOOKUP($E84,[1]PROD!$F$3:$H$217,3,0))) -> 0 | S84: =VLOOKUP($E84,[1]PROD!$I$3:$K$217,3,0) -> #N/A | T84: =VLOOKUP($E84,[1]PROD!$L$3:$N$217,3,0) -> #N/A | U84: =VLOOKUP($E84,[1]PROD!$O$3:$Q$217,3,0) -> 202.30078 | V84: =VLOOKUP($E84,[1]PROD!$R$3:$T$217,3,0) -> #N/A | W84: =(VLOOKUP($E84,'27TB Excel'!$A$3:$B$159,2,0)/1024) -> #N/A | X84: =IF(ISNUMBER(VLOOKUP($E84,Others!$A$2:$B$68,2,0)/1024),(VLOOKUP($E84,Others!$A$2:$B$68,2,0)/1024),0) -> 0 | Y84: =IF($Q84-$W84,0,$Q84-$W84) -> #N/A
A85: PAT | B85: ESB-BW-PL | C85: AP | D85: Yes - Outside this BoM | E85: FDCGCGTIBLA30P | F85: BL620C G7 | G85: RHEL 5.6 | H85: LEG2 | I85: NA | Q85: =VLOOKUP($E85,[1]Sheet1!$A$2:$C$764,3,0) -> 0 | R85: =IF(ISNA(VLOOKUP($E85,[1]PROD!$F$3:$H$217,3,0)),0,(VLOOKUP($E85,[1]PROD!$F$3:$H$217,3,0))) -> 0 | S85: =VLOOKUP($E85,[1]PROD!$I$3:$K$217,3,0) -> 269.73438 | T85: =VLOOKUP($E85,[1]PROD!$L$3:$N$217,3,0) -> #N/A | U85: =VLOOKUP($E85,[1]PROD!$O$3:$Q$217,3,0) -> 202.30078 | V85: =VLOOKUP($E85,[1]PROD!$R$3:$T$217,3,0) -> #N/A | W85: =(VLOOKUP($E85,'27TB Excel'!$A$3:$B$159,2,0)/1024) -> #N/A | X85: =IF(ISNUMBER(VLOOKUP($E85,Others!$A$2:$B$68,2,0)/1024),(VLOOKUP($E85,Others!$A$2:$B$68,2,0)/1024),0) -> 0 | Y85: =IF($Q85-$W85,0,$Q85-$W85) -> #N/A
A86: PAT/PROD | B86: Eclipse & FDS HTTP | C86: WW | D86: Yes - Outside this BoM | E86: FDCGCGECLLW16P | F86: BL460c | G86: RHEL 5.6 | H86: NR | I86: NA | Q86: =VLOOKUP($E86,[1]PROD!$O$3:$Q$217,3,0) -> 67.433594 | R86: =IF(ISNA(VLOOKUP($E86,[1]PROD!$F$3:$H$217,3,0)),0,(VLOOKUP($E86,[1]PROD!$F$3:$H$217,3,0))) -> 0 | S86: =VLOOKUP($E86,[1]PROD!$I$3:$K$217,3,0) -> #N/A | T86: =VLOOKUP($E86,[1]PROD!$L$3:$N$217,3,0) -> #N/A | U86: =VLOOKUP($E86,[1]PROD!$O$3:$Q$217,3,0) -> 67.433594 | V86: =VLOOKUP($E86,[1]PROD!$R$3:$T$217,3,0) -> #N/A | W86: =(VLOOKUP($E86,'27TB Excel'!$A$3:$B$159,2,0)/1024) -> #N/A | X86: =IF(ISNUMBER(VLOOKUP($E86,Others!$A$2:$B$68,2,0)/1024),(VLOOKUP($E86,Others!$A$2:$B$68,2,0)/1024),0) -> 0 | Y86: =IF($Q86-$W86,0,$Q86-$W86) -> #N/A
A87: PAT/PROD | B87: Eclipse & FDS HTTP | C87: WW | D87: Yes - Outside this BoM | E87: FDCGCGECLLW17P | F87: BL460c | G87: RHEL 5.6 | H87: NR | Q87: =VLOOKUP($E87,[1]Sheet1!$A$2:$C$764,3,0) -> 202.30078 | R87: =IF(ISNA(VLOOKUP($E87,[1]PROD!$F$3:$H$217,3,0)),0,(VLOOKUP($E87,[1]PROD!$F$3:$H$217,3,0))) -> 0 | S87: =VLOOKUP($E87,[1]PROD!$I$3:$K$217,3,0) -> #N/A | T87: =VLOOKUP($E87,[1]PROD!$L$3:$N$217,3,0) -> #N/A | U87: =VLOOKUP($E87,[1]PROD!$O$3:$Q$217,3,0) -> #N/A | V87: =VLOOKUP($E87,[1]PROD!$R$3:$T$217,3,0) -> #N/A | W87: =(VLOOKUP($E87,'27TB Excel'!$A$3:$B$159,2,0)/1024) -> 202.30078 | X87: =IF(ISNUMBER(VLOOKUP($E87,Others!$A$2:$B$68,2,0)/1024),(VLOOKUP($E87,Others!$A$2:$B$68,2,0)/1024),0) -> 202.30078 | Y87: =IF($Q87-$W87,0,$Q87-$W87) -> 0
A88: PROD | B88: CI-CP-BW | C88: AP | D88: No | E88: FDCGCGTIBLA37P | F88: BL620C G7 | G88: RHEL 5.6 | H88: LEG1 | I88: New Servers. Need to Request Storage Acc. | K88: 260 | O88: 30 | P88: 290 | Q88: =VLOOKUP($E88,[1]Sheet1!$A$2:$C$764,3,0) -> #N/A | R88: =IF(ISNA(VLOOKUP($E88,[1]PROD!$F$3:$H$217,3,0)),0,(VLOOKUP($E88,[1]PROD!$F$3:$H$217,3,0))) -> 0 | S88: =VLOOKUP($E88,[1]PROD!$I$3:$K$217,3,0) -> #N/A | T88: =VLOOKUP($E88,[1]PROD!$L$3:$N$217,3,0) -> #N/A | U88: =VLOOKUP($E88,[1]PROD!$O$3:$Q$217,3,0) -> #N/A | V88: =VLOOKUP($E88,[1]PROD!$R$3:$T$217,3,0) -> #N/A | W88: =(VLOOKUP($E88,'27TB Excel'!$A$3:$B$159,2,0)/1024) -> #N/A | X88: =IF(ISNUMBER(VLOOKUP($E88,Others!$A$2:$B$68,2,0)/1024),(VLOOKUP($E88,Others!$A$2:$B$68,2,0)/1024),0) -> 0 | Y88: =IF($Q88-$W88,0,$Q88-$W88) -> #N/A
A89: PROD | B89: CI-CP-BW | C89: AP | D89: No | E89: FDCGCGTIBLA38P | F89: BL620C G7 | G89: RHEL 5.6 | H89: LEG1 | I89: New Servers. Need to Request Storage Acc. | K89: 260 | O89: 30 | P89: 290 | Q89: =VLOOKUP($E89,[1]Sheet1!$A$2:$C$764,3,0) -> #N/A | R89: =IF(ISNA(VLOOKUP($E89,[1]PROD!$F$3:$H$217,3,0)),0,(VLOOKUP($E89,[1]PROD!$F$3:$H$217,3,0))) -> 0 | S89: =VLOOKUP($E89,[1]PROD!$I$3:$K$217,3,0) -> #N/A | T89: =VLOOKUP($E89,[1]PROD!$L$3:$N$217,3,0) -> #N/A | U89: =VLOOKUP($E89,[1]PROD!$O$3:$Q$217,3,0) -> #N/A | V89: =VLOOKUP($E89,[1]PROD!$R$3:$T$217,3,0) -> #N/A | W89: =(VLOOKUP($E89,'27TB Excel'!$A$3:$B$159,2,0)/1024) -> #N/A | X89: =IF(ISNUMBER(VLOOKUP($E89,Others!$A$2:$B$68,2,0)/1024),(VLOOKUP($E89,Others!$A$2:$B$68,2,0)/1024),0) -> 0 | Y89: =IF($Q89-$W89,0,$Q89-$W89) -> #N/A
A90: PROD | B90: SNF-BW | C90: AP | D90: No | E90: FDCGCGTIBLA35P | F90: BL620C G7 | G90: RHEL 5.6 | H90: LEG1 | I90: New Servers. Need to Request Storage Acc. | K90: 260 | P90: 260 | Q90: =VLOOKUP($E90,[1]Sheet1!$A$2:$C$764,3,0) -> #N/A | R90: =IF(ISNA(VLOOKUP($E90,[1]PROD!$F$3:$H$217,3,0)),0,(VLOOKUP($E90,[1]PROD!$F$3:$H$217,3,0))) -> 0 | S90: =VLOOKUP($E90,[1]PROD!$I$3:$K$217,3,0) -> #N/A | T90: =VLOOKUP($E90,[1]PROD!$L$3:$N$217,3,0) -> #N/A | U90: =VLOOKUP($E90,[1]PROD!$O$3:$Q$217,3,0) -> #N/A | V90: =VLOOKUP($E90,[1]PROD!$R$3:$T$217,3,0) -> #N/A | W90: =(VLOOKUP($E90,'27TB Excel'!$A$3:$B$159,2,0)/1024) -> #N/A | X90: =IF(ISNUMBER(VLOOKUP($E90,Others!$A$2:$B$68,2,0)/1024),(VLOOKUP($E90,Others!$A$2:$B$68,2,0)/1024),0) -> 0 | Y90: =IF($Q90-$W90,0,$Q90-$W90) -> #N/A
A91: PROD | B91: SNF-BW | C91: AP | D91: No | E91: FDCGCGTIBLA36P | F91: BL620C G7 | G91: RHEL 5.6 | H91: LEG1 | I91: New Servers. Need to Request Storage Acc. | K91: 260 | P91: 260 | Q91: =VLOOKUP($E91,[1]Sheet1!$A$2:$C$764,3,0) -> #N/A | R91: =IF(ISNA(VLOOKUP($E91,[1]PROD!$F$3:$H$217,3,0)),0,(VLOOKUP($E91,[1]PROD!$F$3:$H$217,3,0))) -> 0 | S91: =VLOOKUP($E91,[1]PROD!$I$3:$K$217,3,0) -> #N/A | T91: =VLOOKUP($E91,[1]PROD!$L$3:$N$217,3,0) -> #N/A | U91: =VLOOKUP($E91,[1]PROD!$O$3:$Q$217,3,0) -> #N/A | V91: =VLOOKUP($E91,[1]PROD!$R$3:$T$217,3,0) -> #N/A | W91: =(VLOOKUP($E91,'27TB Excel'!$A$3:$B$159,2,0)/1024) -> #N/A | X91: =IF(ISNUMBER(VLOOKUP($E91,Others!$A$2:$B$68,2,0)/1024),(VLOOKUP($E91,Others!$A$2:$B$68,2,0)/1024),0) -> 0 | Y91: =IF($Q91-$W91,0,$Q91-$W91) -> #N/A
A92: PAT | B92: ESB-PAT | C92: AP | D92: No | E92: FDCGCGTIBLA39P | F92: BL620C G7 | G92: RHEL 5.6 | H92: LEG1 | I92: New Servers. Need to Request Storage Acc. | K92: 260 | P92: 260 | Q92: =VLOOKUP($E92,[1]Sheet1!$A$2:$C$764,3,0) -> #N/A | R92: =IF(ISNA(VLOOKUP($E92,[1]PROD!$F$3:$H$217,3,0)),0,(VLOOKUP($E92,[1]PROD!$F$3:$H$217,3,0))) -> 0 | S92: =VLOOKUP($E92,[1]PROD!$I$3:$K$217,3,0) -> #N/A | T92: =VLOOKUP($E92,[1]PROD!$L$3:$N$217,3,0) -> #N/A | U92: =VLOOKUP($E92,[1]PROD!$O$3:$Q$217,3,0) -> #N/A | V92: =VLOOKUP($E92,[1]PROD!$R$3:$T$217,3,0) -> #N/A | W92: =(VLOOKUP($E92,'27TB Excel'!$A$3:$B$159,2,0)/1024) -> #N/A | X92: =IF(ISNUMBER(VLOOKUP($E92,Others!$A$2:$B$68,2,0)/1024),(VLOOKUP($E92,Others!$A$2:$B$68,2,0)/1024),0) -> 0 | Y92: =IF($Q92-$W92,0,$Q92-$W92) -> #N/A
A93: PAT | B93: ESB-PAT | C93: AP | D93: No | E93: FDCGCGTIBLA40P | F93: BL620C G7 | G93: RHEL 5.6 | H93: LEG1 | I93: New Servers. Need to Request Storage Acc. | K93: 260 | P93: 260 | Q93: =VLOOKUP($E93,[1]Sheet1!$A$2:$C$764,3,0) -> #N/A | R93: =IF(ISNA(VLOOKUP($E93,[1]PROD!$F$3:$H$217,3,0)),0,(VLOOKUP($E93,[1]PROD!$F$3:$H$217,3,0))) -> 0 | S93: =VLOOKUP($E93,[1]PROD!$I$3:$K$217,3,0) -> #N/A | T93: =VLOOKUP($E93,[1]PROD!$L$3:$N$217,3,0) -> #N/A | U93: =VLOOKUP($E93,[1]PROD!$O$3:$Q$217,3,0) -> #N/A | V93: =VLOOKUP($E93,[1]PROD!$R$3:$T$217,3,0) -> #N/A | W93: =(VLOOKUP($E93,'27TB Excel'!$A$3:$B$159,2,0)/1024) -> #N/A | X93: =IF(ISNUMBER(VLOOKUP($E93,Others!$A$2:$B$68,2,0)/1024),(VLOOKUP($E93,Others!$A$2:$B$68,2,0)/1024),0) -> 0 | Y93: =IF($Q93-$W93,0,$Q93-$W93) -> #N/A
A94: PAT | B94: ESB-PAT | C94: AP | D94: No | E94: FDCGCGTIBLA41P | F94: BL620C G7 | G94: RHEL 5.6 | H94: LEG2 | I94: New Servers. Need to Request Storage Acc. | K94: 260 | P94: 260 | Q94: =VLOOKUP($E94,[1]Sheet1!$A$2:$C$764,3,0) -> #N/A | R94: =IF(ISNA(VLOOKUP($E94,[1]PROD!$F$3:$H$217,3,0)),0,(VLOOKUP($E94,[1]PROD!$F$3:$H$217,3,0))) -> 0 | S94: =VLOOKUP($E94,[1]PROD!$I$3:$K$217,3,0) -> #N/A | T94: =VLOOKUP($E94,[1]PROD!$L$3:$N$217,3,0) -> #N/A | U94: =VLOOKUP($E94,[1]PROD!$O$3:$Q$217,3,0) -> #N/A | V94: =VLOOKUP($E94,[1]PROD!$R$3:$T$217,3,0) -> #N/A | W94: =(VLOOKUP($E94,'27TB Excel'!$A$3:$B$159,2,0)/1024) -> #N/A | X94: =IF(ISNUMBER(VLOOKUP($E94,Others!$A$2:$B$68,2,0)/1024),(VLOOKUP($E94,Others!$A$2:$B$68,2,0)/1024),0) -> 0 | Y94: =IF($Q94-$W94,0,$Q94-$W94) -> #N/A
A95: PAT | B95: ESB-PAT | C95: AP | D95: No | E95: FDCGCGTIBLA42P | F95: BL620C G7 | G95: RHEL 5.6 | H95: LEG2 | I95: New Servers. Need to Request Storage Acc. | K95: 260 | P95: 260 | Q95: =VLOOKUP($E95,[1]Sheet1!$A$2:$C$764,3,0) -> #N/A | R95: =IF(ISNA(VLOOKUP($E95,[1]PROD!$F$3:$H$217,3,0)),0,(VLOOKUP($E95,[1]PROD!$F$3:$H$217,3,0))) -> 0 | S95: =VLOOKUP($E95,[1]PROD!$I$3:$K$217,3,0) -> #N/A | T95: =VLOOKUP($E95,[1]PROD!$L$3:$N$217,3,0) -> #N/A | U95: =VLOOKUP($E95,[1]PROD!$O$3:$Q$217,3,0) -> #N/A | V95: =VLOOKUP($E95,[1]PROD!$R$3:$T$217,3,0) -> #N/A | W95: =(VLOOKUP($E95,'27TB Excel'!$A$3:$B$159,2,0)/1024) -> #N/A | X95: =IF(ISNUMBER(VLOOKUP($E95,Others!$A$2:$B$68,2,0)/1024),(VLOOKUP($E95,Others!$A$2:$B$68,2,0)/1024),0) -> 0 | Y95: =IF($Q95-$W95,0,$Q95-$W95) -> #N/A
A96: PROD | B96: ESB-BW-RU | C96: AP | D96: No | E96: FDCGCGTIBLA31P | F96: BL620C G7 | G96: RHEL 5.6 | H96: LEG1 | I96: New Servers. Need to Request Storage Acc. | K96: 260 | P96: 260 | Q96: =VLOOKUP($E96,[1]Sheet1!$A$2:$C$764,3,0) -> #N/A | R96: =IF(ISNA(VLOOKUP($E96,[1]PROD!$F$3:$H$217,3,0)),0,(VLOOKUP($E96,[1]PROD!$F$3:$H$217,3,0))) -> 0 | S96: =VLOOKUP($E96,[1]PROD!$I$3:$K$217,3,0) -> #N/A | T96: =VLOOKUP($E96,[1]PROD!$L$3:$N$217,3,0) -> #N/A | U96: =VLOOKUP($E96,[1]PROD!$O$3:$Q$217,3,0) -> #N/A | V96: =VLOOKUP($E96,[1]PROD!$R$3:$T$217,3,0) -> #N/A | W96: =(VLOOKUP($E96,'27TB Excel'!$A$3:$B$159,2,0)/1024) -> #N/A | X96: =IF(ISNUMBER(VLOOKUP($E96,Others!$A$2:$B$68,2,0)/1024),(VLOOKUP($E96,Others!$A$2:$B$68,2,0)/1024),0) -> 0 | Y96: =IF($Q96-$W96,0,$Q96-$W96) -> #N/A
A97: PROD | B97: ESB-BW-RU | C97: AP | D97: No | E97: FDCGCGTIBLA32P | F97: BL620C G7 | G97: RHEL 5.6 | H97: LEG1 | I97: New Servers. Need to Request Storage Acc. | K97: 260 | P97: 260 | Q97: =VLOOKUP($E97,[1]Sheet1!$A$2:$C$764,3,0) -> #N/A | R97: =IF(ISNA(VLOOKUP($E97,[1]PROD!$F$3:$H$217,3,0)),0,(VLOOKUP($E97,[1]PROD!$F$3:$H$217,3,0))) -> 0 | S97: =VLOOKUP($E97,[1]PROD!$I$3:$K$217,3,0) -> #N/A | T97: =VLOOKUP($E97,[1]PROD!$L$3:$N$217,3,0) -> #N/A | U97: =VLOOKUP($E97,[1]PROD!$O$3:$Q$217,3,0) -> #N/A | V97: =VLOOKUP($E97,[1]PROD!$R$3:$T$217,3,0) -> #N/A | W97: =(VLOOKUP($E97,'27TB Excel'!$A$3:$B$159,2,0)/1024) -> #N/A | X97: =IF(ISNUMBER(VLOOKUP($E97,Others!$A$2:$B$68,2,0)/1024),(VLOOKUP($E97,Others!$A$2:$B$68,2,0)/1024),0) -> 0 | Y97: =IF($Q97-$W97,0,$Q97-$W97) -> #N/A
A98: PROD | B98: ESB-BW-RU | C98: AP | D98: No | E98: FDCGCGTIBLA33P | F98: BL620C G7 | G98: RHEL 5.6 | H98: LEG2 | I98: New Servers. Need to Request Storage Acc. | K98: 260 | P98: 260 | Q98: =VLOOKUP($E98,[1]Sheet1!$A$2:$C$764,3,0) -> #N/A | R98: =IF(ISNA(VLOOKUP($E98,[1]PROD!$F$3:$H$217,3,0)),0,(VLOOKUP($E98,[1]PROD!$F$3:$H$217,3,0))) -> 0 | S98: =VLOOKUP($E98,[1]PROD!$I$3:$K$217,3,0) -> #N/A | T98: =VLOOKUP($E98,[1]PROD!$L$3:$N$217,3,0) -> #N/A | U98: =VLOOKUP($E98,[1]PROD!$O$3:$Q$217,3,0) -> #N/A | V98: =VLOOKUP($E98,[1]PROD!$R$3:$T$217,3,0) -> #N/A | W98: =(VLOOKUP($E98,'27TB Excel'!$A$3:$B$159,2,0)/1024) -> #N/A | X98: =IF(ISNUMBER(VLOOKUP($E98,Others!$A$2:$B$68,2,0)/1024),(VLOOKUP($E98,Others!$A$2:$B$68,2,0)/1024),0) -> 0 | Y98: =IF($Q98-$W98,0,$Q98-$W98) -> #N/A
A99: PROD | B99: ESB-BW-RU | C99: AP | D99: No | E99: FDCGCGTIBLA34P | F99: BL620C G7 | G99: RHEL 5.6 | H99: LEG2 | I99: New Servers. Need to Request Storage Acc. | K99: 260 | P99: 260 | Q99: =VLOOKUP($E99,[1]Sheet1!$A$2:$C$764,3,0) -> #N/A | R99: =IF(ISNA(VLOOKUP($E99,[1]PROD!$F$3:$H$217,3,0)),0,(VLOOKUP($E99,[1]PROD!$F$3:$H$217,3,0))) -> 0 | S99: =VLOOKUP($E99,[1]PROD!$I$3:$K$217,3,0) -> #N/A | T99: =VLOOKUP($E99,[1]PROD!$L$3:$N$217,3,0) -> #N/A | U99: =VLOOKUP($E99,[1]PROD!$O$3:$Q$217,3,0) -> #N/A | V99: =VLOOKUP($E99,[1]PROD!$R$3:$T$217,3,0) -> #N/A | W99: =(VLOOKUP($E99,'27TB Excel'!$A$3:$B$159,2,0)/1024) -> #N/A | X99: =IF(ISNUMBER(VLOOKUP($E99,Others!$A$2:$B$68,2,0)/1024),(VLOOKUP($E99,Others!$A$2:$B$68,2,0)/1024),0) -> 0 | Y99: =IF($Q99-$W99,0,$Q99-$W99) -> #N/A
A100: PROD | B100: CDE | C100: AP | D100: Yes - Outside this BoM | E100: FDCGCGCDELA01P | F100: BL460c | G100: RHEL 5.6 | H100: LEG1 | K100: 80 | M100: 60 | P100: 140 | Q100: =VLOOKUP($E100,[1]Sheet1!$A$2:$C$764,3,0) -> 269.73438 | R100: =IF(ISNA(VLOOKUP($E100,[1]PROD!$F$3:$H$217,3,0)),0,(VLOOKUP($E100,[1]PROD!$F$3:$H$217,3,0))) -> 0 | S100: =VLOOKUP($E100,[1]PROD!$I$3:$K$217,3,0) -> #N/A | T100: =VLOOKUP($E100,[1]PROD!$L$3:$N$217,3,0) -> #N/A | U100: =VLOOKUP($E100,[1]PROD!$O$3:$Q$217,3,0) -> #N/A | V100: =VLOOKUP($E100,[1]PROD!$R$3:$T$217,3,0) -> #N/A | W100: =(VLOOKUP($E100,'27TB Excel'!$A$3:$B$159,2,0)/1024) -> 269.73438 | X100: =IF(ISNUMBER(VLOOKUP($E100,Others!$A$2:$B$68,2,0)/1024),(VLOOKUP($E100,Others!$A$2:$B$68,2,0)/1024),0) -> 0 | Y100: =IF($Q100-$W100,0,$Q100-$W100) -> 0
...

Sheet 27TB Excel
A2: Hostname | B2: Size | C2: Remarks | D2: CSI ID | E2: App name | F2: Acronym | G2: App Mgr | H2: App Mgr SOEID | I2: App Architect | J2: Business Criticality
A3: fdcgcgboxaa01p | B3: 207156 | C3: Either on leg1/leg2/-. Means can be moved to leg-2 | D3: 163454 | E3: Data Warehouse - EMEA | F3: DWH | G3: Balamurugan, Pitchai | H3: BP41588 | I3: Stepien, Renata | J3: LOW
A4: fdcgcgboxaa01p_2p | B4: 379786 | C4: Either on leg1/leg2/-. Means can be moved to leg-2 | D4: 163454 | E4: Data Warehouse - EMEA | F4: DWH | G4: Balamurugan, Pitchai | H4: BP41588 | I4: Stepien, Renata | J4: LOW
A5: fdcgcgboxaa02p | B5: 207156 | C5: Either on leg1/leg2/-. Means can be moved to leg-2 | D5: 163454 | E5: Data Warehouse - EMEA | F5: DWH | G5: Balamurugan, Pitchai | H5: BP41588 | I5: Stepien, Renata | J5: LOW
A6: fdcgcgcdela01p | B6: 276208 | C6: Leg1
A7: fdcgcgcdela02p | B7: 276208 | C7: Leg2 | D7: 164693, 164509 | E7: Collateral and Limit Management System - CEEMEA | F7: CLMS | G7: Krishnan, Venkata | H7: KV49666 | I7: Ramesh Babu, Munuswamy Rajendran (MR88872) | J7: MEDIUM
A8: fdcgcgclmla01p | B8: 414312 | C8: Leg1
A9: fdcgcgclmla02p | B9: 414312 | C9: Leg2 | D9: 164693, 164509 | E9: EL, CLMS
A10: fdcgcgcmraa01p | B10: 138104 | C10: Leg1
A11: fdcgcgcmraa01p_2p | B11: 1108066 | C11: Leg1
A12: fdcgcgcmraa02p | B12: 138104 | C12: Leg1
A13: fdcgcgcmrla01p | B13: 207156 | C13: Leg1
A14: fdcgcgcmrla02p | B14: 207156 | C14: Leg2 | D14: 163477, 164509 | E14: CMR, CLMS
A15: fdcgcgcmrla03p | B15: 621468 | C15: Leg1
A16: fdcgcgcmrla04p | B16: 1173884 | C16: Leg2 | D16: 163477 | E16: Customer Management Repository - EMEA | F16: CMR | G16: Kadalmangalam Ramanujachari, Ramaswamy | H16: KR42319 | I16: Counce, David | J16: LOW
A17: fdcgcgdtgad18p | B17: 3234 | C17: Leg2 | D17: 163454 | E17: Data Warehouse - EMEA | F17: DWH | G17: Balamurugan, Pitchai | H17: BP41588 | I17: Stepien, Renata | J17: LOW
A18: fdcgcgdtgad20p | B18: 3234 | C18: Leg2 | D18: 163454 | E18: Data Warehouse - EMEA | F18: DWH | G18: Balamurugan, Pitchai | H18: BP41588 | I18: Stepien, Renata | J18: LOW
A19: fdcgcgdtgad28p | B19: 3234 | C19: Leg2 | D19: 163454 | E19: Data Warehouse - EMEA | F19: DWH | G19: Balamurugan, Pitchai | H19: BP41588 | I19: Stepien, Renata | J19: LOW
A20: fdcgcgdtgad30p | B20: 3234 | C20: Leg2 | D20: 163124 | E20: Centralized Offer Palette - EMEA | F20: COP | G20: Ramakrishna, Acharya Rohitashwa | H20: AR98725 | I20: Stepien, Renata | J20: MEDIUM
A21: fdcgcgeclla01p | B21: 276208 | C21: Leg1
A22: fdcgcgeclla02p | B22: 276208 | C22: Leg2 | D22: 165601 | E22: Advanced Fraud Early Warning Services - Ceemea | F22: AFEWS | G22: Premchander, Mukund | H22: MP64983 | I22: Stepien, Renata | J22: HIGH
A23: fdcgcgeclla03p | B23: 276208 | C23: Leg1
A24: fdcgcgeclla04p | B24: 276208 | C24: Leg2 | D24: 165601, 164693 | E24: AFEWS, EL
A25: fdcgcgeclla05p | B25: 207156 | C25: Leg1
A26: fdcgcgeclla06p | B26: 207156 | C26: Leg2 | D26: 164693 | E26: Eclipse - Hugary, Poland, IPB | F26: EL | G26: Ling, Weibing | H26: WL25461 | I26: Stepien, Renata | J26: HIGH
A27: fdcgcgeclla07p | B27: 276208 | C27: Leg1
A28: fdcgcgeclla08p | B28: 276208 | C28: Leg2 | D28: 164693 158762 165282 165303 165304 | E28: EL Advanced Computer Assisted Collection - UAE MEMFIS - Investments MF - UAE MEMFIS-Insurance Product Processor - Hungary, Poland, UAE | F28: EL ACACS - Intranet MEMFIS - Inv MEMFIS - IPP | G28: Guirey, Alvin Raynatus Raval Tan, Victor Chee Wee Thangamani, Muthurajan | H28: AG59468 VT59418 MT26567 | I28: Stepien, Renata Stepien, Renata Stepien, Renata | J28: HIGH HIGH
A29: fdcgcgeclla09p | B29: 241682 | C29: leg1
A30: fdcgcgeclla10p | B30: 241682 | C30: Leg2 | D30: 164693 | E30: Eclipse - Hugary, Poland, IPB | F30: EL | G30: Ling, Weibing | H30: WL25461 | I30: Stepien, Renata | J30: HIGH
A31: fdcgcgeclla16p | B31: 207156 | C31: Leg2 | D31: Not in Aperture
A32: fdcgcgeclla64_74p | B32: 313968 | C32: Leg1
A33: fdcgcgeclla64p | B33: 379786 | C33: Leg1
A34: fdcgcgeclla74p | B34: 310734 | C34: Leg1
A35: fdcgcgecllw01p | B35: 241682 | C35: Need to check rainbow server or not
A36: fdcgcgecllw03p | B36: 276208 | C36: Need to check rainbow server or not
A37: fdcgcgecllw05p | B37: 207156 | C37: Leg1
A38: fdcgcgecllw06p | B38: 241682 | C38: Leg2 | D38: 161468,162618 | E38: Eclipse - Russia ASPAC SCPIER | F38: Eclipse - Russia ASPAC SCPIER | G38: Kallam, Vamsi Mohan Gudimella, Udaya Kumar | H38: KV00223 UG72318 | I38: Stepien, Renata | J38: HIGH LOW
A39: fdcgcgecllw07p | B39: 241682 | C39: Leg1
A40: fdcgcgecllw08p | B40: 241682 | C40: Leg2 | D40: 161468,162618 | E40: Eclipse - Russia ASPAC SCPIER | F40: Eclipse - Russia ASPAC SCPIER | G40: Kallam, Vamsi Mohan Gudimella, Udaya Kumar | H40: KV00223 UG72318 | I40: Stepien, Renata | J40: HIGH LOW
A41: fdcgcgecllw12p | B41: 207156 | C41: Leg1
A42: fdcgcgecllw13p | B42: 207156 | C42: Leg2 | D42: 164693 | E42: Eclipse - Hugary, Poland, IPB | F42: EL | G42: Ling, Weibing | H42: WL25461 | I42: Stepien, Renata | J42: HIGH
A43: fdcgcgecllw14p | B43: 207156 | C43: Leg1
A44: fdcgcgecllw15p | B44: 207156 | C44: Leg2 | D44: 164693 | E44: Eclipse - Hugary, Poland, IPB | F44: EL | G44: Ling, Weibing | H44: WL25461 | I44: Stepien, Renata | J44: HIGH
A45: fdcgcgecllw17p | B45: 207156 | C45: Leg2 | D45: 164693 | E45: Eclipse - Hugary, Poland, IPB | F45: EL | G45: Ling, Weibing | H45: WL25461 | I45: Stepien, Renata | J45: HIGH
A46: fdcgcgecllw18p | B46: 207156 | C46: Leg1
A47: fdcgcgecllw19p | B47: 207156 | C47: Leg2 | D47: 164693 | E47: Eclipse - Hugary, Poland, IPB | F47: EL | G47: Ling, Weibing | H47: WL25461 | I47: Stepien, Renata | J47: HIGH
A48: fdcgcgecllw22p | B48: 207156 | C48: Leg1
A49: fdcgcgetlaa01p | B49: 34526 | C49: Leg1/Leg2-DWH do not require COB | D49: 163454 | E49: Data Warehouse - EMEA | F49: DWH | G49: Balamurugan, Pitchai | H49: BP41588 | I49: Stepien, Renata | J49: LOW
A50: fdcgcgetlaa01p_02p | B50: 622546 | C50: Leg1/Leg2-DWH do not require COB | D50: 163454 | E50: Data Warehouse - EMEA | F50: DWH | G50: Balamurugan, Pitchai | H50: BP41588 | I50: Stepien, Renata | J50: LOW
A51: fdcgcgetlaa02p | B51: 34526 | C51: Leg1/Leg2-DWH do not require COB | D51: 163454 | E51: Data Warehouse - EMEA | F51: DWH | G51: Balamurugan, Pitchai | H51: BP41588 | I51: Stepien, Renata | J51: LOW
A52: fdcgcgetlaa03p | B52: 34526 | C52: Leg1/Leg2-DWH do not require COB | D52: 163454 | E52: Data Warehouse - EMEA | F52: DWH | G52: Balamurugan, Pitchai | H52: BP41588 | I52: Stepien, Renata | J52: LOW
A53: fdcgcgetlaa03p_04p | B53: 829702 | C53: Leg1/Leg2-DWH do not require COB | D53: 163454 | E53: Data Warehouse - EMEA | F53: DWH | G53: Balamurugan, Pitchai | H53: BP41588 | I53: Stepien, Renata | J53: LOW
A54: fdcgcgetlaa04p | B54: 34526 | C54: Leg1/Leg2-DWH do not require COB | D54: 163454 | E54: Data Warehouse - EMEA | F54: DWH | G54: Balamurugan, Pitchai | H54: BP41588 | I54: Stepien, Renata | J54: LOW
A55: fdcgcgetlaa05p | B55: 34526 | C55: Leg1/Leg2-DWH do not require COB | D55: 163454 | E55: Data Warehouse - EMEA | F55: DWH | G55: Balamurugan, Pitchai | H55: BP41588 | I55: Stepien, Renata | J55: LOW
A56: fdcgcgetlaa05p_6p | B56: 1313066 | C56: Leg1/Leg2-DWH do not require COB | D56: 163454 | E56: Data Warehouse - EMEA | F56: DWH | G56: Balamurugan, Pitchai | H56: BP41588 | I56: Stepien, Renata | J56: LOW
A57: fdcgcgetlaa06p | B57: 34526 | C57: Leg1/Leg2-DWH do not require COB | D57: 163454 | E57: Data Warehouse - EMEA | F57: DWH | G57: Balamurugan, Pitchai | H57: BP41588 | I57: Stepien, Renata | J57: LOW
A58: fdcgcgetlaa07p | B58: 34526 | C58: Leg1/Leg2-DWH do not require COB (sunset) | D58: 163454 | E58: Data Warehouse - EMEA | F58: DWH | G58: Balamurugan, Pitchai | H58: BP41588 | I58: Stepien, Renata | J58: LOW
A59: fdcgcgetlaa07p_8p | B59: 173708 | C59: Leg1/Leg2-DWH do not require COB (sunset) | D59: 163454 | E59: Data Warehouse - EMEA | F59: DWH | G59: Balamurugan, Pitchai | H59: BP41588 | I59: Stepien, Renata | J59: LOW
A60: fdcgcgetlaa08p | B60: 34526 | C60: Leg1/Leg2-DWH do not require COB (sunset) | D60: 163454 | E60: Data Warehouse - EMEA | F60: DWH | G60: Balamurugan, Pitchai | H60: BP41588 | I60: Stepien, Renata | J60: LOW
... A65: fdcgcgetlaa16p | B65: 241682 | C65: Leg1/Leg2-DWH do not require COB | D65: 163454 | E65: Data Warehouse - EMEA | F65: DWH | G65: Balamurugan, Pitchai | H65: BP41588 | I65: Stepien, Renata | J65: LOW
A66: fdcgcgivrla02p | B66: 345260 | C66: Leg1
A67: fdcgcgivrla03p | B67: 345260 | C67: Leg2 | D67: 164693,164509 | E67: EL, CMLS | F67: EL, CMLS
A68: fdcgcgkanaa01p | B68: 448838 | C68: Leg1
A69: fdcgcgkanaw03p | B69: 241682 | C69: Leg1
A70: fdcgcgkanaw04p | B70: 345260 | C70: Leg2 | D70: 163202 | E70: Kana Connect - EMEA Rainbow : HU,UK,UAE,RU,PL | F70: KC | G70: Raghunandanan, Prem Sekhar | H70: PS38925 | I70: An, Tao Rao, Shankar | J70: LOW
A71: fdcgcgmqmla19p | B71: 241682 | C71: Leg1
A72: fdcgcgmqmla20p | B72: 241682 | C72: Leg2 | D72: 161467,162864 | E72: Enterprise Service Bus - Russia CitiPlanner - EMEA | F72: ESB Citiplanner | G72: Jacob, Sam Joseph Machadi, Ravinder Rao | H72: JS08928 RR49713 | I72: Meyer, Joseph Ramesh Babu, Munuswamy Rajendran | J72: HIGH LOW
A73: fdcgcgmqmla65_75p | B73: 172630 | C73: Leg1
A74: fdcgcgmqmla65p | B74: 172630 | C74: Leg1
A75: fdcgcgmqmla75p | B75: 172630 | C75: Leg1
A76: fdcgcgporaw01p | B76: 276208 | C76: Leg1/Leg2-DWH do not require COB | D76: 163454 | E76: Data Warehouse - EMEA | F76: DWH | G76: Balamurugan, Pitchai | H76: BP41588 | I76: Stepien, Renata | J76: LOW
A77: fdcgcgracad01p | B77: 138104 | C77: Leg1
A78: fdcgcgracad01p_2p | B78: 424014 | C78: Leg1
A79: fdcgcgracad02p | B79: 138104 | C79: Leg1
A80: fdcgcgracad03p | B80: 138104 | C80: Leg2 | D80: 164652 | E80: Phoenix IVR 2.0 - EMEA | F80: IVR | G80: Subramaniam, Ramachandran | H80: SR37807 | I80: Stepien, Renata | J80: HIGH
A81: fdcgcgracad03p_4p | B81: 141338 | C81: Leg2 | D81: 164652 | E81: Phoenix IVR 2.0 - EMEA | F81: IVR | G81: Subramaniam, Ramachandran | H81: SR37807 | I81: Stepien, Renata | J81: HIGH
A82: fdcgcgracad04p | B82: 138104 | C82: Leg2 | D82: 164652 | E82: Phoenix IVR 2.0 - EMEA | F82: IVR | G82: Subramaniam, Ramachandran | H82: SR37807 | I82: Stepien, Renata | J82: HIGH
A83: fdcgcgracad05p | B83: 276208 | C83: Leg1
A84: fdcgcgracad05p_06p | B84: 2351002 | C84: Leg1
A85: fdcgcgracad05p_06p_PG_05F0_12F0 | B85: 2351002 | C85: Leg1
A86: fdcgcgracad06p | B86: 276208 | C86: Leg1
A87: fdcgcgracad07p | B87: 172630 | C87: Leg2 | D87: 163454,163106 | E87: DWH Customer Management Repository - Asia Pacific | F87: CMR | G87: Kadalmangalam Ramanujachari, Ramaswamy | H87: KR42319 | I87: Counce, David | J87: HIGH
A88: fdcgcgracad07p_8p | B88: 2005742 | C88: Leg2 | D88: 163454,163107 | E88: DWH Customer Management Repository - Asia Pacific | F88: CMR | G88: Kadalmangalam Ramanujachari, Ramaswamy | H88: KR42320 | I88: Counce, David | J88: HIGH
A89: fdcgcgracad08p | B89: 172630 | C89: Leg2 | D89: 163454,163108 | E89: DWH Customer Management Repository - Asia Pacific | F89: CMR | G89: Kadalmangalam Ramanujachari, Ramaswamy | H89: KR42321 | I89: Counce, David | J89: HIGH
A90: fdcgcgracad13p | B90: 276208 | C90: Leg1
A91: fdcgcgracad13p_14p | B91: 1695008 | C91: Leg1
A92: fdcgcgracad14p | B92: 138104 | C92: Leg1
A93: fdcgcgracad15p | B93: 172630 | C93: Leg1
A94: fdcgcgracad15p_16p | B94: 624702 | C94: Leg1
A95: fdcgcgracad16p | B95: 172630 | C95: Leg1
A96: fdcgcgracad17p | B96: 138104 | C96: Leg1
A97: fdcgcgracad17p_18p | B97: 1108066 | C97: Leg1
A98: fdcgcgracad18p | B98: 138104 | C98: Leg1
A99: fdcgcgracad19p | B99: 172630 | C99: Leg1
A100: fdcgcgracad19p_20p | B100: 2040268 | C100: Leg1
A101: fdcgcgracad20p | B101: 172630 | C101: Leg1
... A120: fdcgcgrilaw01p | B120: 103578 | C120: Leg1
A121: fdcgcgrilaw02p | B121: 103578 | C121: Leg2 | D121: 164901 | E121: EMEA Integration Layer | F121: EMEAIL | G121: Rao, Raghuram Prabhakar | H121: RR41956 | I121: Counce, David | J121: HIGH
A122: fdcgcgsasaa02p | B122: 345260 | C122: Non Replicated Storage–moved to any frame | D122: 163454 | E122: Data Warehouse - EMEA | F122: DWH | G122: Balamurugan, Pitchai | H122: BP41588 | I122: Stepien, Renata | J122: LOW
A123: fdcgcgsasaa03p | B123: 7112356 | C123: Non Replicated Storage- moved to any frame | D123: 163454 | E123: Data Warehouse - EMEA | F123: DWH | G123: Balamurugan, Pitchai | H123: BP41588 | I123: Stepien, Renata | J123: LOW
...

Sheet Others
A1: Hostname | B1: Size | C1: Storage Info. Tally
A2: fdcgcgboxaa01p | B2: 207156 | C2: =MATCH($A2,'Rainbow Server Info. Leg1-Leg2 '!E$1:E$174,0) -> 6
A3: fdcgcgboxaa01p_2p | B3: 379786 | C3: =MATCH($A3,'Rainbow Server Info. Leg1-Leg2 '!E$1:E$174,0) -> #N/A
A4: fdcgcgboxaa02p | B4: 207156 | C4: =MATCH($A4,'Rainbow Server Info. Leg1-Leg2 '!E$1:E$174,0) -> 7
A5: fdcgcgcdela02p | B5: 276208 | C5: =MATCH($A5,'Rainbow Server Info. Leg1-Leg2 '!E$1:E$174,0) -> 34
A6: fdcgcgclmla02p | B6: 414312 | C6: =MATCH($A6,'Rainbow Server Info. Leg1-Leg2 '!E$1:E$174,0) -> 101
A7: fdcgcgcmrla02p | B7: 207156 | C7: =MATCH($A7,'Rainbow Server Info. Leg1-Leg2 '!E$1:E$174,0) -> 109
A8: fdcgcgcmrla04p | B8: 1173884 | C8: =MATCH($A8,'Rainbow Server Info. Leg1-Leg2 '!E$1:E$174,0) -> 73
A9: fdcgcgdtgad18p | B9: 3234 | C9: =MATCH($A9,'Rainbow Server Info. Leg1-Leg2 '!E$1:E$174,0) -> 39
A10: fdcgcgdtgad20p | B10: 3234 | C10: =MATCH($A10,'Rainbow Server Info. Leg1-Leg2 '!E$1:E$174,0) -> 40
A11: fdcgcgdtgad28p | B11: 3234 | C11: =MATCH($A11,'Rainbow Server Info. Leg1-Leg2 '!E$1:E$174,0) -> 44
A12: fdcgcgdtgad30p | B12: 3234 | C12: =MATCH($A12,'Rainbow Server Info. Leg1-Leg2 '!E$1:E$174,0) -> 45
A13: fdcgcgeclla02p | B13: 276208 | C13: =MATCH($A13,'Rainbow Server Info. Leg1-Leg2 '!E$1:E$174,0) -> 103
... A68: fdcgcgtibla91p | B68: 517890 | C68: =MATCH($A68,'Rainbow Server Info. Leg1-Leg2 '!E$1:E$174,0) -> 168
B69: =SUM(B2:B68) -> 27130938
