Workbook

Sheet Rainbow Server Info. Leg1-Leg2 
A1: Env Label | B1: Description | C1: Type | D1: Existing Server? | E1: Hostname | F1: Server Model | G1: O/S | H1: STORAGE FRAME | I1: Remarks | J1: RU/CZ Cluster | K1: RU/CZ Standalone | L1: UKC-Cluster | M1: UKC- Standalone | N1: OCI-F2F-Cluster | O1: OCI-F2F Standalone | P1: TCRS to be raise for Total Requirment for Wave-2 | Q1: Storage - Aug 2013 | R1: Leg1-Cluster | S1: Leg2 | T1: Leg2-Cluster | U1: Non-Replicated(#3004) | V1: Non-Replicated - Cluster(#3004) | W1: Storage Match for all servers | X1: Storage Match - 27TB Excel | Y1: Diff. | Z1: Migration type | AA1: Aperture rqs for storage config | AB1: Migration RFC# | AC1: Migration target date | AD1: Migration status | AE1: Storage release Aperture / RFC# | AF1: Storage release target date | AG1: Storage release status
A2: PAT | B2: Oracle RAC -CLMS, CitiPlanner, TCON, URS, CitiOption, citiwatch | C2: DB | D2: Yes - Outside this BoM | E2: fdcgcgracad31p | F2: IBM p7 p795 | G2: AIX 6.1 | H2: NR | I2: NA | Q2: =VLOOKUP($E2,[1]PROD!$O$3:$Q$217,3,0) -> 202.30078 | R2: =IF(ISNA(VLOOKUP($E2,[1]PROD!$F$3:$H$217,3,0)),0,(VLOOKUP($E2,[1]PROD!$F$3:$H$217,3,0))) -> 0 | S2: =IF(ISNA(VLOOKUP($E2,[1]PROD!$I$3:$K$217,3,0)),0,(VLOOKUP($E2,[1]PROD!$I$3:$K$217,3,0))) -> 0 | T2: =VLOOKUP($E2,[1]PROD!$L$3:$N$217,3,0) -> #N/A | U2: =VLOOKUP($E2,[1]PROD!$O$3:$Q$217,3,0) -> 202.30078 | V2: =VLOOKUP($E2,[1]PROD!$R$3:$T$217,3,0) -> #N/A | W2: =(VLOOKUP($E2,'27TB Excel'!$A$3:$B$159,2,0)/1024) -> #N/A | X2: =IF(ISNUMBER(VLOOKUP($E2,Others!$A$2:$B$68,2,0)/1024),(VLOOKUP($E2,Others!$A$2:$B$68,2,0)/1024),0) -> 0 | Y2: =IF($Q2-$W2=0,0,$Q2-$W2) -> #N/A | AD2: planning
A3: PAT | B3: Oracle RAC -CLMS, CitiPlanner, TCON, URS, CitiOption, citiwatch | C3: DB | D3: Yes - Outside this BoM | E3: fdcgcgracad32p | F3: IBM p7 p795 | G3: AIX 6.1 | H3: NR | I3: NA | Q3: =VLOOKUP($E3,[1]PROD!$O$3:$Q$217,3,0) -> 202.30078 | R3: =IF(ISNA(VLOOKUP($E3,[1]PROD!$F$3:$H$217,3,0)),0,(VLOOKUP($E3,[1]PROD!$F$3:$H$217,3,0))) -> 0 | S3: =IF(ISNA(VLOOKUP($E3,[1]PROD!$I$3:$K$217,3,0)),0,(VLOOKUP($E3,[1]PROD!$I$3:$K$217,3,0))) -> 0 | T3: =VLOOKUP($E3,[1]PROD!$L$3:$N$217,3,0) -> #N/A | U3: =VLOOKUP($E3,[1]PROD!$O$3:$Q$217,3,0) -> 202.30078 | V3: =VLOOKUP($E3,[1]PROD!$R$3:$T$217,3,0) -> #N/A | W3: =(VLOOKUP($E3,'27TB Excel'!$A$3:$B$159,2,0)/1024) -> #N/A | X3: =IF(ISNUMBER(VLOOKUP($E3,Others!$A$2:$B$68,2,0)/1024),(VLOOKUP($E3,Others!$A$2:$B$68,2,0)/1024),0) -> 0 | Y3: =IF($Q3-$W3=0,0,$Q3-$W3) -> #N/A | AD3: planning
A4: PAT | B4: Oracle RAC IVR , ESB, MemFis, WPS, | C4: DB | D4: Yes - Outside this BoM | E4: fdcgcgracad33p | F4: IBM p7 p795 | G4: AIX 6.1 | H4: NR | I4: NA | Q4: =VLOOKUP($E4,[1]PROD!$O$3:$Q$217,3,0) -> 202.30078 | R4: =IF(ISNA(VLOOKUP($E4,[1]PROD!$F$3:$H$217,3,0)),0,(VLOOKUP($E4,[1]PROD!$F$3:$H$217,3,0))) -> 0 | S4: =IF(ISNA(VLOOKUP($E4,[1]PROD!$I$3:$K$217,3,0)),0,(VLOOKUP($E4,[1]PROD!$I$3:$K$217,3,0))) -> 0 | T4: =VLOOKUP($E4,[1]PROD!$L$3:$N$217,3,0) -> #N/A | U4: =VLOOKUP($E4,[1]PROD!$O$3:$Q$217,3,0) -> 202.30078 | V4: =VLOOKUP($E4,[1]PROD!$R$3:$T$217,3,0) -> #N/A | W4: =(VLOOKUP($E4,'27TB Excel'!$A$3:$B$159,2,0)/1024) -> #N/A | X4: =IF(ISNUMBER(VLOOKUP($E4,Others!$A$2:$B$68,2,0)/1024),(VLOOKUP($E4,Others!$A$2:$B$68,2,0)/1024),0) -> 0 | Y4: =IF($Q4-$W4=0,0,$Q4-$W4) -> #N/A | AD4: planning
A5: PAT | B5: Oracle RAC IVR , ESB, MemFis, WPS, | C5: DB | D5: Yes - Outside this BoM | E5: fdcgcgracad34p | F5: IBM p7 p795 | G5: AIX 6.1 | H5: NR | I5: NA | Q5: =VLOOKUP($E5,[1]PROD!$O$3:$Q$217,3,0) -> 202.30078 | R5: =IF(ISNA(VLOOKUP($E5,[1]PROD!$F$3:$H$217,3,0)),0,(VLOOKUP($E5,[1]PROD!$F$3:$H$217,3,0))) -> 0 | S5: =IF(ISNA(VLOOKUP($E5,[1]PROD!$I$3:$K$217,3,0)),0,(VLOOKUP($E5,[1]PROD!$I$3:$K$217,3,0))) -> 0 | T5: =VLOOKUP($E5,[1]PROD!$L$3:$N$217,3,0) -> #N/A | U5: =VLOOKUP($E5,[1]PROD!$O$3:$Q$217,3,0) -> 202.30078 | V5: =VLOOKUP($E5,[1]PROD!$R$3:$T$217,3,0) -> #N/A | W5: =(VLOOKUP($E5,'27TB Excel'!$A$3:$B$159,2,0)/1024) -> #N/A | X5: =IF(ISNUMBER(VLOOKUP($E5,Others!$A$2:$B$68,2,0)/1024),(VLOOKUP($E5,Others!$A$2:$B$68,2,0)/1024),0) -> 0 | Y5: =IF($Q5-$W5=0,0,$Q5-$W5) -> #N/A | AD5: planning
A6: PAT/PROD | B6: BOXI | C6: AP | D6: Yes - Outside this BoM | E6: fdcgcgboxaa01p | F6: IBM p7 p780 | G6: AIX 6.1 | H6: LEG1 | I6: Confirmed - No Migration | J6: 90 | K6: 30 | L6: 60 | P6: =SUM(J6:L6) -> 180 | Q6: =VLOOKUP($E6,[1]PROD!$C$3:$E$217,3,0) -> 202.30078 | R6: =IF(ISNA(VLOOKUP($E6,[1]PROD!$F$3:$H$217,3,0)),0,(VLOOKUP($E6,[1]PROD!$F$3:$H$217,3,0))) -> 0 | S6: =IF(ISNA(VLOOKUP($E6,[1]PROD!$I$3:$K$217,3,0)),0,(VLOOKUP($E6,[1]PROD!$I$3:$K$217,3,0))) -> 0 | T6: =VLOOKUP($E6,[1]PROD!$L$3:$N$217,3,0) -> #N/A | U6: =VLOOKUP($E6,[1]PROD!$O$3:$Q$217,3,0) -> #N/A | V6: =VLOOKUP($E6,[1]PROD!$R$3:$T$217,3,0) -> #N/A | W6: =(VLOOKUP($E6,'27TB Excel'!$A$3:$B$159,2,0)/1024) -> 202.30078 | X6: =IF(ISNUMBER(VLOOKUP($E6,Others!$A$2:$B$68,2,0)/1024),(VLOOKUP($E6,Others!$A$2:$B$68,2,0)/1024),0) -> 202.30078 | Y6: =IF($Q6-$W6=0,0,$Q6-$W6) -> 0 | AD6: planning
A7: PAT/PROD | B7: BOXI | C7: AP | D7: Yes - Outside this BoM | E7: fdcgcgboxaa02p | F7: IBM p7 p780 | G7: AIX 6.1 | H7: LEG1 | I7: Confirmed - No Migration | K7: 30 | P7: =SUM(J7:L7) -> 30 | Q7: =VLOOKUP($E7,[1]PROD!$C$3:$E$217,3,0) -> 202.30078 | R7: =IF(ISNA(VLOOKUP($E7,[1]PROD!$F$3:$H$217,3,0)),0,(VLOOKUP($E7,[1]PROD!$F$3:$H$217,3,0))) -> 0 | S7: =IF(ISNA(VLOOKUP($E7,[1]PROD!$I$3:$K$217,3,0)),0,(VLOOKUP($E7,[1]PROD!$I$3:$K$217,3,0))) -> 0 | T7: =VLOOKUP($E7,[1]PROD!$L$3:$N$217,3,0) -> #N/A | U7: =VLOOKUP($E7,[1]PROD!$O$3:$Q$217,3,0) -> #N/A | V7: =VLOOKUP($E7,[1]PROD!$R$3:$T$217,3,0) -> #N/A | W7: =(VLOOKUP($E7,'27TB Excel'!$A$3:$B$159,2,0)/1024) -> 202.30078 | X7: =IF(ISNUMBER(VLOOKUP($E7,Others!$A$2:$B$68,2,0)/1024),(VLOOKUP($E7,Others!$A$2:$B$68,2,0)/1024),0) -> 202.30078 | Y7: =IF($Q7-$W7=0,0,$Q7-$W7) -> 0 | AD7: planning
A8: PAT/PROD | B8: CMR AB Initio 1 | C8: AP | D8: Yes - Outside this BoM | E8: fdcgcgcmraa01p | F8: IBM p7 p795 | G8: AIX 6.1 | H8: LEG1 | L8: 360 | P8: =SUM(J8:L8) -> 360 | Q8: =VLOOKUP($E8,[1]PROD!$C$3:$E$217,3,0) -> 134.86719 | R8: =IF(ISNA(VLOOKUP($E8,[1]PROD!$F$3:$H$217,3,0)),0,(VLOOKUP($E8,[1]PROD!$F$3:$H$217,3,0))) -> 0 | S8: =IF(ISNA(VLOOKUP($E8,[1]PROD!$I$3:$K$217,3,0)),0,(VLOOKUP($E8,[1]PROD!$I$3:$K$217,3,0))) -> 0 | T8: =VLOOKUP($E8,[1]PROD!$L$3:$N$217,3,0) -> #N/A | U8: =VLOOKUP($E8,[1]PROD!$O$3:$Q$217,3,0) -> #N/A | V8: =VLOOKUP($E8,[1]PROD!$R$3:$T$217,3,0) -> #N/A | W8: =(VLOOKUP($E8,'27TB Excel'!$A$3:$B$159,2,0)/1024) -> 134.86719 | X8: =IF(ISNUMBER(VLOOKUP($E8,Others!$A$2:$B$68,2,0)/1024),(VLOOKUP($E8,Others!$A$2:$B$68,2,0)/1024),0) -> 0 | Y8: =IF($Q8-$W8=0,0,$Q8-$W8) -> 0 | AD8: planning
A9: PAT/PROD | B9: CMR AB Initio 2 | C9: AP | D9: Yes - Outside this BoM | E9: fdcgcgcmraa02p | F9: IBM p7 p795 | G9: AIX 6.1 | H9: LEG1 | P9: =SUM(J9:L9) -> 0 | Q9: =VLOOKUP($E9,[1]PROD!$C$3:$E$217,3,0) -> 134.86719 | R9: =IF(ISNA(VLOOKUP($E9,[1]PROD!$F$3:$H$217,3,0)),0,(VLOOKUP($E9,[1]PROD!$F$3:$H$217,3,0))) -> 0 | S9: =IF(ISNA(VLOOKUP($E9,[1]PROD!$I$3:$K$217,3,0)),0,(VLOOKUP($E9,[1]PROD!$I$3:$K$217,3,0))) -> 0 | T9: =VLOOKUP($E9,[1]PROD!$L$3:$N$217,3,0) -> #N/A | U9: =VLOOKUP($E9,[1]PROD!$O$3:$Q$217,3,0) -> #N/A | V9: =VLOOKUP($E9,[1]PROD!$R$3:$T$217,3,0) -> #N/A | W9: =(VLOOKUP($E9,'27TB Excel'!$A$3:$B$159,2,0)/1024) -> 134.86719 | X9: =IF(ISNUMBER(VLOOKUP($E9,Others!$A$2:$B$68,2,0)/1024),(VLOOKUP($E9,Others!$A$2:$B$68,2,0)/1024),0) -> 0 | Y9: =IF($Q9-$W9=0,0,$Q9-$W9) -> 0 | AD9: planning
A10: PAT/PROD | B10: ETL Engine Tier - UAE, UK IPB (Primary) | C10: AP | D10: Yes - Outside this BoM | E10: fdcgcgetlaa01p | F10: IBM p7 p780 | G10: AIX 6.1 | H10: LEG1 | I10: Confirmed - No Migration | L10: 400 | P10: =SUM(J10:L10) -> 400 | Q10: 641.67 | R10: =IF(ISNA(VLOOKUP($E10,[1]PROD!$F$3:$H$217,3,0)),0,(VLOOKUP($E10,[1]PROD!$F$3:$H$217,3,0))) -> 0 | S10: =IF(ISNA(VLOOKUP($E10,[1]PROD!$I$3:$K$217,3,0)),0,(VLOOKUP($E10,[1]PROD!$I$3:$K$217,3,0))) -> 0 | T10: =VLOOKUP($E10,[1]PROD!$L$3:$N$217,3,0) -> #N/A | U10: =VLOOKUP($E10,[1]PROD!$O$3:$Q$217,3,0) -> #N/A | V10: =VLOOKUP($E10,[1]PROD!$R$3:$T$217,3,0) -> #N/A | W10: =(VLOOKUP($E10,'27TB Excel'!$A$3:$B$159,2,0)/1024) -> 33.716797 | X10: =IF(ISNUMBER(VLOOKUP($E10,Others!$A$2:$B$68,2,0)/1024),(VLOOKUP($E10,Others!$A$2:$B$68,2,0)/1024),0) -> 33.716797 | Y10: =IF($Q10-$W10=0,0,$Q10-$W10) -> 607.9532 | AD10: planning
A11: PAT/PROD | B11: ETL Engine Tier - UAE, UK IPB (Secondary) | C11: AP | D11: Yes - Outside this BoM | E11: fdcgcgetlaa02p | F11: IBM p7 p780 | G11: AIX 6.1 | H11: LEG1 | I11: Confirmed - No Migration | Q11: =VLOOKUP($E11,[1]PROD!$C$3:$E$217,3,0) -> 33.716797 | R11: =IF(ISNA(VLOOKUP($E11,[1]PROD!$F$3:$H$217,3,0)),0,(VLOOKUP($E11,[1]PROD!$F$3:$H$217,3,0))) -> 0 | S11: =IF(ISNA(VLOOKUP($E11,[1]PROD!$I$3:$K$217,3,0)),0,(VLOOKUP($E11,[1]PROD!$I$3:$K$217,3,0))) -> 0 | T11: =VLOOKUP($E11,[1]PROD!$L$3:$N$217,3,0) -> #N/A | U11: =VLOOKUP($E11,[1]PROD!$O$3:$Q$217,3,0) -> #N/A | V11: =VLOOKUP($E11,[1]PROD!$R$3:$T$217,3,0) -> #N/A | W11: =(VLOOKUP($E11,'27TB Excel'!$A$3:$B$159,2,0)/1024) -> 33.716797 | X11: =IF(ISNUMBER(VLOOKUP($E11,Others!$A$2:$B$68,2,0)/1024),(VLOOKUP($E11,Others!$A$2:$B$68,2,0)/1024),0) -> 33.716797 | Y11: =IF($Q11-$W11=0,0,$Q11-$W11) -> 0 | AD11: planning
A12: PAT/PROD | B12: ETL Engine Tier - Hungary,Czech (Secondary) | C12: AP | D12: Yes - Outside this BoM | E12: fdcgcgetlaa03p | F12: IBM p7 p780 | G12: AIX 6.1 | H12: LEG1 | I12: Confirmed - No Migration | J12: 400 | L12: 0 | P12: =SUM(J12:L12) -> 400 | Q12: 843.97 | R12: =IF(ISNA(VLOOKUP($E12,[1]PROD!$F$3:$H$217,3,0)),0,(VLOOKUP($E12,[1]PROD!$F$3:$H$217,3,0))) -> 0 | S12: =IF(ISNA(VLOOKUP($E12,[1]PROD!$I$3:$K$217,3,0)),0,(VLOOKUP($E12,[1]PROD!$I$3:$K$217,3,0))) -> 0 | T12: =VLOOKUP($E12,[1]PROD!$L$3:$N$217,3,0) -> #N/A | U12: =VLOOKUP($E12,[1]PROD!$O$3:$Q$217,3,0) -> #N/A | V12: =VLOOKUP($E12,[1]PROD!$R$3:$T$217,3,0) -> #N/A | W12: =(VLOOKUP($E12,'27TB Excel'!$A$3:$B$159,2,0)/1024) -> 33.716797 | X12: =IF(ISNUMBER(VLOOKUP($E12,Others!$A$2:$B$68,2,0)/1024),(VLOOKUP($E12,Others!$A$2:$B$68,2,0)/1024),0) -> 33.716797 | Y12: =IF($Q12-$W12=0,0,$Q12-$W12) -> 810.2532 | AD12: planning
A13: PAT/PROD | B13: ETL Engine Tier Hungary,Czech (Primary) | C13: AP | D13: Yes - Outside this BoM | E13: fdcgcgetlaa04p | F13: IBM p7 p780 | G13: AIX 6.1 | H13: LEG1 | I13: Confirmed - No Migration | L13: 0 | Q13: =VLOOKUP($E13,[1]PROD!$C$3:$E$217,3,0) -> 33.716797 | R13: =IF(ISNA(VLOOKUP($E13,[1]PROD!$F$3:$H$217,3,0)),0,(VLOOKUP($E13,[1]PROD!$F$3:$H$217,3,0))) -> 0 | S13: =IF(ISNA(VLOOKUP($E13,[1]PROD!$I$3:$K$217,3,0)),0,(VLOOKUP($E13,[1]PROD!$I$3:$K$217,3,0))) -> 0 | T13: =VLOOKUP($E13,[1]PROD!$L$3:$N$217,3,0) -> #N/A | U13: =VLOOKUP($E13,[1]PROD!$O$3:$Q$217,3,0) -> #N/A | V13: =VLOOKUP($E13,[1]PROD!$R$3:$T$217,3,0) -> #N/A | W13: =(VLOOKUP($E13,'27TB Excel'!$A$3:$B$159,2,0)/1024) -> 33.716797 | X13: =IF(ISNUMBER(VLOOKUP($E13,Others!$A$2:$B$68,2,0)/1024),(VLOOKUP($E13,Others!$A$2:$B$68,2,0)/1024),0) -> 33.716797 | Y13: =IF($Q13-$W13=0,0,$Q13-$W13) -> 0 | AD13: planning
A14: PAT/PROD | B14: ETL Engine Tier - Poland (Seconday) | C14: AP | D14: Yes - Outside this BoM | E14: fdcgcgetlaa05p | F14: IBM p7 p780 | G14: AIX 6.1 | H14: LEG1 | I14: Confirmed - No Migration | Q14: 1316 | R14: =IF(ISNA(VLOOKUP($E14,[1]PROD!$F$3:$H$217,3,0)),0,(VLOOKUP($E14,[1]PROD!$F$3:$H$217,3,0))) -> 0 | S14: =IF(ISNA(VLOOKUP($E14,[1]PROD!$I$3:$K$217,3,0)),0,(VLOOKUP($E14,[1]PROD!$I$3:$K$217,3,0))) -> 0 | T14: =VLOOKUP($E14,[1]PROD!$L$3:$N$217,3,0) -> #N/A | U14: =VLOOKUP($E14,[1]PROD!$O$3:$Q$217,3,0) -> #N/A | V14: =VLOOKUP($E14,[1]PROD!$R$3:$T$217,3,0) -> #N/A | W14: =(VLOOKUP($E14,'27TB Excel'!$A$3:$B$159,2,0)/1024) -> 33.716797 | X14: =IF(ISNUMBER(VLOOKUP($E14,Others!$A$2:$B$68,2,0)/1024),(VLOOKUP($E14,Others!$A$2:$B$68,2,0)/1024),0) -> 33.716797 | Y14: =IF($Q14-$W14=0,0,$Q14-$W14) -> 1282.2832 | AD14: planning
A15: PAT/PROD | B15: ETL Engine Tier - Poland (Primary) | C15: AP | D15: Yes - Outside this BoM | E15: fdcgcgetlaa06p | F15: IBM p7 p780 | G15: AIX 6.1 | H15: LEG1 | I15: Confirmed - No Migration | Q15: =VLOOKUP($E15,[1]PROD!$C$3:$E$217,3,0) -> 33.716797 | R15: =IF(ISNA(VLOOKUP($E15,[1]PROD!$F$3:$H$217,3,0)),0,(VLOOKUP($E15,[1]PROD!$F$3:$H$217,3,0))) -> 0 | S15: =IF(ISNA(VLOOKUP($E15,[1]PROD!$I$3:$K$217,3,0)),0,(VLOOKUP($E15,[1]PROD!$I$3:$K$217,3,0))) -> 0 | T15: =VLOOKUP($E15,[1]PROD!$L$3:$N$217,3,0) -> #N/A | U15: =VLOOKUP($E15,[1]PROD!$O$3:$Q$217,3,0) -> #N/A | V15: =VLOOKUP($E15,[1]PROD!$R$3:$T$217,3,0) -> #N/A | W15: =(VLOOKUP($E15,'27TB Excel'!$A$3:$B$159,2,0)/1024) -> 33.716797 | X15: =IF(ISNUMBER(VLOOKUP($E15,Others!$A$2:$B$68,2,0)/1024),(VLOOKUP($E15,Others!$A$2:$B$68,2,0)/1024),0) -> 33.716797 | Y15: =IF($Q15-$W15=0,0,$Q15-$W15) -> 0 | AD15: planning
A16: PAT/PROD | B16: ETL Engine Tier - , , Czech HA -(Secondary) | C16: AP | D16: Yes - Outside this BoM | E16: fdcgcgetlaa07p | F16: IBM p7 p780 | G16: AIX 6.1 | H16: LEG1 | I16: Confirmed - No Migration | Q16: 203 | R16: =IF(ISNA(VLOOKUP($E16,[1]PROD!$F$3:$H$217,3,0)),0,(VLOOKUP($E16,[1]PROD!$F$3:$H$217,3,0))) -> 0 | S16: =IF(ISNA(VLOOKUP($E16,[1]PROD!$I$3:$K$217,3,0)),0,(VLOOKUP($E16,[1]PROD!$I$3:$K$217,3,0))) -> 0 | T16: =VLOOKUP($E16,[1]PROD!$L$3:$N$217,3,0) -> #N/A | U16: =VLOOKUP($E16,[1]PROD!$O$3:$Q$217,3,0) -> #N/A | V16: =VLOOKUP($E16,[1]PROD!$R$3:$T$217,3,0) -> #N/A | W16: =(VLOOKUP($E16,'27TB Excel'!$A$3:$B$159,2,0)/1024) -> 33.716797 | X16: =IF(ISNUMBER(VLOOKUP($E16,Others!$A$2:$B$68,2,0)/1024),(VLOOKUP($E16,Others!$A$2:$B$68,2,0)/1024),0) -> 33.716797 | Y16: =IF($Q16-$W16=0,0,$Q16-$W16) -> 169.2832 | AD16: planning
A17: PAT/PROD | B17: ETL Engine Tier - , , Czech -DEDICATED I/O | C17: AP | D17: Yes - Outside this BoM | E17: fdcgcgetlaa08p | F17: IBM p7 p780 | G17: AIX 6.1 | H17: LEG1 | I17: Confirmed - No Migration | Q17: 33.72 | R17: =IF(ISNA(VLOOKUP($E17,[1]PROD!$F$3:$H$217,3,0)),0,(VLOOKUP($E17,[1]PROD!$F$3:$H$217,3,0))) -> 0 | S17: =IF(ISNA(VLOOKUP($E17,[1]PROD!$I$3:$K$217,3,0)),0,(VLOOKUP($E17,[1]PROD!$I$3:$K$217,3,0))) -> 0 | T17: =VLOOKUP($E17,[1]PROD!$L$3:$N$217,3,0) -> #N/A | U17: =VLOOKUP($E17,[1]PROD!$O$3:$Q$217,3,0) -> #N/A | V17: =VLOOKUP($E17,[1]PROD!$R$3:$T$217,3,0) -> #N/A | W17: =(VLOOKUP($E17,'27TB Excel'!$A$3:$B$159,2,0)/1024) -> 33.716797 | X17: =IF(ISNUMBER(VLOOKUP($E17,Others!$A$2:$B$68,2,0)/1024),(VLOOKUP($E17,Others!$A$2:$B$68,2,0)/1024),0) -> 33.716797 | Y17: =IF($Q17-$W17=0,0,$Q17-$W17) -> 0.003203125 | AD17: planning
A18: PAT/PROD | B18: ETL Engine Tier Russia (Primary) | C18: AP | D18: Yes - Outside this BoM | E18: fdcgcgetlaa09p | F18: IBM p7 p780 | G18: AIX 6.1 | H18: LEG1 | I18: Confirmed - No Migration | J18: 1100 | L18: 0 | N18: 200 | P18: 1300 | Q18: 978 | R18: =IF(ISNA(VLOOKUP($E18,[1]PROD!$F$3:$H$217,3,0)),0,(VLOOKUP($E18,[1]PROD!$F$3:$H$217,3,0))) -> 0 | S18: =IF(ISNA(VLOOKUP($E18,[1]PROD!$I$3:$K$217,3,0)),0,(VLOOKUP($E18,[1]PROD!$I$3:$K$217,3,0))) -> 0 | T18: =VLOOKUP($E18,[1]PROD!$L$3:$N$217,3,0) -> #N/A | U18: =VLOOKUP($E18,[1]PROD!$O$3:$Q$217,3,0) -> #N/A | V18: =VLOOKUP($E18,[1]PROD!$R$3:$T$217,3,0) -> #N/A | W18: =(VLOOKUP($E18,'27TB Excel'!$A$3:$B$159,2,0)/1024) -> 134.86719 | X18: =IF(ISNUMBER(VLOOKUP($E18,Others!$A$2:$B$68,2,0)/1024),(VLOOKUP($E18,Others!$A$2:$B$68,2,0)/1024),0) -> 134.86719 | Y18: =IF($Q18-$W18=0,0,$Q18-$W18) -> 843.13281 | AD18: planning
A19: PAT/PROD | B19: ETL Engine Tier - Russia (Secondary) | C19: AP | D19: Yes - Outside this BoM | E19: fdcgcgetlaa10p | F19: IBM p7 p780 | G19: AIX 6.1 | H19: LEG1 | I19: Confirmed - No Migration | L19: 0 | Q19: =VLOOKUP($E19,[1]PROD!$C$3:$E$217,3,0) -> 134.86719 | R19: =IF(ISNA(VLOOKUP($E19,[1]PROD!$F$3:$H$217,3,0)),0,(VLOOKUP($E19,[1]PROD!$F$3:$H$217,3,0))) -> 0 | S19: =IF(ISNA(VLOOKUP($E19,[1]PROD!$I$3:$K$217,3,0)),0,(VLOOKUP($E19,[1]PROD!$I$3:$K$217,3,0))) -> 0 | T19: =VLOOKUP($E19,[1]PROD!$L$3:$N$217,3,0) -> #N/A | U19: =VLOOKUP($E19,[1]PROD!$O$3:$Q$217,3,0) -> #N/A | V19: =VLOOKUP($E19,[1]PROD!$R$3:$T$217,3,0) -> #N/A | W19: =(VLOOKUP($E19,'27TB Excel'!$A$3:$B$159,2,0)/1024) -> 134.86719 | X19: =IF(ISNUMBER(VLOOKUP($E19,Others!$A$2:$B$68,2,0)/1024),(VLOOKUP($E19,Others!$A$2:$B$68,2,0)/1024),0) -> 134.86719 | Y19: =IF($Q19-$W19=0,0,$Q19-$W19) -> 0
A20: PAT/PROD | B20: ETL -Service Tier Active -Active | C20: WW | D20: Yes - Outside this BoM | E20: fdcgcgetlaa15p | F20: IBM p7 p780 | G20: AIX 6.1 | H20: LEG1 | I20: Confirmed - No Migration | Q20: =VLOOKUP($E20,[1]PROD!$C$3:$E$217,3,0) -> 236.01758 | R20: =IF(ISNA(VLOOKUP($E20,[1]PROD!$F$3:$H$217,3,0)),0,(VLOOKUP($E20,[1]PROD!$F$3:$H$217,3,0))) -> 0 | S20: =IF(ISNA(VLOOKUP($E20,[1]PROD!$I$3:$K$217,3,0)),0,(VLOOKUP($E20,[1]PROD!$I$3:$K$217,3,0))) -> 0 | T20: =VLOOKUP($E20,[1]PROD!$L$3:$N$217,3,0) -> #N/A | U20: =VLOOKUP($E20,[1]PROD!$O$3:$Q$217,3,0) -> #N/A | V20: =VLOOKUP($E20,[1]PROD!$R$3:$T$217,3,0) -> #N/A | W20: =(VLOOKUP($E20,'27TB Excel'!$A$3:$B$159,2,0)/1024) -> 236.01758 | X20: =IF(ISNUMBER(VLOOKUP($E20,Others!$A$2:$B$68,2,0)/1024),(VLOOKUP($E20,Others!$A$2:$B$68,2,0)/1024),0) -> 236.01758 | Y20: =IF($Q20-$W20=0,0,$Q20-$W20) -> 0
A21: PAT/PROD | B21: ETL -Service Tier Active -Active | C21: WW | D21: Yes - Outside this BoM | E21: fdcgcgetlaa16p | F21: IBM p7 p780 | G21: AIX 6.1 | H21: LEG2 | I21: 41616 | Q21: 236.01758 | R21: =IF(ISNA(VLOOKUP($E21,[1]PROD!$F$3:$H$217,3,0)),0,(VLOOKUP($E21,[1]PROD!$F$3:$H$217,3,0))) -> 0 | S21: =IF(ISNA(VLOOKUP($E21,[1]PROD!$I$3:$K$217,3,0)),0,(VLOOKUP($E21,[1]PROD!$I$3:$K$217,3,0))) -> 0 | T21: =VLOOKUP($E21,[1]PROD!$L$3:$N$217,3,0) -> #N/A | U21: =VLOOKUP($E21,[1]PROD!$O$3:$Q$217,3,0) -> #N/A | V21: =VLOOKUP($E21,[1]PROD!$R$3:$T$217,3,0) -> #N/A | W21: =(VLOOKUP($E21,'27TB Excel'!$A$3:$B$159,2,0)/1024) -> 236.01758 | X21: =IF(ISNUMBER(VLOOKUP($E21,Others!$A$2:$B$68,2,0)/1024),(VLOOKUP($E21,Others!$A$2:$B$68,2,0)/1024),0) -> 236.01758 | Y21: =IF($Q21-$W21=0,0,$Q21-$W21) -> 0 | Z21: Host | AA21: Completed | AB21: 17695788 | AC21: 41616 | AD21: Completed | AE21: Aperture raised | AF21: 41651 | AG21: SAN to provide
A22: PAT/PROD | B22: Kana Connect/Response | C22: AP | D22: Yes - Outside this BoM | E22: fdcgcgkanaa01p | F22: IBM p7 p795 | G22: AIX 6.1 | H22: LEG1 | K22: 60 | P22: =SUM(J22:L22) -> 60 | Q22: =VLOOKUP($E22,[1]PROD!$C$3:$E$217,3,0) -> 438.31836 | R22: =IF(ISNA(VLOOKUP($E22,[1]PROD!$F$3:$H$217,3,0)),0,(VLOOKUP($E22,[1]PROD!$F$3:$H$217,3,0))) -> 0 | S22: =IF(ISNA(VLOOKUP($E22,[1]PROD!$I$3:$K$217,3,0)),0,(VLOOKUP($E22,[1]PROD!$I$3:$K$217,3,0))) -> 0 | T22: =VLOOKUP($E22,[1]PROD!$L$3:$N$217,3,0) -> #N/A | U22: =VLOOKUP($E22,[1]PROD!$O$3:$Q$217,3,0) -> #N/A | V22: =VLOOKUP($E22,[1]PROD!$R$3:$T$217,3,0) -> #N/A | W22: =(VLOOKUP($E22,'27TB Excel'!$A$3:$B$159,2,0)/1024) -> 438.31836 | X22: =IF(ISNUMBER(VLOOKUP($E22,Others!$A$2:$B$68,2,0)/1024),(VLOOKUP($E22,Others!$A$2:$B$68,2,0)/1024),0) -> 0 | Y22: =IF($Q22-$W22=0,0,$Q22-$W22) -> 0 | AC22: 41616
A23: PAT/PROD | B23: Kana Webserver - DMZ 1 | C23: WW | D23: Yes - Outside this BoM | E23: fdcgcgkanaw01p | F23: IBM p7 p795 | G23: AIX 6.1 | H23: standalone | Q23: =VLOOKUP($E23,[1]Sheet1!$A$2:$C$764,3,0) -> #N/A | R23: =IF(ISNA(VLOOKUP($E23,[1]PROD!$F$3:$H$217,3,0)),0,(VLOOKUP($E23,[1]PROD!$F$3:$H$217,3,0))) -> 0 | S23: =IF(ISNA(VLOOKUP($E23,[1]PROD!$I$3:$K$217,3,0)),0,(VLOOKUP($E23,[1]PROD!$I$3:$K$217,3,0))) -> 0 | T23: =VLOOKUP($E23,[1]PROD!$L$3:$N$217,3,0) -> #N/A | U23: =VLOOKUP($E23,[1]PROD!$O$3:$Q$217,3,0) -> #N/A | V23: =VLOOKUP($E23,[1]PROD!$R$3:$T$217,3,0) -> #N/A | W23: =(VLOOKUP($E23,'27TB Excel'!$A$3:$B$159,2,0)/1024) -> #N/A | X23: =IF(ISNUMBER(VLOOKUP($E23,Others!$A$2:$B$68,2,0)/1024),(VLOOKUP($E23,Others!$A$2:$B$68,2,0)/1024),0) -> 0 | Y23: =IF($Q23-$W23=0,0,$Q23-$W23) -> #N/A | AC23: 41616
A24: PAT/PROD | B24: Kana Webserver - DMZ 2 | C24: WW | D24: Yes - Outside this BoM | E24: fdcgcgkanaw02p | F24: IBM p7 p795 | G24: AIX 6.1 | H24: standalone | Q24: =VLOOKUP($E24,[1]Sheet1!$A$2:$C$764,3,0) -> #N/A | R24: =IF(ISNA(VLOOKUP($E24,[1]PROD!$F$3:$H$217,3,0)),0,(VLOOKUP($E24,[1]PROD!$F$3:$H$217,3,0))) -> 0 | S24: =IF(ISNA(VLOOKUP($E24,[1]PROD!$I$3:$K$217,3,0)),0,(VLOOKUP($E24,[1]PROD!$I$3:$K$217,3,0))) -> 0 | T24: =VLOOKUP($E24,[1]PROD!$L$3:$N$217,3,0) -> #N/A | U24: =VLOOKUP($E24,[1]PROD!$O$3:$Q$217,3,0) -> #N/A | V24: =VLOOKUP($E24,[1]PROD!$R$3:$T$217,3,0) -> #N/A | W24: =(VLOOKUP($E24,'27TB Excel'!$A$3:$B$159,2,0)/1024) -> #N/A | X24: =IF(ISNUMBER(VLOOKUP($E24,Others!$A$2:$B$68,2,0)/1024),(VLOOKUP($E24,Others!$A$2:$B$68,2,0)/1024),0) -> 0 | Y24: =IF($Q24-$W24=0,0,$Q24-$W24) -> #N/A | AC24: 41616
A25: PAT/PROD | B25: Kana Websphere | C25: AP | D25: Yes - Outside this BoM | E25: fdcgcgkanaw03p | F25: IBM p7 p795 | G25: AIX 6.1 | H25: LEG1 | K25: 60 | P25: =SUM(J25:L25) -> 60 | Q25: =VLOOKUP($E25,[1]Sheet1!$A$2:$C$764,3,0) -> 236.01758 | R25: =IF(ISNA(VLOOKUP($E25,[1]PROD!$F$3:$H$217,3,0)),0,(VLOOKUP($E25,[1]PROD!$F$3:$H$217,3,0))) -> 0 | S25: =IF(ISNA(VLOOKUP($E25,[1]PROD!$I$3:$K$217,3,0)),0,(VLOOKUP($E25,[1]PROD!$I$3:$K$217,3,0))) -> 0 | T25: =VLOOKUP($E25,[1]PROD!$L$3:$N$217,3,0) -> #N/A | U25: =VLOOKUP($E25,[1]PROD!$O$3:$Q$217,3,0) -> #N/A | V25: =VLOOKUP($E25,[1]PROD!$R$3:$T$217,3,0) -> #N/A | W25: =(VLOOKUP($E25,'27TB Excel'!$A$3:$B$159,2,0)/1024) -> 236.01758 | X25: =IF(ISNUMBER(VLOOKUP($E25,Others!$A$2:$B$68,2,0)/1024),(VLOOKUP($E25,Others!$A$2:$B$68,2,0)/1024),0) -> 0 | Y25: =IF($Q25-$W25=0,0,$Q25-$W25) -> 0 | AC25: 41616
A26: PAT/PROD | B26: Kana Websphere | C26: AP | D26: Yes - Outside this BoM | E26: fdcgcgkanaw04p | F26: IBM p7 p795 | G26: AIX 6.1 | H26: LEG2 | I26: 41616 | K26: 60 | P26: =SUM(J26:L26) -> 60 | Q26: 337.16797 | R26: =IF(ISNA(VLOOKUP($E26,[1]PROD!$F$3:$H$217,3,0)),0,(VLOOKUP($E26,[1]PROD!$F$3:$H$217,3,0))) -> 0 | S26: =IF(ISNA(VLOOKUP($E26,[1]PROD!$I$3:$K$217,3,0)),0,(VLOOKUP($E26,[1]PROD!$I$3:$K$217,3,0))) -> 0 | T26: =VLOOKUP($E26,[1]PROD!$L$3:$N$217,3,0) -> #N/A | U26: =VLOOKUP($E26,[1]PROD!$O$3:$Q$217,3,0) -> #N/A | V26: =VLOOKUP($E26,[1]PROD!$R$3:$T$217,3,0) -> #N/A | W26: =(VLOOKUP($E26,'27TB Excel'!$A$3:$B$159,2,0)/1024) -> 337.16797 | X26: =IF(ISNUMBER(VLOOKUP($E26,Others!$A$2:$B$68,2,0)/1024),(VLOOKUP($E26,Others!$A$2:$B$68,2,0)/1024),0) -> 337.16797 | Y26: =IF($Q26-$W26=0,0,$Q26-$W26) -> 0 | Z26: Host | AA26: Completed | AB26: 17695788 | AC26: 41616 | AD26: Completed | AE26: Aperture raised | AF26: 41651 | AG26: SAN to provide
A27: PAT/PROD | B27: DWH Portal- Active-Active | C27: WW | D27: Yes - Outside this BoM | E27: fdcgcgporaw01p | F27: IBM p7 p780 | G27: AIX 6.1 | H27: LEG1 | I27: Confirmed - No Migration | K27: 30 | L27: 0 | M27: 30 | P27: 60 | Q27: =VLOOKUP($E27,[1]PROD!$C$3:$E$217,3,0) -> 269.73438 | R27: =IF(ISNA(VLOOKUP($E27,[1]PROD!$F$3:$H$217,3,0)),0,(VLOOKUP($E27,[1]PROD!$F$3:$H$217,3,0))) -> 0 | S27: =IF(ISNA(VLOOKUP($E27,[1]PROD!$I$3:$K$217,3,0)),0,(VLOOKUP($E27,[1]PROD!$I$3:$K$217,3,0))) -> 0 | T27: =VLOOKUP($E27,[1]PROD!$L$3:$N$217,3,0) -> #N/A | U27: =VLOOKUP($E27,[1]PROD!$O$3:$Q$217,3,0) -> #N/A | V27: =VLOOKUP($E27,[1]PROD!$R$3:$T$217,3,0) -> #N/A | W27: =(VLOOKUP($E27,'27TB Excel'!$A$3:$B$159,2,0)/1024) -> 269.73438 | X27: =IF(ISNUMBER(VLOOKUP($E27,Others!$A$2:$B$68,2,0)/1024),(VLOOKUP($E27,Others!$A$2:$B$68,2,0)/1024),0) -> 269.73438 | Y27: =IF($Q27-$W27=0,0,$Q27-$W27) -> 0 | AC27: 41616
A28: PAT/PROD | B28: DWH Portal / SAS Web-Tier | C28: WW | D28: Yes - Outside this BoM | E28: fdcgcgsasaw01p | F28: IBM p7 p780 | G28: AIX 6.1 | H28: LEG2 | I28: 41616 | K28: 30 | L28: 0 | M28: 30 | P28: 60 | Q28: 438.31836 | R28: =IF(ISNA(VLOOKUP($E28,[1]PROD!$F$3:$H$217,3,0)),0,(VLOOKUP($E28,[1]PROD!$F$3:$H$217,3,0))) -> 0 | S28: =IF(ISNA(VLOOKUP($E28,[1]PROD!$I$3:$K$217,3,0)),0,(VLOOKUP($E28,[1]PROD!$I$3:$K$217,3,0))) -> 0 | T28: =VLOOKUP($E28,[1]PROD!$L$3:$N$217,3,0) -> #N/A | U28: =VLOOKUP($E28,[1]PROD!$O$3:$Q$217,3,0) -> #N/A | V28: =VLOOKUP($E28,[1]PROD!$R$3:$T$217,3,0) -> #N/A | W28: =(VLOOKUP($E28,'27TB Excel'!$A$3:$B$159,2,0)/1024) -> 438.31836 | X28: =IF(ISNUMBER(VLOOKUP($E28,Others!$A$2:$B$68,2,0)/1024),(VLOOKUP($E28,Others!$A$2:$B$68,2,0)/1024),0) -> 438.31836 | Y28: =IF($Q28-$W28=0,0,$Q28-$W28) -> 0 | Z28: Host | AA28: Completed | AB28: 17695788 | AC28: 41616 | AD28: Completed | AE28: Aperture raised | AF28: 41651 | AG28: SAN to provide
A29: PAT/PROD | B29: SAS - Meta Tier | C29: AP | D29: Yes - Outside this BoM | E29: fdcgcgsasaa02p | F29: IBM p7 p780 | G29: AIX 6.1 | H29: NR | I29: 41609 | K29: 60 | M29: 30 | P29: =SUM(J29:L29) -> 60 | Q29: 337.16797 | R29: =IF(ISNA(VLOOKUP($E29,[1]PROD!$F$3:$H$217,3,0)),0,(VLOOKUP($E29,[1]PROD!$F$3:$H$217,3,0))) -> 0 | S29: =IF(ISNA(VLOOKUP($E29,[1]PROD!$I$3:$K$217,3,0)),0,(VLOOKUP($E29,[1]PROD!$I$3:$K$217,3,0))) -> 0 | T29: =VLOOKUP($E29,[1]PROD!$L$3:$N$217,3,0) -> #N/A | U29: =VLOOKUP($E29,[1]PROD!$O$3:$Q$217,3,0) -> #N/A | V29: =VLOOKUP($E29,[1]PROD!$R$3:$T$217,3,0) -> #N/A | W29: =(VLOOKUP($E29,'27TB Excel'!$A$3:$B$159,2,0)/1024) -> 337.16797 | X29: =IF(ISNUMBER(VLOOKUP($E29,Others!$A$2:$B$68,2,0)/1024),(VLOOKUP($E29,Others!$A$2:$B$68,2,0)/1024),0) -> 337.16797 | Y29: =IF($Q29-$W29=0,0,$Q29-$W29) -> 0 | Z29: Host | AA29: Completed | AB29: 17695788 | AC29: 41616 | AD29: Completed | AE29: Aperture raised | AF29: 41651 | AG29: SAN to provide
A30: PAT/PROD | B30: SAS - Compute Tier | C30: AP | D30: Yes - Outside this BoM | E30: fdcgcgsasaa03p | F30: IBM p7 p780 | G30: AIX 6.1 | H30: NR | I30: 41609 | K30: 700 | M30: 700 | P30: 1400 | Q30: 6945.6602 | R30: =IF(ISNA(VLOOKUP($E30,[1]PROD!$F$3:$H$217,3,0)),0,(VLOOKUP($E30,[1]PROD!$F$3:$H$217,3,0))) -> 0 | S30: =IF(ISNA(VLOOKUP($E30,[1]PROD!$I$3:$K$217,3,0)),0,(VLOOKUP($E30,[1]PROD!$I$3:$K$217,3,0))) -> 0 | T30: =VLOOKUP($E30,[1]PROD!$L$3:$N$217,3,0) -> #N/A | U30: =VLOOKUP($E30,[1]PROD!$O$3:$Q$217,3,0) -> #N/A | V30: =VLOOKUP($E30,[1]PROD!$R$3:$T$217,3,0) -> #N/A | W30: =(VLOOKUP($E30,'27TB Excel'!$A$3:$B$159,2,0)/1024) -> 6945.6602 | X30: =IF(ISNUMBER(VLOOKUP($E30,Others!$A$2:$B$68,2,0)/1024),(VLOOKUP($E30,Others!$A$2:$B$68,2,0)/1024),0) -> 6945.6602 | Y30: =IF($Q30-$W30=0,0,$Q30-$W30) -> 0 | Z30: Storage | AA30: Completed | AB30: 17695788 | AC30: 41616 | AD30: Completed | AE30: Aperture raised | AF30: 41651 | AG30: SAN to provide
A31: PAT/PROD | B31: Integration Layer - Ab Initio - Node 1 | C31: AP | D31: Yes - Outside this BoM | E31: fdcgcgrilaa01p | F31: IBM p7 p795 | G31: AIX 6.1 | H31: LEG1 | L31: 100 | P31: =SUM(J31:L31) -> 100 | Q31: =VLOOKUP($E31,[1]PROD!$C$3:$E$217,3,0) -> 101.15039 | R31: =IF(ISNA(VLOOKUP($E31,[1]PROD!$F$3:$H$217,3,0)),0,(VLOOKUP($E31,[1]PROD!$F$3:$H$217,3,0))) -> 0 | S31: =IF(ISNA(VLOOKUP($E31,[1]PROD!$I$3:$K$217,3,0)),0,(VLOOKUP($E31,[1]PROD!$I$3:$K$217,3,0))) -> 0 | T31: =VLOOKUP($E31,[1]PROD!$L$3:$N$217,3,0) -> #N/A | U31: =VLOOKUP($E31,[1]PROD!$O$3:$Q$217,3,0) -> #N/A | V31: =VLOOKUP($E31,[1]PROD!$R$3:$T$217,3,0) -> #N/A | W31: =(VLOOKUP($E31,'27TB Excel'!$A$3:$B$159,2,0)/1024) -> 101.15039 | X31: =IF(ISNUMBER(VLOOKUP($E31,Others!$A$2:$B$68,2,0)/1024),(VLOOKUP($E31,Others!$A$2:$B$68,2,0)/1024),0) -> 0 | Y31: =IF($Q31-$W31=0,0,$Q31-$W31) -> 0 | AC31: SA to provide
A32: PAT/PROD | B32: Integration Layer - Ab Initio - Node 2 | C32: AP | D32: Yes - Outside this BoM | E32: fdcgcgrilaa02p | F32: IBM p7 p795 | G32: AIX 6.1 | H32: LEG1 | Q32: =VLOOKUP($E32,[1]PROD!$C$3:$E$217,3,0) -> 101.15039 | R32: =IF(ISNA(VLOOKUP($E32,[1]PROD!$F$3:$H$217,3,0)),0,(VLOOKUP($E32,[1]PROD!$F$3:$H$217,3,0))) -> 0 | S32: =IF(ISNA(VLOOKUP($E32,[1]PROD!$I$3:$K$217,3,0)),0,(VLOOKUP($E32,[1]PROD!$I$3:$K$217,3,0))) -> 0 | T32: =VLOOKUP($E32,[1]PROD!$L$3:$N$217,3,0) -> #N/A | U32: =VLOOKUP($E32,[1]PROD!$O$3:$Q$217,3,0) -> #N/A | V32: =VLOOKUP($E32,[1]PROD!$R$3:$T$217,3,0) -> #N/A | W32: =(VLOOKUP($E32,'27TB Excel'!$A$3:$B$159,2,0)/1024) -> 101.15039 | X32: =IF(ISNUMBER(VLOOKUP($E32,Others!$A$2:$B$68,2,0)/1024),(VLOOKUP($E32,Others!$A$2:$B$68,2,0)/1024),0) -> 0 | Y32: =IF($Q32-$W32=0,0,$Q32-$W32) -> 0 | AC32: SA to provide
A33: PAT/PROD | B33: Integration Layer - Websphere - Node 1 | C33: WW | D33: Yes - Outside this BoM | E33: fdcgcgrilaw01p | F33: IBM p7 p795 | G33: AIX 6.1 | H33: LEG1 | Q33: =VLOOKUP($E33,[1]PROD!$C$3:$E$217,3,0) -> 101.15039 | R33: =IF(ISNA(VLOOKUP($E33,[1]PROD!$F$3:$H$217,3,0)),0,(VLOOKUP($E33,[1]PROD!$F$3:$H$217,3,0))) -> 0 | S33: =IF(ISNA(VLOOKUP($E33,[1]PROD!$I$3:$K$217,3,0)),0,(VLOOKUP($E33,[1]PROD!$I$3:$K$217,3,0))) -> 0 | T33: =VLOOKUP($E33,[1]PROD!$L$3:$N$217,3,0) -> #N/A | U33: =VLOOKUP($E33,[1]PROD!$O$3:$Q$217,3,0) -> #N/A | V33: =VLOOKUP($E33,[1]PROD!$R$3:$T$217,3,0) -> #N/A | W33: =(VLOOKUP($E33,'27TB Excel'!$A$3:$B$159,2,0)/1024) -> 101.15039 | X33: =IF(ISNUMBER(VLOOKUP($E33,Others!$A$2:$B$68,2,0)/1024),(VLOOKUP($E33,Others!$A$2:$B$68,2,0)/1024),0) -> 0 | Y33: =IF($Q33-$W33=0,0,$Q33-$W33) -> 0 | AC33: SA to provide
A34: PROD | B34: CDE | C34: AP | D34: Yes - Outside this BoM | E34: FDCGCGCDELA02P | F34: BL460c | G34: RHEL 5.6 | H34: LEG2 | I34: 41609 | K34: 80 | M34: 60 | P34: 140 | Q34: =VLOOKUP($E34,[1]Sheet1!$A$2:$C$764,3,0) -> 269.73438 | R34: =IF(ISNA(VLOOKUP($E34,[1]PROD!$F$3:$H$217,3,0)),0,(VLOOKUP($E34,[1]PROD!$F$3:$H$217,3,0))) -> 0 | S34: =VLOOKUP($E34,[1]PROD!$I$3:$K$217,3,0) -> #N/A | T34: =VLOOKUP($E34,[1]PROD!$L$3:$N$217,3,0) -> #N/A | U34: =VLOOKUP($E34,[1]PROD!$O$3:$Q$217,3,0) -> #N/A | V34: =VLOOKUP($E34,[1]PROD!$R$3:$T$217,3,0) -> #N/A | W34: =(VLOOKUP($E34,'27TB Excel'!$A$3:$B$159,2,0)/1024) -> 269.73438 | X34: =IF(ISNUMBER(VLOOKUP($E34,Others!$A$2:$B$68,2,0)/1024),(VLOOKUP($E34,Others!$A$2:$B$68,2,0)/1024),0) -> 269.73438 | Y34: =IF($Q34-$W34,0,$Q34-$W34) -> 0 | Z34: Host | AA34: Completed | AB34: 17695788 | AC34: 41616 | AD34: Completed | AE34: Aperture raised | AF34: 41651 | AG34: SAN to provide
A35: PAT/PROD | B35: Oracle HACMP - Tibco, RMAN | C35: DB | D35: Yes - Outside this BoM | E35: fdcgcgticad01p | F35: IBM p7 p780 | G35: AIX 6.1 | H35: LEG1 | N35: 90 | P35: 90 | Q35: =VLOOKUP($E35,[1]PROD!$C$3:$E$217,3,0) -> 134.86719 | R35: =IF(ISNA(VLOOKUP($E35,[1]PROD!$F$3:$H$217,3,0)),0,(VLOOKUP($E35,[1]PROD!$F$3:$H$217,3,0))) -> 0 | S35: =IF(ISNA(VLOOKUP($E35,[1]PROD!$I$3:$K$217,3,0)),0,(VLOOKUP($E35,[1]PROD!$I$3:$K$217,3,0))) -> 0 | T35: =VLOOKUP($E35,[1]PROD!$L$3:$N$217,3,0) -> #N/A | U35: =VLOOKUP($E35,[1]PROD!$O$3:$Q$217,3,0) -> #N/A | V35: =VLOOKUP($E35,[1]PROD!$R$3:$T$217,3,0) -> #N/A | W35: =(VLOOKUP($E35,'27TB Excel'!$A$3:$B$159,2,0)/1024) -> #N/A | X35: =IF(ISNUMBER(VLOOKUP($E35,Others!$A$2:$B$68,2,0)/1024),(VLOOKUP($E35,Others!$A$2:$B$68,2,0)/1024),0) -> 0 | Y35: =IF($Q35-$W35=0,0,$Q35-$W35) -> #N/A | AC35: SA to provide
A36: PAT/PROD | B36: Oracle HACMP - Tibco, RMAN | C36: DB | D36: Yes - Outside this BoM | E36: fdcgcgticad02p | F36: IBM p7 p780 | G36: AIX 6.1 | H36: LEG1 | P36: =SUM(J36:L36) -> 0 | Q36: =VLOOKUP($E36,[1]PROD!$C$3:$E$217,3,0) -> 134.86719 | R36: =IF(ISNA(VLOOKUP($E36,[1]PROD!$F$3:$H$217,3,0)),0,(VLOOKUP($E36,[1]PROD!$F$3:$H$217,3,0))) -> 0 | S36: =IF(ISNA(VLOOKUP($E36,[1]PROD!$I$3:$K$217,3,0)),0,(VLOOKUP($E36,[1]PROD!$I$3:$K$217,3,0))) -> 0 | T36: =VLOOKUP($E36,[1]PROD!$L$3:$N$217,3,0) -> #N/A | U36: =VLOOKUP($E36,[1]PROD!$O$3:$Q$217,3,0) -> #N/A | V36: =VLOOKUP($E36,[1]PROD!$R$3:$T$217,3,0) -> #N/A | W36: =(VLOOKUP($E36,'27TB Excel'!$A$3:$B$159,2,0)/1024) -> #N/A | X36: =IF(ISNUMBER(VLOOKUP($E36,Others!$A$2:$B$68,2,0)/1024),(VLOOKUP($E36,Others!$A$2:$B$68,2,0)/1024),0) -> 0 | Y36: =IF($Q36-$W36=0,0,$Q36-$W36) -> #N/A | AC36: SA to provide
A37: PROD | B37: Dataguard- Oracle RAC-ESB, MemFis, WPS | C37: DB | D37: Yes - Outside this BoM | E37: fdcgcgdtgad14p | F37: IBM p7 p795 | G37: AIX 6.1 | H37: LEG2 | I37: Completed | K37: 630 | M37: 300 | O37: 90 | P37: 1020 | Q37: 1756.46 | R37: =IF(ISNA(VLOOKUP($E37,[1]PROD!$F$3:$H$217,3,0)),0,(VLOOKUP($E37,[1]PROD!$F$3:$H$217,3,0))) -> 0 | S37: =IF(ISNA(VLOOKUP($E37,[1]PROD!$I$3:$K$217,3,0)),0,(VLOOKUP($E37,[1]PROD!$I$3:$K$217,3,0))) -> 1753.2734 | T37: =VLOOKUP($E37,[1]PROD!$L$3:$N$217,3,0) -> #N/A | U37: =VLOOKUP($E37,[1]PROD!$O$3:$Q$217,3,0) -> 3.1582031 | V37: =VLOOKUP($E37,[1]PROD!$R$3:$T$217,3,0) -> #N/A | W37: =(VLOOKUP($E37,'27TB Excel'!$A$3:$B$159,2,0)/1024) -> #N/A | X37: =IF(ISNUMBER(VLOOKUP($E37,Others!$A$2:$B$68,2,0)/1024),(VLOOKUP($E37,Others!$A$2:$B$68,2,0)/1024),0) -> 0 | Y37: =IF($Q37-$W37=0,0,$Q37-$W37) -> #N/A | AC37: SA to provide
A38: PROD | B38: Dataguard- Oracle RAC- Kana, WPS-Leg2 | C38: DB | D38: Yes - Outside this BoM | E38: fdcgcgdtgad16p | F38: IBM p7 p795 | G38: AIX 6.1 | H38: LEG2 | I38: Completed | K38: 240 | M38: 150 | P38: 390 | Q38: =VLOOKUP($E38,[1]PROD!$I$3:$K$217,3,0) -> 977.78711 | R38: =IF(ISNA(VLOOKUP($E38,[1]PROD!$F$3:$H$217,3,0)),0,(VLOOKUP($E38,[1]PROD!$F$3:$H$217,3,0))) -> 0 | S38: =IF(ISNA(VLOOKUP($E38,[1]PROD!$I$3:$K$217,3,0)),0,(VLOOKUP($E38,[1]PROD!$I$3:$K$217,3,0))) -> 977.78711 | T38: =VLOOKUP($E38,[1]PROD!$L$3:$N$217,3,0) -> #N/A | U38: =VLOOKUP($E38,[1]PROD!$O$3:$Q$217,3,0) -> 3.1582031 | V38: =VLOOKUP($E38,[1]PROD!$R$3:$T$217,3,0) -> #N/A | W38: =(VLOOKUP($E38,'27TB Excel'!$A$3:$B$159,2,0)/1024) -> #N/A | X38: =IF(ISNUMBER(VLOOKUP($E38,Others!$A$2:$B$68,2,0)/1024),(VLOOKUP($E38,Others!$A$2:$B$68,2,0)/1024),0) -> 0 | Y38: =IF($Q38-$W38=0,0,$Q38-$W38) -> #N/A | AC38: SA to provide
A39: PROD | B39: Dataguard- Oracle RAC-iProcess -Node | C39: DB | D39: Yes - Outside this BoM | E39: fdcgcgdtgad18p | F39: IBM p7 p795 | G39: AIX 6.1 | H39: LEG2 | I39: Completed | K39: 730 | M39: 300 | O39: 400 | P39: 1430 | Q39: =VLOOKUP($E39,[1]PROD!$I$3:$K$217,3,0) -> 1382.3887 | R39: =IF(ISNA(VLOOKUP($E39,[1]PROD!$F$3:$H$217,3,0)),0,(VLOOKUP($E39,[1]PROD!$F$3:$H$217,3,0))) -> 0 | S39: =IF(ISNA(VLOOKUP($E39,[1]PROD!$I$3:$K$217,3,0)),0,(VLOOKUP($E39,[1]PROD!$I$3:$K$217,3,0))) -> 1382.3887 | T39: =VLOOKUP($E39,[1]PROD!$L$3:$N$217,3,0) -> #N/A | U39: =VLOOKUP($E39,[1]PROD!$O$3:$Q$217,3,0) -> #N/A | V39: =VLOOKUP($E39,[1]PROD!$R$3:$T$217,3,0) -> #N/A | W39: =(VLOOKUP($E39,'27TB Excel'!$A$3:$B$159,2,0)/1024) -> 3.1582031 | X39: =IF(ISNUMBER(VLOOKUP($E39,Others!$A$2:$B$68,2,0)/1024),(VLOOKUP($E39,Others!$A$2:$B$68,2,0)/1024),0) -> 3.1582031 | Y39: =IF($Q39-$W39=0,0,$Q39-$W39) -> 1379.2305 | AC39: SA to provide
A40: PROD | B40: Dataguard- Oracle RAC-Ci/SAO , Integration Layer | C40: DB | D40: Yes - Outside this BoM | E40: fdcgcgdtgad20p | F40: IBM p7 p795 | G40: AIX 6.1 | H40: LEG2 | I40: Completed | K40: 930 | M40: 400 | P40: 1330 | Q40: =VLOOKUP($E40,[1]PROD!$I$3:$K$217,3,0) -> 1921.8574 | R40: =IF(ISNA(VLOOKUP($E40,[1]PROD!$F$3:$H$217,3,0)),0,(VLOOKUP($E40,[1]PROD!$F$3:$H$217,3,0))) -> 0 | S40: =IF(ISNA(VLOOKUP($E40,[1]PROD!$I$3:$K$217,3,0)),0,(VLOOKUP($E40,[1]PROD!$I$3:$K$217,3,0))) -> 1921.8574 | T40: =VLOOKUP($E40,[1]PROD!$L$3:$N$217,3,0) -> #N/A | U40: =VLOOKUP($E40,[1]PROD!$O$3:$Q$217,3,0) -> #N/A | V40: =VLOOKUP($E40,[1]PROD!$R$3:$T$217,3,0) -> #N/A | W40: =(VLOOKUP($E40,'27TB Excel'!$A$3:$B$159,2,0)/1024) -> 3.1582031 | X40: =IF(ISNUMBER(VLOOKUP($E40,Others!$A$2:$B$68,2,0)/1024),(VLOOKUP($E40,Others!$A$2:$B$68,2,0)/1024),0) -> 3.1582031 | Y40: =IF($Q40-$W40=0,0,$Q40-$W40) -> 1918.6992 | AC40: SA to provide
...

Sheet 27TB Excel
A2: Hostname | B2: Size | C2: Remarks | D2: CSI ID | E2: App name | F2: Acronym | G2: App Mgr | H2: App Mgr SOEID | I2: App Architect | J2: Business Criticality
A3: fdcgcgboxaa01p | B3: 207156 | C3: Either on leg1/leg2/-. Means can be moved to leg-2 | D3: 163454 | E3: Data Warehouse - EMEA | F3: DWH | G3: Balamurugan, Pitchai | H3: BP41588 | I3: Stepien, Renata | J3: LOW
A4: fdcgcgboxaa01p_2p | B4: 379786 | C4: Either on leg1/leg2/-. Means can be moved to leg-2 | D4: 163454 | E4: Data Warehouse - EMEA | F4: DWH | G4: Balamurugan, Pitchai | H4: BP41588 | I4: Stepien, Renata | J4: LOW
A5: fdcgcgboxaa02p | B5: 207156 | C5: Either on leg1/leg2/-. Means can be moved to leg-2 | D5: 163454 | E5: Data Warehouse - EMEA | F5: DWH | G5: Balamurugan, Pitchai | H5: BP41588 | I5: Stepien, Renata | J5: LOW
A6: fdcgcgcdela01p | B6: 276208 | C6: Leg1
A7: fdcgcgcdela02p | B7: 276208 | C7: Leg2 | D7: 164693, 164509 | E7: Collateral and Limit Management System - CEEMEA | F7: CLMS | G7: Krishnan, Venkata | H7: KV49666 | I7: Ramesh Babu, Munuswamy Rajendran (MR88872) | J7: MEDIUM
A8: fdcgcgclmla01p | B8: 414312 | C8: Leg1
A9: fdcgcgclmla02p | B9: 414312 | C9: Leg2 | D9: 164693, 164509 | E9: EL, CLMS
A10: fdcgcgcmraa01p | B10: 138104 | C10: Leg1
A11: fdcgcgcmraa01p_2p | B11: 1108066 | C11: Leg1
A12: fdcgcgcmraa02p | B12: 138104 | C12: Leg1
A13: fdcgcgcmrla01p | B13: 207156 | C13: Leg1
A14: fdcgcgcmrla02p | B14: 207156 | C14: Leg2 | D14: 163477, 164509 | E14: CMR, CLMS
A15: fdcgcgcmrla03p | B15: 621468 | C15: Leg1
A16: fdcgcgcmrla04p | B16: 1173884 | C16: Leg2 | D16: 163477 | E16: Customer Management Repository - EMEA | F16: CMR | G16: Kadalmangalam Ramanujachari, Ramaswamy | H16: KR42319 | I16: Counce, David | J16: LOW
A17: fdcgcgdtgad18p | B17: 3234 | C17: Leg2 | D17: 163454 | E17: Data Warehouse - EMEA | F17: DWH | G17: Balamurugan, Pitchai | H17: BP41588 | I17: Stepien, Renata | J17: LOW
A18: fdcgcgdtgad20p | B18: 3234 | C18: Leg2 | D18: 163454 | E18: Data Warehouse - EMEA | F18: DWH | G18: Balamurugan, Pitchai | H18: BP41588 | I18: Stepien, Renata | J18: LOW
A19: fdcgcgdtgad28p | B19: 3234 | C19: Leg2 | D19: 163454 | E19: Data Warehouse - EMEA | F19: DWH | G19: Balamurugan, Pitchai | H19: BP41588 | I19: Stepien, Renata | J19: LOW
A20: fdcgcgdtgad30p | B20: 3234 | C20: Leg2 | D20: 163124 | E20: Centralized Offer Palette - EMEA | F20: COP | G20: Ramakrishna, Acharya Rohitashwa | H20: AR98725 | I20: Stepien, Renata | J20: MEDIUM
A21: fdcgcgeclla01p | B21: 276208 | C21: Leg1
A22: fdcgcgeclla02p | B22: 276208 | C22: Leg2 | D22: 165601 | E22: Advanced Fraud Early Warning Services - Ceemea | F22: AFEWS | G22: Premchander, Mukund | H22: MP64983 | I22: Stepien, Renata | J22: HIGH
A23: fdcgcgeclla03p | B23: 276208 | C23: Leg1
A24: fdcgcgeclla04p | B24: 276208 | C24: Leg2 | D24: 165601, 164693 | E24: AFEWS, EL
A25: fdcgcgeclla05p | B25: 207156 | C25: Leg1
A26: fdcgcgeclla06p | B26: 207156 | C26: Leg2 | D26: 164693 | E26: Eclipse - Hugary, Poland, IPB | F26: EL | G26: Ling, Weibing | H26: WL25461 | I26: Stepien, Renata | J26: HIGH
A27: fdcgcgeclla07p | B27: 276208 | C27: Leg1
A28: fdcgcgeclla08p | B28: 276208 | C28: Leg2 | D28: 164693 158762 165282 165303 165304 | E28: EL Advanced Computer Assisted Collection - UAE MEMFIS - Investments MF - UAE MEMFIS-Insurance Product Processor - Hungary, Poland, UAE | F28: EL ACACS - Intranet MEMFIS - Inv MEMFIS - IPP | G28: Guirey, Alvin Raynatus Raval Tan, Victor Chee Wee Thangamani, Muthurajan | H28: AG59468 VT59418 MT26567 | I28: Stepien, Renata Stepien, Renata Stepien, Renata | J28: HIGH HIGH
A29: fdcgcgeclla09p | B29: 241682 | C29: leg1
A30: fdcgcgeclla10p | B30: 241682 | C30: Leg2 | D30: 164693 | E30: Eclipse - Hugary, Poland, IPB | F30: EL | G30: Ling, Weibing | H30: WL25461 | I30: Stepien, Renata | J30: HIGH
A31: fdcgcgeclla16p | B31: 207156 | C31: Leg2 | D31: Not in Aperture
A32: fdcgcgeclla64_74p | B32: 313968 | C32: Leg1
A33: fdcgcgeclla64p | B33: 379786 | C33: Leg1
A34: fdcgcgeclla74p | B34: 310734 | C34: Leg1
A35: fdcgcgecllw01p | B35: 241682 | C35: Need to check rainbow server or not
A36: fdcgcgecllw03p | B36: 276208 | C36: Need to check rainbow server or not
A37: fdcgcgecllw05p | B37: 207156 | C37: Leg1
A38: fdcgcgecllw06p | B38: 241682 | C38: Leg2 | D38: 161468,162618 | E38: Eclipse - Russia ASPAC SCPIER | F38: Eclipse - Russia ASPAC SCPIER | G38: Kallam, Vamsi Mohan Gudimella, Udaya Kumar | H38: KV00223 UG72318 | I38: Stepien, Renata | J38: HIGH LOW
A39: fdcgcgecllw07p | B39: 241682 | C39: Leg1
A40: fdcgcgecllw08p | B40: 241682 | C40: Leg2 | D40: 161468,162618 | E40: Eclipse - Russia ASPAC SCPIER | F40: Eclipse - Russia ASPAC SCPIER | G40: Kallam, Vamsi Mohan Gudimella, Udaya Kumar | H40: KV00223 UG72318 | I40: Stepien, Renata | J40: HIGH LOW
A41: fdcgcgecllw12p | B41: 207156 | C41: Leg1
...

Sheet Others
A1: Hostname | B1: Size | C1: Storage Info. Tally
A2: fdcgcgboxaa01p | B2: 207156 | C2: =MATCH($A2,'Rainbow Server Info. Leg1-Leg2 '!E$1:E$174,0) -> 6
A3: fdcgcgboxaa01p_2p | B3: 379786 | C3: =MATCH($A3,'Rainbow Server Info. Leg1-Leg2 '!E$1:E$174,0) -> #N/A
A4: fdcgcgboxaa02p | B4: 207156 | C4: =MATCH($A4,'Rainbow Server Info. Leg1-Leg2 '!E$1:E$174,0) -> 7
A5: fdcgcgcdela02p | B5: 276208 | C5: =MATCH($A5,'Rainbow Server Info. Leg1-Leg2 '!E$1:E$174,0) -> 34
A6: fdcgcgclmla02p | B6: 414312 | C6: =MATCH($A6,'Rainbow Server Info. Leg1-Leg2 '!E$1:E$174,0) -> 101
A7: fdcgcgcmrla02p | B7: 207156 | C7: =MATCH($A7,'Rainbow Server Info. Leg1-Leg2 '!E$1:E$174,0) -> 109
A8: fdcgcgcmrla04p | B8: 1173884 | C8: =MATCH($A8,'Rainbow Server Info. Leg1-Leg2 '!E$1:E$174,0) -> 73
A9: fdcgcgdtgad18p | B9: 3234 | C9: =MATCH($A9,'Rainbow Server Info. Leg1-Leg2 '!E$1:E$174,0) -> 39
A10: fdcgcgdtgad20p | B10: 3234 | C10: =MATCH($A10,'Rainbow Server Info. Leg1-Leg2 '!E$1:E$174,0) -> 40
A11: fdcgcgdtgad28p | B11: 3234 | C11: =MATCH($A11,'Rainbow Server Info. Leg1-Leg2 '!E$1:E$174,0) -> 44
A12: fdcgcgdtgad30p | B12: 3234 | C12: =MATCH($A12,'Rainbow Server Info. Leg1-Leg2 '!E$1:E$174,0) -> 45
A13: fdcgcgeclla02p | B13: 276208 | C13: =MATCH($A13,'Rainbow Server Info. Leg1-Leg2 '!E$1:E$174,0) -> 103
... A68: fdcgcgtibla91p | B68: 517890 | C68: =MATCH($A68,'Rainbow Server Info. Leg1-Leg2 '!E$1:E$174,0) -> 168
B69: =SUM(B2:B68) -> 27130938
