Workbook
Name _2804_rdf: rdf!$A$1:$R$3614
Name _2804_sg: SG!$A$1:$M$4741
Name _2804_symdevlist: symdev!$A$2:$J$5627
Name _2804_thinpool: pool!$A$1:$N$4322
Name _2804_view: view!$A$1:$I$200

Sheet view
A1: Masking View | B1: IG | C1: PG | D1: SG | E1: Allocated (MB) | F1: Used (MB) | G1: Unused (MB) | H1: % Used | I1: Comments
A2: fdcctiffnaa21p | B2: fdcctiffnaa21p | C2: 2804_05F0_12F0 | D2: fdcctiffnaa21p | E2: =SUMIF(SG!B:B,D2,SG!G:G) -> 138104 | F2: =SUMIF(SG!B:B,D2,SG!H:H) -> 86171 | G2: =E2-F2 -> 51933 | H2: =F2/E2 -> 0.62395731
A3: fdcctiffnaa22p | B3: fdcctiffnaa22p | C3: 2804_05F0_12F0 | D3: fdcctiffnaa22p | E3: =SUMIF(SG!B:B,D3,SG!G:G) -> 103578 | F3: =SUMIF(SG!B:B,D3,SG!H:H) -> 15847 | G3: =E3-F3 -> 87731 | H3: =F3/E3 -> 0.15299581
A4: fdcctiffnaa31p | B4: fdcctiffnaa31p | C4: 2804_07E1_10E1 | D4: fdcctiffnaa31p | E4: =SUMIF(SG!B:B,D4,SG!G:G) -> 138104 | F4: =SUMIF(SG!B:B,D4,SG!H:H) -> 73353 | G4: =E4-F4 -> 64751 | H4: =F4/E4 -> 0.5311432
A5: fdcctiffnaa32p | B5: fdcctiffnaa32p | C5: 2804_07E1_10E1 | D5: fdcctiffnaa32p | E5: =SUMIF(SG!B:B,D5,SG!G:G) -> 103578 | F5: =SUMIF(SG!B:B,D5,SG!H:H) -> 15577 | G5: =E5-F5 -> 88001 | H5: =F5/E5 -> 0.15038908
A6: fdcctiffnwd21p_31p | B6: fdcctiffnwd21p_31p | C6: 2804_06E1_11E1 | D6: fdcctiffnwd21p_31p | E6: =SUMIF(SG!B:B,D6,SG!G:G) -> 2453521 | F6: =SUMIF(SG!B:B,D6,SG!H:H) -> 1985530 | G6: =E6-F6 -> 467991 | H6: =F6/E6 -> 0.80925739
A7: fdcctitwsaa01p | B7: fdcctitwsaa01p | C7: 2804_07G1_10G1 | D7: fdcctitwsaa01p | E7: =SUMIF(SG!B:B,D7,SG!G:G) -> 103578 | F7: =SUMIF(SG!B:B,D7,SG!H:H) -> 47742 | G7: =E7-F7 -> 55836 | H7: =F7/E7 -> 0.460928
A8: fdcctitwsaa01p_02p | B8: fdcctitwsaa01p_02p | C8: 2804_07G1_10G1 | D8: fdcctitwsaa01p_02p | E8: =SUMIF(SG!B:B,D8,SG!G:G) -> 140260 | F8: =SUMIF(SG!B:B,D8,SG!H:H) -> 40391 | G8: =E8-F8 -> 99869 | H8: =F8/E8 -> 0.28797234
A9: fdcctitwsaa02p | B9: fdcctitwsaa02p | C9: 2804_07G1_10G1 | D9: fdcctitwsaa02p | E9: =SUMIF(SG!B:B,D9,SG!G:G) -> 103578 | F9: =SUMIF(SG!B:B,D9,SG!H:H) -> 29849 | G9: =E9-F9 -> 73729 | H9: =F9/E9 -> 0.28817896
A10: fdcgcgacsaa01p | B10: fdcgcgacsaa01p | C10: 2804_07G0_10G0 | D10: fdcgcgacsaa01p | E10: =SUMIF(SG!B:B,D10,SG!G:G) -> 310734 | F10: =SUMIF(SG!B:B,D10,SG!H:H) -> 99120 | G10: =E10-F10 -> 211614 | H10: =F10/E10 -> 0.31898666
A11: fdcgcgacsaa02p | B11: fdcgcgacsaa02p | C11: 2804_07G0_10G0 | D11: fdcgcgacsaa02p | E11: =SUMIF(SG!B:B,D11,SG!G:G) -> 207156 | F11: =SUMIF(SG!B:B,D11,SG!H:H) -> 100405 | G11: =E11-F11 -> 106751 | H11: =F11/E11 -> 0.48468304
A12: fdcgcgacsaw01p | B12: fdcgcgacsaw01p | C12: 2804_07G0_10G0 | D12: fdcgcgacsaw01p | E12: =SUMIF(SG!B:B,D12,SG!G:G) -> 207156 | F12: =SUMIF(SG!B:B,D12,SG!H:H) -> 29415 | G12: =E12-F12 -> 177741 | H12: =F12/E12 -> 0.14199444
A13: fdcgcgacsaw02p | B13: fdcgcgacsaw02p | C13: 2804_07G0_10G0 | D13: fdcgcgacsaw02p | E13: =SUMIF(SG!B:B,D13,SG!G:G) -> 138104 | F13: =SUMIF(SG!B:B,D13,SG!H:H) -> 16996 | G13: =E13-F13 -> 121108 | H13: =F13/E13 -> 0.12306667
... A17: fdcgcgamlaa01p | B17: fdcgcgamlaa01p | C17: 2804_07G0_10G0 | D17: fdcgcgamlaa01p | E17: =SUMIF(SG!B:B,D17,SG!G:G) -> 932202 | F17: =SUMIF(SG!B:B,D17,SG!H:H) -> 793470 | G17: =E17-F17 -> 138732 | H17: =F17/E17 -> 0.85117818
A18: fdcgcgamlad01p | B18: fdcgcgamlad01p | C18: 2804_06G1_11G1 | D18: fdcgcgamlad01p | E18: =SUMIF(SG!B:B,D18,SG!G:G) -> 3590704 | F18: =SUMIF(SG!B:B,D18,SG!H:H) -> 2190902 | G18: =E18-F18 -> 1399802 | H18: =F18/E18 -> 0.61015946 | I18: 0443:0446 shared with fdcgcgcmrla04p
A19: fdcgcgblzaa01p | B19: fdcgcgblzaa01p | C19: 2804_07G0_10G0 | D19: fdcgcgblzaa01p | E19: =SUMIF(SG!B:B,D19,SG!G:G) -> 241682 | F19: =SUMIF(SG!B:B,D19,SG!H:H) -> 87929 | G19: =E19-F19 -> 153753 | H19: =F19/E19 -> 0.36382105
A20: fdcgcgboxaa01p | B20: fdcgcgboxaa01p | C20: 2804_08E1_09E1 | D20: fdcgcgboxaa01p | E20: =SUMIF(SG!B:B,D20,SG!G:G) -> 207156 | F20: =SUMIF(SG!B:B,D20,SG!H:H) -> 101163 | G20: =E20-F20 -> 105993 | H20: =F20/E20 -> 0.48834212
A21: fdcgcgboxaa01p_2p | B21: fdcgcgboxaa01p_2p | C21: 2804_08E1_09E1 | D21: fdcgcgboxaa01p_2p | E21: =SUMIF(SG!B:B,D21,SG!G:G) -> 379786 | F21: =SUMIF(SG!B:B,D21,SG!H:H) -> 172000 | G21: =E21-F21 -> 207786 | H21: =F21/E21 -> 0.45288663
A22: fdcgcgboxaa02p | B22: fdcgcgboxaa02p | C22: 2804_08E1_09E1 | D22: fdcgcgboxaa02p | E22: =SUMIF(SG!B:B,D22,SG!G:G) -> 207156 | F22: =SUMIF(SG!B:B,D22,SG!H:H) -> 89076 | G22: =E22-F22 -> 118080 | H22: =F22/E22 -> 0.42999479
A23: fdcgcgcdela01p | B23: fdcgcgcdela01p | C23: 2804_06E1_11E1 | D23: fdcgcgcdela01p | E23: =SUMIF(SG!B:B,D23,SG!G:G) -> 276208 | F23: =SUMIF(SG!B:B,D23,SG!H:H) -> 121804 | G23: =E23-F23 -> 154404 | H23: =F23/E23 -> 0.4409865
A24: fdcgcgclmla01p | B24: fdcgcgclmla01p | C24: 2804_06E1_11E1 | D24: fdcgcgclmla01p | E24: =SUMIF(SG!B:B,D24,SG!G:G) -> 414312 | F24: =SUMIF(SG!B:B,D24,SG!H:H) -> 160322 | G24: =E24-F24 -> 253990 | H24: =F24/E24 -> 0.38695959
A25: fdcgcgcmraa01p | B25: fdcgcgcmraa01p | C25: 2804_05G0_12G0 | D25: fdcgcgcmraa01p | E25: =SUMIF(SG!B:B,D25,SG!G:G) -> 138104 | F25: =SUMIF(SG!B:B,D25,SG!H:H) -> 42975 | G25: =E25-F25 -> 95129 | H25: =F25/E25 -> 0.31117853
A26: fdcgcgcmraa01p_2p | B26: fdcgcgcmraa01p_2p | C26: 2804_05G0_12G0 | D26: fdcgcgcmraa01p_2p | E26: =SUMIF(SG!B:B,D26,SG!G:G) -> 1108066 | F26: =SUMIF(SG!B:B,D26,SG!H:H) -> 834199 | G26: =E26-F26 -> 273867 | H26: =F26/E26 -> 0.75284234
A27: fdcgcgcmraa02p | B27: fdcgcgcmraa02p | C27: 2804_05G0_12G0 | D27: fdcgcgcmraa02p | E27: =SUMIF(SG!B:B,D27,SG!G:G) -> 138104 | F27: =SUMIF(SG!B:B,D27,SG!H:H) -> 40395 | G27: =E27-F27 -> 97709 | H27: =F27/E27 -> 0.29249696
A28: fdcgcgcmrla01p | B28: fdcgcgcmrla01p | C28: 2804_05E1_12E1 | D28: fdcgcgcmrla01p | E28: =SUMIF(SG!B:B,D28,SG!G:G) -> 207156 | F28: =SUMIF(SG!B:B,D28,SG!H:H) -> 66859 | G28: =E28-F28 -> 140297 | H28: =F28/E28 -> 0.32274711
A29: fdcgcgcmrla03p | B29: fdcgcgcmrla03p | C29: 2804_06G0_11G0 | D29: fdcgcgcmrla03p | E29: =SUMIF(SG!B:B,D29,SG!G:G) -> 621468 | F29: =SUMIF(SG!B:B,D29,SG!H:H) -> 98816 | G29: =E29-F29 -> 522652 | H29: =F29/E29 -> 0.15900416 | I29: 0447:0452 shared with fdcgcgcmrla04p
A30: fdcgcgcmrla04p | B30: fdcgcgcmrla04p | C30: 2804_06E1_11E1 | D30: fdcgcgcmrla04p | E30: =SUMIF(SG!B:B,D30,SG!G:G) -> 1173884 | F30: =SUMIF(SG!B:B,D30,SG!H:H) -> 101602 | G30: =E30-F30 -> 1072282 | H30: =F30/E30 -> 0.086551993 | I30: 0443:0446 shared with fdcgcgamlad01p, 0447:0452 shared with fdcgcgcmrla03p
A31: fdcgcgcpldbc01p | B31: fdcgcgcpldbc01p | C31: 2804_07G0_10G0 | D31: fdcgcgcpldbc01p | E31: =SUMIF(SG!B:B,D31,SG!G:G) -> 552416 | F31: =SUMIF(SG!B:B,D31,SG!H:H) -> 89469 | G31: =E31-F31 -> 462947 | H31: =F31/E31 -> 0.16195947
A32: fdcgcgcpldbc01p_2p | B32: fdcgcgcpldbc01p_2p | C32: 2804_07G0_10G0 | D32: fdcgcgcpldbc01p_2p | E32: =SUMIF(SG!B:B,D32,SG!G:G) -> 1732768 | F32: =SUMIF(SG!B:B,D32,SG!H:H) -> 921006 | G32: =E32-F32 -> 811762 | H32: =F32/E32 -> 0.53152297
A33: fdcgcgcpldbc02p | B33: fdcgcgcpldbc02p | C33: 2804_07G0_10G0 | D33: fdcgcgcpldbc02p | E33: =SUMIF(SG!B:B,D33,SG!G:G) -> 1657248 | F33: =SUMIF(SG!B:B,D33,SG!H:H) -> 545577 | G33: =E33-F33 -> 1111671 | H33: =F33/E33 -> 0.32920661
A34: fdcgcgdbcad01p | B34: fdcgcgdbcad01p | C34: 2804_07G0_10G0 | D34: fdcgcgdbcad01p | E34: =SUMIF(SG!B:B,D34,SG!G:G) -> 172630 | F34: =SUMIF(SG!B:B,D34,SG!H:H) -> 35890 | G34: =E34-F34 -> 136740 | H34: =F34/E34 -> 0.20790129
A35: fdcgcgdbcad01p_2p | B35: fdcgcgdbcad01p_2p | C35: 2804_07G0_10G0 | D35: fdcgcgdbcad01p_2p | E35: =SUMIF(SG!B:B,D35,SG!G:G) -> 70130 | F35: =SUMIF(SG!B:B,D35,SG!H:H) -> 56847 | G35: =E35-F35 -> 13283 | H35: =F35/E35 -> 0.81059461
A36: fdcgcgdbcad02p | B36: fdcgcgdbcad02p | C36: 2804_07G0_10G0 | D36: fdcgcgdbcad02p | E36: =SUMIF(SG!B:B,D36,SG!G:G) -> 172630 | F36: =SUMIF(SG!B:B,D36,SG!H:H) -> 44171 | G36: =E36-F36 -> 128459 | H36: =F36/E36 -> 0.25587094
A37: fdcgcgdbcsd01p | B37: fdcgcgdbcsd01p | C37: 2804_06F0_11F0 | D37: fdcgcgdbcsd01p | E37: =SUMIF(SG!B:B,D37,SG!G:G) -> 69052 | F37: =SUMIF(SG!B:B,D37,SG!H:H) -> 30532 | G37: =E37-F37 -> 38520 | H37: =F37/E37 -> 0.44215953
A38: fdcgcgdbcsd01p_02p | B38: fdcgcgdbcsd01p_02p | C38: 2804_06F0_11F0 | D38: fdcgcgdbcsd01p_02p | E38: =SUMIF(SG!B:B,D38,SG!G:G) -> 932202 | F38: =SUMIF(SG!B:B,D38,SG!H:H) -> 864743 | G38: =E38-F38 -> 67459 | H38: =F38/E38 -> 0.92763478
A39: fdcgcgdbcsd02p | B39: fdcgcgdbcsd02p | C39: 2804_06F0_11F0 | D39: fdcgcgdbcsd02p | E39: =SUMIF(SG!B:B,D39,SG!G:G) -> 69052 | F39: =SUMIF(SG!B:B,D39,SG!H:H) -> 29701 | G39: =E39-F39 -> 39351 | H39: =F39/E39 -> 0.43012512
A40: fdcgcgdtgad18p | B40: fdcgcgdtgad18p | C40: 2804_05G1_12G1 | D40: fdcgcgdtgad18p | E40: =SUMIF(SG!B:B,D40,SG!G:G) -> 3234 | F40: =SUMIF(SG!B:B,D40,SG!H:H) -> 603 | G40: =E40-F40 -> 2631 | H40: =F40/E40 -> 0.1864564
A41: fdcgcgdtgad20p | B41: fdcgcgdtgad20p | C41: 2804_05G1_12G1 | D41: fdcgcgdtgad20p | E41: =SUMIF(SG!B:B,D41,SG!G:G) -> 3234 | F41: =SUMIF(SG!B:B,D41,SG!H:H) -> 603 | G41: =E41-F41 -> 2631 | H41: =F41/E41 -> 0.1864564
A42: fdcgcgdtgad28p | B42: fdcgcgdtgad28p | C42: 2804_05G0_12G0 | D42: fdcgcgdtgad28p | E42: =SUMIF(SG!B:B,D42,SG!G:G) -> 3234 | F42: =SUMIF(SG!B:B,D42,SG!H:H) -> 603 | G42: =E42-F42 -> 2631 | H42: =F42/E42 -> 0.1864564
... A92: fdcgcgkanaw03p | B92: fdcgcgkanaw03p | C92: 2804_08E1_09E1 | D92: fdcgcgkanaw03p | E92: =SUMIF(SG!B:B,D92,SG!G:G) -> 241682 | F92: =SUMIF(SG!B:B,D92,SG!H:H) -> 17197 | G92: =E92-F92 -> 224485 | H92: =F92/E92 -> 0.071155485
A93: fdcgcgmanla31p | B93: fdcgcgmanla31p | C93: 2804_07E1_10E1 | D93: fdcgcgmanla31p | E93: =SUMIF(SG!B:B,D93,SG!G:G) -> 1070306 | F93: =SUMIF(SG!B:B,D93,SG!H:H) -> 232003 | G93: =E93-F93 -> 838303 | H93: =F93/E93 -> 0.21676324 | I93: Same devices as fdcgcgmanla33p
A94: fdcgcgmanla33p | B94: fdcgcgmanla33p | C94: 2804_07E1_10E1 | D94: fdcgcgmanla33p | E94: =SUMIF(SG!B:B,D94,SG!G:G) -> 1070306 | F94: =SUMIF(SG!B:B,D94,SG!H:H) -> 232003 | G94: =E94-F94 -> 838303 | H94: =F94/E94 -> 0.21676324 | I94: Same devices as fdcgcgmanla31p
A95: fdcgcgmqmla19p | B95: fdcgcgmqmla19p | C95: 2804_08G1_09G1 | D95: fdcgcgmqmla19p | E95: =SUMIF(SG!B:B,D95,SG!G:G) -> 241682 | F95: =SUMIF(SG!B:B,D95,SG!H:H) -> 55986 | G95: =E95-F95 -> 185696 | H95: =F95/E95 -> 0.23165151
A96: fdcgcgmqmla20p | B96: fdcgcgmqmla20p | C96: 2804_08G1_09G1 | D96: fdcgcgmqmla20p | E96: =SUMIF(SG!B:B,D96,SG!G:G) -> 241682 | F96: =SUMIF(SG!B:B,D96,SG!H:H) -> 56089 | G96: =E96-F96 -> 185593 | H96: =F96/E96 -> 0.23207769
A97: fdcgcgmqmla65_75p | B97: fdcgcgmqmla65_75p | C97: 2804_08F0_09F0 | D97: fdcgcgmqmla65_75p | E97: =SUMIF(SG!B:B,D97,SG!G:G) -> 172630 | F97: =SUMIF(SG!B:B,D97,SG!H:H) -> 12547 | G97: =E97-F97 -> 160083 | H97: =F97/E97 -> 0.072681457
A98: fdcgcgmqmla65p | B98: fdcgcgmqmla65p | C98: 2804_08F0_09F0 | D98: fdcgcgmqmla65p | E98: =SUMIF(SG!B:B,D98,SG!G:G) -> 172630 | F98: =SUMIF(SG!B:B,D98,SG!H:H) -> 54647 | G98: =E98-F98 -> 117983 | H98: =F98/E98 -> 0.31655564
A99: fdcgcgmqmla75p | B99: fdcgcgmqmla75p | C99: 2804_08F0_09F0 | D99: fdcgcgmqmla75p | E99: =SUMIF(SG!B:B,D99,SG!G:G) -> 172630 | F99: =SUMIF(SG!B:B,D99,SG!H:H) -> 48926 | G99: =E99-F99 -> 123704 | H99: =F99/E99 -> 0.2834154
A100: fdcgcgodmaa01p | B100: fdcgcgodmaa01p | C100: 2804_06F0_11F0 | D100: fdcgcgodmaa01p | E100: =SUMIF(SG!B:B,D100,SG!G:G) -> 5386056 | F100: =SUMIF(SG!B:B,D100,SG!H:H) -> 1762795 | G100: =E100-F100 -> 3623261 | H100: =F100/E100 -> 0.32728865
A101: fdcgcgodmaa02p | B101: fdcgcgodmaa02p | C101: 2804_06G1_11G1 | D101: fdcgcgodmaa02p | E101: =SUMIF(SG!B:B,D101,SG!G:G) -> 4108594 | F101: =SUMIF(SG!B:B,D101,SG!H:H) -> 1314876 | G101: =E101-F101 -> 2793718 | H101: =F101/E101 -> 0.32003065
A102: fdcgcgoscaa01p | B102: fdcgcgoscaa01p | C102: 2804_08G0_09G0 | D102: fdcgcgoscaa01p | E102: =SUMIF(SG!B:B,D102,SG!G:G) -> 276208 | F102: =SUMIF(SG!B:B,D102,SG!H:H) -> 59888 | G102: =E102-F102 -> 216320 | H102: =F102/E102 -> 0.21682211
A103: fdcgcgoscaa02p | B103: fdcgcgoscaa02p | C103: 2804_08G0_09G0 | D103: fdcgcgoscaa02p | E103: =SUMIF(SG!B:B,D103,SG!G:G) -> 414312 | F103: =SUMIF(SG!B:B,D103,SG!H:H) -> 79010 | G103: =E103-F103 -> 335302 | H103: =F103/E103 -> 0.19070169
A104: fdcgcgporaw01p | B104: fdcgcgporaw01p | C104: 2804_08E1_09E1 | D104: fdcgcgporaw01p | E104: =SUMIF(SG!B:B,D104,SG!G:G) -> 276208 | F104: =SUMIF(SG!B:B,D104,SG!H:H) -> 46633 | G104: =E104-F104 -> 229575 | H104: =F104/E104 -> 0.16883291
A105: fdcgcgracad01p | B105: fdcgcgracad01p | C105: 2804_06G1_11G1 | D105: fdcgcgracad01p | E105: =SUMIF(SG!B:B,D105,SG!G:G) -> 138104 | F105: =SUMIF(SG!B:B,D105,SG!H:H) -> 66616 | G105: =E105-F105 -> 71488 | H105: =F105/E105 -> 0.48236112
A106: fdcgcgracad01p_2p | B106: fdcgcgracad01p_2p | C106: 2804_06G1_11G1 | D106: fdcgcgracad01p_2p | E106: =SUMIF(SG!B:B,D106,SG!G:G) -> 424014 | F106: =SUMIF(SG!B:B,D106,SG!H:H) -> 225671 | G106: =E106-F106 -> 198343 | H106: =F106/E106 -> 0.53222535 | I106: 0E0E:0E10 shared with fdcgcgtcola64p_74p
A107: fdcgcgracad02p | B107: fdcgcgracad02p | C107: 2804_06G1_11G1 | D107: fdcgcgracad02p | E107: =SUMIF(SG!B:B,D107,SG!G:G) -> 138104 | F107: =SUMIF(SG!B:B,D107,SG!H:H) -> 64341 | G107: =E107-F107 -> 73763 | H107: =F107/E107 -> 0.46588803
A108: fdcgcgracad05p | B108: fdcgcgracad05p | C108: 2804_07F0_10F0 | D108: fdcgcgracad05p | E108: =SUMIF(SG!B:B,D108,SG!G:G) -> 276208 | F108: =SUMIF(SG!B:B,D108,SG!H:H) -> 77675 | G108: =E108-F108 -> 198533 | H108: =F108/E108 -> 0.28121923
A109: fdcgcgracad05p_06p | B109: fdcgcgracad05p_06p | C109: 2804_07F0_10F0 | D109: fdcgcgracad05p_06p | E109: =SUMIF(SG!B:B,D109,SG!G:G) -> 2351002 | F109: =SUMIF(SG!B:B,D109,SG!H:H) -> 1250669 | G109: =E109-F109 -> 1100333 | H109: =F109/E109 -> 0.53197275
A110: fdcgcgracad05p_06p_PG_05F0_12F0 | B110: fdcgcgracad05p_06p | C110: 2804_05F0_12F0 | D110: fdcgcgracad05p_06p | E110: =SUMIF(SG!B:B,D110,SG!G:G) -> 2351002 | F110: =SUMIF(SG!B:B,D110,SG!H:H) -> 1250669 | G110: =E110-F110 -> 1100333 | H110: =F110/E110 -> 0.53197275
A111: fdcgcgracad06p | B111: fdcgcgracad06p | C111: 2804_07F0_10F0 | D111: fdcgcgracad06p | E111: =SUMIF(SG!B:B,D111,SG!G:G) -> 276208 | F111: =SUMIF(SG!B:B,D111,SG!H:H) -> 73010 | G111: =E111-F111 -> 203198 | H111: =F111/E111 -> 0.26432978
A112: fdcgcgracad07p | B112: fdcgcgracad07p | C112: 2804_05G0_12G0 | D112: fdcgcgracad07p | E112: =SUMIF(SG!B:B,D112,SG!G:G) -> 172630 | F112: =SUMIF(SG!B:B,D112,SG!H:H) -> 92694 | G112: =E112-F112 -> 79936 | H112: =F112/E112 -> 0.53695186
A113: fdcgcgracad07p_8p | B113: fdcgcgracad07p_8p | C113: 2804_05G0_12G0 | D113: fdcgcgracad07p_8p | E113: =SUMIF(SG!B:B,D113,SG!G:G) -> 1519144 | F113: =SUMIF(SG!B:B,D113,SG!H:H) -> 412609 | G113: =E113-F113 -> 1106535 | H113: =F113/E113 -> 0.27160625
A114: fdcgcgracad08p | B114: fdcgcgracad08p | C114: 2804_05G0_12G0 | D114: fdcgcgracad08p | E114: =SUMIF(SG!B:B,D114,SG!G:G) -> 172630 | F114: =SUMIF(SG!B:B,D114,SG!H:H) -> 83382 | G114: =E114-F114 -> 89248 | H114: =F114/E114 -> 0.48300991
A115: fdcgcgracad13p | B115: fdcgcgracad13p | C115: 2804_07F0_10F0 | D115: fdcgcgracad13p | E115: =SUMIF(SG!B:B,D115,SG!G:G) -> 276208 | F115: =SUMIF(SG!B:B,D115,SG!H:H) -> 80917 | G115: =E115-F115 -> 195291 | H115: =F115/E115 -> 0.29295676
A116: fdcgcgracad13p_14p | B116: fdcgcgracad13p_14p | C116: 2804_07F0_10F0 | D116: fdcgcgracad13p_14p | E116: =SUMIF(SG!B:B,D116,SG!G:G) -> 1695008 | F116: =SUMIF(SG!B:B,D116,SG!H:H) -> 1145571 | G116: =E116-F116 -> 549437 | H116: =F116/E116 -> 0.67584991
A117: fdcgcgracad14p | B117: fdcgcgracad14p | C117: 2804_07F0_10F0 | D117: fdcgcgracad14p | E117: =SUMIF(SG!B:B,D117,SG!G:G) -> 138104 | F117: =SUMIF(SG!B:B,D117,SG!H:H) -> 76318 | G117: =E117-F117 -> 61786 | H117: =F117/E117 -> 0.55261252
A118: fdcgcgracad15p | B118: fdcgcgracad15p | C118: 2804_07F0_10F0 | D118: fdcgcgracad15p | E118: =SUMIF(SG!B:B,D118,SG!G:G) -> 172630 | F118: =SUMIF(SG!B:B,D118,SG!H:H) -> 73148 | G118: =E118-F118 -> 99482 | H118: =F118/E118 -> 0.42372705
... A148: fdcgcgtcola64p | B148: fdcgcgtcola64p | C148: 2804_05F0_12F0 | D148: fdcgcgtcola64p | E148: =SUMIF(SG!B:B,D148,SG!G:G) -> 241682 | F148: =SUMIF(SG!B:B,D148,SG!H:H) -> 96143 | G148: =E148-F148 -> 145539 | H148: =F148/E148 -> 0.39780786
A149: fdcgcgtcola64p_74p | B149: fdcgcgtcola64p_74p | C149: 2804_05F0_12F0 | D149: fdcgcgtcola64p_74p | E149: =SUMIF(SG!B:B,D149,SG!G:G) -> 244916 | F149: =SUMIF(SG!B:B,D149,SG!H:H) -> 130813 | G149: =E149-F149 -> 114103 | H149: =F149/E149 -> 0.53411374 | I149: 0E0E:0E10 shared with fdcgcgracad01p_02p
A150: fdcgcgtcola74p | B150: fdcgcgtcola74p | C150: 2804_05F0_12F0 | D150: fdcgcgtcola74p | E150: =SUMIF(SG!B:B,D150,SG!G:G) -> 241682 | F150: =SUMIF(SG!B:B,D150,SG!H:H) -> 89239 | G150: =E150-F150 -> 152443 | H150: =F150/E150 -> 0.3692414
A151: fdcgcgtibla01p | B151: fdcgcgtibla01p | C151: 2804_08F0_09F0 | D151: fdcgcgtibla01p | E151: =SUMIF(SG!B:B,D151,SG!G:G) -> 1035780 | F151: =SUMIF(SG!B:B,D151,SG!H:H) -> 150573 | G151: =E151-F151 -> 885207 | H151: =F151/E151 -> 0.1453716
A152: fdcgcgtibla02p | B152: fdcgcgtibla02p | C152: 2804_08F0_09F0 | D152: fdcgcgtibla02p | E152: =SUMIF(SG!B:B,D152,SG!G:G) -> 345260 | F152: =SUMIF(SG!B:B,D152,SG!H:H) -> 100058 | G152: =E152-F152 -> 245202 | H152: =F152/E152 -> 0.28980478
A153: fdcgcgtibla04p | B153: fdcgcgtibla04p | C153: 2804_08G1_09G1 | D153: fdcgcgtibla04p | E153: =SUMIF(SG!B:B,D153,SG!G:G) -> 345260 | F153: =SUMIF(SG!B:B,D153,SG!H:H) -> 90795 | G153: =E153-F153 -> 254465 | H153: =F153/E153 -> 0.26297573
A154: fdcgcgtibla05p | B154: fdcgcgtibla05p | C154: 2804_08F0_09F0 | D154: fdcgcgtibla05p | E154: =SUMIF(SG!B:B,D154,SG!G:G) -> 345260 | F154: =SUMIF(SG!B:B,D154,SG!H:H) -> 62184 | G154: =E154-F154 -> 283076 | H154: =F154/E154 -> 0.18010774
A155: fdcgcgtibla06p | B155: fdcgcgtibla06p | C155: 2804_08F0_09F0 | D155: fdcgcgtibla06p | E155: =SUMIF(SG!B:B,D155,SG!G:G) -> 345260 | F155: =SUMIF(SG!B:B,D155,SG!H:H) -> 65096 | G155: =E155-F155 -> 280164 | H155: =F155/E155 -> 0.18854197
A156: fdcgcgtibla07p | B156: fdcgcgtibla07p | C156: 2804_08G1_09G1 | D156: fdcgcgtibla07p | E156: =SUMIF(SG!B:B,D156,SG!G:G) -> 345260 | F156: =SUMIF(SG!B:B,D156,SG!H:H) -> 61198 | G156: =E156-F156 -> 284062 | H156: =F156/E156 -> 0.17725193
A157: fdcgcgtibla08p | B157: fdcgcgtibla08p | C157: 2804_08G1_09G1 | D157: fdcgcgtibla08p | E157: =SUMIF(SG!B:B,D157,SG!G:G) -> 345260 | F157: =SUMIF(SG!B:B,D157,SG!H:H) -> 61082 | G157: =E157-F157 -> 284178 | H157: =F157/E157 -> 0.17691595
A158: fdcgcgtibla09p | B158: fdcgcgtibla09p | C158: 2804_08F0_09F0 | D158: fdcgcgtibla09p | E158: =SUMIF(SG!B:B,D158,SG!G:G) -> 1242936 | F158: =SUMIF(SG!B:B,D158,SG!H:H) -> 397573 | G158: =E158-F158 -> 845363 | H158: =F158/E158 -> 0.31986603
A159: fdcgcgtibla10p | B159: fdcgcgtibla10p | C159: 2804_08F0_09F0 | D159: fdcgcgtibla10p | E159: =SUMIF(SG!B:B,D159,SG!G:G) -> 414312 | F159: =SUMIF(SG!B:B,D159,SG!H:H) -> 140754 | G159: =E159-F159 -> 273558 | H159: =F159/E159 -> 0.33972948
A160: fdcgcgtibla11p | B160: fdcgcgtibla11p | C160: 2804_07F0_10F0 | D160: fdcgcgtibla11p | E160: =SUMIF(SG!B:B,D160,SG!G:G) -> 517890 | F160: =SUMIF(SG!B:B,D160,SG!H:H) -> 410804 | G160: =E160-F160 -> 107086 | H160: =F160/E160 -> 0.79322636
A161: fdcgcgtibla12p | B161: fdcgcgtibla12p | C161: 2804_08E1_09E1 | D161: fdcgcgtibla12p | E161: =SUMIF(SG!B:B,D161,SG!G:G) -> 310734 | F161: =SUMIF(SG!B:B,D161,SG!H:H) -> 110576 | G161: =E161-F161 -> 200158 | H161: =F161/E161 -> 0.3558542
... A200: tigcgcd2ffp_fdcgcgpmgsa02p | B200: tigcgcd2ffp | C200: 2804_06F0_11F0 | D200: tigcgcd2ffp_fdcgcgpmgsa02p | E200: =SUMIF(SG!B:B,D200,SG!G:G) -> 241682 | F200: =SUMIF(SG!B:B,D200,SG!H:H) -> 24582 | G200: =E200-F200 -> 217100 | H200: =F200/E200 -> 0.10171217

Sheet symdev
A1: Dev | E1: Type | H1: SG | I1: Cap (MB) | J1: Used (MB) | K1: R2
A2: 0000 | B2: Not Visible | C2: ???:? | D2: 05A:C0 | E2: VAULT | F2: N/A | G2: N/A | I2: 5120 | K2: =IF(ISNA(VLOOKUP(A2,rdf!A:A,1,0)),"",VLOOKUP(A2,rdf!A:B,2,0))
A3: 0001 | B3: Not Visible | C3: ???:? | D3: 06A:C1 | E3: VAULT | F3: N/A | G3: N/A | I3: 5120 | K3: =IF(ISNA(VLOOKUP(A3,rdf!A:A,1,0)),"",VLOOKUP(A3,rdf!A:B,2,0))
A4: 0002 | B4: Not Visible | C4: ???:? | D4: 05A:C2 | E4: VAULT | F4: N/A | G4: N/A | I4: 5120 | K4: =IF(ISNA(VLOOKUP(A4,rdf!A:A,1,0)),"",VLOOKUP(A4,rdf!A:B,2,0))
A5: 0003 | B5: Not Visible | C5: ???:? | D5: 06A:C3 | E5: VAULT | F5: N/A | G5: N/A | I5: 5120 | K5: =IF(ISNA(VLOOKUP(A5,rdf!A:A,1,0)),"",VLOOKUP(A5,rdf!A:B,2,0))
A6: 0004 | B6: Not Visible | C6: ???:? | D6: 05A:C4 | E6: VAULT | F6: N/A | G6: N/A | I6: 5120 | K6: =IF(ISNA(VLOOKUP(A6,rdf!A:A,1,0)),"",VLOOKUP(A6,rdf!A:B,2,0))
A7: 0005 | B7: Not Visible | C7: ???:? | D7: 06A:D0 | E7: VAULT | F7: N/A | G7: N/A | I7: 5120 | K7: =IF(ISNA(VLOOKUP(A7,rdf!A:A,1,0)),"",VLOOKUP(A7,rdf!A:B,2,0))
A8: 0006 | B8: Not Visible | C8: ???:? | D8: 05D:C3 | E8: VAULT | F8: N/A | G8: N/A | I8: 5120 | K8: =IF(ISNA(VLOOKUP(A8,rdf!A:A,1,0)),"",VLOOKUP(A8,rdf!A:B,2,0))
A9: 0007 | B9: Not Visible | C9: ???:? | D9: 06A:D2 | E9: VAULT | F9: N/A | G9: N/A | I9: 5120 | K9: =IF(ISNA(VLOOKUP(A9,rdf!A:A,1,0)),"",VLOOKUP(A9,rdf!A:B,2,0))
A10: 0008 | B10: Not Visible | C10: ???:? | D10: 05A:CE | E10: VAULT | F10: N/A | G10: N/A | I10: 5120 | K10: =IF(ISNA(VLOOKUP(A10,rdf!A:A,1,0)),"",VLOOKUP(A10,rdf!A:B,2,0))
A11: 0009 | B11: Not Visible | C11: ???:? | D11: 06A:D4 | E11: VAULT | F11: N/A | G11: N/A | I11: 5120 | K11: =IF(ISNA(VLOOKUP(A11,rdf!A:A,1,0)),"",VLOOKUP(A11,rdf!A:B,2,0))
A12: 000A | B12: Not Visible | C12: ???:? | D12: 10B:CE | E12: VAULT | F12: N/A | G12: N/A | I12: 5120 | K12: =IF(ISNA(VLOOKUP(A12,rdf!A:A,1,0)),"",VLOOKUP(A12,rdf!A:B,2,0))
A13: 000B | B13: Not Visible | C13: ???:? | D13: 08A:C1 | E13: VAULT | F13: N/A | G13: N/A | I13: 5120 | K13: =IF(ISNA(VLOOKUP(A13,rdf!A:A,1,0)),"",VLOOKUP(A13,rdf!A:B,2,0))
... A162: 00A0 | B162: Not Visible | C162: ???:? | D162: 10B:CE | E162: 2-Way Mir | F162: N/Grp'd | G162: ACLX | I162: 3 | K162: =IF(ISNA(VLOOKUP(A162,rdf!A:A,1,0)),"",VLOOKUP(A162,rdf!A:B,2,0))
A163: 00A1 | B163: Not Visible | C163: 05E:1 | D163: 11A:C0 | E163: 2-Way Mir | F163: N/Grp'd | G163: RW | H163: ffctisaecc005_LPFC0 | I163: 3 | K163: =IF(ISNA(VLOOKUP(A163,rdf!A:A,1,0)),"",VLOOKUP(A163,rdf!A:B,2,0))
A164: 00A2 | B164: Not Visible | C164: 05E:1 | D164: 08C:D0 | E164: 2-Way Mir | F164: N/Grp'd | G164: RW | H164: ffctisaecc005_LPFC0 | I164: 3 | K164: =IF(ISNA(VLOOKUP(A164,rdf!A:A,1,0)),"",VLOOKUP(A164,rdf!A:B,2,0))
A165: 00A3 | B165: Not Visible | C165: 05E:1 | D165: 12B:C6 | E165: 2-Way Mir | F165: N/Grp'd | G165: RW | H165: ffctisaecc005_LPFC0 | I165: 3 | K165: =IF(ISNA(VLOOKUP(A165,rdf!A:A,1,0)),"",VLOOKUP(A165,rdf!A:B,2,0))
A166: 00A4 | B166: Not Visible | C166: 05E:1 | D166: 07B:D0 | E166: 2-Way Mir | F166: N/Grp'd | G166: RW | H166: ffctisaecc005_LPFC0 | I166: 3 | K166: =IF(ISNA(VLOOKUP(A166,rdf!A:A,1,0)),"",VLOOKUP(A166,rdf!A:B,2,0))
A167: 00A5 | B167: Not Visible | C167: 05E:1 | D167: 11B:D0 | E167: 2-Way Mir | F167: N/Grp'd | G167: RW | H167: ffctisaecc005_LPFC0 | I167: 3 | K167: =IF(ISNA(VLOOKUP(A167,rdf!A:A,1,0)),"",VLOOKUP(A167,rdf!A:B,2,0))
A168: 00A6 | B168: Not Visible | C168: 05E:1 | D168: 08D:C0 | E168: 2-Way Mir | F168: N/Grp'd | G168: RW | H168: ffctisaecc005_LPFC0 | I168: 3 | K168: =IF(ISNA(VLOOKUP(A168,rdf!A:A,1,0)),"",VLOOKUP(A168,rdf!A:B,2,0))
A169: 00A7 | B169: Not Visible | C169: 12E:1 | D169: 12D:C0 | E169: 2-Way Mir | F169: N/Grp'd | G169: RW | H169: ffctisaecc005_LPFC1 | I169: 3 | K169: =IF(ISNA(VLOOKUP(A169,rdf!A:A,1,0)),"",VLOOKUP(A169,rdf!A:B,2,0))
A170: 00A8 | B170: Not Visible | C170: 12E:1 | D170: 08A:D0 | E170: 2-Way Mir | F170: N/Grp'd | G170: RW | H170: ffctisaecc005_LPFC1 | I170: 3 | K170: =IF(ISNA(VLOOKUP(A170,rdf!A:A,1,0)),"",VLOOKUP(A170,rdf!A:B,2,0))
A171: 00A9 | B171: Not Visible | C171: 12E:1 | D171: 12A:D0 | E171: 2-Way Mir | F171: N/Grp'd | G171: RW | H171: ffctisaecc005_LPFC1 | I171: 3 | K171: =IF(ISNA(VLOOKUP(A171,rdf!A:A,1,0)),"",VLOOKUP(A171,rdf!A:B,2,0))
A172: 00AA | B172: Not Visible | C172: 12E:1 | D172: 11C:D7 | E172: 2-Way Mir | F172: N/Grp'd | G172: RW | H172: ffctisaecc005_LPFC1 | I172: 3 | K172: =IF(ISNA(VLOOKUP(A172,rdf!A:A,1,0)),"",VLOOKUP(A172,rdf!A:B,2,0))
A173: 00AB | B173: Not Visible | C173: 12E:1 | D173: 11C:C0 | E173: 2-Way Mir | F173: N/Grp'd | G173: RW | H173: ffctisaecc005_LPFC1 | I173: 3 | K173: =IF(ISNA(VLOOKUP(A173,rdf!A:A,1,0)),"",VLOOKUP(A173,rdf!A:B,2,0))
A174: 00AC | B174: Not Visible | C174: 12E:1 | D174: 08B:C0 | E174: 2-Way Mir | F174: N/Grp'd | G174: RW | H174: ffctisaecc005_LPFC1 | I174: 3 | K174: =IF(ISNA(VLOOKUP(A174,rdf!A:A,1,0)),"",VLOOKUP(A174,rdf!A:B,2,0))
... A447: 01BD | B447: Not Visible | C447: ???:? | D447: NA:NA | E447: TDEV | F447: N/Grp'd | G447: NR | H447: - | I447: 34526 | K447: =IF(ISNA(VLOOKUP(A447,rdf!A:A,1,0)),"",VLOOKUP(A447,rdf!A:B,2,0))
A448: 01BE | B448: Not Visible | C448: ***:* | D448: NA:NA | E448: RDF1+TDEV | F448: Grp'd | G448: RW | H448: fdcgdsgwywa01c_02c | I448: 34526 | J448: 11743 | K448: =IF(ISNA(VLOOKUP(A448,rdf!A:A,1,0)),"",VLOOKUP(A448,rdf!A:B,2,0)) -> 01BE
A449: 01BF | B449: Not Visible | C449: ***:* | D449: NA:NA | E449: RDF1+TDEV | F449: Grp'd | G449: RW | H449: fdcgdsgwywa01c_02c | I449: 34526 | J449: 218 | K449: =IF(ISNA(VLOOKUP(A449,rdf!A:A,1,0)),"",VLOOKUP(A449,rdf!A:B,2,0)) -> 01BF
A450: 01C0 | B450: Not Visible | C450: ***:* | D450: NA:NA | E450: RDF1+TDEV | F450: Grp'd | G450: RW | H450: fdcgdsgwywa01c_02c | I450: 34526 | J450: 4 | K450: =IF(ISNA(VLOOKUP(A450,rdf!A:A,1,0)),"",VLOOKUP(A450,rdf!A:B,2,0)) -> 01C0
A451: 01C1 | B451: Not Visible | C451: ***:* | D451: NA:NA | E451: RDF1+TDEV | F451: Grp'd | G451: RW | H451: fdcgdsgwywa01c_02c | I451: 34526 | J451: 3161 | K451: =IF(ISNA(VLOOKUP(A451,rdf!A:A,1,0)),"",VLOOKUP(A451,rdf!A:B,2,0)) -> 01C1
A452: 01C2 | B452: Not Visible | C452: ***:* | D452: NA:NA | E452: RDF1+TDEV | F452: Grp'd | G452: RW | H452: fdcgdsgwywa01c_02c | I452: 34526 | J452: 101 | K452: =IF(ISNA(VLOOKUP(A452,rdf!A:A,1,0)),"",VLOOKUP(A452,rdf!A:B,2,0)) -> 01C2
A453: 01C3 | B453: Not Visible | C453: ***:* | D453: NA:NA | E453: RDF1+TDEV | F453: Grp'd | G453: RW | H453: fdcgdsgwywa01c_02c | I453: 34526 | J453: 4 | K453: =IF(ISNA(VLOOKUP(A453,rdf!A:A,1,0)),"",VLOOKUP(A453,rdf!A:B,2,0)) -> 01C3
A454: 01C4 | B454: Not Visible | C454: ***:* | D454: NA:NA | E454: RDF1+TDEV | F454: Grp'd | G454: RW | H454: fdcgdsgwywa01c_02c | I454: 34526 | J454: 3712 | K454: =IF(ISNA(VLOOKUP(A454,rdf!A:A,1,0)),"",VLOOKUP(A454,rdf!A:B,2,0)) -> 01C4
A455: 01C5 | B455: Not Visible | C455: ***:* | D455: NA:NA | E455: RDF1+TDEV | F455: Grp'd | G455: RW | H455: fdcgdsgwywa01c_02c | I455: 34526 | J455: 1500 | K455: =IF(ISNA(VLOOKUP(A455,rdf!A:A,1,0)),"",VLOOKUP(A455,rdf!A:B,2,0)) -> 01C5
A456: 01C6 | B456: Not Visible | C456: ***:* | D456: NA:NA | E456: RDF1+TDEV | F456: Grp'd | G456: RW | H456: fdcgdsgwywa01c_02c | I456: 34526 | J456: 92 | K456: =IF(ISNA(VLOOKUP(A456,rdf!A:A,1,0)),"",VLOOKUP(A456,rdf!A:B,2,0)) -> 01C6
A457: 01C7 | B457: Not Visible | C457: ***:* | D457: NA:NA | E457: RDF1+TDEV | F457: Grp'd | G457: RW | H457: fdcgdsgwywa01c_02c | I457: 34526 | J457: 2840 | K457: =IF(ISNA(VLOOKUP(A457,rdf!A:A,1,0)),"",VLOOKUP(A457,rdf!A:B,2,0)) -> 01C7
A458: 01C8 | B458: Not Visible | C458: ***:* | D458: NA:NA | E458: RDF1+TDEV | F458: Grp'd | G458: RW | H458: fdcgdsexcwa01c_02c | I458: 34526 | J458: 7404 | K458: =IF(ISNA(VLOOKUP(A458,rdf!A:A,1,0)),"",VLOOKUP(A458,rdf!A:B,2,0)) -> 01C8
A459: 01C9 | B459: Not Visible | C459: ***:* | D459: NA:NA | E459: RDF1+TDEV | F459: Grp'd | G459: RW | H459: fdcgdsexcwa01c_02c | I459: 34526 | J459: 3 | K459: =IF(ISNA(VLOOKUP(A459,rdf!A:A,1,0)),"",VLOOKUP(A459,rdf!A:B,2,0)) -> 01C9
... A1122: 0460 | B1122: Not Visible | C1122: ***:* | D1122: NA:NA | E1122: RDF1+TDEV | F1122: Grp'd | G1122: RW | H1122: fdcgcgeclla01p | I1122: 34526 | J1122: 3731 | K1122: =IF(ISNA(VLOOKUP(A1122,rdf!A:A,1,0)),"",VLOOKUP(A1122,rdf!A:B,2,0)) -> 0460
A1123: 0461 | B1123: Not Visible | C1123: ???:? | D1123: NA:NA | E1123: TDEV | F1123: N/Grp'd | G1123: NR | H1123: - | I1123: 34526 | K1123: =IF(ISNA(VLOOKUP(A1123,rdf!A:A,1,0)),"",VLOOKUP(A1123,rdf!A:B,2,0))
A1124: 0462 | B1124: Not Visible | C1124: ???:? | D1124: NA:NA | E1124: TDEV | F1124: N/Grp'd | G1124: NR | H1124: - | I1124: 34526 | K1124: =IF(ISNA(VLOOKUP(A1124,rdf!A:A,1,0)),"",VLOOKUP(A1124,rdf!A:B,2,0))
A1125: 0463 | B1125: Not Visible | C1125: ***:* | D1125: NA:NA | E1125: RDF1+TDEV | F1125: Grp'd | G1125: RW | H1125: fdcgcgeclla03p | I1125: 34526 | J1125: 6647 | K1125: =IF(ISNA(VLOOKUP(A1125,rdf!A:A,1,0)),"",VLOOKUP(A1125,rdf!A:B,2,0)) -> 0463
A1126: 0464 | B1126: Not Visible | C1126: ***:* | D1126: NA:NA | E1126: RDF1+TDEV | F1126: Grp'd | G1126: RW | H1126: fdcgcgeclla03p | I1126: 34526 | J1126: 2590 | K1126: =IF(ISNA(VLOOKUP(A1126,rdf!A:A,1,0)),"",VLOOKUP(A1126,rdf!A:B,2,0)) -> 0464
A1127: 0465 | B1127: Not Visible | C1127: ???:? | D1127: NA:NA | E1127: TDEV | F1127: N/Grp'd | G1127: RW | H1127: - | I1127: 34526 | J1127: 4874 | K1127: =IF(ISNA(VLOOKUP(A1127,rdf!A:A,1,0)),"",VLOOKUP(A1127,rdf!A:B,2,0))
A1128: 0466 | B1128: Not Visible | C1128: ???:? | D1128: NA:NA | E1128: TDEV | F1128: N/Grp'd | G1128: RW | H1128: - | I1128: 34526 | J1128: 2886 | K1128: =IF(ISNA(VLOOKUP(A1128,rdf!A:A,1,0)),"",VLOOKUP(A1128,rdf!A:B,2,0))
A1129: 0467 | B1129: Not Visible | C1129: ***:* | D1129: NA:NA | E1129: RDF1+TDEV | F1129: Grp'd | G1129: RW | H1129: fdcgcgeclla07p | I1129: 34526 | J1129: 27869 | K1129: =IF(ISNA(VLOOKUP(A1129,rdf!A:A,1,0)),"",VLOOKUP(A1129,rdf!A:B,2,0)) -> 0467
A1130: 0468 | B1130: Not Visible | C1130: ***:* | D1130: NA:NA | E1130: RDF1+TDEV | F1130: Grp'd | G1130: RW | H1130: fdcgcgeclla07p | I1130: 34526 | J1130: 34526 | K1130: =IF(ISNA(VLOOKUP(A1130,rdf!A:A,1,0)),"",VLOOKUP(A1130,rdf!A:B,2,0)) -> 0468
A1131: 0469 | B1131: Not Visible | C1131: ???:? | D1131: NA:NA | E1131: TDEV | F1131: N/Grp'd | G1131: RW | H1131: - | I1131: 34526 | J1131: 9784 | K1131: =IF(ISNA(VLOOKUP(A1131,rdf!A:A,1,0)),"",VLOOKUP(A1131,rdf!A:B,2,0))
A1132: 046A | B1132: Not Visible | C1132: ???:? | D1132: NA:NA | E1132: TDEV | F1132: N/Grp'd | G1132: RW | H1132: - | I1132: 34526 | J1132: 34526 | K1132: =IF(ISNA(VLOOKUP(A1132,rdf!A:A,1,0)),"",VLOOKUP(A1132,rdf!A:B,2,0))
A1133: 046B | B1133: Not Visible | C1133: ***:* | D1133: NA:NA | E1133: RDF1+TDEV | F1133: Grp'd | G1133: RW | H1133: fdcgcgeclla09p | I1133: 34526 | J1133: 1 | K1133: =IF(ISNA(VLOOKUP(A1133,rdf!A:A,1,0)),"",VLOOKUP(A1133,rdf!A:B,2,0)) -> 046B
A1134: 046C | B1134: Not Visible | C1134: ???:? | D1134: NA:NA | E1134: TDEV | F1134: N/Grp'd | G1134: RW | H1134: - | I1134: 34526 | J1134: 1 | K1134: =IF(ISNA(VLOOKUP(A1134,rdf!A:A,1,0)),"",VLOOKUP(A1134,rdf!A:B,2,0))
A1135: 046D | B1135: Not Visible | C1135: ???:? | D1135: NA:NA | E1135: RDF1+TDEV | F1135: Grp'd | G1135: RW | H1135: - | I1135: 34526 | J1135: 1 | K1135: =IF(ISNA(VLOOKUP(A1135,rdf!A:A,1,0)),"",VLOOKUP(A1135,rdf!A:B,2,0)) -> 046D
A1136: 046E | B1136: Not Visible | C1136: ???:? | D1136: NA:NA | E1136: RDF1+TDEV | F1136: Grp'd | G1136: RW | H1136: - | I1136: 34526 | J1136: 1 | K1136: =IF(ISNA(VLOOKUP(A1136,rdf!A:A,1,0)),"",VLOOKUP(A1136,rdf!A:B,2,0)) -> 046E
... A1813: 0713 | B1813: Not Visible | C1813: ***:* | D1813: NA:NA | E1813: RDF1+TDEV | F1813: Grp'd | G1813: RW | H1813: fdcgcgticad02p | I1813: 34526 | J1813: 2564 | K1813: =IF(ISNA(VLOOKUP(A1813,rdf!A:A,1,0)),"",VLOOKUP(A1813,rdf!A:B,2,0)) -> 0713
A1814: 0714 | B1814: Not Visible | C1814: ???:? | D1814: NA:NA | E1814: TDEV | F1814: N/Grp'd | G1814: NR | H1814: - | I1814: 34526 | K1814: =IF(ISNA(VLOOKUP(A1814,rdf!A:A,1,0)),"",VLOOKUP(A1814,rdf!A:B,2,0))
A1815: 0715 | B1815: Not Visible | C1815: ***:* | D1815: NA:NA | E1815: RDF1+TDEV | F1815: Grp'd | G1815: RW | H1815: fdcgcgracad23p_24p | I1815: 34526 | J1815: 26065 | K1815: =IF(ISNA(VLOOKUP(A1815,rdf!A:A,1,0)),"",VLOOKUP(A1815,rdf!A:B,2,0)) -> 0715
A1816: 0716 | B1816: Not Visible | C1816: ***:* | D1816: NA:NA | E1816: RDF1+TDEV | F1816: Grp'd | G1816: RW | H1816: fdcgcgracad23p_24p | I1816: 34526 | J1816: 26113 | K1816: =IF(ISNA(VLOOKUP(A1816,rdf!A:A,1,0)),"",VLOOKUP(A1816,rdf!A:B,2,0)) -> 0716
A1817: 0717 | B1817: Not Visible | C1817: ***:* | D1817: NA:NA | E1817: RDF1+TDEV | F1817: Grp'd | G1817: RW | H1817: fdcgcgracad23p_24p | I1817: 34526 | J1817: 3029 | K1817: =IF(ISNA(VLOOKUP(A1817,rdf!A:A,1,0)),"",VLOOKUP(A1817,rdf!A:B,2,0)) -> 0717
A1818: 0718 | B1818: Not Visible | C1818: ***:* | D1818: NA:NA | E1818: RDF1+TDEV | F1818: Grp'd | G1818: RW | H1818: fdcgcgracad23p_24p | I1818: 34526 | J1818: 22374 | K1818: =IF(ISNA(VLOOKUP(A1818,rdf!A:A,1,0)),"",VLOOKUP(A1818,rdf!A:B,2,0)) -> 0718
A1819: 0719 | B1819: Not Visible | C1819: ***:* | D1819: NA:NA | E1819: RDF1+TDEV | F1819: Grp'd | G1819: RW | H1819: fdcgcgracad23p_24p | I1819: 34526 | J1819: 22098 | K1819: =IF(ISNA(VLOOKUP(A1819,rdf!A:A,1,0)),"",VLOOKUP(A1819,rdf!A:B,2,0)) -> 0719
A1820: 071A | B1820: Not Visible | C1820: ***:* | D1820: NA:NA | E1820: RDF1+TDEV | F1820: Grp'd | G1820: RW | H1820: fdcgcgracad23p_24p | I1820: 34526 | J1820: 20252 | K1820: =IF(ISNA(VLOOKUP(A1820,rdf!A:A,1,0)),"",VLOOKUP(A1820,rdf!A:B,2,0)) -> 071A
A1821: 071B | B1821: Not Visible | C1821: ***:* | D1821: NA:NA | E1821: RDF1+TDEV | F1821: Grp'd | G1821: RW | H1821: fdcgcgracad21p_22p | I1821: 34526 | J1821: 20372 | K1821: =IF(ISNA(VLOOKUP(A1821,rdf!A:A,1,0)),"",VLOOKUP(A1821,rdf!A:B,2,0)) -> 071B
A1822: 071C | B1822: Not Visible | C1822: ***:* | D1822: NA:NA | E1822: RDF1+TDEV | F1822: Grp'd | G1822: RW | H1822: fdcgcgracad21p_22p | I1822: 34526 | J1822: 6756 | K1822: =IF(ISNA(VLOOKUP(A1822,rdf!A:A,1,0)),"",VLOOKUP(A1822,rdf!A:B,2,0)) -> 071C
A1823: 071D | B1823: Not Visible | C1823: ***:* | D1823: NA:NA | E1823: RDF1+TDEV | F1823: Grp'd | G1823: RW | H1823: fdcgcgracad21p_22p | I1823: 34526 | J1823: 21895 | K1823: =IF(ISNA(VLOOKUP(A1823,rdf!A:A,1,0)),"",VLOOKUP(A1823,rdf!A:B,2,0)) -> 071D
A1824: 071E | B1824: Not Visible | C1824: ***:* | D1824: NA:NA | E1824: RDF1+TDEV | F1824: Grp'd | G1824: RW | H1824: fdcgcgracad21p_22p | I1824: 34526 | J1824: 5041 | K1824: =IF(ISNA(VLOOKUP(A1824,rdf!A:A,1,0)),"",VLOOKUP(A1824,rdf!A:B,2,0)) -> 071E
A1825: 071F | B1825: Not Visible | C1825: ***:* | D1825: NA:NA | E1825: RDF1+TDEV | F1825: Grp'd | G1825: RW | H1825: fdcgcgracad21p_22p | I1825: 34526 | J1825: 21842 | K1825: =IF(ISNA(VLOOKUP(A1825,rdf!A:A,1,0)),"",VLOOKUP(A1825,rdf!A:B,2,0)) -> 071F
A1826: 0720 | B1826: Not Visible | C1826: ***:* | D1826: NA:NA | E1826: RDF1+TDEV | F1826: Grp'd | G1826: RW | H1826: fdcgcgracad21p_22p | I1826: 34526 | J1826: 3827 | K1826: =IF(ISNA(VLOOKUP(A1826,rdf!A:A,1,0)),"",VLOOKUP(A1826,rdf!A:B,2,0)) -> 0720
... A2017: 07DF | B2017: Not Visible | C2017: ***:* | D2017: NA:NA | E2017: TDEV | F2017: N/Grp'd | G2017: RW | H2017: - | I2017: 34526 | J2017: 1 | K2017: =IF(ISNA(VLOOKUP(A2017,rdf!A:A,1,0)),"",VLOOKUP(A2017,rdf!A:B,2,0))
A2018: 07E0 | B2018: Not Visible | C2018: ???:? | D2018: 06A:C5 | E2018: RAID-6 | F2018: (DT) | G2018: RW | I2018: 235313 | K2018: =IF(ISNA(VLOOKUP(A2018,rdf!A:A,1,0)),"",VLOOKUP(A2018,rdf!A:B,2,0))
A2019: 07E1 | B2019: Not Visible | C2019: ???:? | D2019: 12D:C0 | E2019: RAID-6 | F2019: (DT) | G2019: RW | I2019: 235313 | K2019: =IF(ISNA(VLOOKUP(A2019,rdf!A:A,1,0)),"",VLOOKUP(A2019,rdf!A:B,2,0))
A2020: 07E2 | B2020: Not Visible | C2020: ???:? | D2020: 07C:C0 | E2020: RAID-6 | F2020: (DT) | G2020: RW | I2020: 235313 | K2020: =IF(ISNA(VLOOKUP(A2020,rdf!A:A,1,0)),"",VLOOKUP(A2020,rdf!A:B,2,0))
A2021: 07E3 | B2021: Not Visible | C2021: ???:? | D2021: 12D:D1 | E2021: RAID-6 | F2021: (DT) | G2021: RW | I2021: 235313 | K2021: =IF(ISNA(VLOOKUP(A2021,rdf!A:A,1,0)),"",VLOOKUP(A2021,rdf!A:B,2,0))
A2022: 07E4 | B2022: Not Visible | C2022: ???:? | D2022: 11D:C1 | E2022: RAID-6 | F2022: (DT) | G2022: RW | I2022: 235313 | K2022: =IF(ISNA(VLOOKUP(A2022,rdf!A:A,1,0)),"",VLOOKUP(A2022,rdf!A:B,2,0))
A2023: 07E5 | B2023: Not Visible | C2023: ???:? | D2023: 12D:C2 | E2023: RAID-6 | F2023: (DT) | G2023: RW | I2023: 235313 | K2023: =IF(ISNA(VLOOKUP(A2023,rdf!A:A,1,0)),"",VLOOKUP(A2023,rdf!A:B,2,0))
A2024: 07E6 | B2024: Not Visible | C2024: ???:? | D2024: 11D:D2 | E2024: RAID-6 | F2024: (DT) | G2024: RW | I2024: 235313 | K2024: =IF(ISNA(VLOOKUP(A2024,rdf!A:A,1,0)),"",VLOOKUP(A2024,rdf!A:B,2,0))
A2025: 07E7 | B2025: Not Visible | C2025: ???:? | D2025: 12D:D3 | E2025: RAID-6 | F2025: (DT) | G2025: RW | I2025: 235313 | K2025: =IF(ISNA(VLOOKUP(A2025,rdf!A:A,1,0)),"",VLOOKUP(A2025,rdf!A:B,2,0))
A2026: 07E8 | B2026: Not Visible | C2026: ???:? | D2026: 11D:C3 | E2026: RAID-6 | F2026: (DT) | G2026: RW | I2026: 235313 | K2026: =IF(ISNA(VLOOKUP(A2026,rdf!A:A,1,0)),"",VLOOKUP(A2026,rdf!A:B,2,0))
A2027: 07E9 | B2027: Not Visible | C2027: ???:? | D2027: 12D:C4 | E2027: RAID-6 | F2027: (DT) | G2027: RW | I2027: 235313 | K2027: =IF(ISNA(VLOOKUP(A2027,rdf!A:A,1,0)),"",VLOOKUP(A2027,rdf!A:B,2,0))
A2028: 07EA | B2028: Not Visible | C2028: ???:? | D2028: 11D:D4 | E2028: RAID-6 | F2028: (DT) | G2028: RW | I2028: 235313 | K2028: =IF(ISNA(VLOOKUP(A2028,rdf!A:A,1,0)),"",VLOOKUP(A2028,rdf!A:B,2,0))
A2029: 07EB | B2029: Not Visible | C2029: ???:? | D2029: 11D:C5 | E2029: RAID-6 | F2029: (DT) | G2029: RW | I2029: 235313 | K2029: =IF(ISNA(VLOOKUP(A2029,rdf!A:A,1,0)),"",VLOOKUP(A2029,rdf!A:B,2,0))
... A2641: 0A4F | B2641: Not Visible | C2641: ???:? | D2641: 09C:D5 | E2641: 2-Way Mir | F2641: (FS) | G2641: RW | I2641: 8192 | K2641: =IF(ISNA(VLOOKUP(A2641,rdf!A:A,1,0)),"",VLOOKUP(A2641,rdf!A:B,2,0))
A2642: 0A50 | B2642: Not Visible | C2642: ***:* | D2642: NA:NA | E2642: TDEV | F2642: N/Grp'd | G2642: RW | H2642: fdcgcgtibla61_71p | I2642: 1078 | J2642: 33 | K2642: =IF(ISNA(VLOOKUP(A2642,rdf!A:A,1,0)),"",VLOOKUP(A2642,rdf!A:B,2,0))
A2643: 0A51 | B2643: Not Visible | C2643: ***:* | D2643: NA:NA | E2643: TDEV | F2643: N/Grp'd | G2643: RW | H2643: fdcgcgtibla61_71p | I2643: 1078 | J2643: 33 | K2643: =IF(ISNA(VLOOKUP(A2643,rdf!A:A,1,0)),"",VLOOKUP(A2643,rdf!A:B,2,0))
A2644: 0A52 | B2644: Not Visible | C2644: ***:* | D2644: NA:NA | E2644: TDEV | F2644: N/Grp'd | G2644: RW | H2644: fdcgcgtibla61_71p | I2644: 1078 | J2644: 33 | K2644: =IF(ISNA(VLOOKUP(A2644,rdf!A:A,1,0)),"",VLOOKUP(A2644,rdf!A:B,2,0))
A2645: 0A53 | B2645: Not Visible | C2645: ***:* | D2645: NA:NA | E2645: TDEV | F2645: N/Grp'd | G2645: RW | H2645: fdcgcgtibla62_72p | I2645: 1078 | J2645: 33 | K2645: =IF(ISNA(VLOOKUP(A2645,rdf!A:A,1,0)),"",VLOOKUP(A2645,rdf!A:B,2,0))
A2646: 0A54 | B2646: Not Visible | C2646: ***:* | D2646: NA:NA | E2646: TDEV | F2646: N/Grp'd | G2646: RW | H2646: fdcgcgtibla62_72p | I2646: 1078 | J2646: 33 | K2646: =IF(ISNA(VLOOKUP(A2646,rdf!A:A,1,0)),"",VLOOKUP(A2646,rdf!A:B,2,0))
A2647: 0A55 | B2647: Not Visible | C2647: ***:* | D2647: NA:NA | E2647: TDEV | F2647: N/Grp'd | G2647: RW | H2647: fdcgcgtibla62_72p | I2647: 1078 | J2647: 33 | K2647: =IF(ISNA(VLOOKUP(A2647,rdf!A:A,1,0)),"",VLOOKUP(A2647,rdf!A:B,2,0))
A2648: 0A56 | B2648: Not Visible | C2648: ***:* | D2648: NA:NA | E2648: TDEV | F2648: N/Grp'd | G2648: RW | H2648: fdcgcgtibla81_91p | I2648: 1078 | J2648: 33 | K2648: =IF(ISNA(VLOOKUP(A2648,rdf!A:A,1,0)),"",VLOOKUP(A2648,rdf!A:B,2,0))
A2649: 0A57 | B2649: Not Visible | C2649: ***:* | D2649: NA:NA | E2649: TDEV | F2649: N/Grp'd | G2649: RW | H2649: fdcgcgtibla81_91p | I2649: 1078 | J2649: 33 | K2649: =IF(ISNA(VLOOKUP(A2649,rdf!A:A,1,0)),"",VLOOKUP(A2649,rdf!A:B,2,0))
A2650: 0A58 | B2650: Not Visible | C2650: ***:* | D2650: NA:NA | E2650: TDEV | F2650: N/Grp'd | G2650: RW | H2650: fdcgcgtibla81_91p | I2650: 1078 | J2650: 33 | K2650: =IF(ISNA(VLOOKUP(A2650,rdf!A:A,1,0)),"",VLOOKUP(A2650,rdf!A:B,2,0))
A2651: 0A59 | B2651: Not Visible | C2651: ***:* | D2651: NA:NA | E2651: TDEV | F2651: N/Grp'd | G2651: RW | H2651: - | I2651: 1078 | J2651: 1 | K2651: =IF(ISNA(VLOOKUP(A2651,rdf!A:A,1,0)),"",VLOOKUP(A2651,rdf!A:B,2,0))
A2652: 0A5A | B2652: Not Visible | C2652: ***:* | D2652: NA:NA | E2652: TDEV | F2652: N/Grp'd | G2652: RW | H2652: - | I2652: 1078 | J2652: 1 | K2652: =IF(ISNA(VLOOKUP(A2652,rdf!A:A,1,0)),"",VLOOKUP(A2652,rdf!A:B,2,0))
A2653: 0A5B | B2653: Not Visible | C2653: ***:* | D2653: NA:NA | E2653: TDEV | F2653: N/Grp'd | G2653: RW | H2653: - | I2653: 1078 | J2653: 1 | K2653: =IF(ISNA(VLOOKUP(A2653,rdf!A:A,1,0)),"",VLOOKUP(A2653,rdf!A:B,2,0))
... A2724: 0AA2 | B2724: Not Visible | C2724: ***:* | D2724: NA:NA | E2724: RDF1+TDEV | F2724: Grp'd | G2724: RW | H2724: fdcgcgkanaw03p | I2724: 34526 | J2724: 1 | K2724: =IF(ISNA(VLOOKUP(A2724,rdf!A:A,1,0)),"",VLOOKUP(A2724,rdf!A:B,2,0)) -> 11EA
A2725: 0AA3 | B2725: Not Visible | C2725: ???:? | D2725: NA:NA | E2725: TDEV | F2725: N/Grp'd | G2725: NR | H2725: - | I2725: 34526 | K2725: =IF(ISNA(VLOOKUP(A2725,rdf!A:A,1,0)),"",VLOOKUP(A2725,rdf!A:B,2,0))
A2726: 0AA4 | B2726: Not Visible | C2726: ???:? | D2726: NA:NA | E2726: TDEV | F2726: N/Grp'd | G2726: NR | H2726: - | I2726: 34526 | K2726: =IF(ISNA(VLOOKUP(A2726,rdf!A:A,1,0)),"",VLOOKUP(A2726,rdf!A:B,2,0))
A2727: 0AA5 | B2727: Not Visible | C2727: ???:? | D2727: NA:NA | E2727: TDEV | F2727: N/Grp'd | G2727: NR | H2727: - | I2727: 34526 | K2727: =IF(ISNA(VLOOKUP(A2727,rdf!A:A,1,0)),"",VLOOKUP(A2727,rdf!A:B,2,0))
A2728: 0AA6 | B2728: Not Visible | C2728: ???:? | D2728: NA:NA | E2728: TDEV | F2728: N/Grp'd | G2728: NR | H2728: - | I2728: 34526 | K2728: =IF(ISNA(VLOOKUP(A2728,rdf!A:A,1,0)),"",VLOOKUP(A2728,rdf!A:B,2,0))
A2729: 0AA7 | B2729: Not Visible | C2729: ???:? | D2729: NA:NA | E2729: TDEV | F2729: N/Grp'd | G2729: NR | H2729: - | I2729: 34526 | K2729: =IF(ISNA(VLOOKUP(A2729,rdf!A:A,1,0)),"",VLOOKUP(A2729,rdf!A:B,2,0))
...

Sheet SG
A1: Sym Dev | B1: Storage Group | C1: SG Count | D1: View Count | E1: FLG Count | F1: S | G1: Cap (MB) | H1: Used (MB)
A2: 00A1 | B2: ffctisaecc005_LPFC0 | C2: 6 | D2: 0 | E2: 1 | F2: . | G2: =VLOOKUP(A2,symdev!A:I,9,0) -> 3 | H2: =VLOOKUP(A2,symdev!A:J,10,0)
A3: 00A2 | B3: ffctisaecc005_LPFC0 | C3: 6 | D3: 0 | E3: 1 | F3: . | G3: =VLOOKUP(A3,symdev!A:I,9,0) -> 3 | H3: =VLOOKUP(A3,symdev!A:J,10,0)
A4: 00A3 | B4: ffctisaecc005_LPFC0 | C4: 6 | D4: 0 | E4: 1 | F4: . | G4: =VLOOKUP(A4,symdev!A:I,9,0) -> 3 | H4: =VLOOKUP(A4,symdev!A:J,10,0)
A5: 00A4 | B5: ffctisaecc005_LPFC0 | C5: 6 | D5: 0 | E5: 1 | F5: . | G5: =VLOOKUP(A5,symdev!A:I,9,0) -> 3 | H5: =VLOOKUP(A5,symdev!A:J,10,0)
A6: 00A5 | B6: ffctisaecc005_LPFC0 | C6: 6 | D6: 0 | E6: 1 | F6: . | G6: =VLOOKUP(A6,symdev!A:I,9,0) -> 3 | H6: =VLOOKUP(A6,symdev!A:J,10,0)
A7: 00A6 | B7: ffctisaecc005_LPFC0 | C7: 6 | D7: 0 | E7: 1 | F7: . | G7: =VLOOKUP(A7,symdev!A:I,9,0) -> 3 | H7: =VLOOKUP(A7,symdev!A:J,10,0)
A8: 00A7 | B8: ffctisaecc005_LPFC1 | C8: 6 | D8: 0 | E8: 1 | F8: . | G8: =VLOOKUP(A8,symdev!A:I,9,0) -> 3 | H8: =VLOOKUP(A8,symdev!A:J,10,0)
A9: 00A8 | B9: ffctisaecc005_LPFC1 | C9: 6 | D9: 0 | E9: 1 | F9: . | G9: =VLOOKUP(A9,symdev!A:I,9,0) -> 3 | H9: =VLOOKUP(A9,symdev!A:J,10,0)
A10: 00A9 | B10: ffctisaecc005_LPFC1 | C10: 6 | D10: 0 | E10: 1 | F10: . | G10: =VLOOKUP(A10,symdev!A:I,9,0) -> 3 | H10: =VLOOKUP(A10,symdev!A:J,10,0)
A11: 00AA | B11: ffctisaecc005_LPFC1 | C11: 6 | D11: 0 | E11: 1 | F11: . | G11: =VLOOKUP(A11,symdev!A:I,9,0) -> 3 | H11: =VLOOKUP(A11,symdev!A:J,10,0)
A12: 00AB | B12: ffctisaecc005_LPFC1 | C12: 6 | D12: 0 | E12: 1 | F12: . | G12: =VLOOKUP(A12,symdev!A:I,9,0) -> 3 | H12: =VLOOKUP(A12,symdev!A:J,10,0)
A13: 00AC | B13: ffctisaecc005_LPFC1 | C13: 6 | D13: 0 | E13: 1 | F13: . | G13: =VLOOKUP(A13,symdev!A:I,9,0) -> 3 | H13: =VLOOKUP(A13,symdev!A:J,10,0)
... A4738: 15F9 | B4738: - | C4738: - | D4738: - | E4738: - | F4738: - | G4738: =VLOOKUP(A4738,symdev!A:I,9,0) -> 34526 | H4738: =VLOOKUP(A4738,symdev!A:J,10,0) -> 1

Sheet rdf
A1: Sym | B1: RDF | C1: --------- | D1: ----- | H1: R1 Inv | I1: R2 Inv | J1: ----------------------
A2: Dev | B2: RDev | C2: Typ:G | D2: SA | E2: RA | F2: LNK | G2: MDATE | H2: Tracks | I2: Tracks | J2: Dev | K2: RDev | L2: Pair
A3: 01BE | B3: 01BE | C3: R1:12 | D3: RW | E3: RW | F3: RW | G3: A..1. | H3: 0 | I3: 0 | J3: RW | K3: WD | L3: Consistent
A4: 01BF | B4: 01BF | C4: R1:12 | D4: RW | E4: RW | F4: RW | G4: A..1. | H4: 0 | I4: 0 | J4: RW | K4: WD | L4: Consistent
A5: 01C0 | B5: 01C0 | C5: R1:12 | D5: RW | E5: RW | F5: RW | G5: A..1. | H5: 0 | I5: 0 | J5: RW | K5: WD | L5: Consistent
A6: 01C1 | B6: 01C1 | C6: R1:13 | D6: RW | E6: RW | F6: RW | G6: A..1. | H6: 0 | I6: 0 | J6: RW | K6: WD | L6: Consistent
A7: 01C2 | B7: 01C2 | C7: R1:13 | D7: RW | E7: RW | F7: RW | G7: A..1. | H7: 0 | I7: 0 | J7: RW | K7: WD | L7: Consistent
A8: 01C3 | B8: 01C3 | C8: R1:13 | D8: RW | E8: RW | F8: RW | G8: A..1. | H8: 0 | I8: 0 | J8: RW | K8: WD | L8: Consistent
A9: 01C4 | B9: 01C4 | C9: R1:14 | D9: RW | E9: RW | F9: RW | G9: A..1. | H9: 0 | I9: 0 | J9: RW | K9: WD | L9: Consistent
A10: 01C5 | B10: 01C5 | C10: R1:14 | D10: RW | E10: RW | F10: RW | G10: A..1. | H10: 0 | I10: 0 | J10: RW | K10: WD | L10: Consistent
A11: 01C6 | B11: 01C6 | C11: R1:15 | D11: RW | E11: RW | F11: RW | G11: A..1. | H11: 0 | I11: 0 | J11: RW | K11: WD | L11: Consistent
A12: 01C7 | B12: 01C7 | C12: R1:16 | D12: RW | E12: RW | F12: RW | G12: A..1. | H12: 0 | I12: 0 | J12: RW | K12: WD | L12: Consistent
A13: 01C8 | B13: 01C8 | C13: R1:11 | D13: RW | E13: RW | F13: RW | G13: A..1. | H13: 0 | I13: 0 | J13: RW | K13: WD | L13: Consistent
... A3602: 15F6 | B3602: 272D | C3602: R1:129 | D3602: RW | E3602: RW | F3602: RW | G3602: A..1. | H3602: 0 | I3602: 0 | J3602: RW | K3602: WD | L3602: Consistent
A3604: Total | B3604: -------- | C3604: --------
B3605: Track(s) | C3605: 0 | D3605: 300096
B3606: MB(s) | C3606: 0.0 | D3606: 18756.0
A3608: Legend | B3608: for | C3608: MODES:
B3610: M(ode | C3610: of | D3610: Operation) | E3610: : | F3610: A | G3610: = | H3610: Async, | I3610: S | J3610: = | K3610: Sync, | L3610: E | M3610: = | N3610: Semi-sync, | O3610: C | P3610: = | Q3610: Adaptive | R3610: Copy
B3611: D(omino) | C3611: : | D3611: X | E3611: = | F3611: Enabled, | G3611: . | H3611: = | I3611: Disabled
B3612: A(daptive | C3612: Copy) | D3612: : | E3612: D | F3612: = | G3612: Disk | H3612: Mode, | I3612: W | J3612: = | K3612: WP | L3612: Mode, | M3612: . | N3612: = | O3612: ACp | P3612: off
B3613: (Mirror) | C3613: T(ype) | D3613: : | E3613: 1 | F3613: = | G3613: R1, | H3613: 2 | I3613: = | J3613: R2
B3614: (Consistency) | C3614: E(xempt): | D3614: X | E3614: = | F3614: Enabled, | G3614: . | H3614: = | I3614: Disabled, | J3614: M | K3614: = | L3614: Mixed, | M3614: - | N3614: = | O3614: N/A

Sheet pool
A1: Sym | B1: FLG | C1: Total | D1: Sub | E1: Allocated | G1: Written | I1: Size/Ratio
A2: Dev | B2: T | C2: MBs | D2: (%) | E2: MBs | F2: (%) | G2: MBs | H2: (%) | I2: MBs | J2: (%)
A3: 01BE | B3: B | C3: 34526 | D3: 0 | E3: 11743 | F3: 34 | G3: 11733 | H3: 34 | I3: - | J3: - | K3: 01BE B 34526 0 12050 35 12041 35 - -
A4: 01BF | B4: B | C4: 34526 | D4: 0 | E4: 218 | F4: 1 | G4: 214 | H4: 1 | I4: - | J4: - | K4: 01BF B 34526 0 218 1 214 1 - -
A5: 01C0 | B5: B | C5: 34526 | D5: 0 | E5: 4 | F5: 0 | G5: 1 | H5: 0 | I5: - | J5: - | K5: 01C0 B 34526 0 4 0 1 0 - -
A6: 01C1 | B6: B | C6: 34526 | D6: 0 | E6: 3161 | F6: 9 | G6: 3161 | H6: 9 | I6: - | J6: - | K6: 01C1 B 34526 0 3161 9 3161 9 - -
A7: 01C2 | B7: B | C7: 34526 | D7: 0 | E7: 101 | F7: 0 | G7: 100 | H7: 0 | I7: - | J7: - | K7: 01C2 B 34526 0 140 0 140 0 - -
A8: 01C3 | B8: B | C8: 34526 | D8: 0 | E8: 4 | F8: 0 | G8: 4 | H8: 0 | I8: - | J8: - | K8: 01C3 B 34526 0 4 0 4 0 - -
A9: 01C4 | B9: B | C9: 34526 | D9: 0 | E9: 3712 | F9: 11 | G9: 3710 | H9: 11 | I9: - | J9: - | K9: 01C4 B 34526 0 3712 11 3710 11 - -
A10: 01C5 | B10: B | C10: 34526 | D10: 0 | E10: 1500 | F10: 4 | G10: 1498 | H10: 4 | I10: - | J10: - | K10: 01C5 B 34526 0 1500 4 1500 4 - -
A11: 01C6 | B11: B | C11: 34526 | D11: 0 | E11: 92 | F11: 0 | G11: 92 | H11: 0 | I11: - | J11: - | K11: 01C6 B 34526 0 92 0 92 0 - -
A12: 01C7 | B12: B | C12: 34526 | D12: 0 | E12: 2840 | F12: 8 | G12: 2839 | H12: 8 | I12: - | J12: - | K12: 01C7 B 34526 0 2840 8 2839 8 - -
A13: 01C8 | B13: B | C13: 34526 | D13: 0 | E13: 7404 | F13: 21 | G13: 7403 | H13: 21 | I13: - | J13: - | K13: 01C8 B 34526 0 7405 21 7404 21 - -
A14: 01C9 | B14: B | C14: 34526 | D14: 0 | E14: 3 | F14: 0 | G14: 3 | H14: 0 | I14: - | J14: - | K14: 01C9 B 34526 0 3 0 3 0 - -
... A4310: 15F9 | B4310: B | C4310: 34526 | D4310: 0 | E4310: 1 | F4310: 0 | G4310: 1 | H4310: 0 | I4310: - | J4310: - | K4310: 159B B 34526 0 1 0 1 0 - -
A4311: ---------- | B4311: --- | C4311: ---------- | D4311: --- | E4311: ---------- | F4311: --- | G4311: ---------- | H4311: --- | K4311: 159C B 34526 0 1 0 1 0 - -
A4312: MBs | B4312: 146278995 | C4312: 173 | D4312: 60782591 | E4312: 42 | F4312: 60759905 | G4312: 42 | H4312: - | I4312: - | K4312: 159D B 34526 0 1 0 1 0 - -
A4313: } | K4313: 159E B 34526 0 1 0 1 0 - -
K4314: 159F B 34526 0 1 0 1 0 - -
A4315: Other-Pool | B4315: Bound | C4315: Thin | D4315: Devices | E4315: have | F4315: allocations | G4315: in | H4315: Device | I4315: Pool | J4315: 2804_450GB | K4315: 15A0 B 34526 0 1 0 1 0 - -
K4316: 15A1 B 34526 0 1 0 1 0 - -
K4317: 15A2 B 34526 0 1 0 1 0 - -
A4318: (S)hared | B4318: Tracks | C4318: : | D4318: X | E4318: = | F4318: Shared | G4318: Tracks | H4318: , | I4318: . | J4318: = | K4318: 15A3 B 34526 0 1 0 1 0 - - | L4318: Shared | M4318: Tracks
A4319: Bound | B4319: Devices | C4319: FLG: | K4319: 15A4 B 34526 0 1 0 1 0 - -
A4320: S(T)atus | B4320: : | C4320: B | D4320: = | E4320: Bound, | F4320: I | G4320: = | H4320: Binding, | I4320: U | J4320: = | K4320: 15A5 B 34526 0 1 0 1 0 - - | L4320: A | M4320: = | N4320: Allocating,
A4321: D | B4321: = | C4321: Deallocating, | D4321: R | E4321: = | F4321: Reclaiming, | G4321: C | H4321: = | I4321: Compressing, | K4321: 15A6 B 34526 0 1 0 1 0 - -
A4322: N | B4322: = | C4322: Uncompressing, | D4322: . | E4322: = | F4322: Unbound, | K4322: 15A7 B 34526 0 1 0 1 0 - -
K4323: 15A8 B 34526 0 1 0 1 0 - -
K4324: 15A9 B 34526 0 1 0 1 0 - -
K4325: 15AA B 34526 0 1 0 1 0 - -
K4326: 15AB B 34526 0 1 0 1 0 - -
K4327: 15AC B 34526 0 1 0 1 0 - -
K4328: 15AD B 34526 0 1 0 1 0 - -
K4329: 15AE B 34526 0 1 0 1 0 - -
K4330: 15AF B 34526 0 1 0 1 0 - -
K4331: 15B0 B 34526 0 1 0 1 0 - -
K4332: 15B1 B 34526 0 1 0 1 0 - -
K4333: 15B2 B 34526 0 1 0 1 0 - -
K4334: 15B3 B 34526 0 1 0 1 0 - -
... K4404: 15F9 B 34526 0 1 0 1 0 - -
