Workbook

Sheet Note
A6: =IF(ISERROR(VLOOKUP(B2,'[1]010114'!B:C,2,FALSE)),"new",VLOOKUP(B2,'[1]010114'!B:C,2,FALSE)) -> new

Sheet 060114
A1: SA Name | B1: Capacity ID | D1: Requestor | E1: Submitter | F1: Business Sector | G1: Business Group | H1: Business Line | I1: Business | J1: Project Name | K1: Type of Request | L1: Status | M1: Current Phase | N1: In Queue of | O1: Inque Start Time | P1: SLA Days | Q1: Time in Queue | R1: Overall Request Time | S1: Region
A2: Richman Acosta | B2: CAP0029059 | C2: 0 | D2: Jaymark Cruz | E2: jc70945 | F2: CTI | G2: CTI Global Technology Operations | H2: Global Voice Operations | I2: Global Voice Operations | J2: Drive Space Request | K2: Storage Request - NAS | L2: Open | M2: Submitter Approval | N2: jc70945; | O2: 41411.122 | P2: 0 | Q2: 233.98205 | R2: 233.98205 | S2: ASPAC
A3: Kenneth Lam | B3: CAP0030803 | C3: new | D3: Hansen Mah | E3: hm07942 | F3: CTI | G3: CTI IT Service Assurance | H3: CTI IT Service Assurance | I3: CTI IT Service Assurance | J3: N/A | K3: Storage Request - NAS | L3: Open | M3: SA Approval | N3: jc18965;kl98701;vd95952; | O3: 41507.192 | P3: 1 | Q3: 137.91286 | R3: 137.93174 | S3: ASPAC
A4: Victor Inocentes | B4: CAP0032269 | C4: new | D4: victor inocentes | E4: vi10863 | F4: CTI | G4: CTI Operations - Regional | H4: CTI Asia Pacific | I4: CTI Asia Pacific | J4: NAS Storage - BAU | K4: Storage Request - NAS | L4: Open | M4: Submitter Approval | N4: vi10863; | O4: 41589.139 | P4: 0 | Q4: 55.965995 | R4: 55.965995 | S4: ASPAC
A5: Janakiraman Parthasarathy | B5: CAP0032767 | C5: new | D5: Hansen Mah | E5: hm07942 | F5: CTI | G5: CTI IT Service Assurance | H5: CTI IT Service Assurance | I5: CTI IT Service Assurance | J5: desktop optimization | K5: Storage Request - NAS | L5: Open | M5: CTI Approval | N5: ae65874;ah74163;jn62051;ks14775;mp35609;mt06736;sy25911;ta19710;up44123; | O5: 41624.718 | P5: 3 | Q5: 20.386088 | R5: 25.20059 | S5: ASPAC
A6: Kam Bong So | B6: CAP0032124 | C6: new | D6: Sudhakar Lingamneni | E6: sl18564 | F6: ICG_Tech | G6: ICG_Tech Citi Markets Technology | H6: ICG_Tech_CMT - Equities & Equity Middle Office | I6: Global Equities - Dadlani, Sundeep | J6: BAU | K6: Storage Request - NAS | L6: Open | M6: Submitter Approval | N6: sl18564; | O6: 41579.001 | P6: 0 | Q6: 66.103484 | R6: 66.103484 | S6: ASPAC
A7: Kam Bong So | B7: CAP0032384 | C7: new | D7: kam bong so | E7: ks24484 | F7: ICG_Tech | G7: ICG_Tech Citi Markets Technology | H7: ICG_Tech_CMT - Equities & Equity Middle Office | I7: ASPAC - EQ - Lingard, Richard | J7: WS19318572 | K7: Storage Request - SAN | L7: Open | M7: Pre-Design Approval | N7: ds76190;fz92331;mp96590;sw63477;tb60866; | O7: 41603.207 | P7: 1 | Q7: 41.897153 | R7: 48.207431 | S7: ASPAC
A8: Connie Kwok | B8: CAP0032742 | C8: new | D8: zhen pan | E8: sp59305 | F8: ICG_Tech | G8: ICG_Tech Market Data Services | H8: MDS - Ekong,Victor | I8: MDS - Ekong,Victor | J8: WS7422496 GDC-AP-RHEL OS EOL Upgrade | K8: Infrastructure | L8: Open | M8: CTI Approval | N8: jw18696; | O8: 41627.85 | P8: 5 | Q8: 17.254132 | R8: 26.065093 | S8: ASPAC
A9: Connie Kwok | B9: CAP0032749 | C9: new | D9: zhen pan | E9: sp59305 | F9: ICG_Tech | G9: ICG_Tech Market Data Services | H9: MDS - Ekong,Victor | I9: MDS - Ekong,Victor | J9: WS7422496 GDC-AP-RHEL OS EOL Upgrade | K9: Infrastructure | L9: Open | M9: Post-CTI Approval | N9: bm58431; | O9: 41641.206 | P9: 0 | Q9: 3.8987847 | R9: 25.884826 | S9: ASPAC
A10: Connie Kwok | B10: CAP0032911 | C10: new | D10: connie kwok | E10: ck12002 | F10: ICG_Tech | G10: ICG_Tech Citi Markets Technology | H10: ICG_Tech_CMT - Equities & Equity Middle Office | I10: ASPAC - EQ - Lingard, Richard | J10: AP COMET | K10: Storage Request - SAN | L10: Open | M10: Pre-Design Approval | N10: ds76190;fz92331;mp96590;sw63477;tb60866; | O10: 41631.913 | P10: 1 | Q10: 13.191574 | R10: 13.203125 | S10: ASPAC
A11: Kam Bong So | B11: CAP0032936 | C11: new | D11: connie kwok | E11: ck12002 | F11: ICG_Tech | G11: ICG_Tech Citi Markets Technology | H11: ICG_Tech_CMT - Equities & Equity Middle Office | I11: ASPAC - EQ - Lingard, Richard | J11: BAU | K11: Storage Request - SAN | L11: Open | M11: Pre-Design Approval | N11: ds76190;fz92331;mp96590;sw63477;tb60866; | O11: 41637.918 | P11: 1 | Q11: 7.1866435 | R11: 7.2066667 | S11: ASPAC
A12: Ramesh Shunmugavelu | B12: CAP0032298 | C12: new | D12: shunmugavelu ramesh | E12: mg06092 | F12: ICG_Tech | G12: ICG_Tech ASPAC | H12: ASPAC - In-Country Tech - Chan, Ying Man | I12: ASPAC - CMT - Chan, Ying Man | J12: CTI Virtualization | K12: VMWare | L12: Open | M12: CSI Application Approval | N12: CSI->App Manager | O12: 41599.393 | P12: 0 | Q12: 45.71162 | R12: 53.868218 | S12: ASPAC
A13: Thanoj Krishnan | B13: CAP0032353 | C13: new | D13: james alfieri | E13: tk26563 | F13: ICG_Tech | G13: ICG_Tech Citi Markets Technology | H13: ICG_Tech_CMT - FX, LM, Global Data and CitiVelocity | I13: GMT - FXLM_Derivatives | J13: Global-GDC-Tech Room Initiative | K13: Infrastructure | L13: Open | M13: Post-CTI Approval | N13: ac94164; | O13: 41602.993 | P13: 0 | Q13: 42.112014 | R13: 51.998796 | S13: ASPAC
A14: Thanoj Krishnan | B14: CAP0032807 | C14: new | D14: neeru miglani | E14: tk26563 | F14: ICG_Tech | G14: ICG_Tech Citi Markets Technology | H14: ICG_Tech_CMT - Equities & Equity Middle Office | I14: ASPAC - EQ - Lingard, Richard | J14: VPR10268 AP-ICG-Solaris/Sybase EOL Migration | K14: Infrastructure | L14: Open | M14: VDR Approval | N14: bm72511;ca61428;de93703;;kc57616;mm69256;rg24048; | O14: 41628.291 | P14: 0 | Q14: 16.813854 | R14: 20.70713 | S14: ASPAC
A15: Ronald Lagrisola | B15: CAP0028599 | C15: 0 | D15: Ronald lagrisola | E15: rl60197 | F15: CTI | G15: CTI Operations - Regional | H15: CTI Operations | I15: CTI - Global Technology Operations | J15: CC-SG-Changi Restack Program | K15: Equipment Relocation | L15: Open | M15: SA Approval | N15: kc88195; | O15: 41389.206 | P15: 1 | Q15: 255.89863 | R15: 255.9697 | S15: ASPAC
A16: Jakub Szymanski | B16: CAP0032234 | C16: new | D16: kamalakaran b t | E16: bk67816 | F16: CTI | G16: CTI Operations - Regional | H16: CTI Asia Pacific | I16: CTI Asia Pacific | J16: CSIL CUCM Cluster | K16: Infrastructure | L16: Open | M16: SA Approval | N16: jj56755;js38148;kz98667;mg14463;pg97278;ws74280; | O16: 41603.342 | P16: 1 | Q16: 41.762303 | R16: 59.877616 | S16: ASPAC
A17: Gary Evans | B17: CAP0031073 | C17: new | D17: John Porter | E17: jp88510 | F17: CTI | G17: CTI Global Data Center Services | H17: Storage & Backup | I17: Storage & Backup | J17: GTO GUCO PST INGESTION | K17: Storage Request - SAN | L17: Open | M17: Submitter Approval | N17: jp88510; | O17: 41521.559 | P17: 0 | Q17: 123.54547 | R17: 123.54547 | S17: ASPAC
A18: Thomas Mathias | B18: CAP0027065 | C18: 0 | D18: thomas mathias | E18: tm81308 | F18: GCG | G18: Asia Pacific | H18: Singapore | I18: Ong,Kim Boon | J18: BAU | K18: Storage Request - SAN | L18: Open | M18: Submitter Approval | N18: tm81308; | O18: 41306.069 | P18: 0 | Q18: 339.0351 | R18: 339.0351 | S18: ASPAC
A19: Sreelal Kunnummal Sreedharan | B19: CAP0027460 | C19: 0 | D19: sreelal kunnummal sreedharan | E19: sk78401 | F19: GCG | G19: Asia Pacific | H19: India | I19: Moorthy,Sandesh Krishna | J19: DMIS- VPR15816 | K19: Storage Request - SAN | L19: Open | M19: Submitter Approval | N19: sk78401; | O19: 41330.062 | P19: 0 | Q19: 315.04273 | R19: 315.04273 | S19: ASPAC
A20: Deepan Chakkaravarthi | B20: CAP0027517 | C20: 0 | D20: Deepan | E20: dc58786 | F20: GCG | G20: Asia Pacific | H20: Korea, Republic of | I20: Lee,Gi Young | J20: WS9980079 GCG-AP-Global Tablet Implementation | K20: Storage Request - SAN | L20: Open | M20: Submitter Approval | N20: dc58786; | O20: 41331.97 | P20: 0 | Q20: 313.13436 | R20: 313.13436 | S20: ASPAC
A21: Deepan Chakkaravarthi | B21: CAP0027518 | C21: 0 | D21: Deepan | E21: dc58786 | F21: GCG | G21: Asia Pacific | H21: Global Consumer Bank, Japan | I21: Global Consumer Bank, Japan | J21: VPR9302 - JP-CC-SHARED DOCUMENTUM ENV MIGRATION | K21: Storage Request - SAN | L21: Open | M21: Submitter Approval | N21: dc58786; | O21: 41332.077 | P21: 0 | Q21: 313.028 | R21: 313.028 | S21: ASPAC
A22: Pachaiyappan Bathirachalamoorthi | B22: CAP0029869 | C22: new | D22: Franky Ronaldy | E22: fr34772 | F22: CTI | G22: CTI Global Data Center Services | H22: Data Center Operations | I22: Data Center Operations | J22: BAU | K22: Storage Request - SAN | L22: Open | M22: Submitter Approval | N22: fr34772; | O22: 41451.108 | P22: 0 | Q22: 193.99632 | R22: 193.99632 | S22: ASPAC
A23: Udaya Gudimella | B23: CAP0029905 | C23: new | D23: vikram thomas rajan | E23: vt12449 | F23: GCG | G23: Asia Pacific | H23: Asia Regional Technology | I23: Deleted, DevCancelled, Rejected, and Retired Applications (Asia Pacific) | J23: Regional 3D Secure | K23: Storage Request - SAN | L23: Open | M23: Submitter Approval | N23: vt12449; | O23: 41453.08 | P23: 0 | Q23: 192.02491 | R23: 192.02491 | S23: ASPAC
A24: Matheswaran Ponnusamy | B24: CAP0030289 | C24: new | D24: matheswaran ponnusamy | E24: mp59890 | F24: GCG | G24: Global Product Development | H24: Global Product Development | I24: Customer Management | J24: BAU | K24: Infrastructure | L24: Open | M24: Post-CTI Approval | N24: hc79466;kc47081;km37089;km66166;mc99195;pk93615;sl70906;yl82682; | O24: 41504.976 | P24: 0 | Q24: 140.12854 | R24: 167.72583 | S24: ASPAC
A25: Matheswaran Ponnusamy | B25: CAP0030439 | C25: new | D25: raghubabu machavolu | E25: md10740 | F25: CTI | J25: BAU | K25: Storage Request - SAN | L25: Open | M25: Submitter Approval | N25: rm00297;md10740; | O25: 41485.122 | P25: 0 | Q25: 159.9822 | R25: 159.9822 | S25: ASPAC
A26: Udaya Gudimella | B26: CAP0030608 | C26: new | D26: baskaran pandurangan | E26: ss45123 | F26: GCG | G26: Asia Pacific | H26: Singapore | I26: Yohannan,Rajesh | J26: GCG-AP-GCMS DASD Increase | K26: Storage Request - SAN | L26: Open | M26: Submitter Approval | N26: bp33309;ss45123; | O26: 41493.079 | P26: 0 | Q26: 152.02544 | R26: 152.02544 | S26: ASPAC
A27: Pachaiyappan Bathirachalamoorthi | B27: CAP0032389 | C27: new | D27: William Jake C. Dabac | E27: wd16247 | F27: CTI | G27: CTI Global Data Center Services | H27: Data Center Operations | I27: Data Center Operations | J27: WS18908510 | K27: Storage Request - SAN | L27: Open | M27: Submitter Approval | N27: wd16247; | O27: 41597.218 | P27: 0 | Q27: 47.886343 | R27: 47.886343 | S27: ASPAC
A28: Kuppusamy Vellamadam Palavesam | B28: CAP0032875 | C28: new | D28: kuppusamy Vellamadam Palavesam | E28: kv34623 | F28: CTI | G28: CTI Global Data Center Services | H28: Data Center Operations | I28: Data Center Operations | J28: WS12319146- ICG-AP-TTS Resiliency setup | K28: AIX | L28: Open | M28: Pre-Design Approval | N28: bf36309;da20304;dg58174;nw05330;sk29560;sk72161; | O28: 41641.1 | P28: 1 | Q28: 4.0044097 | R28: 17.003519 | S28: ASPAC
A29: Nayab Vali | B29: CAP0030549 | C29: new | D29: nayab vali | E29: nv87369 | F29: CTO | G29: GFTS | H29: GFT Global Finance Technology | I29: GFT - Gangesar,Pathman | J29: BAU | K29: VMWare | L29: Open | M29: CTI Approval | N29: bw03051;ec04161;gm07616;kl24810;kn92290;ln51521;ra05079;rg18542;rg54081;rk72233;rm19957;rv56747;sh05124;st64438;vk63388; | O29: 41605.815 | P29: 1 | Q29: 39.289676 | R29: 154.24095 | S29: ASPAC
A30: Nayab Vali | B30: CAP0032278 | C30: new | D30: nayab vali | E30: nv87369 | F30: ICG_Tech | G30: ICG_Tech Citi Markets Technology | H30: ICG_Tech_CMT - Markets Operations | I30: GMT - Agarwal,Himanshu | J30: Japan Frontend apps Windows 2008 - UAT | K30: VMWare | L30: Open | M30: CTI Approval | N30: an43463;bw03051;ec04161;rk72233;vr73325;vw67949; | O30: 41643.227 | P30: 1 | Q30: 1.8772338 | R30: 55.187616 | S30: ASPAC
A31: Jesudoss Rajappa Jones Velanganni | B31: CAP0032594 | C31: new | D31: Jesudoss Rajappa Jones velanganni | E31: jj36600 | F31: CTI | G31: CTI Operations - Regional | H31: CTI Asia Pacific | I31: CTI Asia Pacific | J31: BAU | K31: Storage Request - NAS | L31: Open | M31: CTI Approval | N31: ae65874;ah74163;jn62051;ks14775;mp35609;mt06736;sy25911;ta19710; | O31: 41610.678 | P31: 3 | Q31: 34.426887 | R31: 35.164491 | S31: ASPAC
A32: Prashant Pate | B32: CAP0032932 | C32: new | D32: Prashant Pate | E32: pp08563 | F32: GCG | G32: Cross Function | H32: eBusiness (eBUS) | I32: Sebastian, Jose | J32: Windows 2008 OS upgrade - KTC | K32: VMWare | L32: Open | M32: Pre-Design Approval | N32: cc28703;jh90898;ke63942;rm50898;sp10283; | O32: 41635.1 | P32: 1 | Q32: 10.004167 | R32: 10.004167 | S32: ASPAC
A33: Andrew John Horgan | B33: CAP0028808 | C33: 0 | D33: william adair | E33: sd37642 | F33: ICG_Tech | G33: ICG_Tech Citi Markets Technology | H33: ICG_Tech_CMT - Equities & Equity Middle Office | I33: Global Equities - Smith,John | J33: APAC STI THOR GLOBAL ROLLOUT | K33: Infrastructure | L33: Open | M33: Post-CTI Approval | N33: bm58431; | O33: 41585.862 | P33: 0 | Q33: 59.24235 | R33: 244.45201 | S33: ASPAC
A34: David Berkes | B34: CAP0030937 | C34: new | D34: david berkes | E34: oa01082 | F34: ICG_Tech | G34: ICG_Tech Citi Markets Technology | H34: ICG_Tech_CMT - Equities & Equity Middle Office | I34: Global Equities - Uppuluri, Pk | J34: OMM HK Exchange PROD / UAT Expansion | K34: Cost Reduction | L34: Open | M34: Pre-Design Approval | N34: ds76190;fz92331;mk11536;mp96590;sw63477;tb60866; | O34: 41541.542 | P34: 1 | Q34: 103.56234 | R34: 131.222 | S34: ASPAC
A35: Andrew John Horgan | B35: CAP0031699 | C35: new | D35: dipon kumar rai | E35: sd37642 | F35: ICG_Tech | G35: ICG_Tech GTS Tech Treasury and Trade Services | H35: TTS - Statnick,Thomas | I35: TTS - Statnick,Thomas | J35: FTI (Funds Transfer Integration) | K35: VMWare | L35: Open | M35: CTI Approval | N35: bw03051;ec04161;rk72233;vw67949; | O35: 41582.693 | P35: 1 | Q35: 62.411123 | R35: 90.63794 | S35: ASPAC
A36: Kir Kip Lee | B36: CAP0032466 | C36: new | D36: kir kip lee | E36: kl29887 | F36: ICG_Tech | G36: ICG_Tech GTS Tech Treasury and Trade Services | H36: TTS - Fabian,Eduard | I36: TTS - Fabian,Eduard | J36: WS13260366 ICG-AP-Com Bank Portal | K36: Storage Request - SAN | L36: Open | M36: Post-CTI Approval | N36: ak47115;sk35901; | O36: 41605.941 | P36: 0 | Q36: 39.163924 | R36: 45.039086 | S36: ASPAC
A37: Kir Kip Lee | B37: CAP0032658 | C37: new | D37: kir kip lee | E37: kl29887 | F37: ICG_Tech | G37: ICG_Tech Private Bank - Personal Wealth Management | H37: GWM - Asia Technology | I37: GWM - Asia Technology | J37: WS17198640 ICG-SG/HK-CPB Tradelink | K37: No Servers - Memory/CPU Upgrade | L37: Open | M37: Pre-Design Approval | N37: ac33575;mo77554; | O37: 41618.264 | P37: 1 | Q37: 26.840116 | R37: 31.840799 | S37: ASPAC
A38: Vittal Muttatti | B38: CAP0032692 | C38: new | D38: Vittal Muttatti | E38: mv20974 | F38: ICG_Tech | G38: ICG_Tech Citi Markets Technology | H38: ICG_Tech_CMT - Equities & Equity Middle Office | I38: Global Equities - Uppuluri, Pk | J38: ICG-JP/HK-Equities Risk Servers Migration | K38: Infrastructure | L38: Open | M38: Final Business Signoff | N38: ds76190;tt82362; | O38: 41645.088 | P38: 0 | Q38: 0.016655093 | R38: 27.870903 | S38: ASPAC
A39: Kir Kip Lee | B39: CAP0032711 | C39: new | D39: kir kip lee | E39: kl29887 | F39: ICG_Tech | G39: ICG_Tech Private Bank - Personal Wealth Management | H39: GWM - Asia Technology | I39: GWM - Asia Technology | J39: WS17198640 ICG-SG/HK-CPB Tradelink | K39: Storage Request - SAN | L39: Open | M39: CTI Approval | N39: ac94164;jn62051;ks14775;md46033;pr72496;rb71989;rs81295;ss84555;sy25911;ta19710;vv58942; | O39: 41631.442 | P39: 3 | Q39: 13.662361 | R39: 26.935694 | S39: ASPAC
A40: Kir Kip Lee | B40: CAP0032715 | C40: new | D40: kir kip lee | E40: kl29887 | F40: ICG_Tech | G40: ICG_Tech GTS Tech Treasury and Trade Services | H40: TTS - Fabian,Eduard | I40: TTS - Fabian,Eduard | J40: WS15009752 ICG-AP-Flexcube V11 upgrade | K40: Storage Request - SAN | L40: Open | M40: P&L Approval | N40: ac33575;cc10261;tt82362; | O40: 41641.139 | P40: 0 | Q40: 3.9659144 | R40: 26.814294 | S40: ASPAC
...

Sheet 070114
A1: SA Name | B1: Capacity ID | D1: Requestor | E1: Submitter | F1: Business Sector | G1: Business Group | H1: Business Line | I1: Business | J1: Project Name | K1: Type of Request | L1: Status | M1: Current Phase | N1: In Queue of | O1: Inque Start Time | P1: SLA Days | Q1: Time in Queue | R1: Overall Request Time | S1: Region
A2: Richman Acosta | B2: CAP0029059 | C2: 0 | D2: Jaymark Cruz | E2: jc70945 | F2: CTI | G2: CTI Global Technology Operations | H2: Global Voice Operations | I2: Global Voice Operations | J2: Drive Space Request | K2: Storage Request - NAS | L2: Open | M2: Submitter Approval | N2: jc70945; | O2: 41411.122 | P2: 0 | Q2: 234.9819 | R2: 234.9819 | S2: ASPAC
A3: Kenneth Lam | B3: CAP0030803 | C3: new | D3: Hansen Mah | E3: hm07942 | F3: CTI | G3: CTI IT Service Assurance | H3: CTI IT Service Assurance | I3: CTI IT Service Assurance | J3: N/A | K3: Storage Request - NAS | L3: Open | M3: SA Approval | N3: jc18965;kl98701;vd95952; | O3: 41507.192 | P3: 1 | Q3: 138.91271 | R3: 138.93159 | S3: ASPAC
A4: Victor Inocentes | B4: CAP0032269 | C4: new | D4: victor inocentes | E4: vi10863 | F4: CTI | G4: CTI Operations - Regional | H4: CTI Asia Pacific | I4: CTI Asia Pacific | J4: NAS Storage - BAU | K4: Storage Request - NAS | L4: Open | M4: Submitter Approval | N4: vi10863; | O4: 41589.139 | P4: 0 | Q4: 56.965845 | R4: 56.965845 | S4: ASPAC
A5: Janakiraman Parthasarathy | B5: CAP0032767 | C5: new | D5: Hansen Mah | E5: hm07942 | F5: CTI | G5: CTI IT Service Assurance | H5: CTI IT Service Assurance | I5: CTI IT Service Assurance | J5: desktop optimization | K5: Storage Request - NAS | L5: Open | M5: CTI Approval | N5: ae65874;ah74163;jn62051;ks14775;mp35609;mt06736;sy25911;ta19710;up44123; | O5: 41624.718 | P5: 3 | Q5: 21.385938 | R5: 26.20044 | S5: ASPAC
A6: Kam Bong So | B6: CAP0032124 | C6: new | D6: Sudhakar Lingamneni | E6: sl18564 | F6: ICG_Tech | G6: ICG_Tech Citi Markets Technology | H6: ICG_Tech_CMT - Equities & Equity Middle Office | I6: Global Equities - Dadlani, Sundeep | J6: BAU | K6: Storage Request - NAS | L6: Open | M6: Submitter Approval | N6: sl18564; | O6: 41579.001 | P6: 0 | Q6: 67.103333 | R6: 67.103333 | S6: ASPAC
A7: Kam Bong So | B7: CAP0032384 | C7: new | D7: kam bong so | E7: ks24484 | F7: ICG_Tech | G7: ICG_Tech Citi Markets Technology | H7: ICG_Tech_CMT - Equities & Equity Middle Office | I7: ASPAC - EQ - Lingard, Richard | J7: WS19318572 | K7: Storage Request - SAN | L7: Open | M7: Pre-Design Approval | N7: ds76190;fz92331;mp96590;sw63477;tb60866; | O7: 41603.207 | P7: 1 | Q7: 42.897002 | R7: 49.20728 | S7: ASPAC
A8: Connie Kwok | B8: CAP0032742 | C8: new | D8: zhen pan | E8: sp59305 | F8: ICG_Tech | G8: ICG_Tech Market Data Services | H8: MDS - Ekong,Victor | I8: MDS - Ekong,Victor | J8: WS7422496 GDC-AP-RHEL OS EOL Upgrade | K8: Infrastructure | L8: Open | M8: CTI Approval | N8: jw18696; | O8: 41627.85 | P8: 5 | Q8: 18.253981 | R8: 27.064942 | S8: ASPAC
A9: Connie Kwok | B9: CAP0032749 | C9: new | D9: zhen pan | E9: sp59305 | F9: ICG_Tech | G9: ICG_Tech Market Data Services | H9: MDS - Ekong,Victor | I9: MDS - Ekong,Victor | J9: WS7422496 GDC-AP-RHEL OS EOL Upgrade | K9: Infrastructure | L9: Open | M9: Post-CTI Approval | N9: bm58431; | O9: 41641.206 | P9: 0 | Q9: 4.8986343 | R9: 26.884676 | S9: ASPAC
A10: Connie Kwok | B10: CAP0032911 | C10: new | D10: connie kwok | E10: ck12002 | F10: ICG_Tech | G10: ICG_Tech Citi Markets Technology | H10: ICG_Tech_CMT - Equities & Equity Middle Office | I10: ASPAC - EQ - Lingard, Richard | J10: AP COMET | K10: Storage Request - SAN | L10: Open | M10: Pre-Design Approval | N10: ds76190;fz92331;mp96590;sw63477;tb60866; | O10: 41631.913 | P10: 1 | Q10: 14.191424 | R10: 14.202975 | S10: ASPAC
A11: Kam Bong So | B11: CAP0032936 | C11: new | D11: connie kwok | E11: ck12002 | F11: ICG_Tech | G11: ICG_Tech Citi Markets Technology | H11: ICG_Tech_CMT - Equities & Equity Middle Office | I11: ASPAC - EQ - Lingard, Richard | J11: BAU | K11: Storage Request - SAN | L11: Open | M11: Pre-Design Approval | N11: ds76190;fz92331;mp96590;sw63477;tb60866; | O11: 41637.918 | P11: 1 | Q11: 8.1864931 | R11: 8.2065162 | S11: ASPAC
A12: Ramesh Shunmugavelu | B12: CAP0032298 | C12: new | D12: shunmugavelu ramesh | E12: mg06092 | F12: ICG_Tech | G12: ICG_Tech ASPAC | H12: ASPAC - In-Country Tech - Chan, Ying Man | I12: ASPAC - CMT - Chan, Ying Man | J12: CTI Virtualization | K12: VMWare | L12: Open | M12: CSI Application Approval | N12: CSI->App Manager | O12: 41599.393 | P12: 0 | Q12: 46.71147 | R12: 54.868067 | S12: ASPAC
A13: Thanoj Krishnan | B13: CAP0032353 | C13: new | D13: james alfieri | E13: tk26563 | F13: ICG_Tech | G13: ICG_Tech Citi Markets Technology | H13: ICG_Tech_CMT - FX, LM, Global Data and CitiVelocity | I13: GMT - FXLM_Derivatives | J13: Global-GDC-Tech Room Initiative | K13: Infrastructure | L13: Open | M13: Post-CTI Approval | N13: ac94164; | O13: 41602.993 | P13: 0 | Q13: 43.111863 | R13: 52.998646 | S13: ASPAC
A14: Thanoj Krishnan | B14: CAP0032807 | C14: new | D14: neeru miglani | E14: tk26563 | F14: ICG_Tech | G14: ICG_Tech Citi Markets Technology | H14: ICG_Tech_CMT - Equities & Equity Middle Office | I14: ASPAC - EQ - Lingard, Richard | J14: VPR10268 AP-ICG-Solaris/Sybase EOL Migration | K14: Infrastructure | L14: Open | M14: VDR Approval | N14: bm72511;ca61428;de93703;;kc57616;mm69256;rg24048; | O14: 41628.291 | P14: 0 | Q14: 17.813704 | R14: 21.706979 | S14: ASPAC
A15: Ronald Lagrisola | B15: CAP0028599 | C15: 0 | D15: Ronald lagrisola | E15: rl60197 | F15: CTI | G15: CTI Operations - Regional | H15: CTI Operations | I15: CTI - Global Technology Operations | J15: CC-SG-Changi Restack Program | K15: Equipment Relocation | L15: Open | M15: SA Approval | N15: kc88195; | O15: 41389.206 | P15: 1 | Q15: 256.89848 | R15: 256.96955 | S15: ASPAC
A16: Jakub Szymanski | B16: CAP0032234 | C16: new | D16: kamalakaran b t | E16: bk67816 | F16: CTI | G16: CTI Operations - Regional | H16: CTI Asia Pacific | I16: CTI Asia Pacific | J16: CSIL CUCM Cluster | K16: Infrastructure | L16: Open | M16: SA Approval | N16: jj56755;js38148;kz98667;mg14463;pg97278;ws74280; | O16: 41603.342 | P16: 1 | Q16: 42.762153 | R16: 60.877465 | S16: ASPAC
A17: Gary Evans | B17: CAP0031073 | C17: new | D17: John Porter | E17: jp88510 | F17: CTI | G17: CTI Global Data Center Services | H17: Storage & Backup | I17: Storage & Backup | J17: GTO GUCO PST INGESTION | K17: Storage Request - SAN | L17: Open | M17: Submitter Approval | N17: jp88510; | O17: 41521.559 | P17: 0 | Q17: 124.54532 | R17: 124.54532 | S17: ASPAC
A18: Thomas Mathias | B18: CAP0027065 | C18: 0 | D18: thomas mathias | E18: tm81308 | F18: GCG | G18: Asia Pacific | H18: Singapore | I18: Ong,Kim Boon | J18: BAU | K18: Storage Request - SAN | L18: Open | M18: Submitter Approval | N18: tm81308; | O18: 41306.069 | P18: 0 | Q18: 340.03495 | R18: 340.03495 | S18: ASPAC
A19: Sreelal Kunnummal Sreedharan | B19: CAP0027460 | C19: 0 | D19: sreelal kunnummal sreedharan | E19: sk78401 | F19: GCG | G19: Asia Pacific | H19: India | I19: Moorthy,Sandesh Krishna | J19: DMIS- VPR15816 | K19: Storage Request - SAN | L19: Open | M19: Submitter Approval | N19: sk78401; | O19: 41330.062 | P19: 0 | Q19: 316.04258 | R19: 316.04258 | S19: ASPAC
A20: Deepan Chakkaravarthi | B20: CAP0027517 | C20: 0 | D20: Deepan | E20: dc58786 | F20: GCG | G20: Asia Pacific | H20: Korea, Republic of | I20: Lee,Gi Young | J20: WS9980079 GCG-AP-Global Tablet Implementation | K20: Storage Request - SAN | L20: Open | M20: Submitter Approval | N20: dc58786; | O20: 41331.97 | P20: 0 | Q20: 314.13421 | R20: 314.13421 | S20: ASPAC
A21: Deepan Chakkaravarthi | B21: CAP0027518 | C21: 0 | D21: Deepan | E21: dc58786 | F21: GCG | G21: Asia Pacific | H21: Global Consumer Bank, Japan | I21: Global Consumer Bank, Japan | J21: VPR9302 - JP-CC-SHARED DOCUMENTUM ENV MIGRATION | K21: Storage Request - SAN | L21: Open | M21: Submitter Approval | N21: dc58786; | O21: 41332.077 | P21: 0 | Q21: 314.02785 | R21: 314.02785 | S21: ASPAC
A22: Pachaiyappan Bathirachalamoorthi | B22: CAP0029869 | C22: new | D22: Franky Ronaldy | E22: fr34772 | F22: CTI | G22: CTI Global Data Center Services | H22: Data Center Operations | I22: Data Center Operations | J22: BAU | K22: Storage Request - SAN | L22: Open | M22: Submitter Approval | N22: fr34772; | O22: 41451.108 | P22: 0 | Q22: 194.99617 | R22: 194.99617 | S22: ASPAC
A23: Udaya Gudimella | B23: CAP0029905 | C23: new | D23: vikram thomas rajan | E23: vt12449 | F23: GCG | G23: Asia Pacific | H23: Asia Regional Technology | I23: Deleted, DevCancelled, Rejected, and Retired Applications (Asia Pacific) | J23: Regional 3D Secure | K23: Storage Request - SAN | L23: Open | M23: Submitter Approval | N23: vt12449; | O23: 41453.08 | P23: 0 | Q23: 193.02476 | R23: 193.02476 | S23: ASPAC
A24: Matheswaran Ponnusamy | B24: CAP0030289 | C24: new | D24: matheswaran ponnusamy | E24: mp59890 | F24: GCG | G24: Global Product Development | H24: Global Product Development | I24: Customer Management | J24: BAU | K24: Infrastructure | L24: Open | M24: Post-CTI Approval | N24: hc79466;kc47081;km37089;km66166;mc99195;pk93615;sl70906;yl82682; | O24: 41504.976 | P24: 0 | Q24: 141.12839 | R24: 168.72568 | S24: ASPAC
A25: Matheswaran Ponnusamy | B25: CAP0030439 | C25: new | D25: raghubabu machavolu | E25: md10740 | F25: CTI | J25: BAU | K25: Storage Request - SAN | L25: Open | M25: Submitter Approval | N25: rm00297;md10740; | O25: 41485.122 | P25: 0 | Q25: 160.98205 | R25: 160.98205 | S25: ASPAC
A26: Udaya Gudimella | B26: CAP0030608 | C26: new | D26: baskaran pandurangan | E26: ss45123 | F26: GCG | G26: Asia Pacific | H26: Singapore | I26: Yohannan,Rajesh | J26: GCG-AP-GCMS DASD Increase | K26: Storage Request - SAN | L26: Open | M26: Submitter Approval | N26: bp33309;ss45123; | O26: 41493.079 | P26: 0 | Q26: 153.02529 | R26: 153.02529 | S26: ASPAC
A27: Pachaiyappan Bathirachalamoorthi | B27: CAP0032389 | C27: new | D27: William Jake C. Dabac | E27: wd16247 | F27: CTI | G27: CTI Global Data Center Services | H27: Data Center Operations | I27: Data Center Operations | J27: WS18908510 | K27: Storage Request - SAN | L27: Open | M27: Submitter Approval | N27: wd16247; | O27: 41597.218 | P27: 0 | Q27: 48.886192 | R27: 48.886192 | S27: ASPAC
A28: Kuppusamy Vellamadam Palavesam | B28: CAP0032875 | C28: new | D28: kuppusamy Vellamadam Palavesam | E28: kv34623 | F28: CTI | G28: CTI Global Data Center Services | H28: Data Center Operations | I28: Data Center Operations | J28: WS12319146- ICG-AP-TTS Resiliency setup | K28: AIX | L28: Open | M28: CTI Approval | N28: hc79466;kc47081;km37089;km66166;mc99195;pk93615;yl82682; | O28: 41645.962 | P28: 5 | Q28: 0.14239583 | R28: 18.003368 | S28: ASPAC
A29: Nayab Vali | B29: CAP0030549 | C29: new | D29: nayab vali | E29: nv87369 | F29: CTO | G29: GFTS | H29: GFT Global Finance Technology | I29: GFT - Gangesar,Pathman | J29: BAU | K29: VMWare | L29: Open | M29: CTI Approval | N29: bw03051;ec04161;gm07616;kl24810;kn92290;ln51521;ra05079;rg18542;rg54081;rk72233;rm19957;rv56747;sh05124;st64438;vk63388; | O29: 41605.815 | P29: 1 | Q29: 40.289525 | R29: 155.2408 | S29: ASPAC
A30: Nayab Vali | B30: CAP0032278 | C30: new | D30: nayab vali | E30: nv87369 | F30: ICG_Tech | G30: ICG_Tech Citi Markets Technology | H30: ICG_Tech_CMT - Markets Operations | I30: GMT - Agarwal,Himanshu | J30: Japan Frontend apps Windows 2008 - UAT | K30: VMWare | L30: Open | M30: CTI Approval | N30: an43463;bw03051;ec04161;rk72233;vr73325;vw67949; | O30: 41643.227 | P30: 1 | Q30: 2.8770833 | R30: 56.187465 | S30: ASPAC
A31: Jesudoss Rajappa Jones Velanganni | B31: CAP0032594 | C31: new | D31: Jesudoss Rajappa Jones velanganni | E31: jj36600 | F31: CTI | G31: CTI Operations - Regional | H31: CTI Asia Pacific | I31: CTI Asia Pacific | J31: BAU | K31: Storage Request - NAS | L31: Open | M31: CTI Approval | N31: ae65874;ah74163;jn62051;ks14775;mp35609;mt06736;sy25911;ta19710; | O31: 41610.678 | P31: 3 | Q31: 35.426736 | R31: 36.16434 | S31: ASPAC
A32: Prashant Pate | B32: CAP0032932 | C32: new | D32: Prashant Pate | E32: pp08563 | F32: GCG | G32: Cross Function | H32: eBusiness (eBUS) | I32: Sebastian, Jose | J32: Windows 2008 OS upgrade - KTC | K32: VMWare | L32: Open | M32: Pre-Design Approval | N32: cc28703;jh90898;ke63942;rm50898;sp10283; | O32: 41635.1 | P32: 1 | Q32: 11.004016 | R32: 11.004016 | S32: ASPAC
A33: Andrew John Horgan | B33: CAP0028808 | C33: 0 | D33: william adair | E33: sd37642 | F33: ICG_Tech | G33: ICG_Tech Citi Markets Technology | H33: ICG_Tech_CMT - Equities & Equity Middle Office | I33: Global Equities - Smith,John | J33: APAC STI THOR GLOBAL ROLLOUT | K33: Infrastructure | L33: Open | M33: Post-CTI Approval | N33: bm58431; | O33: 41585.862 | P33: 0 | Q33: 60.242199 | R33: 245.45186 | S33: ASPAC
A34: David Berkes | B34: CAP0030937 | C34: new | D34: david berkes | E34: oa01082 | F34: ICG_Tech | G34: ICG_Tech Citi Markets Technology | H34: ICG_Tech_CMT - Equities & Equity Middle Office | I34: Global Equities - Uppuluri, Pk | J34: OMM HK Exchange PROD / UAT Expansion | K34: Cost Reduction | L34: Open | M34: Pre-Design Approval | N34: ds76190;fz92331;mk11536;mp96590;sw63477;tb60866; | O34: 41541.542 | P34: 1 | Q34: 104.56219 | R34: 132.22185 | S34: ASPAC
A35: Andrew John Horgan | B35: CAP0031699 | C35: new | D35: dipon kumar rai | E35: sd37642 | F35: ICG_Tech | G35: ICG_Tech GTS Tech Treasury and Trade Services | H35: TTS - Statnick,Thomas | I35: TTS - Statnick,Thomas | J35: FTI (Funds Transfer Integration) | K35: VMWare | L35: Open | M35: CTI Approval | N35: bw03051;ec04161;rk72233;vw67949; | O35: 41582.693 | P35: 1 | Q35: 63.410972 | R35: 91.637789 | S35: ASPAC
A36: Kir Kip Lee | B36: CAP0032466 | C36: new | D36: kir kip lee | E36: kl29887 | F36: ICG_Tech | G36: ICG_Tech GTS Tech Treasury and Trade Services | H36: TTS - Fabian,Eduard | I36: TTS - Fabian,Eduard | J36: WS13260366 ICG-AP-Com Bank Portal | K36: Storage Request - SAN | L36: Open | M36: Post-CTI Approval | N36: ak47115;sk35901; | O36: 41605.941 | P36: 0 | Q36: 40.163773 | R36: 46.038935 | S36: ASPAC
A37: Kir Kip Lee | B37: CAP0032658 | C37: new | D37: kir kip lee | E37: kl29887 | F37: ICG_Tech | G37: ICG_Tech Private Bank - Personal Wealth Management | H37: GWM - Asia Technology | I37: GWM - Asia Technology | J37: WS17198640 ICG-SG/HK-CPB Tradelink | K37: No Servers - Memory/CPU Upgrade | L37: Open | M37: Pre-Design Approval | N37: ac33575;mo77554; | O37: 41618.264 | P37: 1 | Q37: 27.839965 | R37: 32.840648 | S37: ASPAC
A38: Vittal Muttatti | B38: CAP0032692 | C38: new | D38: Vittal Muttatti | E38: mv20974 | F38: ICG_Tech | G38: ICG_Tech Citi Markets Technology | H38: ICG_Tech_CMT - Equities & Equity Middle Office | I38: Global Equities - Uppuluri, Pk | J38: ICG-JP/HK-Equities Risk Servers Migration | K38: Infrastructure | L38: Open | M38: Final Business Signoff | N38: ds76190;tt82362; | O38: 41645.088 | P38: 0 | Q38: 1.0165046 | R38: 28.870752 | S38: ASPAC
A39: Kir Kip Lee | B39: CAP0032711 | C39: new | D39: kir kip lee | E39: kl29887 | F39: ICG_Tech | G39: ICG_Tech Private Bank - Personal Wealth Management | H39: GWM - Asia Technology | I39: GWM - Asia Technology | J39: WS17198640 ICG-SG/HK-CPB Tradelink | K39: Storage Request - SAN | L39: Open | M39: CTI Approval | N39: ac94164;jn62051;ks14775;md46033;pr72496;rb71989;rs81295;ss84555;sy25911;ta19710;vv58942; | O39: 41631.442 | P39: 3 | Q39: 14.662211 | R39: 27.935544 | S39: ASPAC
A40: Kir Kip Lee | B40: CAP0032715 | C40: new | D40: kir kip lee | E40: kl29887 | F40: ICG_Tech | G40: ICG_Tech GTS Tech Treasury and Trade Services | H40: TTS - Fabian,Eduard | I40: TTS - Fabian,Eduard | J40: WS15009752 ICG-AP-Flexcube V11 upgrade | K40: Storage Request - SAN | L40: Open | M40: P&L Approval | N40: ac33575;cc10261;tt82362; | O40: 41641.139 | P40: 0 | Q40: 4.9657639 | R40: 27.814144 | S40: ASPAC
...

Sheet Master sheet 2014
B1: Feed from email "EMEA OVER SLA REPORT" | C1: Date | D1: CAP | E1: Project | F1: SAN SCREEN Y/N | G1: Loc | H1: Host Name | I1: No of LUNs | J1: Capacity | K1: Tier | L1: existing/new | M1: Storage frame | N1: Devices | O1: PROD Frame | P1: PROD Dev | Q1: COB Frame | R1: COB Dev | S1: provisioning status | T1: Comments
A2: BAU | B2: 1 | C2: 180213 | D2: CAP0027238 | E2: Rainbow | F2: Yes | G2: FDC | H2: fdcdwh3 | I2: 27.272727 | J2: 900 | K2: Silver w/o Replication | L2: existing | M2: 3004 | N2: 1C32:1C4C | S2: completed
A3: BAU | B3: 2 | C3: 250113 | D3: CAP0026607 | E3: Rainbow | F3: Yes | G3: FDC | H3: fdcdwh3 | I3: 9.0909091 | J3: 300 | K3: Silver w/o Replication | L3: existing | M3: 3004 | N3: 1C5F:1C67 | S3: completed
A4: VPR 9457 EMEA-GCG-Rainbow Migration Program | B4: 3 | C4: Ashok | D4: CAP0027118 | E4: Rainbow | F4: Yes | G4: FDC-RDC | I4: 15.151515 | J4: 500 | K4: Silver w/Replication | L4: existing | O4: 2804 | P4: 126F:127D | Q4: 3286 | R4: 1D6B:1D79
A5: BAU | B5: 4 | C5: 180213 | D5: CAP0027243 | F5: Yes | G5: FDC-RDC | H5: fdcgcgcpldbc02p | I5: 20.606061 | J5: 680 | K5: Silver w/Replication | L5: existing | O5: 2804 | P5: 32F:333 | Q5: 3286 | R5: 32F:333
A6: P7 EuroCARS | B6: 5 | C6: 180213 | D6: CAP0026993 | F6: no | G6: rdc | H6: gccarssyb1p | I6: 5.1515152 | J6: 170 | K6: Silver w/o Replication | L6: existing | M6: rdchds02
A7: P7 EuroCARS | B7: 5 | C7: 180213 | D7: CAP0026993 | F7: Yes | G7: FDC | H7: gccarssyb1c | I7: 5.1515152 | J7: 170 | K7: Silver w/o Replication | L7: existing | M7: fdchds02 | N7: 8f42:8f46
A8: #N/A | B8: 5 | C8: 180213 | E8: Hold - Awaiting for the PEP details | F8: Yes | G8: FDC | H8: gccarssyb1u | I8: 5.1515152 | J8: 170 | K8: Silver w/o Replication | L8: existing | M8: fdchds02 | N8: 8f47:8f4b
A9: VPR5487 - AP-GDC-Oracle 11G Database for | B9: 6 | C9: 180213 | D9: CAP0027292 | E9: Rainbow | F9: Yes | G9: rdc | H9: rdcgcgamlad01u | I9: 2 | J9: 66 | K9: Silver w/o Replication | L9: existing | M9: 3073 | N9: 2fcf:2fd0
A10: Rates - Intellect Treasury - Database Migration | B10: 7 | C10: 40213 | D10: CAP0026058 | F10: Tracker Sheet | G10: rdc | H10: fiinteldb1p | I10: 27 | J10: 891 | K10: Silver w/o Replication | L10: New | M10: 3518 | N10: 20:00-20:1A
A11: Rates - Intellect Treasury - Database Migration | B11: 7 | C11: 40213 | D11: CAP0026058 | F11: Tracker Sheet | G11: rdc | H11: fiinteldb1c | I11: 27 | J11: 891 | K11: Silver w/o Replication | L11: New | M11: 3518 | N11: 20:1B-20:35
A12: Rates - Intellect Treasury - Database Migration | B12: 7 | C12: 40213 | D12: CAP0026058 | F12: Tracker Sheet | G12: rdc | H12: fiinteldb1u | I12: 27 | J12: 891 | K12: Silver w/o Replication | L12: New | M12: 3518 | N12: 20:36-20:50
A13: SFS/Integrated Custody | B13: 8 | C13: 40213 | D13: CAP0026700 | F13: Yes | G13: RDC-FDC | H13: rdcgtssfewd01p/2p | I13: 15.151515 | J13: 500 | K13: Silver w/Replication | L13: existing | O13: 2230 | P13: 2297:22A5 | Q13: 2231 | R13: 2297:22A5
A14: SFS/Integrated Custody | B14: 8 | C14: 40213 | D14: CAP0026700 | F14: Yes | G14: FDC | H14: fdcgtssfewd01u/2u | I14: 15.151515 | J14: 500 | K14: Silver w/o Replication | L14: existing | M14: 879 | N14: 2019:2027
A15: SFS/Integrated Custody | B15: 8 | C15: 40213 | D15: CAP0026700 | F15: Yes | G15: rdc | H15: rdcgtssfewd07u/8u | I15: 15.151515 | J15: 500 | K15: Silver w/o Replication | L15: existing | M15: 3073 | N15: 3DE0:3DEE:
A16: SAN DISK EXT.PhonexOne/MIND | B16: 9 | C16: 40213 | D16: CAP0027014 | F16: Yes | G16: rdc | H16: LDNCTIPRSA01 | I16: 15.151515 | J16: 500 | K16: Silver w/o Replication | L16: existing | M16: 678 | N16: 227a:2277 | S16: completed
A17: SFS/ONYX TALISMAN PHYSICAL | B17: 10 | C17: 10213 | D17: CAP0026544 | F17: Yes | G17: RDC-FDC | H17: prod | I17: 45.454545 | J17: 1500 | K17: Silver w/Replication | L17: New | O17: 2230 | P17: 22A6:22D2 | Q17: 2231 | R17: 22A6:22D2
A18: SFS/ONYX TALISMAN PHYSICAL | B18: 10 | C18: 10213 | D18: CAP0026544 | F18: Yes | G18: FDC-RDC | H18: prod | I18: 45.454545 | J18: 1500 | K18: Silver w/Replication | L18: New | O18: 2231 | P18: 230E:233a | Q18: 2230 | R18: 230E:233a
A19: SFS/ONYX TALISMAN PHYSICAL | B19: 10 | C19: 10213 | D19: CAP0026544 | F19: Tracker Sheet | G19: FDC | H19: UAT | I19: 45.454545 | J19: 1500 | K19: Silver w/o Replication | L19: New | M19: 7026 | N19: 004B:0077
A20: VPR12975:AP-CTI-Regional Oracle 11G Migration | B20: 11 | C20: 10213 | D20: CAP0026520 | E20: Rainbow | F20: Yes | G20: FDC | H20: FDCGCGRACAD13P | I20: 2 | J20: 66 | K20: Silver w/o Replication | L20: existing | M20: 3004 | N20: 3342:3359
A21: VPR12975:AP-CTI-Regional Oracle 11G Migration | B21: 11 | C21: 10213 | D21: CAP0026520 | E21: Rainbow | F21: Yes | G21: FDC | H21: FDCGCGRACAD14P | I21: 2 | J21: 66 | K21: Silver w/o Replication | L21: existing | M21: 3004 | N21: 3342:3359
A22: VPR12975:AP-CTI-Regional Oracle 11G Migration | B22: 11 | C22: 10213 | D22: CAP0026520 | E22: Rainbow | F22: Yes | G22: FDC | H22: FDCGCGRACAD15P | I22: 2 | J22: 66 | K22: Silver w/o Replication | L22: existing | M22: 3004 | N22: 3342:3359
A23: VPR12975:AP-CTI-Regional Oracle 11G Migration | B23: 11 | C23: 10213 | D23: CAP0026520 | E23: Rainbow | F23: Yes | G23: FDC | H23: FDCGCGRACAD16P | I23: 2 | J23: 66 | K23: Silver w/o Replication | L23: existing | M23: 3004 | N23: 3342:3359
A24: VPR12975:AP-CTI-Regional Oracle 11G Migration | B24: 11 | C24: 10213 | D24: CAP0026520 | E24: Rainbow | F24: Yes | G24: FDC | H24: FDCGCGRACAD21P | I24: 2 | J24: 66 | K24: Silver w/o Replication | L24: existing | M24: 3004 | N24: 3342:3359
A25: VPR12975:AP-CTI-Regional Oracle 11G Migration | B25: 11 | C25: 10213 | D25: CAP0026520 | E25: Rainbow | F25: Yes | G25: FDC | H25: FDCGCGRACAD22P | I25: 2 | J25: 66 | K25: Silver w/o Replication | L25: existing | M25: 3004 | N25: 3342:3359
A26: VPR12975:AP-CTI-Regional Oracle 11G Migration | B26: 11 | C26: 10213 | D26: CAP0026520 | E26: Rainbow | F26: Yes | G26: FDC | H26: FDCGCGRACAD23P | I26: 2 | J26: 66 | K26: Silver w/o Replication | L26: existing | M26: 3004 | N26: 3342:3359
A27: VPR12975:AP-CTI-Regional Oracle 11G Migration | B27: 11 | C27: 10213 | D27: CAP0026520 | E27: Rainbow | F27: Yes | G27: FDC | H27: FDCGCGRACAD24P | I27: 2 | J27: 66 | K27: Silver w/o Replication | L27: existing | M27: 3004 | N27: 3342:3359
A28: VPR12975:AP-CTI-Regional Oracle 11G Migration | B28: 11 | C28: 10213 | D28: CAP0026520 | E28: Rainbow | F28: Yes | G28: FDC | H28: FDCGCGRACAD05P | I28: 2 | J28: 66 | K28: Silver w/o Replication | L28: existing | M28: 3004 | N28: 3342:3359
A29: VPR12975:AP-CTI-Regional Oracle 11G Migration | B29: 11 | C29: 10213 | D29: CAP0026520 | E29: Rainbow | F29: Yes | G29: FDC | H29: FDCGCGRACAD06P | I29: 2 | J29: 66 | K29: Silver w/o Replication | L29: existing | M29: 3004 | N29: 3342:3359
A30: VPR12975:AP-CTI-Regional Oracle 11G Migration | B30: 11 | C30: 10213 | D30: CAP0026520 | E30: Rainbow | F30: Yes | G30: FDC | H30: FDCGCGRACAD25P | I30: 2 | J30: 66 | K30: Silver w/o Replication | L30: existing | M30: 3004 | N30: 3342:3359
A31: VPR12975:AP-CTI-Regional Oracle 11G Migration | B31: 11 | C31: 10213 | D31: CAP0026520 | E31: Rainbow | F31: Yes | G31: FDC | H31: FDCGCGRACAD26P | I31: 2 | J31: 66 | K31: Silver w/o Replication | L31: existing | M31: 3004 | N31: 3342:3359
... A39: VPR12975:AP-CTI-Regional Oracle 11G Migration | B39: 11 | C39: 10213 | D39: CAP0026520 | E39: Rainbow | F39: Yes | G39: RDC | H39: RDCGCGRACAD24C | I39: 2 | J39: 66 | K39: Silver w/o Replication | L39: existing | M39: 3073 | N39: 3DFD:3DFE
A40: BAU GCG CRM storage extension | B40: 12 | C40: 10213 | D40: CAP0027016 | F40: Yes | G40: FDC | H40: fdcgcgcrmad01c | I40: 15.151515 | J40: 500 | K40: Silver w/o Replication | L40: existing | M40: fdchds02 | N40: 8f4c:8f5A
A41: EMEA-GCG-LCB Banking | B41: 13 | C41: 10213 | D41: CAP0025992 | E41: Rainbow | F41: Yes | G41: FDC | H41: FDCGCGTIBLA21P | I41: 3.030303 | J41: 100 | K41: Silver w/o Replication | L41: existing | M41: 3004 | N41: 335A:335C
A42: EMEA-GCG-LCB Banking | B42: 13 | C42: 10213 | D42: CAP0025992 | E42: Rainbow | F42: Yes | G42: FDC | H42: FDCGCGTIBLA22P | I42: 3.030303 | J42: 100 | K42: Silver w/o Replication | L42: existing | M42: 3004 | N42: 335D:335F
A43: EMEA-GCG-LCB Banking | B43: 13 | C43: 10213 | D43: CAP0025992 | E43: Rainbow | F43: Yes | G43: rdc | H43: RDCGCGECLLW05U | I43: 2 | J43: 66 | K43: Silver w/o Replication | L43: existing | M43: 3073 | N43: 3DFF:3E00
A44: EMEA-GCG-LCB Banking | B44: 13 | C44: 10213 | D44: CAP0025992 | E44: Rainbow | F44: Yes | G44: rdc | H44: RDCGCGECLLW06U | I44: 2 | J44: 66 | K44: Silver w/o Replication | L44: existing | M44: 3073 | N44: 3E01:3E02
A45: EMEA-GCG-LCB Banking | B45: 13 | C45: 10213 | D45: CAP0025992 | E45: Rainbow | F45: Yes | G45: rdc | H45: RDCGCGTIBLA07U | I45: 3.030303 | J45: 100 | K45: Silver w/o Replication | L45: existing | M45: 3073 | N45: 3E03:3E05
A46: EMEA-GCG-LCB Banking | B46: 13 | C46: 10213 | D46: CAP0025992 | E46: Rainbow | F46: Yes | G46: rdc | H46: RDCGCGTIBLA08U | I46: 3.030303 | J46: 100 | K46: Silver w/o Replication | L46: existing | M46: 3073 | N46: 3E06:3E08
A47: EMEA-GCG-LCB Banking | B47: 13 | C47: 10213 | D47: CAP0025992 | E47: Rainbow | F47: Yes | G47: FDC-RDC | H47: FDCGCGECLLW18p | I47: 2 | J47: 66 | K47: Silver w/Replication | L47: existing | O47: 2804 | P47: 323:324 | Q47: 3286 | R47: 323:324
...

Sheet 080114
A1: SA Name | B1: Capacity ID | D1: Requestor | E1: Submitter | F1: Business Sector | G1: Business Group | H1: Business Line | I1: Business | J1: Project Name | K1: Type of Request | L1: Status | M1: Current Phase | N1: In Queue of | O1: Inque Start Time | P1: SLA Days | Q1: Time in Queue | R1: Overall Request Time | S1: Region
A2: Richman Acosta | B2: CAP0029059 | C2: =IF(ISERROR(VLOOKUP(B2,'070114'!B:C,2,FALSE)),"new",VLOOKUP(B2,'070114'!B:C,2,FALSE)) -> 0 | D2: Jaymark Cruz | E2: jc70945 | F2: CTI | G2: CTI Global Technology Operations | H2: Global Voice Operations | I2: Global Voice Operations | J2: Drive Space Request | K2: Storage Request - NAS | L2: Open | M2: Submitter Approval | N2: jc70945; | O2: 41411.122 | P2: 0 | Q2: 235.98233 | R2: 235.98233 | S2: ASPAC
A3: Kenneth Lam | B3: CAP0030803 | C3: =IF(ISERROR(VLOOKUP(B3,'070114'!B:C,2,FALSE)),"new",VLOOKUP(B3,'070114'!B:C,2,FALSE)) -> new | D3: Hansen Mah | E3: hm07942 | F3: CTI | G3: CTI IT Service Assurance | H3: CTI IT Service Assurance | I3: CTI IT Service Assurance | J3: N/A | K3: Storage Request - NAS | L3: Open | M3: SA Approval | N3: jc18965;kl98701;vd95952; | O3: 41507.192 | P3: 1 | Q3: 139.91314 | R3: 139.93201 | S3: ASPAC
A4: Victor Inocentes | B4: CAP0032269 | C4: =IF(ISERROR(VLOOKUP(B4,'070114'!B:C,2,FALSE)),"new",VLOOKUP(B4,'070114'!B:C,2,FALSE)) -> new | D4: victor inocentes | E4: vi10863 | F4: CTI | G4: CTI Operations - Regional | H4: CTI Asia Pacific | I4: CTI Asia Pacific | J4: NAS Storage - BAU | K4: Storage Request - NAS | L4: Open | M4: Submitter Approval | N4: vi10863; | O4: 41589.139 | P4: 0 | Q4: 57.966273 | R4: 57.966273 | S4: ASPAC
A5: Janakiraman Parthasarathy | B5: CAP0032767 | C5: =IF(ISERROR(VLOOKUP(B5,'070114'!B:C,2,FALSE)),"new",VLOOKUP(B5,'070114'!B:C,2,FALSE)) -> new | D5: Hansen Mah | E5: hm07942 | F5: CTI | G5: CTI IT Service Assurance | H5: CTI IT Service Assurance | I5: CTI IT Service Assurance | J5: desktop optimization | K5: Storage Request - NAS | L5: Open | M5: CTI Approval | N5: ae65874;ah74163;jn62051;ks14775;mp35609;mt06736;sy25911;ta19710;up44123; | O5: 41624.718 | P5: 3 | Q5: 22.386366 | R5: 27.200868 | S5: ASPAC
A6: Kam Bong So | B6: CAP0032124 | C6: =IF(ISERROR(VLOOKUP(B6,'070114'!B:C,2,FALSE)),"new",VLOOKUP(B6,'070114'!B:C,2,FALSE)) -> new | D6: Sudhakar Lingamneni | E6: sl18564 | F6: ICG_Tech | G6: ICG_Tech Citi Markets Technology | H6: ICG_Tech_CMT - Equities & Equity Middle Office | I6: Global Equities - Dadlani, Sundeep | J6: BAU | K6: Storage Request - NAS | L6: Open | M6: Submitter Approval | N6: sl18564; | O6: 41579.001 | P6: 0 | Q6: 68.103762 | R6: 68.103762 | S6: ASPAC
A7: Kam Bong So | B7: CAP0032384 | C7: =IF(ISERROR(VLOOKUP(B7,'070114'!B:C,2,FALSE)),"new",VLOOKUP(B7,'070114'!B:C,2,FALSE)) -> new | D7: kam bong so | E7: ks24484 | F7: ICG_Tech | G7: ICG_Tech Citi Markets Technology | H7: ICG_Tech_CMT - Equities & Equity Middle Office | I7: ASPAC - EQ - Lingard, Richard | J7: WS19318572 | K7: Storage Request - SAN | L7: Open | M7: Pre-Design Approval | N7: ds76190;fz92331;mp96590;sw63477;tb60866; | O7: 41603.207 | P7: 1 | Q7: 43.897431 | R7: 50.207708 | S7: ASPAC
A8: Connie Kwok | B8: CAP0032742 | C8: =IF(ISERROR(VLOOKUP(B8,'070114'!B:C,2,FALSE)),"new",VLOOKUP(B8,'070114'!B:C,2,FALSE)) -> new | D8: zhen pan | E8: sp59305 | F8: ICG_Tech | G8: ICG_Tech Market Data Services | H8: MDS - Ekong,Victor | I8: MDS - Ekong,Victor | J8: WS7422496 GDC-AP-RHEL OS EOL Upgrade | K8: Infrastructure | L8: Open | M8: CTI Approval | N8: jw18696; | O8: 41627.85 | P8: 5 | Q8: 19.25441 | R8: 28.06537 | S8: ASPAC
A9: Connie Kwok | B9: CAP0032911 | C9: =IF(ISERROR(VLOOKUP(B9,'070114'!B:C,2,FALSE)),"new",VLOOKUP(B9,'070114'!B:C,2,FALSE)) -> new | D9: connie kwok | E9: ck12002 | F9: ICG_Tech | G9: ICG_Tech Citi Markets Technology | H9: ICG_Tech_CMT - Equities & Equity Middle Office | I9: ASPAC - EQ - Lingard, Richard | J9: AP COMET | K9: Storage Request - SAN | L9: Open | M9: Pre-Design Approval | N9: ds76190;fz92331;mp96590;sw63477;tb60866; | O9: 41631.913 | P9: 1 | Q9: 15.191852 | R9: 15.203403 | S9: ASPAC
A10: Kam Bong So | B10: CAP0032936 | C10: =IF(ISERROR(VLOOKUP(B10,'070114'!B:C,2,FALSE)),"new",VLOOKUP(B10,'070114'!B:C,2,FALSE)) -> new | D10: connie kwok | E10: ck12002 | F10: ICG_Tech | G10: ICG_Tech Citi Markets Technology | H10: ICG_Tech_CMT - Equities & Equity Middle Office | I10: ASPAC - EQ - Lingard, Richard | J10: BAU | K10: Storage Request - SAN | L10: Open | M10: Pre-Design Approval | N10: ds76190;fz92331;mp96590;sw63477;tb60866; | O10: 41637.918 | P10: 1 | Q10: 9.1869213 | R10: 9.2069444 | S10: ASPAC
A11: Kam Bong So | B11: CAP0033001 | C11: =IF(ISERROR(VLOOKUP(B11,'070114'!B:C,2,FALSE)),"new",VLOOKUP(B11,'070114'!B:C,2,FALSE)) -> new | D11: kam bong so | E11: ks24484 | F11: ICG_Tech | G11: ICG_Tech Citi Markets Technology | H11: ICG_Tech_CMT - Equities & Equity Middle Office | I11: Global Equities - Lingard,Richard | J11: WS20037435 | K11: Storage Request - SAN | L11: Open | M11: Pre-Design Approval | N11: ds76190;fz92331;mp96590;sw63477;tb60866; | O11: 41647.01 | P11: 1 | Q11: 0.094861111 | R11: 0.84300926 | S11: ASPAC
A12: Ramesh Shunmugavelu | B12: CAP0032298 | C12: =IF(ISERROR(VLOOKUP(B12,'070114'!B:C,2,FALSE)),"new",VLOOKUP(B12,'070114'!B:C,2,FALSE)) -> new | D12: shunmugavelu ramesh | E12: mg06092 | F12: ICG_Tech | G12: ICG_Tech ASPAC | H12: ASPAC - In-Country Tech - Chan, Ying Man | I12: ASPAC - CMT - Chan, Ying Man | J12: CTI Virtualization | K12: VMWare | L12: Open | M12: CSI Application Approval | N12: CSI->App Manager | O12: 41599.393 | P12: 0 | Q12: 47.711898 | R12: 55.868495 | S12: ASPAC
A13: Thanoj Krishnan | B13: CAP0032353 | C13: =IF(ISERROR(VLOOKUP(B13,'070114'!B:C,2,FALSE)),"new",VLOOKUP(B13,'070114'!B:C,2,FALSE)) -> new | D13: james alfieri | E13: tk26563 | F13: ICG_Tech | G13: ICG_Tech Citi Markets Technology | H13: ICG_Tech_CMT - FX, LM, Global Data and CitiVelocity | I13: GMT - FXLM_Derivatives | J13: Global-GDC-Tech Room Initiative | K13: Infrastructure | L13: Open | M13: Post-CTI Approval | N13: ac94164; | O13: 41602.993 | P13: 0 | Q13: 44.112292 | R13: 53.999074 | S13: ASPAC
... A25: Matheswaran Ponnusamy | B25: CAP0030289 | C25: =IF(ISERROR(VLOOKUP(B25,'070114'!B:C,2,FALSE)),"new",VLOOKUP(B25,'070114'!B:C,2,FALSE)) -> new | D25: matheswaran ponnusamy | E25: mp59890 | F25: GCG | G25: Global Product Development | H25: Global Product Development | I25: Customer Management | J25: BAU | K25: Infrastructure | L25: Open | M25: Post-CTI Approval | N25: hc79466;kc47081;km37089;km66166;mc99195;pk93615;sl70906;yl82682; | O25: 41504.976 | P25: 0 | Q25: 142.12882 | R25: 169.72611 | S25: ASPAC
A26: Matheswaran Ponnusamy | B26: CAP0030439 | C26: =IF(ISERROR(VLOOKUP(B26,'070114'!B:C,2,FALSE)),"new",VLOOKUP(B26,'070114'!B:C,2,FALSE)) -> new | D26: raghubabu machavolu | E26: md10740 | F26: CTI | J26: BAU | K26: Storage Request - SAN | L26: Open | M26: Submitter Approval | N26: rm00297;md10740; | O26: 41485.122 | P26: 0 | Q26: 161.98248 | R26: 161.98248 | S26: ASPAC
A27: Udaya Gudimella | B27: CAP0030608 | C27: =IF(ISERROR(VLOOKUP(B27,'070114'!B:C,2,FALSE)),"new",VLOOKUP(B27,'070114'!B:C,2,FALSE)) -> new | D27: baskaran pandurangan | E27: ss45123 | F27: GCG | G27: Asia Pacific | H27: Singapore | I27: Yohannan,Rajesh | J27: GCG-AP-GCMS DASD Increase | K27: Storage Request - SAN | L27: Open | M27: Submitter Approval | N27: bp33309;ss45123; | O27: 41493.079 | P27: 0 | Q27: 154.02572 | R27: 154.02572 | S27: ASPAC
A28: Pachaiyappan Bathirachalamoorthi | B28: CAP0032389 | C28: =IF(ISERROR(VLOOKUP(B28,'070114'!B:C,2,FALSE)),"new",VLOOKUP(B28,'070114'!B:C,2,FALSE)) -> new | D28: William Jake C. Dabac | E28: wd16247 | F28: CTI | G28: CTI Global Data Center Services | H28: Data Center Operations | I28: Data Center Operations | J28: WS18908510 | K28: Storage Request - SAN | L28: Open | M28: Submitter Approval | N28: wd16247; | O28: 41597.218 | P28: 0 | Q28: 49.88662 | R28: 49.88662 | S28: ASPAC
A29: Kuppusamy Vellamadam Palavesam | B29: CAP0032875 | C29: =IF(ISERROR(VLOOKUP(B29,'070114'!B:C,2,FALSE)),"new",VLOOKUP(B29,'070114'!B:C,2,FALSE)) -> new | D29: kuppusamy Vellamadam Palavesam | E29: kv34623 | F29: CTI | G29: CTI Global Data Center Services | H29: Data Center Operations | I29: Data Center Operations | J29: WS12319146- ICG-AP-TTS Resiliency setup | K29: AIX | L29: Open | M29: CTI Approval | N29: hc79466;kc47081;km37089;km66166;mc99195;pk93615;yl82682; | O29: 41645.962 | P29: 5 | Q29: 1.1428241 | R29: 19.003796 | S29: ASPAC
A30: Nayab Vali | B30: CAP0030549 | C30: =IF(ISERROR(VLOOKUP(B30,'070114'!B:C,2,FALSE)),"new",VLOOKUP(B30,'070114'!B:C,2,FALSE)) -> new | D30: nayab vali | E30: nv87369 | F30: CTO | G30: GFTS | H30: GFT Global Finance Technology | I30: GFT - Gangesar,Pathman | J30: BAU | K30: VMWare | L30: Open | M30: CTI Approval | N30: bw03051;ec04161;gm07616;kl24810;kn92290;ln51521;ra05079;rg18542;rg54081;rk72233;rm19957;rv56747;sh05124;st64438;vk63388; | O30: 41605.815 | P30: 1 | Q30: 41.289954 | R30: 156.24123 | S30: ASPAC
A31: Nayab Vali | B31: CAP0032278 | C31: =IF(ISERROR(VLOOKUP(B31,'070114'!B:C,2,FALSE)),"new",VLOOKUP(B31,'070114'!B:C,2,FALSE)) -> new | D31: nayab vali | E31: nv87369 | F31: ICG_Tech | G31: ICG_Tech Citi Markets Technology | H31: ICG_Tech_CMT - Markets Operations | I31: GMT - Agarwal,Himanshu | J31: Japan Frontend apps Windows 2008 - UAT | K31: VMWare | L31: Open | M31: CTI Approval | N31: an43463;bw03051;ec04161;rk72233;vr73325;vw67949; | O31: 41643.227 | P31: 1 | Q31: 3.8775116 | R31: 57.187894 | S31: ASPAC
A32: Jesudoss Rajappa Jones Velanganni | B32: CAP0032594 | C32: =IF(ISERROR(VLOOKUP(B32,'070114'!B:C,2,FALSE)),"new",VLOOKUP(B32,'070114'!B:C,2,FALSE)) -> new | D32: Jesudoss Rajappa Jones velanganni | E32: jj36600 | F32: CTI | G32: CTI Operations - Regional | H32: CTI Asia Pacific | I32: CTI Asia Pacific | J32: BAU | K32: Storage Request - NAS | L32: Open | M32: Final Business Signoff | N32: bm39790;ld76929; | O32: 41647.064 | P32: 0 | Q32: 0.040659722 | R32: 37.164769 | S32: ASPAC
A33: Prashant Pate | B33: CAP0032932 | C33: =IF(ISERROR(VLOOKUP(B33,'070114'!B:C,2,FALSE)),"new",VLOOKUP(B33,'070114'!B:C,2,FALSE)) -> new | D33: Prashant Pate | E33: pp08563 | F33: GCG | G33: Cross Function | H33: eBusiness (eBUS) | I33: Sebastian, Jose | J33: Windows 2008 OS upgrade - KTC | K33: VMWare | L33: Open | M33: Pre-Design Approval | N33: cc28703;jh90898;ke63942;rm50898;sp10283; | O33: 41635.1 | P33: 1 | Q33: 12.004444 | R33: 12.004444 | S33: ASPAC
A34: Andrew John Horgan | B34: CAP0028808 | C34: =IF(ISERROR(VLOOKUP(B34,'070114'!B:C,2,FALSE)),"new",VLOOKUP(B34,'070114'!B:C,2,FALSE)) -> 0 | D34: william adair | E34: sd37642 | F34: ICG_Tech | G34: ICG_Tech Citi Markets Technology | H34: ICG_Tech_CMT - Equities & Equity Middle Office | I34: Global Equities - Smith,John | J34: APAC STI THOR GLOBAL ROLLOUT | K34: Infrastructure | L34: Open | M34: Post-CTI Approval | N34: bm58431; | O34: 41585.862 | P34: 0 | Q34: 61.242627 | R34: 246.45229 | S34: ASPAC
A35: David Berkes | B35: CAP0030937 | C35: =IF(ISERROR(VLOOKUP(B35,'070114'!B:C,2,FALSE)),"new",VLOOKUP(B35,'070114'!B:C,2,FALSE)) -> new | D35: david berkes | E35: oa01082 | F35: ICG_Tech | G35: ICG_Tech Citi Markets Technology | H35: ICG_Tech_CMT - Equities & Equity Middle Office | I35: Global Equities - Uppuluri, Pk | J35: OMM HK Exchange PROD / UAT Expansion | K35: Cost Reduction | L35: Open | M35: Pre-Design Approval | N35: ds76190;fz92331;mk11536;mp96590;sw63477;tb60866; | O35: 41541.542 | P35: 1 | Q35: 105.56262 | R35: 133.22228 | S35: ASPAC
A36: Andrew John Horgan | B36: CAP0031699 | C36: =IF(ISERROR(VLOOKUP(B36,'070114'!B:C,2,FALSE)),"new",VLOOKUP(B36,'070114'!B:C,2,FALSE)) -> new | D36: dipon kumar rai | E36: sd37642 | F36: ICG_Tech | G36: ICG_Tech GTS Tech Treasury and Trade Services | H36: TTS - Statnick,Thomas | I36: TTS - Statnick,Thomas | J36: FTI (Funds Transfer Integration) | K36: VMWare | L36: Open | M36: CTI Approval | N36: bw03051;ec04161;rk72233;vw67949; | O36: 41582.693 | P36: 1 | Q36: 64.4114 | R36: 92.638218 | S36: ASPAC
A37: Kir Kip Lee | B37: CAP0032466 | C37: =IF(ISERROR(VLOOKUP(B37,'070114'!B:C,2,FALSE)),"new",VLOOKUP(B37,'070114'!B:C,2,FALSE)) -> new | D37: kir kip lee | E37: kl29887 | F37: ICG_Tech | G37: ICG_Tech GTS Tech Treasury and Trade Services | H37: TTS - Fabian,Eduard | I37: TTS - Fabian,Eduard | J37: WS13260366 ICG-AP-Com Bank Portal | K37: Storage Request - SAN | L37: Open | M37: Post-CTI Approval | N37: ak47115;sk35901; | O37: 41605.941 | P37: 0 | Q37: 41.164201 | R37: 47.039363 | S37: ASPAC
A38: Kir Kip Lee | B38: CAP0032658 | C38: =IF(ISERROR(VLOOKUP(B38,'070114'!B:C,2,FALSE)),"new",VLOOKUP(B38,'070114'!B:C,2,FALSE)) -> new | D38: kir kip lee | E38: kl29887 | F38: ICG_Tech | G38: ICG_Tech Private Bank - Personal Wealth Management | H38: GWM - Asia Technology | I38: GWM - Asia Technology | J38: WS17198640 ICG-SG/HK-CPB Tradelink | K38: No Servers - Memory/CPU Upgrade | L38: Open | M38: Pre-Design Approval | N38: ac33575;mo77554; | O38: 41618.264 | P38: 1 | Q38: 28.840394 | R38: 33.841076 | S38: ASPAC
... A53: Manoharan Kandaswamy | B53: CAP0032963 | C53: =IF(ISERROR(VLOOKUP(B53,'070114'!B:C,2,FALSE)),"new",VLOOKUP(B53,'070114'!B:C,2,FALSE)) -> new | D53: Kandaswamy, Manoharan | E53: mk08559 | F53: CTI | G53: CTI Global Technology Operations | H53: Global Unified Communications Operations | I53: Global Unified Communications Operations | J53: Microsoft Lync 2010 - ASPAC | K53: Storage Request - SAN | L53: Open | M53: Submitter Approval | N53: mk08559; | O53: 41642.143 | P53: 0 | Q53: 4.9614699 | R53: 4.9614699 | S53: ASPAC
A54: Chaesan Im | B54: CAP0029668 | C54: =IF(ISERROR(VLOOKUP(B54,'070114'!B:C,2,FALSE)),"new",VLOOKUP(B54,'070114'!B:C,2,FALSE)) -> new | D54: chaesan im | E54: ci95728 | F54: GCG | G54: Asia Pacific | H54: Korea, Republic of | I54: Lee,Gi Young | J54: CCKI EOL Server migration | K54: AIX | L54: Open | M54: Post-CTI Approval | O54: 41576.206 | P54: 0 | Q54: 70.898796 | R54: 204.98642 | S54: ASPAC
A55: Chaesan Im | B55: CAP0032947 | C55: =IF(ISERROR(VLOOKUP(B55,'070114'!B:C,2,FALSE)),"new",VLOOKUP(B55,'070114'!B:C,2,FALSE)) -> new | D55: chaesan im | E55: ci95728 | F55: GCG | G55: Asia Pacific | H55: Korea, Republic of | I55: Lee,Gi Young | J55: Add the new frame | K55: AIX | L55: Open | M55: Submitter Approval | N55: ci95728; | O55: 41641.15 | P55: 0 | Q55: 5.9551273 | R55: 5.9551273 | S55: ASPAC
A56: Zulkiflee Zainal | B56: CAP0027813 | C56: =IF(ISERROR(VLOOKUP(B56,'070114'!B:C,2,FALSE)),"new",VLOOKUP(B56,'070114'!B:C,2,FALSE)) -> 0 | D56: mohd faizal abdul ghani | E56: ma20639 | F56: CTI | G56: CTI Global Technology Operations | H56: Global Voice Operations | I56: Global Voice Operations | J56: ICG-MY-In Bound Call Center Setup | K56: Other (Describe Below) | L56: Open | M56: Submitter Approval | N56: ma20639; | O56: 41347.164 | P56: 0 | Q56: 299.94044 | R56: 299.94044 | S56: ASPAC
A57: David Miao | B57: CAP0027642 | C57: =IF(ISERROR(VLOOKUP(B57,'070114'!B:C,2,FALSE)),"new",VLOOKUP(B57,'070114'!B:C,2,FALSE)) -> 0 | D57: weidong hong | E57: sh05124 | F57: CTI | G57: CTI CIBIS - Citi Investment Bank IS | H57: CTI CIBIS - Citi Investment Bank IS | I57: CTI CIBIS - Citi Investment Bank IS | J57: WS6952680 | K57: Storage Request - NAS | L57: Open | M57: Submitter Approval | N57: sh05124; | O57: 41339.178 | P57: 0 | Q57: 307.92679 | R57: 307.92679 | S57: ASPAC
A58: David Miao | B58: CAP0028002 | C58: =IF(ISERROR(VLOOKUP(B58,'070114'!B:C,2,FALSE)),"new",VLOOKUP(B58,'070114'!B:C,2,FALSE)) -> 0 | D58: david miao | E58: dm95651 | F58: CTI | G58: CTI Operations - Regional | H58: CTI Asia Pacific | I58: CTI Asia Pacific | J58: China - BAU | K58: Storage Request - NAS | L58: Open | M58: Submitter Approval | N58: dm95651; | O58: 41355.092 | P58: 0 | Q58: 292.01265 | R58: 292.01265 | S58: ASPAC
A59: Zhangyi Li | B59: CAP0032416 | C59: =IF(ISERROR(VLOOKUP(B59,'070114'!B:C,2,FALSE)),"new",VLOOKUP(B59,'070114'!B:C,2,FALSE)) -> new | D59: zhangyi li | E59: zl51549 | F59: GCG | G59: Asia Pacific | H59: China | I59: Dai,Yiping | J59: bau | K59: Storage Request - NAS | L59: Open | M59: Submitter Approval | N59: zl51549; | O59: 41597.87 | P59: 0 | Q59: 49.234468 | R59: 49.234468 | S59: ASPAC
A60: Siju Vellam Podichintavida | B60: CAP0026679 | C60: =IF(ISERROR(VLOOKUP(B60,'070114'!B:C,2,FALSE)),"new",VLOOKUP(B60,'070114'!B:C,2,FALSE)) -> 0 | D60: kee loong simon yap | E60: ky51621 | F60: GCG | G60: Asia Pacific | H60: Asia Regional Technology | I60: Hari, Sridhar | J60: BAU | K60: Storage Request - SAN | L60: Open | M60: P&L Approval | N60: bd73630;db64267;em14403;kg06584;lk47738;mm44650; | O60: 41603.541 | P60: 0 | Q60: 43.563727 | R60: 363.13231 | S60: ASPAC
A61: Thomas Mathias | B61: CAP0026969 | C61: =IF(ISERROR(VLOOKUP(B61,'070114'!B:C,2,FALSE)),"new",VLOOKUP(B61,'070114'!B:C,2,FALSE)) -> 0 | D61: thomas mathias | E61: tm81308 | F61: GCG | G61: EMEA | H61: Middle East Cluster | I61: Egypt - Ben Makhlouf, Slah | J61: BAU | K61: Storage Request - SAN | L61: Open | M61: Submitter Approval | N61: tm81308; | O61: 41302.101 | P61: 0 | Q61: 345.00339 | R61: 345.00339 | S61: ASPAC
A62: Angelie Quiapo | B62: CAP0027489 | C62: =IF(ISERROR(VLOOKUP(B62,'070114'!B:C,2,FALSE)),"new",VLOOKUP(B62,'070114'!B:C,2,FALSE)) -> 0 | D62: Quiapo, Angelie Manansala [CCC-OT_IT] | E62: aq6651 | F62: CTI | G62: CTI Operations - Regional | H62: CTI Asia Pacific | I62: CTI Asia Pacific | J62: Provision On Demand-VPR3691 | K62: Storage Request - SAN | L62: Open | M62: Post-CTI Approval | N62: ak47115;sk35901; | O62: 41585.121 | P62: 0 | Q62: 61.983542 | R62: 315.93032 | S62: ASPAC
A63: Thomas Mathias | B63: CAP0027597 | C63: =IF(ISERROR(VLOOKUP(B63,'070114'!B:C,2,FALSE)),"new",VLOOKUP(B63,'070114'!B:C,2,FALSE)) -> 0 | D63: thomas mathias | E63: tm81308 | F63: GCG | G63: Asia Pacific | H63: Singapore | I63: Ong,Kim Boon | J63: BAU | K63: Storage Request - SAN | L63: Open | M63: Submitter Approval | N63: tm81308; | O63: 41337.226 | P63: 0 | Q63: 309.87852 | R63: 309.87852 | S63: ASPAC
A64: Siju Vellam Podichintavida | B64: CAP0028673 | C64: =IF(ISERROR(VLOOKUP(B64,'070114'!B:C,2,FALSE)),"new",VLOOKUP(B64,'070114'!B:C,2,FALSE)) -> 0 | D64: ka tak randy ho | E64: sv42004 | F64: GCG | G64: Cross Function | H64: CTO | I64: Mukundan, Bobby | J64: AML Japan Move Server | K64: Storage Request - SAN | L64: Open | M64: Submitter Approval | N64: kh92063;sv42004; | O64: 41393.192 | P64: 0 | Q64: 253.91301 | R64: 253.91301 | S64: ASPAC
