Workbook

Sheet Main
D3: Tier3 | F3: Tier3 | H3: Tier4 | J3: Tier4 | L3: Tier4 | N3: Tier4
D4: PROD | F4: COB | H4: UAT | J4: SIT/DIT | L4: DIT | N4: SIT
B5: Location | D5: DASD | E5: Cluster Disk | F5: DASD | G5: Cluster Disk | H5: DASD | I5: Cluster Disk | J5: DASD | K5: Cluster Disk | L5: DASD | M5: Cluster Disk | N5: DASD | O5: Cluster Disk
B6: RDC | C6: Linux | D6: =SUMIF(Source!L:L,P6,Source!I:I) -> 5100 | E6: =SUMIF(Source!L:L,P:P,Source!J:J) -> 6000 | F6: =SUMIF(Source!L:L,Q:Q,Source!I:I) -> 4300 | G6: =SUMIF(Source!L:L,Q:Q,Source!J:J) -> 0 | H6: =SUMIF(Source!L:L,R:R,Source!I:I) -> 2400 | I6: =SUMIF(Source!L:L,R:R,Source!J:J) -> 0 | J6: =SUMIF(Source!L:L,S:S,Source!I:I) -> 0 | K6: =SUMIF(Source!L:L,S:S,Source!J:J) -> 0 | L6: =SUMIF(Source!L:L,T:T,Source!I:I) -> 0 | M6: =SUMIF(Source!L:L,T:T,Source!J:J) -> 0 | N6: =SUMIF(Source!L:L,U:U,Source!I:I) -> 0 | O6: =SUMIF(Source!L:L,U:U,Source!J:J) -> 0 | P6: PROD_RDC_Linux | Q6: COB_RDC_Linux | R6: UAT_RDC_Linux | S6: SIT/DIT_RDC_Linux | T6: DIT_RDC_Linux | U6: SIT_RDC_Linux
B7: FDC | C7: Linux | D7: =SUMIF(Source!L:L,P7,Source!I:I) -> 5100 | E7: =SUMIF(Source!L:L,P:P,Source!J:J) -> 6000 | F7: =SUMIF(Source!L:L,Q:Q,Source!I:I) -> 4300 | G7: =SUMIF(Source!L:L,Q:Q,Source!J:J) -> 0 | H7: =SUMIF(Source!L:L,R:R,Source!I:I) -> 3600 | I7: =SUMIF(Source!L:L,R:R,Source!J:J) -> 6000 | J7: =SUMIF(Source!L:L,S:S,Source!I:I) -> 2200 | K7: =SUMIF(Source!L:L,S:S,Source!J:J) -> 0 | L7: =SUMIF(Source!L:L,T:T,Source!I:I) -> 1200 | M7: =SUMIF(Source!L:L,T:T,Source!J:J) -> 0 | N7: =SUMIF(Source!L:L,U:U,Source!I:I) -> 1600 | O7: =SUMIF(Source!L:L,U:U,Source!J:J) -> 0 | P7: PROD_FDC_Linux | Q7: COB_FDC_Linux | R7: UAT_FDC_Linux | S7: SIT/DIT_FDC_Linux | T7: DIT_FDC_Linux | U7: SIT_FDC_Linux
B8: RDC | C8: AIX | D8: =SUMIF(Source!L:L,P8,Source!I:I) -> 0 | E8: =SUMIF(Source!L:L,P:P,Source!J:J) -> 0 | F8: =SUMIF(Source!L:L,Q:Q,Source!I:I) -> 400 | G8: =SUMIF(Source!L:L,Q:Q,Source!J:J) -> 600 | H8: =SUMIF(Source!L:L,R:R,Source!I:I) -> 0 | I8: =SUMIF(Source!L:L,R:R,Source!J:J) -> 0 | J8: =SUMIF(Source!L:L,S:S,Source!I:I) -> 0 | K8: =SUMIF(Source!L:L,S:S,Source!J:J) -> 0 | L8: =SUMIF(Source!L:L,T:T,Source!I:I) -> 0 | M8: =SUMIF(Source!L:L,T:T,Source!J:J) -> 0 | N8: =SUMIF(Source!L:L,U:U,Source!I:I) -> 0 | O8: =SUMIF(Source!L:L,U:U,Source!J:J) -> 0 | P8: PROD_RDC_AIX | Q8: COB_RDC_AIX | R8: UAT_RDC_AIX | S8: SIT/DIT_RDC_AIX | T8: DIT_RDC_AIX | U8: SIT_RDC_AIX
B9: FDC | C9: AIX | D9: =SUMIF(Source!L:L,P9,Source!I:I) -> 400 | E9: =SUMIF(Source!L:L,P:P,Source!J:J) -> 600 | F9: =SUMIF(Source!L:L,Q:Q,Source!I:I) -> 0 | G9: =SUMIF(Source!L:L,Q:Q,Source!J:J) -> 0 | H9: =SUMIF(Source!L:L,R:R,Source!I:I) -> 260 | I9: =SUMIF(Source!L:L,R:R,Source!J:J) -> 500 | J9: =SUMIF(Source!L:L,S:S,Source!I:I) -> 0 | K9: =SUMIF(Source!L:L,S:S,Source!J:J) -> 0 | L9: =SUMIF(Source!L:L,T:T,Source!I:I) -> 0 | M9: =SUMIF(Source!L:L,T:T,Source!J:J) -> 0 | N9: =SUMIF(Source!L:L,U:U,Source!I:I) -> 1200 | O9: =SUMIF(Source!L:L,U:U,Source!J:J) -> 0 | P9: PROD_FDC_AIX | Q9: COB_FDC_AIX | R9: UAT_FDC_AIX | S9: SIT/DIT_FDC_AIX | T9: DIT_FDC_AIX | U9: SIT_FDC_AIX
B10: Total | D10: =SUM(D6:D9) -> 10600 | E10: =SUM(E6:E9) -> 12600 | F10: =SUM(F6:F9) -> 9000 | G10: =SUM(G6:G9) -> 600 | H10: =SUM(H6:H9) -> 6260 | I10: =SUM(I6:I9) -> 6500 | J10: =SUM(J6:J9) -> 2200 | K10: =SUM(K6:K9) -> 0 | ... O10: =SUM(O6:O9) -> 0
D12: Tier3 | F12: Tier3 | H12: Tier4 | J12: Tier4 | L12: Tier4 | N12: Tier4
D13: PROD | F13: COB | H13: UAT | J13: SIT/DIT | L13: DIT | N13: SIT
D14: DASD | E14: Cluster Disk | F14: DASD | G14: Cluster Disk | H14: DASD | I14: Cluster Disk | J14: DASD | K14: Cluster Disk | L14: DASD | M14: Cluster Disk | N14: DASD | O14: Cluster Disk
C15: RDC | D15: =SUMIF(B6:B9,C15,D6:D9) -> 5100 | E15: =SUMIF(B6:B9,C15,E6:E9) -> 6000 | F15: =SUMIF(B6:B9,C15,F6:F9) -> 4700 | G15: =SUMIF(B6:B9,C15,G6:G9) -> 600 | H15: =SUMIF(B6:B9,C15,H6:H9) -> 2400 | I15: =SUMIF(B6:B9,C15,I6:I9) -> 0 | J15: =SUMIF(B6:B9,C15,J6:J9) -> 0 | K15: =SUMIF(B6:B9,C15,K6:K9) -> 0 | L15: =SUMIF(B6:B9,C15,L6:L9) -> 0 | M15: =SUMIF(B6:B9,C15,M6:M9) -> 0 | N15: =SUMIF(B6:B9,C15,N6:N9) -> 0 | O15: =SUMIF(B6:B9,C15,O6:O9) -> 0
C16: FDC | D16: =SUMIF(B7:B10,C16,D7:D10) -> 5500 | E16: =SUMIF(B7:B10,C16,E7:E10) -> 6600 | F16: =SUMIF(B7:B10,C16,F7:F10) -> 4300 | G16: =SUMIF(B7:B10,C16,G7:G10) -> 0 | H16: =SUMIF(B7:B10,C16,H7:H10) -> 3860 | I16: =SUMIF(B7:B10,C16,I7:I10) -> 6500 | J16: =SUMIF(B7:B10,C16,J7:J10) -> 2200 | K16: =SUMIF(B7:B10,C16,K7:K10) -> 0 | L16: =SUMIF(B7:B10,C16,L7:L10) -> 1200 | M16: =SUMIF(B7:B10,C16,M7:M10) -> 0 | N16: =SUMIF(B7:B10,C16,N7:N10) -> 2800 | O16: =SUMIF(B7:B10,C16,O7:O10) -> 0
D18: Tier3 | F18: Tier-4
D19: DASD | E19: Cluster Disk | F19: DASD | G19: Cluster Disk
C20: RDC | D20: =D15 -> 5100 | E20: =E15 -> 6000 | F20: =H15+J15+L15+N15 -> 2400 | G20: =I15+K15+M15+O15 -> 0
C21: FDC | D21: =D16 -> 5500 | E21: =E16 -> 6600 | F21: =H16+J16+L16+N16 -> 10060 | G21: =I16+K16+M16+O16 -> 6500
D23: Tier-3 | E23: Tier-4
C24: RDC | D24: =D20+E20 -> 11100 | E24: =F20 -> 2400
C25: FDC | D25: =D21+E21 -> 12100 | E25: =F21+G21 -> 16560
C26: Total | D26: =SUM(D24:D25) -> 23200 | E26: =SUM(E24:E25) -> 18960

Sheet Source
A1: Env | B1: Location | C1: Type | D1: LPAR Name | E1: Platform | F1: BLADE | G1: Cores | H1: RAM | I1: DASD | J1: Cluster Disk | K1: Software
A2: PROD | B2: FDC | C2: Web Server | D2: BLADE 1 | E2: Linux | F2: 1 | G2: 8 | H2: 50 | I2: 700 | K2: IBM HTTP Server, WAS Plugin | L2: =CONCATENATE(A2,"_",B2,"_",E2) -> PROD_FDC_Linux
A3: PROD | B3: RDC | C3: Web Server | D3: BLADE 2 | E3: Linux | F3: 1 | G3: 8 | H3: 50 | I3: 700 | K3: IBM HTTP Server, WAS Plugin | L3: =CONCATENATE(A3,"_",B3,"_",E3) -> PROD_RDC_Linux
A4: PROD | B4: FDC | C4: PL App Server | D4: BLADE 3 | E4: Linux | F4: 1 | G4: 12 | H4: 100 | I4: 600 | K4: Websphere 8.5, IHS, Safenet, Oracle Client | L4: =CONCATENATE(A4,"_",B4,"_",E4) -> PROD_FDC_Linux
A5: PROD | B5: RDC | C5: PL App Server | D5: BLADE 4 | E5: Linux | F5: 1 | G5: 12 | H5: 100 | I5: 600 | K5: Websphere 8.5, IHS, Safenet, Oracle Client | L5: =CONCATENATE(A5,"_",B5,"_",E5) -> PROD_RDC_Linux
A6: PROD | B6: FDC | C6: PL App Server | D6: BLADE 5 | E6: Linux | F6: 1 | G6: 12 | H6: 100 | I6: 600 | K6: Websphere 8.5, IHS, Safenet, Oracle Client | L6: =CONCATENATE(A6,"_",B6,"_",E6) -> PROD_FDC_Linux
A7: PROD | B7: RDC | C7: PL App Server | D7: BLADE 6 | E7: Linux | F7: 1 | G7: 12 | H7: 100 | I7: 600 | K7: Websphere 8.5, IHS, Safenet, Oracle Client | L7: =CONCATENATE(A7,"_",B7,"_",E7) -> PROD_RDC_Linux
A8: PROD | B8: FDC | C8: CM App Server | D8: BLADE 7 | E8: Linux | F8: 1 | G8: 12 | H8: 100 | I8: 800 | K8: Websphere 8.5, IHS, Safenet, Oracle Client | L8: =CONCATENATE(A8,"_",B8,"_",E8) -> PROD_FDC_Linux
A9: PROD | B9: FDC | C9: CM App Server | D9: BLADE 8 | E9: Linux | F9: 1 | G9: 12 | H9: 100 | I9: 800 | K9: Websphere 8.5, IHS, Safenet, Oracle Client | L9: =CONCATENATE(A9,"_",B9,"_",E9) -> PROD_FDC_Linux
A10: PROD | B10: FDC | C10: CM App Server | D10: BLADE 9 | E10: Linux | F10: 1 | G10: 12 | H10: 100 | I10: 800 | K10: Websphere 8.5, IHS, Safenet, Oracle Client | L10: =CONCATENATE(A10,"_",B10,"_",E10) -> PROD_FDC_Linux
A11: PROD | B11: RDC | C11: CM App Server | D11: BLADE 10 | E11: Linux | F11: 1 | G11: 12 | H11: 100 | I11: 800 | K11: Websphere 8.5, IHS, Safenet, Oracle Client | L11: =CONCATENATE(A11,"_",B11,"_",E11) -> PROD_RDC_Linux
A12: PROD | B12: RDC | C12: CM App Server | D12: BLADE 11 | E12: Linux | F12: 1 | G12: 12 | H12: 100 | I12: 800 | K12: Websphere 8.5, IHS, Safenet, Oracle Client | L12: =CONCATENATE(A12,"_",B12,"_",E12) -> PROD_RDC_Linux
A13: PROD | B13: RDC | C13: CM App Server | D13: BLADE 12 | E13: Linux | F13: 1 | G13: 12 | H13: 100 | I13: 800 | K13: Websphere 8.5, IHS, Safenet, Oracle Client | L13: =CONCATENATE(A13,"_",B13,"_",E13) -> PROD_RDC_Linux
A14: PROD | B14: FDC | C14: DB Server Cluster1 | D14: BLADE 13 | E14: Linux | F14: 1 | G14: 10 | H14: 80 | I14: 200 | J14: 3000 | K14: Oracle 11G, AWR | L14: =CONCATENATE(A14,"_",B14,"_",E14) -> PROD_FDC_Linux
A15: PROD | B15: FDC | C15: DB Server Cluster1 | D15: BLADE 14 | E15: Linux | F15: 1 | G15: 10 | H15: 80 | I15: 200 | K15: Oracle 11G, AWR | L15: =CONCATENATE(A15,"_",B15,"_",E15) -> PROD_FDC_Linux
A16: PROD | B16: RDC | C16: Data Guard Cluster1 | D16: BLADE 15 | E16: Linux | F16: 1 | G16: 10 | H16: 80 | I16: 200 | J16: 3000 | K16: Oracle 11G, AWR | L16: =CONCATENATE(A16,"_",B16,"_",E16) -> PROD_RDC_Linux
A17: PROD | B17: RDC | C17: Data Guard Cluster1 | D17: BLADE 16 | E17: Linux | F17: 1 | G17: 10 | H17: 80 | I17: 200 | K17: Oracle 11G, AWR | L17: =CONCATENATE(A17,"_",B17,"_",E17) -> PROD_RDC_Linux
A18: PROD | B18: FDC | C18: DB Server Cluster2 | D18: BLADE 17 | E18: Linux | F18: 1 | G18: 10 | H18: 80 | I18: 200 | J18: 3000 | K18: Oracle 11G, AWR | L18: =CONCATENATE(A18,"_",B18,"_",E18) -> PROD_FDC_Linux
A19: PROD | B19: FDC | C19: DB Server Cluster2 | D19: BLADE 18 | E19: Linux | F19: 1 | G19: 10 | H19: 80 | I19: 200 | K19: Oracle 11G, AWR | L19: =CONCATENATE(A19,"_",B19,"_",E19) -> PROD_FDC_Linux
A20: PROD | B20: RDC | C20: Data Guard Cluster2 | D20: BLADE 19 | E20: Linux | F20: 1 | G20: 10 | H20: 80 | I20: 200 | J20: 3000 | K20: Oracle 11G, AWR | L20: =CONCATENATE(A20,"_",B20,"_",E20) -> PROD_RDC_Linux
A21: PROD | B21: RDC | C21: Data Guard Cluster2 | D21: BLADE 20 | E21: Linux | F21: 1 | G21: 10 | H21: 80 | I21: 200 | K21: Oracle 11G, AWR | L21: =CONCATENATE(A21,"_",B21,"_",E21) -> PROD_RDC_Linux
A22: PROD | B22: FDC | C22: CitiAlert Server | D22: New LPAR 1 | E22: AIX | F22: 1 | G22: 1 | H22: 48 | I22: 100 | J22: 600 | K22: java, MQ7, NDM | L22: =CONCATENATE(A22,"_",B22,"_",E22) -> PROD_FDC_AIX
A23: PROD | B23: FDC | C23: CitiAlert Server | D23: New LPAR 2 | E23: AIX | F23: 1 | G23: 1 | H23: 48 | I23: 100 | K23: java, MQ7, NDM | L23: =CONCATENATE(A23,"_",B23,"_",E23) -> PROD_FDC_AIX
A24: PROD | B24: FDC | C24: ESTMT | D24: fdcgcgestaa01p | E24: AIX | F24: 1 | G24: 2 | H24: 16 | I24: 100 | K24: Websphere7, NDM, ODWEK, MQ, IHS | L24: =CONCATENATE(A24,"_",B24,"_",E24) -> PROD_FDC_AIX
A25: PROD | B25: FDC | C25: ESTMT | D25: fdcgcgestaa02p | E25: AIX | F25: 1 | G25: 2 | H25: 16 | I25: 100 | K25: Websphere7, NDM, ODWEK, MQ, IHS | L25: =CONCATENATE(A25,"_",B25,"_",E25) -> PROD_FDC_AIX
A26: UAT | B26: FDC | C26: Web Server | D26: BLADE 1 | E26: Linux | F26: 1 | G26: 4 | H26: 40 | I26: 600 | K26: IBM HTTP Server, WAS Plugin | L26: =CONCATENATE(A26,"_",B26,"_",E26) -> UAT_FDC_Linux
A27: UAT | B27: RDC | C27: Web Server | D27: BLADE 2 | E27: Linux | F27: 1 | G27: 4 | H27: 40 | I27: 600 | K27: IBM HTTP Server, WAS Plugin | L27: =CONCATENATE(A27,"_",B27,"_",E27) -> UAT_RDC_Linux
A28: UAT | B28: FDC | C28: GR1 App Server | D28: BLADE 3 | E28: Linux | F28: 1 | G28: 8 | H28: 96 | I28: 600 | K28: Websphere 8.5, IHS, Safenet, Oracle Client | L28: =CONCATENATE(A28,"_",B28,"_",E28) -> UAT_FDC_Linux
A29: UAT | B29: RDC | C29: GR1 App Server | D29: BLADE 4 | E29: Linux | F29: 1 | G29: 8 | H29: 96 | I29: 600 | K29: Websphere 8.5, IHS, Safenet, Oracle Client | L29: =CONCATENATE(A29,"_",B29,"_",E29) -> UAT_RDC_Linux
A30: UAT | B30: FDC | C30: GR2 App Server | D30: BLADE 5 | E30: Linux | F30: 1 | G30: 8 | H30: 96 | I30: 600 | K30: Websphere 8.5, IHS, Safenet, Oracle Client | L30: =CONCATENATE(A30,"_",B30,"_",E30) -> UAT_FDC_Linux
A31: UAT | B31: RDC | C31: GR2 App Server | D31: BLADE 6 | E31: Linux | F31: 1 | G31: 8 | H31: 96 | I31: 600 | K31: Websphere 8.5, IHS, Safenet, Oracle Client | L31: =CONCATENATE(A31,"_",B31,"_",E31) -> UAT_RDC_Linux
A32: UAT | B32: FDC | C32: GR3 App Server | D32: BLADE 7 | E32: Linux | F32: 1 | G32: 8 | H32: 96 | I32: 600 | K32: Websphere 8.5, IHS, Safenet, Oracle Client | L32: =CONCATENATE(A32,"_",B32,"_",E32) -> UAT_FDC_Linux
A33: UAT | B33: RDC | C33: GR3 App Server | D33: BLADE 8 | E33: Linux | F33: 1 | G33: 8 | H33: 96 | I33: 600 | K33: Websphere 8.5, IHS, Safenet, Oracle Client | L33: =CONCATENATE(A33,"_",B33,"_",E33) -> UAT_RDC_Linux
A34: UAT | B34: FDC | C34: DB Server Cluster1 | D34: BLADE 9 | E34: Linux | F34: 1 | G34: 4 | H34: 64 | I34: 150 | J34: 1500 | K34: Oracle 11G, AWR | L34: =CONCATENATE(A34,"_",B34,"_",E34) -> UAT_FDC_Linux
A35: UAT | B35: FDC | C35: DB Server Cluster1 | D35: BLADE 10 | E35: Linux | F35: 1 | G35: 4 | H35: 64 | I35: 150 | K35: Oracle 11G, AWR | L35: =CONCATENATE(A35,"_",B35,"_",E35) -> UAT_FDC_Linux
A36: UAT | B36: FDC | C36: Data Guard Cluster1 | D36: BLADE 11 | E36: Linux | F36: 1 | G36: 4 | H36: 64 | I36: 150 | J36: 1500 | K36: Oracle 11G, AWR | L36: =CONCATENATE(A36,"_",B36,"_",E36) -> UAT_FDC_Linux
A37: UAT | B37: FDC | C37: Data Guard Cluster1 | D37: BLADE 12 | E37: Linux | F37: 1 | G37: 4 | H37: 64 | I37: 150 | K37: Oracle 11G, AWR | L37: =CONCATENATE(A37,"_",B37,"_",E37) -> UAT_FDC_Linux
A38: UAT | B38: FDC | C38: DB Server Cluster2 | D38: BLADE 13 | E38: Linux | F38: 1 | G38: 4 | H38: 64 | I38: 150 | J38: 1500 | K38: Oracle 11G, AWR | L38: =CONCATENATE(A38,"_",B38,"_",E38) -> UAT_FDC_Linux
A39: UAT | B39: FDC | C39: DB Server Cluster2 | D39: BLADE 14 | E39: Linux | F39: 1 | G39: 4 | H39: 64 | I39: 150 | K39: Oracle 11G, AWR | L39: =CONCATENATE(A39,"_",B39,"_",E39) -> UAT_FDC_Linux
A40: UAT | B40: FDC | C40: Data Guard Cluster2 | D40: BLADE 15 | E40: Linux | F40: 1 | G40: 4 | H40: 64 | I40: 150 | J40: 1500 | K40: Oracle 11G, AWR | L40: =CONCATENATE(A40,"_",B40,"_",E40) -> UAT_FDC_Linux
...

Sheet Sheet3
