Workbook

Sheet Main sheet
C1: Centera Capacity Report 24th June 2013
A2: Country | D2: Notes | E2: Approx number of weeks Available | F2: Total Storage on Centera - (Available + Used Capacity) | G2: % Available | H2: Used Capacity | I2: Available Space Date - 24/06/13 | J2: Available Space Date - 19/06/13 | K2: Available Space Date - 12/06/13 | L2: Available Space Date - 06/03/13 | M2: Available Space Date - 28/05/13 | N2: Available Space Date - 07/05/13 | O2: Available Space Date - 29/04/13 | P2: Available Space Date - 16/04/13 | Q2: Available Space Date - 26/03/13 | R2: Available Space Date - 18/03/13 | S2: Available Space Date - 11/03/13 | T2: Available Space Date - 18/02/13 | U2: Available Space Date - 05/02/13 | V2: Available Space Date - 28/01/13 | W2: Available Space Date - 22/01/13 | X2: Available Space Date - 15/01/13 | Y2: Available Space Date - 07/01/13 | Z2: Available Space Date - 17/12/12 | AA2: Available Space Date - 10/12/12 | AB2: Available Space Date - 03/12/12 | AC2: Available Space Date - 26/11/12 | AD2: Available Space Date - 19/11/12 | AE2: Available Space Date - 12/11/12 | AF2: Available Space Date - 22/10/12 | AG2: Available Space Date - 01/10/12 | AH2: Available Space Date - 24/09/12 | AI2: Available Space Date - 17/09/12 | AJ2: Available Space Date - 10/09/12 | AK2: Available Space Date - 03/09/12 | AL2: Available Space Date - 28/08/12 | AM2: Available Space Date - 20/08/12 | AN2: Available Space Date - 30/07/12 | AO2: Available Space Date - 23/07/12 | AP2: Available Space Date - 09/07/12 | AQ2: Available Space Date - 02/07/12 | AR2: Available Space Date - 25/06/12 | AS2: Available Space Date - 18/06/12 | AT2: Available Space Date - 11/06/12 | AU2: Available Space Date - 04/06/12 | AV2: Available Space Date - 28/05/12 | AW2: Available Space Date - 21/05/12 | AX2: Available Space Date - 14/05/12 | AY2: Available Space Date - 07/05/12 | AZ2: Available Space Date - 30/04/12 | BA2: Available Space Date - 23/04/12 | BB2: Available Space Date - 16/04/12 | BC2: Available Space Date - 09/04/12 | BD2: Available Space Date - 02/04/12 | BE2: Available Space Date - 26/03/12 | BF2: Available Space Date - 19/03/12 | BG2: Available Space Date - 12/03/12 | BH2: Available Space Date - 05/03/12 | BI2: Available Space Date - 27/02/12 | BJ2: Available Space Date - 20/02/12 | BK2: Available Space Date - 13/02/12 | BL2: Available Space Date - 06/02/12 | BM2: Available Space Date - 30/01/12 | BN2: Available Space Date - 23/01/12 | BO2: Available Space Date - 16/01/12 | BP2: Available Space Date - 09/01/12 | BQ2: Available Space Date - 02/01/12 | BR2: Available Space Date - 26/12/11 | BS2: Available Space Date - 19/12/11 | BT2: Available Space Date - 12/12/11 | BU2: Available Space Date - 05/12/11 | BV2: Available Space Date - 28/11/11 | BW2: Available Space Date - 21/11/11 | BX2: Available Space Date - 14/11/11 | BY2: Available Space Date - 07/11/11 | BZ2: Available Space Date - 31/10/11 | CA2: Available Space Date - 24/10/11 | CB2: Available Space Date - 17/10/11 | CC2: Available Space Date - 10/10/11 | CD2: Available Space Date - 03/10/11 | CE2: Available Space Date - 26/09/11 | CF2: Available Space Date - 19/09/11 | CG2: Available Space Date - 12/09/11 | CH2: Available Space Date - 05/09/11 | CI2: Available Space Date - 29/08/11 | CJ2: Available Space Date - 22/08/11 | CK2: Available Space Date - 15/08/11 | CL2: Available Space Date - 08/08/11 | CM2: Available Space Date - 01/08/11 | CN2: Available Space Date - 25/07/11 | CO2: Available Space Date - 18/07/11 | CP2: Available Space Date - 11/07/11 | CQ2: Available Space Date - 04/07/11 | CR2: Available Space Date - 27/06/11 | CS2: Available Space Date - 20/06/11 | CT2: Available Space Date - 13/06/11 | CU2: Available Space Date - 06/06/11
A3: Poland | B3: Voice | C3: centera_PL_01G CK200053810059 | E3: =$I3/(AVERAGE($I4:$AA4)) -> 35.752733 | F3: =SUM($H3+$S3) -> 59028 | G3: =($I3/$F3)*100 -> 14.581216 | H3: 48517 | I3: 8607 | J3: 8691 | K3: 8831 | L3: 8970 | M3: 9037 | N3: 9439 | O3: 9541 | P3: 9804 | Q3: 10193 | R3: 10346 | S3: 10511 | T3: 10943 | U3: 11196 | V3: 11358 | W3: 11472 | X3: 11609 | Y3: 11745 | Z3: 12040 | AA3: 12196 | AB3: 12347 | AC3: 12493 | AD3: 12646 | AE3: 12805 | AF3: 13257 | AG3: 15157 | AH3: 26624 | AI3: 26624 | AJ3: 26624 | AK3: 26624 | AL3: 29696 | AM3: 29696 | AN3: 31302 | AO3: 4055 | AP3: 4367 | AQ3: 4580 | AR3: 4965 | AS3: 5122 | AT3: 4352 | AU3: 4419 | AV3: 4628 | AW3: 4784 | AX3: 4956 | AY3: 5087 | AZ3: 5145 | BA3: 5303 | BB3: 5462 | BC3: 5606 | BD3: 5747 | BE3: 5917 | BF3: 6083 | BG3: 6250 | BH3: 6412 | BI3: 6571 | BJ3: 6714 | BK3: 6872 | BL3: 7047 | BM3: 7222 | BN3: 7421 | BO3: 7632 | BP3: 7821 | BQ3: 7942 | BR3: 8077 | BS3: 8219 | BT3: 8419 | BU3: 8621 | BV3: 9424 | BW3: 9472 | BX3: 9542 | BY3: 9578 | BZ3: 9599 | CA3: 9622 | CB3: 9685 | CC3: 9828 | CD3: 9961 | CE3: 10107 | CF3: 10228 | CG3: 10357 | CH3: 10506 | CI3: 10650 | CJ3: 0 | CK3: 0 | CL3: 0 | CM3: 0 | CN3: 0 | CO3: 0 | CP3: 0 | CQ3: 0 | CR3: 0 | CS3: 0 | CT3: 0 | CU3: 0
C4: Used per Week | I4: =J3-I3 -> 84 | J4: =L3-J3 -> 279 | K4: =M3-K3 -> 206 | L4: =M3-L3 -> 67 | M4: =P3-M3 -> 767 | N4: =P3-N3 -> 365 | O4: =P3-O3 -> 263 | P4: =Q3-P3 -> 389 | Q4: =R3-Q3 -> 153 | R4: =S3-R3 -> 165 | S4: =T3-S3 -> 432 | T4: =U3-T3 -> 253 | U4: =V3-U3 -> 162 | V4: =W3-V3 -> 114 | ... CF4: =CG3-CF3 -> 129
B5: Voice | C5: centera_PL_01S CK200054900293 | E5: =$I5/(AVERAGE($I6:$AA6)) -> 90.903986 | F5: =SUM($H5+$S5) -> 78335 | G5: =($I5/$F5)*100 -> 33.714176 | H5: 50856 | I5: 26410 | J5: 26463 | K5: 26455 | L5: 26576 | M5: 26628 | N5: 27009 | O5: 27018 | P5: 27128 | Q5: 27309 | R5: 27336 | S5: 27479 | T5: 27821 | U5: 28610 | V5: 31301 | W5: 30670 | X5: 30798 | Y5: 30928 | Z5: 31220 | AA5: 31376 | AB5: 31528 | AC5: 31674 | AD5: 31826 | AE5: 31968 | AF5: 32437 | AG5: 36709 | AH5: 51200 | AI5: 51200 | AJ5: 51200 | AK5: 51200 | AL5: 52224 | AM5: 52224 | AN5: 53441 | AO5: 1458 | AP5: 1386 | AQ5: 1369 | AR5: 1337 | AS5: 1334 | AT5: 510 | AU5: 476 | AV5: 467 | AW5: 878 | AX5: 931 | AY5: 931 | AZ5: 931 | BA5: 931 | BB5: 931 | BC5: 931 | BD5: 938 | BE5: 938 | BF5: 937 | BG5: 937 | BH5: 936 | BI5: 932 | BJ5: 932 | BK5: 932 | BL5: 931 | BM5: 932 | BN5: 931 | BO5: 932 | BP5: 1118 | BQ5: 1260 | BR5: 1380 | BS5: 1549 | BT5: 1748 | BU5: 1932 | BV5: 2717 | BW5: 2768 | BX5: 2840 | BY5: 2896 | BZ5: 2922 | CA5: 2972 | CB5: 3066 | CC5: 3223 | CD5: 3372 | CE5: 3528 | CF5: 3684 | CG5: 3838 | CH5: 4000 | CI5: 4162 | CJ5: 4310 | CK5: 4485 | CL5: 4629 | CM5: 4794 | CN5: 4947 | CO5: 5130 | CP5: 5297 | CQ5: 5480 | CR5: 5628 | CS5: 5799 | CT5: 5994 | CU5: 6202
C6: Used per Week | I6: =J5-I5 -> 53 | J6: =L5-J5 -> 113 | K6: =M5-K5 -> 173 | L6: =M5-L5 -> 52 | M6: =P5-M5 -> 500 | N6: =P5-N5 -> 119 | O6: =P5-O5 -> 110 | P6: =Q5-P5 -> 181 | Q6: =R5-Q5 -> 27 | R6: =S5-R5 -> 143 | S6: =T5-S5 -> 342 | T6: =U5-T5 -> 789 | U6: =V5-U5 -> 2691 | V6: =W5-V5 -> -631 | ... CF6: =CG5-CF5 -> 154
B7: AXSPnt | C7: centera_PL_02G CK200042100431 | E7: =$I7/(AVERAGE($I8:$S8,$U8:$Y8,$AA8:$AB8)) -> 207.88203 | F7: =SUM($H7+$I7) -> 40003 | G7: =($I7/$F7)*100 -> 63.630228 | H7: 14549 | I7: 25454 | J7: 25474 | K7: 25522 | L7: 25566 | M7: 25589 | N7: 25698 | O7: 25731 | P7: 25798 | Q7: 25903 | R7: 25943 | S7: 25984 | T7: 26092 | U7: 24689 | V7: 24730 | W7: 24757 | X7: 24791 | Y7: 24829 | Z7: 24925 | AA7: 23936 | AB7: 24996 | AC7: 25032 | AD7: 25066 | AE7: 25101 | AF7: 25197 | AG7: 25281 | AH7: 33386 | AI7: 33386 | AJ7: 33417 | AK7: 33436 | AL7: 34646 | AM7: 34680 | AN7: 35356 | AO7: 7989 | AP7: 8059 | AQ7: 8093 | AR7: 8129 | AS7: 8164 | AT7: 8198 | AU7: 8224 | AV7: 8264 | AW7: 8298 | AX7: 8333 | AY7: 8369 | AZ7: 8693 | BA7: 8729 | BB7: 8763 | BC7: 8792 | BD7: 8826 | BE7: 8863 | BF7: 8897 | BG7: 8931 | BH7: 8965 | BI7: 9001 | BJ7: 9035 | BK7: 9069 | BL7: 9101 | BM7: 9136 | BN7: 9170 | BO7: 9204 | BP7: 9241 | BQ7: 9268 | BR7: 9296 | BS7: 9334 | BT7: 9370 | BU7: 9405 | BV7: 9442 | BW7: 9476 | BX7: 9511 | BY7: 9541 | BZ7: 9570 | CA7: 9605 | CB7: 9640 | CC7: 9675 | CD7: 9709 | CE7: 9744 | CF7: 9948 | CG7: 9979 | CH7: 10007 | CI7: 10045 | CJ7: 10080 | CK7: 10108 | CL7: 10142 | CM7: 10173 | CN7: 10204 | CO7: 10235 | CP7: 10267 | CQ7: 10302 | CR7: 10335 | CS7: 10365 | CT7: 10398 | CU7: 10432
C8: Used per Week | I8: =J7-I7 -> 20 | J8: =L7-J7 -> 92 | K8: =M7-K7 -> 67 | L8: =M7-L7 -> 23 | M8: =P7-M7 -> 209 | N8: =P7-N7 -> 100 | O8: =P7-O7 -> 67 | P8: =Q7-P7 -> 105 | Q8: =R7-Q7 -> 40 | R8: =S7-R7 -> 41 | S8: =T7-S7 -> 108 | T8: =U7-T7 -> -1403 | U8: =V7-U7 -> 41 | V8: =W7-V7 -> 27 | ... CF8: =CG7-CF7 -> 31
B9: AXSPnt | C9: centera_PL_02S CK200042100432 | D9: Note 1 | E9: =$I9/(AVERAGE($I10:$AA10)) -> 182.64539 | F9: =SUM($H9+$I9) -> 40002 | G9: =($I9/$F9)*100 -> 63.634318 | H9: 14547 | I9: 25455 | J9: 25476 | K9: 25523 | L9: 25567 | M9: 25591 | N9: 25700 | O9: 25734 | P9: 23971 | Q9: 24076 | R9: 24115 | S9: 24156 | T9: 27821 | U9: 24330 | V9: 24371 | W9: 23733 | X9: 23767 | Y9: 30928 | Z9: 31220 | AA9: 23936 | AB9: 31527 | AC9: 31674 | AD9: 24042 | AE9: 31985 | AF9: 24137 | AG9: 24679 | AH9: 34416 | AI9: 34416 | AJ9: 34453 | AK9: 34486 | AL9: 35401 | AM9: 35198 | AN9: 35739 | AO9: 8371 | AP9: 8442 | AQ9: 8476 | AR9: 8512 | AS9: 8544 | AT9: 8581 | AU9: 8605 | AV9: 8647 | AW9: 8980 | AX9: 8716 | AY9: 8749 | AZ9: 8776 | BA9: 8811 | BB9: 8846 | BC9: 8876 | BD9: 8911 | BE9: 8947 | BF9: 8981 | BG9: 9016 | BH9: 9050 | BI9: 9086 | BJ9: 9118 | BK9: 9152 | BL9: 9186 | BM9: 9220 | BN9: 9254 | BO9: 9289 | BP9: 9325 | BQ9: 9353 | BR9: 9380 | BS9: 9418 | BT9: 9454 | BU9: 9489 | BV9: 9526 | BW9: 9561 | BX9: 9596 | BY9: 9626 | BZ9: 9654 | CA9: 9690 | CB9: 9725 | CC9: 9759 | CD9: 9793 | CE9: 9828 | CF9: 9862 | CG9: 9891 | CH9: 9926 | CI9: 9960 | CJ9: 9994 | CK9: 10023 | CL9: 10056 | CM9: 10384 | CN9: 10414 | CO9: 10446 | CP9: 10478 | CQ9: 10811 | CR9: 10845 | CS9: 10874 | CT9: 10907 | CU9: 10942
C10: Used per Week | I10: =J9-I9 -> 21 | J10: =L9-J9 -> 91 | K10: =M9-K9 -> 68 | L10: =M9-L9 -> 24 | M10: =P9-M9 -> -1620 | N10: =P9-N9 -> -1729 | O10: =P9-O9 -> -1763 | P10: =Q9-P9 -> 105 | Q10: =R9-Q9 -> 39 | R10: =S9-R9 -> 41 | S10: =T9-S9 -> 3665 | T10: =U9-T9 -> -3491 | U10: =V9-U9 -> 41 | V10: =W9-V9 -> -638 | ... CF10: =CG9-CF9 -> 29
A12: Switzerland | B12: Voice | C12: centera_CH_01E CK200053010120 | E12: =$I12/(AVERAGE($J13,$M13:$AA13)) -> 52.303272 | F12: =SUM($H12+$I12) -> 46080 | G12: =($I12/$F12)*100 -> 71.111111 | H12: 13312 | I12: 32768 | J12: 32768 | K12: 38073.2 | L12: 39936 | M12: 6553 | N12: 6553 | O12: 6656 | P12: 6860 | Q12: 6759 | R12: 8294 | S12: 8192 | T12: 8499 | U12: 8386 | V12: 8499 | W12: 8704 | X12: 8499 | Y12: 8601 | Z12: 8601 | AA12: 8704 | AB12: 8898 | AC12: 9011 | AD12: 8806 | AE12: 8699 | AF12: 8908 | AG12: 9322 | AH12: 9122 | AI12: 9235 | AJ12: 9364 | AK12: 9486 | AL12: 9322 | AM12: 9430 | AN12: 9456 | AO12: 9566 | AP12: 9567 | AQ12: 9601 | AR12: 9714 | AS12: 9814 | AT12: 9921 | AU12: 9720 | AV12: 9878 | AW12: 10005 | AX12: 9936 | AY12: 9959 | AZ12: 10055 | BA12: 10179 | BB12: 10277 | BC12: 10064 | BD12: 10319 | BE12: 10319 | BF12: 10429 | BG12: 10242 | BH12: 10381 | BI12: 10517 | BJ12: 10627 | BK12: 10322 | BL12: 10452 | BM12: 10598 | BN12: 10731 | BO12: 10417 | BP12: 10544 | BQ12: 10666 | BR12: 10776 | BS12: 10432 | BT12: 10563 | BU12: 10705 | BV12: 10638 | BW12: 10440 | BX12: 10572 | BY12: 10698 | BZ12: 10672 | CA12: 10500 | CB12: 10609 | CC12: 10688 | CD12: 10611 | CE12: 10468 | CF12: 10556 | CG12: 10645 | CH12: 10580 | CI12: 10380 | CJ12: 10474 | CK12: 10614 | CL12: 9659 | CM12: 9437 | CN12: 10232 | CO12: 10353 | CP12: 10381 | CQ12: 10236 | CR12: 10316 | CS12: 10462 | CT12: 10414 | CU12: 10290
C13: Used per Week | I13: =J12-I12 -> 0 | J13: =L12-J12 -> 7168 | K13: =M12-K12 -> -31520.2 | L13: =M12-L12 -> -33383 | M13: =P12-M12 -> 307 | N13: =P12-N12 -> 307 | O13: =P12-O12 -> 204 | P13: =Q12-P12 -> -101 | Q13: =R12-Q12 -> 1535 | R13: =S12-R12 -> -102 | S13: =T12-S12 -> 307 | T13: =U12-T12 -> -113 | U13: =V12-U12 -> 113 | V13: =W12-V12 -> 205 | ... CF13: =CG12-CF12 -> 89
B14: Voice | C14: centera_CH_01R CK200054900163 | E14: =$I14/(AVERAGE($I15:$J15,$M15:$W15)) -> 242.82476 | F14: =SUM($H14+$I14) -> 46080 | G14: =($I14/$F14)*100 -> 62.222222 | H14: 17408 | I14: 28672 | J14: 28672 | K14: 31442.2 | L14: 28672 | M14: 2048 | N14: 2355 | O14: 2457 | P14: 2457 | Q14: 2353 | R14: 2560 | S14: 2252 | T14: 1536 | U14: 2355 | V14: 2353 | W14: 3072 | X14: 3481 | Y14: 3379 | Z14: 2355 | AA14: 1434 | AB14: 764 | AC14: 606 | AD14: 711 | AE14: 813 | AF14: 1507 | AG14: 1507 | AH14: 1621 | AI14: 1724 | AJ14: 1845 | AK14: 1949 | AL14: 2058 | AM14: 2166 | AN14: 2493 | AO14: 2604 | AP14: 2832 | AQ14: 2953 | AR14: 3060 | AS14: 3159 | AT14: 3275 | AU14: 3379 | AV14: 3537 | AW14: 3662 | AX14: 3780 | AY14: 3887 | AZ14: 4006 | BA14: 4110 | BB14: 4209 | BC14: 4302 | BD14: 4430 | BE14: 4549 | BF14: 4685 | BG14: 4801 | BH14: 4930 | BI14: 5062 | BJ14: 5170 | BK14: 5295 | BL14: 5422 | BM14: 5545 | BN14: 5701 | BO14: 5832 | BP14: 5963 | BQ14: 6101 | BR14: 6220 | BS14: 6346 | BT14: 6479 | BU14: 6607 | BV14: 6751 | BW14: 6902 | BX14: 7017 | BY14: 7148 | BZ14: 7289 | CA14: 7419 | CB14: 7541 | CC14: 7664 | CD14: 7789 | CE14: 7910 | CF14: 8023 | CG14: 8138 | CH14: 8260 | CI14: 8392 | CJ14: 8015 | CK14: 8015 | CL14: 8141 | CM14: 8277 | CN14: 8383 | CO14: 8508 | CP14: 8254 | CQ14: 8398 | CR14: 8495 | CS14: 8623 | CT14: 8369 | CU14: 8480
C15: Used per Week | I15: =J14-I14 -> 0 | J15: =L14-J14 -> 0 | K15: =M14-K14 -> -29394.2 | L15: =M14-L14 -> -26624 | M15: =P14-M14 -> 409 | N15: =P14-N14 -> 102 | O15: =P14-O14 -> 0 | P15: =Q14-P14 -> -104 | Q15: =R14-Q14 -> 207 | R15: =S14-R14 -> -308 | S15: =T14-S14 -> -716 | T15: =U14-T14 -> 819 | U15: =V14-U14 -> -2 | V15: =W14-V14 -> 719 | ... CF15: =CG14-CF14 -> 115
A17: Turkey | B17: Voice | C17: centera_TK_01T CK200054900292 | E17: =$I17/(AVERAGE($I18:$Z18)) -> 5.0719024 | F17: =SUM($H17+$I17) -> 50509 | G17: =($I17/$F17)*100 -> 6.3077867 | H17: 47323 | I17: 3186 | J17: 5787 | K17: 9139 | L17: 9751 | M17: 9834 | N17: 10207 | O17: 10351 | P17: 10573 | Q17: 10962 | R17: 11096 | S17: 11250 | T17: 11684 | U17: 11958 | V17: 12116 | W17: 12234 | X17: 12386 | Y17: 12529 | Z17: 12969 | AA17: 13210 | AB17: 13595 | AC17: 13732 | AD17: 13841 | AE17: 13997 | AF17: 18094 | AG17: 18562 | AH17: 18713 | AI17: 18864 | AJ17: 19036 | AK17: 19151 | AL17: 19277 | AM17: 19395 | AN17: 19855 | AO17: 19969 | AP17: 20210 | AQ17: 20340 | AR17: 20480 | AS17: 20619 | AT17: 20738 | AU17: 20849 | AV17: 21039 | AW17: 21183 | AX17: 21326 | AY17: 21446 | AZ17: 21572 | BA17: 21708 | BB17: 21845 | BC17: 21977 | BD17: 22127 | BE17: 22275 | BF17: 22432 | BG17: 22577 | BH17: 22719 | BI17: 22869 | BJ17: 22993 | BK17: 23142 | BL17: 23289 | BM17: 23415 | BN17: 23562 | BO17: 23746 | BP17: 23888 | BQ17: 24002 | BR17: 24127 | BS17: 24291 | BT17: 24411 | BU17: 24549 | BV17: 24676 | BW17: 24879 | BX17: 25047 | BY17: 25082 | BZ17: 25183 | CA17: 25331 | CB17: 25414 | CC17: 25520 | CD17: 25635 | CE17: 25772 | CF17: 25889 | CG17: 25987 | CH17: 26094 | CI17: 26108 | CJ17: 26214 | CK17: 26346 | CL17: 927 | CM17: 1777 | CN17: 1777 | CO17: 1779 | CP17: 1781 | CQ17: 1757 | CR17: 1759 | CS17: 1752 | CT17: 1760 | CU17: 1854
C18: Used per Week | I18: =J17-I17 -> 2601 | J18: =L17-J17 -> 3964 | K18: =M17-K17 -> 695 | L18: =M17-L17 -> 83 | M18: =P17-M17 -> 739 | N18: =P17-N17 -> 366 | O18: =P17-O17 -> 222 | P18: =Q17-P17 -> 389 | Q18: =R17-Q17 -> 134 | R18: =S17-R17 -> 154 | S18: =T17-S17 -> 434 | T18: =U17-T17 -> 274 | U18: =V17-U17 -> 158 | V18: =W17-V17 -> 118 | ... CF18: =CG17-CF17 -> 98
B19: Voice | C19: centera_TK_01Y CK200054900294 | E19: =$I19/(AVERAGE($I20:$Z20)) -> 28.663492 | F19: =SUM($H19+$I19) -> 49835 | G19: =($I19/$F19)*100 -> 18.117789 | H19: 40806 | I19: 9029 | J19: 9112 | K19: 9254 | L19: 9967 | M19: 10050 | N19: 10438 | O19: 10582 | P19: 10876 | Q19: 11263 | R19: 11400 | S19: 11552 | T19: 11991 | U19: 12260 | V19: 12422 | W19: 12540 | X19: 12688 | Y19: 12829 | Z19: 12152 | AA19: 13171 | AB19: 13240 | AC19: 13240 | AD19: 13247 | AE19: 13376 | AF19: 17507 | AG19: 18010 | AH19: 18172 | AI19: 18294 | AJ19: 18447 | AK19: 18567 | AL19: 18700 | AM19: 18825 | AN19: 19236 | AO19: 19348 | AP19: 19580 | AQ19: 19720 | AR19: 19864 | AS19: 19992 | AT19: 20088 | AU19: 20205 | AV19: 20381 | AW19: 20519 | AX19: 20642 | AY19: 20757 | AZ19: 20882 | BA19: 21014 | BB19: 21143 | BC19: 21269 | BD19: 21403 | BE19: 21524 | BF19: 21679 | BG19: 21780 | BH19: 21985 | BI19: 22140 | BJ19: 22270 | BK19: 22422 | BL19: 22577 | BM19: 22708 | BN19: 22841 | BO19: 23005 | BP19: 23160 | BQ19: 23348 | BR19: 23474 | BS19: 23643 | BT19: 23731 | BU19: 23859 | BV19: 23990 | BW19: 24135 | BX19: 24350 | BY19: 24404 | BZ19: 24503 | CA19: 24653 | CB19: 24924 | CC19: 25029 | CD19: 25156 | CE19: 25307 | CF19: 25423 | CG19: 25555 | CH19: 25672 | CI19: 25877 | CJ19: 25988 | CK19: 26121 | CL19: 695 | CM19: 803 | CN19: 937 | CO19: 1049 | CP19: 1145 | CQ19: 1298 | CR19: 1391 | CS19: 1514 | CT19: 1618 | CU19: 1690
C20: Used per Week | I20: =J19-I19 -> 83 | J20: =L19-J19 -> 855 | K20: =M19-K19 -> 796 | L20: =M19-L19 -> 83 | M20: =P19-M19 -> 826 | N20: =P19-N19 -> 438 | O20: =P19-O19 -> 294 | P20: =Q19-P19 -> 387 | Q20: =R19-Q19 -> 137 | R20: =S19-R19 -> 152 | S20: =T19-S19 -> 439 | T20: =U19-T19 -> 269 | U20: =V19-U19 -> 162 | V20: =W19-V19 -> 118 | ... CF20: =CG19-CF19 -> 132
A22: UK/DE | B22: Voice | C22: centera_UK_01R CK200061900567 | E22: =$I22/(AVERAGE($I23:$W23,$Y23:$Z23)) -> 58.519416 | F22: =SUM($H22+$I22) -> 245070 | G22: =($I22/$F22)*100 -> 37.148162 | H22: 154031 | I22: 91039 | J22: 91417 | K22: 92477 | L22: 93424 | M22: 93994 | N22: 95829 | O22: 96934 | P22: 97834 | Q22: 100175 | R22: 101129 | S22: 102310 | T22: 104703 | U22: 106196 | V22: 107303 | W22: 108160 | X22: 108985 | Y22: 21850 | Z22: 24976 | AA22: 25929 | AB22: 26907 | AC22: 27803 | AD22: 28437 | AE22: 29232 | AF22: 29696 | AG22: 39727 | AH22: 40404 | AI22: 41193 | AJ22: 41457 | AK22: 42131 | AL22: 42801 | AM22: 43295 | AN22: 44773 | AO22: 45552 | AP22: 46318 | AQ22: 47258 | AR22: 46467 | AS22: 47394 | AT22: 48380 | AU22: 49346 | AV22: 48361 | AW22: 49096 | AX22: 49912 | AY22: 50823 | AZ22: 51778 | BA22: 51060 | BB22: 49839 | BC22: 50586 | BD22: 51045 | BE22: 50162 | BF22: 50975 | BG22: 53994 | BH22: 53994 | BI22: 55037 | BJ22: 56226 | BK22: 57789 | BL22: 57881 | BM22: 58740 | BN22: 60218 | BO22: 61629 | BP22: 62825 | BQ22: 62725 | BR22: 63321 | BS22: 64149 | BT22: 64842 | BU22: 35649 | BV22: 36442 | BW22: 37234 | BX22: 37095 | BY22: 38016 | BZ22: 38704 | CA22: 36893 | CB22: 23832 | CC22: 24782 | CD22: 25744 | CE22: 26712 | CF22: 28230 | CG22: 30117 | CH22: 32691 | CI22: 34140 | CJ22: 35495 | CK22: 37092 | CL22: 38313 | CM22: 39540 | CN22: 40777 | CO22: 41784 | CP22: 43098 | CQ22: 44387 | CR22: 45484 | CS22: 45762 | CT22: 46815 | CU22: 47784
C23: Used per Week | I23: =J22-I22 -> 378 | J23: =L22-J22 -> 2007 | K23: =M22-K22 -> 1517 | L23: =M22-L22 -> 570 | M23: =P22-M22 -> 3840 | N23: =P22-N22 -> 2005 | O23: =P22-O22 -> 900 | P23: =Q22-P22 -> 2341 | Q23: =R22-Q22 -> 954 | R23: =S22-R22 -> 1181 | S23: =T22-S22 -> 2393 | T23: =U22-T22 -> 1493 | U23: =V22-U22 -> 1107 | V23: =W22-V22 -> 857 | ... CF23: =CG22-CF22 -> 1887
B24: Voice | C24: centera_DE_01E CK200061900265 | E24: =$I24/(AVERAGE($I25:$W25,$Y25:$Z25)) -> 59.696198 | F24: =SUM($H24+$I24) -> 248112 | G24: =($I24/$F24)*100 -> 37.893371 | H24: 154094 | I24: 94018 | J24: 94496 | K24: 95558 | L24: 96187 | M24: 96779 | N24: 98627 | O24: 99682 | P24: 101379 | Q24: 103074 | R24: 104073 | S24: 105181 | T24: 107633 | U24: 109019 | V24: 110204 | W24: 111049 | X24: 111790 | Y24: 24882 | Z24: 27210 | AA24: 28214 | AB24: 29377 | AC24: 30281 | AD24: 30767 | AE24: 15806 | AF24: 17408 | AG24: 19365 | AH24: 19456 | AI24: 29179 | AJ24: 29862 | AK24: 30440 | AL24: 31094 | AM24: 31678 | AN24: 33443 | AO24: 34694 | AP24: 31626 | AQ24: 32619 | AR24: 33665 | AS24: 36286 | AT24: 37261 | AU24: 38195 | AV24: 44017 | AW24: 44820 | AX24: 43883 | AY24: 44825 | AZ24: 45744 | BA24: 49187 | BB24: 49996 | BC24: 50736 | BD24: 51681 | BE24: 50680 | BF24: 52060 | BG24: 52991 | BH24: 55548 | BI24: 55992 | BJ24: 27126 | BK24: 28660 | BL24: 29657 | BM24: 30500 | BN24: 31299 | BO24: 32605 | BP24: 33890 | BQ24: 34690 | BR24: 34700 | BS24: 35696 | BT24: 36592 | BU24: 37457 | BV24: 37389 | BW24: 38260 | BX24: 39090 | BY24: 39875 | BZ24: 39489 | CA24: 40492 | CB24: 39921 | CC24: 19591 | CD24: 20794 | CE24: 21981 | CF24: 23207 | CG24: 24575 | CH24: 25872 | CI24: 27240 | CJ24: 27683 | CK24: 29593 | CL24: 30782 | CM24: 31302 | CN24: 33687 | CO24: 34723 | CP24: 35872 | CQ24: 37219 | CR24: 38211 | CS24: 39187 | CT24: 40273 | CU24: 41205
C25: Used per Week | I25: =J24-I24 -> 478 | J25: =L24-J24 -> 1691 | K25: =M24-K24 -> 1221 | L25: =M24-L24 -> 592 | M25: =P24-M24 -> 4600 | N25: =P24-N24 -> 2752 | O25: =P24-O24 -> 1697 | P25: =Q24-P24 -> 1695 | Q25: =R24-Q24 -> 999 | R25: =S24-R24 -> 1108 | S25: =T24-S24 -> 2452 | T25: =U24-T24 -> 1386 | U25: =V24-U24 -> 1185 | V25: =W24-V24 -> 845 | ... CF25: =CG24-CF24 -> 1368
A27: UK/DE | B27: Voice | C27: centera_DE_02E CK200062000592 | E27: =$I27/(AVERAGE($L28,$T28:$W28,$Y28:$Z28)) -> 75.511163 | F27: =SUM($H27+$I27) -> 99475 | G27: =($I27/$F27)*100 -> 27.685348 | H27: 71935 | I27: 27540 | J27: 27540 | K27: 27540 | L27: 27540 | M27: 27540 | N27: 27924 | O27: 27922 | P27: 26129 | Q27: 25972 | R27: 25948 | S27: 25918 | T27: 25739 | U27: 25940 | V27: 26894 | W27: 27570 | X27: 27839 | Y27: 13413 | Z27: 13632 | AA27: 13866 | AB27: 13886 | AC27: 12820 | AD27: 11900 | AE27: 11264 | AF27: 13312 | AG27: 12834 | AH27: 12288 | AI27: 14097 | AJ27: 14557 | AK27: 14799 | AL27: 15189 | AM27: 15488 | AN27: 17306 | AO27: 17223 | AP27: 17430 | AQ27: 17771 | AR27: 18036 | AS27: 18234 | AT27: 18435 | AU27: 18621 | AV27: 18872 | AW27: 19088 | AX27: 19318 | AY27: 19503 | AZ27: 19728 | BA27: 17214 | BB27: 17632 | BC27: 15373 | BD27: 17156 | BE27: 17472 | BF27: 19669 | BG27: 20134 | BH27: 20742 | BI27: 20749 | BJ27: 20966 | BK27: 21226 | BL27: 22854 | BM27: 23360 | BN27: 23696 | BO27: 24073 | BP27: 24388 | BQ27: 25286 | BR27: 25384 | BS27: 25379 | BT27: 25446 | BU27: 25845 | BV27: 26220 | BW27: 26584 | BX27: 26915 | BY27: 27276 | BZ27: 27560 | CA27: 27968 | CB27: 28304 | CC27: 28598 | CD27: 28965 | CE27: 29392 | CF27: 29761 | CG27: 30109 | CH27: 30428 | CI27: 30780 | CJ27: 31042 | CK27: 31335 | CL27: 4270 | CM27: 4602 | CN27: 4847 | CO27: 4878 | CP27: 4089 | CQ27: 950 | CR27: 1269 | CS27: 1607 | CT27: 1935 | CU27: 2298
C28: Used per Week | I28: =J27-I27 -> 0 | J28: =L27-J27 -> 0 | K28: =M27-K27 -> 0 | L28: =M27-L27 -> 0 | M28: =P27-M27 -> -1411 | N28: =P27-N27 -> -1795 | O28: =P27-O27 -> -1793 | P28: =Q27-P27 -> -157 | Q28: =R27-Q27 -> -24 | R28: =S27-R27 -> -30 | S28: =T27-S27 -> -179 | T28: =U27-T27 -> 201 | U28: =V27-U27 -> 954 | V28: =W27-V27 -> 676 | ... CF28: =CG27-CF27 -> 348
B29: Voice | C29: centera_UK_02R CK200062000593 | E29: =$I29/(AVERAGE($I30:$L30,$O30:$S30,$V30:$Z30)) -> 91.945705 | F29: =SUM($H29+$I29) -> 105496 | G29: =($I29/$F29)*100 -> 29.352772 | H29: 74530 | I29: 30966 | J29: 30695 | K29: 30961 | L29: 31244 | M29: 31455 | N29: 31128 | O29: 29760 | P29: 30263 | Q29: 30900 | R29: 31133 | S29: 30964 | T29: 31143 | U29: 29026 | V29: 26728 | W29: 27931 | X29: 28198 | Y29: 28442 | Z29: 28874 | AA29: 29077 | AB29: 28366 | AC29: 28524 | AD29: 29008 | AE29: 29372 | AF29: 26624 | AG29: 28865 | AH29: 29152 | AI29: 6193 | AJ29: 9052 | AK29: 10749 | AL29: 11958 | AM29: 12297 | AN29: 13702 | AO29: 14020 | AP29: 14673 | AQ29: 15010 | AR29: 14451 | AS29: 15643 | AT29: 15917 | AU29: 16228 | AV29: 16676 | AW29: 17020 | AX29: 17349 | AY29: 17607 | AZ29: 17951 | BA29: 18344 | BB29: 17831 | BC29: 18159 | BD29: 18495 | BE29: 18823 | BF29: 19108 | BG29: 21145 | BH29: 22019 | BI29: 23145 | BJ29: 23420 | BK29: 23631 | BL29: 24003 | BM29: 24331 | BN29: 24652 | BO29: 25018 | BP29: 25333 | BQ29: 25038 | BR29: 25356 | BS29: 25718 | BT29: 26097 | BU29: 26497 | BV29: 26865 | BW29: 27224 | BX29: 27775 | BY29: 28112 | BZ29: 28396 | CA29: 28801 | CB29: 29140 | CC29: 29450 | CD29: 29815 | CE29: 29701 | CF29: 29999 | CG29: 30330 | CH29: 30694 | CI29: 30645 | CJ29: 31001 | CK29: 2056 | CL29: 4072 | CM29: 4120 | CN29: 4427 | CO29: 4799 | CP29: 4956 | CQ29: 2760 | CR29: 2822 | CS29: 3204 | CT29: 3534 | CU29: 3908
C30: Used per Week | I30: =J29-I29 -> -271 | J30: =L29-J29 -> 549 | K30: =M29-K29 -> 494 | L30: =M29-L29 -> 211 | M30: =P29-M29 -> -1192 | N30: =P29-N29 -> -865 | O30: =P29-O29 -> 503 | P30: =Q29-P29 -> 637 | Q30: =R29-Q29 -> 233 | R30: =S29-R29 -> -169 | S30: =T29-S29 -> 179 | T30: =U29-T29 -> -2117 | U30: =V29-U29 -> -2298 | V30: =W29-V29 -> 1203 | ... CF30: =CG29-CF29 -> 331
A32: UK/DE | B32: CEEMEA | C32: rdccentera01 CK200113804158 | E32: =$I32/(AVERAGE($I33:$Z33)) -> 304.46809 | F32: =SUM($H32+$I32) -> 25595 | G32: =($I32/$F32)*100 -> 83.864036 | H32: 4130 | I32: 21465 | J32: 21493 | K32: 21536 | L32: 21574 | M32: 21610 | N32: 21720 | O32: 21756 | P32: 21827 | Q32: 21939 | R32: 21975 | S32: 22015 | T32: 22126 | U32: 22194 | V32: 22233 | W32: 22266 | X32: 22296 | Y32: 22330 | Z32: 22440 | AA32: 22482 | AB32: 22573 | AC32: 22700 | AD32: 22528 | AE32: 22528 | AF32: 23347 | AG32: 23498 | AH32: 23505 | AI32: 23565 | AJ32: 23649 | AK32: 23650 | AL32: 23736 | AM32: 23736 | AN32: 23861 | AO32: 23945 | AP32: 24699 | AQ32: 25090 | AR32: 25391 | AS32: 25505 | AT32: 25539 | AU32: 25539 | AV32: 25539 | AW32: 25539 | AX32: 25539 | AY32: 25539 | AZ32: 25539 | BA32: 25539 | BB32: 25539 | BC32: 25539 | BD32: 25539 | BE32: 25539 | BF32: 25539 | BG32: 25539 | BH32: 25539 | BI32: 25538 | BJ32: 25538 | BK32: 25538 | BL32: 25538 | BM32: 25538 | BN32: 25538 | BO32: 25538 | BP32: 25538 | BQ32: 25538 | BR32: 25538 | BS32: 25538 | BT32: 25538
C33: Used per Week | I33: =J32-I32 -> 28 | J33: =L32-J32 -> 81 | K33: =M32-K32 -> 74 | L33: =M32-L32 -> 36 | M33: =P32-M32 -> 217 | N33: =P32-N32 -> 107 | O33: =P32-O32 -> 71 | P33: =Q32-P32 -> 112 | Q33: =R32-Q32 -> 36 | R33: =S32-R32 -> 40 | S33: =T32-S32 -> 111 | T33: =U32-T32 -> 68 | U33: =V32-U32 -> 39 | V33: =W32-V32 -> 33 | ... CF33: =CG32-CF32 -> 0
A34: UK/DE | B34: CEEMEA | C34: fdccentera01 CK200113804159 | E34: =$I34/(AVERAGE($I35:$Z35)) -> 123.23622 | F34: =SUM($H34+$I34) -> 25604 | G34: =($I34/$F34)*100 -> 67.919075 | H34: 8214 | I34: 17390 | J34: 17445 | K34: 17531 | L34: 17609 | M34: 17679 | N34: 17899 | O34: 17971 | P34: 18114 | Q34: 18337 | R34: 18411 | S34: 18489 | T34: 18712 | U34: 18847 | V34: 18926 | W34: 18991 | X34: 19052 | Y34: 19120 | Z34: 19342 | AA34: 19424 | AB34: 19607 | AC34: 19860 | AD34: 19456 | AE34: 20480 | AF34: 21504 | AG34: 21450 | AH34: 21504 | AI34: 21589 | AJ34: 21756 | AK34: 21759 | AL34: 21930 | AM34: 21930 | AN34: 22180 | AO34: 22349 | AP34: 23856 | AQ34: 24639 | AR34: 25240 | AS34: 25470 | AT34: 25538 | AU34: 25538 | AV34: 25538 | AW34: 25538 | AX34: 25538 | AY34: 25538 | AZ34: 25538 | BA34: 25538 | BB34: 25538 | BC34: 25538 | BD34: 25538 | BE34: 25538 | BF34: 25538 | BG34: 25538 | BH34: 25538 | BI34: 25538 | BJ34: 25538 | BK34: 25538 | BL34: 25538 | BM34: 25538 | BN34: 25538 | BO34: 25538 | BP34: 25538 | BQ34: 25538 | BR34: 25538 | BS34: 25538 | BT34: 25538
C35: Used per Week | I35: =J34-I34 -> 55 | J35: =L34-J34 -> 164 | K35: =M34-K34 -> 148 | L35: =M34-L34 -> 70 | M35: =P34-M34 -> 435 | N35: =P34-N34 -> 215 | O35: =P34-O34 -> 143 | P35: =Q34-P34 -> 223 | Q35: =R34-Q34 -> 74 | R35: =S34-R34 -> 78 | S35: =T34-S34 -> 223 | T35: =U34-T34 -> 135 | U35: =V34-U34 -> 79 | V35: =W34-V34 -> 65 | ... CF35: =CG34-CF34 -> 0
A38: Notes
A39: Note 1 - 50% of nodes taken offline

Sheet Storage Summary
A1: Centera ID | B1: Weeks available | C1: Available (GB) | D1: % avail
A2: centera_CH_01E CK200053010120 | B2: =ROUND(VLOOKUP(A2,'Main sheet'!$C$3:$G$36,3,FALSE),0) -> 52 | C2: =ROUND(VLOOKUP(A2,'Main sheet'!$C$3:$CU$36,6,FALSE),0) -> 13312 | D2: =ROUND(VLOOKUP(A2,'Main sheet'!$C$3:$G$36,5,FALSE),0) -> 71
A3: centera_CH_01R CK200054900163 | B3: =ROUND(VLOOKUP(A3,'Main sheet'!$C$3:$G$36,3,FALSE),0) -> 243 | C3: =ROUND(VLOOKUP(A3,'Main sheet'!$C$3:$CU$36,6,FALSE),0) -> 17408 | D3: =ROUND(VLOOKUP(A3,'Main sheet'!$C$3:$G$36,5,FALSE),0) -> 62
A4: centera_PL_01G CK200053810059 | B4: =ROUND(VLOOKUP(A4,'Main sheet'!$C$3:$G$36,3,FALSE),0) -> 36 | C4: =ROUND(VLOOKUP(A4,'Main sheet'!$C$3:$CU$36,6,FALSE),0) -> 48517 | D4: =ROUND(VLOOKUP(A4,'Main sheet'!$C$3:$G$36,5,FALSE),0) -> 15
A5: centera_PL_01S CK200054900293 | B5: =ROUND(VLOOKUP(A5,'Main sheet'!$C$3:$G$36,3,FALSE),0) -> 91 | C5: =ROUND(VLOOKUP(A5,'Main sheet'!$C$3:$CU$36,6,FALSE),0) -> 50856 | D5: =ROUND(VLOOKUP(A5,'Main sheet'!$C$3:$G$36,5,FALSE),0) -> 34
A6: centera_PL_02G CK200042100431 | B6: =ROUND(VLOOKUP(A6,'Main sheet'!$C$3:$G$36,3,FALSE),0) -> 208 | C6: =ROUND(VLOOKUP(A6,'Main sheet'!$C$3:$CU$36,6,FALSE),0) -> 14549 | D6: =ROUND(VLOOKUP(A6,'Main sheet'!$C$3:$G$36,5,FALSE),0) -> 64
A7: centera_PL_02S CK200042100432 | B7: =ROUND(VLOOKUP(A7,'Main sheet'!$C$3:$G$36,3,FALSE),0) -> 183 | C7: =ROUND(VLOOKUP(A7,'Main sheet'!$C$3:$CU$36,6,FALSE),0) -> 14547 | D7: =ROUND(VLOOKUP(A7,'Main sheet'!$C$3:$G$36,5,FALSE),0) -> 64
A8: centera_TK_01T CK200054900292 | B8: =ROUND(VLOOKUP(A8,'Main sheet'!$C$3:$G$36,3,FALSE),0) -> 5 | C8: =ROUND(VLOOKUP(A8,'Main sheet'!$C$3:$CU$36,6,FALSE),0) -> 47323 | D8: =ROUND(VLOOKUP(A8,'Main sheet'!$C$3:$G$36,5,FALSE),0) -> 6
A9: centera_TK_01Y CK200054900294 | B9: =ROUND(VLOOKUP(A9,'Main sheet'!$C$3:$G$36,3,FALSE),0) -> 29 | C9: =ROUND(VLOOKUP(A9,'Main sheet'!$C$3:$CU$36,6,FALSE),0) -> 40806 | D9: =ROUND(VLOOKUP(A9,'Main sheet'!$C$3:$G$36,5,FALSE),0) -> 18
A10: centera_UK_01R CK200061900567 | B10: =ROUND(VLOOKUP(A10,'Main sheet'!$C$3:$G$36,3,FALSE),0) -> 59 | C10: =ROUND(VLOOKUP(A10,'Main sheet'!$C$3:$CU$36,6,FALSE),0) -> 154031 | D10: =ROUND(VLOOKUP(A10,'Main sheet'!$C$3:$G$36,5,FALSE),0) -> 37
A11: centera_DE_01E CK200061900265 | B11: =ROUND(VLOOKUP(A11,'Main sheet'!$C$3:$G$36,3,FALSE),0) -> 60 | C11: =ROUND(VLOOKUP(A11,'Main sheet'!$C$3:$CU$36,6,FALSE),0) -> 154094 | D11: =ROUND(VLOOKUP(A11,'Main sheet'!$C$3:$G$36,5,FALSE),0) -> 38
A12: centera_DE_02E CK200062000592 | B12: =ROUND(VLOOKUP(A12,'Main sheet'!$C$3:$G$36,3,FALSE),0) -> 76 | C12: =ROUND(VLOOKUP(A12,'Main sheet'!$C$3:$CU$36,6,FALSE),0) -> 71935 | D12: =ROUND(VLOOKUP(A12,'Main sheet'!$C$3:$G$36,5,FALSE),0) -> 28
A13: centera_UK_02R CK200062000593 | B13: =ROUND(VLOOKUP(A13,'Main sheet'!$C$3:$G$36,3,FALSE),0) -> 92 | C13: =ROUND(VLOOKUP(A13,'Main sheet'!$C$3:$CU$36,6,FALSE),0) -> 74530 | D13: =ROUND(VLOOKUP(A13,'Main sheet'!$C$3:$G$36,5,FALSE),0) -> 29
... A15: fdccentera01 CK200113804159 | B15: =ROUND(VLOOKUP(A15,'Main sheet'!$C$3:$G$36,3,FALSE),0) -> 123 | C15: =ROUND(VLOOKUP(A15,'Main sheet'!$C$3:$CU$36,6,FALSE),0) -> 8214 | D15: =ROUND(VLOOKUP(A15,'Main sheet'!$C$3:$G$36,5,FALSE),0) -> 68
