Workbook

Sheet Notes
A1: This workbook is a SAN Team record of the status of TCRS tickets that may include SAN Storage.
A3: If the ticket is not in this list and SAN Storage is required, this must be highlighted to the SAN Team. Only tickets recorded in this spreadsheet will have storage reserved
A5: The Summary Tab shows the real dates that tickets arrived in the SAN Queue and when they were approved. TCRS dates can vary from these.
A7: The latest dated tab shows the latest status of all tickets that will be processed by the SAN team that are still open
D89: =H89/33 -> 0
M171: 3544 | N171: 132133
K172: 3564 | L172: e89,d9e
C173: CAP0024653
K174: 3943 | L174: 521522523
C193: CAP0026672
L194: 0f4e:0f85,0Fa3:1037
C195: CAP0026071 | L195: 20ca:211c
C196: CAP0026071 | M196: 2230 | N196: 24ad:24af | O196: 2231 | P196: 24ad:24af
B326: CAP0027353

Sheet summary
A1: a | B1: Pre design | E1: post design | H1: Finalised | P1: Holidays: | Q1: 40903
A2: b | B2: queued | C2: approved | D2: days | E2: queued | F2: approved | G2: days | H2: queued | I2: approved | J2: days | K2: comments | Q2: 40904
A3: CAP0016576 | D3: =IF(B3="","",IF(C3="","",NETWORKDAYS(B3,C3,$M:$M)-1)) | G3: =IF(E3="","",IF(F3="","",NETWORKDAYS(E3,F3,$M:$M)-1)) | J3: =IF(H3="","",IF(I3="","",NETWORKDAYS(H3,I3,$M:$M)-1)) | K3: SAN not included asd approver for this TCRS | Q3: 40910
A4: CAP0016604 | D4: =IF(B4="","",IF(C4="","",NETWORKDAYS(B4,C4,$M:$M)-1)) | G4: =IF(E4="","",IF(F4="","",NETWORKDAYS(E4,F4,$M:$M)-1)) | H4: 40882 | I4: 40882 | J4: =IF(H4="","",IF(I4="","",NETWORKDAYS(H4,I4,$M:$M)-1)) -> 0 | Q4: 41005
A5: CAP0016877 | D5: =IF(B5="","",IF(C5="","",NETWORKDAYS(B5,C5,$M:$M)-1)) | G5: =IF(E5="","",IF(F5="","",NETWORKDAYS(E5,F5,$M:$M)-1)) | J5: =IF(H5="","",IF(I5="","",NETWORKDAYS(H5,I5,$M:$M)-1)) | Q5: 41008
A6: CAP0017447 | D6: =IF(B6="","",IF(C6="","",NETWORKDAYS(B6,C6,$M:$M)-1)) | G6: =IF(E6="","",IF(F6="","",NETWORKDAYS(E6,F6,$M:$M)-1)) | J6: =IF(H6="","",IF(I6="","",NETWORKDAYS(H6,I6,$M:$M)-1)) | Q6: 41036
A7: CAP0017624 | D7: =IF(B7="","",IF(C7="","",NETWORKDAYS(B7,C7,$M:$M)-1)) | G7: =IF(E7="","",IF(F7="","",NETWORKDAYS(E7,F7,$M:$M)-1)) | J7: =IF(H7="","",IF(I7="","",NETWORKDAYS(H7,I7,$M:$M)-1)) | Q7: 41064
A8: CAP0017724 | D8: =IF(B8="","",IF(C8="","",NETWORKDAYS(B8,C8,$M:$M)-1)) | G8: =IF(E8="","",IF(F8="","",NETWORKDAYS(E8,F8,$M:$M)-1)) | J8: =IF(H8="","",IF(I8="","",NETWORKDAYS(H8,I8,$M:$M)-1)) | Q8: 41065
A9: CAP0018132 | D9: =IF(B9="","",IF(C9="","",NETWORKDAYS(B9,C9,$M:$M)-1)) | G9: =IF(E9="","",IF(F9="","",NETWORKDAYS(E9,F9,$M:$M)-1)) | J9: =IF(H9="","",IF(I9="","",NETWORKDAYS(H9,I9,$M:$M)-1)) | Q9: 41148
A10: CAP0018145 | B10: 40805 | C10: 40868 | D10: =IF(B10="","",IF(C10="","",NETWORKDAYS(B10,C10,$Q:$Q)-1)) -> 45 | G10: =IF(E10="","",IF(F10="","",NETWORKDAYS(E10,F10,$Q:$Q)-1)) | J10: =IF(H10="","",IF(I10="","",NETWORKDAYS(H10,I10,$M:$M)-1)) | Q10: 41268
A11: CAP0018235 | B11: 40812 | C11: 40869 | D11: =IF(B11="","",IF(C11="","",NETWORKDAYS(B11,C11,$Q:$Q)-1)) -> 41 | G11: =IF(E11="","",IF(F11="","",NETWORKDAYS(E11,F11,$Q:$Q)-1)) | J11: =IF(H11="","",IF(I11="","",NETWORKDAYS(H11,I11,$M:$M)-1)) | Q11: 41269
A12: CAP0018331 | B12: 40840 | C12: 40865 | D12: =IF(B12="","",IF(C12="","",NETWORKDAYS(B12,C12,$Q:$Q)-1)) -> 19 | G12: =IF(E12="","",IF(F12="","",NETWORKDAYS(E12,F12,$Q:$Q)-1)) | J12: =IF(H12="","",IF(I12="","",NETWORKDAYS(H12,I12,$M:$M)-1))
A13: CAP0018481 | B13: 40849 | C13: 40865 | D13: =IF(B13="","",IF(C13="","",NETWORKDAYS(B13,C13,$Q:$Q)-1)) -> 12 | G13: =IF(E13="","",IF(F13="","",NETWORKDAYS(E13,F13,$Q:$Q)-1)) | J13: =IF(H13="","",IF(I13="","",NETWORKDAYS(H13,I13,$M:$M)-1))
A14: CAP0018509 | B14: 40807 | C14: 40819 | D14: =IF(B14="","",IF(C14="","",NETWORKDAYS(B14,C14,$Q:$Q)-1)) -> 8 | G14: =IF(E14="","",IF(F14="","",NETWORKDAYS(E14,F14,$Q:$Q)-1)) | J14: =IF(H14="","",IF(I14="","",NETWORKDAYS(H14,I14,$M:$M)-1))
A15: CAP0018600 | B15: 40821 | C15: 40865 | D15: =IF(B15="","",IF(C15="","",NETWORKDAYS(B15,C15,$Q:$Q)-1)) -> 32 | G15: =IF(E15="","",IF(F15="","",NETWORKDAYS(E15,F15,$Q:$Q)-1)) | J15: =IF(H15="","",IF(I15="","",NETWORKDAYS(H15,I15,$M:$M)-1))
A16: CAP0018714 | B16: 40850 | C16: 40885 | D16: =IF(B16="","",IF(C16="","",NETWORKDAYS(B16,C16,$Q:$Q)-1)) -> 25 | G16: =IF(E16="","",IF(F16="","",NETWORKDAYS(E16,F16,$Q:$Q)-1)) | J16: =IF(H16="","",IF(I16="","",NETWORKDAYS(H16,I16,$M:$M)-1))
A17: CAP0018763 | D17: =IF(B17="","",IF(C17="","",NETWORKDAYS(B17,C17,$Q:$Q)-1)) | G17: =IF(E17="","",IF(F17="","",NETWORKDAYS(E17,F17,$Q:$Q)-1)) | J17: =IF(H17="","",IF(I17="","",NETWORKDAYS(H17,I17,$M:$M)-1))
A18: CAP0018858 | C18: 40998 | D18: =IF(B18="","",IF(C18="","",NETWORKDAYS(B18,C18,$Q:$Q)-1)) | E18: 40998 | F18: 40998 | G18: =IF(E18="","",IF(F18="","",NETWORKDAYS(E18,F18,$Q:$Q)-1)) -> 0 | H18: 40998 | I18: 40998 | J18: =IF(H18="","",IF(I18="","",NETWORKDAYS(H18,I18,$M:$M)-1)) -> 0
A19: CAP0018879 | B19: 40844 | C19: 40861 | D19: =IF(B19="","",IF(C19="","",NETWORKDAYS(B19,C19,$Q:$Q)-1)) -> 11 | G19: =IF(E19="","",IF(F19="","",NETWORKDAYS(E19,F19,$Q:$Q)-1)) | J19: =IF(H19="","",IF(I19="","",NETWORKDAYS(H19,I19,$M:$M)-1))
A20: CAP0018880 | B20: 40872 | C20: 40872 | D20: =IF(B20="","",IF(C20="","",NETWORKDAYS(B20,C20,$Q:$Q)-1)) -> 0 | G20: =IF(E20="","",IF(F20="","",NETWORKDAYS(E20,F20,$Q:$Q)-1)) | J20: =IF(H20="","",IF(I20="","",NETWORKDAYS(H20,I20,$M:$M)-1))
A21: CAP0018952 | B21: 40863 | C21: 40865 | D21: =IF(B21="","",IF(C21="","",NETWORKDAYS(B21,C21,$Q:$Q)-1)) -> 2 | G21: =IF(E21="","",IF(F21="","",NETWORKDAYS(E21,F21,$Q:$Q)-1)) | J21: =IF(H21="","",IF(I21="","",NETWORKDAYS(H21,I21,$M:$M)-1))
A22: CAP0018954 | B22: 40848 | C22: 40861 | D22: =IF(B22="","",IF(C22="","",NETWORKDAYS(B22,C22,$Q:$Q)-1)) -> 9 | G22: =IF(E22="","",IF(F22="","",NETWORKDAYS(E22,F22,$Q:$Q)-1)) | J22: =IF(H22="","",IF(I22="","",NETWORKDAYS(H22,I22,$M:$M)-1))
A23: CAP0018995 | D23: =IF(B23="","",IF(C23="","",NETWORKDAYS(B23,C23,$Q:$Q)-1)) | G23: =IF(E23="","",IF(F23="","",NETWORKDAYS(E23,F23,$Q:$Q)-1)) | J23: =IF(H23="","",IF(I23="","",NETWORKDAYS(H23,I23,$M:$M)-1))
A24: CAP0019015 | B24: 40840 | C24: 40854 | D24: =IF(B24="","",IF(C24="","",NETWORKDAYS(B24,C24,$Q:$Q)-1)) -> 10 | G24: =IF(E24="","",IF(F24="","",NETWORKDAYS(E24,F24,$Q:$Q)-1)) | J24: =IF(H24="","",IF(I24="","",NETWORKDAYS(H24,I24,$M:$M)-1))
A25: CAP0019132 | B25: 40898 | C25: 40911 | D25: =IF(B25="","",IF(C25="","",NETWORKDAYS(B25,C25,$Q:$Q)-1)) -> 6 | E25: 40911 | F25: 40912 | G25: =IF(E25="","",IF(F25="","",NETWORKDAYS(E25,F25,$Q:$Q)-1)) -> 1 | J25: =IF(H25="","",IF(I25="","",NETWORKDAYS(H25,I25,$M:$M)-1))
A26: CAP0019179 | B26: 40982 | C26: 40982 | D26: =IF(B26="","",IF(C26="","",NETWORKDAYS(B26,C26,$Q:$Q)-1)) -> 0 | E26: 40982 | F26: 40982 | G26: =IF(E26="","",IF(F26="","",NETWORKDAYS(E26,F26,$Q:$Q)-1)) -> 0 | J26: =IF(H26="","",IF(I26="","",NETWORKDAYS(H26,I26,$M:$M)-1))
A27: CAP0019323 | B27: 40863 | C27: 40871 | D27: =IF(B27="","",IF(C27="","",NETWORKDAYS(B27,C27,$Q:$Q)-1)) -> 6 | E27: 40871 | F27: 40872 | G27: =IF(E27="","",IF(F27="","",NETWORKDAYS(E27,F27,$Q:$Q)-1)) -> 1 | H27: 40878 | I27: 40878 | J27: =IF(H27="","",IF(I27="","",NETWORKDAYS(H27,I27,$M:$M)-1)) -> 0
A28: CAP0019324 | D28: =IF(B28="","",IF(C28="","",NETWORKDAYS(B28,C28,$Q:$Q)-1)) | G28: =IF(E28="","",IF(F28="","",NETWORKDAYS(E28,F28,$Q:$Q)-1)) | J28: =IF(H28="","",IF(I28="","",NETWORKDAYS(H28,I28,$M:$M)-1))
A29: CAP0019326 | B29: 40865 | C29: 40869 | D29: =IF(B29="","",IF(C29="","",NETWORKDAYS(B29,C29,$Q:$Q)-1)) -> 2 | E29: 40869 | F29: 40869 | G29: =IF(E29="","",IF(F29="","",NETWORKDAYS(E29,F29,$Q:$Q)-1)) -> 0 | J29: =IF(H29="","",IF(I29="","",NETWORKDAYS(H29,I29,$M:$M)-1))
A30: CAP0019433 | B30: 40875 | C30: 40885 | D30: =IF(B30="","",IF(C30="","",NETWORKDAYS(B30,C30,$Q:$Q)-1)) -> 8 | G30: =IF(E30="","",IF(F30="","",NETWORKDAYS(E30,F30,$Q:$Q)-1)) | J30: =IF(H30="","",IF(I30="","",NETWORKDAYS(H30,I30,$M:$M)-1))
A31: CAP0019452 | B31: 40885 | D31: =IF(B31="","",IF(C31="","",NETWORKDAYS(B31,C31,$Q:$Q)-1)) | G31: =IF(E31="","",IF(F31="","",NETWORKDAYS(E31,F31,$Q:$Q)-1)) | J31: =IF(H31="","",IF(I31="","",NETWORKDAYS(H31,I31,$M:$M)-1))
A32: CAP0019452 | B32: 40885 | C32: 40886 | D32: =IF(B32="","",IF(C32="","",NETWORKDAYS(B32,C32,$Q:$Q)-1)) -> 1 | G32: =IF(E32="","",IF(F32="","",NETWORKDAYS(E32,F32,$Q:$Q)-1)) | J32: =IF(H32="","",IF(I32="","",NETWORKDAYS(H32,I32,$M:$M)-1))
A33: CAP0019454 | B33: 40896 | C33: 40911 | D33: =IF(B33="","",IF(C33="","",NETWORKDAYS(B33,C33,$Q:$Q)-1)) -> 8 | E33: 40911 | F33: 40912 | G33: =IF(E33="","",IF(F33="","",NETWORKDAYS(E33,F33,$Q:$Q)-1)) -> 1 | J33: =IF(H33="","",IF(I33="","",NETWORKDAYS(H33,I33,$M:$M)-1))
A34: CAP0019456 | D34: =IF(B34="","",IF(C34="","",NETWORKDAYS(B34,C34,$Q:$Q)-1)) | G34: =IF(E34="","",IF(F34="","",NETWORKDAYS(E34,F34,$Q:$Q)-1)) | J34: =IF(H34="","",IF(I34="","",NETWORKDAYS(H34,I34,$M:$M)-1))
A35: CAP0019465 | D35: =IF(B35="","",IF(C35="","",NETWORKDAYS(B35,C35,$Q:$Q)-1)) | G35: =IF(E35="","",IF(F35="","",NETWORKDAYS(E35,F35,$Q:$Q)-1)) | J35: =IF(H35="","",IF(I35="","",NETWORKDAYS(H35,I35,$M:$M)-1))
A36: CAP0019467 | B36: 40882 | C36: 40884 | D36: =IF(B36="","",IF(C36="","",NETWORKDAYS(B36,C36,$Q:$Q)-1)) -> 2 | E36: 40884 | F36: 40884 | G36: =IF(E36="","",IF(F36="","",NETWORKDAYS(E36,F36,$Q:$Q)-1)) -> 0 | H36: 40884 | I36: 40884 | J36: =IF(H36="","",IF(I36="","",NETWORKDAYS(H36,I36,$M:$M)-1)) -> 0
A37: CAP0019480 | B37: 40877 | C37: 40877 | D37: =IF(B37="","",IF(C37="","",NETWORKDAYS(B37,C37,$Q:$Q)-1)) -> 0 | E37: 40877 | F37: 40877 | G37: =IF(E37="","",IF(F37="","",NETWORKDAYS(E37,F37,$Q:$Q)-1)) -> 0 | J37: =IF(H37="","",IF(I37="","",NETWORKDAYS(H37,I37,$M:$M)-1))
A38: CAP0019481 | B38: 40877 | C38: 40884 | D38: =IF(B38="","",IF(C38="","",NETWORKDAYS(B38,C38,$Q:$Q)-1)) -> 5 | E38: 40884 | F38: 40884 | G38: =IF(E38="","",IF(F38="","",NETWORKDAYS(E38,F38,$Q:$Q)-1)) -> 0 | J38: =IF(H38="","",IF(I38="","",NETWORKDAYS(H38,I38,$M:$M)-1))
A39: CAP0019500 | B39: 40892 | C39: 40892 | D39: =IF(B39="","",IF(C39="","",NETWORKDAYS(B39,C39,$Q:$Q)-1)) -> 0 | G39: =IF(E39="","",IF(F39="","",NETWORKDAYS(E39,F39,$Q:$Q)-1)) | J39: =IF(H39="","",IF(I39="","",NETWORKDAYS(H39,I39,$M:$M)-1)) | K39: can't post-design approve, have advised customer
A40: CAP0019503 | B40: 40911 | C40: 40912 | D40: =IF(B40="","",IF(C40="","",NETWORKDAYS(B40,C40,$Q:$Q)-1)) -> 1 | E40: 40912 | F40: 40912 | G40: =IF(E40="","",IF(F40="","",NETWORKDAYS(E40,F40,$Q:$Q)-1)) -> 0 | J40: =IF(H40="","",IF(I40="","",NETWORKDAYS(H40,I40,$M:$M)-1))
...

Sheet 210313
A1: SA Name | B1: Capacity ID | D1: Requestor | E1: Submitter | F1: Business Sector | G1: Business Group | H1: Business Line | I1: Business | J1: Project Name | K1: Type of Request | L1: Status | M1: Current Phase | N1: In Queue of | O1: Inque Start Time | P1: SLA Days | Q1: Time in Queue | R1: Overall Request Time | S1: Region
A2: Jason Popp | B2: CAP0027594 | D2: larry cruz | E2: lc11268 | F2: Corp_Bus | G2: O&T Risk Mgmt & Compliance | H2: O&T Risk Mgmt & Compliance | I2: O&T Risk Mgmt & Compliance | J2: GIDA ISAW Repositories | K2: Storage Request - NAS | L2: Open | M2: Submitter Approval | N2: lc11268; | O2: 41336.862 | P2: 0 | Q2: 17.24287 | R2: 17.24287 | S2: ASPAC
A3: Sanjeev Kumar Singh Tomar | B3: CAP0026965 | D3: shafayet hossain | E3: sh61970 | F3: ICG_Tech | G3: ICG_Tech ASPAC | H3: ASPAC - In-Country Tech - Chan, Ying Man | I3: ASPAC - CMT - Chan, Ying Man | J3: BAU | K3: VMWare | L3: Open | M3: Pre-Design Approval | N3: cp30221;ds76190;jd03131;km96569;mb88090;mp96590;tb60866; | O3: 41301.293 | P3: 1 | Q3: 52.81184 | R3: 52.81184 | S3: ASPAC
A4: Yu On Venkie Lee | B4: CAP0024673 | D4: yu on venkie lee | E4: yl77858 | F4: CTI | G4: CTI Global Technology Operations | H4: Global Security Operations | I4: Information Assurance Services - IAS | J4: VPR13510 2N Restoration | K4: Storage Request - SAN | L4: Open | M4: Submitter Approval | N4: yl77858; | O4: 41165.929 | P4: 0 | Q4: 188.1758 | R4: 188.1758 | S4: ASPAC
A5: Srinivasarao Thella | B5: CAP0025378 | D5: srinivasarao thella | E5: mc98347 | F5: ICG_Tech | G5: ICG_Tech GTS Tech Treasury and Trade Services | H5: TTS - Man, Eric | I5: TTS - Man, Eric | J5: NAS Storage for BMC Servers_ASPAC | K5: Storage Request - NAS | L5: Open | M5: CTI Approval | O5: 41253.127 | P5: 3 | Q5: 100.97764 | R5: 155.18466 | S5: ASPAC
A6: Balasubramanian Pichumani | B6: CAP0025037 | D6: Ba;asubramanian Pichumani | E6: bp23017 | F6: GCG | G6: Asia Pacific | H6: Global Consumer Bank, Japan | I6: Global Consumer Bank, Japan | J6: BAU | K6: Storage Request - SAN | L6: Open | M6: Submitter Approval | N6: bp23017; | O6: 41184.248 | P6: 0 | Q6: 169.85623 | R6: 169.85623 | S6: ASPAC
A7: Jino Philip Mathew | B7: CAP0027955 | D7: Jino Mathew | E7: jp91054 | F7: ICG_Tech | G7: ICG_Tech GTS Tech Treasury and Trade Services | H7: TTS - Man, Eric | I7: TTS - Man, Eric | J7: BAU | K7: Storage Request - SAN | L7: Open | M7: Submitter Approval | N7: jp91054; | O7: 41354.044 | P7: 0 | Q7: 0.060520833 | R7: 0.060520833 | S7: ASPAC
A8: Gowtham Ganesan | B8: CAP0024076 | D8: Gowtham Ganesan | E8: gg18915 | F8: CTI | G8: CTI Global Technology Operations | H8: Global Security Operations | I8: Information Assurance Services - IAS | J8: SSH Tectia Apps servers Migration | K8: Storage Request - SAN | L8: Open | M8: Open | P8: 0 | R8: 220.06517 | S8: ASPAC
A9: Vallinayakam Kamaleswaran | B9: CAP0024302 | D9: kamal | E9: vk63388 | F9: CTI | G9: CTI Global Technology Operations | H9: Global Security Operations | I9: Information Assurance Services - IAS | J9: BAU | K9: Storage Request - SAN | L9: Open | M9: Submitter Approval | N9: vk63388; | O9: 41145.069 | P9: 0 | Q9: 209.03615 | R9: 209.03615 | S9: ASPAC
A10: Matheswaran Ponnusamy | B10: CAP0024904 | D10: matheswaran ponnusamy | E10: mp59890 | F10: CTI | G10: CTI Global Technology Operations | H10: Global Security Operations | I10: Information Assurance Services - IAS | J10: WS10607705 | K10: Storage Request - SAN | L10: Open | M10: Submitter Approval | N10: mp59890; | O10: 41178.254 | P10: 0 | Q10: 175.85046 | R10: 175.85046 | S10: ASPAC
A11: Sreenivasan Asariparambil | B11: CAP0024968 | D11: Sreenivasan Asariparambil | E11: sa54951 | F11: GCG | G11: Asia Pacific | H11: India | I11: Moorthy,Sandesh Krishna | J11: AP-GCG-CIP Implementation | K11: Infrastructure | L11: Open | M11: Submitter Approval | N11: sa54951; | O11: 41180.077 | P11: 0 | Q11: 174.02808 | R11: 174.02808 | S11: ASPAC
A12: Vallinayakam Kamaleswaran | B12: CAP0025623 | D12: Kamlaeswaran Vallinayakam | E12: vk63388 | F12: CTO | G12: GFTS | H12: CTS Compliance Technology Services | I12: CTS - Goh,Sok Kim | J12: WS6013097 Global-CC-CitiKYC Unification Setup | K12: Storage Request - SAN | L12: Open | M12: Submitter Approval | N12: vk63388; | O12: 41212.104 | P12: 0 | Q12: 142.00064 | R12: 142.00064 | S12: ASPAC
A13: Siju Vellam Podichintavida | B13: CAP0025763 | D13: Butthaka Watthanakanjana | E13: bw99927 | F13: ICG_Tech | G13: ICG_Tech ASPAC | H13: ASPAC - CMT - Agarwal,Himanshu | I13: ASPAC- CMT - Agarwal,Himanshu | J13: BAU | K13: Storage Request - SAN | L13: Open | M13: P&L Approval | N13: cp30221;ds76190;jd03131;km96569;mb88090;mp96590;tb60866; | O13: 41319.962 | P13: 0 | Q13: 34.142303 | R13: 134.84308 | S13: ASPAC
A14: Kir Kip Lee | B14: CAP0025965 | D14: jagan | E14: jg53431 | F14: GCG | G14: Asia Pacific | H14: Indonesia | I14: Tantawi,Tuti | J14: WS9877984 DW Restoration | K14: Storage Request - SAN | L14: Open | M14: SA Approval | N14: ad33421;ag50732;ag95697;ak40444;ak47115;ak61266;al43710;al84347;ap51564;bp95974;br92748;cs72181;da39257;dc58786;dl95319;gg49465;gm65034;hg04219;jg53431;js47378;kl29887;kt23776;kw95563;ky38902;ms50752;ms73098;pm46702;pp83002;ps26891;pt97482;ra05079;rb0940 | O14: 41234.125 | P14: 1 | Q14: 119.98006 | R14: 120.95324 | S14: ASPAC
A15: Rajesh Balu | B15: CAP0026005 | D15: Rajesh Balu | E15: rb09400 | F15: GCG | G15: Asia Pacific | H15: India | I15: Moorthy,Sandesh Krishna | J15: VPR15816 GCG Digital Money Infrastructure Services | K15: AIX | L15: Open | M15: Submitter Approval | N15: rb09400; | O15: 41235.284 | P15: 0 | Q15: 118.82097 | R15: 118.82097 | S15: ASPAC
A16: Rajesh Balu | B16: CAP0026030 | D16: rajesh balu | E16: rb09400 | F16: ICG_Tech | G16: ICG_Tech Citi Markets Technology | H16: ICG_Tech_CMT - G10 Global Rates | I16: GMT - Kim,Joo | J16: WS6547157 | K16: AIX | L16: Open | M16: Submitter Approval | N16: rb09400; | O16: 41238.987 | P16: 0 | Q16: 115.11785 | R16: 115.11785 | S16: ASPAC
A17: Rajesh Balu | B17: CAP0026032 | D17: Rajesh Balu | E17: rb09400 | F17: ICG_Tech | G17: ICG_Tech GTS Tech Treasury and Trade Services | H17: TTS - Man, Eric | I17: TTS - Man, Eric | J17: WS6547157 | K17: No Servers - Memory/CPU Upgrade | L17: Open | M17: Submitter Approval | N17: rb09400; | O17: 41239.177 | P17: 0 | Q17: 114.92757 | R17: 114.92757 | S17: ASPAC
A18: Sujeesh Thovarayi | B18: CAP0026523 | D18: thomas mathias | E18: tm81308 | F18: GCG | G18: Asia Pacific | H18: Singapore | I18: Ong,Kim Boon | J18: BAU | K18: Storage Request - SAN | L18: Open | M18: Post-CTI Approval | N18: ak47115;ok18455;st90388; | O18: 41289.985 | P18: 0 | Q18: 64.119676 | R18: 84.92794 | S18: ASPAC
A19: Kir Kip Lee | B19: CAP0026565 | D19: kir kip lee | E19: kl29887 | F19: ICG_Tech | G19: ICG_Tech GTS Tech Treasury and Trade Services | H19: TTS - Man, Eric | I19: TTS - Man, Eric | J19: WS8014030 - ICG-AP-Trims Reporting | K19: AIX | L19: Open | M19: Pre-Design Approval | N19: ds56427;jl36031;mw02822;ob41451;rd13550;rs28691;sk73093;tl35537; | O19: 41277.958 | P19: 1 | Q19: 76.146956 | R19: 76.922025 | S19: ASPAC
A20: Kir Kip Lee | B20: CAP0026583 | D20: kir kip lee | E20: kl29887 | F20: ICG_Tech | G20: ICG_Tech GTS Tech Treasury and Trade Services | H20: TTS - Man, Eric | I20: TTS - Man, Eric | J20: WS8014030 - ICG-AP-Trims Reporting | K20: Storage Request - SAN | L20: Open | M20: Pre-Design Approval | N20: jl36031;mw02822;ob41451;rd13550;rs28691;sk73093;tl35537; | O20: 41277.937 | P20: 1 | Q20: 76.16735 | R20: 76.191563 | S20: ASPAC
... A80: Sanjay Kumar | B80: CAP0025443 | D80: sanjay kumar | E80: sk14668 | F80: ICG_Tech | G80: ICG_Tech GTS Tech Treasury and Trade Services | H80: TTS - Man, Eric | I80: TTS - Man, Eric | J80: WS7760321 | K80: Storage Request - SAN | L80: Open | M80: Submitter Approval | N80: sk14668; | O80: 41200.983 | P80: 0 | Q80: 153.12201 | R80: 153.12201 | S80: ASPAC
A81: Siju Vellam Podichintavida | B81: CAP0025754 | D81: senthilkumar kumaraswamy | E81: sk77284 | F81: GCG | G81: Global Product Development | H81: Global Product Development | I81: Cards - International | J81: BAU | K81: Storage Request - SAN | L81: Open | M81: Open | P81: 0 | R81: 135.14784 | S81: ASPAC
A82: Siju Vellam Podichintavida | B82: CAP0025802 | D82: umesh sonwane | E82: us51691 | F82: ICG_Tech | G82: ICG_Tech GTS Tech Treasury and Trade Services | H82: TTS - Man, Eric | I82: TTS - Man, Eric | J82: BAU | K82: Storage Request - SAN | L82: Open | M82: Pre-Design Approval | N82: ds56427;jl36031;mw02822;ob41451;rd13550;rs28691;sk73093;tl35537; | O82: 41220.979 | P82: 1 | Q82: 133.12567 | R82: 133.17582 | S82: ASPAC
A83: Siju Vellam Podichintavida | B83: CAP0026010 | D83: ka ho leung | E83: kl63712 | F83: CTI | G83: CTI Global Technology Operations | H83: Global Security Operations | I83: Information Assurance Services - IAS | J83: BAU | K83: Storage Request - SAN | L83: Open | M83: Submitter Approval | N83: kl63712; | O83: 41236.012 | P83: 0 | Q83: 118.09219 | R83: 118.09219 | S83: ASPAC
A84: Siju Vellam Podichintavida | B84: CAP0026649 | D84: ka tak randy ho | E84: kh92063 | F84: ICG_Tech | G84: ICG_Tech GTS Tech Treasury and Trade Services | H84: TTS - Man, Eric | I84: TTS - Man, Eric | J84: WS6271692 & WS6273608 | K84: No Servers - Memory/CPU Upgrade | L84: Open | M84: Pre-Design Approval | N84: ds56427;jl36031;mw02822;ob41451;rd13550;rs28691;sk73093;tl35537; | O84: 41283.986 | P84: 1 | Q84: 70.119144 | R84: 71.043553 | S84: ASPAC
A85: Siju Vellam Podichintavida | B85: CAP0026679 | D85: kee loong simon yap | E85: ky51621 | F85: GCG | G85: Asia Pacific | H85: Asia Regional Technology | I85: Hari, Sridhar | J85: BAU | K85: Storage Request - SAN | L85: Open | M85: Pre-Design Approval | N85: bo83516;db35844;es45096;ky38902;pb17916;rc07154;rl57190;rv56747;sn37291; | O85: 41284.165 | P85: 1 | Q85: 69.939178 | R85: 70.132164 | S85: ASPAC
A86: Siju Vellam Podichintavida | B86: CAP0026826 | D86: kee loong simon yap | E86: ky51621 | F86: ICG_Tech | G86: ICG_Tech ASPAC | H86: ASPAC - Kandall,Michael | I86: ASPAC - Kandall,Michael | J86: BAU | K86: Storage Request - SAN | L86: Open | M86: Pre-Design Approval | N86: cp30221;ds76190;jd03131;km96569;mb88090;mp96590;tb60866; | O86: 41292.177 | P86: 1 | Q86: 61.927396 | R86: 61.932951 | S86: ASPAC
A87: Siju Vellam Podichintavida | B87: CAP0026882 | D87: umesh sonwane | E87: us51691 | F87: ICG_Tech | G87: ICG_Tech GTS Tech Treasury and Trade Services | H87: TTS - Man, Eric | I87: TTS - Man, Eric | J87: BAU | K87: Storage Request - SAN | L87: Open | M87: Submitter Approval | N87: us51691; | O87: 41297.218 | P87: 0 | Q87: 56.886458 | R87: 56.886458 | S87: ASPAC
A88: Siju Vellam Podichintavida | B88: CAP0026908 | D88: umesh sonwane | E88: us51691 | F88: ICG_Tech | G88: ICG_Tech ASPAC | H88: ASPAC - In-Country Tech - Chan, Ying Man | I88: ASPAC - CMT - Chan, Ying Man | J88: BAU | K88: Storage Request - SAN | L88: Open | M88: Pre-Design Approval | N88: cp30221;ds76190;jd03131;km96569;mb88090;mp96590;tb60866; | O88: 41298.04 | P88: 1 | Q88: 56.064259 | R88: 56.112442 | S88: ASPAC
A89: Siju Vellam Podichintavida | B89: CAP0026910 | D89: =H89/33 -> #VALUE! | E89: us51691 | F89: ICG_Tech | G89: ICG_Tech ASPAC | H89: ASPAC - In-Country Tech - Chan, Ying Man | I89: ASPAC - CMT - Chan, Ying Man | J89: BAU | K89: Storage Request - SAN | L89: Open | M89: Pre-Design Approval | N89: cp30221;ds76190;jd03131;km96569;mb88090;mp96590;tb60866; | O89: 41298.085 | P89: 1 | Q89: 56.019514 | R89: 56.041759 | S89: ASPAC
A90: Thomas Mathias | B90: CAP0026969 | D90: thomas mathias | E90: tm81308 | F90: GCG | G90: EMEA | H90: Middle East Cluster | I90: Egypt - Ben Makhlouf, Slah | J90: BAU | K90: Storage Request - SAN | L90: Open | M90: Submitter Approval | N90: tm81308; | O90: 41302.101 | P90: 0 | Q90: 52.003241 | R90: 52.003241 | S90: ASPAC
A91: Rajesh Balu | B91: CAP0027037 | D91: albert cerullo | E91: rb09400 | F91: ICG_Tech | G91: ICG_Tech Private Bank - Personal Wealth Management | H91: GWM - Asia Technology | I91: GWM - Asia Technology | J91: VPR3691 SUN to AIX Migration | K91: AIX | L91: Open | M91: Final Business Signoff | N91: ac33575;mb69558;mo77554; | O91: 41353.227 | P91: 0 | Q91: 0.87755787 | R91: 48.97728 | S91: ASPAC
A92: Siju Vellam Podichintavida | B92: CAP0027071 | D92: praveen | E92: sv68762 | F92: ICG_Tech | G92: ICG_Tech GTS Tech Treasury and Trade Services | H92: TTS - Man, Eric | I92: TTS - Man, Eric | J92: BAU | K92: Storage Request - SAN | L92: Open | M92: SA Approval | N92: ak47115;ap52431;hg04219;ky38902;rf63383;sv68762; | O92: 41306.258 | P92: 1 | Q92: 47.846713 | R92: 47.858229 | S92: ASPAC
A93: Rajesh Balu | B93: CAP0027095 | D93: albert cerullo | E93: rb09400 | F93: ICG_Tech | G93: ICG_Tech Private Bank - Personal Wealth Management | H93: GWM - Asia Technology | I93: GWM - Asia Technology | J93: VPR3691 SUN to AIX Migration | K93: Storage Request - SAN | L93: Open | M93: CTI Approval | N93: ac94164;jn62051;js45746;ks14775;md46033;pr72496;rb71989;rs81295;ss84555;sy25911;ta19710;vv58942; | O93: 41351.405 | P93: 3 | Q93: 2.6993403 | R93: 45.10581 | S93: ASPAC
A94: Sujeesh Thovarayi | B94: CAP0027162 | D94: Muthukumar Sivagnanam | E94: ms34622 | F94: CTI | G94: CTI Global Technology Operations | H94: Global Security Operations | I94: Host & App Security Infrastructure - HASI | J94: BAU | K94: AIX | L94: Open | M94: Post-CTI Approval | N94: ac94164;ah74163;bb56255;bj19907;bm58431;hm04981;jn62051;js45746;kl24810;kn92290;md46033;mj18591;mt06736;pm23510;rv56747;sl78306;sn37291;sy25911;tk49291;vw67949;wk63775;zw73585; | O94: 41353.3 | P94: 0 | Q94: 0.80502315 | R94: 42.119583 | S94: ASPAC
A95: Rajesh Balu | B95: CAP0027178 | D95: albert cerullo | E95: sm09402 | F95: ICG_Tech | G95: ICG_Tech Private Bank - Personal Wealth Management | H95: GWM - Asia Technology | I95: GWM - Asia Technology | J95: VPR3691 SUN to AIX Migration | K95: AIX | L95: Open | M95: P&L Approval | N95: ac33575;mb69558;mo77554; | O95: 41351.362 | P95: 0 | Q95: 2.7422685 | R95: 40.943125 | S95: ASPAC
A96: Rajesh Balu | B96: CAP0027245 | D96: Sureshmakkan | E96: sm09402 | F96: ICG_Tech | G96: ICG_Tech Private Bank - Personal Wealth Management | H96: GWM - Asia Technology | I96: GWM - Asia Technology | J96: VPR3691 SUN to AIX Migration | K96: Storage Request - SAN | L96: Open | M96: Submitter Approval | N96: sm09402; | O96: 41318.198 | P96: 0 | Q96: 35.906968 | R96: 35.906968 | S96: ASPAC
A97: Suresh Makkan | B97: CAP0027324 | D97: albert cerullo | E97: vp75140 | F97: ICG_Tech | G97: ICG_Tech Private Bank - Personal Wealth Management | H97: GWM - Asia Technology | I97: GWM - Asia Technology | J97: CPB ASPAC SAN BAU1_2013 | K97: Storage Request - SAN | L97: Open | M97: Final Business Signoff | N97: ac33575;mb69558;mo77554; | O97: 41352.204 | P97: 0 | Q97: 1.9009028 | R97: 30.042546 | S97: ASPAC
A98: Siju Vellam Podichintavida | B98: CAP0027377 | D98: praveen | E98: pp32252 | F98: ICG_Tech | G98: ICG_Tech GTS Tech Treasury and Trade Services | H98: TTS - Man, Eric | I98: TTS - Man, Eric | J98: BAU | K98: Storage Request - SAN | L98: Open | M98: Post-CTI Approval | N98: ac94164;jn62051;js45746;ks14775;md46033;pr72496;rb71989;rs81295;ss84555;sy25911;ta19710;vv58942; | O98: 41350.972 | P98: 0 | Q98: 3.1324884 | R98: 28.120891 | S98: ASPAC
A99: Siju Vellam Podichintavida | B99: CAP0027409 | D99: sivakumar ganesan | E99: sg10633 | F99: ICG_Tech | G99: ICG_Tech ASPAC | H99: ASPAC - CMT - Morgan,Patrick | I99: ASPAC-CMT-Morgan,Patrick | J99: BAU | K99: Storage Request - SAN | L99: Open | M99: Pre-Design Approval | N99: cp30221;ds76190;jd03131;km96569;mb88090;mp96590;tb60866; | O99: 41326.933 | P99: 1 | Q99: 27.171771 | R99: 27.188762 | S99: ASPAC
...

Sheet 200313
A1: SA Name | B1: Capacity ID | D1: Requestor | E1: Submitter | F1: Business Sector | G1: Business Group | H1: Business Line | I1: Business | J1: Project Name | K1: Type of Request | L1: Status | M1: Current Phase | N1: In Queue of | O1: Inque Start Time | P1: SLA Days | Q1: Time in Queue | R1: Overall Request Time | S1: Region
A2: Jason Popp | B2: CAP0027594 | D2: larry cruz | E2: lc11268 | F2: Corp_Bus | G2: O&T Risk Mgmt & Compliance | H2: O&T Risk Mgmt & Compliance | I2: O&T Risk Mgmt & Compliance | J2: GIDA ISAW Repositories | K2: Storage Request - NAS | L2: Open | M2: Submitter Approval | N2: lc11268; | O2: 41336.862 | P2: 0 | Q2: 16.243206 | R2: 16.243206 | S2: ASPAC
A3: Sanjeev Kumar Singh Tomar | B3: CAP0026965 | D3: shafayet hossain | E3: sh61970 | F3: ICG_Tech | G3: ICG_Tech ASPAC | H3: ASPAC - In-Country Tech - Chan, Ying Man | I3: ASPAC - CMT - Chan, Ying Man | J3: BAU | K3: VMWare | L3: Open | M3: Pre-Design Approval | N3: cp30221;ds76190;jd03131;km96569;mb88090;mp96590;tb60866; | O3: 41301.293 | P3: 1 | Q3: 51.812176 | R3: 51.812176 | S3: ASPAC
A4: Yu On Venkie Lee | B4: CAP0024673 | D4: yu on venkie lee | E4: yl77858 | F4: CTI | G4: CTI Global Technology Operations | H4: Global Security Operations | I4: Information Assurance Services - IAS | J4: VPR13510 2N Restoration | K4: Storage Request - SAN | L4: Open | M4: Submitter Approval | N4: yl77858; | O4: 41165.929 | P4: 0 | Q4: 187.17613 | R4: 187.17613 | S4: ASPAC
A5: Srinivasarao Thella | B5: CAP0025378 | D5: srinivasarao thella | E5: mc98347 | F5: ICG_Tech | G5: ICG_Tech GTS Tech Treasury and Trade Services | H5: TTS - Man, Eric | I5: TTS - Man, Eric | J5: NAS Storage for BMC Servers_ASPAC | K5: Storage Request - NAS | L5: Open | M5: CTI Approval | O5: 41253.127 | P5: 3 | Q5: 99.977975 | R5: 154.185 | S5: ASPAC
A6: Balasubramanian Pichumani | B6: CAP0025037 | D6: Ba;asubramanian Pichumani | E6: bp23017 | F6: GCG | G6: Asia Pacific | H6: Global Consumer Bank, Japan | I6: Global Consumer Bank, Japan | J6: BAU | K6: Storage Request - SAN | L6: Open | M6: Submitter Approval | N6: bp23017; | O6: 41184.248 | P6: 0 | Q6: 168.85656 | R6: 168.85656 | S6: ASPAC
A7: Ramesh Selvaraj | B7: CAP0027890 | D7: Nandakumar, Balaji | E7: rs78399 | F7: GCG | G7: Asia Pacific | H7: Singapore | I7: Ong,Kim Boon | J7: BAU | K7: Storage Request - DASD Mainframe | L7: Open | M7: Post-CTI Approval | N7: em86939;mg63100;tc25277; | O7: 41352.976 | P7: 0 | Q7: 0.12946759 | R7: 0.89449074 | S7: ASPAC
A8: Gowtham Ganesan | B8: CAP0024076 | D8: Gowtham Ganesan | E8: gg18915 | F8: CTI | G8: CTI Global Technology Operations | H8: Global Security Operations | I8: Information Assurance Services - IAS | J8: SSH Tectia Apps servers Migration | K8: Storage Request - SAN | L8: Open | M8: Open | P8: 0 | R8: 219.06551 | S8: ASPAC
A9: Vallinayakam Kamaleswaran | B9: CAP0024302 | D9: kamal | E9: vk63388 | F9: CTI | G9: CTI Global Technology Operations | H9: Global Security Operations | I9: Information Assurance Services - IAS | J9: BAU | K9: Storage Request - SAN | L9: Open | M9: Submitter Approval | N9: vk63388; | O9: 41145.069 | P9: 0 | Q9: 208.03648 | R9: 208.03648 | S9: ASPAC
A10: Matheswaran Ponnusamy | B10: CAP0024904 | D10: matheswaran ponnusamy | E10: mp59890 | F10: CTI | G10: CTI Global Technology Operations | H10: Global Security Operations | I10: Information Assurance Services - IAS | J10: WS10607705 | K10: Storage Request - SAN | L10: Open | M10: Submitter Approval | N10: mp59890; | O10: 41178.254 | P10: 0 | Q10: 174.8508 | R10: 174.8508 | S10: ASPAC
A11: Sreenivasan Asariparambil | B11: CAP0024968 | D11: Sreenivasan Asariparambil | E11: sa54951 | F11: GCG | G11: Asia Pacific | H11: India | I11: Moorthy,Sandesh Krishna | J11: AP-GCG-CIP Implementation | K11: Infrastructure | L11: Open | M11: Submitter Approval | N11: sa54951; | O11: 41180.077 | P11: 0 | Q11: 173.02841 | R11: 173.02841 | S11: ASPAC
A12: Vallinayakam Kamaleswaran | B12: CAP0025623 | D12: Kamlaeswaran Vallinayakam | E12: vk63388 | F12: CTO | G12: GFTS | H12: CTS Compliance Technology Services | I12: CTS - Goh,Sok Kim | J12: WS6013097 Global-CC-CitiKYC Unification Setup | K12: Storage Request - SAN | L12: Open | M12: Submitter Approval | N12: vk63388; | O12: 41212.104 | P12: 0 | Q12: 141.00097 | R12: 141.00097 | S12: ASPAC
A13: Siju Vellam Podichintavida | B13: CAP0025763 | D13: Butthaka Watthanakanjana | E13: bw99927 | F13: ICG_Tech | G13: ICG_Tech ASPAC | H13: ASPAC - CMT - Agarwal,Himanshu | I13: ASPAC- CMT - Agarwal,Himanshu | J13: BAU | K13: Storage Request - SAN | L13: Open | M13: P&L Approval | N13: cp30221;ds76190;jd03131;km96569;mb88090;mp96590;tb60866; | O13: 41319.962 | P13: 0 | Q13: 33.142639 | R13: 133.84341 | S13: ASPAC
A14: Kir Kip Lee | B14: CAP0025965 | D14: jagan | E14: jg53431 | F14: GCG | G14: Asia Pacific | H14: Indonesia | I14: Tantawi,Tuti | J14: WS9877984 DW Restoration | K14: Storage Request - SAN | L14: Open | M14: SA Approval | N14: ad33421;ag50732;ag95697;ak40444;ak47115;ak61266;al43710;al84347;ap51564;bp95974;br92748;cs72181;da39257;dc58786;dl95319;gg49465;gm65034;hg04219;jg53431;js47378;kl29887;kt23776;kw95563;ky38902;ms50752;ms73098;pm46702;pp83002;ps26891;pt97482;ra05079;rb0940 | O14: 41234.125 | P14: 1 | Q14: 118.98039 | R14: 119.95358 | S14: ASPAC
A15: Rajesh Balu | B15: CAP0026005 | D15: Rajesh Balu | E15: rb09400 | F15: GCG | G15: Asia Pacific | H15: India | I15: Moorthy,Sandesh Krishna | J15: VPR15816 GCG Digital Money Infrastructure Services | K15: AIX | L15: Open | M15: Submitter Approval | N15: rb09400; | O15: 41235.284 | P15: 0 | Q15: 117.82131 | R15: 117.82131 | S15: ASPAC
A16: Rajesh Balu | B16: CAP0026030 | D16: rajesh balu | E16: rb09400 | F16: ICG_Tech | G16: ICG_Tech Citi Markets Technology | H16: ICG_Tech_CMT - G10 Global Rates | I16: GMT - Kim,Joo | J16: WS6547157 | K16: AIX | L16: Open | M16: Submitter Approval | N16: rb09400; | O16: 41238.987 | P16: 0 | Q16: 114.11818 | R16: 114.11818 | S16: ASPAC
A17: Rajesh Balu | B17: CAP0026032 | D17: Rajesh Balu | E17: rb09400 | F17: ICG_Tech | G17: ICG_Tech GTS Tech Treasury and Trade Services | H17: TTS - Man, Eric | I17: TTS - Man, Eric | J17: WS6547157 | K17: No Servers - Memory/CPU Upgrade | L17: Open | M17: Submitter Approval | N17: rb09400; | O17: 41239.177 | P17: 0 | Q17: 113.92791 | R17: 113.92791 | S17: ASPAC
A18: Sujeesh Thovarayi | B18: CAP0026523 | D18: thomas mathias | E18: tm81308 | F18: GCG | G18: Asia Pacific | H18: Singapore | I18: Ong,Kim Boon | J18: BAU | K18: Storage Request - SAN | L18: Open | M18: Post-CTI Approval | N18: ak47115;ok18455;st90388; | O18: 41289.985 | P18: 0 | Q18: 63.120012 | R18: 83.928275 | S18: ASPAC
A19: Kir Kip Lee | B19: CAP0026565 | D19: kir kip lee | E19: kl29887 | F19: ICG_Tech | G19: ICG_Tech GTS Tech Treasury and Trade Services | H19: TTS - Man, Eric | I19: TTS - Man, Eric | J19: WS8014030 - ICG-AP-Trims Reporting | K19: AIX | L19: Open | M19: Pre-Design Approval | N19: ds56427;jl36031;mw02822;ob41451;rd13550;rs28691;sk73093;tl35537; | O19: 41277.958 | P19: 1 | Q19: 75.147292 | R19: 75.922361 | S19: ASPAC
A20: Kir Kip Lee | B20: CAP0026583 | D20: kir kip lee | E20: kl29887 | F20: ICG_Tech | G20: ICG_Tech GTS Tech Treasury and Trade Services | H20: TTS - Man, Eric | I20: TTS - Man, Eric | J20: WS8014030 - ICG-AP-Trims Reporting | K20: Storage Request - SAN | L20: Open | M20: Pre-Design Approval | N20: jl36031;mw02822;ob41451;rd13550;rs28691;sk73093;tl35537; | O20: 41277.937 | P20: 1 | Q20: 75.167685 | R20: 75.191898 | S20: ASPAC
... A80: Sanjay Kumar | B80: CAP0025443 | D80: sanjay kumar | E80: sk14668 | F80: ICG_Tech | G80: ICG_Tech GTS Tech Treasury and Trade Services | H80: TTS - Man, Eric | I80: TTS - Man, Eric | J80: WS7760321 | K80: Storage Request - SAN | L80: Open | M80: Submitter Approval | N80: sk14668; | O80: 41200.983 | P80: 0 | Q80: 152.12235 | R80: 152.12235 | S80: ASPAC
A81: Siju Vellam Podichintavida | B81: CAP0025754 | D81: senthilkumar kumaraswamy | E81: sk77284 | F81: GCG | G81: Global Product Development | H81: Global Product Development | I81: Cards - International | J81: BAU | K81: Storage Request - SAN | L81: Open | M81: Open | P81: 0 | R81: 134.14817 | S81: ASPAC
A82: Siju Vellam Podichintavida | B82: CAP0025802 | D82: umesh sonwane | E82: us51691 | F82: ICG_Tech | G82: ICG_Tech GTS Tech Treasury and Trade Services | H82: TTS - Man, Eric | I82: TTS - Man, Eric | J82: BAU | K82: Storage Request - SAN | L82: Open | M82: Pre-Design Approval | N82: ds56427;jl36031;mw02822;ob41451;rd13550;rs28691;sk73093;tl35537; | O82: 41220.979 | P82: 1 | Q82: 132.12601 | R82: 132.17616 | S82: ASPAC
A83: Siju Vellam Podichintavida | B83: CAP0026010 | D83: ka ho leung | E83: kl63712 | F83: CTI | G83: CTI Global Technology Operations | H83: Global Security Operations | I83: Information Assurance Services - IAS | J83: BAU | K83: Storage Request - SAN | L83: Open | M83: Submitter Approval | N83: kl63712; | O83: 41236.012 | P83: 0 | Q83: 117.09252 | R83: 117.09252 | S83: ASPAC
A84: Siju Vellam Podichintavida | B84: CAP0026649 | D84: ka tak randy ho | E84: kh92063 | F84: ICG_Tech | G84: ICG_Tech GTS Tech Treasury and Trade Services | H84: TTS - Man, Eric | I84: TTS - Man, Eric | J84: WS6271692 & WS6273608 | K84: No Servers - Memory/CPU Upgrade | L84: Open | M84: Pre-Design Approval | N84: ds56427;jl36031;mw02822;ob41451;rd13550;rs28691;sk73093;tl35537; | O84: 41283.986 | P84: 1 | Q84: 69.119479 | R84: 70.043889 | S84: ASPAC
A85: Siju Vellam Podichintavida | B85: CAP0026679 | D85: kee loong simon yap | E85: ky51621 | F85: GCG | G85: Asia Pacific | H85: Asia Regional Technology | I85: Hari, Sridhar | J85: BAU | K85: Storage Request - SAN | L85: Open | M85: Pre-Design Approval | N85: bo83516;db35844;es45096;ky38902;pb17916;rc07154;rl57190;rv56747;sn37291; | O85: 41284.165 | P85: 1 | Q85: 68.939514 | R85: 69.1325 | S85: ASPAC
A86: Siju Vellam Podichintavida | B86: CAP0026826 | D86: kee loong simon yap | E86: ky51621 | F86: ICG_Tech | G86: ICG_Tech ASPAC | H86: ASPAC - Kandall,Michael | I86: ASPAC - Kandall,Michael | J86: BAU | K86: Storage Request - SAN | L86: Open | M86: Pre-Design Approval | N86: cp30221;ds76190;jd03131;km96569;mb88090;mp96590;tb60866; | O86: 41292.177 | P86: 1 | Q86: 60.927731 | R86: 60.933287 | S86: ASPAC
A87: Siju Vellam Podichintavida | B87: CAP0026882 | D87: umesh sonwane | E87: us51691 | F87: ICG_Tech | G87: ICG_Tech GTS Tech Treasury and Trade Services | H87: TTS - Man, Eric | I87: TTS - Man, Eric | J87: BAU | K87: Storage Request - SAN | L87: Open | M87: Submitter Approval | N87: us51691; | O87: 41297.218 | P87: 0 | Q87: 55.886794 | R87: 55.886794 | S87: ASPAC
A88: Siju Vellam Podichintavida | B88: CAP0026908 | D88: umesh sonwane | E88: us51691 | F88: ICG_Tech | G88: ICG_Tech ASPAC | H88: ASPAC - In-Country Tech - Chan, Ying Man | I88: ASPAC - CMT - Chan, Ying Man | J88: BAU | K88: Storage Request - SAN | L88: Open | M88: Pre-Design Approval | N88: cp30221;ds76190;jd03131;km96569;mb88090;mp96590;tb60866; | O88: 41298.04 | P88: 1 | Q88: 55.064595 | R88: 55.112778 | S88: ASPAC
A89: Siju Vellam Podichintavida | B89: CAP0026910 | D89: =H89/33 -> #VALUE! | E89: us51691 | F89: ICG_Tech | G89: ICG_Tech ASPAC | H89: ASPAC - In-Country Tech - Chan, Ying Man | I89: ASPAC - CMT - Chan, Ying Man | J89: BAU | K89: Storage Request - SAN | L89: Open | M89: Pre-Design Approval | N89: cp30221;ds76190;jd03131;km96569;mb88090;mp96590;tb60866; | O89: 41298.085 | P89: 1 | Q89: 55.01985 | R89: 55.042095 | S89: ASPAC
A90: Thomas Mathias | B90: CAP0026969 | D90: thomas mathias | E90: tm81308 | F90: GCG | G90: EMEA | H90: Middle East Cluster | I90: Egypt - Ben Makhlouf, Slah | J90: BAU | K90: Storage Request - SAN | L90: Open | M90: Submitter Approval | N90: tm81308; | O90: 41302.101 | P90: 0 | Q90: 51.003576 | R90: 51.003576 | S90: ASPAC
A91: Suresh Makkan | B91: CAP0026991 | D91: Suresh Makkan | E91: sm09402 | F91: GCG | G91: Asia Pacific | H91: Singapore | I91: Ong,Kim Boon | J91: VPR3691 | K91: Storage Request - SAN | L91: Open | M91: Final Business Signoff | N91: bo83516;da20304;dg58174;nw05330;pb17916;sk29560;sk72161;tr08801; | O91: 41353.053 | P91: 0 | Q91: 0.051770833 | R91: 49.996771 | S91: ASPAC
A92: Rajesh Balu | B92: CAP0027037 | D92: albert cerullo | E92: rb09400 | F92: ICG_Tech | G92: ICG_Tech Private Bank - Personal Wealth Management | H92: GWM - Asia Technology | I92: GWM - Asia Technology | J92: VPR3691 SUN to AIX Migration | K92: AIX | L92: Open | M92: Post-CTI Approval | N92: ac94164;jn62051;js45746;ks14775;md46033;pr72496;rb71989;rs81295;ss84555;sy25911;ta19710;vv58942; | O92: 41344.001 | P92: 0 | Q92: 9.1042593 | R92: 47.977616 | S92: ASPAC
A93: Siju Vellam Podichintavida | B93: CAP0027071 | D93: praveen | E93: sv68762 | F93: ICG_Tech | G93: ICG_Tech GTS Tech Treasury and Trade Services | H93: TTS - Man, Eric | I93: TTS - Man, Eric | J93: BAU | K93: Storage Request - SAN | L93: Open | M93: SA Approval | N93: ak47115;ap52431;hg04219;ky38902;rf63383;sv68762; | O93: 41306.258 | P93: 1 | Q93: 46.847049 | R93: 46.858565 | S93: ASPAC
A94: Rajesh Balu | B94: CAP0027095 | D94: albert cerullo | E94: rb09400 | F94: ICG_Tech | G94: ICG_Tech Private Bank - Personal Wealth Management | H94: GWM - Asia Technology | I94: GWM - Asia Technology | J94: VPR3691 SUN to AIX Migration | K94: Storage Request - SAN | L94: Open | M94: CTI Approval | N94: ac94164;jn62051;js45746;ks14775;md46033;pr72496;rb71989;rs81295;ss84555;sy25911;ta19710;vv58942; | O94: 41351.405 | P94: 3 | Q94: 1.6996759 | R94: 44.106146 | S94: ASPAC
A95: Sujeesh Thovarayi | B95: CAP0027162 | D95: Muthukumar Sivagnanam | E95: ms34622 | F95: CTI | G95: CTI Global Technology Operations | H95: Global Security Operations | I95: Host & App Security Infrastructure - HASI | J95: BAU | K95: AIX | L95: Open | M95: CTI Approval | N95: ac94164;ah74163;bb56255;bj19907;bm58431;hm04981;jn62051;js45746;kl24810;kn92290;md46033;mj18591;mt06736;pm23510;rv56747;sl78306;sn37291;sy25911;tk49291;vw67949;wk63775;zw73585; | O95: 41312.331 | P95: 5 | Q95: 40.7739 | R95: 41.119919 | S95: ASPAC
A96: Rajesh Balu | B96: CAP0027178 | D96: albert cerullo | E96: sm09402 | F96: ICG_Tech | G96: ICG_Tech Private Bank - Personal Wealth Management | H96: GWM - Asia Technology | I96: GWM - Asia Technology | J96: VPR3691 SUN to AIX Migration | K96: AIX | L96: Open | M96: P&L Approval | N96: ac33575;mb69558;mo77554; | O96: 41351.362 | P96: 0 | Q96: 1.7426042 | R96: 39.943461 | S96: ASPAC
A97: Rajesh Balu | B97: CAP0027245 | D97: Sureshmakkan | E97: sm09402 | F97: ICG_Tech | G97: ICG_Tech Private Bank - Personal Wealth Management | H97: GWM - Asia Technology | I97: GWM - Asia Technology | J97: VPR3691 SUN to AIX Migration | K97: Storage Request - SAN | L97: Open | M97: Submitter Approval | N97: sm09402; | O97: 41318.198 | P97: 0 | Q97: 34.907303 | R97: 34.907303 | S97: ASPAC
A98: Suresh Makkan | B98: CAP0027324 | D98: albert cerullo | E98: vp75140 | F98: ICG_Tech | G98: ICG_Tech Private Bank - Personal Wealth Management | H98: GWM - Asia Technology | I98: GWM - Asia Technology | J98: CPB ASPAC SAN BAU1_2013 | K98: Storage Request - SAN | L98: Open | M98: Final Business Signoff | N98: ac33575;mb69558;mo77554; | O98: 41352.204 | P98: 0 | Q98: 0.90123843 | R98: 29.042882 | S98: ASPAC
A99: Siju Vellam Podichintavida | B99: CAP0027377 | D99: praveen | E99: pp32252 | F99: ICG_Tech | G99: ICG_Tech GTS Tech Treasury and Trade Services | H99: TTS - Man, Eric | I99: TTS - Man, Eric | J99: BAU | K99: Storage Request - SAN | L99: Open | M99: Post-CTI Approval | N99: ac94164;jn62051;js45746;ks14775;md46033;pr72496;rb71989;rs81295;ss84555;sy25911;ta19710;vv58942; | O99: 41350.972 | P99: 0 | Q99: 2.1328241 | R99: 27.121227 | S99: ASPAC
...

Sheet 120313
A1: SA Name | B1: Capacity ID | D1: Requestor | E1: Submitter | F1: Business Sector | G1: Business Group | H1: Business Line | I1: Business | J1: Project Name | K1: Type of Request | L1: Status | M1: Current Phase | N1: In Queue of | O1: Inque Start Time | P1: SLA Days | Q1: Time in Queue | R1: Overall Request Time | S1: Region
A2: Jason Popp | B2: CAP0027594 | D2: larry cruz | E2: lc11268 | F2: Corp_Bus | G2: O&T Risk Mgmt & Compliance | H2: O&T Risk Mgmt & Compliance | I2: O&T Risk Mgmt & Compliance | J2: GIDA ISAW Repositories | K2: Storage Request - NAS | L2: Open | M2: Submitter Approval | N2: lc11268; | O2: 41336.862 | P2: 0 | Q2: 8.2426968 | R2: 8.2426968 | S2: ASPAC
A3: Sanjeev Kumar Singh Tomar | B3: CAP0026965 | D3: shafayet hossain | E3: sh61970 | F3: ICG_Tech | G3: ICG_Tech ASPAC | H3: ASPAC - In-Country Tech - Chan, Ying Man | I3: ASPAC - CMT - Chan, Ying Man | J3: BAU | K3: VMWare | L3: Open | M3: Pre-Design Approval | N3: cp30221;ds76190;jd03131;km96569;mb88090;mp96590;tb60866; | O3: 41301.293 | P3: 1 | Q3: 43.811667 | R3: 43.811667 | S3: ASPAC
A4: Yu On Venkie Lee | B4: CAP0024673 | D4: yu on venkie lee | E4: yl77858 | F4: CTI | G4: CTI Global Technology Operations | H4: Global Security Operations | I4: Information Assurance Services - IAS | J4: VPR13510 2N Restoration | K4: Storage Request - SAN | L4: Open | M4: Submitter Approval | N4: yl77858; | O4: 41165.929 | P4: 0 | Q4: 179.17562 | R4: 179.17562 | S4: ASPAC
A5: Srinivasarao Thella | B5: CAP0025378 | D5: srinivasarao thella | E5: mc98347 | F5: ICG_Tech | G5: ICG_Tech GTS Tech Treasury and Trade Services | H5: TTS - Man, Eric | I5: TTS - Man, Eric | J5: NAS Storage for BMC Servers_ASPAC | K5: Storage Request - NAS | L5: Open | M5: CTI Approval | O5: 41253.127 | P5: 3 | Q5: 91.977465 | R5: 146.18449 | S5: ASPAC
A6: Daniel Roedema | B6: CAP0026357 | D6: demonte brown | E6: db89128 | F6: CTO | G6: CATE | H6: CATE | I6: CCC - Venkatachalam,Guruvayurappan | J6: Microsoft Lync 2010 - ASPAC | K6: Infrastructure | L6: Open | M6: CTI Approval | N6: ac94164;jn62051;js45746;ks14775;md46033;pr72496;rb71989;rs81295;ss84555;sy25911;ta19710;vv58942; | O6: 41261.355 | P6: 5 | Q6: 83.749248 | R6: 89.045417 | S6: ASPAC
A7: Balasubramanian Pichumani | B7: CAP0025037 | D7: Ba;asubramanian Pichumani | E7: bp23017 | F7: GCG | G7: Asia Pacific | H7: Global Consumer Bank, Japan | I7: Global Consumer Bank, Japan | J7: BAU | K7: Storage Request - SAN | L7: Open | M7: Submitter Approval | N7: bp23017; | O7: 41184.248 | P7: 0 | Q7: 160.85605 | R7: 160.85605 | S7: ASPAC
A8: Gowtham Ganesan | B8: CAP0024076 | D8: Gowtham Ganesan | E8: gg18915 | F8: CTI | G8: CTI Global Technology Operations | H8: Global Security Operations | I8: Information Assurance Services - IAS | J8: SSH Tectia Apps servers Migration | K8: Storage Request - SAN | L8: Open | M8: Open | P8: 0 | R8: 211.065 | S8: ASPAC
A9: Haresh Gandhi | B9: CAP0024249 | D9: balasubramanian pichumani | E9: gg18915 | F9: ICG_Tech | G9: ICG_Tech GTS Tech Treasury and Trade Services | H9: TTS - Man, Eric | I9: TTS - Man, Eric | J9: BAU | K9: Storage Request - SAN | L9: Open | M9: Final P&L Approval | N9: ep42429;gm12984;mj87031; | O9: 41183.368 | P9: 0 | Q9: 161.73661 | R9: 201.95627 | S9: ASPAC
A10: Vallinayakam Kamaleswaran | B10: CAP0024302 | D10: kamal | E10: vk63388 | F10: CTI | G10: CTI Global Technology Operations | H10: Global Security Operations | I10: Information Assurance Services - IAS | J10: BAU | K10: Storage Request - SAN | L10: Open | M10: Submitter Approval | N10: vk63388; | O10: 41145.069 | P10: 0 | Q10: 200.03597 | R10: 200.03597 | S10: ASPAC
A11: Matheswaran Ponnusamy | B11: CAP0024904 | D11: matheswaran ponnusamy | E11: mp59890 | F11: CTI | G11: CTI Global Technology Operations | H11: Global Security Operations | I11: Information Assurance Services - IAS | J11: WS10607705 | K11: Storage Request - SAN | L11: Open | M11: Submitter Approval | N11: mp59890; | O11: 41178.254 | P11: 0 | Q11: 166.85029 | R11: 166.85029 | S11: ASPAC
A12: Sreenivasan Asariparambil | B12: CAP0024968 | D12: Sreenivasan Asariparambil | E12: sa54951 | F12: GCG | G12: Asia Pacific | H12: India | I12: Moorthy,Sandesh Krishna | J12: AP-GCG-CIP Implementation | K12: Infrastructure | L12: Open | M12: Submitter Approval | N12: sa54951; | O12: 41180.077 | P12: 0 | Q12: 165.02791 | R12: 165.02791 | S12: ASPAC
A13: Vallinayakam Kamaleswaran | B13: CAP0025623 | D13: Kamlaeswaran Vallinayakam | E13: vk63388 | F13: CTO | G13: GFTS | H13: CTS Compliance Technology Services | I13: CTS - Goh,Sok Kim | J13: WS6013097 Global-CC-CitiKYC Unification Setup | K13: Storage Request - SAN | L13: Open | M13: Submitter Approval | N13: vk63388; | O13: 41212.104 | P13: 0 | Q13: 133.00046 | R13: 133.00046 | S13: ASPAC
A14: Siju Vellam Podichintavida | B14: CAP0025763 | D14: Butthaka Watthanakanjana | E14: bw99927 | F14: ICG_Tech | G14: ICG_Tech ASPAC | H14: ASPAC - CMT - Agarwal,Himanshu | I14: ASPAC- CMT - Agarwal,Himanshu | J14: BAU | K14: Storage Request - SAN | L14: Open | M14: P&L Approval | N14: cp30221;ds76190;jd03131;km96569;mb88090;mp96590;tb60866; | O14: 41319.962 | P14: 0 | Q14: 25.14213 | R14: 125.84291 | S14: ASPAC
A15: Kir Kip Lee | B15: CAP0025965 | D15: jagan | E15: jg53431 | F15: GCG | G15: Asia Pacific | H15: Indonesia | I15: Tantawi,Tuti | J15: WS9877984 DW Restoration | K15: Storage Request - SAN | L15: Open | M15: SA Approval | N15: ad33421;ag50732;ag95697;ak40444;ak47115;ak61266;al43710;al84347;ap51564;bp95974;br92748;cs72181;da39257;dc58786;dl95319;gg49465;gm65034;hg04219;jg53431;js47378;kl29887;kt23776;kw95563;ky38902;ms50752;ms73098;pm46702;pp83002;ps26891;pt97482;ra05079;rb0940 | O15: 41234.125 | P15: 1 | Q15: 110.97988 | R15: 111.95307 | S15: ASPAC
A16: Rajesh Balu | B16: CAP0026005 | D16: Rajesh Balu | E16: rb09400 | F16: GCG | G16: Asia Pacific | H16: India | I16: Moorthy,Sandesh Krishna | J16: VPR15816 GCG Digital Money Infrastructure Services | K16: AIX | L16: Open | M16: Submitter Approval | N16: rb09400; | O16: 41235.284 | P16: 0 | Q16: 109.8208 | R16: 109.8208 | S16: ASPAC
A17: Rajesh Balu | B17: CAP0026030 | D17: rajesh balu | E17: rb09400 | F17: ICG_Tech | G17: ICG_Tech Citi Markets Technology | H17: ICG_Tech_CMT - G10 Global Rates | I17: GMT - Kim,Joo | J17: WS6547157 | K17: AIX | L17: Open | M17: Submitter Approval | N17: rb09400; | O17: 41238.987 | P17: 0 | Q17: 106.11767 | R17: 106.11767 | S17: ASPAC
A18: Rajesh Balu | B18: CAP0026032 | D18: Rajesh Balu | E18: rb09400 | F18: ICG_Tech | G18: ICG_Tech GTS Tech Treasury and Trade Services | H18: TTS - Man, Eric | I18: TTS - Man, Eric | J18: WS6547157 | K18: No Servers - Memory/CPU Upgrade | L18: Open | M18: Submitter Approval | N18: rb09400; | O18: 41239.177 | P18: 0 | Q18: 105.9274 | R18: 105.9274 | S18: ASPAC
A19: Sujeesh Thovarayi | B19: CAP0026523 | D19: thomas mathias | E19: tm81308 | F19: GCG | G19: Asia Pacific | H19: Singapore | I19: Ong,Kim Boon | J19: BAU | K19: Storage Request - SAN | L19: Open | M19: Post-CTI Approval | N19: ak47115;ok18455;st90388; | O19: 41289.985 | P19: 0 | Q19: 55.119502 | R19: 75.927766 | S19: ASPAC
A20: Kir Kip Lee | B20: CAP0026565 | D20: kir kip lee | E20: kl29887 | F20: ICG_Tech | G20: ICG_Tech GTS Tech Treasury and Trade Services | H20: TTS - Man, Eric | I20: TTS - Man, Eric | J20: WS8014030 - ICG-AP-Trims Reporting | K20: AIX | L20: Open | M20: Pre-Design Approval | N20: ds56427;jl36031;mw02822;ob41451;rd13550;rs28691;sk73093;tl35537; | O20: 41277.958 | P20: 1 | Q20: 67.146782 | R20: 67.921852 | S20: ASPAC
... A23: Rajaramesh Alluri | B23: CAP0026635 | D23: Sreelal Kunnummal Sreedharan | E23: ra05079 | F23: ICG_Tech | G23: ICG_Tech GTS Tech Treasury and Trade Services | H23: TTS - Man, Eric | I23: TTS - Man, Eric | J23: WS6547157 | K23: Storage Request - SAN | L23: Open | M23: CTI Approval | N23: ac94164;jn62051;js45746;ks14775;md46033;pr72496;rb71989;rs81295;ss84555;sy25911;ta19710;vv58942; | O23: 41341.386 | P23: 3 | Q23: 3.718044 | R23: 63.145914 | S23: ASPAC
A24: Gineesh Madapparambath | B24: CAP0026735 | D24: albert cerullo | E24: Gineesh Madapparambath (gm65034)_x000D_ _x000D_ ( orginally raised by : ac33575) | F24: ICG_Tech | G24: ICG_Tech Private Bank - Personal Wealth Management | H24: GWM - Global Banker Technologies | I24: GWM - Global Banker Technologies | J24: WS13042967-ICG-AP-CPB-InView Attivio | K24: Infrastructure | L24: Open | M24: Open | P24: 0 | R24: 56.555775 | S24: ASPAC
A25: Venkateswara Rao Munagapati | B25: CAP0026841 | D25: Venkates | E25: vm24623 | F25: GCG | G25: Asia Pacific | H25: Global Consumer Bank, Japan | I25: Global Consumer Bank, Japan | J25: VPR9302 - JP-CC-SHARED DOCUMENTUM ENV MIGRATION | K25: Storage Request - SAN | L25: Open | M25: Pre-Design Approval | N25: bo83516;db35844;es45096;ky38902;pb17916;rc07154;rl57190;rv56747;sn37291; | O25: 41296.016 | P25: 1 | Q25: 49.088785 | R25: 51.207072 | S25: ASPAC
A26: Kir Kip Lee | B26: CAP0026856 | D26: kir kip lee | E26: kl29887 | F26: GCG | G26: Asia Pacific | H26: Global Consumer Bank, Japan | I26: Global Consumer Bank, Japan | J26: VPR5487 AP-GDC-Oracle 11G Database Server Upgrade | K26: Storage Request - SAN | L26: Open | M26: Pre-Design Approval | N26: bo83516;db35844;es45096;ky38902;pb17916;rc07154;rl57190;rv56747;sn37291; | O26: 41302.22 | P26: 1 | Q26: 42.884838 | R26: 48.986806 | S26: ASPAC
A27: Thomas Mathias | B27: CAP0027065 | D27: thomas mathias | E27: tm81308 | F27: GCG | G27: Asia Pacific | H27: Singapore | I27: Ong,Kim Boon | J27: BAU | K27: Storage Request - SAN | L27: Open | M27: Submitter Approval | N27: tm81308; | O27: 41306.069 | P27: 0 | Q27: 39.035058 | R27: 39.035058 | S27: ASPAC
A28: Thomas Mathias | B28: CAP0027068 | D28: thomas mathias | E28: tm81308 | F28: GCG | G28: Asia Pacific | H28: Singapore | I28: Ong,Kim Boon | J28: BAU | K28: Storage Request - SAN | L28: Open | M28: CTI Approval | N28: ac94164;jn62051;js45746;ks14775;md46033;pr72496;rb71989;rs81295;ss84555;sy25911;ta19710;vv58942; | O28: 41341.342 | P28: 3 | Q28: 3.7626273 | R28: 39.015637 | S28: ASPAC
A29: Deepan Chakkaravarthi | B29: CAP0027159 | D29: Deepan | E29: dc58786 | F29: CTO | G29: GFTS | H29: CTS Compliance Technology Services | I29: CTS - Goh,Sok Kim | J29: WS13211340 eCADD GTS Production Support | K29: Storage Request - SAN | L29: Open | M29: Final P&L Approval | N29: ep42429;gm12984;mj87031; | O29: 41344.699 | P29: 0 | Q29: 0.40559028 | R29: 33.192049 | S29: ASPAC
A30: Siju Vellam Podichintavida | B30: CAP0027246 | D30: sivakumar ganesan | E30: pp32252 | F30: GCG | G30: Cross Function | H30: CTO | I30: Mukundan, Bobby | J30: BAU | K30: Storage Request - SAN | L30: Open | M30: CTI Approval | N30: ac94164;jn62051;js45746;ks14775;md46033;pr72496;rb71989;rs81295;ss84555;sy25911;ta19710;vv58942; | O30: 41341.341 | P30: 3 | Q30: 3.7634954 | R30: 26.905613 | S30: ASPAC
A31: Kir Kip Lee | B31: CAP0027349 | D31: kir kip lee | E31: kl29887 | F31: CTO | G31: GFTS | H31: GFI GFTS International | I31: GFI - Akao,Yukitoshi | J31: VPR5487 AP-GDC-Oracle 11G Database | K31: Storage Request - SAN | L31: Open | M31: CTI Approval | N31: ac94164;jn62051;js45746;ks14775;md46033;pr72496;rb71989;rs81295;ss84555;sy25911;ta19710;vv58942; | O31: 41331.399 | P31: 3 | Q31: 13.705405 | R31: 19.993241 | S31: ASPAC
A32: Siju Vellam Podichintavida | B32: CAP0027410 | D32: praveen | E32: pp32252 | F32: ICG_Tech | G32: ICG_Tech GTS Tech Treasury and Trade Services | H32: TTS - Man, Eric | I32: TTS - Man, Eric | J32: BAU | K32: Storage Request - SAN | L32: Open | M32: SA Approval | N32: ak47115;ap52431;kl63712;rf63383;sv68762; | O32: 41334.065 | P32: 1 | Q32: 11.038993 | R32: 18.180312 | S32: ASPAC
A33: Sreelal Kunnummal Sreedharan | B33: CAP0027460 | D33: sreelal kunnummal sreedharan | E33: sk78401 | F33: GCG | G33: Asia Pacific | H33: India | I33: Moorthy,Sandesh Krishna | J33: DMIS- VPR15816 | K33: Storage Request - SAN | L33: Open | M33: Submitter Approval | N33: sk78401; | O33: 41330.062 | P33: 0 | Q33: 15.042685 | R33: 15.042685 | S33: ASPAC
A34: Deepan Chakkaravarthi | B34: CAP0027516 | D34: Deepan | E34: dc58786 | F34: GCG | G34: Asia Pacific | H34: Asia Regional Technology | I34: Hari, Sridhar | J34: WS9980079 GCG-AP-Global Tablet Implementation | K34: No Servers - Memory/CPU Upgrade | L34: Open | M34: CTI Approval | N34: ac94164;ah74163;bb56255;bj19907;bm58431;hm04981;jn62051;js45746;kl24810;kn92290;md46033;mj18591;mt06736;pm23510;rv56747;sl78306;sn37291;sy25911;tk49291;vw67949;wk63775;zw73585; | O34: 41337.318 | P34: 5 | Q34: 7.7866319 | R34: 13.145312 | S34: ASPAC
A35: Deepan Chakkaravarthi | B35: CAP0027517 | D35: Deepan | E35: dc58786 | F35: GCG | G35: Asia Pacific | H35: Korea, Republic of | I35: Lee,Gi Young | J35: WS9980079 GCG-AP-Global Tablet Implementation | K35: Storage Request - SAN | L35: Open | M35: Submitter Approval | N35: dc58786; | O35: 41331.97 | P35: 0 | Q35: 13.134317 | R35: 13.134317 | S35: ASPAC
A36: Deepan Chakkaravarthi | B36: CAP0027518 | D36: Deepan | E36: dc58786 | F36: GCG | G36: Asia Pacific | H36: Global Consumer Bank, Japan | I36: Global Consumer Bank, Japan | J36: VPR9302 - JP-CC-SHARED DOCUMENTUM ENV MIGRATION | K36: Storage Request - SAN | L36: Open | M36: Submitter Approval | N36: dc58786; | O36: 41332.077 | P36: 0 | Q36: 13.027951 | R36: 13.027951 | S36: ASPAC
... A73: Sanjay Kumar | B73: CAP0025443 | D73: sanjay kumar | E73: sk14668 | F73: ICG_Tech | G73: ICG_Tech GTS Tech Treasury and Trade Services | H73: TTS - Man, Eric | I73: TTS - Man, Eric | J73: WS7760321 | K73: Storage Request - SAN | L73: Open | M73: Submitter Approval | N73: sk14668; | O73: 41200.983 | P73: 0 | Q73: 144.12184 | R73: 144.12184 | S73: ASPAC
A74: Siju Vellam Podichintavida | B74: CAP0025754 | D74: senthilkumar kumaraswamy | E74: sk77284 | F74: GCG | G74: Global Product Development | H74: Global Product Development | I74: Cards - International | J74: BAU | K74: Storage Request - SAN | L74: Open | M74: Open | P74: 0 | R74: 126.14766 | S74: ASPAC
A75: Siju Vellam Podichintavida | B75: CAP0025802 | D75: umesh sonwane | E75: us51691 | F75: ICG_Tech | G75: ICG_Tech GTS Tech Treasury and Trade Services | H75: TTS - Man, Eric | I75: TTS - Man, Eric | J75: BAU | K75: Storage Request - SAN | L75: Open | M75: Pre-Design Approval | N75: ds56427;jl36031;mw02822;ob41451;rd13550;rs28691;sk73093;tl35537; | O75: 41220.979 | P75: 1 | Q75: 124.1255 | R75: 124.17565 | S75: ASPAC
A76: Siju Vellam Podichintavida | B76: CAP0026010 | D76: ka ho leung | E76: kl63712 | F76: CTI | G76: CTI Global Technology Operations | H76: Global Security Operations | I76: Information Assurance Services - IAS | J76: BAU | K76: Storage Request - SAN | L76: Open | M76: Submitter Approval | N76: kl63712; | O76: 41236.012 | P76: 0 | Q76: 109.09201 | R76: 109.09201 | S76: ASPAC
A77: Siju Vellam Podichintavida | B77: CAP0026649 | D77: ka tak randy ho | E77: kh92063 | F77: ICG_Tech | G77: ICG_Tech GTS Tech Treasury and Trade Services | H77: TTS - Man, Eric | I77: TTS - Man, Eric | J77: WS6271692 & WS6273608 | K77: No Servers - Memory/CPU Upgrade | L77: Open | M77: Pre-Design Approval | N77: ds56427;jl36031;mw02822;ob41451;rd13550;rs28691;sk73093;tl35537; | O77: 41283.986 | P77: 1 | Q77: 61.11897 | R77: 62.04338 | S77: ASPAC
A78: Siju Vellam Podichintavida | B78: CAP0026679 | D78: kee loong simon yap | E78: ky51621 | F78: GCG | G78: Asia Pacific | H78: Asia Regional Technology | I78: Hari, Sridhar | J78: BAU | K78: Storage Request - SAN | L78: Open | M78: Pre-Design Approval | N78: bo83516;db35844;es45096;ky38902;pb17916;rc07154;rl57190;rv56747;sn37291; | O78: 41284.165 | P78: 1 | Q78: 60.939005 | R78: 61.131991 | S78: ASPAC
...

Sheet 110313
A1: SA Name | B1: Capacity ID | D1: Requestor | E1: Submitter | F1: Business Sector | G1: Business Group | H1: Business Line | I1: Business | J1: Project Name | K1: Type of Request | L1: Status | M1: Current Phase | N1: In Queue of | O1: Inque Start Time | P1: SLA Days | Q1: Time in Queue | R1: Overall Request Time | S1: Region
A2: Jason Popp | B2: CAP0027594 | D2: larry cruz | E2: lc11268 | F2: Corp_Bus | G2: O&T Risk Mgmt & Compliance | H2: O&T Risk Mgmt & Compliance | I2: O&T Risk Mgmt & Compliance | J2: GIDA ISAW Repositories | K2: Storage Request - NAS | L2: Open | M2: Submitter Approval | N2: lc11268; | O2: 41336.862 | P2: 0 | Q2: 7.2426852 | R2: 7.2426852 | S2: ASPAC
A3: Sanjeev Kumar Singh Tomar | B3: CAP0026965 | D3: shafayet hossain | E3: sh61970 | F3: ICG_Tech | G3: ICG_Tech ASPAC | H3: ASPAC - In-Country Tech - Chan, Ying Man | I3: ASPAC - CMT - Chan, Ying Man | J3: BAU | K3: VMWare | L3: Open | M3: Pre-Design Approval | N3: cp30221;ds76190;jd03131;km96569;mb88090;mp96590;tb60866; | O3: 41301.293 | P3: 1 | Q3: 42.811655 | R3: 42.811655 | S3: ASPAC
A4: Yu On Venkie Lee | B4: CAP0024673 | D4: yu on venkie lee | E4: yl77858 | F4: CTI | G4: CTI Global Technology Operations | H4: Global Security Operations | I4: Information Assurance Services - IAS | J4: VPR13510 2N Restoration | K4: Storage Request - SAN | L4: Open | M4: Submitter Approval | N4: yl77858; | O4: 41165.929 | P4: 0 | Q4: 178.17561 | R4: 178.17561 | S4: ASPAC
A5: Kam Bong So | B5: CAP0025960 | D5: connie kwok | E5: ck12002 | F5: ICG_Tech | G5: ICG_Tech Citi Markets Technology | H5: ICG_Tech_CMT - G10 Global Rates | I5: GMT - Kim,Joo | J5: BAU | K5: Storage Request - SAN | L5: Open | M5: CTI Approval | N5: ac94164;jn62051;js45746;ks14775;md46033;pr72496;rb71989;rs81295;ss84555;sy25911;ta19710;vv58942; | O5: 41247.286 | P5: 3 | Q5: 96.817986 | R5: 111.1142 | S5: ASPAC
A6: Srinivasarao Thella | B6: CAP0025378 | D6: srinivasarao thella | E6: mc98347 | F6: ICG_Tech | G6: ICG_Tech GTS Tech Treasury and Trade Services | H6: TTS - Man, Eric | I6: TTS - Man, Eric | J6: NAS Storage for BMC Servers_ASPAC | K6: Storage Request - NAS | L6: Open | M6: CTI Approval | O6: 41253.127 | P6: 3 | Q6: 90.977454 | R6: 145.18448 | S6: ASPAC
