Workbook

Sheet Thin summary
A1: Site | B1: Array | C1: Tier | D1: Enabled Pool Devices | G1: ='VMAX table'!A6 -> Thin Devices | O1: Available to allocate with nett < 225% | Q1: Keep
D2: Total GB | E2: ='VMAX table'!B4 -> Used GB | F2: ='VMAX table'!B5 -> % full | G2: ='VMAX table'!B6 -> # Devices | H2: ='VMAX table'!B7 -> Virtual Capacity GB | I2: ='VMAX table'!B8 -> capacity threshold | J2: ='VMAX table'!B9 -> # Allocated | K2: ='VMAX table'!B10 -> GB Allocated | L2: ='VMAX table'!B11 -> subscription | M2: LUNs Available to allocate | N2: Nett Subscription | Q2: Lookup | S2: Array | T2: Physical | U2: Total Virtual | V2: Allocated | W2: Used | X2: Adjustment | Y2: Adjusted Allocated | Z2: Utilisation
A3: ='VMAX table'!C$1 -> CGC | B3: ="VMAX " & INDIRECT("'VMAX table'!" & $Q3 & B$38) -> VMAX 0623 | C3: 4 | D3: =INDIRECT("'VMAX table'!" & $Q3 & D$38) -> 143393 | E3: =INDIRECT("'VMAX table'!" & $Q3 & E$38) -> 41671.5 | F3: =INDIRECT("'VMAX table'!" & $Q3 & F$38) -> 0.29061042 | G3: =INDIRECT("'VMAX table'!" & $Q3 & G$38) -> 5870 | H3: =INDIRECT("'VMAX table'!" & $Q3 & H$38) -> 197918.79 | I3: =INDIRECT("'VMAX table'!" & $Q3 & I$38) -> 164000 | J3: =INDIRECT("'VMAX table'!" & $Q3 & J$38) -> 5339 | K3: =INDIRECT("'VMAX table'!" & $Q3 & K$38) -> 180015.06 | L3: =INDIRECT("'VMAX table'!" & $Q3 & L$38) -> 1.2553964 | M3: =(G3-J3) -> 531 | N3: =(K3-E3)/(D3-E3) -> 1.3600228 | O3: =(2.25*(D3-E3)+E3)-K3 -> 90529.812 | Q3: =CHAR(64+ROW()) -> C | S3: =B3 -> VMAX 0623 | T3: =D3/1024 -> 140.03223 | U3: =(K3+MIN(M3,O3))/1024 -> 176.31451 | V3: =K3/1024 -> 175.79596 | W3: =E3/1024 -> 40.694824 | X3: =T3/U3 -> 0.79421837 | Y3: =V3*X3 -> 139.62038 | Z3: =W3/Y3 -> 0.29146765
A4: ='VMAX table'!D$1 -> CGC | B4: ="VMAX " & INDIRECT("'VMAX table'!" & $Q4 & B$38) -> VMAX 0745 | C4: 3 | D4: =INDIRECT("'VMAX table'!" & $Q4 & D$38) -> 150516.7 | E4: =INDIRECT("'VMAX table'!" & $Q4 & E$38) -> 78563.7 | F4: =INDIRECT("'VMAX table'!" & $Q4 & F$38) -> 0.52196002 | G4: =INDIRECT("'VMAX table'!" & $Q4 & G$38) -> 3333 | H4: =INDIRECT("'VMAX table'!" & $Q4 & H$38) -> 112378.76 | I4: =INDIRECT("'VMAX table'!" & $Q4 & I$38) -> 109880 | J4: =INDIRECT("'VMAX table'!" & $Q4 & J$38) -> 2687 | K4: =INDIRECT("'VMAX table'!" & $Q4 & K$38) -> 90597.579 | L4: =INDIRECT("'VMAX table'!" & $Q4 & L$38) -> 0.60191048 | M4: =(G4-J4) -> 646 | N4: =(K4-E4)/(D4-E4) -> 0.16724638 | O4: =(2.25*(D4-E4)+E4)-K4 -> 149860.37 | Q4: =CHAR(64+ROW()) -> D | S4: =B4 -> VMAX 0745 | T4: =D4/1024 -> 146.98896 | U4: =(K4+MIN(M4,O4))/1024 -> 89.105058 | V4: =K4/1024 -> 88.474198 | W4: =E4/1024 -> 76.722363 | X4: =T4/U4 -> 1.6496142 | Y4: =V4*X4 -> 145.94829 | Z4: =W4/Y4 -> 0.52568182
A5: ='VMAX table'!E$1 -> RDC | B5: ="VMAX " & INDIRECT("'VMAX table'!" & $Q5 & B$38) -> VMAX 0552 | C5: 3 | D5: =INDIRECT("'VMAX table'!" & $Q5 & D$38) -> 150516.7 | E5: =INDIRECT("'VMAX table'!" & $Q5 & E$38) -> 80046.6 | F5: =INDIRECT("'VMAX table'!" & $Q5 & F$38) -> 0.53181208 | G5: =INDIRECT("'VMAX table'!" & $Q5 & G$38) -> 3330 | H5: =INDIRECT("'VMAX table'!" & $Q5 & H$38) -> 112277.61 | I5: =INDIRECT("'VMAX table'!" & $Q5 & I$38) -> 109880 | J5: =INDIRECT("'VMAX table'!" & $Q5 & J$38) -> 2718 | K5: =INDIRECT("'VMAX table'!" & $Q5 & K$38) -> 91642.806 | L5: =INDIRECT("'VMAX table'!" & $Q5 & L$38) -> 0.60885474 | M5: =(G5-J5) -> 612 | N5: =(K5-E5)/(D5-E5) -> 0.16455498 | O5: =(2.25*(D5-E5)+E5)-K5 -> 146961.52 | Q5: =CHAR(64+ROW()) -> E | S5: =B5 -> VMAX 0552 | T5: =D5/1024 -> 146.98896 | U5: =(K5+MIN(M5,O5))/1024 -> 90.092584 | V5: =K5/1024 -> 89.494928 | W5: =E5/1024 -> 78.170508 | X5: =T5/U5 -> 1.6315323 | Y5: =V5*X5 -> 146.01387 | Z5: =W5/Y5 -> 0.53536358
A6: ='VMAX table'!F$1 -> RDC | B6: ="VMAX " & INDIRECT("'VMAX table'!" & $Q6 & B$38) -> VMAX 0678 | C6: 4 | D6: =INDIRECT("'VMAX table'!" & $Q6 & D$38) -> 181997.8 | E6: =INDIRECT("'VMAX table'!" & $Q6 & E$38) -> 161154.2 | F6: =INDIRECT("'VMAX table'!" & $Q6 & F$38) -> 0.88547334 | G6: =INDIRECT("'VMAX table'!" & $Q6 & G$38) -> 9457 | H6: =INDIRECT("'VMAX table'!" & $Q6 & H$38) -> 318861.67 | I6: =INDIRECT("'VMAX table'!" & $Q6 & I$38) -> 328000 | J6: =INDIRECT("'VMAX table'!" & $Q6 & J$38) -> 8246 | K6: =INDIRECT("'VMAX table'!" & $Q6 & K$38) -> 278030.38 | L6: =INDIRECT("'VMAX table'!" & $Q6 & L$38) -> 1.5276579 | M6: =(G6-J6) -> 1211 | N6: =(K6-E6)/(D6-E6) -> 5.6072935 | O6: =(2.25*(D6-E6)+E6)-K6 -> -69978.082 | Q6: =CHAR(64+ROW()) -> F | S6: =B6 -> VMAX 0678 | T6: =D6/1024 -> 177.73223 | U6: =(K6+MIN(M6,O6))/1024 -> 203.17607 | V6: =K6/1024 -> 271.51404 | W6: =E6/1024 -> 157.37715 | X6: =T6/U6 -> 0.87476947 | Y6: =V6*X6 -> 237.5122 | Z6: =W6/Y6 -> 0.6626066
A7: ='VMAX table'!G$1 -> RDC | B7: ="VMAX " & INDIRECT("'VMAX table'!" & $Q7 & B$38) -> VMAX 3286 | C7: 3 | D7: =INDIRECT("'VMAX table'!" & $Q7 & D$38) -> 165452.5 | E7: =INDIRECT("'VMAX table'!" & $Q7 & E$38) -> 103958.2 | F7: =INDIRECT("'VMAX table'!" & $Q7 & F$38) -> 0.62832656 | G7: =INDIRECT("'VMAX table'!" & $Q7 & G$38) -> 8428 | H7: =INDIRECT("'VMAX table'!" & $Q7 & H$38) -> 284166.88 | I7: =INDIRECT("'VMAX table'!" & $Q7 & I$38) -> 330905 | J7: =INDIRECT("'VMAX table'!" & $Q7 & J$38) -> 3878 | K7: =INDIRECT("'VMAX table'!" & $Q7 & K$38) -> 261509.05 | L7: =INDIRECT("'VMAX table'!" & $Q7 & L$38) -> 1.5805688 | M7: =(G7-J7) -> 4550 | N7: =(K7-E7)/(D7-E7) -> 2.5620399 | O7: =(2.25*(D7-E7)+E7)-K7 -> -19188.677 | Q7: =CHAR(64+ROW()) -> G | S7: =B7 -> VMAX 3286 | T7: =D7/1024 -> 161.57471 | U7: =(K7+MIN(M7,O7))/1024 -> 236.64099 | V7: =K7/1024 -> 255.37993 | W7: =E7/1024 -> 101.52168 | X7: =T7/U7 -> 0.6827841 | Y7: =V7*X7 -> 174.36936 | Z7: =W7/Y7 -> 0.58222202
A8: ='VMAX table'!H$1 -> RDC | B8: ="VMAX " & INDIRECT("'VMAX table'!" & $Q8 & B$38) -> VMAX 3073 | C8: 4 | D8: =INDIRECT("'VMAX table'!" & $Q8 & D$38) -> 132132.9 | E8: =INDIRECT("'VMAX table'!" & $Q8 & E$38) -> 55020.1 | F8: =INDIRECT("'VMAX table'!" & $Q8 & F$38) -> 0.4163997 | G8: =INDIRECT("'VMAX table'!" & $Q8 & G$38) -> 15703 | H8: =INDIRECT("'VMAX table'!" & $Q8 & H$38) -> 529458.05 | I8: =INDIRECT("'VMAX table'!" & $Q8 & I$38) -> 264264 | J8: =INDIRECT("'VMAX table'!" & $Q8 & J$38) -> 13627 | K8: =INDIRECT("'VMAX table'!" & $Q8 & K$38) -> 459461.56 | L8: =INDIRECT("'VMAX table'!" & $Q8 & L$38) -> 3.4772684 | M8: =(G8-J8) -> 2076 | N8: =(K8-E8)/(D8-E8) -> 5.2448032 | O8: =(2.25*(D8-E8)+E8)-K8 -> -230937.66 | Q8: =CHAR(64+ROW()) -> H | S8: =B8 -> VMAX 3073 | T8: =D8/1024 -> 129.03604 | U8: =(K8+MIN(M8,O8))/1024 -> 223.16787 | V8: =K8/1024 -> 448.69293 | W8: =E8/1024 -> 53.730566 | X8: =T8/U8 -> 0.57820167 | Y8: =V8*X8 -> 259.435 | Z8: =W8/Y8 -> 0.20710608
A9: ='VMAX table'!I$1 -> RDC | B9: ="VMAX " & INDIRECT("'VMAX table'!" & $Q9 & B$38) -> VMAX 2230 | C9: 3 | D9: =INDIRECT("'VMAX table'!" & $Q9 & D$38) -> 170968.6 | E9: =INDIRECT("'VMAX table'!" & $Q9 & E$38) -> 87561.9 | F9: =INDIRECT("'VMAX table'!" & $Q9 & F$38) -> 0.51215194 | G9: =INDIRECT("'VMAX table'!" & $Q9 & G$38) -> 7403 | H9: =INDIRECT("'VMAX table'!" & $Q9 & H$38) -> 249606.95 | I9: =INDIRECT("'VMAX table'!" & $Q9 & I$38) -> 242663.6 | J9: =INDIRECT("'VMAX table'!" & $Q9 & J$38) -> 6154 | K9: =INDIRECT("'VMAX table'!" & $Q9 & K$38) -> 140060.42 | L9: =INDIRECT("'VMAX table'!" & $Q9 & L$38) -> 0.8192172 | M9: =(G9-J9) -> 1249 | N9: =(K9-E9)/(D9-E9) -> 0.62942807 | O9: =(2.25*(D9-E9)+E9)-K9 -> 135166.56 | Q9: =CHAR(64+ROW()) -> I | S9: =B9 -> VMAX 2230 | T9: =D9/1024 -> 166.96152 | U9: =(K9+MIN(M9,O9))/1024 -> 137.99748 | V9: =K9/1024 -> 136.77775 | W9: =E9/1024 -> 85.509668 | X9: =T9/U9 -> 1.2098882 | Y9: =V9*X9 -> 165.48579 | Z9: =W9/Y9 -> 0.51671909
A10: ='VMAX table'!J$1 -> RDC | B10: ="VMAX " & INDIRECT("'VMAX table'!" & $Q10 & B$38) -> VMAX 3696 | C10: 4 | D10: =INDIRECT("'VMAX table'!" & $Q10 & D$38) -> 165453.5 | E10: =INDIRECT("'VMAX table'!" & $Q10 & E$38) -> 16517.9 | F10: =INDIRECT("'VMAX table'!" & $Q10 & F$38) -> 0.099834092 | G10: =INDIRECT("'VMAX table'!" & $Q10 & G$38) -> 9599 | H10: =INDIRECT("'VMAX table'!" & $Q10 & H$38) -> 323649.48 | I10: =INDIRECT("'VMAX table'!" & $Q10 & I$38) -> 328000 | J10: =INDIRECT("'VMAX table'!" & $Q10 & J$38) -> 427 | K10: =INDIRECT("'VMAX table'!" & $Q10 & K$38) -> 14397.159 | L10: =INDIRECT("'VMAX table'!" & $Q10 & L$38) -> 0.087016346 | M10: =(G10-J10) -> 9172 | N10: =(K10-E10)/(D10-E10) -> -0.014239316 | O10: =(2.25*(D10-E10)+E10)-K10 -> 337225.84 | Q10: =CHAR(64+ROW()) -> J | S10: =B10 -> VMAX 3696 | T10: =D10/1024 -> 161.57568 | U10: =(K10+MIN(M10,O10))/1024 -> 23.016757 | V10: =K10/1024 -> 14.059726 | W10: =E10/1024 -> 16.130762 | X10: =T10/U10 -> 7.0199153 | Y10: =V10*X10 -> 98.698083 | Z10: =W10/Y10 -> 0.16343541
A11: ='VMAX table'!K$1 -> RDC | B11: ="VMAX " & INDIRECT("'VMAX table'!" & $Q11 & B$38) -> VMAX 4330 | C11: 4 | D11: =INDIRECT("'VMAX table'!" & $Q11 & D$38) -> 92411.6 | E11: =INDIRECT("'VMAX table'!" & $Q11 & E$38) -> 2.7 | F11: =INDIRECT("'VMAX table'!" & $Q11 & F$38) -> 2.9217111e-05 | G11: =INDIRECT("'VMAX table'!" & $Q11 & G$38) -> 3593 | H11: =INDIRECT("'VMAX table'!" & $Q11 & H$38) -> 121145.18 | I11: =INDIRECT("'VMAX table'!" & $Q11 & I$38) -> 328000 | J11: =INDIRECT("'VMAX table'!" & $Q11 & J$38) -> 89 | K11: =INDIRECT("'VMAX table'!" & $Q11 & K$38) -> 3000.813 | L11: =INDIRECT("'VMAX table'!" & $Q11 & L$38) -> 0.032472255 | M11: =(G11-J11) -> 3504 | N11: =(K11-E11)/(D11-E11) -> 0.032443985 | O11: =(2.25*(D11-E11)+E11)-K11 -> 204921.91 | Q11: =CHAR(64+ROW()) -> K | S11: =B11 -> VMAX 4330 | T11: =D11/1024 -> 90.245703 | U11: =(K11+MIN(M11,O11))/1024 -> 6.3523564 | V11: =K11/1024 -> 2.9304814 | W11: =E11/1024 -> 0.0026367188 | X11: =T11/U11 -> 14.20665 | Y11: =V11*X11 -> 41.632324 | Z11: =W11/Y11 -> 6.3333452e-05
A12: ='VMAX table'!L$1 -> RDC | B12: ="VMAX " & INDIRECT("'VMAX table'!" & $Q12 & B$38) -> VMAX 0347 | C12: 3 | D12: =INDIRECT("'VMAX table'!" & $Q12 & D$38) -> 132070 | E12: =INDIRECT("'VMAX table'!" & $Q12 & E$38) -> 4.7 | F12: =INDIRECT("'VMAX table'!" & $Q12 & F$38) -> 3.5587189e-05 | G12: =INDIRECT("'VMAX table'!" & $Q12 & G$38) -> 6399 | H12: =INDIRECT("'VMAX table'!" & $Q12 & H$38) -> 215755.08 | I12: =INDIRECT("'VMAX table'!" & $Q12 & I$38) -> 328000 | J12: =INDIRECT("'VMAX table'!" & $Q12 & J$38) -> 87 | K12: =INDIRECT("'VMAX table'!" & $Q12 & K$38) -> 2933.379 | L12: =INDIRECT("'VMAX table'!" & $Q12 & L$38) -> 0.02221079 | M12: =(G12-J12) -> 6312 | N12: =(K12-E12)/(D12-E12) -> 0.022175992 | O12: =(2.25*(D12-E12)+E12)-K12 -> 294218.25 | Q12: =CHAR(64+ROW()) -> L | S12: =B12 -> VMAX 0347 | T12: =D12/1024 -> 128.97461 | U12: =(K12+MIN(M12,O12))/1024 -> 9.0286904 | V12: =K12/1024 -> 2.8646279 | W12: =E12/1024 -> 0.0045898438 | X12: =T12/U12 -> 14.284974 | Y12: =V12*X12 -> 40.921136 | Z12: =W12/Y12 -> 0.00011216316
A13: ='VMAX table'!M$1 -> FDC | B13: ="VMAX " & INDIRECT("'VMAX table'!" & $Q13 & B$38) -> VMAX 0879 | C13: 3 | D13: =INDIRECT("'VMAX table'!" & $Q13 & D$38) -> 193029.1 | E13: =INDIRECT("'VMAX table'!" & $Q13 & E$38) -> 161405.8 | F13: =INDIRECT("'VMAX table'!" & $Q13 & F$38) -> 0.83617341 | G13: =INDIRECT("'VMAX table'!" & $Q13 & G$38) -> 9289 | H13: =INDIRECT("'VMAX table'!" & $Q13 & H$38) -> 313197.21 | I13: =INDIRECT("'VMAX table'!" & $Q13 & I$38) -> 328000 | J13: =INDIRECT("'VMAX table'!" & $Q13 & J$38) -> 8380 | K13: =INDIRECT("'VMAX table'!" & $Q13 & K$38) -> 282548.46 | L13: =INDIRECT("'VMAX table'!" & $Q13 & L$38) -> 1.463761 | M13: =(G13-J13) -> 909 | N13: =(K13-E13)/(D13-E13) -> 3.8308039 | O13: =(2.25*(D13-E13)+E13)-K13 -> -49990.235 | Q13: =CHAR(64+ROW()) -> M | S13: =B13 -> VMAX 0879 | T13: =D13/1024 -> 188.50498 | U13: =(K13+MIN(M13,O13))/1024 -> 227.10764 | V13: =K13/1024 -> 275.92623 | W13: =E13/1024 -> 157.62285 | X13: =T13/U13 -> 0.83002482 | Y13: =V13*X13 -> 229.02562 | Z13: =W13/Y13 -> 0.68823239
A14: ='VMAX table'!N$1 -> FDC | B14: ="VMAX " & INDIRECT("'VMAX table'!" & $Q14 & B$38) -> VMAX 3004 | C14: 3 | D14: =INDIRECT("'VMAX table'!" & $Q14 & D$38) -> 132132.9 | E14: =INDIRECT("'VMAX table'!" & $Q14 & E$38) -> 56132.5 | F14: =INDIRECT("'VMAX table'!" & $Q14 & F$38) -> 0.4248185 | G14: =INDIRECT("'VMAX table'!" & $Q14 & G$38) -> 12295 | H14: =INDIRECT("'VMAX table'!" & $Q14 & H$38) -> 414550.51 | I14: =INDIRECT("'VMAX table'!" & $Q14 & I$38) -> 264264.4 | J14: =INDIRECT("'VMAX table'!" & $Q14 & J$38) -> 11131 | K14: =INDIRECT("'VMAX table'!" & $Q14 & K$38) -> 375303.93 | L14: =INDIRECT("'VMAX table'!" & $Q14 & L$38) -> 2.8403519 | M14: =(G14-J14) -> 1164 | N14: =(K14-E14)/(D14-E14) -> 4.1996019 | O14: =(2.25*(D14-E14)+E14)-K14 -> -148170.53 | Q14: =CHAR(64+ROW()) -> N | S14: =B14 -> VMAX 3004 | T14: =D14/1024 -> 129.03604 | U14: =(K14+MIN(M14,O14))/1024 -> 221.80996 | V14: =K14/1024 -> 366.50774 | W14: =E14/1024 -> 54.816895 | X14: =T14/U14 -> 0.58174139 | Y14: =V14*X14 -> 213.21272 | Z14: =W14/Y14 -> 0.25709955
A15: ='VMAX table'!O$1 -> FDC | B15: ="VMAX " & INDIRECT("'VMAX table'!" & $Q15 & B$38) -> VMAX 2804 | C15: 3 | D15: =INDIRECT("'VMAX table'!" & $Q15 & D$38) -> 82726.6 | E15: =INDIRECT("'VMAX table'!" & $Q15 & E$38) -> 53380.2 | F15: =INDIRECT("'VMAX table'!" & $Q15 & F$38) -> 0.64526041 | G15: =INDIRECT("'VMAX table'!" & $Q15 & G$38) -> 4354 | H15: =INDIRECT("'VMAX table'!" & $Q15 & H$38) -> 146803.82 | I15: =INDIRECT("'VMAX table'!" & $Q15 & I$38) -> 328000 | J15: =INDIRECT("'VMAX table'!" & $Q15 & J$38) -> 4025 | K15: =INDIRECT("'VMAX table'!" & $Q15 & K$38) -> 135710.92 | L15: =INDIRECT("'VMAX table'!" & $Q15 & L$38) -> 1.6404751 | M15: =(G15-J15) -> 329 | N15: =(K15-E15)/(D15-E15) -> 2.8054795 | O15: =(2.25*(D15-E15)+E15)-K15 -> -16301.325 | Q15: =CHAR(64+ROW()) -> O | S15: =B15 -> VMAX 2804 | T15: =D15/1024 -> 80.787695 | U15: =(K15+MIN(M15,O15))/1024 -> 116.61094 | V15: =K15/1024 -> 132.5302 | W15: =E15/1024 -> 52.129102 | X15: =T15/U15 -> 0.69279689 | Y15: =V15*X15 -> 91.816511 | Z15: =W15/Y15 -> 0.56775302
A16: ='VMAX table'!P$1 -> FDC | B16: ="VMAX " & INDIRECT("'VMAX table'!" & $Q16 & B$38) -> VMAX 2231 | C16: 3 | D16: =INDIRECT("'VMAX table'!" & $Q16 & D$38) -> 275755 | E16: =INDIRECT("'VMAX table'!" & $Q16 & E$38) -> 160058.2 | F16: =INDIRECT("'VMAX table'!" & $Q16 & F$38) -> 0.58043626 | G16: =INDIRECT("'VMAX table'!" & $Q16 & G$38) -> 10027 | H16: =INDIRECT("'VMAX table'!" & $Q16 & H$38) -> 338080.36 | I16: =INDIRECT("'VMAX table'!" & $Q16 & I$38) -> 352965.4 | J16: =INDIRECT("'VMAX table'!" & $Q16 & J$38) -> 7440 | K16: =INDIRECT("'VMAX table'!" & $Q16 & K$38) -> 250854.48 | L16: =INDIRECT("'VMAX table'!" & $Q16 & L$38) -> 0.90970057 | M16: =(G16-J16) -> 2587 | N16: =(K16-E16)/(D16-E16) -> 0.7847778 | O16: =(2.25*(D16-E16)+E16)-K16 -> 169521.52 | Q16: =CHAR(64+ROW()) -> P | S16: =B16 -> VMAX 2231 | T16: =D16/1024 -> 269.29199 | U16: =(K16+MIN(M16,O16))/1024 -> 247.50145 | V16: =K16/1024 -> 244.97508 | W16: =E16/1024 -> 156.30684 | X16: =T16/U16 -> 1.0880421 | Y16: =V16*X16 -> 266.5432 | Z16: =W16/Y16 -> 0.58642215
A17: ='VMAX table'!Q$1 -> FDC | B17: ="VMAX " & INDIRECT("'VMAX table'!" & $Q17 & B$38) -> VMAX 3875 | C17: 3 | D17: =INDIRECT("'VMAX table'!" & $Q17 & D$38) -> 82726.6 | E17: =INDIRECT("'VMAX table'!" & $Q17 & E$38) -> 8492.9 | F17: =INDIRECT("'VMAX table'!" & $Q17 & F$38) -> 0.10266226 | G17: =INDIRECT("'VMAX table'!" & $Q17 & G$38) -> 4799 | H17: =INDIRECT("'VMAX table'!" & $Q17 & H$38) -> 161807.88 | I17: =INDIRECT("'VMAX table'!" & $Q17 & I$38) -> 328000 | J17: =INDIRECT("'VMAX table'!" & $Q17 & J$38) -> 869 | K17: =INDIRECT("'VMAX table'!" & $Q17 & K$38) -> 29300.073 | L17: =INDIRECT("'VMAX table'!" & $Q17 & L$38) -> 0.35417959 | M17: =(G17-J17) -> 3930 | N17: =(K17-E17)/(D17-E17) -> 0.28029282 | O17: =(2.25*(D17-E17)+E17)-K17 -> 146218.65 | Q17: =CHAR(64+ROW()) -> Q | S17: =B17 -> VMAX 3875 | T17: =D17/1024 -> 80.787695 | U17: =(K17+MIN(M17,O17))/1024 -> 32.451243 | V17: =K17/1024 -> 28.613353 | W17: =E17/1024 -> 8.2938477 | X17: =T17/U17 -> 2.48951 | Y17: =V17*X17 -> 71.233228 | Z17: =W17/Y17 -> 0.11643229
A18: ='VMAX table'!R$1 -> FDC | B18: ="VMAX " & INDIRECT("'VMAX table'!" & $Q18 & B$38) -> VMAX 4652 | C18: 3 | D18: =INDIRECT("'VMAX table'!" & $Q18 & D$38) -> 188981.6 | E18: =INDIRECT("'VMAX table'!" & $Q18 & E$38) -> 5.4 | F18: =INDIRECT("'VMAX table'!" & $Q18 & F$38) -> 2.857421e-05 | G18: =INDIRECT("'VMAX table'!" & $Q18 & G$38) -> 7192 | H18: =INDIRECT("'VMAX table'!" & $Q18 & H$38) -> 242492.66 | I18: =INDIRECT("'VMAX table'!" & $Q18 & I$38) -> 328000 | J18: =INDIRECT("'VMAX table'!" & $Q18 & J$38) -> 160 | K18: =INDIRECT("'VMAX table'!" & $Q18 & K$38) -> 5394.72 | L18: =INDIRECT("'VMAX table'!" & $Q18 & L$38) -> 0.028546271 | M18: =(G18-J18) -> 7032 | N18: =(K18-E18)/(D18-E18) -> 0.028518512 | O18: =(2.25*(D18-E18)+E18)-K18 -> 419807.13 | Q18: =CHAR(64+ROW()) -> R | S18: =B18 -> VMAX 4652 | T18: =D18/1024 -> 184.55234 | U18: =(K18+MIN(M18,O18))/1024 -> 12.135469 | V18: =K18/1024 -> 5.2682812 | W18: =E18/1024 -> 0.0052734375 | X18: =T18/U18 -> 15.207682 | Y18: =V18*X18 -> 80.118343 | Z18: =W18/Y18 -> 6.5820601e-05
A19: ='VMAX table'!S$1 -> FDC | B19: ="VMAX " & INDIRECT("'VMAX table'!" & $Q19 & B$38) -> VMAX 0349 | C19: 3 | D19: =INDIRECT("'VMAX table'!" & $Q19 & D$38) -> 132070 | E19: =INDIRECT("'VMAX table'!" & $Q19 & E$38) -> 4.7 | F19: =INDIRECT("'VMAX table'!" & $Q19 & F$38) -> 3.5587189e-05 | G19: =INDIRECT("'VMAX table'!" & $Q19 & G$38) -> 6399 | H19: =INDIRECT("'VMAX table'!" & $Q19 & H$38) -> 215755.08 | I19: =INDIRECT("'VMAX table'!" & $Q19 & I$38) -> 328000 | J19: =INDIRECT("'VMAX table'!" & $Q19 & J$38) -> 21 | K19: =INDIRECT("'VMAX table'!" & $Q19 & K$38) -> 708.057 | L19: =INDIRECT("'VMAX table'!" & $Q19 & L$38) -> 0.0053612251 | M19: =(G19-J19) -> 6378 | N19: =(K19-E19)/(D19-E19) -> 0.0053258275 | O19: =(2.25*(D19-E19)+E19)-K19 -> 296443.57 | Q19: =CHAR(64+ROW()) -> S | S19: =B19 -> VMAX 0349 | T19: =D19/1024 -> 128.97461 | U19: =(K19+MIN(M19,O19))/1024 -> 6.9199775 | V19: =K19/1024 -> 0.69146191 | W19: =E19/1024 -> 0.0045898438 | X19: =T19/U19 -> 18.63801 | Y19: =V19*X19 -> 12.887474 | Z19: =W19/Y19 -> 0.00035614766
A20: ZDC | B20: ="VMAX " & INDIRECT("'VMAX table'!" & $Q20 & B$38) -> VMAX 2262 | C20: 3 | D20: =INDIRECT("'VMAX table'!" & $Q20 & D$38) -> 55151 | E20: =INDIRECT("'VMAX table'!" & $Q20 & E$38) -> 8183.4 | F20: =INDIRECT("'VMAX table'!" & $Q20 & F$38) -> 0.14838172 | G20: =INDIRECT("'VMAX table'!" & $Q20 & G$38) -> 2000 | H20: =INDIRECT("'VMAX table'!" & $Q20 & H$38) -> 67434 | I20: =INDIRECT("'VMAX table'!" & $Q20 & I$38) -> 110302 | J20: =INDIRECT("'VMAX table'!" & $Q20 & J$38) -> 976 | K20: =INDIRECT("'VMAX table'!" & $Q20 & K$38) -> 32907.792 | L20: =INDIRECT("'VMAX table'!" & $Q20 & L$38) -> 0.59668532 | M20: =(G20-J20) -> 1024 | N20: =(K20-E20)/(D20-E20) -> 0.52641378 | O20: =(2.25*(D20-E20)+E20)-K20 -> 80952.708 | Q20: =CHAR(64+ROW()) -> T | S20: =B20 -> VMAX 2262 | T20: =D20/1024 -> 53.858398 | U20: =(K20+MIN(M20,O20))/1024 -> 33.136516 | V20: =K20/1024 -> 32.136516 | W20: =E20/1024 -> 7.9916016 | X20: =T20/U20 -> 1.6253489 | Y20: =V20*X20 -> 52.23305 | Z20: =W20/Y20 -> 0.15299895
A21: ZDC | B21: ="VMAX " & INDIRECT("'VMAX table'!" & $Q21 & B$38) -> VMAX 0377 | C21: 3 | D21: =INDIRECT("'VMAX table'!" & $Q21 & D$38) -> 33090.5 | E21: =INDIRECT("'VMAX table'!" & $Q21 & E$38) -> 4698.2 | F21: =INDIRECT("'VMAX table'!" & $Q21 & F$38) -> 0.14198033 | G21: =INDIRECT("'VMAX table'!" & $Q21 & G$38) -> 1250 | H21: =INDIRECT("'VMAX table'!" & $Q21 & H$38) -> 42146.25 | I21: =INDIRECT("'VMAX table'!" & $Q21 & I$38) -> 66181 | J21: =INDIRECT("'VMAX table'!" & $Q21 & J$38) -> 498 | K21: =INDIRECT("'VMAX table'!" & $Q21 & K$38) -> 16791.066 | L21: =INDIRECT("'VMAX table'!" & $Q21 & L$38) -> 0.5074286 | M21: =(G21-J21) -> 752 | N21: =(K21-E21)/(D21-E21) -> 0.42592062 | O21: =(2.25*(D21-E21)+E21)-K21 -> 51789.809 | Q21: =CHAR(64+ROW()) -> U | S21: =B21 -> VMAX 0377 | T21: =D21/1024 -> 32.314941 | U21: =(K21+MIN(M21,O21))/1024 -> 17.1319 | V21: =K21/1024 -> 16.397525 | W21: =E21/1024 -> 4.5880859 | X21: =T21/U21 -> 1.8862438 | Y21: =V21*X21 -> 30.929731 | Z21: =W21/Y21 -> 0.14833902
A23: ='HDS table'!C$1 -> RDC | B23: =LOWER(INDIRECT("'HDS table'!" & $Q3 & B$38)) -> rdchds02 | C23: =RIGHT('HDS table'!C$3) -> 3 | D23: ='HDS table'!C$4 -> 12184.091 | E23: ='HDS table'!C$5 -> 5736.5273 | F23: ='HDS table'!C$6 -> 0.47082111 | G23: ='HDS table'!C$7 -> 681 | H23: ='HDS table'!C$8 -> 22474.102 | I23: ='HDS table'!H$9 -> 46507 | J23: ='HDS table'!C$10 -> 409.15301 | K23: ='HDS table'!C$11 -> 13043.73 | L23: ='HDS table'!C$12 -> 1.0705542 | M23: =(G23-J23) -> 271.84699 | N23: =(K23-E23)/(D23-E23) -> 1.1333277 | O23: =(2.25*(D23-E23)+E23)-K23 -> 7199.8158 | Q23: =CHAR(46+ROW()) -> E | S23: =B23 -> rdchds02 | T23: =D23/1024 -> 11.898527 | U23: =(K23+MIN(M23,O23))/1024 -> 13.003494 | V23: =K23/1024 -> 12.738018 | W23: =E23/1024 -> 5.6020775 | X23: =T23/U23 -> 0.91502538 | Y23: =V23*X23 -> 11.65561 | Z23: =W23/Y23 -> 0.48063358
A24: ='HDS table'!D$1 -> RDC | C24: 4 | D24: ='HDS table'!D$4+'HDS table'!E$4 -> 82203.452 | E24: ='HDS table'!D$5+'HDS table'!E$5 -> 39694.348 | F24: =E24/D24 -> 0.48287933 | G24: ='HDS table'!D$7+'HDS table'!E$7 -> 3068 | H24: ='HDS table'!D$8+'HDS table'!E$8 -> 133119.08 | I24: ='HDS table'!D$9+'HDS table'!E$9 -> 97916.185 | J24: ='HDS table'!D$10+'HDS table'!E$10 -> 2210.7724 | K24: ='HDS table'!D$11+'HDS table'!E$11 -> 70061.203 | L24: =K24/D24 -> 0.85229028 | M24: =(G24-J24) -> 857.22763 | N24: =(K24-E24)/(D24-E24) -> 0.71436122 | O24: =(2.25*(D24-E24)+E24)-K24 -> 65278.63 | T24: =D24/1024 -> 80.276809 | U24: =(K24+MIN(M24,O24))/1024 -> 69.25628 | V24: =K24/1024 -> 68.419144 | W24: =E24/1024 -> 38.764011 | X24: =T24/U24 -> 1.1591268 | Y24: =V24*X24 -> 79.306462 | Z24: =W24/Y24 -> 0.48878755
A25: ='HDS table'!F$1 -> FDC | B25: =LOWER(INDIRECT("'HDS table'!" & $Q6 & B$38)) -> fdchds02 | C25: =RIGHT('HDS table'!F$3) -> 3 | D25: ='HDS table'!F$4 -> 12184.091 | E25: ='HDS table'!F$5 -> 5190.6094 | F25: ='HDS table'!F$6 -> 0.42601531 | G25: ='HDS table'!F$7 -> 681 | H25: ='HDS table'!F$8 -> 22474.102 | I25: ='HDS table'!F$9 -> 24368.183 | J25: ='HDS table'!F$10 -> 398.37828 | K25: ='HDS table'!F$11 -> 12669.955 | L25: ='HDS table'!F$12 -> 1.0398769 | M25: =(G25-J25) -> 282.62172 | N25: =(K25-E25)/(D25-E25) -> 1.0694738 | O25: =(2.25*(D25-E25)+E25)-K25 -> 8255.9886 | Q25: =CHAR(47+ROW()) -> H | S25: =B25 -> fdchds02 | T25: =D25/1024 -> 11.898527 | U25: =(K25+MIN(M25,O25))/1024 -> 12.649001 | V25: =K25/1024 -> 12.373003 | W25: =E25/1024 -> 5.0689545 | X25: =T25/U25 -> 0.94066929 | Y25: =V25*X25 -> 11.638904 | Z25: =W25/Y25 -> 0.43551819
A26: ='HDS table'!G$1 -> FDC | C26: =RIGHT('HDS table'!G$3) -> 4 | D26: ='HDS table'!G$4 -> 82668.373 | E26: ='HDS table'!G$5 -> 72979.84 | F26: ='HDS table'!G$6 -> 0.88280242 | G26: ='HDS table'!G$7 -> 2660 | H26: ='HDS table'!G$8 -> 122050.81 | I26: ='HDS table'!G$9 -> 121652 | J26: ='HDS table'!G$10 -> 2351.1861 | K26: ='HDS table'!G$11 -> 111338.05 | L26: ='HDS table'!G$12 -> 1.3468035 | M26: =(G26-J26) -> 308.81389 | N26: =(K26-E26)/(D26-E26) -> 3.9591351 | O26: =(2.25*(D26-E26)+E26)-K26 -> -16559.012 | T26: =D26/1024 -> 80.730833 | U26: =(K26+MIN(M26,O26))/1024 -> 92.557656 | V26: =K26/1024 -> 108.72857 | W26: =E26/1024 -> 71.269375 | X26: =T26/U26 -> 0.8722221 | Y26: =V26*X26 -> 94.835458 | Z26: =W26/Y26 -> 0.75150557
A27: ='HDS table'!H$1 -> RDC | B27: =LOWER(INDIRECT("'HDS table'!" & $Q25 & B$38)) -> rdchds03 | C27: =RIGHT('HDS table'!H$3) -> 3 | D27: ='HDS table'!H$4 -> 31940.053 | E27: ='HDS table'!H$5 -> 6266.4902 | F27: ='HDS table'!H$6 -> 0.19619536 | G27: ='HDS table'!H$7 -> 1439 | H27: ='HDS table'!H$8 -> 48095.048 | I27: ='HDS table'!H$9 -> 46507 | J27: ='HDS table'!H$10 -> 375.17837 | K27: ='HDS table'!H$11 -> 11191.075 | L27: ='HDS table'!H$12 -> 0.35037748 | M27: =(G27-J27) -> 1063.8216 | N27: =(K27-E27)/(D27-E27) -> 0.19181542 | O27: =(2.25*(D27-E27)+E27)-K27 -> 52840.932 | Q27: =CHAR(47+ROW()) -> J | S27: =B27 -> rdchds03 | T27: =D27/1024 -> 31.191458 | U27: =(K27+MIN(M27,O27))/1024 -> 11.967673 | V27: =K27/1024 -> 10.928785 | W27: =E27/1024 -> 6.1196194 | X27: =T27/U27 -> 2.6063094 | Y27: =V27*X27 -> 28.483794 | Z27: =W27/Y27 -> 0.21484566
A28: ='HDS table'!I$1 -> RDC | C28: =RIGHT('HDS table'!I$3) -> 4 | D28: ='HDS table'!I$4 -> 15030.613 | E28: ='HDS table'!I$5 -> 8362.7578 | F28: ='HDS table'!I$6 -> 0.55638168 | G28: ='HDS table'!I$7 -> 901 | H28: ='HDS table'!I$8 -> 31255.912 | I28: ='HDS table'!I$9 -> 30141 | J28: ='HDS table'!I$10 -> 345.99605 | K28: ='HDS table'!I$11 -> 12002.825 | L28: ='HDS table'!I$12 -> 0.79855859 | M28: =(G28-J28) -> 555.00395 | N28: =(K28-E28)/(D28-E28) -> 0.54591278 | O28: =(2.25*(D28-E28)+E28)-K28 -> 11362.607 | T28: =D28/1024 -> 14.678333 | U28: =(K28+MIN(M28,O28))/1024 -> 12.263505 | V28: =K28/1024 -> 11.721509 | W28: =E28/1024 -> 8.1667557 | X28: =T28/U28 -> 1.1969117 | Y28: =V28*X28 -> 14.029612 | Z28: =W28/Y28 -> 0.58210845
A29: ='HDS table'!J$1 -> FDC | B29: =LOWER(INDIRECT("'HDS table'!" & Q$27 & B$38)) -> fdchds03 | C29: =RIGHT('HDS table'!J$3) -> 3 | D29: ='HDS table'!J$4 -> 31940.053 | E29: ='HDS table'!J$5 -> 6996.8555 | F29: ='HDS table'!J$6 -> 0.21906211 | G29: ='HDS table'!J$7 -> 1462 | H29: ='HDS table'!J$8 -> 47312.12 | I29: ='HDS table'!J$9 -> 46507 | J29: ='HDS table'!J$10 -> 443.27448 | K29: ='HDS table'!J$11 -> 11972.532 | L29: ='HDS table'!J$12 -> 0.37484383 | M29: =(G29-J29) -> 1018.7255 | N29: =(K29-E29)/(D29-E29) -> 0.19948029 | O29: =(2.25*(D29-E29)+E29)-K29 -> 51146.519 | Q29: =CHAR(47+ROW()) -> L | S29: =B29 -> fdchds03 | T29: =D29/1024 -> 31.191458 | U29: =(K29+MIN(M29,O29))/1024 -> 12.686775 | V29: =K29/1024 -> 11.691926 | W29: =E29/1024 -> 6.8328667 | X29: =T29/U29 -> 2.4585806 | Y29: =V29*X29 -> 28.745541 | Z29: =W29/Y29 -> 0.23770179
A30: ='HDS table'!K$1 -> FDC | C30: =RIGHT('HDS table'!K$3) -> 4 | D30: ='HDS table'!K$4+'HDS table'!L$4 -> 76966.205 | E30: ='HDS table'!K$5+'HDS table'!L$5 -> 26826.721 | F30: =E30/D30 -> 0.34855195 | G30: ='HDS table'!K$7+'HDS table'!L$7 -> 2984 | H30: ='HDS table'!K$8+'HDS table'!L$8 -> 131027.6 | I30: ='HDS table'!K$9+'HDS table'!L$9 -> 131402 | J30: ='HDS table'!K$10+'HDS table'!L$10 -> 1411.9919 | K30: ='HDS table'!K$11+'HDS table'!L$11 -> 42079.269 | L30: =K30/D30 -> 0.54672397 | M30: =(G30-J30) -> 1572.0081 | N30: =(K30-E30)/(D30-E30) -> 0.30420234 | O30: =(2.25*(D30-E30)+E30)-K30 -> 97561.291 | T30: =D30/1024 -> 75.16231 | U30: =(K30+MIN(M30,O30))/1024 -> 42.6282 | V30: =K30/1024 -> 41.093036 | W30: =E30/1024 -> 26.197969 | X30: =T30/U30 -> 1.7632063 | Y30: =V30*X30 -> 72.455499 | Z30: =W30/Y30 -> 0.36157324
A31: ='HDS table'!M$1 -> RDC | B31: =LOWER(INDIRECT("'HDS table'!" & $Q13 & B$39)) -> rdchds04 | C31: 4 | D31: ='HDS table'!M$4 -> 142777.56 | E31: ='HDS table'!M$5 -> 82514.578 | F31: ='HDS table'!M$6 -> 0.577924 | G31: ='HDS table'!M$7 -> 3896 | H31: ='HDS table'!M$8 -> 130640.08 | I31: ='HDS table'!M$9 -> 213518 | J31: ='HDS table'!M$10 -> 3310 | K31: ='HDS table'!M$11 -> 92943.746 | L31: ='HDS table'!M$12 -> 0.65096887 | M31: =(G31-J31) -> 586 | N31: =(K31-E31)/(D31-E31) -> 0.17306094 | O31: =(2.25*(D31-E31)+E31)-K31 -> 125162.54 | Q31: =CHAR(48+ROW()) -> O | S31: =B31 -> rdchds04 | T31: =D31/1024 -> 139.43121 | U31: =(K31+MIN(M31,O31))/1024 -> 91.337643 | V31: =K31/1024 -> 90.765377 | W31: =E31/1024 -> 80.580643 | X31: =T31/U31 -> 1.5265471 | Y31: =V31*X31 -> 138.55762 | Z31: =W31/Y31 -> 0.58156775
A32: ='HDS table'!N$1 -> FDC | B32: =LOWER(INDIRECT("'HDS table'!" & $Q14 & B$39)) -> deolh005n0365 | C32: 4 | D32: ='HDS table'!N$4 -> 202908.01 | E32: ='HDS table'!N$5 -> 59599.189 | F32: ='HDS table'!N$6 -> 0.29372517 | G32: ='HDS table'!N$7 -> 1630 | H32: ='HDS table'!M$8 -> 130640.08 | I32: ='HDS table'!M$9 -> 213518 | J32: ='HDS table'!N$10 -> 3611.8683 | K32: ='HDS table'!N$11 -> 133066.73 | L32: ='HDS table'!N$12 -> 0.65579831 | M32: =(G32-J32) -> -1981.8683 | N32: =(K32-E32)/(D32-E32) -> 0.51265191 | O32: =(2.25*(D32-E32)+E32)-K32 -> 248977.3 | Q32: =CHAR(48+ROW()) -> P | S32: =B32 -> deolh005n0365 | T32: =D32/1024 -> 198.15235 | U32: =(K32+MIN(M32,O32))/1024 -> 128.01256 | V32: =K32/1024 -> 129.94798 | W32: =E32/1024 -> 58.202333 | X32: =T32/U32 -> 1.5479134 | Y32: =V32*X32 -> 201.14821 | Z32: =W32/Y32 -> 0.28935049
A33: ='HDS table'!O$1 -> FDC | B33: =LOWER(INDIRECT("'HDS table'!" & $Q31 & B$39)) -> deolh004n7026 | C33: 4 | D33: ='HDS table'!O$4 -> 210428.2 | E33: ='HDS table'!O$5 -> 31743.879 | F33: ='HDS table'!O$6 -> 0.15085373 | G33: ='HDS table'!O$7 -> 1354 | H33: ='HDS table'!M$8 -> 130640.08 | I33: ='HDS table'!M$9 -> 213518 | J33: ='HDS table'!O$10 -> 926 | K33: ='HDS table'!O$11 -> 220412 | L33: ='HDS table'!O$12 -> 1.0474451 | M33: =(G33-J33) -> 428 | N33: =(K33-E33)/(D33-E33) -> 1.0558739 | O33: =(2.25*(D33-E33)+E33)-K33 -> 213371.61 | Q33: =CHAR(48+ROW()) -> Q | S33: =B33 -> deolh004n7026 | T33: =D33/1024 -> 205.49629 | U33: =(K33+MIN(M33,O33))/1024 -> 215.66406 | V33: =K33/1024 -> 215.24609 | W33: =E33/1024 -> 30.999882 | X33: =T33/U33 -> 0.95285368 | Y33: =V33*X33 -> 205.09803 | Z33: =W33/Y33 -> 0.15114666
A34: ='HDS table'!P$1 -> RDC | B34: =LOWER(INDIRECT("'HDS table'!" & $Q32 & B$39)) -> gbokh005n3518 | C34: 4 | D34: ='HDS table'!P$4 -> 172851.74 | E34: ='HDS table'!P$5 -> 9313.8281 | F34: ='HDS table'!P$6 -> 0.053883335 | G34: ='HDS table'!P$7 -> 681 | H34: ='HDS table'!M$8 -> 130640.08 | I34: ='HDS table'!M$9 -> 213518 | J34: ='HDS table'!P$10 -> 1926.0876 | K34: ='HDS table'!P$11 -> 65666.19 | L34: ='HDS table'!P$12 -> 0.37989893 | M34: =(G34-J34) -> -1245.0876 | N34: =(K34-E34)/(D34-E34) -> 0.34458287 | O34: =(2.25*(D34-E34)+E34)-K34 -> 311607.94 | Q34: =CHAR(48+ROW()) -> R | S34: =B34 -> gbokh005n3518 | T34: =D34/1024 -> 168.80053 | U34: =(K34+MIN(M34,O34))/1024 -> 62.911233 | V34: =K34/1024 -> 64.127139 | W34: =E34/1024 -> 9.0955353 | X34: =T34/U34 -> 2.683154 | Y34: =V34*X34 -> 172.06299 | Z34: =W34/Y34 -> 0.052861661
A35: ='HDS table'!Q$1 -> RDC | C35: 4 | D35: ='HDS table'!Q$4 -> 76590.892 | E35: ='HDS table'!Q$5 -> 32164.494 | F35: ='HDS table'!Q$6 -> 0.41995195 | G35: ='HDS table'!Q$7 -> 1076 | H35: ='HDS table'!M$8 -> 130640.08 | I35: ='HDS table'!M$9 -> 213518 | J35: ='HDS table'!Q$10 -> 1015.0407 | K35: ='HDS table'!Q$11 -> 40999.922 | L35: ='HDS table'!Q$12 -> 0.53531067 | M35: =(G35-J35) -> 60.959342 | N35: =(K35-E35)/(D35-E35) -> 0.19887788 | O35: =(2.25*(D35-E35)+E35)-K35 -> 91123.967 | Q35: =CHAR(48+ROW()) -> S | T35: =D35/1024 -> 74.795793 | U35: =(K35+MIN(M35,O35))/1024 -> 40.098517 | V35: =K35/1024 -> 40.038986 | W35: =E35/1024 -> 31.410639 | X35: =T35/U35 -> 1.8653007 | Y35: =V35*X35 -> 74.68475 | Z35: =W35/Y35 -> 0.42057634
A36: ='HDS table'!R$1 -> RDC | B36: =LOWER(INDIRECT("'HDS table'!" & $Q34 & B$39)) -> gbokh006n5362 | C36: 4 | D36: ='HDS table'!R$4 -> 172851.74 | E36: ='HDS table'!R$5 -> 51375.762 | F36: ='HDS table'!R$6 -> 0.29722444 | G36: ='HDS table'!R$7 -> 1992 | H36: ='HDS table'!M$8 -> 130640.08 | I36: ='HDS table'!M$9 -> 213518 | J36: ='HDS table'!R$10 -> 1456 | K36: ='HDS table'!R$11 -> 86150.501 | L36: ='HDS table'!R$12 -> 0.49840691 | M36: =(G36-J36) -> 536 | N36: =(K36-E36)/(D36-E36) -> 0.28626845 | O36: =(2.25*(D36-E36)+E36)-K36 -> 238546.21 | Q36: =CHAR(48+ROW()) -> T | S36: =B36 -> gbokh006n5362 | T36: =D36/1024 -> 168.80053 | U36: =(K36+MIN(M36,O36))/1024 -> 84.654786 | V36: =K36/1024 -> 84.131349 | W36: =E36/1024 -> 50.171642 | X36: =T36/U36 -> 1.9939868 | Y36: =V36*X36 -> 167.7568 | Z36: =W36/Y36 -> 0.29907368
A38: VMAX | B38: 2 | D38: 3 | E38: 4 | F38: 5 | G38: 6 | H38: 7 | I38: 8 | J38: 9 | K38: 10 | L38: 11 | M38: 12 | S38: VMAX | T38: =SUM(T3:T19) -> 2512.046 | U38: =SUM(U3:U19) -> 2059.429 | V38: =SUM(V3:V19) -> 2540.4969 | W38: =SUM(W3:W19) -> 1039.0441 | X38: =T38/U38 -> 1.2197779 | Y38: =V38*X38 -> 3098.8419 | Z38: =W38/Y38 -> 0.33530079
A39: HDS | B39: 2 | D39: 4 | E39: 5 | F39: 6 | G39: 7 | H39: 8 | I39: 9 | J39: 10 | K39: 11 | L39: 12 | M39: 16 | S39: HDS | T39: =SUM(T21:T34) -> 1081.2236 | U39: =SUM(U21:U34) -> 782.06998 | V39: =SUM(V21:V34) -> 794.17809 | W39: =SUM(W21:W34) -> 351.48811 | X39: =T39/U39 -> 1.3825151 | Y39: =V39*X39 -> 1097.9632 | Z39: =W39/Y39 -> 0.32012739
A42: Based on installed physical usable
B43: Available | D43: tier 3 | F43: tier 4 | J43: oversubscription | L43: 1.3
B44: CGC-RDC | D44: 745/552 | E44: =MIN(M4:M5,O4:O5) -> 612
F45: 623 | G45: =((143393+2298+48716)*L43)-K3 -> 72714.037
B46: RDC to FDC | D46: 2230/2231 | E46: =MIN(M9,O9,M13,O13) -> -49990.235
B47: FDC to RDC | E47: 0
B48: RDC | F48: 3073 | G48: =((110072+13787+243584)*L43)-K8 -> 18214.341
B49: FDC | F49: 3004 | G49: =((132132+13787+292299)*L43)-K11 -> 566682.59
T53: CGC | V53: RDC | X53: FDC
T54: Tier 3 | U54: Tier 4 | V54: Tier 3 | W54: Tier 4 | X54: Tier 3 | Y54: Tier 4
S55: Total GB | T55: 150515.8 | U55: 194407 | V55: 194639.94 | W55: 646674.87 | X55: 165455.94 | Y55: 597852.58
S56: Used GB | T56: 68609.3 | U56: 93028.7 | V56: 99679.934 | W56: 229240.9 | X56: 51957.8 | Y56: 172984.62
S57: % full | T57: 0.45582789 | U57: 0.47852546 | V57: 0.51212475 | W57: 0.35449174 | X57: 0.314028 | Y57: 0.28934328
S58: currently available for allocation
S59: reserved | T59: =24000 -> 24000 | U59: =41000 -> 41000 | V59: =24000+44005 -> 68005 | W59: =20190+50000 -> 70190 | X59: =44005 -> 44005 | Y59: =140000+110040+50000 -> 300040
S60: GB | T60: =23253-T59 -> -747 | U60: =137847-U59 -> 96847 | V60: =139194-V59 -> 71189 | W60: =147894.3-W59 -> 77704.3 | X60: =115941-X59 -> 71936 | Y60: =351481.28-Y59 -> 51441.28
S61: used by | T61: =TODAY()+(28*T60/T$74) -> 41430.414 | U61: =TODAY()+(28*U60/U$74) -> 42068.097 | V61: =TODAY()+(28*V60/V$74) -> 41612.082 | W61: =TODAY()+(28*W60/W$74) -> 41526.656 | X61: =TODAY()+(28*X60/X$74) -> 41594.466 | Y61: =TODAY()+(28*Y60/Y$74) -> 41505.785
S62: avg monthly requirement
S63: GB | T63: 1434 | U63: 4352 | V63: 11930 | W63: 26645 | X63: 13476 | Y63: 23696
T65: CGC | V65: RDC | X65: FDC
T66: Tier 3 | U66: Tier 4 | V66: Tier 3 | W66: Tier 4 | X66: Tier 3 | Y66: Tier 4
S67: Total GB | T67: =D4 -> 150516.7 | U67: =((143393+2298+48716)) -> 194407 | V67: =D5+D23+D27 -> 194640.84 | W67: =D6+D24+D28+110072+13787+243584 -> 646674.87 | X67: =D25+D29+D9 -> 215092.74 | Y67: =132132+13787+292299+D26+D30 -> 597852.58
S68: Used GB | T68: =E4 -> 78563.7 | U68: =E3 -> 41671.5 | V68: =E5+E23+E27 -> 92049.618 | W68: =E6+E24+E28 -> 209211.31 | X68: =E25+E29+E9 -> 99749.365 | Y68: =E8+E26+E30 -> 154826.66
S69: % full | T69: =T68/T67 -> 0.52196002 | U69: =U68/U67 -> 0.21435185 | V69: =V68/V67 -> 0.47292036 | W69: =W68/W67 -> 0.32351854 | X69: =X68/X67 -> 0.46375049 | Y69: =Y68/Y67 -> 0.2589713
S70: currently available for allocation
S71: GB | T71: 23253 | U71: 137847 | V71: =T71+X71 -> 139194 | W71: =G48 -> 18214.341 | X71: 115941 | Y71: =G49 -> 566682.59
S72: used by | T72: =TODAY()+(28*T71/T$74) -> 41899.033 | U72: =TODAY()+(28*U71/U$74) -> 42331.883 | V72: =TODAY()+(28*V71/V$74) -> 41771.692 | W72: =TODAY()+(28*W71/W$74) -> 41464.141 | X72: =TODAY()+(28*X71/X$74) -> 41685.898 | Y72: =TODAY()+(28*Y71/Y$74) -> 42114.611
S73: avg monthly requirement
S74: GB | T74: 1434 | U74: 4352 | V74: 11930 | W74: 26645 | X74: 13476 | Y74: 23696

Sheet VMAX table
A1: Site | C1: CGC | D1: CGC | E1: RDC | F1: RDC | G1: RDC | H1: RDC | I1: RDC | J1: RDC | K1: RDC | L1: RDC | M1: FDC | N1: FDC | O1: FDC | P1: FDC | Q1: FDC | R1: FDC | S1: FDC | T1: ZDC | U1: ZDC
A2: VMAX | C2: 0623 | D2: 0745 | E2: 0552 | F2: 0678 | G2: 3286 | H2: 3073 | I2: 2230 | J2: 3696 | K2: 4330 | L2: 0347 | M2: 0879 | N2: 3004 | O2: 2804 | P2: 2231 | Q2: 3875 | R2: 4652 | S2: 0349 | T2: 2262 | U2: 0377
A3: Enabled Pool Devices | B3: Total GB | C3: 143393 | D3: 150516.7 | E3: 150516.7 | F3: 181997.8 | G3: 165452.5 | H3: 132132.9 | I3: 170968.6 | J3: 165453.5 | K3: 92411.6 | L3: 132070 | M3: 193029.1 | N3: 132132.9 | O3: 82726.6 | P3: 275755 | Q3: 82726.6 | R3: 188981.6 | S3: 132070 | T3: 55151 | U3: 33090.5
B4: Used GB | C4: 41671.5 | D4: 78563.7 | E4: 80046.6 | F4: 161154.2 | G4: 103958.2 | H4: 55020.1 | I4: 87561.9 | J4: 16517.9 | K4: 2.7 | L4: 4.7 | M4: 161405.8 | N4: 56132.5 | O4: 53380.2 | P4: 160058.2 | Q4: 8492.9 | R4: 5.4 | S4: 4.7 | T4: 8183.4 | U4: 4698.2
B5: % full | C5: 0.29061042 | D5: 0.52196002 | E5: 0.53181208 | F5: 0.88547334 | G5: 0.62832656 | H5: 0.4163997 | I5: 0.51215194 | J5: 0.099834092 | K5: 2.9217111e-05 | L5: 3.5587189e-05 | M5: 0.83617341 | N5: 0.4248185 | O5: 0.64526041 | P5: 0.58043626 | Q5: 0.10266226 | R5: 2.857421e-05 | S5: 3.5587189e-05 | T5: 0.14838172 | U5: 0.14198033
A6: Thin Devices | B6: # Devices | C6: 5870 | D6: 3333 | E6: 3330 | F6: 9457 | G6: 8428 | H6: 15703 | I6: 7403 | J6: 9599 | K6: 3593 | L6: 6399 | M6: 9289 | N6: 12295 | O6: 4354 | P6: 10027 | Q6: 4799 | R6: 7192 | S6: 6399 | T6: 2000 | U6: 1250
B7: Virtual Capacity GB | C7: 197918.79 | D7: 112378.76 | E7: 112277.61 | F7: 318861.67 | G7: 284166.88 | H7: 529458.05 | I7: 249606.95 | J7: 323649.48 | K7: 121145.18 | L7: 215755.08 | M7: 313197.21 | N7: 414550.51 | O7: 146803.82 | P7: 338080.36 | Q7: 161807.88 | R7: 242492.66 | S7: 215755.08 | T7: 67434 | U7: 42146.25
B8: capacity threshold | C8: 164000 | D8: 109880 | E8: 109880 | F8: 328000 | G8: 330905 | H8: 264264 | I8: 242663.6 | J8: 328000 | K8: 328000 | L8: 328000 | M8: 328000 | N8: 264264.4 | O8: 328000 | P8: 352965.4 | Q8: 328000 | R8: 328000 | S8: 328000 | T8: 110302 | U8: 66181
B9: # Allocated | C9: 5339 | D9: 2687 | E9: 2718 | F9: 8246 | G9: 3878 | H9: 13627 | I9: 6154 | J9: 427 | K9: 89 | L9: 87 | M9: 8380 | N9: 11131 | O9: 4025 | P9: 7440 | Q9: 869 | R9: 160 | S9: 21 | T9: 976 | U9: 498
B10: GB Allocated | C10: 180015.06 | D10: 90597.579 | E10: 91642.806 | F10: 278030.38 | G10: 261509.05 | H10: 459461.56 | I10: 140060.42 | J10: 14397.159 | K10: 3000.813 | L10: 2933.379 | M10: 282548.46 | N10: 375303.93 | O10: 135710.92 | P10: 250854.48 | Q10: 29300.073 | R10: 5394.72 | S10: 708.057 | T10: 32907.792 | U10: 16791.066
B11: subscription | C11: 1.2553964 | D11: 0.60191048 | E11: 0.60885474 | F11: 1.5276579 | G11: 1.5805688 | H11: 3.4772684 | I11: 0.8192172 | J11: 0.087016346 | K11: 0.032472255 | L11: 0.02221079 | M11: 1.463761 | N11: 2.8403519 | O11: 1.6404751 | P11: 0.90970057 | Q11: 0.35417959 | R11: 0.028546271 | S11: 0.0053612251 | T11: 0.59668532 | U11: 0.5074286
A12: Available to allocate | C12: -4397.68 | D12: 20623.16 | E12: 20791.76 | F12: 43369.48 | G12: 138701 | H12: -146898.4 | I12: 86438.84 | J12: 62050.36 | K12: 62050.36 | L12: -31325.12 | M12: 59942.72 | N12: -28340.36

Sheet HDS table
A1: Site | C1: RDC | D1: RDC | E1: RDC | F1: FDC | G1: FDC | H1: RDC | I1: RDC | J1: FDC | K1: FDC | L1: FDC | M1: RDC | N1: FDC | O1: FDC | P1: RDC | Q1: RDC | R1: RDC
A2: USPV | C2: rdchds02 | F2: fdchds02 | H2: rdchds03 | J2: fdchds03 | M2: RDCHDS04 | N2: DEOLH005N0365 | O2: DEOLH004N7026 | P2: GBOKH005N3518 | R2: GBOKH006N5362
C3: Tier 3 | D3: Tier 4 (2) | E3: Tier 4 (22) | F3: Tier 3 | G3: Tier 4 | H3: Tier 3 | I3: Tier 4 | J3: Tier 3 | K3: Tier 4 | L3: Tier 4 (22) | M3: Tier 4 (20) | N3: Tier 4 (20) | O3: Tier 4 (20) | P3: Tier 4 (20) | Q3: Tier 4 (50) | R3: Tier 4 (20)
A4: Enabled Pool Devices | B4: Total GB | C4: 12184.091 | D4: 20667.093 | E4: 61536.36 | F4: 12184.091 | G4: 82668.373 | H4: 31940.053 | I4: 15030.613 | J4: 31940.053 | K4: 37576.533 | L4: 39389.672 | M4: 142777.56 | N4: 202908.01 | O4: 210428.2 | P4: 172851.74 | Q4: 76590.892 | R4: 172851.74
B5: Used GB | C5: 5736.5273 | D5: 17206.752 | E5: 22487.596 | F5: 5190.6094 | G5: 72979.84 | H5: 6266.4902 | I5: 8362.7578 | J5: 6996.8555 | K5: 13720.26 | L5: 13106.461 | M5: 82514.578 | N5: 59599.189 | O5: 31743.879 | P5: 9313.8281 | Q5: 32164.494 | R5: 51375.762
B6: % full | C6: 0.47082111 | D6: 0.83256761 | E6: 0.36543591 | F6: 0.42601531 | G6: 0.88280242 | H6: 0.19619536 | I6: 0.55638168 | J6: 0.21906211 | K6: 0.36512841 | L6: 0.33273852 | M6: 0.577924 | N6: 0.29372517 | O6: 0.15085373 | P6: 0.053883335 | Q6: 0.41995195 | R6: 0.29722444
A7: Thin Devices | B7: # Devices | C7: 681 | D7: 1076 | E7: 1992 | F7: 681 | G7: 2660 | H7: 1439 | I7: 901 | J7: 1462 | K7: 1630 | L7: 1354 | M7: 3896 | N7: 1630 | O7: 1354 | P7: 681 | Q7: 1076 | R7: 1992
B8: Virtual Capacity GB | C8: 22474.102 | D8: 43114.601 | E8: 90004.482 | F8: 22474.102 | G8: 122050.81 | H8: 48095.048 | I8: 31255.912 | J8: 47312.12 | K8: 64315.717 | L8: 66711.884 | M8: 130640.08 | N8: 64315.717 | O8: 66711.884 | P8: 22474.102 | Q8: 43114.601 | R8: 90004.482
B9: Threshold capacity | C9: 24368.183 | D9: 41334.185 | E9: 56582 | F9: 24368.183 | G9: 121652 | H9: 46507 | I9: 30141 | J9: 46507 | K9: 75153 | L9: 56249 | M9: 213518 | N9: 75153 | O9: 56249 | P9: 345703.48 | Q9: 153181.78 | R9: 56582
B10: # Allocated | C10: 409.15301 | D10: 754.77237 | E10: 1456 | F10: 398.37828 | G10: 2351.1861 | H10: 375.17837 | I10: 345.99605 | J10: 443.27448 | K10: 485.99187 | L10: 926 | M10: 3310 | N10: 3611.8683 | O10: 926 | P10: 1926.0876 | Q10: 1015.0407 | R10: 1456
B11: GB Allocated | C11: 13043.73 | D11: 31971.215 | E11: 38089.988 | F11: 12669.955 | G11: 111338.05 | H11: 11191.075 | I11: 12002.825 | J11: 11972.532 | K11: 24630.075 | L11: 17449.194 | M11: 92943.746 | N11: 133066.73 | O11: 220412 | P11: 65666.19 | Q11: 40999.922 | R11: 86150.501
B12: subscription | C12: 1.0705542 | D12: 1.5469624 | E12: 0.61898345 | F12: 1.0398769 | G12: 1.3468035 | H12: 0.35037748 | I12: 0.79855859 | J12: 0.37484383 | K12: 0.65546427 | L12: 0.44298907 | M12: 0.65096887 | N12: 0.65579831 | O12: 1.0474451 | P12: 0.37989893 | Q12: 0.53531067 | R12: 0.49840691
A13: # extra devices possible | C13: 54 | D13: -51 | E13: -963 | F13: 54 | G13: -11 | H13: -45 | I13: -32 | J13: -23 | K13: 312 | L13: -301 | M13: 2389 | N13: 312 | O13: -301 | P13: 9317 | Q13: 3172 | R13: -963
A14: threshold available GB | C14: 11324.452 | D14: 9362.9703 | E14: 18492.012 | F14: 11698.227 | G14: 10313.949 | H14: 35315.925 | I14: 18138.175 | J14: 34534.468 | K14: 50522.925 | L14: 38799.806 | M14: 120574.25 | N14: -57913.729 | O14: -164163 | P14: 280037.29 | Q14: 112181.86 | R14: -29568.501
A15: Subscription availability GB | C15: 11324.452 | D15: 9362.9703 | E15: 84982.731 | F15: 11698.227 | G15: 53998.695 | H15: 52689.031 | I15: 18058.401 | J15: 51907.575 | K15: 50522.991 | L15: 61330.15 | M15: 192611.37 | N15: 272749.29 | O15: 200444.41 | P15: 280037.29 | Q15: 112181.86 | R15: 259552.98
A16: Available to allocate GB | C16: 11324.452 | D16: 9362.9703 | E16: 18492.012 | F16: 11698.227 | G16: 10313.949 | H16: 35315.925 | I16: 18058.401 | J16: 34534.468 | K16: 50522.925 | L16: 38799.806 | M16: 120574.25 | N16: -57913.729 | O16: -164163 | P16: 280037.29 | Q16: 112181.86 | R16: -29568.501

Sheet Sheet1
A1: Thin Devices
A2: # Devices | B2: Virtual Capacity GB | C2: capacity threshold | D2: # Allocated | E2: GB Allocated | F2: subscription | G2: Available to allocate
A3: 5006 | B3: 169152.74 | C3: 164000 | D3: 3532 | E3: 119346.28 | F3: 1.02773 | G3: 44653.72
A4: 3200 | B4: 108128 | C4: 109880 | D4: 2291 | E4: 77412.89 | F4: 0.96546149 | G4: 31791.31 | J4: CGC | L4: RDC | N4: FDC
A5: 3200 | B5: 108128 | C5: 109880 | D5: 2311 | E5: 78088.69 | F5: 0.97388978 | G5: 31791.31 | J5: Tier 3 | K5: Tier 4 | L5: Tier 3 | M5: Tier 4 | N5: Tier 3 | O5: Tier 4
A6: 8850 | B6: 299041.5 | C6: 328000 | D6: 5187 | E6: 175268.73 | F6: 1.1319724 | G6: 133576.07 | I6: Total GB | J6: 79968.7 | K6: 115816.8 | L6: 118456.36 | M6: 239333.55 | N6: 38487.665 | O6: 317443.76
A7: 7503 | B7: 253526.37 | C7: 328000 | D7: 5142 | E7: 173748.18 | F7: 1.013557 | G7: 154251.82 | I7: Used GB | J7: 49393.8 | K7: 38089.2 | L7: 62618.933 | M7: 72838.036 | N7: 12710.578 | O7: 111318.85
A8: 379 | B8: 11991.04 | C8: 24368.183 | D8: 196.33843 | E8: 5654.5102 | F8: 0.46408961 | G8: 6693.7756 | I8: % full | J8: 0.61766416 | K8: 0.32887457 | L8: 0.52862447 | M8: 0.30433693 | N8: 0.3302507 | O8: 0.35067267
A9: 2637 | B9: 78766.08 | C9: 97916.185 | D9: 2175.727 | E9: 96062.29 | F9: 1.3746645 | G9: 1853.8956 | I9: currently available for allocation
A10: 380 | B10: 12032 | C10: 24368.183 | D10: 197.15769 | E10: 5689.2004 | F10: 0.46693679 | G10: 6693.7756 | I10: GB | J10: 31791.31 | K10: 44653.72 | L10: 46016.862 | M10: 145474.92 | N10: 14225.552 | O10: 217032.75
A11: 2018 | B11: 79923.2 | C11: 121652 | D11: 2360.0148 | E11: 91787.693 | F11: 1.3203711 | G11: 29864.307 | I11: used by | J11: 40781.196 | K11: 40748.085 | L11: 40775.417 | M11: 40802.458 | N11: 40763.921 | O11: 40852.074
A12: 688 | B12: 23866.72 | C12: 46507 | D12: 1121.7685 | E12: 38914.15 | F12: 1.4794245 | G12: 7531.776 | I12: avg monthly requirement
A13: 926 | B13: 32122.94 | C13: 30141 | D13: 577.0041 | E13: 20016.272 | F13: 1.3317003 | G13: 10044.954 | I13: GB | J13: 5662.72 | K13: 10076.16 | L13: 8509.44 | M13: 22824.96 | N13: 2846.72 | O13: 26644.48
A14: 738 | B14: 23910.4 | C14: 46507 | D14: 1172.2699 | E14: 38975.224 | F14: 1.4817464 | G14: 7531.776
A15: 2814 | B15: 76902.4 | C15: 131402 | D15: 2615.0762 | E15: 98485.382 | F15: 1.2797028 | G15: 32916.618

Sheet array usage summary
B1: Allocated GB
B2: average (monthly) | C2: avaliable | D2: shortfall for next twelve months
A3: CGC tier 3 | B3: ='Thin summary'!T74 -> 1434 | C3: ='Thin summary'!T71 -> 23253 | D3: =(12*B3)-C3 -> -6045
A4: CGC tier 4 | B4: ='Thin summary'!U74 -> 4352 | C4: ='Thin summary'!U71 -> 137847 | D4: =(12*B4)-C4 -> -85623
A5: RDC tier 3 | B5: ='Thin summary'!V74 -> 11930 | C5: ='Thin summary'!V71 -> 139194 | D5: =(12*B5)-C5 -> 3966
A6: RDC tier 4 | B6: ='Thin summary'!W74 -> 26645 | C6: ='Thin summary'!W71 -> 18214.341 | D6: =(12*B6)-C6 -> 301525.66
A7: FDC tier 3 | B7: ='Thin summary'!X74 -> 13476 | C7: ='Thin summary'!X71 -> 115941 | D7: =(12*B7)-C7 -> 45771
A8: FDC tier 4 | B8: ='Thin summary'!Y74 -> 23696 | C8: ='Thin summary'!Y71 -> 566682.59 | D8: =(12*B8)-C8 -> -282330.59
