Workbook

Sheet Table
A1: 41443
A2: Site | C2: CGC | D2: CGC | E2: RDC | F2: RDC | G2: RDC | H2: RDC | I2: RDC | J2: RDC | K2: RDC | L2: RDC | M2: FDC | N2: FDC | O2: FDC | P2: FDC | Q2: FDC | R2: FDC | S2: FDC | T2: ZDC | U2: ZDC | AA2: Site | AC2: CGC | AD2: RDC | AF2: FDC
A3: VMAX | C3: 0623 | D3: 0745 | E3: 0552 | F3: 0678 | G3: 3286 | H3: 3073 | I3: 2230 | J3: 3696 | K3: 4330 | L3: 0347 | M3: 0879 | N3: 3004 | O3: 2804 | P3: 2231 | Q3: 3875 | R3: 4652 | S3: 0349 | T3: 2262 | U3: 0377 | AA3: VMAX | AC3: 0623 | AD3: 3073 | AE3: 0347 | AF3: 3004 | AG3: 0349
A4: Enabled Pool Devices | B4: Total GB | C4: 143393 | D4: 150516.7 | E4: 150516.7 | F4: 181997.8 | G4: 165452.5 | H4: 132132.9 | I4: 170968.6 | J4: 165453.5 | K4: 92411.6 | L4: 132070 | M4: 193029.1 | N4: 132132.9 | O4: 82726.6 | P4: 275755 | Q4: 82726.6 | R4: 188981.6 | S4: 132070 | T4: 55151 | U4: 33090.5 | AA4: FC Pool Devices | AB4: Total GB | AC4: 143392.2 | AD4: 132132 | AE4: 83196.1 | AF4: 132132.2 | AG4: 83196.1
B5: Used GB | C5: 41869 | D5: 78586.4 | E5: 80068.9 | F5: 143499.7 | G5: 104937 | H5: 57215.5 | I5: 87798.6 | J5: 16938.8 | K5: 831.1 | L5: 4.7 | M5: 161583.1 | N5: 57900.9 | O5: 53826.7 | P5: 159806.2 | Q5: 8703.3 | R5: 1940.8 | S5: 4.7 | T5: 8546.7 | U5: 4963.7 | AB5: Used GB | AC5: 41869 | AD5: 57215.5 | AE5: 4.7 | AF5: 57900.9 | AG5: 4.7
B6: % full | C6: =C5/C4 -> 0.29198775 | D6: =D5/D4 -> 0.52211084 | E6: =E5/E4 -> 0.53196024 | F6: =F5/F4 -> 0.78846942 | G6: =G5/G4 -> 0.63424246 | H6: =H5/H4 -> 0.43301479 | I6: =I5/I4 -> 0.5135364 | J6: =J5/J4 -> 0.10237801 | ... U6: =U5/U4 -> 0.15000378 | AB6: % full | AC6: =AC5/AC4 -> 0.29198938 | AD6: =AD5/AD4 -> 0.43301774 | AE6: =AE5/AE4 -> 5.6493033e-05 | AF6: =AF5/AF4 -> 0.43820431 | AG6: =AG5/AG4 -> 5.6493033e-05
A7: Thin Devices | B7: # Devices | C7: 5870 | D7: 3333 | E7: 3330 | F7: 9457 | G7: 8428 | H7: 15703 | I7: 7403 | J7: 9599 | K7: 4073 | L7: 6399 | M7: 9289 | N7: 12295 | O7: 4354 | P7: 10027 | Q7: 4799 | R7: 7192 | S7: 6399 | T7: 2000 | U7: 1250 | V7: 2231 - Configured Devices 10027 | AA7: EFD Pool Devices | AB7: Total GB | AC7: 9191.8 | AD7: 13787.7 | AE7: 8804.8 | AF7: 13787.7 | AG7: 8804.8
B8: Virtual Capacity GB | C8: =C7*33.717 -> 197918.79 | D8: =D7*33.717 -> 112378.76 | E8: =E7*33.717 -> 112277.61 | F8: =F7*33.717 -> 318861.67 | G8: =G7*33.717 -> 284166.88 | H8: =H7*33.717 -> 529458.05 | I8: =I7*33.717 -> 249606.95 | J8: =J7*33.717 -> 323649.48 | ... U8: =U7*33.717 -> 42146.25 | AB8: Used GB | AC8: 8495.5 | AD8: 13649.5 | AE8: 0 | AF8: 13644 | AG8: 0
B9: capacity threshold | C9: 164000 | D9: 109880 | E9: 109880 | F9: 328000 | G9: 330905 | H9: 264264 | I9: 242663.6 | J9: 328000 | K9: 328000 | L9: 328000 | M9: 328000 | N9: 264264.4 | O9: 328000 | P9: 352965.4 | Q9: 328000 | R9: 328000 | S9: 328000 | T9: =2*T4 -> 110302 | U9: =2*U4 -> 66181 | AB9: % full | AC9: =AC8/AC7 -> 0.9242477 | AD9: =AD8/AD7 -> 0.98997657 | AE9: =AE8/AE7 -> 0 | AF9: =AF8/AF7 -> 0.98957767 | AG9: =AG8/AG7 -> 0
B10: # Allocated | C10: =SUM(C7-464) -> 5406 | D10: =SUM(D7-632) -> 2701 | E10: =SUM(E7-598) -> 2732 | F10: =SUM(F7-1243) -> 8214 | G10: =SUM(G7-4550) -> 3878 | H10: =SUM(H7-2046) -> 13657 | I10: =SUM(I7-(3249-2000)) -> 6154 | J10: =SUM(J7-9172) -> 427 | K10: =SUM(K7-3706) -> 367 | L10: =SUM(L7-6312) -> 87 | M10: =SUM(M7-936) -> 8353 | N10: =SUM(N7-1164) -> 11131 | O10: =SUM(O7-329) -> 4025 | P10: =SUM(P7-(5201-2614)) -> 7440 | Q10: =SUM(Q7-3930) -> 869 | R10: =SUM(R7-6815) -> 377 | S10: =SUM(S7-6199) -> 200 | T10: =SUM(T7-917) -> 1083 | U10: =SUM(U7-752) -> 498 | V10: 3073 remaining | AA10: SATA Pool Devices | AB10: Total GB | AC10: 97433.6 | AD10: 243584.4 | AE10: 132070.3 | AF10: 292299.3 | AG10: 132070.4
B11: GB Allocated | C11: =(C10*33.717) -> 182274.1 | D11: =(D10*33.717) -> 91069.617 | E11: =(E10*33.717) -> 92114.844 | F11: =(F10*33.717) -> 276951.44 | G11: =(G10*33.717)*2 -> 261509.05 | H11: =(H10*33.717) -> 460473.07 | I11: =(I10*33.717)-(2000*33.717) -> 140060.42 | J11: =J10*33.717 -> 14397.159 | K11: =K10*33.717 -> 12374.139 | L11: =L10*33.717 -> 2933.379 | M11: =M10*33.717 -> 281638.1 | N11: =N10*33.717 -> 375303.93 | O11: =(O10*33.717) -> 135710.92 | P11: =P10*33.717 -> 250854.48 | Q11: =Q10*33.717 -> 29300.073 | R11: =R10*33.717 -> 12711.309 | S11: =S10*33.717 -> 6743.4 | T11: =T10*33.717 -> 36515.511 | U11: =U10*33.717 -> 16791.066 | V11: =344240-H11 -> -116233.07 | W11: GB | AB11: Used GB | AC11: 38973.2 | AD11: 95835.1 | AE11: 0.1 | AF11: 90386.6 | AG11: 0
B12: subscription | C12: =C11/C4 -> 1.2711506 | D12: =D11/D4 -> 0.6050466 | E12: =E11/E4 -> 0.61199086 | F12: =F11/F4 -> 1.5217296 | G12: =G11/G4 -> 1.5805688 | H12: =H11/H4 -> 3.4849237 | I12: =I11/I4 -> 0.8192172 | J12: =J11/J4 -> 0.087016346 | ... U12: =U11/U4 -> 0.5074286 | AB12: % full | AC12: =AC11/AC10 -> 0.39999754 | AD12: =AD11/AD10 -> 0.39343694 | AE12: =AE11/AE10 -> 7.5717251e-07 | AF12: =AF11/AF10 -> 0.30922619 | AG12: =AG11/AG10 -> 0
A13: 41437
A14: Site | C14: CGC | D14: CGC | E14: RDC | F14: RDC | G14: RDC | H14: RDC | I14: RDC | J14: RDC | K14: RDC | L14: RDC | M14: FDC | N14: FDC | O14: FDC | P14: FDC | Q14: FDC | R14: FDC | S14: FDC | T14: ZDC | U14: ZDC | AA14: Site | AC14: CGC | AD14: RDC | AE14: FDC
A15: VMAX | C15: 0623 | D15: 0745 | E15: 0552 | F15: 0678 | G15: 3286 | H15: 3073 | I15: 2230 | J15: 3696 | K15: 4330 | L15: 0347 | M15: 0879 | N15: 3004 | O15: 2804 | P15: 2231 | Q15: 3875 | R15: 4652 | S15: 0349 | T15: 2262 | U15: 0377 | AA15: VMAX | AC15: 0623 | AD15: 3073 | AE15: 3004
A16: Enabled Pool Devices | B16: Total GB | C16: 143393 | D16: 150516.7 | E16: 150516.7 | F16: 181997.8 | G16: 165452.5 | H16: 132132.9 | I16: 170968.6 | J16: 165453.5 | K16: 92411.6 | L16: 132070 | M16: 193029.1 | N16: 132132.9 | O16: 82726.6 | P16: 275755 | Q16: 82726.6 | R16: 188981.6 | S16: 132070 | T16: 55151 | U16: 33090.5 | AA16: FC Pool Devices | AB16: Total GB | AC16: 143392.2 | AD16: 132132 | AE16: 132132.2
B17: Used GB | C17: 41671.5 | D17: 78563.7 | E17: 80046.6 | F17: 161154.2 | G17: 103958.2 | H17: 55020.1 | I17: 87561.9 | J17: 16517.9 | K17: 2.7 | L17: 4.7 | M17: 161405.8 | N17: 56132.5 | O17: 53380.2 | P17: 160058.2 | Q17: 8492.9 | R17: 5.4 | S17: 4.7 | T17: 8183.4 | U17: 4698.2 | AB17: Used GB | AC17: 41815.6 | AD17: 55035.3 | AE17: 55997
B18: % full | C18: =C17/C16 -> 0.29061042 | D18: =D17/D16 -> 0.52196002 | E18: =E17/E16 -> 0.53181208 | F18: =F17/F16 -> 0.88547334 | G18: =G17/G16 -> 0.62832656 | H18: =H17/H16 -> 0.4163997 | I18: =I17/I16 -> 0.51215194 | J18: =J17/J16 -> 0.099834092 | ... U18: =U17/U16 -> 0.14198033 | AB18: % full | AC18: =AC17/AC16 -> 0.29161698 | AD18: =AD17/AD16 -> 0.41651757 | AE18: =AE17/AE16 -> 0.42379526
A19: Thin Devices | B19: # Devices | C19: 5870 | D19: 3333 | E19: 3330 | F19: 9457 | G19: 8428 | H19: 15703 | I19: 7403 | J19: 9599 | K19: 3593 | L19: 6399 | M19: 9289 | N19: 12295 | O19: 4354 | P19: 10027 | Q19: 4799 | R19: 7192 | S19: 6399 | T19: 2000 | U19: 1250 | V19: 2231 - Configured Devices 10027 | AA19: EFD Pool Devices | AB19: Total GB | AC19: 9191.8 | AD19: 13787.7 | AE19: 13787.7
B20: Virtual Capacity GB | C20: =C19*33.717 -> 197918.79 | D20: =D19*33.717 -> 112378.76 | E20: =E19*33.717 -> 112277.61 | F20: =F19*33.717 -> 318861.67 | G20: =G19*33.717 -> 284166.88 | H20: =H19*33.717 -> 529458.05 | I20: =I19*33.717 -> 249606.95 | J20: =J19*33.717 -> 323649.48 | ... U20: =U19*33.717 -> 42146.25 | AB20: Used GB | AC20: 8299.9 | AD20: 13646 | AE20: 13645.8
B21: capacity threshold | C21: 164000 | D21: 109880 | E21: 109880 | F21: 328000 | G21: 330905 | H21: 264264 | I21: 242663.6 | J21: 328000 | K21: 328000 | L21: 328000 | M21: 328000 | N21: 264264.4 | O21: 328000 | P21: 352965.4 | Q21: 328000 | R21: 328000 | S21: 328000 | T21: =2*T16 -> 110302 | U21: =2*U16 -> 66181 | AB21: % full | AC21: =AC20/AC19 -> 0.90296786 | AD21: =AD20/AD19 -> 0.98972272 | AE21: =AE20/AE19 -> 0.98970822
B22: # Allocated | C22: =SUM(C19-531) -> 5339 | D22: =SUM(D19-646) -> 2687 | E22: =SUM(E19-612) -> 2718 | F22: =SUM(F19-1211) -> 8246 | G22: =SUM(G19-4550) -> 3878 | H22: =SUM(H19-2076) -> 13627 | I22: =SUM(I19-(3249-2000)) -> 6154 | J22: =SUM(J19-9172) -> 427 | K22: =SUM(K19-3504) -> 89 | L22: =SUM(L19-6312) -> 87 | M22: =SUM(M19-909) -> 8380 | N22: =SUM(N19-1164) -> 11131 | O22: =SUM(O19-329) -> 4025 | P22: =SUM(P19-(5201-2614)) -> 7440 | Q22: =SUM(Q19-3930) -> 869 | R22: =SUM(R19-7032) -> 160 | S22: =SUM(S19-6378) -> 21 | T22: =SUM(T19-1024) -> 976 | U22: =SUM(U19-752) -> 498 | V22: 3073 remaining | AA22: SATA Pool Devices | AB22: Total GB | AC22: 97433.6 | AD22: 243584.4 | AE22: 292299.3
B23: GB Allocated | C23: =(C22*33.717) -> 180015.06 | D23: =(D22*33.717) -> 90597.579 | E23: =(E22*33.717) -> 91642.806 | F23: =(F22*33.717) -> 278030.38 | G23: =(G22*33.717)*2 -> 261509.05 | H23: =(H22*33.717) -> 459461.56 | I23: =(I22*33.717)-(2000*33.717) -> 140060.42 | J23: =J22*33.717 -> 14397.159 | K23: =K22*33.717 -> 3000.813 | L23: =L22*33.717 -> 2933.379 | M23: =M22*33.717 -> 282548.46 | N23: =N22*33.717 -> 375303.93 | O23: =(O22*33.717) -> 135710.92 | P23: =P22*33.717 -> 250854.48 | Q23: =Q22*33.717 -> 29300.073 | R23: =R22*33.717 -> 5394.72 | S23: =S22*33.717 -> 708.057 | T23: =T22*33.717 -> 32907.792 | U23: =U22*33.717 -> 16791.066 | V23: =344240-H23 -> -115221.56 | W23: GB | AB23: Used GB | AC23: 38973.2 | AD23: 96614.9 | AE23: 91250.3
B24: subscription | C24: =C23/C16 -> 1.2553964 | D24: =D23/D16 -> 0.60191048 | E24: =E23/E16 -> 0.60885474 | F24: =F23/F16 -> 1.5276579 | G24: =G23/G16 -> 1.5805688 | H24: =H23/H16 -> 3.4772684 | I24: =I23/I16 -> 0.8192172 | J24: =J23/J16 -> 0.087016346 | ... U24: =U23/U16 -> 0.5074286 | AB24: % full | AC24: =AC23/AC22 -> 0.39999754 | AD24: =AD23/AD22 -> 0.39663829 | AE24: =AE23/AE22 -> 0.31218104
A25: 41430
A26: Site | C26: CGC | D26: CGC | E26: RDC | F26: RDC | G26: RDC | H26: RDC | I26: RDC | J26: RDC | K26: RDC | L26: FDC | M26: FDC | N26: FDC | O26: FDC | P26: FDC | Q26: FDC | R26: ZDC | S26: ZDC | AA26: Site | AC26: CGC | AD26: RDC | AE26: FDC
A27: VMAX | C27: 0623 | D27: 0745 | E27: 0552 | F27: 0678 | G27: 3286 | H27: 3073 | I27: 2230 | J27: 3696 | K27: 4330 | L27: 0879 | M27: 3004 | N27: 2804 | O27: 2231 | P27: 3875 | Q27: 4652 | R27: 2262 | S27: 0377 | AA27: VMAX | AC27: 0623 | AD27: 3073 | AE27: 3004
A28: Enabled Pool Devices | B28: Total GB | C28: 143392.2 | D28: 150515.8 | E28: 150515.8 | F28: 181997.8 | G28: 165452.5 | H28: 132132 | I28: 170968.6 | J28: 166077.9 | K28: 95044.2 | L28: 193027 | M28: 132132.2 | N28: 82726.3 | O28: 275755 | P28: 83039 | Q28: 188981.6 | R28: 55151 | S28: 33090.5 | AA28: FC Pool Devices | AB28: Total GB | AC28: 143392.2 | AD28: 132132 | AE28: 132132.2
B29: Used GB | C29: 41815.6 | D29: 78524.1 | E29: 80027.3 | F29: 160942.6 | G29: 103219.7 | H29: 52145.5 | I29: 87357 | J29: 15903.5 | K29: 2.7 | L29: 160867.5 | M29: 60681.2 | N29: 52956.3 | O29: 159742.3 | P29: 8053.7 | Q29: 5.4 | R29: 8116.8 | S29: 4670.6 | AB29: Used GB | AC29: 41815.6 | AD29: 52145.5 | AE29: 60861.2
B30: % full | C30: =C29/C28 -> 0.29161698 | D30: =D29/D28 -> 0.52170005 | E30: =E29/E28 -> 0.53168704 | F30: =F29/F28 -> 0.88431069 | G30: =G29/G28 -> 0.62386304 | H30: =H29/H28 -> 0.39464702 | I30: =I29/I28 -> 0.51095347 | J30: =J29/J28 -> 0.095759279 | ... S30: =S29/S28 -> 0.14114625 | AB30: % full | AC30: =AC29/AC28 -> 0.29161698 | AD30: =AD29/AD28 -> 0.39464702 | AE30: =AE29/AE28 -> 0.46060839
A31: Thin Devices | B31: # Devices | C31: 5870 | D31: 3333 | E31: 3330 | F31: 9457 | G31: 8428 | H31: 15703 | I31: 7403 | J31: 9599 | K31: 3593 | L31: 9289 | M31: 12295 | N31: 4354 | O31: 10027 | P31: 4799 | Q31: 7192 | R31: 2000 | S31: 1250 | AA31: EFD Pool Devices | AB31: Total GB | AC31: 9191.8 | AD31: 13787.7 | AE31: 13787.7
B32: Virtual Capacity GB | C32: =C31*33.717 -> 197918.79 | D32: =D31*33.717 -> 112378.76 | E32: =E31*33.717 -> 112277.61 | F32: =F31*33.717 -> 318861.67 | G32: =G31*33.717 -> 284166.88 | H32: =H31*33.717 -> 529458.05 | I32: =I31*33.717 -> 249606.95 | J32: =J31*33.717 -> 323649.48 | ... S32: =S31*33.717 -> 42146.25 | AB32: Used GB | AC32: 8299.9 | AD32: 13646.7 | AE32: 13649.1
B33: capacity threshold | C33: 164000 | D33: 109880 | E33: 109880 | F33: 328000 | G33: 330905 | H33: 264264 | I33: 242663.6 | J33: 328000 | K33: 328000 | L33: 328000 | M33: 264264.4 | N33: 328000 | O33: 352965.4 | P33: 328000 | Q33: 328000 | R33: =2*R28 -> 110302 | S33: =2*S28 -> 66181 | AB33: % full | AC33: =AC32/AC31 -> 0.90296786 | AD33: =AD32/AD31 -> 0.98977349 | AE33: =AE32/AE31 -> 0.98994756
B34: # Allocated | C34: =SUM(C31-531) -> 5339 | D34: =SUM(D31-650) -> 2683 | E34: =SUM(E31-616) -> 2714 | F34: =SUM(F31-1211) -> 8246 | G34: =SUM(G31-4559) -> 3869 | H34: =SUM(H31-2079) -> 13624 | I34: =SUM(I31-(3249-2000)) -> 6154 | J34: =SUM(J31-9172) -> 427 | K34: =SUM(K31-3504) -> 89 | L34: =SUM(L31-909) -> 8380 | M34: =SUM(M31-1185) -> 11110 | N34: =SUM(N31-338) -> 4016 | O34: =SUM(O31-(5201-2614)) -> 7440 | P34: =SUM(P31-3930) -> 869 | Q34: =SUM(Q31-7032) -> 160 | R34: =SUM(R31-1033) -> 967 | S34: =SUM(S31-752) -> 498 | AA34: SATA Pool Devices | AB34: Total GB | AC34: 97433.6 | AD34: 243584.4 | AE34: 292299.3
B35: GB Allocated | C35: =(C34*33.717) -> 180015.06 | D35: =(D34*33.717) -> 90462.711 | E35: =(E34*33.717) -> 91507.938 | F35: =(F34*33.717) -> 278030.38 | G35: =(G34*33.717)*2 -> 260902.15 | H35: =(H34*33.717) -> 459360.41 | I35: =(I34*33.717)-(2000*33.717) -> 140060.42 | J35: =J34*33.717 -> 14397.159 | K35: =K34*33.717 -> 3000.813 | L35: =L34*33.717 -> 282548.46 | M35: =M34*33.717 -> 374595.87 | N35: =(N34*33.717) -> 135407.47 | O35: =O34*33.717 -> 250854.48 | P35: =P34*33.717 -> 29300.073 | Q35: =Q34*33.717 -> 5394.72 | R35: =R34*33.717 -> 32604.339 | S35: =S34*33.717 -> 16791.066 | U35: GB | AB35: Used GB | AC35: 38973.2 | AD35: 98820.2 | AE35: 85901.5
B36: subscription | C36: =C35/C28 -> 1.2554035 | D36: =D35/D28 -> 0.60101804 | E36: =E35/E28 -> 0.60796234 | F36: =F35/F28 -> 1.5276579 | G36: =G35/G28 -> 1.5769006 | H36: =H35/H28 -> 3.4765266 | I36: =I35/I28 -> 0.8192172 | J36: =J35/J28 -> 0.086689192 | ... S36: =S35/S28 -> 0.5074286 | AB36: % full | AC36: =AC35/AC34 -> 0.39999754 | AD36: =AD35/AD34 -> 0.40569183 | AE36: =AE35/AE34 -> 0.29388199
A37: 41428
A38: Site | C38: CGC | D38: CGC | E38: RDC | F38: RDC | G38: RDC | H38: RDC | I38: RDC | J38: RDC | K38: RDC | L38: FDC | M38: FDC | N38: FDC | O38: FDC | P38: FDC | Q38: FDC | R38: ZDC | S38: ZDC | AA38: Site | AC38: CGC | AD38: RDC | AE38: FDC
A39: VMAX | C39: 0623 | D39: 0745 | E39: 0552 | F39: 0678 | G39: 3286 | H39: 3073 | I39: 2230 | J39: 3696 | K39: 4330 | L39: 0879 | M39: 3004 | N39: 2804 | O39: 2231 | P39: 3875 | Q39: 4652 | R39: 2262 | S39: 0377 | AA39: VMAX | AC39: 0623 | AD39: 3073 | AE39: 3004
A40: Enabled Pool Devices | B40: Total GB | C40: 143392.2 | D40: 150515.8 | E40: 150515.8 | F40: 181997.8 | G40: 165452.5 | H40: 132132 | I40: 170968.6 | J40: 166077.9 | K40: 95044.2 | L40: 193027 | M40: 132132.2 | N40: 82726.3 | O40: 275755 | P40: 83039 | Q40: 191818.2 | R40: 55151 | S40: 33090.5 | AA40: FC Pool Devices | AB40: Total GB | AC40: 143392.2 | AD40: 132132 | AE40: 132132.2
...

Sheet used space Charts
B1: 0623 | C1: 0745 | D1: 0552 | E1: 0678 | F1: 3286 | G1: 3073 | H1: 2230 | I1: 3696 | J1: 4330 | K1: 0347 | L1: 0879 | M1: 3004 | N1: 2804 | O1: 2231 | P1: 3875 | Q1: 4652 | R1: 0349 | S1: 2262 | T1: 0377
B2: CGC T4 V-MAX 0623 | C2: CGC T3 V-MAX 0745 | D2: RDC T3 V-MAX 0552 | E2: RDC T4 V-MAX 0678 | F2: RDC T3 V-MAX 3286 | G2: RDC T4 V-MAX 3073 | H2: RDC T3 V-MAX 2230 | I2: RDC T3 V-MAX 3696 | J2: RDC T3 V-MAX 4330 | K2: RDC T4 V-MAX 0347 | L2: FDC T4 V-MAX 0879 | M2: FDC T4 V-MAX 3004 | N2: FDC T3 V-MAX 2804 | O2: FDC T3 V-MAX 2231 | P2: FDC T3 V-MAX 3875 | Q2: FDC T3 V-MAX 4652 | R2: FDC T4 V-MAX 0349 | S2: ZDC T4 VMAX 2262 | T2: ZDC T4 VMAX 0377 | V2: Row | W2: % full | X2: =MATCH(W2,Table!$B:$B,0) -> 6 | Z2: Row | AA2: VMAX | AB2: =MATCH(AA2,Table!$A:$A,0) -> 3 | AC2: Max Column
A5: 41443 | B5: =IF(ISERROR(MATCH(B$1,INDIRECT("Table!A"&$Z5):INDIRECT("Table!" & $AC$45 & $Z5),0)),"",INDIRECT(CONCATENATE("Table!",ADDRESS($V5,MATCH(B$1,INDIRECT("Table!A" & $Z5):INDIRECT("Table!" & $AC$44 & $Z5),0))))) -> 0.29198775 | C5: =IF(ISERROR(MATCH(C$1,INDIRECT("Table!A"&$Z5):INDIRECT("Table!" & $AC$44 & $Z5),0)),"",INDIRECT(CONCATENATE("Table!",ADDRESS($V5,MATCH(C$1,INDIRECT("Table!A" & $Z5):INDIRECT("Table!" & $AC$44 & $Z5),0))))) -> 0.52211084 | D5: =IF(ISERROR(MATCH(D$1,INDIRECT("Table!A"&$Z5):INDIRECT("Table!" & $AC$44 & $Z5),0)),"",INDIRECT(CONCATENATE("Table!",ADDRESS($V5,MATCH(D$1,INDIRECT("Table!A" & $Z5):INDIRECT("Table!" & $AC$44 & $Z5),0))))) -> 0.53196024 | E5: =IF(ISERROR(MATCH(E$1,INDIRECT("Table!A"&$Z5):INDIRECT("Table!" & $AC$44 & $Z5),0)),"",INDIRECT(CONCATENATE("Table!",ADDRESS($V5,MATCH(E$1,INDIRECT("Table!A" & $Z5):INDIRECT("Table!" & $AC$44 & $Z5),0))))) -> 0.78846942 | F5: =IF(ISERROR(MATCH(F$1,INDIRECT("Table!A"&$Z5):INDIRECT("Table!" & $AC$44 & $Z5),0)),"",INDIRECT(CONCATENATE("Table!",ADDRESS($V5,MATCH(F$1,INDIRECT("Table!A" & $Z5):INDIRECT("Table!" & $AC$44 & $Z5),0))))) -> 0.63424246 | G5: =IF(ISERROR(MATCH(G$1,INDIRECT("Table!A"&$Z5):INDIRECT("Table!" & $AC$44 & $Z5),0)),"",INDIRECT(CONCATENATE("Table!",ADDRESS($V5,MATCH(G$1,INDIRECT("Table!A" & $Z5):INDIRECT("Table!" & $AC$44 & $Z5),0))))) -> 0.43301479 | H5: =IF(ISERROR(MATCH(H$1,INDIRECT("Table!A"&$Z5):INDIRECT("Table!" & $AC$44 & $Z5),0)),"",INDIRECT(CONCATENATE("Table!",ADDRESS($V5,MATCH(H$1,INDIRECT("Table!A" & $Z5):INDIRECT("Table!" & $AC$44 & $Z5),0))))) -> 0.5135364 | I5: =IF(ISERROR(MATCH(I$1,INDIRECT("Table!A"&$Z5):INDIRECT("Table!" & $AC$23 & $Z5),0)),"",INDIRECT(CONCATENATE("Table!",ADDRESS($V5,MATCH(I$1,INDIRECT("Table!A" & $Z5):INDIRECT("Table!" & $AC$23 & $Z5),0))))) -> 0.10237801 | J5: =IF(ISERROR(MATCH(J$1,INDIRECT("Table!A"&$Z5):INDIRECT("Table!" & $AC$23 & $Z5),0)),"",INDIRECT(CONCATENATE("Table!",ADDRESS($V5,MATCH(J$1,INDIRECT("Table!A" & $Z5):INDIRECT("Table!" & $AC$23 & $Z5),0))))) -> 0.0089934597 | K5: =IF(ISERROR(MATCH(K$1,INDIRECT("Table!A"&$Z5):INDIRECT("Table!" & $AC$23 & $Z5),0)),"",INDIRECT(CONCATENATE("Table!",ADDRESS($V5,MATCH(K$1,INDIRECT("Table!A" & $Z5):INDIRECT("Table!" & $AC$23 & $Z5),0))))) -> 3.5587189e-05 | L5: =IF(ISERROR(MATCH(L$1,INDIRECT("Table!A"&$Z5):INDIRECT("Table!" & $AC$23 & $Z5),0)),"",INDIRECT(CONCATENATE("Table!",ADDRESS($V5,MATCH(L$1,INDIRECT("Table!A" & $Z5):INDIRECT("Table!" & $AC$23 & $Z5),0))))) -> 0.83709192 | M5: =IF(ISERROR(MATCH(M$1,INDIRECT("Table!A"&$Z5):INDIRECT("Table!" & $AC$23 & $Z5),0)),"",INDIRECT(CONCATENATE("Table!",ADDRESS($V5,MATCH(M$1,INDIRECT("Table!A" & $Z5):INDIRECT("Table!" & $AC$23 & $Z5),0))))) -> 0.43820199 | N5: =IF(ISERROR(MATCH(N$1,INDIRECT("Table!A"&$Z5):INDIRECT("Table!" & $AC$23 & $Z5),0)),"",INDIRECT(CONCATENATE("Table!",ADDRESS($V5,MATCH(N$1,INDIRECT("Table!A" & $Z5):INDIRECT("Table!" & $AC$23 & $Z5),0))))) -> 0.65065771 | O5: =IF(ISERROR(MATCH(O$1,INDIRECT("Table!A"&$Z5):INDIRECT("Table!" & $AC$23 & $Z5),0)),"",INDIRECT(CONCATENATE("Table!",ADDRESS($V5,MATCH(O$1,INDIRECT("Table!A" & $Z5):INDIRECT("Table!" & $AC$23 & $Z5),0))))) -> 0.5795224 | P5: =IF(ISERROR(MATCH(P$1,INDIRECT("Table!A"&$Z5):INDIRECT("Table!" & $AC$23 & $Z5),0)),"",INDIRECT(CONCATENATE("Table!",ADDRESS($V5,MATCH(P$1,INDIRECT("Table!A" & $Z5):INDIRECT("Table!" & $AC$23 & $Z5),0))))) -> 0.10520558 | ... R5: =IF(ISERROR(MATCH(R$1,INDIRECT("Table!A"&$Z5):INDIRECT("Table!" & $AC$23 & $Z5),0)),"",INDIRECT(CONCATENATE("Table!",ADDRESS($V5,MATCH(R$1,INDIRECT("Table!A" & $Z5):INDIRECT("Table!" & $AC$23 & $Z5),0))))) -> 3.5587189e-05 | S5: =IF(ISERROR(MATCH(S$1,INDIRECT("Table!A"&$Z5):INDIRECT("Table!" & $AC$5 & $Z5),0)),"",INDIRECT(CONCATENATE("Table!",ADDRESS($V5,MATCH(S$1,INDIRECT("Table!A" & $Z5):INDIRECT("Table!" & $AC$5 & $Z5),0))))) -> 0.15496908 | T5: =IF(ISERROR(MATCH(T$1,INDIRECT("Table!A"&$Z5):INDIRECT("Table!" & $AC$5 & $Z5),0)),"",INDIRECT(CONCATENATE("Table!",ADDRESS($V5,MATCH(T$1,INDIRECT("Table!A" & $Z5):INDIRECT("Table!" & $AC$5 & $Z5),0))))) -> 0.15000378 | V5: =MATCH($A5,Table!$A:$A,0)+$X$2-1 -> 6 | Z5: =MATCH($A5,Table!$A:$A,0)+$AB$2-1 -> 3 | AC5: U
A6: 41437 | B6: =IF(ISERROR(MATCH(B$1,INDIRECT("Table!A"&$Z6):INDIRECT("Table!" & $AC$45 & $Z6),0)),"",INDIRECT(CONCATENATE("Table!",ADDRESS($V6,MATCH(B$1,INDIRECT("Table!A" & $Z6):INDIRECT("Table!" & $AC$44 & $Z6),0))))) -> 0.29061042 | C6: =IF(ISERROR(MATCH(C$1,INDIRECT("Table!A"&$Z6):INDIRECT("Table!" & $AC$44 & $Z6),0)),"",INDIRECT(CONCATENATE("Table!",ADDRESS($V6,MATCH(C$1,INDIRECT("Table!A" & $Z6):INDIRECT("Table!" & $AC$44 & $Z6),0))))) -> 0.52196002 | D6: =IF(ISERROR(MATCH(D$1,INDIRECT("Table!A"&$Z6):INDIRECT("Table!" & $AC$44 & $Z6),0)),"",INDIRECT(CONCATENATE("Table!",ADDRESS($V6,MATCH(D$1,INDIRECT("Table!A" & $Z6):INDIRECT("Table!" & $AC$44 & $Z6),0))))) -> 0.53181208 | E6: =IF(ISERROR(MATCH(E$1,INDIRECT("Table!A"&$Z6):INDIRECT("Table!" & $AC$44 & $Z6),0)),"",INDIRECT(CONCATENATE("Table!",ADDRESS($V6,MATCH(E$1,INDIRECT("Table!A" & $Z6):INDIRECT("Table!" & $AC$44 & $Z6),0))))) -> 0.88547334 | F6: =IF(ISERROR(MATCH(F$1,INDIRECT("Table!A"&$Z6):INDIRECT("Table!" & $AC$44 & $Z6),0)),"",INDIRECT(CONCATENATE("Table!",ADDRESS($V6,MATCH(F$1,INDIRECT("Table!A" & $Z6):INDIRECT("Table!" & $AC$44 & $Z6),0))))) -> 0.62832656 | G6: =IF(ISERROR(MATCH(G$1,INDIRECT("Table!A"&$Z6):INDIRECT("Table!" & $AC$44 & $Z6),0)),"",INDIRECT(CONCATENATE("Table!",ADDRESS($V6,MATCH(G$1,INDIRECT("Table!A" & $Z6):INDIRECT("Table!" & $AC$44 & $Z6),0))))) -> 0.4163997 | H6: =IF(ISERROR(MATCH(H$1,INDIRECT("Table!A"&$Z6):INDIRECT("Table!" & $AC$44 & $Z6),0)),"",INDIRECT(CONCATENATE("Table!",ADDRESS($V6,MATCH(H$1,INDIRECT("Table!A" & $Z6):INDIRECT("Table!" & $AC$44 & $Z6),0))))) -> 0.51215194 | I6: =IF(ISERROR(MATCH(I$1,INDIRECT("Table!A"&$Z6):INDIRECT("Table!" & $AC$23 & $Z6),0)),"",INDIRECT(CONCATENATE("Table!",ADDRESS($V6,MATCH(I$1,INDIRECT("Table!A" & $Z6):INDIRECT("Table!" & $AC$23 & $Z6),0))))) -> 0.099834092 | J6: =IF(ISERROR(MATCH(J$1,INDIRECT("Table!A"&$Z6):INDIRECT("Table!" & $AC$23 & $Z6),0)),"",INDIRECT(CONCATENATE("Table!",ADDRESS($V6,MATCH(J$1,INDIRECT("Table!A" & $Z6):INDIRECT("Table!" & $AC$23 & $Z6),0))))) -> 2.9217111e-05 | K6: =IF(ISERROR(MATCH(K$1,INDIRECT("Table!A"&$Z6):INDIRECT("Table!" & $AC$23 & $Z6),0)),"",INDIRECT(CONCATENATE("Table!",ADDRESS($V6,MATCH(K$1,INDIRECT("Table!A" & $Z6):INDIRECT("Table!" & $AC$23 & $Z6),0))))) -> 3.5587189e-05 | L6: =IF(ISERROR(MATCH(L$1,INDIRECT("Table!A"&$Z6):INDIRECT("Table!" & $AC$23 & $Z6),0)),"",INDIRECT(CONCATENATE("Table!",ADDRESS($V6,MATCH(L$1,INDIRECT("Table!A" & $Z6):INDIRECT("Table!" & $AC$23 & $Z6),0))))) -> 0.83617341 | M6: =IF(ISERROR(MATCH(M$1,INDIRECT("Table!A"&$Z6):INDIRECT("Table!" & $AC$23 & $Z6),0)),"",INDIRECT(CONCATENATE("Table!",ADDRESS($V6,MATCH(M$1,INDIRECT("Table!A" & $Z6):INDIRECT("Table!" & $AC$23 & $Z6),0))))) -> 0.4248185 | N6: =IF(ISERROR(MATCH(N$1,INDIRECT("Table!A"&$Z6):INDIRECT("Table!" & $AC$23 & $Z6),0)),"",INDIRECT(CONCATENATE("Table!",ADDRESS($V6,MATCH(N$1,INDIRECT("Table!A" & $Z6):INDIRECT("Table!" & $AC$23 & $Z6),0))))) -> 0.64526041 | O6: =IF(ISERROR(MATCH(O$1,INDIRECT("Table!A"&$Z6):INDIRECT("Table!" & $AC$23 & $Z6),0)),"",INDIRECT(CONCATENATE("Table!",ADDRESS($V6,MATCH(O$1,INDIRECT("Table!A" & $Z6):INDIRECT("Table!" & $AC$23 & $Z6),0))))) -> 0.58043626 | P6: =IF(ISERROR(MATCH(P$1,INDIRECT("Table!A"&$Z6):INDIRECT("Table!" & $AC$23 & $Z6),0)),"",INDIRECT(CONCATENATE("Table!",ADDRESS($V6,MATCH(P$1,INDIRECT("Table!A" & $Z6):INDIRECT("Table!" & $AC$23 & $Z6),0))))) -> 0.10266226 | ... R6: =IF(ISERROR(MATCH(R$1,INDIRECT("Table!A"&$Z6):INDIRECT("Table!" & $AC$23 & $Z6),0)),"",INDIRECT(CONCATENATE("Table!",ADDRESS($V6,MATCH(R$1,INDIRECT("Table!A" & $Z6):INDIRECT("Table!" & $AC$23 & $Z6),0))))) -> 3.5587189e-05 | S6: =IF(ISERROR(MATCH(S$1,INDIRECT("Table!A"&$Z6):INDIRECT("Table!" & $AC$5 & $Z6),0)),"",INDIRECT(CONCATENATE("Table!",ADDRESS($V6,MATCH(S$1,INDIRECT("Table!A" & $Z6):INDIRECT("Table!" & $AC$5 & $Z6),0))))) -> 0.14838172 | T6: =IF(ISERROR(MATCH(T$1,INDIRECT("Table!A"&$Z6):INDIRECT("Table!" & $AC$5 & $Z6),0)),"",INDIRECT(CONCATENATE("Table!",ADDRESS($V6,MATCH(T$1,INDIRECT("Table!A" & $Z6):INDIRECT("Table!" & $AC$5 & $Z6),0))))) -> 0.14198033 | V6: =MATCH($A6,Table!$A:$A,0)+$X$2-1 -> 18 | Z6: =MATCH($A6,Table!$A:$A,0)+$AB$2-1 -> 15 | AC6: U
A7: 41430 | B7: =IF(ISERROR(MATCH(B$1,INDIRECT("Table!A"&$Z7):INDIRECT("Table!" & $AC$45 & $Z7),0)),"",INDIRECT(CONCATENATE("Table!",ADDRESS($V7,MATCH(B$1,INDIRECT("Table!A" & $Z7):INDIRECT("Table!" & $AC$44 & $Z7),0))))) -> 0.29161698 | C7: =IF(ISERROR(MATCH(C$1,INDIRECT("Table!A"&$Z7):INDIRECT("Table!" & $AC$44 & $Z7),0)),"",INDIRECT(CONCATENATE("Table!",ADDRESS($V7,MATCH(C$1,INDIRECT("Table!A" & $Z7):INDIRECT("Table!" & $AC$44 & $Z7),0))))) -> 0.52170005 | D7: =IF(ISERROR(MATCH(D$1,INDIRECT("Table!A"&$Z7):INDIRECT("Table!" & $AC$44 & $Z7),0)),"",INDIRECT(CONCATENATE("Table!",ADDRESS($V7,MATCH(D$1,INDIRECT("Table!A" & $Z7):INDIRECT("Table!" & $AC$44 & $Z7),0))))) -> 0.53168704 | E7: =IF(ISERROR(MATCH(E$1,INDIRECT("Table!A"&$Z7):INDIRECT("Table!" & $AC$44 & $Z7),0)),"",INDIRECT(CONCATENATE("Table!",ADDRESS($V7,MATCH(E$1,INDIRECT("Table!A" & $Z7):INDIRECT("Table!" & $AC$44 & $Z7),0))))) -> 0.88431069 | F7: =IF(ISERROR(MATCH(F$1,INDIRECT("Table!A"&$Z7):INDIRECT("Table!" & $AC$44 & $Z7),0)),"",INDIRECT(CONCATENATE("Table!",ADDRESS($V7,MATCH(F$1,INDIRECT("Table!A" & $Z7):INDIRECT("Table!" & $AC$44 & $Z7),0))))) -> 0.62386304 | G7: =IF(ISERROR(MATCH(G$1,INDIRECT("Table!A"&$Z7):INDIRECT("Table!" & $AC$44 & $Z7),0)),"",INDIRECT(CONCATENATE("Table!",ADDRESS($V7,MATCH(G$1,INDIRECT("Table!A" & $Z7):INDIRECT("Table!" & $AC$44 & $Z7),0))))) -> 0.39464702 | H7: =IF(ISERROR(MATCH(H$1,INDIRECT("Table!A"&$Z7):INDIRECT("Table!" & $AC$44 & $Z7),0)),"",INDIRECT(CONCATENATE("Table!",ADDRESS($V7,MATCH(H$1,INDIRECT("Table!A" & $Z7):INDIRECT("Table!" & $AC$44 & $Z7),0))))) -> 0.51095347 | I7: =IF(ISERROR(MATCH(I$1,INDIRECT("Table!A"&$Z7):INDIRECT("Table!" & $AC$23 & $Z7),0)),"",INDIRECT(CONCATENATE("Table!",ADDRESS($V7,MATCH(I$1,INDIRECT("Table!A" & $Z7):INDIRECT("Table!" & $AC$23 & $Z7),0))))) -> 0.095759279 | J7: =IF(ISERROR(MATCH(J$1,INDIRECT("Table!A"&$Z7):INDIRECT("Table!" & $AC$23 & $Z7),0)),"",INDIRECT(CONCATENATE("Table!",ADDRESS($V7,MATCH(J$1,INDIRECT("Table!A" & $Z7):INDIRECT("Table!" & $AC$23 & $Z7),0))))) -> 2.8407836e-05 | K7: =IF(ISERROR(MATCH(K$1,INDIRECT("Table!A"&$Z7):INDIRECT("Table!" & $AC$23 & $Z7),0)),"",INDIRECT(CONCATENATE("Table!",ADDRESS($V7,MATCH(K$1,INDIRECT("Table!A" & $Z7):INDIRECT("Table!" & $AC$23 & $Z7),0))))) | L7: =IF(ISERROR(MATCH(L$1,INDIRECT("Table!A"&$Z7):INDIRECT("Table!" & $AC$23 & $Z7),0)),"",INDIRECT(CONCATENATE("Table!",ADDRESS($V7,MATCH(L$1,INDIRECT("Table!A" & $Z7):INDIRECT("Table!" & $AC$23 & $Z7),0))))) -> 0.83339377 | M7: =IF(ISERROR(MATCH(M$1,INDIRECT("Table!A"&$Z7):INDIRECT("Table!" & $AC$23 & $Z7),0)),"",INDIRECT(CONCATENATE("Table!",ADDRESS($V7,MATCH(M$1,INDIRECT("Table!A" & $Z7):INDIRECT("Table!" & $AC$23 & $Z7),0))))) -> 0.45924612 | N7: =IF(ISERROR(MATCH(N$1,INDIRECT("Table!A"&$Z7):INDIRECT("Table!" & $AC$23 & $Z7),0)),"",INDIRECT(CONCATENATE("Table!",ADDRESS($V7,MATCH(N$1,INDIRECT("Table!A" & $Z7):INDIRECT("Table!" & $AC$23 & $Z7),0))))) -> 0.64013863 | O7: =IF(ISERROR(MATCH(O$1,INDIRECT("Table!A"&$Z7):INDIRECT("Table!" & $AC$23 & $Z7),0)),"",INDIRECT(CONCATENATE("Table!",ADDRESS($V7,MATCH(O$1,INDIRECT("Table!A" & $Z7):INDIRECT("Table!" & $AC$23 & $Z7),0))))) -> 0.57929067 | P7: =IF(ISERROR(MATCH(P$1,INDIRECT("Table!A"&$Z7):INDIRECT("Table!" & $AC$23 & $Z7),0)),"",INDIRECT(CONCATENATE("Table!",ADDRESS($V7,MATCH(P$1,INDIRECT("Table!A" & $Z7):INDIRECT("Table!" & $AC$23 & $Z7),0))))) -> 0.096986958 | ... R7: =IF(ISERROR(MATCH(R$1,INDIRECT("Table!A"&$Z7):INDIRECT("Table!" & $AC$23 & $Z7),0)),"",INDIRECT(CONCATENATE("Table!",ADDRESS($V7,MATCH(R$1,INDIRECT("Table!A" & $Z7):INDIRECT("Table!" & $AC$23 & $Z7),0))))) | S7: =IF(ISERROR(MATCH(S$1,INDIRECT("Table!A"&$Z7):INDIRECT("Table!" & $AC$5 & $Z7),0)),"",INDIRECT(CONCATENATE("Table!",ADDRESS($V7,MATCH(S$1,INDIRECT("Table!A" & $Z7):INDIRECT("Table!" & $AC$5 & $Z7),0))))) -> 0.14717412 | T7: =IF(ISERROR(MATCH(T$1,INDIRECT("Table!A"&$Z7):INDIRECT("Table!" & $AC$5 & $Z7),0)),"",INDIRECT(CONCATENATE("Table!",ADDRESS($V7,MATCH(T$1,INDIRECT("Table!A" & $Z7):INDIRECT("Table!" & $AC$5 & $Z7),0))))) -> 0.14114625 | V7: =MATCH($A7,Table!$A:$A,0)+$X$2-1 -> 30 | Z7: =MATCH($A7,Table!$A:$A,0)+$AB$2-1 -> 27 | AC7: U
A8: 41428 | B8: =IF(ISERROR(MATCH(B$1,INDIRECT("Table!A"&$Z8):INDIRECT("Table!" & $AC$45 & $Z8),0)),"",INDIRECT(CONCATENATE("Table!",ADDRESS($V8,MATCH(B$1,INDIRECT("Table!A" & $Z8):INDIRECT("Table!" & $AC$44 & $Z8),0))))) -> 0.28864889 | C8: =IF(ISERROR(MATCH(C$1,INDIRECT("Table!A"&$Z8):INDIRECT("Table!" & $AC$44 & $Z8),0)),"",INDIRECT(CONCATENATE("Table!",ADDRESS($V8,MATCH(C$1,INDIRECT("Table!A" & $Z8):INDIRECT("Table!" & $AC$44 & $Z8),0))))) -> 0.52167281 | D8: =IF(ISERROR(MATCH(D$1,INDIRECT("Table!A"&$Z8):INDIRECT("Table!" & $AC$44 & $Z8),0)),"",INDIRECT(CONCATENATE("Table!",ADDRESS($V8,MATCH(D$1,INDIRECT("Table!A" & $Z8):INDIRECT("Table!" & $AC$44 & $Z8),0))))) -> 0.53166046 | E8: =IF(ISERROR(MATCH(E$1,INDIRECT("Table!A"&$Z8):INDIRECT("Table!" & $AC$44 & $Z8),0)),"",INDIRECT(CONCATENATE("Table!",ADDRESS($V8,MATCH(E$1,INDIRECT("Table!A" & $Z8):INDIRECT("Table!" & $AC$44 & $Z8),0))))) -> 0.88410629 | F8: =IF(ISERROR(MATCH(F$1,INDIRECT("Table!A"&$Z8):INDIRECT("Table!" & $AC$44 & $Z8),0)),"",INDIRECT(CONCATENATE("Table!",ADDRESS($V8,MATCH(F$1,INDIRECT("Table!A" & $Z8):INDIRECT("Table!" & $AC$44 & $Z8),0))))) -> 0.62273402 | G8: =IF(ISERROR(MATCH(G$1,INDIRECT("Table!A"&$Z8):INDIRECT("Table!" & $AC$44 & $Z8),0)),"",INDIRECT(CONCATENATE("Table!",ADDRESS($V8,MATCH(G$1,INDIRECT("Table!A" & $Z8):INDIRECT("Table!" & $AC$44 & $Z8),0))))) -> 0.40575182 | H8: =IF(ISERROR(MATCH(H$1,INDIRECT("Table!A"&$Z8):INDIRECT("Table!" & $AC$44 & $Z8),0)),"",INDIRECT(CONCATENATE("Table!",ADDRESS($V8,MATCH(H$1,INDIRECT("Table!A" & $Z8):INDIRECT("Table!" & $AC$44 & $Z8),0))))) -> 0.50934499 | I8: =IF(ISERROR(MATCH(I$1,INDIRECT("Table!A"&$Z8):INDIRECT("Table!" & $AC$23 & $Z8),0)),"",INDIRECT(CONCATENATE("Table!",ADDRESS($V8,MATCH(I$1,INDIRECT("Table!A" & $Z8):INDIRECT("Table!" & $AC$23 & $Z8),0))))) -> 0.09564066 | J8: =IF(ISERROR(MATCH(J$1,INDIRECT("Table!A"&$Z8):INDIRECT("Table!" & $AC$23 & $Z8),0)),"",INDIRECT(CONCATENATE("Table!",ADDRESS($V8,MATCH(J$1,INDIRECT("Table!A" & $Z8):INDIRECT("Table!" & $AC$23 & $Z8),0))))) -> 2.8407836e-05 | K8: =IF(ISERROR(MATCH(K$1,INDIRECT("Table!A"&$Z8):INDIRECT("Table!" & $AC$23 & $Z8),0)),"",INDIRECT(CONCATENATE("Table!",ADDRESS($V8,MATCH(K$1,INDIRECT("Table!A" & $Z8):INDIRECT("Table!" & $AC$23 & $Z8),0))))) | L8: =IF(ISERROR(MATCH(L$1,INDIRECT("Table!A"&$Z8):INDIRECT("Table!" & $AC$23 & $Z8),0)),"",INDIRECT(CONCATENATE("Table!",ADDRESS($V8,MATCH(L$1,INDIRECT("Table!A" & $Z8):INDIRECT("Table!" & $AC$23 & $Z8),0))))) -> 0.83315495 | M8: =IF(ISERROR(MATCH(M$1,INDIRECT("Table!A"&$Z8):INDIRECT("Table!" & $AC$23 & $Z8),0)),"",INDIRECT(CONCATENATE("Table!",ADDRESS($V8,MATCH(M$1,INDIRECT("Table!A" & $Z8):INDIRECT("Table!" & $AC$23 & $Z8),0))))) -> 0.4662656 | N8: =IF(ISERROR(MATCH(N$1,INDIRECT("Table!A"&$Z8):INDIRECT("Table!" & $AC$23 & $Z8),0)),"",INDIRECT(CONCATENATE("Table!",ADDRESS($V8,MATCH(N$1,INDIRECT("Table!A" & $Z8):INDIRECT("Table!" & $AC$23 & $Z8),0))))) -> 0.63922477 | O8: =IF(ISERROR(MATCH(O$1,INDIRECT("Table!A"&$Z8):INDIRECT("Table!" & $AC$23 & $Z8),0)),"",INDIRECT(CONCATENATE("Table!",ADDRESS($V8,MATCH(O$1,INDIRECT("Table!A" & $Z8):INDIRECT("Table!" & $AC$23 & $Z8),0))))) -> 0.57823974 | P8: =IF(ISERROR(MATCH(P$1,INDIRECT("Table!A"&$Z8):INDIRECT("Table!" & $AC$23 & $Z8),0)),"",INDIRECT(CONCATENATE("Table!",ADDRESS($V8,MATCH(P$1,INDIRECT("Table!A" & $Z8):INDIRECT("Table!" & $AC$23 & $Z8),0))))) -> 0.096868941 | ... R8: =IF(ISERROR(MATCH(R$1,INDIRECT("Table!A"&$Z8):INDIRECT("Table!" & $AC$23 & $Z8),0)),"",INDIRECT(CONCATENATE("Table!",ADDRESS($V8,MATCH(R$1,INDIRECT("Table!A" & $Z8):INDIRECT("Table!" & $AC$23 & $Z8),0))))) | S8: =IF(ISERROR(MATCH(S$1,INDIRECT("Table!A"&$Z8):INDIRECT("Table!" & $AC$5 & $Z8),0)),"",INDIRECT(CONCATENATE("Table!",ADDRESS($V8,MATCH(S$1,INDIRECT("Table!A" & $Z8):INDIRECT("Table!" & $AC$5 & $Z8),0))))) -> 0.14576708 | T8: =IF(ISERROR(MATCH(T$1,INDIRECT("Table!A"&$Z8):INDIRECT("Table!" & $AC$5 & $Z8),0)),"",INDIRECT(CONCATENATE("Table!",ADDRESS($V8,MATCH(T$1,INDIRECT("Table!A" & $Z8):INDIRECT("Table!" & $AC$5 & $Z8),0))))) -> 0.14084405 | V8: =MATCH($A8,Table!$A:$A,0)+$X$2-1 -> 42 | Z8: =MATCH($A8,Table!$A:$A,0)+$AB$2-1 -> 39 | AC8: U
A9: 41423 | B9: =IF(ISERROR(MATCH(B$1,INDIRECT("Table!A"&$Z9):INDIRECT("Table!" & $AC$45 & $Z9),0)),"",INDIRECT(CONCATENATE("Table!",ADDRESS($V9,MATCH(B$1,INDIRECT("Table!A" & $Z9):INDIRECT("Table!" & $AC$44 & $Z9),0))))) -> 0.2908108 | C9: =IF(ISERROR(MATCH(C$1,INDIRECT("Table!A"&$Z9):INDIRECT("Table!" & $AC$44 & $Z9),0)),"",INDIRECT(CONCATENATE("Table!",ADDRESS($V9,MATCH(C$1,INDIRECT("Table!A" & $Z9):INDIRECT("Table!" & $AC$44 & $Z9),0))))) -> 0.52005105 | D9: =IF(ISERROR(MATCH(D$1,INDIRECT("Table!A"&$Z9):INDIRECT("Table!" & $AC$44 & $Z9),0)),"",INDIRECT(CONCATENATE("Table!",ADDRESS($V9,MATCH(D$1,INDIRECT("Table!A" & $Z9):INDIRECT("Table!" & $AC$44 & $Z9),0))))) -> 0.53003937 | E9: =IF(ISERROR(MATCH(E$1,INDIRECT("Table!A"&$Z9):INDIRECT("Table!" & $AC$44 & $Z9),0)),"",INDIRECT(CONCATENATE("Table!",ADDRESS($V9,MATCH(E$1,INDIRECT("Table!A" & $Z9):INDIRECT("Table!" & $AC$44 & $Z9),0))))) -> 0.88314969 | F9: =IF(ISERROR(MATCH(F$1,INDIRECT("Table!A"&$Z9):INDIRECT("Table!" & $AC$44 & $Z9),0)),"",INDIRECT(CONCATENATE("Table!",ADDRESS($V9,MATCH(F$1,INDIRECT("Table!A" & $Z9):INDIRECT("Table!" & $AC$44 & $Z9),0))))) -> 0.61777308 | G9: =IF(ISERROR(MATCH(G$1,INDIRECT("Table!A"&$Z9):INDIRECT("Table!" & $AC$44 & $Z9),0)),"",INDIRECT(CONCATENATE("Table!",ADDRESS($V9,MATCH(G$1,INDIRECT("Table!A" & $Z9):INDIRECT("Table!" & $AC$44 & $Z9),0))))) -> 0.4116376 | H9: =IF(ISERROR(MATCH(H$1,INDIRECT("Table!A"&$Z9):INDIRECT("Table!" & $AC$44 & $Z9),0)),"",INDIRECT(CONCATENATE("Table!",ADDRESS($V9,MATCH(H$1,INDIRECT("Table!A" & $Z9):INDIRECT("Table!" & $AC$44 & $Z9),0))))) -> 0.50634385 | I9: =IF(ISERROR(MATCH(I$1,INDIRECT("Table!A"&$Z9):INDIRECT("Table!" & $AC$23 & $Z9),0)),"",INDIRECT(CONCATENATE("Table!",ADDRESS($V9,MATCH(I$1,INDIRECT("Table!A" & $Z9):INDIRECT("Table!" & $AC$23 & $Z9),0))))) -> 0.095543718 | J9: =IF(ISERROR(MATCH(J$1,INDIRECT("Table!A"&$Z9):INDIRECT("Table!" & $AC$23 & $Z9),0)),"",INDIRECT(CONCATENATE("Table!",ADDRESS($V9,MATCH(J$1,INDIRECT("Table!A" & $Z9):INDIRECT("Table!" & $AC$23 & $Z9),0))))) -> 2.8407836e-05 | K9: =IF(ISERROR(MATCH(K$1,INDIRECT("Table!A"&$Z9):INDIRECT("Table!" & $AC$23 & $Z9),0)),"",INDIRECT(CONCATENATE("Table!",ADDRESS($V9,MATCH(K$1,INDIRECT("Table!A" & $Z9):INDIRECT("Table!" & $AC$23 & $Z9),0))))) | L9: =IF(ISERROR(MATCH(L$1,INDIRECT("Table!A"&$Z9):INDIRECT("Table!" & $AC$23 & $Z9),0)),"",INDIRECT(CONCATENATE("Table!",ADDRESS($V9,MATCH(L$1,INDIRECT("Table!A" & $Z9):INDIRECT("Table!" & $AC$23 & $Z9),0))))) -> 0.83261875 | M9: =IF(ISERROR(MATCH(M$1,INDIRECT("Table!A"&$Z9):INDIRECT("Table!" & $AC$23 & $Z9),0)),"",INDIRECT(CONCATENATE("Table!",ADDRESS($V9,MATCH(M$1,INDIRECT("Table!A" & $Z9):INDIRECT("Table!" & $AC$23 & $Z9),0))))) -> 0.47843221 | N9: =IF(ISERROR(MATCH(N$1,INDIRECT("Table!A"&$Z9):INDIRECT("Table!" & $AC$23 & $Z9),0)),"",INDIRECT(CONCATENATE("Table!",ADDRESS($V9,MATCH(N$1,INDIRECT("Table!A" & $Z9):INDIRECT("Table!" & $AC$23 & $Z9),0))))) -> 0.634479 | O9: =IF(ISERROR(MATCH(O$1,INDIRECT("Table!A"&$Z9):INDIRECT("Table!" & $AC$23 & $Z9),0)),"",INDIRECT(CONCATENATE("Table!",ADDRESS($V9,MATCH(O$1,INDIRECT("Table!A" & $Z9):INDIRECT("Table!" & $AC$23 & $Z9),0))))) -> 0.571392 | P9: =IF(ISERROR(MATCH(P$1,INDIRECT("Table!A"&$Z9):INDIRECT("Table!" & $AC$23 & $Z9),0)),"",INDIRECT(CONCATENATE("Table!",ADDRESS($V9,MATCH(P$1,INDIRECT("Table!A" & $Z9):INDIRECT("Table!" & $AC$23 & $Z9),0))))) -> 0.096771397 | ... R9: =IF(ISERROR(MATCH(R$1,INDIRECT("Table!A"&$Z9):INDIRECT("Table!" & $AC$23 & $Z9),0)),"",INDIRECT(CONCATENATE("Table!",ADDRESS($V9,MATCH(R$1,INDIRECT("Table!A" & $Z9):INDIRECT("Table!" & $AC$23 & $Z9),0))))) | S9: =IF(ISERROR(MATCH(S$1,INDIRECT("Table!A"&$Z9):INDIRECT("Table!" & $AC$5 & $Z9),0)),"",INDIRECT(CONCATENATE("Table!",ADDRESS($V9,MATCH(S$1,INDIRECT("Table!A" & $Z9):INDIRECT("Table!" & $AC$5 & $Z9),0))))) -> 0.1454552 | T9: =IF(ISERROR(MATCH(T$1,INDIRECT("Table!A"&$Z9):INDIRECT("Table!" & $AC$5 & $Z9),0)),"",INDIRECT(CONCATENATE("Table!",ADDRESS($V9,MATCH(T$1,INDIRECT("Table!A" & $Z9):INDIRECT("Table!" & $AC$5 & $Z9),0))))) -> 0.14027893 | V9: =MATCH($A9,Table!$A:$A,0)+$X$2-1 -> 54 | Z9: =MATCH($A9,Table!$A:$A,0)+$AB$2-1 -> 51 | AC9: U
A10: 41422 | B10: =IF(ISERROR(MATCH(B$1,INDIRECT("Table!A"&$Z10):INDIRECT("Table!" & $AC$45 & $Z10),0)),"",INDIRECT(CONCATENATE("Table!",ADDRESS($V10,MATCH(B$1,INDIRECT("Table!A" & $Z10):INDIRECT("Table!" & $AC$44 & $Z10),0))))) -> 0.28816212 | C10: =IF(ISERROR(MATCH(C$1,INDIRECT("Table!A"&$Z10):INDIRECT("Table!" & $AC$44 & $Z10),0)),"",INDIRECT(CONCATENATE("Table!",ADDRESS($V10,MATCH(C$1,INDIRECT("Table!A" & $Z10):INDIRECT("Table!" & $AC$44 & $Z10),0))))) -> 0.52002315 | D10: =IF(ISERROR(MATCH(D$1,INDIRECT("Table!A"&$Z10):INDIRECT("Table!" & $AC$44 & $Z10),0)),"",INDIRECT(CONCATENATE("Table!",ADDRESS($V10,MATCH(D$1,INDIRECT("Table!A" & $Z10):INDIRECT("Table!" & $AC$44 & $Z10),0))))) -> 0.53001147 | E10: =IF(ISERROR(MATCH(E$1,INDIRECT("Table!A"&$Z10):INDIRECT("Table!" & $AC$44 & $Z10),0)),"",INDIRECT(CONCATENATE("Table!",ADDRESS($V10,MATCH(E$1,INDIRECT("Table!A" & $Z10):INDIRECT("Table!" & $AC$44 & $Z10),0))))) -> 0.88296946 | F10: =IF(ISERROR(MATCH(F$1,INDIRECT("Table!A"&$Z10):INDIRECT("Table!" & $AC$44 & $Z10),0)),"",INDIRECT(CONCATENATE("Table!",ADDRESS($V10,MATCH(F$1,INDIRECT("Table!A" & $Z10):INDIRECT("Table!" & $AC$44 & $Z10),0))))) -> 0.61644218 | G10: =IF(ISERROR(MATCH(G$1,INDIRECT("Table!A"&$Z10):INDIRECT("Table!" & $AC$44 & $Z10),0)),"",INDIRECT(CONCATENATE("Table!",ADDRESS($V10,MATCH(G$1,INDIRECT("Table!A" & $Z10):INDIRECT("Table!" & $AC$44 & $Z10),0))))) -> 0.4162209 | H10: =IF(ISERROR(MATCH(H$1,INDIRECT("Table!A"&$Z10):INDIRECT("Table!" & $AC$44 & $Z10),0)),"",INDIRECT(CONCATENATE("Table!",ADDRESS($V10,MATCH(H$1,INDIRECT("Table!A" & $Z10):INDIRECT("Table!" & $AC$44 & $Z10),0))))) -> 0.50506877 | I10: =IF(ISERROR(MATCH(I$1,INDIRECT("Table!A"&$Z10):INDIRECT("Table!" & $AC$23 & $Z10),0)),"",INDIRECT(CONCATENATE("Table!",ADDRESS($V10,MATCH(I$1,INDIRECT("Table!A" & $Z10):INDIRECT("Table!" & $AC$23 & $Z10),0))))) -> 0.095540707 | J10: =IF(ISERROR(MATCH(J$1,INDIRECT("Table!A"&$Z10):INDIRECT("Table!" & $AC$23 & $Z10),0)),"",INDIRECT(CONCATENATE("Table!",ADDRESS($V10,MATCH(J$1,INDIRECT("Table!A" & $Z10):INDIRECT("Table!" & $AC$23 & $Z10),0))))) -> 2.8407836e-05 | K10: =IF(ISERROR(MATCH(K$1,INDIRECT("Table!A"&$Z10):INDIRECT("Table!" & $AC$23 & $Z10),0)),"",INDIRECT(CONCATENATE("Table!",ADDRESS($V10,MATCH(K$1,INDIRECT("Table!A" & $Z10):INDIRECT("Table!" & $AC$23 & $Z10),0))))) | L10: =IF(ISERROR(MATCH(L$1,INDIRECT("Table!A"&$Z10):INDIRECT("Table!" & $AC$23 & $Z10),0)),"",INDIRECT(CONCATENATE("Table!",ADDRESS($V10,MATCH(L$1,INDIRECT("Table!A" & $Z10):INDIRECT("Table!" & $AC$23 & $Z10),0))))) -> 0.83238977 | M10: =IF(ISERROR(MATCH(M$1,INDIRECT("Table!A"&$Z10):INDIRECT("Table!" & $AC$23 & $Z10),0)),"",INDIRECT(CONCATENATE("Table!",ADDRESS($V10,MATCH(M$1,INDIRECT("Table!A" & $Z10):INDIRECT("Table!" & $AC$23 & $Z10),0))))) -> 0.48207855 | N10: =IF(ISERROR(MATCH(N$1,INDIRECT("Table!A"&$Z10):INDIRECT("Table!" & $AC$23 & $Z10),0)),"",INDIRECT(CONCATENATE("Table!",ADDRESS($V10,MATCH(N$1,INDIRECT("Table!A" & $Z10):INDIRECT("Table!" & $AC$23 & $Z10),0))))) -> 0.6331469 | O10: =IF(ISERROR(MATCH(O$1,INDIRECT("Table!A"&$Z10):INDIRECT("Table!" & $AC$23 & $Z10),0)),"",INDIRECT(CONCATENATE("Table!",ADDRESS($V10,MATCH(O$1,INDIRECT("Table!A" & $Z10):INDIRECT("Table!" & $AC$23 & $Z10),0))))) -> 0.57094522 | P10: =IF(ISERROR(MATCH(P$1,INDIRECT("Table!A"&$Z10):INDIRECT("Table!" & $AC$23 & $Z10),0)),"",INDIRECT(CONCATENATE("Table!",ADDRESS($V10,MATCH(P$1,INDIRECT("Table!A" & $Z10):INDIRECT("Table!" & $AC$23 & $Z10),0))))) -> 0.087349318 | ... R10: =IF(ISERROR(MATCH(R$1,INDIRECT("Table!A"&$Z10):INDIRECT("Table!" & $AC$23 & $Z10),0)),"",INDIRECT(CONCATENATE("Table!",ADDRESS($V10,MATCH(R$1,INDIRECT("Table!A" & $Z10):INDIRECT("Table!" & $AC$23 & $Z10),0))))) | S10: =IF(ISERROR(MATCH(S$1,INDIRECT("Table!A"&$Z10):INDIRECT("Table!" & $AC$5 & $Z10),0)),"",INDIRECT(CONCATENATE("Table!",ADDRESS($V10,MATCH(S$1,INDIRECT("Table!A" & $Z10):INDIRECT("Table!" & $AC$5 & $Z10),0))))) -> 0.14438904 | T10: =IF(ISERROR(MATCH(T$1,INDIRECT("Table!A"&$Z10):INDIRECT("Table!" & $AC$5 & $Z10),0)),"",INDIRECT(CONCATENATE("Table!",ADDRESS($V10,MATCH(T$1,INDIRECT("Table!A" & $Z10):INDIRECT("Table!" & $AC$5 & $Z10),0))))) -> 0.13979541 | V10: =MATCH($A10,Table!$A:$A,0)+$X$2-1 -> 66 | Z10: =MATCH($A10,Table!$A:$A,0)+$AB$2-1 -> 63 | AC10: U
A11: 41414 | B11: =IF(ISERROR(MATCH(B$1,INDIRECT("Table!A"&$Z11):INDIRECT("Table!" & $AC$45 & $Z11),0)),"",INDIRECT(CONCATENATE("Table!",ADDRESS($V11,MATCH(B$1,INDIRECT("Table!A" & $Z11):INDIRECT("Table!" & $AC$44 & $Z11),0))))) -> 0.28230406 | C11: =IF(ISERROR(MATCH(C$1,INDIRECT("Table!A"&$Z11):INDIRECT("Table!" & $AC$44 & $Z11),0)),"",INDIRECT(CONCATENATE("Table!",ADDRESS($V11,MATCH(C$1,INDIRECT("Table!A" & $Z11):INDIRECT("Table!" & $AC$44 & $Z11),0))))) -> 0.51951755 | D11: =IF(ISERROR(MATCH(D$1,INDIRECT("Table!A"&$Z11):INDIRECT("Table!" & $AC$44 & $Z11),0)),"",INDIRECT(CONCATENATE("Table!",ADDRESS($V11,MATCH(D$1,INDIRECT("Table!A" & $Z11):INDIRECT("Table!" & $AC$44 & $Z11),0))))) -> 0.52950986 | E11: =IF(ISERROR(MATCH(E$1,INDIRECT("Table!A"&$Z11):INDIRECT("Table!" & $AC$44 & $Z11),0)),"",INDIRECT(CONCATENATE("Table!",ADDRESS($V11,MATCH(E$1,INDIRECT("Table!A" & $Z11):INDIRECT("Table!" & $AC$44 & $Z11),0))))) -> 0.87609905 | F11: =IF(ISERROR(MATCH(F$1,INDIRECT("Table!A"&$Z11):INDIRECT("Table!" & $AC$44 & $Z11),0)),"",INDIRECT(CONCATENATE("Table!",ADDRESS($V11,MATCH(F$1,INDIRECT("Table!A" & $Z11):INDIRECT("Table!" & $AC$44 & $Z11),0))))) -> 0.60585364 | G11: =IF(ISERROR(MATCH(G$1,INDIRECT("Table!A"&$Z11):INDIRECT("Table!" & $AC$44 & $Z11),0)),"",INDIRECT(CONCATENATE("Table!",ADDRESS($V11,MATCH(G$1,INDIRECT("Table!A" & $Z11):INDIRECT("Table!" & $AC$44 & $Z11),0))))) -> 0.4229195 | H11: =IF(ISERROR(MATCH(H$1,INDIRECT("Table!A"&$Z11):INDIRECT("Table!" & $AC$44 & $Z11),0)),"",INDIRECT(CONCATENATE("Table!",ADDRESS($V11,MATCH(H$1,INDIRECT("Table!A" & $Z11):INDIRECT("Table!" & $AC$44 & $Z11),0))))) -> 0.50159912 | I11: =IF(ISERROR(MATCH(I$1,INDIRECT("Table!A"&$Z11):INDIRECT("Table!" & $AC$23 & $Z11),0)),"",INDIRECT(CONCATENATE("Table!",ADDRESS($V11,MATCH(I$1,INDIRECT("Table!A" & $Z11):INDIRECT("Table!" & $AC$23 & $Z11),0))))) -> 0.086121633 | J11: =IF(ISERROR(MATCH(J$1,INDIRECT("Table!A"&$Z11):INDIRECT("Table!" & $AC$23 & $Z11),0)),"",INDIRECT(CONCATENATE("Table!",ADDRESS($V11,MATCH(J$1,INDIRECT("Table!A" & $Z11):INDIRECT("Table!" & $AC$23 & $Z11),0))))) | K11: =IF(ISERROR(MATCH(K$1,INDIRECT("Table!A"&$Z11):INDIRECT("Table!" & $AC$23 & $Z11),0)),"",INDIRECT(CONCATENATE("Table!",ADDRESS($V11,MATCH(K$1,INDIRECT("Table!A" & $Z11):INDIRECT("Table!" & $AC$23 & $Z11),0))))) | L11: =IF(ISERROR(MATCH(L$1,INDIRECT("Table!A"&$Z11):INDIRECT("Table!" & $AC$23 & $Z11),0)),"",INDIRECT(CONCATENATE("Table!",ADDRESS($V11,MATCH(L$1,INDIRECT("Table!A" & $Z11):INDIRECT("Table!" & $AC$23 & $Z11),0))))) -> 0.82796707 | M11: =IF(ISERROR(MATCH(M$1,INDIRECT("Table!A"&$Z11):INDIRECT("Table!" & $AC$23 & $Z11),0)),"",INDIRECT(CONCATENATE("Table!",ADDRESS($V11,MATCH(M$1,INDIRECT("Table!A" & $Z11):INDIRECT("Table!" & $AC$23 & $Z11),0))))) -> 0.48381999 | N11: =IF(ISERROR(MATCH(N$1,INDIRECT("Table!A"&$Z11):INDIRECT("Table!" & $AC$23 & $Z11),0)),"",INDIRECT(CONCATENATE("Table!",ADDRESS($V11,MATCH(N$1,INDIRECT("Table!A" & $Z11):INDIRECT("Table!" & $AC$23 & $Z11),0))))) -> 0.62255051 | O11: =IF(ISERROR(MATCH(O$1,INDIRECT("Table!A"&$Z11):INDIRECT("Table!" & $AC$23 & $Z11),0)),"",INDIRECT(CONCATENATE("Table!",ADDRESS($V11,MATCH(O$1,INDIRECT("Table!A" & $Z11):INDIRECT("Table!" & $AC$23 & $Z11),0))))) -> 0.56790194 | P11: =IF(ISERROR(MATCH(P$1,INDIRECT("Table!A"&$Z11):INDIRECT("Table!" & $AC$23 & $Z11),0)),"",INDIRECT(CONCATENATE("Table!",ADDRESS($V11,MATCH(P$1,INDIRECT("Table!A" & $Z11):INDIRECT("Table!" & $AC$23 & $Z11),0))))) -> 0.087349318 | ... T11: =IF(ISERROR(MATCH(T$1,INDIRECT("Table!A"&$Z11):INDIRECT("Table!" & $AC$23 & $Z11),0)),"",INDIRECT(CONCATENATE("Table!",ADDRESS($V11,MATCH(T$1,INDIRECT("Table!A" & $Z11):INDIRECT("Table!" & $AC$23 & $Z11),0))))) -> 0.13460963 | V11: =MATCH($A11,Table!$A:$A,0)+$X$2-1 -> 78 | Z11: =MATCH($A11,Table!$A:$A,0)+$AB$2-1 -> 75 | AC11: U
A12: 41408 | B12: =IF(ISERROR(MATCH(B$1,INDIRECT("Table!A"&$Z12):INDIRECT("Table!" & $AC$45 & $Z12),0)),"",INDIRECT(CONCATENATE("Table!",ADDRESS($V12,MATCH(B$1,INDIRECT("Table!A" & $Z12):INDIRECT("Table!" & $AC$44 & $Z12),0))))) -> 0.27845796 | C12: =IF(ISERROR(MATCH(C$1,INDIRECT("Table!A"&$Z12):INDIRECT("Table!" & $AC$44 & $Z12),0)),"",INDIRECT(CONCATENATE("Table!",ADDRESS($V12,MATCH(C$1,INDIRECT("Table!A" & $Z12):INDIRECT("Table!" & $AC$44 & $Z12),0))))) -> 0.51891031 | D12: =IF(ISERROR(MATCH(D$1,INDIRECT("Table!A"&$Z12):INDIRECT("Table!" & $AC$44 & $Z12),0)),"",INDIRECT(CONCATENATE("Table!",ADDRESS($V12,MATCH(D$1,INDIRECT("Table!A" & $Z12):INDIRECT("Table!" & $AC$44 & $Z12),0))))) -> 0.52901357 | E12: =IF(ISERROR(MATCH(E$1,INDIRECT("Table!A"&$Z12):INDIRECT("Table!" & $AC$44 & $Z12),0)),"",INDIRECT(CONCATENATE("Table!",ADDRESS($V12,MATCH(E$1,INDIRECT("Table!A" & $Z12):INDIRECT("Table!" & $AC$44 & $Z12),0))))) -> 0.87468805 | F12: =IF(ISERROR(MATCH(F$1,INDIRECT("Table!A"&$Z12):INDIRECT("Table!" & $AC$44 & $Z12),0)),"",INDIRECT(CONCATENATE("Table!",ADDRESS($V12,MATCH(F$1,INDIRECT("Table!A" & $Z12):INDIRECT("Table!" & $AC$44 & $Z12),0))))) -> 0.60107161 | G12: =IF(ISERROR(MATCH(G$1,INDIRECT("Table!A"&$Z12):INDIRECT("Table!" & $AC$44 & $Z12),0)),"",INDIRECT(CONCATENATE("Table!",ADDRESS($V12,MATCH(G$1,INDIRECT("Table!A" & $Z12):INDIRECT("Table!" & $AC$44 & $Z12),0))))) -> 0.42195229 | H12: =IF(ISERROR(MATCH(H$1,INDIRECT("Table!A"&$Z12):INDIRECT("Table!" & $AC$44 & $Z12),0)),"",INDIRECT(CONCATENATE("Table!",ADDRESS($V12,MATCH(H$1,INDIRECT("Table!A" & $Z12):INDIRECT("Table!" & $AC$44 & $Z12),0))))) -> 0.49927998 | I12: =IF(ISERROR(MATCH(I$1,INDIRECT("Table!A"&$Z12):INDIRECT("Table!" & $AC$23 & $Z12),0)),"",INDIRECT(CONCATENATE("Table!",ADDRESS($V12,MATCH(I$1,INDIRECT("Table!A" & $Z12):INDIRECT("Table!" & $AC$23 & $Z12),0))))) -> 0.085373189 | J12: =IF(ISERROR(MATCH(J$1,INDIRECT("Table!A"&$Z12):INDIRECT("Table!" & $AC$23 & $Z12),0)),"",INDIRECT(CONCATENATE("Table!",ADDRESS($V12,MATCH(J$1,INDIRECT("Table!A" & $Z12):INDIRECT("Table!" & $AC$23 & $Z12),0))))) | K12: =IF(ISERROR(MATCH(K$1,INDIRECT("Table!A"&$Z12):INDIRECT("Table!" & $AC$23 & $Z12),0)),"",INDIRECT(CONCATENATE("Table!",ADDRESS($V12,MATCH(K$1,INDIRECT("Table!A" & $Z12):INDIRECT("Table!" & $AC$23 & $Z12),0))))) | L12: =IF(ISERROR(MATCH(L$1,INDIRECT("Table!A"&$Z12):INDIRECT("Table!" & $AC$23 & $Z12),0)),"",INDIRECT(CONCATENATE("Table!",ADDRESS($V12,MATCH(L$1,INDIRECT("Table!A" & $Z12):INDIRECT("Table!" & $AC$23 & $Z12),0))))) -> 0.82496905 | M12: =IF(ISERROR(MATCH(M$1,INDIRECT("Table!A"&$Z12):INDIRECT("Table!" & $AC$23 & $Z12),0)),"",INDIRECT(CONCATENATE("Table!",ADDRESS($V12,MATCH(M$1,INDIRECT("Table!A" & $Z12):INDIRECT("Table!" & $AC$23 & $Z12),0))))) -> 0.48442545 | N12: =IF(ISERROR(MATCH(N$1,INDIRECT("Table!A"&$Z12):INDIRECT("Table!" & $AC$23 & $Z12),0)),"",INDIRECT(CONCATENATE("Table!",ADDRESS($V12,MATCH(N$1,INDIRECT("Table!A" & $Z12):INDIRECT("Table!" & $AC$23 & $Z12),0))))) -> 0.61796793 | O12: =IF(ISERROR(MATCH(O$1,INDIRECT("Table!A"&$Z12):INDIRECT("Table!" & $AC$23 & $Z12),0)),"",INDIRECT(CONCATENATE("Table!",ADDRESS($V12,MATCH(O$1,INDIRECT("Table!A" & $Z12):INDIRECT("Table!" & $AC$23 & $Z12),0))))) -> 0.56538086 | P12: =IF(ISERROR(MATCH(P$1,INDIRECT("Table!A"&$Z12):INDIRECT("Table!" & $AC$23 & $Z12),0)),"",INDIRECT(CONCATENATE("Table!",ADDRESS($V12,MATCH(P$1,INDIRECT("Table!A" & $Z12):INDIRECT("Table!" & $AC$23 & $Z12),0))))) -> 0.086601476 | ... T12: =IF(ISERROR(MATCH(T$1,INDIRECT("Table!A"&$Z12):INDIRECT("Table!" & $AC$23 & $Z12),0)),"",INDIRECT(CONCATENATE("Table!",ADDRESS($V12,MATCH(T$1,INDIRECT("Table!A" & $Z12):INDIRECT("Table!" & $AC$23 & $Z12),0))))) -> 0.12060863 | V12: =MATCH($A12,Table!$A:$A,0)+$X$2-1 -> 90 | Z12: =MATCH($A12,Table!$A:$A,0)+$AB$2-1 -> 87 | AC12: U
A13: 41401 | B13: =IF(ISERROR(MATCH(B$1,INDIRECT("Table!A"&$Z13):INDIRECT("Table!" & $AC$45 & $Z13),0)),"",INDIRECT(CONCATENATE("Table!",ADDRESS($V13,MATCH(B$1,INDIRECT("Table!A" & $Z13):INDIRECT("Table!" & $AC$44 & $Z13),0))))) -> 0.27719848 | C13: =IF(ISERROR(MATCH(C$1,INDIRECT("Table!A"&$Z13):INDIRECT("Table!" & $AC$44 & $Z13),0)),"",INDIRECT(CONCATENATE("Table!",ADDRESS($V13,MATCH(C$1,INDIRECT("Table!A" & $Z13):INDIRECT("Table!" & $AC$44 & $Z13),0))))) -> 0.51861931 | D13: =IF(ISERROR(MATCH(D$1,INDIRECT("Table!A"&$Z13):INDIRECT("Table!" & $AC$44 & $Z13),0)),"",INDIRECT(CONCATENATE("Table!",ADDRESS($V13,MATCH(D$1,INDIRECT("Table!A" & $Z13):INDIRECT("Table!" & $AC$44 & $Z13),0))))) -> 0.52886674 | E13: =IF(ISERROR(MATCH(E$1,INDIRECT("Table!A"&$Z13):INDIRECT("Table!" & $AC$44 & $Z13),0)),"",INDIRECT(CONCATENATE("Table!",ADDRESS($V13,MATCH(E$1,INDIRECT("Table!A" & $Z13):INDIRECT("Table!" & $AC$44 & $Z13),0))))) -> 0.87133636 | F13: =IF(ISERROR(MATCH(F$1,INDIRECT("Table!A"&$Z13):INDIRECT("Table!" & $AC$44 & $Z13),0)),"",INDIRECT(CONCATENATE("Table!",ADDRESS($V13,MATCH(F$1,INDIRECT("Table!A" & $Z13):INDIRECT("Table!" & $AC$44 & $Z13),0))))) -> 0.59451202 | G13: =IF(ISERROR(MATCH(G$1,INDIRECT("Table!A"&$Z13):INDIRECT("Table!" & $AC$44 & $Z13),0)),"",INDIRECT(CONCATENATE("Table!",ADDRESS($V13,MATCH(G$1,INDIRECT("Table!A" & $Z13):INDIRECT("Table!" & $AC$44 & $Z13),0))))) -> 0.38604956 | H13: =IF(ISERROR(MATCH(H$1,INDIRECT("Table!A"&$Z13):INDIRECT("Table!" & $AC$44 & $Z13),0)),"",INDIRECT(CONCATENATE("Table!",ADDRESS($V13,MATCH(H$1,INDIRECT("Table!A" & $Z13):INDIRECT("Table!" & $AC$44 & $Z13),0))))) -> 0.69532884 | I13: =IF(ISERROR(MATCH(I$1,INDIRECT("Table!A"&$Z13):INDIRECT("Table!" & $AC$23 & $Z13),0)),"",INDIRECT(CONCATENATE("Table!",ADDRESS($V13,MATCH(I$1,INDIRECT("Table!A" & $Z13):INDIRECT("Table!" & $AC$23 & $Z13),0))))) -> 0.082987562 | J13: =IF(ISERROR(MATCH(J$1,INDIRECT("Table!A"&$Z13):INDIRECT("Table!" & $AC$23 & $Z13),0)),"",INDIRECT(CONCATENATE("Table!",ADDRESS($V13,MATCH(J$1,INDIRECT("Table!A" & $Z13):INDIRECT("Table!" & $AC$23 & $Z13),0))))) | K13: =IF(ISERROR(MATCH(K$1,INDIRECT("Table!A"&$Z13):INDIRECT("Table!" & $AC$23 & $Z13),0)),"",INDIRECT(CONCATENATE("Table!",ADDRESS($V13,MATCH(K$1,INDIRECT("Table!A" & $Z13):INDIRECT("Table!" & $AC$23 & $Z13),0))))) | L13: =IF(ISERROR(MATCH(L$1,INDIRECT("Table!A"&$Z13):INDIRECT("Table!" & $AC$23 & $Z13),0)),"",INDIRECT(CONCATENATE("Table!",ADDRESS($V13,MATCH(L$1,INDIRECT("Table!A" & $Z13):INDIRECT("Table!" & $AC$23 & $Z13),0))))) -> 0.82352728 | M13: =IF(ISERROR(MATCH(M$1,INDIRECT("Table!A"&$Z13):INDIRECT("Table!" & $AC$23 & $Z13),0)),"",INDIRECT(CONCATENATE("Table!",ADDRESS($V13,MATCH(M$1,INDIRECT("Table!A" & $Z13):INDIRECT("Table!" & $AC$23 & $Z13),0))))) -> 0.47882575 | N13: =IF(ISERROR(MATCH(N$1,INDIRECT("Table!A"&$Z13):INDIRECT("Table!" & $AC$23 & $Z13),0)),"",INDIRECT(CONCATENATE("Table!",ADDRESS($V13,MATCH(N$1,INDIRECT("Table!A" & $Z13):INDIRECT("Table!" & $AC$23 & $Z13),0))))) -> 0.61271083 | O13: =IF(ISERROR(MATCH(O$1,INDIRECT("Table!A"&$Z13):INDIRECT("Table!" & $AC$23 & $Z13),0)),"",INDIRECT(CONCATENATE("Table!",ADDRESS($V13,MATCH(O$1,INDIRECT("Table!A" & $Z13):INDIRECT("Table!" & $AC$23 & $Z13),0))))) -> 0.87670803 | P13: =IF(ISERROR(MATCH(P$1,INDIRECT("Table!A"&$Z13):INDIRECT("Table!" & $AC$23 & $Z13),0)),"",INDIRECT(CONCATENATE("Table!",ADDRESS($V13,MATCH(P$1,INDIRECT("Table!A" & $Z13):INDIRECT("Table!" & $AC$23 & $Z13),0))))) -> 0.08421585 | ... T13: =IF(ISERROR(MATCH(T$1,INDIRECT("Table!A"&$Z13):INDIRECT("Table!" & $AC$23 & $Z13),0)),"",INDIRECT(CONCATENATE("Table!",ADDRESS($V13,MATCH(T$1,INDIRECT("Table!A" & $Z13):INDIRECT("Table!" & $AC$23 & $Z13),0))))) -> 0.10476119 | V13: =MATCH($A13,Table!$A:$A,0)+$X$2-1 -> 102 | Z13: =MATCH($A13,Table!$A:$A,0)+$AB$2-1 -> 99 | AC13: U
A14: 41395 | B14: =IF(ISERROR(MATCH(B$1,INDIRECT("Table!A"&$Z14):INDIRECT("Table!" & $AC$45 & $Z14),0)),"",INDIRECT(CONCATENATE("Table!",ADDRESS($V14,MATCH(B$1,INDIRECT("Table!A" & $Z14):INDIRECT("Table!" & $AC$44 & $Z14),0))))) -> 0.30140273 | C14: =IF(ISERROR(MATCH(C$1,INDIRECT("Table!A"&$Z14):INDIRECT("Table!" & $AC$44 & $Z14),0)),"",INDIRECT(CONCATENATE("Table!",ADDRESS($V14,MATCH(C$1,INDIRECT("Table!A" & $Z14):INDIRECT("Table!" & $AC$44 & $Z14),0))))) -> 0.51693776 | D14: =IF(ISERROR(MATCH(D$1,INDIRECT("Table!A"&$Z14):INDIRECT("Table!" & $AC$44 & $Z14),0)),"",INDIRECT(CONCATENATE("Table!",ADDRESS($V14,MATCH(D$1,INDIRECT("Table!A" & $Z14):INDIRECT("Table!" & $AC$44 & $Z14),0))))) -> 0.52736457 | E14: =IF(ISERROR(MATCH(E$1,INDIRECT("Table!A"&$Z14):INDIRECT("Table!" & $AC$44 & $Z14),0)),"",INDIRECT(CONCATENATE("Table!",ADDRESS($V14,MATCH(E$1,INDIRECT("Table!A" & $Z14):INDIRECT("Table!" & $AC$44 & $Z14),0))))) -> 0.86762038 | F14: =IF(ISERROR(MATCH(F$1,INDIRECT("Table!A"&$Z14):INDIRECT("Table!" & $AC$44 & $Z14),0)),"",INDIRECT(CONCATENATE("Table!",ADDRESS($V14,MATCH(F$1,INDIRECT("Table!A" & $Z14):INDIRECT("Table!" & $AC$44 & $Z14),0))))) -> 0.58990163 | G14: =IF(ISERROR(MATCH(G$1,INDIRECT("Table!A"&$Z14):INDIRECT("Table!" & $AC$44 & $Z14),0)),"",INDIRECT(CONCATENATE("Table!",ADDRESS($V14,MATCH(G$1,INDIRECT("Table!A" & $Z14):INDIRECT("Table!" & $AC$44 & $Z14),0))))) -> 0.38434293 | H14: =IF(ISERROR(MATCH(H$1,INDIRECT("Table!A"&$Z14):INDIRECT("Table!" & $AC$44 & $Z14),0)),"",INDIRECT(CONCATENATE("Table!",ADDRESS($V14,MATCH(H$1,INDIRECT("Table!A" & $Z14):INDIRECT("Table!" & $AC$44 & $Z14),0))))) -> 0.69353376 | I14: =IF(ISERROR(MATCH(I$1,INDIRECT("Table!A"&$Z14):INDIRECT("Table!" & $AC$23 & $Z14),0)),"",INDIRECT(CONCATENATE("Table!",ADDRESS($V14,MATCH(I$1,INDIRECT("Table!A" & $Z14):INDIRECT("Table!" & $AC$23 & $Z14),0))))) -> 0.082836428 | J14: =IF(ISERROR(MATCH(J$1,INDIRECT("Table!A"&$Z14):INDIRECT("Table!" & $AC$23 & $Z14),0)),"",INDIRECT(CONCATENATE("Table!",ADDRESS($V14,MATCH(J$1,INDIRECT("Table!A" & $Z14):INDIRECT("Table!" & $AC$23 & $Z14),0))))) | K14: =IF(ISERROR(MATCH(K$1,INDIRECT("Table!A"&$Z14):INDIRECT("Table!" & $AC$23 & $Z14),0)),"",INDIRECT(CONCATENATE("Table!",ADDRESS($V14,MATCH(K$1,INDIRECT("Table!A" & $Z14):INDIRECT("Table!" & $AC$23 & $Z14),0))))) | L14: =IF(ISERROR(MATCH(L$1,INDIRECT("Table!A"&$Z14):INDIRECT("Table!" & $AC$23 & $Z14),0)),"",INDIRECT(CONCATENATE("Table!",ADDRESS($V14,MATCH(L$1,INDIRECT("Table!A" & $Z14):INDIRECT("Table!" & $AC$23 & $Z14),0))))) -> 0.82183581 | M14: =IF(ISERROR(MATCH(M$1,INDIRECT("Table!A"&$Z14):INDIRECT("Table!" & $AC$23 & $Z14),0)),"",INDIRECT(CONCATENATE("Table!",ADDRESS($V14,MATCH(M$1,INDIRECT("Table!A" & $Z14):INDIRECT("Table!" & $AC$23 & $Z14),0))))) -> 0.49346488 | N14: =IF(ISERROR(MATCH(N$1,INDIRECT("Table!A"&$Z14):INDIRECT("Table!" & $AC$23 & $Z14),0)),"",INDIRECT(CONCATENATE("Table!",ADDRESS($V14,MATCH(N$1,INDIRECT("Table!A" & $Z14):INDIRECT("Table!" & $AC$23 & $Z14),0))))) -> 0.60816089 | O14: =IF(ISERROR(MATCH(O$1,INDIRECT("Table!A"&$Z14):INDIRECT("Table!" & $AC$23 & $Z14),0)),"",INDIRECT(CONCATENATE("Table!",ADDRESS($V14,MATCH(O$1,INDIRECT("Table!A" & $Z14):INDIRECT("Table!" & $AC$23 & $Z14),0))))) -> 0.87539799 | P14: =IF(ISERROR(MATCH(P$1,INDIRECT("Table!A"&$Z14):INDIRECT("Table!" & $AC$23 & $Z14),0)),"",INDIRECT(CONCATENATE("Table!",ADDRESS($V14,MATCH(P$1,INDIRECT("Table!A" & $Z14):INDIRECT("Table!" & $AC$23 & $Z14),0))))) -> 0.084047255 | ... T14: =IF(ISERROR(MATCH(T$1,INDIRECT("Table!A"&$Z14):INDIRECT("Table!" & $AC$23 & $Z14),0)),"",INDIRECT(CONCATENATE("Table!",ADDRESS($V14,MATCH(T$1,INDIRECT("Table!A" & $Z14):INDIRECT("Table!" & $AC$23 & $Z14),0))))) -> 0.10436228 | V14: =MATCH($A14,Table!$A:$A,0)+$X$2-1 -> 114 | Z14: =MATCH($A14,Table!$A:$A,0)+$AB$2-1 -> 111 | AC14: U
