Workbook

Sheet Table
A1: 41443
A2: Site | C2: CGC | D2: CGC | E2: RDC | F2: RDC | G2: RDC | H2: RDC | I2: RDC | J2: RDC | K2: RDC | L2: RDC | M2: FDC | N2: FDC | O2: FDC | P2: FDC | Q2: FDC | R2: FDC | S2: FDC | T2: ZDC | U2: ZDC | AA2: Site | AC2: CGC | AD2: RDC | AF2: FDC
A3: VMAX | C3: 0623 | D3: 0745 | E3: 0552 | F3: 0678 | G3: 3286 | H3: 3073 | I3: 2230 | J3: 3696 | K3: 4330 | L3: 0347 | M3: 0879 | N3: 3004 | O3: 2804 | P3: 2231 | Q3: 3875 | R3: 4652 | S3: 0349 | T3: 2262 | U3: 0377 | AA3: VMAX | AC3: 0623 | AD3: 3073 | AE3: 0347 | AF3: 3004 | AG3: 0349
A4: Enabled Pool Devices | B4: Total GB | C4: 143393 | D4: 150516.7 | E4: 150516.7 | F4: 181997.8 | G4: 165452.5 | H4: 132132.9 | I4: 170968.6 | J4: 165453.5 | K4: 92411.6 | L4: 132070 | M4: 193029.1 | N4: 132132.9 | O4: 82726.6 | P4: 275755 | Q4: 82726.6 | R4: 188981.6 | S4: 132070 | T4: 55151 | U4: 33090.5 | AA4: FC Pool Devices | AB4: Total GB | AC4: 143392.2 | AD4: 132132 | AE4: 83196.1 | AF4: 132132.2 | AG4: 83196.1
B5: Used GB | C5: 41869 | D5: 78586.4 | E5: 80068.9 | F5: 143499.7 | G5: 104937 | H5: 57215.5 | I5: 87798.6 | J5: 16938.8 | K5: 831.1 | L5: 4.7 | M5: 161583.1 | N5: 57900.9 | O5: 53826.7 | P5: 159806.2 | Q5: 8703.3 | R5: 1940.8 | S5: 4.7 | T5: 8546.7 | U5: 4963.7 | AB5: Used GB | AC5: 41869 | AD5: 57215.5 | AE5: 4.7 | AF5: 57900.9 | AG5: 4.7
B6: % full | C6: =C5/C4 -> 0.29198775 | D6: =D5/D4 -> 0.52211084 | E6: =E5/E4 -> 0.53196024 | F6: =F5/F4 -> 0.78846942 | G6: =G5/G4 -> 0.63424246 | H6: =H5/H4 -> 0.43301479 | I6: =I5/I4 -> 0.5135364 | J6: =J5/J4 -> 0.10237801 | ... U6: =U5/U4 -> 0.15000378 | AB6: % full | AC6: =AC5/AC4 -> 0.29198938 | AD6: =AD5/AD4 -> 0.43301774 | AE6: =AE5/AE4 -> 5.6493033e-05 | AF6: =AF5/AF4 -> 0.43820431 | AG6: =AG5/AG4 -> 5.6493033e-05
A7: Thin Devices | B7: # Devices | C7: 5870 | D7: 3333 | E7: 3330 | F7: 9457 | G7: 8428 | H7: 15703 | I7: 7403 | J7: 9599 | K7: 4073 | L7: 6399 | M7: 9289 | N7: 12295 | O7: 4354 | P7: 10027 | Q7: 4799 | R7: 7192 | S7: 6399 | T7: 2000 | U7: 1250 | V7: 2231 - Configured Devices 10027 | AA7: EFD Pool Devices | AB7: Total GB | AC7: 9191.8 | AD7: 13787.7 | AE7: 8804.8 | AF7: 13787.7 | AG7: 8804.8
B8: Virtual Capacity GB | C8: =C7*33.717 -> 197918.79 | D8: =D7*33.717 -> 112378.76 | E8: =E7*33.717 -> 112277.61 | F8: =F7*33.717 -> 318861.67 | G8: =G7*33.717 -> 284166.88 | H8: =H7*33.717 -> 529458.05 | I8: =I7*33.717 -> 249606.95 | J8: =J7*33.717 -> 323649.48 | ... U8: =U7*33.717 -> 42146.25 | AB8: Used GB | AC8: 8495.5 | AD8: 13649.5 | AE8: 0 | AF8: 13644 | AG8: 0
B9: capacity threshold | C9: 164000 | D9: 109880 | E9: 109880 | F9: 328000 | G9: 330905 | H9: 264264 | I9: 242663.6 | J9: 328000 | K9: 328000 | L9: 328000 | M9: 328000 | N9: 264264.4 | O9: 328000 | P9: 352965.4 | Q9: 328000 | R9: 328000 | S9: 328000 | T9: =2*T4 -> 110302 | U9: =2*U4 -> 66181 | AB9: % full | AC9: =AC8/AC7 -> 0.9242477 | AD9: =AD8/AD7 -> 0.98997657 | AE9: =AE8/AE7 -> 0 | AF9: =AF8/AF7 -> 0.98957767 | AG9: =AG8/AG7 -> 0
B10: # Allocated | C10: =SUM(C7-464) -> 5406 | D10: =SUM(D7-632) -> 2701 | E10: =SUM(E7-598) -> 2732 | F10: =SUM(F7-1243) -> 8214 | G10: =SUM(G7-4550) -> 3878 | H10: =SUM(H7-2046) -> 13657 | I10: =SUM(I7-(3249-2000)) -> 6154 | J10: =SUM(J7-9172) -> 427 | K10: =SUM(K7-3706) -> 367 | L10: =SUM(L7-6312) -> 87 | M10: =SUM(M7-936) -> 8353 | N10: =SUM(N7-1164) -> 11131 | O10: =SUM(O7-329) -> 4025 | P10: =SUM(P7-(5201-2614)) -> 7440 | Q10: =SUM(Q7-3930) -> 869 | R10: =SUM(R7-6815) -> 377 | S10: =SUM(S7-6199) -> 200 | T10: =SUM(T7-917) -> 1083 | U10: =SUM(U7-752) -> 498 | V10: 3073 remaining | AA10: SATA Pool Devices | AB10: Total GB | AC10: 97433.6 | AD10: 243584.4 | AE10: 132070.3 | AF10: 292299.3 | AG10: 132070.4
B11: GB Allocated | C11: =(C10*33.717) -> 182274.1 | D11: =(D10*33.717) -> 91069.617 | E11: =(E10*33.717) -> 92114.844 | F11: =(F10*33.717) -> 276951.44 | G11: =(G10*33.717)*2 -> 261509.05 | H11: =(H10*33.717) -> 460473.07 | I11: =(I10*33.717)-(2000*33.717) -> 140060.42 | J11: =J10*33.717 -> 14397.159 | K11: =K10*33.717 -> 12374.139 | L11: =L10*33.717 -> 2933.379 | M11: =M10*33.717 -> 281638.1 | N11: =N10*33.717 -> 375303.93 | O11: =(O10*33.717) -> 135710.92 | P11: =P10*33.717 -> 250854.48 | Q11: =Q10*33.717 -> 29300.073 | R11: =R10*33.717 -> 12711.309 | S11: =S10*33.717 -> 6743.4 | T11: =T10*33.717 -> 36515.511 | U11: =U10*33.717 -> 16791.066 | V11: =344240-H11 -> -116233.07 | W11: GB | AB11: Used GB | AC11: 38973.2 | AD11: 95835.1 | AE11: 0.1 | AF11: 90386.6 | AG11: 0
B12: subscription | C12: =C11/C4 -> 1.2711506 | D12: =D11/D4 -> 0.6050466 | E12: =E11/E4 -> 0.61199086 | F12: =F11/F4 -> 1.5217296 | G12: =G11/G4 -> 1.5805688 | H12: =H11/H4 -> 3.4849237 | I12: =I11/I4 -> 0.8192172 | J12: =J11/J4 -> 0.087016346 | ... U12: =U11/U4 -> 0.5074286 | AB12: % full | AC12: =AC11/AC10 -> 0.39999754 | AD12: =AD11/AD10 -> 0.39343694 | AE12: =AE11/AE10 -> 7.5717251e-07 | AF12: =AF11/AF10 -> 0.30922619 | AG12: =AG11/AG10 -> 0
A13: 41437
A14: Site | C14: CGC | D14: CGC | E14: RDC | F14: RDC | G14: RDC | H14: RDC | I14: RDC | J14: RDC | K14: RDC | L14: RDC | M14: FDC | N14: FDC | O14: FDC | P14: FDC | Q14: FDC | R14: FDC | S14: FDC | T14: ZDC | U14: ZDC | AA14: Site | AC14: CGC | AD14: RDC | AE14: FDC
A15: VMAX | C15: 0623 | D15: 0745 | E15: 0552 | F15: 0678 | G15: 3286 | H15: 3073 | I15: 2230 | J15: 3696 | K15: 4330 | L15: 0347 | M15: 0879 | N15: 3004 | O15: 2804 | P15: 2231 | Q15: 3875 | R15: 4652 | S15: 0349 | T15: 2262 | U15: 0377 | AA15: VMAX | AC15: 0623 | AD15: 3073 | AE15: 3004
A16: Enabled Pool Devices | B16: Total GB | C16: 143393 | D16: 150516.7 | E16: 150516.7 | F16: 181997.8 | G16: 165452.5 | H16: 132132.9 | I16: 170968.6 | J16: 165453.5 | K16: 92411.6 | L16: 132070 | M16: 193029.1 | N16: 132132.9 | O16: 82726.6 | P16: 275755 | Q16: 82726.6 | R16: 188981.6 | S16: 132070 | T16: 55151 | U16: 33090.5 | AA16: FC Pool Devices | AB16: Total GB | AC16: 143392.2 | AD16: 132132 | AE16: 132132.2
B17: Used GB | C17: 41671.5 | D17: 78563.7 | E17: 80046.6 | F17: 161154.2 | G17: 103958.2 | H17: 55020.1 | I17: 87561.9 | J17: 16517.9 | K17: 2.7 | L17: 4.7 | M17: 161405.8 | N17: 56132.5 | O17: 53380.2 | P17: 160058.2 | Q17: 8492.9 | R17: 5.4 | S17: 4.7 | T17: 8183.4 | U17: 4698.2 | AB17: Used GB | AC17: 41815.6 | AD17: 55035.3 | AE17: 55997
B18: % full | C18: =C17/C16 -> 0.29061042 | D18: =D17/D16 -> 0.52196002 | E18: =E17/E16 -> 0.53181208 | F18: =F17/F16 -> 0.88547334 | G18: =G17/G16 -> 0.62832656 | H18: =H17/H16 -> 0.4163997 | I18: =I17/I16 -> 0.51215194 | J18: =J17/J16 -> 0.099834092 | ... U18: =U17/U16 -> 0.14198033 | AB18: % full | AC18: =AC17/AC16 -> 0.29161698 | AD18: =AD17/AD16 -> 0.41651757 | AE18: =AE17/AE16 -> 0.42379526
A19: Thin Devices | B19: # Devices | C19: 5870 | D19: 3333 | E19: 3330 | F19: 9457 | G19: 8428 | H19: 15703 | I19: 7403 | J19: 9599 | K19: 3593 | L19: 6399 | M19: 9289 | N19: 12295 | O19: 4354 | P19: 10027 | Q19: 4799 | R19: 7192 | S19: 6399 | T19: 2000 | U19: 1250 | V19: 2231 - Configured Devices 10027 | AA19: EFD Pool Devices | AB19: Total GB | AC19: 9191.8 | AD19: 13787.7 | AE19: 13787.7
B20: Virtual Capacity GB | C20: =C19*33.717 -> 197918.79 | D20: =D19*33.717 -> 112378.76 | E20: =E19*33.717 -> 112277.61 | F20: =F19*33.717 -> 318861.67 | G20: =G19*33.717 -> 284166.88 | H20: =H19*33.717 -> 529458.05 | I20: =I19*33.717 -> 249606.95 | J20: =J19*33.717 -> 323649.48 | ... U20: =U19*33.717 -> 42146.25 | AB20: Used GB | AC20: 8299.9 | AD20: 13646 | AE20: 13645.8
B21: capacity threshold | C21: 164000 | D21: 109880 | E21: 109880 | F21: 328000 | G21: 330905 | H21: 264264 | I21: 242663.6 | J21: 328000 | K21: 328000 | L21: 328000 | M21: 328000 | N21: 264264.4 | O21: 328000 | P21: 352965.4 | Q21: 328000 | R21: 328000 | S21: 328000 | T21: =2*T16 -> 110302 | U21: =2*U16 -> 66181 | AB21: % full | AC21: =AC20/AC19 -> 0.90296786 | AD21: =AD20/AD19 -> 0.98972272 | AE21: =AE20/AE19 -> 0.98970822
B22: # Allocated | C22: =SUM(C19-531) -> 5339 | D22: =SUM(D19-646) -> 2687 | E22: =SUM(E19-612) -> 2718 | F22: =SUM(F19-1211) -> 8246 | G22: =SUM(G19-4550) -> 3878 | H22: =SUM(H19-2076) -> 13627 | I22: =SUM(I19-(3249-2000)) -> 6154 | J22: =SUM(J19-9172) -> 427 | K22: =SUM(K19-3504) -> 89 | L22: =SUM(L19-6312) -> 87 | M22: =SUM(M19-909) -> 8380 | N22: =SUM(N19-1164) -> 11131 | O22: =SUM(O19-329) -> 4025 | P22: =SUM(P19-(5201-2614)) -> 7440 | Q22: =SUM(Q19-3930) -> 869 | R22: =SUM(R19-7032) -> 160 | S22: =SUM(S19-6378) -> 21 | T22: =SUM(T19-1024) -> 976 | U22: =SUM(U19-752) -> 498 | V22: 3073 remaining | AA22: SATA Pool Devices | AB22: Total GB | AC22: 97433.6 | AD22: 243584.4 | AE22: 292299.3
B23: GB Allocated | C23: =(C22*33.717) -> 180015.06 | D23: =(D22*33.717) -> 90597.579 | E23: =(E22*33.717) -> 91642.806 | F23: =(F22*33.717) -> 278030.38 | G23: =(G22*33.717)*2 -> 261509.05 | H23: =(H22*33.717) -> 459461.56 | I23: =(I22*33.717)-(2000*33.717) -> 140060.42 | J23: =J22*33.717 -> 14397.159 | K23: =K22*33.717 -> 3000.813 | L23: =L22*33.717 -> 2933.379 | M23: =M22*33.717 -> 282548.46 | N23: =N22*33.717 -> 375303.93 | O23: =(O22*33.717) -> 135710.92 | P23: =P22*33.717 -> 250854.48 | Q23: =Q22*33.717 -> 29300.073 | R23: =R22*33.717 -> 5394.72 | S23: =S22*33.717 -> 708.057 | T23: =T22*33.717 -> 32907.792 | U23: =U22*33.717 -> 16791.066 | V23: =344240-H23 -> -115221.56 | W23: GB | AB23: Used GB | AC23: 38973.2 | AD23: 96614.9 | AE23: 91250.3
B24: subscription | C24: =C23/C16 -> 1.2553964 | D24: =D23/D16 -> 0.60191048 | E24: =E23/E16 -> 0.60885474 | F24: =F23/F16 -> 1.5276579 | G24: =G23/G16 -> 1.5805688 | H24: =H23/H16 -> 3.4772684 | I24: =I23/I16 -> 0.8192172 | J24: =J23/J16 -> 0.087016346 | ... U24: =U23/U16 -> 0.5074286 | AB24: % full | AC24: =AC23/AC22 -> 0.39999754 | AD24: =AD23/AD22 -> 0.39663829 | AE24: =AE23/AE22 -> 0.31218104
A25: 41430
A26: Site | C26: CGC | D26: CGC | E26: RDC | F26: RDC | G26: RDC | H26: RDC | I26: RDC | J26: RDC | K26: RDC | L26: FDC | M26: FDC | N26: FDC | O26: FDC | P26: FDC | Q26: FDC | R26: ZDC | S26: ZDC | AA26: Site | AC26: CGC | AD26: RDC | AE26: FDC
A27: VMAX | C27: 0623 | D27: 0745 | E27: 0552 | F27: 0678 | G27: 3286 | H27: 3073 | I27: 2230 | J27: 3696 | K27: 4330 | L27: 0879 | M27: 3004 | N27: 2804 | O27: 2231 | P27: 3875 | Q27: 4652 | R27: 2262 | S27: 0377 | AA27: VMAX | AC27: 0623 | AD27: 3073 | AE27: 3004
A28: Enabled Pool Devices | B28: Total GB | C28: 143392.2 | D28: 150515.8 | E28: 150515.8 | F28: 181997.8 | G28: 165452.5 | H28: 132132 | I28: 170968.6 | J28: 166077.9 | K28: 95044.2 | L28: 193027 | M28: 132132.2 | N28: 82726.3 | O28: 275755 | P28: 83039 | Q28: 188981.6 | R28: 55151 | S28: 33090.5 | AA28: FC Pool Devices | AB28: Total GB | AC28: 143392.2 | AD28: 132132 | AE28: 132132.2
B29: Used GB | C29: 41815.6 | D29: 78524.1 | E29: 80027.3 | F29: 160942.6 | G29: 103219.7 | H29: 52145.5 | I29: 87357 | J29: 15903.5 | K29: 2.7 | L29: 160867.5 | M29: 60681.2 | N29: 52956.3 | O29: 159742.3 | P29: 8053.7 | Q29: 5.4 | R29: 8116.8 | S29: 4670.6 | AB29: Used GB | AC29: 41815.6 | AD29: 52145.5 | AE29: 60861.2
B30: % full | C30: =C29/C28 -> 0.29161698 | D30: =D29/D28 -> 0.52170005 | E30: =E29/E28 -> 0.53168704 | F30: =F29/F28 -> 0.88431069 | G30: =G29/G28 -> 0.62386304 | H30: =H29/H28 -> 0.39464702 | I30: =I29/I28 -> 0.51095347 | J30: =J29/J28 -> 0.095759279 | ... S30: =S29/S28 -> 0.14114625 | AB30: % full | AC30: =AC29/AC28 -> 0.29161698 | AD30: =AD29/AD28 -> 0.39464702 | AE30: =AE29/AE28 -> 0.46060839
A31: Thin Devices | B31: # Devices | C31: 5870 | D31: 3333 | E31: 3330 | F31: 9457 | G31: 8428 | H31: 15703 | I31: 7403 | J31: 9599 | K31: 3593 | L31: 9289 | M31: 12295 | N31: 4354 | O31: 10027 | P31: 4799 | Q31: 7192 | R31: 2000 | S31: 1250 | AA31: EFD Pool Devices | AB31: Total GB | AC31: 9191.8 | AD31: 13787.7 | AE31: 13787.7
B32: Virtual Capacity GB | C32: =C31*33.717 -> 197918.79 | D32: =D31*33.717 -> 112378.76 | E32: =E31*33.717 -> 112277.61 | F32: =F31*33.717 -> 318861.67 | G32: =G31*33.717 -> 284166.88 | H32: =H31*33.717 -> 529458.05 | I32: =I31*33.717 -> 249606.95 | J32: =J31*33.717 -> 323649.48 | ... S32: =S31*33.717 -> 42146.25 | AB32: Used GB | AC32: 8299.9 | AD32: 13646.7 | AE32: 13649.1
B33: capacity threshold | C33: 164000 | D33: 109880 | E33: 109880 | F33: 328000 | G33: 330905 | H33: 264264 | I33: 242663.6 | J33: 328000 | K33: 328000 | L33: 328000 | M33: 264264.4 | N33: 328000 | O33: 352965.4 | P33: 328000 | Q33: 328000 | R33: =2*R28 -> 110302 | S33: =2*S28 -> 66181 | AB33: % full | AC33: =AC32/AC31 -> 0.90296786 | AD33: =AD32/AD31 -> 0.98977349 | AE33: =AE32/AE31 -> 0.98994756
B34: # Allocated | C34: =SUM(C31-531) -> 5339 | D34: =SUM(D31-650) -> 2683 | E34: =SUM(E31-616) -> 2714 | F34: =SUM(F31-1211) -> 8246 | G34: =SUM(G31-4559) -> 3869 | H34: =SUM(H31-2079) -> 13624 | I34: =SUM(I31-(3249-2000)) -> 6154 | J34: =SUM(J31-9172) -> 427 | K34: =SUM(K31-3504) -> 89 | L34: =SUM(L31-909) -> 8380 | M34: =SUM(M31-1185) -> 11110 | N34: =SUM(N31-338) -> 4016 | O34: =SUM(O31-(5201-2614)) -> 7440 | P34: =SUM(P31-3930) -> 869 | Q34: =SUM(Q31-7032) -> 160 | R34: =SUM(R31-1033) -> 967 | S34: =SUM(S31-752) -> 498 | AA34: SATA Pool Devices | AB34: Total GB | AC34: 97433.6 | AD34: 243584.4 | AE34: 292299.3
B35: GB Allocated | C35: =(C34*33.717) -> 180015.06 | D35: =(D34*33.717) -> 90462.711 | E35: =(E34*33.717) -> 91507.938 | F35: =(F34*33.717) -> 278030.38 | G35: =(G34*33.717)*2 -> 260902.15 | H35: =(H34*33.717) -> 459360.41 | I35: =(I34*33.717)-(2000*33.717) -> 140060.42 | J35: =J34*33.717 -> 14397.159 | K35: =K34*33.717 -> 3000.813 | L35: =L34*33.717 -> 282548.46 | M35: =M34*33.717 -> 374595.87 | N35: =(N34*33.717) -> 135407.47 | O35: =O34*33.717 -> 250854.48 | P35: =P34*33.717 -> 29300.073 | Q35: =Q34*33.717 -> 5394.72 | R35: =R34*33.717 -> 32604.339 | S35: =S34*33.717 -> 16791.066 | U35: GB | AB35: Used GB | AC35: 38973.2 | AD35: 98820.2 | AE35: 85901.5
B36: subscription | C36: =C35/C28 -> 1.2554035 | D36: =D35/D28 -> 0.60101804 | E36: =E35/E28 -> 0.60796234 | F36: =F35/F28 -> 1.5276579 | G36: =G35/G28 -> 1.5769006 | H36: =H35/H28 -> 3.4765266 | I36: =I35/I28 -> 0.8192172 | J36: =J35/J28 -> 0.086689192 | ... S36: =S35/S28 -> 0.5074286 | AB36: % full | AC36: =AC35/AC34 -> 0.39999754 | AD36: =AD35/AD34 -> 0.40569183 | AE36: =AE35/AE34 -> 0.29388199
A37: 41428
A38: Site | C38: CGC | D38: CGC | E38: RDC | F38: RDC | G38: RDC | H38: RDC | I38: RDC | J38: RDC | K38: RDC | L38: FDC | M38: FDC | N38: FDC | O38: FDC | P38: FDC | Q38: FDC | R38: ZDC | S38: ZDC | AA38: Site | AC38: CGC | AD38: RDC | AE38: FDC
A39: VMAX | C39: 0623 | D39: 0745 | E39: 0552 | F39: 0678 | G39: 3286 | H39: 3073 | I39: 2230 | J39: 3696 | K39: 4330 | L39: 0879 | M39: 3004 | N39: 2804 | O39: 2231 | P39: 3875 | Q39: 4652 | R39: 2262 | S39: 0377 | AA39: VMAX | AC39: 0623 | AD39: 3073 | AE39: 3004
A40: Enabled Pool Devices | B40: Total GB | C40: 143392.2 | D40: 150515.8 | E40: 150515.8 | F40: 181997.8 | G40: 165452.5 | H40: 132132 | I40: 170968.6 | J40: 166077.9 | K40: 95044.2 | L40: 193027 | M40: 132132.2 | N40: 82726.3 | O40: 275755 | P40: 83039 | Q40: 191818.2 | R40: 55151 | S40: 33090.5 | AA40: FC Pool Devices | AB40: Total GB | AC40: 143392.2 | AD40: 132132 | AE40: 132132.2
B41: Used GB | C41: 41390 | D41: 78520 | E41: 80023.3 | F41: 160905.4 | G41: 103032.9 | H41: 53612.8 | I41: 87082 | J41: 15883.8 | K41: 2.7 | L41: 160821.4 | M41: 61608.7 | N41: 52880.7 | O41: 159452.5 | P41: 8043.9 | Q41: 5.4 | R41: 8039.2 | S41: 4660.6 | AB41: Used GB | AC41: 41390 | AD41: 53612.8 | AE41: 61608.7
B42: % full | C42: =C41/C40 -> 0.28864889 | D42: =D41/D40 -> 0.52167281 | E42: =E41/E40 -> 0.53166046 | F42: =F41/F40 -> 0.88410629 | G42: =G41/G40 -> 0.62273402 | H42: =H41/H40 -> 0.40575182 | I42: =I41/I40 -> 0.50934499 | J42: =J41/J40 -> 0.09564066 | ... S42: =S41/S40 -> 0.14084405 | AB42: % full | AC42: =AC41/AC40 -> 0.28864889 | AD42: =AD41/AD40 -> 0.40575182 | AE42: =AE41/AE40 -> 0.4662656
A43: Thin Devices | B43: # Devices | C43: 5870 | D43: 3333 | E43: 3330 | F43: 9457 | G43: 8428 | H43: 15703 | I43: 7403 | J43: 9599 | K43: 3522 | L43: 9289 | M43: 12295 | N43: 4354 | O43: 10027 | P43: 4799 | Q43: 7200 | R43: 2000 | S43: 1250 | AA43: EFD Pool Devices | AB43: Total GB | AC43: 9191.8 | AD43: 13787.7 | AE43: 13787.7
B44: Virtual Capacity GB | C44: =C43*33.717 -> 197918.79 | D44: =D43*33.717 -> 112378.76 | E44: =E43*33.717 -> 112277.61 | F44: =F43*33.717 -> 318861.67 | G44: =G43*33.717 -> 284166.88 | H44: =H43*33.717 -> 529458.05 | I44: =I43*33.717 -> 249606.95 | J44: =J43*33.717 -> 323649.48 | ... S44: =S43*33.717 -> 42146.25 | AB44: Used GB | AC44: 8676.3 | AD44: 13648.2 | AE44: 13648.4
B45: capacity threshold | C45: 164000 | D45: 109880 | E45: 109880 | F45: 328000 | G45: 330905 | H45: 264264 | I45: 242663.6 | J45: 328000 | K45: 328000 | L45: 328000 | M45: 264264.4 | N45: 328000 | O45: 352965.4 | P45: 328000 | Q45: 328000 | R45: =2*R40 -> 110302 | S45: =2*S40 -> 66181 | AB45: % full | AC45: =AC44/AC43 -> 0.9439174 | AD45: =AD44/AD43 -> 0.98988229 | AE45: =AE44/AE43 -> 0.98989679
B46: # Allocated | C46: =SUM(C43-531) -> 5339 | D46: =SUM(D43-650) -> 2683 | E46: =SUM(E43-616) -> 2714 | F46: =SUM(F43-1211) -> 8246 | G46: =SUM(G43-4580) -> 3848 | H46: =SUM(H43-2081) -> 13622 | I46: =SUM(I43-(3272-2000)) -> 6131 | J46: =SUM(J43-9219) -> 380 | K46: =SUM(K43-3522) -> 0 | L46: =SUM(L43-909) -> 8380 | M46: =SUM(M43-1185) -> 11110 | N46: =SUM(N43-359) -> 3995 | O46: =SUM(O43-(5224-2614)) -> 7417 | P46: =SUM(P43-3943) -> 856 | Q46: =SUM(Q43-7200) -> 0 | R46: =SUM(R43-1033) -> 967 | S46: =SUM(S43-752) -> 498 | AA46: SATA Pool Devices | AB46: Total GB | AC46: 97433.6 | AD46: 243584.4 | AE46: 292299.3
B47: GB Allocated | C47: =(C46*33.717) -> 180015.06 | D47: =(D46*33.717) -> 90462.711 | E47: =(E46*33.717) -> 91507.938 | F47: =(F46*33.717) -> 278030.38 | G47: =(G46*33.717)*2 -> 259486.03 | H47: =(H46*33.717) -> 459292.97 | I47: =(I46*33.717)-(2000*33.717) -> 139284.93 | J47: =J46*33.717 -> 12812.46 | K47: =K46*33.717 -> 0 | L47: =L46*33.717 -> 282548.46 | M47: =M46*33.717 -> 374595.87 | N47: =(N46*33.717) -> 134699.42 | O47: =O46*33.717 -> 250078.99 | P47: =P46*33.717 -> 28861.752 | Q47: =Q46*33.717 -> 0 | R47: =R46*33.717 -> 32604.339 | S47: =S46*33.717 -> 16791.066 | U47: GB | AB47: Used GB | AC47: 38973.2 | AD47: 96777.4 | AE47: 84331.1
B48: subscription | C48: =C47/C40 -> 1.2554035 | D48: =D47/D40 -> 0.60101804 | E48: =E47/E40 -> 0.60796234 | F48: =F47/F40 -> 1.5276579 | G48: =G47/G40 -> 1.5683416 | H48: =H47/H40 -> 3.4760162 | I48: =I47/I40 -> 0.81468133 | J48: =J47/J40 -> 0.077147291 | ... S48: =S47/S40 -> 0.5074286 | AB48: % full | AC48: =AC47/AC46 -> 0.39999754 | AD48: =AD47/AD46 -> 0.39730541 | AE48: =AE47/AE46 -> 0.28850941
A49: 41423
A50: Site | C50: CGC | D50: CGC | E50: RDC | F50: RDC | G50: RDC | H50: RDC | I50: RDC | J50: RDC | K50: RDC | L50: FDC | M50: FDC | N50: FDC | O50: FDC | P50: FDC | Q50: FDC | R50: ZDC | S50: ZDC | AA50: Site | AC50: CGC | AD50: RDC | AE50: FDC
A51: VMAX | C51: 0623 | D51: 0745 | E51: 0552 | F51: 0678 | G51: 3286 | H51: 3073 | I51: 2230 | J51: 3696 | K51: 4330 | L51: 0879 | M51: 3004 | N51: 2804 | O51: 2231 | P51: 3875 | Q51: 4652 | R51: 2262 | S51: 0377 | AA51: VMAX | AC51: 0623 | AD51: 3073 | AE51: 3004
A52: Enabled Pool Devices | B52: Total GB | C52: 143392.2 | D52: 150515.8 | E52: 150515.8 | F52: 181997.8 | G52: 165452.5 | H52: 132132 | I52: 170968.6 | J52: 166077.9 | K52: 95044.2 | L52: 193027 | M52: 132132.2 | N52: 82726.3 | O52: 275755 | P52: 83039 | Q52: 191818.2 | R52: 55151 | S52: 33090.5 | AA52: FC Pool Devices | AB52: Total GB | AC52: 143392.2 | AD52: 132132 | AE52: 132132.2
B53: Used GB | C53: 41700 | D53: 78275.9 | E53: 79779.3 | F53: 160731.3 | G53: 102212.1 | H53: 54390.5 | I53: 86568.9 | J53: 15867.7 | K53: 2.7 | L53: 160717.9 | M53: 63216.3 | N53: 52488.1 | O53: 157564.2 | P53: 8035.8 | Q53: 5.4 | R53: 8022 | S53: 4641.9 | AB53: Used GB | AC53: 41700 | AD53: 54390.5 | AE53: 63216.3
B54: % full | C54: =C53/C52 -> 0.2908108 | D54: =D53/D52 -> 0.52005105 | E54: =E53/E52 -> 0.53003937 | F54: =F53/F52 -> 0.88314969 | G54: =G53/G52 -> 0.61777308 | H54: =H53/H52 -> 0.4116376 | I54: =I53/I52 -> 0.50634385 | J54: =J53/J52 -> 0.095543718 | ... S54: =S53/S52 -> 0.14027893 | AB54: % full | AC54: =AC53/AC52 -> 0.2908108 | AD54: =AD53/AD52 -> 0.4116376 | AE54: =AE53/AE52 -> 0.47843221
A55: Thin Devices | B55: # Devices | C55: 5870 | D55: 3333 | E55: 3330 | F55: 9457 | G55: 8428 | H55: 15703 | I55: 7403 | J55: 9599 | K55: 3600 | L55: 9289 | M55: 12295 | N55: 4354 | O55: 10027 | P55: 4799 | Q55: 7200 | R55: 2000 | S55: 1250 | AA55: EFD Pool Devices | AB55: Total GB | AC55: 9191.8 | AD55: 13787.7 | AE55: 13787.7
B56: Virtual Capacity GB | C56: =C55*33.717 -> 197918.79 | D56: =D55*33.717 -> 112378.76 | E56: =E55*33.717 -> 112277.61 | F56: =F55*33.717 -> 318861.67 | G56: =G55*33.717 -> 284166.88 | H56: =H55*33.717 -> 529458.05 | I56: =I55*33.717 -> 249606.95 | J56: =J55*33.717 -> 323649.48 | ... S56: =S55*33.717 -> 42146.25 | AB56: Used GB | AC56: 8118.2 | AD56: 13637.4 | AE56: 13649
B57: capacity threshold | C57: 164000 | D57: 109880 | E57: 109880 | F57: 328000 | G57: 330905 | H57: 264264 | I57: 242663.6 | J57: 328000 | K57: 328000 | L57: 328000 | M57: 264264.4 | N57: 328000 | O57: 352965.4 | P57: 328000 | Q57: 328000 | R57: =2*R52 -> 110302 | S57: =2*S52 -> 66181 | AB57: % full | AC57: =AC56/AC55 -> 0.88320024 | AD57: =AD56/AD55 -> 0.98909898 | AE57: =AE56/AE55 -> 0.98994031
B58: # Allocated | C58: =SUM(C55-531) -> 5339 | D58: =SUM(D55-650) -> 2683 | E58: =SUM(E55-616) -> 2714 | F58: =SUM(F55-1211) -> 8246 | G58: =SUM(G55-4580) -> 3848 | H58: =SUM(H55-2081) -> 13622 | I58: =SUM(I55-(3272-2000)) -> 6131 | J58: =SUM(J55-9219) -> 380 | K58: =SUM(K55-3600) -> 0 | L58: =SUM(L55-909) -> 8380 | M58: =SUM(M55-1185) -> 11110 | N58: =SUM(N55-359) -> 3995 | O58: =SUM(O55-(5224-2614)) -> 7417 | P58: =SUM(P55-3943) -> 856 | Q58: =SUM(Q55-7200) -> 0 | R58: =SUM(R55-1033) -> 967 | S58: =SUM(S55-752) -> 498 | AA58: SATA Pool Devices | AB58: Total GB | AC58: 97433.6 | AD58: 243584.4 | AE58: 292299.3
B59: GB Allocated | C59: =(C58*33.717) -> 180015.06 | D59: =(D58*33.717) -> 90462.711 | E59: =(E58*33.717) -> 91507.938 | F59: =(F58*33.717) -> 278030.38 | G59: =(G58*33.717)*2 -> 259486.03 | H59: =(H58*33.717) -> 459292.97 | I59: =(I58*33.717)-(2000*33.717) -> 139284.93 | J59: =J58*33.717 -> 12812.46 | K59: =K58*33.717 -> 0 | L59: =L58*33.717 -> 282548.46 | M59: =M58*33.717 -> 374595.87 | N59: =(N58*33.717) -> 134699.42 | O59: =O58*33.717 -> 250078.99 | P59: =P58*33.717 -> 28861.752 | Q59: =Q58*33.717 -> 0 | R59: =R58*33.717 -> 32604.339 | S59: =S58*33.717 -> 16791.066 | U59: GB | AB59: Used GB | AC59: 38973.2 | AD59: 95672.4 | AE59: 82255.6
B60: subscription | C60: =C59/C52 -> 1.2554035 | D60: =D59/D52 -> 0.60101804 | E60: =E59/E52 -> 0.60796234 | F60: =F59/F52 -> 1.5276579 | G60: =G59/G52 -> 1.5683416 | H60: =H59/H52 -> 3.4760162 | I60: =I59/I52 -> 0.81468133 | J60: =J59/J52 -> 0.077147291 | ... S60: =S59/S52 -> 0.5074286 | AB60: % full | AC60: =AC59/AC58 -> 0.39999754 | AD60: =AD59/AD58 -> 0.392769 | AE60: =AE59/AE58 -> 0.28140882
A61: 41422
A62: Site | C62: CGC | D62: CGC | E62: RDC | F62: RDC | G62: RDC | H62: RDC | I62: RDC | J62: RDC | K62: RDC | L62: FDC | M62: FDC | N62: FDC | O62: FDC | P62: FDC | Q62: FDC | R62: ZDC | S62: ZDC | AA62: Site | AC62: CGC | AD62: RDC | AE62: FDC
A63: VMAX | C63: 0623 | D63: 0745 | E63: 0552 | F63: 0678 | G63: 3286 | H63: 3073 | I63: 2230 | J63: 3696 | K63: 4330 | L63: 0879 | M63: 3004 | N63: 2804 | O63: 2231 | P63: 3875 | Q63: 4652 | R63: 2262 | S63: 0377 | AA63: VMAX | AC63: 0623 | AD63: 3073 | AE63: 3004
A64: Enabled Pool Devices | B64: Total GB | C64: 143392.2 | D64: 150515.8 | E64: 150515.8 | F64: 181997.8 | G64: 165452.5 | H64: 132132 | I64: 170968.6 | J64: 166077.9 | K64: 95044.2 | L64: 193027 | M64: 132132.2 | N64: 82726.3 | O64: 275755 | P64: 83039 | Q64: 191818.2 | R64: 55151 | S64: 33090.5 | AA64: FC Pool Devices | AB64: Total GB | AC64: 143392.2 | AD64: 132132 | AE64: 132132.2
B65: Used GB | C65: 41320.2 | D65: 78271.7 | E65: 79775.1 | F65: 160698.5 | G65: 101991.9 | H65: 54996.1 | I65: 86350.9 | J65: 15867.2 | K65: 2.7 | L65: 160673.7 | M65: 63698.1 | N65: 52377.9 | O65: 157441 | P65: 7253.4 | Q65: 5.4 | R65: 7963.2 | S65: 4625.9 | AB65: Used GB | AC65: 41302.2 | AD65: 54996.1 | AE65: 63698.1
B66: % full | C66: =C65/C64 -> 0.28816212 | D66: =D65/D64 -> 0.52002315 | E66: =E65/E64 -> 0.53001147 | F66: =F65/F64 -> 0.88296946 | G66: =G65/G64 -> 0.61644218 | H66: =H65/H64 -> 0.4162209 | I66: =I65/I64 -> 0.50506877 | J66: =J65/J64 -> 0.095540707 | ... S66: =S65/S64 -> 0.13979541 | AB66: % full | AC66: =AC65/AC64 -> 0.28803659 | AD66: =AD65/AD64 -> 0.4162209 | AE66: =AE65/AE64 -> 0.48207855
A67: Thin Devices | B67: # Devices | C67: 5870 | D67: 3333 | E67: 3330 | F67: 9457 | G67: 8428 | H67: 15703 | I67: 7403 | J67: 9599 | K67: 3600 | L67: 9289 | M67: 12295 | N67: 4354 | O67: 10027 | P67: 4799 | Q67: 7200 | R67: 2000 | S67: 1250 | AA67: EFD Pool Devices | AB67: Total GB | AC67: 9191.8 | AD67: 13787.7 | AE67: 13787.7
B68: Virtual Capacity GB | C68: =C67*33.717 -> 197918.79 | D68: =D67*33.717 -> 112378.76 | E68: =E67*33.717 -> 112277.61 | F68: =F67*33.717 -> 318861.67 | G68: =G67*33.717 -> 284166.88 | H68: =H67*33.717 -> 529458.05 | I68: =I67*33.717 -> 249606.95 | J68: =J67*33.717 -> 323649.48 | ... S68: =S67*33.717 -> 42146.25 | AB68: Used GB | AC68: 8492.7 | AD68: 13609.7 | AE68: 13649.2
B69: capacity threshold | C69: 164000 | D69: 109880 | E69: 109880 | F69: 328000 | G69: 330905 | H69: 264264 | I69: 242663.6 | J69: 328000 | K69: 328000 | L69: 328000 | M69: 264264.4 | N69: 328000 | O69: 352965.4 | P69: 328000 | Q69: 328000 | R69: =2*R64 -> 110302 | S69: =2*S64 -> 66181 | AB69: % full | AC69: =AC68/AC67 -> 0.92394308 | AD69: =AD68/AD67 -> 0.98708994 | AE69: =AE68/AE67 -> 0.98995481
B70: # Allocated | C70: =SUM(C67-531) -> 5339 | D70: =SUM(D67-650) -> 2683 | E70: =SUM(E67-616) -> 2714 | F70: =SUM(F67-1211) -> 8246 | G70: =SUM(G67-4580) -> 3848 | H70: =SUM(H67-2081) -> 13622 | I70: =SUM(I67-(3272-2000)) -> 6131 | J70: =SUM(J67-9219) -> 380 | K70: =SUM(K67-3600) -> 0 | L70: =SUM(L67-909) -> 8380 | M70: =SUM(M67-1185) -> 11110 | N70: =SUM(N67-359) -> 3995 | O70: =SUM(O67-(5224-2614)) -> 7417 | P70: =SUM(P67-3943) -> 856 | Q70: =SUM(Q67-7200) -> 0 | R70: =SUM(R67-1033) -> 967 | S70: =SUM(S67-752) -> 498 | AA70: SATA Pool Devices | AB70: Total GB | AC70: 97433.6 | AD70: 243584.4 | AE70: 292299.3
B71: GB Allocated | C71: =(C70*33.717) -> 180015.06 | D71: =(D70*33.717) -> 90462.711 | E71: =(E70*33.717) -> 91507.938 | F71: =(F70*33.717) -> 278030.38 | G71: =(G70*33.717)*2 -> 259486.03 | H71: =(H70*33.717) -> 459292.97 | I71: =(I70*33.717)-(2000*33.717) -> 139284.93 | J71: =J70*33.717 -> 12812.46 | K71: =K70*33.717 -> 0 | L71: =L70*33.717 -> 282548.46 | M71: =M70*33.717 -> 374595.87 | N71: =(N70*33.717) -> 134699.42 | O71: =O70*33.717 -> 250078.99 | P71: =P70*33.717 -> 28861.752 | Q71: =Q70*33.717 -> 0 | R71: =R70*33.717 -> 32604.339 | S71: =S70*33.717 -> 16791.066 | U71: GB | AB71: Used GB | AC71: 38973.2 | AD71: 95002.9 | AE71: 81481.3
B72: subscription | C72: =C71/C64 -> 1.2554035 | D72: =D71/D64 -> 0.60101804 | E72: =E71/E64 -> 0.60796234 | F72: =F71/F64 -> 1.5276579 | G72: =G71/G64 -> 1.5683416 | H72: =H71/H64 -> 3.4760162 | I72: =I71/I64 -> 0.81468133 | J72: =J71/J64 -> 0.077147291 | ... S72: =S71/S64 -> 0.5074286 | AB72: % full | AC72: =AC71/AC70 -> 0.39999754 | AD72: =AD71/AD70 -> 0.39002046 | AE72: =AE71/AE70 -> 0.27875982
A73: 41414
A74: Site | C74: CGC | D74: CGC | E74: RDC | F74: RDC | G74: RDC | H74: RDC | I74: RDC | J74: RDC | K74: FDC | L74: FDC | M74: FDC | N74: FDC | O74: FDC | P74: ZDC | Q74: ZDC | AA74: Site | AC74: CGC | AD74: RDC | AE74: FDC
A75: VMAX | C75: 0623 | D75: 0745 | E75: 0552 | F75: 0678 | G75: 3286 | H75: 3073 | I75: 2230 | J75: 3696 | K75: 0879 | L75: 3004 | M75: 2804 | N75: 2231 | O75: 3875 | P75: 2262 | Q75: 0377 | AA75: VMAX | AC75: 0623 | AD75: 3073 | AE75: 3004
A76: Enabled Pool Devices | B76: Total GB | C76: 143392.2 | D76: 150515.8 | E76: 150515.8 | F76: 181997.8 | G76: 165452.5 | H76: 132132 | I76: 170968.6 | J76: 166077.9 | K76: 193027 | L76: 132132.2 | M76: 82726.3 | N76: 275755 | O76: 83039 | P76: 55151 | Q76: 33090.5 | AA76: FC Pool Devices | AB76: Total GB | AC76: 143392.2 | AD76: 132132 | AE76: 132132.2
B77: Used GB | C77: 40480.2 | D77: 78195.6 | E77: 79699.6 | F77: 159448.1 | G77: 100240 | H77: 55881.2 | I77: 85757.7 | J77: 14302.9 | K77: 159820 | L77: 63928.2 | M77: 51501.3 | N77: 156601.8 | O77: 7253.4 | P77: 7383.1 | Q77: 4454.3 | AB77: Used GB | AC77: 43218.8 | AD77: 50784 | AE77: 65202.6
B78: % full | C78: =C77/C76 -> 0.28230406 | D78: =D77/D76 -> 0.51951755 | E78: =E77/E76 -> 0.52950986 | F78: =F77/F76 -> 0.87609905 | G78: =G77/G76 -> 0.60585364 | H78: =H77/H76 -> 0.4229195 | I78: =I77/I76 -> 0.50159912 | J78: =J77/J76 -> 0.086121633 | ... Q78: =Q77/Q76 -> 0.13460963 | AB78: % full | AC78: =AC77/AC76 -> 0.30140273 | AD78: =AD77/AD76 -> 0.38434293 | AE78: =AE77/AE76 -> 0.49346488
A79: Thin Devices | B79: # Devices | C79: 5870 | D79: 3333 | E79: 3330 | F79: 9457 | G79: 8428 | H79: 15703 | I79: 7403 | J79: 9599 | K79: 9289 | L79: 12295 | M79: 4354 | N79: 10027 | O79: 4799 | P79: 2000 | Q79: 1250 | R79: 2231 - Configured Devices 10027 | AA79: EFD Pool Devices | AB79: Total GB | AC79: 9191.8 | AD79: 13787.7 | AE79: 13787.7
B80: Virtual Capacity GB | C80: =C79*33.717 -> 197918.79 | D80: =D79*33.717 -> 112378.76 | E80: =E79*33.717 -> 112277.61 | F80: =F79*33.717 -> 318861.67 | G80: =G79*33.717 -> 284166.88 | H80: =H79*33.717 -> 529458.05 | I80: =I79*33.717 -> 249606.95 | J80: =J79*33.717 -> 323649.48 | ... Q80: =Q79*33.717 -> 42146.25 | AB80: Used GB | AC80: 8148.7 | AD80: 13638.2 | AE80: 13648.9
B81: capacity threshold | C81: 164000 | D81: 109880 | E81: 109880 | F81: 328000 | G81: 330905 | H81: 264264 | I81: 242663.6 | J81: 328000 | K81: 328000 | L81: 264264.4 | M81: 328000 | N81: 352965.4 | O81: 328000 | P81: =2*P76 -> 110302 | Q81: =2*Q76 -> 66181 | AB81: % full | AC81: =AC80/AC79 -> 0.88651842 | AD81: =AD80/AD79 -> 0.989157 | AE81: =AE80/AE79 -> 0.98993306
B82: # Allocated | C82: =SUM(C79-533) -> 5337 | D82: =SUM(D79-680) -> 2653 | E82: =SUM(E79-646) -> 2684 | F82: =SUM(F79-1211) -> 8246 | G82: =SUM(G79-4603) -> 3825 | H82: =SUM(H79-2081) -> 13622 | I82: =SUM(I79-(3272-2000)) -> 6131 | J82: =SUM(J79-9219) -> 380 | K82: =SUM(K79-909) -> 8380 | L82: =SUM(L79-1248) -> 11047 | M82: =SUM(M79-382) -> 3972 | N82: =SUM(N79-(5224-2614)) -> 7417 | O82: =SUM(O79-3944) -> 855 | P82: =SUM(P79-1033) -> 967 | Q82: =SUM(Q79-752) -> 498 | R82: 3073 remaining | AA82: SATA Pool Devices | AB82: Total GB | AC82: 97433.6 | AD82: 243584.4 | AE82: 292299.3
B83: GB Allocated | C83: =(C82*33.717) -> 179947.63 | D83: =(D82*33.717) -> 89451.201 | E83: =(E82*33.717) -> 90496.428 | F83: =(F82*33.717) -> 278030.38 | G83: =(G82*33.717)*2 -> 257935.05 | H83: =(H82*33.717) -> 459292.97 | I83: =(I82*33.717)-(2000*33.717) -> 139284.93 | J83: =J82*33.717 -> 12812.46 | K83: =K82*33.717 -> 282548.46 | L83: =L82*33.717 -> 372471.7 | M83: =(M82*33.717) -> 133923.92 | N83: =N82*33.717 -> 250078.99 | O83: =O82*33.717 -> 28828.035 | P83: =P82*33.717 -> 32604.339 | Q83: =Q82*33.717 -> 16791.066 | R83: =344240-H83 -> -115052.97 | S83: GB | AB83: Used GB | AC83: 70245.5 | AD83: 90695.9 | AE83: 76505.7
B84: subscription | C84: =C83/C76 -> 1.2549332 | D84: =D83/D76 -> 0.59429775 | E84: =E83/E76 -> 0.60124205 | F84: =F83/F76 -> 1.5276579 | G84: =G83/G76 -> 1.5589674 | H84: =H83/H76 -> 3.4760162 | I84: =I83/I76 -> 0.81468133 | J84: =J83/J76 -> 0.077147291 | ... Q84: =Q83/Q76 -> 0.5074286 | AB84: % full | AC84: =AC83/AC82 -> 0.72095766 | AD84: =AD83/AD82 -> 0.3723387 | AE84: =AE83/AE82 -> 0.26173754
A85: 41408
A86: Site | C86: CGC | D86: CGC | E86: RDC | F86: RDC | G86: RDC | H86: RDC | I86: RDC | J86: RDC | K86: FDC | L86: FDC | M86: FDC | N86: FDC | O86: FDC | P86: ZDC | Q86: ZDC | AA86: Site | AC86: CGC | AD86: RDC | AE86: FDC
A87: VMAX | C87: 0623 | D87: 0745 | E87: 0552 | F87: 0678 | G87: 3286 | H87: 3073 | I87: 2230 | J87: 3696 | K87: 0879 | L87: 3004 | M87: 2804 | N87: 2231 | O87: 3875 | P87: 2262 | Q87: 0377 | AA87: VMAX | AC87: 0623 | AD87: 3073 | AE87: 3004
A88: Enabled Pool Devices | B88: Total GB | C88: 143392.2 | D88: 150515.8 | E88: 150515.8 | F88: 181997.8 | G88: 165452.5 | H88: 132132 | I88: 170968.6 | J88: 166077.9 | K88: 193027 | L88: 132132.2 | M88: 82726.3 | N88: 275755 | O88: 83039 | P88: 55151 | Q88: 33090.5 | AA88: FC Pool Devices | AB88: Total GB | AC88: 143392.2 | AD88: 132132 | AE88: 132132.2
B89: Used GB | C89: 39928.7 | D89: 78104.2 | E89: 79624.9 | F89: 159191.3 | G89: 99448.8 | H89: 55753.4 | I89: 85361.2 | J89: 14178.6 | K89: 159241.3 | L89: 64008.2 | M89: 51122.2 | N89: 155906.6 | O89: 7191.3 | P89: 7051.7 | Q89: 3991 | AB89: Used GB | AC89: 43218.8 | AD89: 50784 | AE89: 65202.6
B90: % full | C90: =C89/C88 -> 0.27845796 | D90: =D89/D88 -> 0.51891031 | E90: =E89/E88 -> 0.52901357 | F90: =F89/F88 -> 0.87468805 | G90: =G89/G88 -> 0.60107161 | H90: =H89/H88 -> 0.42195229 | I90: =I89/I88 -> 0.49927998 | J90: =J89/J88 -> 0.085373189 | ... Q90: =Q89/Q88 -> 0.12060863 | AB90: % full | AC90: =AC89/AC88 -> 0.30140273 | AD90: =AD89/AD88 -> 0.38434293 | AE90: =AE89/AE88 -> 0.49346488
A91: Thin Devices | B91: # Devices | C91: 5870 | D91: 3333 | E91: 3330 | F91: 9457 | G91: 8210 | H91: 15703 | I91: 7403 | J91: 9599 | K91: 9289 | L91: 12295 | M91: 4145 | N91: 10027 | O91: 4799 | P91: 2000 | Q91: 1250 | R91: 2231 - Configured Devices 10027 | AA91: EFD Pool Devices | AB91: Total GB | AC91: 9191.8 | AD91: 13787.7 | AE91: 13787.7
B92: Virtual Capacity GB | C92: =C91*33.717 -> 197918.79 | D92: =D91*33.717 -> 112378.76 | E92: =E91*33.717 -> 112277.61 | F92: =F91*33.717 -> 318861.67 | G92: =G91*33.717 -> 276816.57 | H92: =H91*33.717 -> 529458.05 | I92: =I91*33.717 -> 249606.95 | J92: =J91*33.717 -> 323649.48 | ... Q92: =Q91*33.717 -> 42146.25 | AB92: Used GB | AC92: 8148.7 | AD92: 13638.2 | AE92: 13648.9
B93: capacity threshold | C93: 164000 | D93: 109880 | E93: 109880 | F93: 328000 | G93: 330905 | H93: 264264 | I93: 242663.6 | J93: 328000 | K93: 328000 | L93: 264264.4 | M93: 328000 | N93: 352965.4 | O93: 328000 | P93: =2*P88 -> 110302 | Q93: =2*Q88 -> 66181 | AB93: % full | AC93: =AC92/AC91 -> 0.88651842 | AD93: =AD92/AD91 -> 0.989157 | AE93: =AE92/AE91 -> 0.98993306
B94: # Allocated | C94: =SUM(C91-575) -> 5295 | D94: =SUM(D91-680) -> 2653 | E94: =SUM(E91-646) -> 2684 | F94: =SUM(F91-1211) -> 8246 | G94: =SUM(G91-4410) -> 3800 | H94: =SUM(H91-2087) -> 13616 | I94: =SUM(I91-(3272-2000)) -> 6131 | J94: =SUM(J91-9229) -> 370 | K94: =SUM(K91-909) -> 8380 | L94: =SUM(L91-1251) -> 11044 | M94: =SUM(M91-198) -> 3947 | N94: =SUM(N91-(5224-2614)) -> 7417 | O94: =SUM(O91-3960) -> 839 | P94: =SUM(P91-1033) -> 967 | Q94: =SUM(Q91-752) -> 498 | R94: 3073 remaining | AA94: SATA Pool Devices | AB94: Total GB | AC94: 97433.6 | AD94: 243584.4 | AE94: 292299.3
B95: GB Allocated | C95: =(C94*33.717) -> 178531.51 | D95: =(D94*33.717) -> 89451.201 | E95: =(E94*33.717) -> 90496.428 | F95: =(F94*33.717) -> 278030.38 | G95: =(G94*33.717)*2 -> 256249.2 | H95: =(H94*33.717) -> 459090.67 | I95: =(I94*33.717)-(2000*33.717) -> 139284.93 | J95: =J94*33.717 -> 12475.29 | K95: =K94*33.717 -> 282548.46 | L95: =L94*33.717 -> 372370.55 | M95: =(M94*33.717) -> 133081 | N95: =N94*33.717 -> 250078.99 | O95: =O94*33.717 -> 28288.563 | P95: =P94*33.717 -> 32604.339 | Q95: =Q94*33.717 -> 16791.066 | R95: =344240-H95 -> -114850.67 | S95: GB | AB95: Used GB | AC95: 70245.5 | AD95: 90695.9 | AE95: 76505.7
B96: subscription | C96: =C95/C88 -> 1.2450574 | D96: =D95/D88 -> 0.59429775 | E96: =E95/E88 -> 0.60124205 | F96: =F95/F88 -> 1.5276579 | G96: =G95/G88 -> 1.548778 | H96: =H95/H88 -> 3.4744852 | I96: =I95/I88 -> 0.81468133 | J96: =J95/J88 -> 0.075117099 | ... Q96: =Q95/Q88 -> 0.5074286 | AB96: % full | AC96: =AC95/AC94 -> 0.72095766 | AD96: =AD95/AD94 -> 0.3723387 | AE96: =AE95/AE94 -> 0.26173754
A97: 41401
A98: Site | C98: CGC | D98: CGC | E98: RDC | F98: RDC | G98: RDC | H98: RDC | I98: RDC | J98: RDC | K98: FDC | L98: FDC | M98: FDC | N98: FDC | O98: FDC | P98: ZDC | Q98: ZDC | AA98: Site | AC98: CGC | AD98: RDC | AE98: FDC
A99: VMAX | C99: 0623 | D99: 0745 | E99: 0552 | F99: 0678 | G99: 3286 | H99: 3073 | I99: 2230 | J99: 3696 | K99: 0879 | L99: 3004 | M99: 2804 | N99: 2231 | O99: 3875 | P99: 2262 | Q99: 0377 | AA99: VMAX | AC99: 0623 | AD99: 3073 | AE99: 3004
A100: Enabled Pool Devices | B100: Total GB | C100: 143392.2 | D100: 150515.8 | E100: 150515.8 | F100: 181997.8 | G100: 165452.5 | H100: 132132 | I100: 121331.8 | J100: 166077.9 | K100: 193027 | L100: 132132.2 | M100: 82726.3 | N100: 176482.7 | O100: 83039 | P100: 55151 | Q100: 33090.5 | AA100: FC Pool Devices | AB100: Total GB | AC100: 143392.2 | AD100: 132132 | AE100: 132132.2
...

Sheet used space Charts
B1: 0623 | C1: 0745 | D1: 0552 | E1: 0678 | F1: 3286 | G1: 3073 | H1: 2230 | I1: 3696 | J1: 4330 | K1: 0347 | L1: 0879 | M1: 3004 | N1: 2804 | O1: 2231 | P1: 3875 | Q1: 4652 | R1: 0349 | S1: 2262 | T1: 0377
B2: CGC T4 V-MAX 0623 | C2: CGC T3 V-MAX 0745 | D2: RDC T3 V-MAX 0552 | E2: RDC T4 V-MAX 0678 | F2: RDC T3 V-MAX 3286 | G2: RDC T4 V-MAX 3073 | H2: RDC T3 V-MAX 2230 | I2: RDC T3 V-MAX 3696 | J2: RDC T3 V-MAX 4330 | K2: RDC T4 V-MAX 0347 | L2: FDC T4 V-MAX 0879 | M2: FDC T4 V-MAX 3004 | N2: FDC T3 V-MAX 2804 | O2: FDC T3 V-MAX 2231 | P2: FDC T3 V-MAX 3875 | Q2: FDC T3 V-MAX 4652 | R2: FDC T4 V-MAX 0349 | S2: ZDC T4 VMAX 2262 | T2: ZDC T4 VMAX 0377 | V2: Row | W2: % full | X2: =MATCH(W2,Table!$B:$B,0) -> 6 | Z2: Row | AA2: VMAX | AB2: =MATCH(AA2,Table!$A:$A,0) -> 3 | AC2: Max Column
A5: 41443 | B5: =IF(ISERROR(MATCH(B$1,INDIRECT("Table!A"&$Z5):INDIRECT("Table!" & $AC$45 & $Z5),0)),"",INDIRECT(CONCATENATE("Table!",ADDRESS($V5,MATCH(B$1,INDIRECT("Table!A" & $Z5):INDIRECT("Table!" & $AC$44 & $Z5),0))))) -> 0.29198775 | C5: =IF(ISERROR(MATCH(C$1,INDIRECT("Table!A"&$Z5):INDIRECT("Table!" & $AC$44 & $Z5),0)),"",INDIRECT(CONCATENATE("Table!",ADDRESS($V5,MATCH(C$1,INDIRECT("Table!A" & $Z5):INDIRECT("Table!" & $AC$44 & $Z5),0))))) -> 0.52211084 | D5: =IF(ISERROR(MATCH(D$1,INDIRECT("Table!A"&$Z5):INDIRECT("Table!" & $AC$44 & $Z5),0)),"",INDIRECT(CONCATENATE("Table!",ADDRESS($V5,MATCH(D$1,INDIRECT("Table!A" & $Z5):INDIRECT("Table!" & $AC$44 & $Z5),0))))) -> 0.53196024 | E5: =IF(ISERROR(MATCH(E$1,INDIRECT("Table!A"&$Z5):INDIRECT("Table!" & $AC$44 & $Z5),0)),"",INDIRECT(CONCATENATE("Table!",ADDRESS($V5,MATCH(E$1,INDIRECT("Table!A" & $Z5):INDIRECT("Table!" & $AC$44 & $Z5),0))))) -> 0.78846942 | F5: =IF(ISERROR(MATCH(F$1,INDIRECT("Table!A"&$Z5):INDIRECT("Table!" & $AC$44 & $Z5),0)),"",INDIRECT(CONCATENATE("Table!",ADDRESS($V5,MATCH(F$1,INDIRECT("Table!A" & $Z5):INDIRECT("Table!" & $AC$44 & $Z5),0))))) -> 0.63424246 | G5: =IF(ISERROR(MATCH(G$1,INDIRECT("Table!A"&$Z5):INDIRECT("Table!" & $AC$44 & $Z5),0)),"",INDIRECT(CONCATENATE("Table!",ADDRESS($V5,MATCH(G$1,INDIRECT("Table!A" & $Z5):INDIRECT("Table!" & $AC$44 & $Z5),0))))) -> 0.43301479 | H5: =IF(ISERROR(MATCH(H$1,INDIRECT("Table!A"&$Z5):INDIRECT("Table!" & $AC$44 & $Z5),0)),"",INDIRECT(CONCATENATE("Table!",ADDRESS($V5,MATCH(H$1,INDIRECT("Table!A" & $Z5):INDIRECT("Table!" & $AC$44 & $Z5),0))))) -> 0.5135364 | I5: =IF(ISERROR(MATCH(I$1,INDIRECT("Table!A"&$Z5):INDIRECT("Table!" & $AC$23 & $Z5),0)),"",INDIRECT(CONCATENATE("Table!",ADDRESS($V5,MATCH(I$1,INDIRECT("Table!A" & $Z5):INDIRECT("Table!" & $AC$23 & $Z5),0))))) -> 0.10237801 | J5: =IF(ISERROR(MATCH(J$1,INDIRECT("Table!A"&$Z5):INDIRECT("Table!" & $AC$23 & $Z5),0)),"",INDIRECT(CONCATENATE("Table!",ADDRESS($V5,MATCH(J$1,INDIRECT("Table!A" & $Z5):INDIRECT("Table!" & $AC$23 & $Z5),0))))) -> 0.0089934597 | K5: =IF(ISERROR(MATCH(K$1,INDIRECT("Table!A"&$Z5):INDIRECT("Table!" & $AC$23 & $Z5),0)),"",INDIRECT(CONCATENATE("Table!",ADDRESS($V5,MATCH(K$1,INDIRECT("Table!A" & $Z5):INDIRECT("Table!" & $AC$23 & $Z5),0))))) -> 3.5587189e-05 | L5: =IF(ISERROR(MATCH(L$1,INDIRECT("Table!A"&$Z5):INDIRECT("Table!" & $AC$23 & $Z5),0)),"",INDIRECT(CONCATENATE("Table!",ADDRESS($V5,MATCH(L$1,INDIRECT("Table!A" & $Z5):INDIRECT("Table!" & $AC$23 & $Z5),0))))) -> 0.83709192 | M5: =IF(ISERROR(MATCH(M$1,INDIRECT("Table!A"&$Z5):INDIRECT("Table!" & $AC$23 & $Z5),0)),"",INDIRECT(CONCATENATE("Table!",ADDRESS($V5,MATCH(M$1,INDIRECT("Table!A" & $Z5):INDIRECT("Table!" & $AC$23 & $Z5),0))))) -> 0.43820199 | N5: =IF(ISERROR(MATCH(N$1,INDIRECT("Table!A"&$Z5):INDIRECT("Table!" & $AC$23 & $Z5),0)),"",INDIRECT(CONCATENATE("Table!",ADDRESS($V5,MATCH(N$1,INDIRECT("Table!A" & $Z5):INDIRECT("Table!" & $AC$23 & $Z5),0))))) -> 0.65065771 | O5: =IF(ISERROR(MATCH(O$1,INDIRECT("Table!A"&$Z5):INDIRECT("Table!" & $AC$23 & $Z5),0)),"",INDIRECT(CONCATENATE("Table!",ADDRESS($V5,MATCH(O$1,INDIRECT("Table!A" & $Z5):INDIRECT("Table!" & $AC$23 & $Z5),0))))) -> 0.5795224 | P5: =IF(ISERROR(MATCH(P$1,INDIRECT("Table!A"&$Z5):INDIRECT("Table!" & $AC$23 & $Z5),0)),"",INDIRECT(CONCATENATE("Table!",ADDRESS($V5,MATCH(P$1,INDIRECT("Table!A" & $Z5):INDIRECT("Table!" & $AC$23 & $Z5),0))))) -> 0.10520558 | ... R5: =IF(ISERROR(MATCH(R$1,INDIRECT("Table!A"&$Z5):INDIRECT("Table!" & $AC$23 & $Z5),0)),"",INDIRECT(CONCATENATE("Table!",ADDRESS($V5,MATCH(R$1,INDIRECT("Table!A" & $Z5):INDIRECT("Table!" & $AC$23 & $Z5),0))))) -> 3.5587189e-05 | S5: =IF(ISERROR(MATCH(S$1,INDIRECT("Table!A"&$Z5):INDIRECT("Table!" & $AC$5 & $Z5),0)),"",INDIRECT(CONCATENATE("Table!",ADDRESS($V5,MATCH(S$1,INDIRECT("Table!A" & $Z5):INDIRECT("Table!" & $AC$5 & $Z5),0))))) -> 0.15496908 | T5: =IF(ISERROR(MATCH(T$1,INDIRECT("Table!A"&$Z5):INDIRECT("Table!" & $AC$5 & $Z5),0)),"",INDIRECT(CONCATENATE("Table!",ADDRESS($V5,MATCH(T$1,INDIRECT("Table!A" & $Z5):INDIRECT("Table!" & $AC$5 & $Z5),0))))) -> 0.15000378 | V5: =MATCH($A5,Table!$A:$A,0)+$X$2-1 -> 6 | Z5: =MATCH($A5,Table!$A:$A,0)+$AB$2-1 -> 3 | AC5: U
A6: 41437 | B6: =IF(ISERROR(MATCH(B$1,INDIRECT("Table!A"&$Z6):INDIRECT("Table!" & $AC$45 & $Z6),0)),"",INDIRECT(CONCATENATE("Table!",ADDRESS($V6,MATCH(B$1,INDIRECT("Table!A" & $Z6):INDIRECT("Table!" & $AC$44 & $Z6),0))))) -> 0.29061042 | C6: =IF(ISERROR(MATCH(C$1,INDIRECT("Table!A"&$Z6):INDIRECT("Table!" & $AC$44 & $Z6),0)),"",INDIRECT(CONCATENATE("Table!",ADDRESS($V6,MATCH(C$1,INDIRECT("Table!A" & $Z6):INDIRECT("Table!" & $AC$44 & $Z6),0))))) -> 0.52196002 | D6: =IF(ISERROR(MATCH(D$1,INDIRECT("Table!A"&$Z6):INDIRECT("Table!" & $AC$44 & $Z6),0)),"",INDIRECT(CONCATENATE("Table!",ADDRESS($V6,MATCH(D$1,INDIRECT("Table!A" & $Z6):INDIRECT("Table!" & $AC$44 & $Z6),0))))) -> 0.53181208 | E6: =IF(ISERROR(MATCH(E$1,INDIRECT("Table!A"&$Z6):INDIRECT("Table!" & $AC$44 & $Z6),0)),"",INDIRECT(CONCATENATE("Table!",ADDRESS($V6,MATCH(E$1,INDIRECT("Table!A" & $Z6):INDIRECT("Table!" & $AC$44 & $Z6),0))))) -> 0.88547334 | F6: =IF(ISERROR(MATCH(F$1,INDIRECT("Table!A"&$Z6):INDIRECT("Table!" & $AC$44 & $Z6),0)),"",INDIRECT(CONCATENATE("Table!",ADDRESS($V6,MATCH(F$1,INDIRECT("Table!A" & $Z6):INDIRECT("Table!" & $AC$44 & $Z6),0))))) -> 0.62832656 | G6: =IF(ISERROR(MATCH(G$1,INDIRECT("Table!A"&$Z6):INDIRECT("Table!" & $AC$44 & $Z6),0)),"",INDIRECT(CONCATENATE("Table!",ADDRESS($V6,MATCH(G$1,INDIRECT("Table!A" & $Z6):INDIRECT("Table!" & $AC$44 & $Z6),0))))) -> 0.4163997 | H6: =IF(ISERROR(MATCH(H$1,INDIRECT("Table!A"&$Z6):INDIRECT("Table!" & $AC$44 & $Z6),0)),"",INDIRECT(CONCATENATE("Table!",ADDRESS($V6,MATCH(H$1,INDIRECT("Table!A" & $Z6):INDIRECT("Table!" & $AC$44 & $Z6),0))))) -> 0.51215194 | I6: =IF(ISERROR(MATCH(I$1,INDIRECT("Table!A"&$Z6):INDIRECT("Table!" & $AC$23 & $Z6),0)),"",INDIRECT(CONCATENATE("Table!",ADDRESS($V6,MATCH(I$1,INDIRECT("Table!A" & $Z6):INDIRECT("Table!" & $AC$23 & $Z6),0))))) -> 0.099834092 | J6: =IF(ISERROR(MATCH(J$1,INDIRECT("Table!A"&$Z6):INDIRECT("Table!" & $AC$23 & $Z6),0)),"",INDIRECT(CONCATENATE("Table!",ADDRESS($V6,MATCH(J$1,INDIRECT("Table!A" & $Z6):INDIRECT("Table!" & $AC$23 & $Z6),0))))) -> 2.9217111e-05 | K6: =IF(ISERROR(MATCH(K$1,INDIRECT("Table!A"&$Z6):INDIRECT("Table!" & $AC$23 & $Z6),0)),"",INDIRECT(CONCATENATE("Table!",ADDRESS($V6,MATCH(K$1,INDIRECT("Table!A" & $Z6):INDIRECT("Table!" & $AC$23 & $Z6),0))))) -> 3.5587189e-05 | L6: =IF(ISERROR(MATCH(L$1,INDIRECT("Table!A"&$Z6):INDIRECT("Table!" & $AC$23 & $Z6),0)),"",INDIRECT(CONCATENATE("Table!",ADDRESS($V6,MATCH(L$1,INDIRECT("Table!A" & $Z6):INDIRECT("Table!" & $AC$23 & $Z6),0))))) -> 0.83617341 | M6: =IF(ISERROR(MATCH(M$1,INDIRECT("Table!A"&$Z6):INDIRECT("Table!" & $AC$23 & $Z6),0)),"",INDIRECT(CONCATENATE("Table!",ADDRESS($V6,MATCH(M$1,INDIRECT("Table!A" & $Z6):INDIRECT("Table!" & $AC$23 & $Z6),0))))) -> 0.4248185 | N6: =IF(ISERROR(MATCH(N$1,INDIRECT("Table!A"&$Z6):INDIRECT("Table!" & $AC$23 & $Z6),0)),"",INDIRECT(CONCATENATE("Table!",ADDRESS($V6,MATCH(N$1,INDIRECT("Table!A" & $Z6):INDIRECT("Table!" & $AC$23 & $Z6),0))))) -> 0.64526041 | O6: =IF(ISERROR(MATCH(O$1,INDIRECT("Table!A"&$Z6):INDIRECT("Table!" & $AC$23 & $Z6),0)),"",INDIRECT(CONCATENATE("Table!",ADDRESS($V6,MATCH(O$1,INDIRECT("Table!A" & $Z6):INDIRECT("Table!" & $AC$23 & $Z6),0))))) -> 0.58043626 | P6: =IF(ISERROR(MATCH(P$1,INDIRECT("Table!A"&$Z6):INDIRECT("Table!" & $AC$23 & $Z6),0)),"",INDIRECT(CONCATENATE("Table!",ADDRESS($V6,MATCH(P$1,INDIRECT("Table!A" & $Z6):INDIRECT("Table!" & $AC$23 & $Z6),0))))) -> 0.10266226 | ... R6: =IF(ISERROR(MATCH(R$1,INDIRECT("Table!A"&$Z6):INDIRECT("Table!" & $AC$23 & $Z6),0)),"",INDIRECT(CONCATENATE("Table!",ADDRESS($V6,MATCH(R$1,INDIRECT("Table!A" & $Z6):INDIRECT("Table!" & $AC$23 & $Z6),0))))) -> 3.5587189e-05 | S6: =IF(ISERROR(MATCH(S$1,INDIRECT("Table!A"&$Z6):INDIRECT("Table!" & $AC$5 & $Z6),0)),"",INDIRECT(CONCATENATE("Table!",ADDRESS($V6,MATCH(S$1,INDIRECT("Table!A" & $Z6):INDIRECT("Table!" & $AC$5 & $Z6),0))))) -> 0.14838172 | T6: =IF(ISERROR(MATCH(T$1,INDIRECT("Table!A"&$Z6):INDIRECT("Table!" & $AC$5 & $Z6),0)),"",INDIRECT(CONCATENATE("Table!",ADDRESS($V6,MATCH(T$1,INDIRECT("Table!A" & $Z6):INDIRECT("Table!" & $AC$5 & $Z6),0))))) -> 0.14198033 | V6: =MATCH($A6,Table!$A:$A,0)+$X$2-1 -> 18 | Z6: =MATCH($A6,Table!$A:$A,0)+$AB$2-1 -> 15 | AC6: U
A7: 41430 | B7: =IF(ISERROR(MATCH(B$1,INDIRECT("Table!A"&$Z7):INDIRECT("Table!" & $AC$45 & $Z7),0)),"",INDIRECT(CONCATENATE("Table!",ADDRESS($V7,MATCH(B$1,INDIRECT("Table!A" & $Z7):INDIRECT("Table!" & $AC$44 & $Z7),0))))) -> 0.29161698 | C7: =IF(ISERROR(MATCH(C$1,INDIRECT("Table!A"&$Z7):INDIRECT("Table!" & $AC$44 & $Z7),0)),"",INDIRECT(CONCATENATE("Table!",ADDRESS($V7,MATCH(C$1,INDIRECT("Table!A" & $Z7):INDIRECT("Table!" & $AC$44 & $Z7),0))))) -> 0.52170005 | D7: =IF(ISERROR(MATCH(D$1,INDIRECT("Table!A"&$Z7):INDIRECT("Table!" & $AC$44 & $Z7),0)),"",INDIRECT(CONCATENATE("Table!",ADDRESS($V7,MATCH(D$1,INDIRECT("Table!A" & $Z7):INDIRECT("Table!" & $AC$44 & $Z7),0))))) -> 0.53168704 | E7: =IF(ISERROR(MATCH(E$1,INDIRECT("Table!A"&$Z7):INDIRECT("Table!" & $AC$44 & $Z7),0)),"",INDIRECT(CONCATENATE("Table!",ADDRESS($V7,MATCH(E$1,INDIRECT("Table!A" & $Z7):INDIRECT("Table!" & $AC$44 & $Z7),0))))) -> 0.88431069 | F7: =IF(ISERROR(MATCH(F$1,INDIRECT("Table!A"&$Z7):INDIRECT("Table!" & $AC$44 & $Z7),0)),"",INDIRECT(CONCATENATE("Table!",ADDRESS($V7,MATCH(F$1,INDIRECT("Table!A" & $Z7):INDIRECT("Table!" & $AC$44 & $Z7),0))))) -> 0.62386304 | G7: =IF(ISERROR(MATCH(G$1,INDIRECT("Table!A"&$Z7):INDIRECT("Table!" & $AC$44 & $Z7),0)),"",INDIRECT(CONCATENATE("Table!",ADDRESS($V7,MATCH(G$1,INDIRECT("Table!A" & $Z7):INDIRECT("Table!" & $AC$44 & $Z7),0))))) -> 0.39464702 | H7: =IF(ISERROR(MATCH(H$1,INDIRECT("Table!A"&$Z7):INDIRECT("Table!" & $AC$44 & $Z7),0)),"",INDIRECT(CONCATENATE("Table!",ADDRESS($V7,MATCH(H$1,INDIRECT("Table!A" & $Z7):INDIRECT("Table!" & $AC$44 & $Z7),0))))) -> 0.51095347 | I7: =IF(ISERROR(MATCH(I$1,INDIRECT("Table!A"&$Z7):INDIRECT("Table!" & $AC$23 & $Z7),0)),"",INDIRECT(CONCATENATE("Table!",ADDRESS($V7,MATCH(I$1,INDIRECT("Table!A" & $Z7):INDIRECT("Table!" & $AC$23 & $Z7),0))))) -> 0.095759279 | J7: =IF(ISERROR(MATCH(J$1,INDIRECT("Table!A"&$Z7):INDIRECT("Table!" & $AC$23 & $Z7),0)),"",INDIRECT(CONCATENATE("Table!",ADDRESS($V7,MATCH(J$1,INDIRECT("Table!A" & $Z7):INDIRECT("Table!" & $AC$23 & $Z7),0))))) -> 2.8407836e-05 | K7: =IF(ISERROR(MATCH(K$1,INDIRECT("Table!A"&$Z7):INDIRECT("Table!" & $AC$23 & $Z7),0)),"",INDIRECT(CONCATENATE("Table!",ADDRESS($V7,MATCH(K$1,INDIRECT("Table!A" & $Z7):INDIRECT("Table!" & $AC$23 & $Z7),0))))) | L7: =IF(ISERROR(MATCH(L$1,INDIRECT("Table!A"&$Z7):INDIRECT("Table!" & $AC$23 & $Z7),0)),"",INDIRECT(CONCATENATE("Table!",ADDRESS($V7,MATCH(L$1,INDIRECT("Table!A" & $Z7):INDIRECT("Table!" & $AC$23 & $Z7),0))))) -> 0.83339377 | M7: =IF(ISERROR(MATCH(M$1,INDIRECT("Table!A"&$Z7):INDIRECT("Table!" & $AC$23 & $Z7),0)),"",INDIRECT(CONCATENATE("Table!",ADDRESS($V7,MATCH(M$1,INDIRECT("Table!A" & $Z7):INDIRECT("Table!" & $AC$23 & $Z7),0))))) -> 0.45924612 | N7: =IF(ISERROR(MATCH(N$1,INDIRECT("Table!A"&$Z7):INDIRECT("Table!" & $AC$23 & $Z7),0)),"",INDIRECT(CONCATENATE("Table!",ADDRESS($V7,MATCH(N$1,INDIRECT("Table!A" & $Z7):INDIRECT("Table!" & $AC$23 & $Z7),0))))) -> 0.64013863 | O7: =IF(ISERROR(MATCH(O$1,INDIRECT("Table!A"&$Z7):INDIRECT("Table!" & $AC$23 & $Z7),0)),"",INDIRECT(CONCATENATE("Table!",ADDRESS($V7,MATCH(O$1,INDIRECT("Table!A" & $Z7):INDIRECT("Table!" & $AC$23 & $Z7),0))))) -> 0.57929067 | P7: =IF(ISERROR(MATCH(P$1,INDIRECT("Table!A"&$Z7):INDIRECT("Table!" & $AC$23 & $Z7),0)),"",INDIRECT(CONCATENATE("Table!",ADDRESS($V7,MATCH(P$1,INDIRECT("Table!A" & $Z7):INDIRECT("Table!" & $AC$23 & $Z7),0))))) -> 0.096986958 | ... R7: =IF(ISERROR(MATCH(R$1,INDIRECT("Table!A"&$Z7):INDIRECT("Table!" & $AC$23 & $Z7),0)),"",INDIRECT(CONCATENATE("Table!",ADDRESS($V7,MATCH(R$1,INDIRECT("Table!A" & $Z7):INDIRECT("Table!" & $AC$23 & $Z7),0))))) | S7: =IF(ISERROR(MATCH(S$1,INDIRECT("Table!A"&$Z7):INDIRECT("Table!" & $AC$5 & $Z7),0)),"",INDIRECT(CONCATENATE("Table!",ADDRESS($V7,MATCH(S$1,INDIRECT("Table!A" & $Z7):INDIRECT("Table!" & $AC$5 & $Z7),0))))) -> 0.14717412 | T7: =IF(ISERROR(MATCH(T$1,INDIRECT("Table!A"&$Z7):INDIRECT("Table!" & $AC$5 & $Z7),0)),"",INDIRECT(CONCATENATE("Table!",ADDRESS($V7,MATCH(T$1,INDIRECT("Table!A" & $Z7):INDIRECT("Table!" & $AC$5 & $Z7),0))))) -> 0.14114625 | V7: =MATCH($A7,Table!$A:$A,0)+$X$2-1 -> 30 | Z7: =MATCH($A7,Table!$A:$A,0)+$AB$2-1 -> 27 | AC7: U
A8: 41428 | B8: =IF(ISERROR(MATCH(B$1,INDIRECT("Table!A"&$Z8):INDIRECT("Table!" & $AC$45 & $Z8),0)),"",INDIRECT(CONCATENATE("Table!",ADDRESS($V8,MATCH(B$1,INDIRECT("Table!A" & $Z8):INDIRECT("Table!" & $AC$44 & $Z8),0))))) -> 0.28864889 | C8: =IF(ISERROR(MATCH(C$1,INDIRECT("Table!A"&$Z8):INDIRECT("Table!" & $AC$44 & $Z8),0)),"",INDIRECT(CONCATENATE("Table!",ADDRESS($V8,MATCH(C$1,INDIRECT("Table!A" & $Z8):INDIRECT("Table!" & $AC$44 & $Z8),0))))) -> 0.52167281 | D8: =IF(ISERROR(MATCH(D$1,INDIRECT("Table!A"&$Z8):INDIRECT("Table!" & $AC$44 & $Z8),0)),"",INDIRECT(CONCATENATE("Table!",ADDRESS($V8,MATCH(D$1,INDIRECT("Table!A" & $Z8):INDIRECT("Table!" & $AC$44 & $Z8),0))))) -> 0.53166046 | E8: =IF(ISERROR(MATCH(E$1,INDIRECT("Table!A"&$Z8):INDIRECT("Table!" & $AC$44 & $Z8),0)),"",INDIRECT(CONCATENATE("Table!",ADDRESS($V8,MATCH(E$1,INDIRECT("Table!A" & $Z8):INDIRECT("Table!" & $AC$44 & $Z8),0))))) -> 0.88410629 | F8: =IF(ISERROR(MATCH(F$1,INDIRECT("Table!A"&$Z8):INDIRECT("Table!" & $AC$44 & $Z8),0)),"",INDIRECT(CONCATENATE("Table!",ADDRESS($V8,MATCH(F$1,INDIRECT("Table!A" & $Z8):INDIRECT("Table!" & $AC$44 & $Z8),0))))) -> 0.62273402 | G8: =IF(ISERROR(MATCH(G$1,INDIRECT("Table!A"&$Z8):INDIRECT("Table!" & $AC$44 & $Z8),0)),"",INDIRECT(CONCATENATE("Table!",ADDRESS($V8,MATCH(G$1,INDIRECT("Table!A" & $Z8):INDIRECT("Table!" & $AC$44 & $Z8),0))))) -> 0.40575182 | H8: =IF(ISERROR(MATCH(H$1,INDIRECT("Table!A"&$Z8):INDIRECT("Table!" & $AC$44 & $Z8),0)),"",INDIRECT(CONCATENATE("Table!",ADDRESS($V8,MATCH(H$1,INDIRECT("Table!A" & $Z8):INDIRECT("Table!" & $AC$44 & $Z8),0))))) -> 0.50934499 | I8: =IF(ISERROR(MATCH(I$1,INDIRECT("Table!A"&$Z8):INDIRECT("Table!" & $AC$23 & $Z8),0)),"",INDIRECT(CONCATENATE("Table!",ADDRESS($V8,MATCH(I$1,INDIRECT("Table!A" & $Z8):INDIRECT("Table!" & $AC$23 & $Z8),0))))) -> 0.09564066 | J8: =IF(ISERROR(MATCH(J$1,INDIRECT("Table!A"&$Z8):INDIRECT("Table!" & $AC$23 & $Z8),0)),"",INDIRECT(CONCATENATE("Table!",ADDRESS($V8,MATCH(J$1,INDIRECT("Table!A" & $Z8):INDIRECT("Table!" & $AC$23 & $Z8),0))))) -> 2.8407836e-05 | K8: =IF(ISERROR(MATCH(K$1,INDIRECT("Table!A"&$Z8):INDIRECT("Table!" & $AC$23 & $Z8),0)),"",INDIRECT(CONCATENATE("Table!",ADDRESS($V8,MATCH(K$1,INDIRECT("Table!A" & $Z8):INDIRECT("Table!" & $AC$23 & $Z8),0))))) | L8: =IF(ISERROR(MATCH(L$1,INDIRECT("Table!A"&$Z8):INDIRECT("Table!" & $AC$23 & $Z8),0)),"",INDIRECT(CONCATENATE("Table!",ADDRESS($V8,MATCH(L$1,INDIRECT("Table!A" & $Z8):INDIRECT("Table!" & $AC$23 & $Z8),0))))) -> 0.83315495 | M8: =IF(ISERROR(MATCH(M$1,INDIRECT("Table!A"&$Z8):INDIRECT("Table!" & $AC$23 & $Z8),0)),"",INDIRECT(CONCATENATE("Table!",ADDRESS($V8,MATCH(M$1,INDIRECT("Table!A" & $Z8):INDIRECT("Table!" & $AC$23 & $Z8),0))))) -> 0.4662656 | N8: =IF(ISERROR(MATCH(N$1,INDIRECT("Table!A"&$Z8):INDIRECT("Table!" & $AC$23 & $Z8),0)),"",INDIRECT(CONCATENATE("Table!",ADDRESS($V8,MATCH(N$1,INDIRECT("Table!A" & $Z8):INDIRECT("Table!" & $AC$23 & $Z8),0))))) -> 0.63922477 | O8: =IF(ISERROR(MATCH(O$1,INDIRECT("Table!A"&$Z8):INDIRECT("Table!" & $AC$23 & $Z8),0)),"",INDIRECT(CONCATENATE("Table!",ADDRESS($V8,MATCH(O$1,INDIRECT("Table!A" & $Z8):INDIRECT("Table!" & $AC$23 & $Z8),0))))) -> 0.57823974 | P8: =IF(ISERROR(MATCH(P$1,INDIRECT("Table!A"&$Z8):INDIRECT("Table!" & $AC$23 & $Z8),0)),"",INDIRECT(CONCATENATE("Table!",ADDRESS($V8,MATCH(P$1,INDIRECT("Table!A" & $Z8):INDIRECT("Table!" & $AC$23 & $Z8),0))))) -> 0.096868941 | ... R8: =IF(ISERROR(MATCH(R$1,INDIRECT("Table!A"&$Z8):INDIRECT("Table!" & $AC$23 & $Z8),0)),"",INDIRECT(CONCATENATE("Table!",ADDRESS($V8,MATCH(R$1,INDIRECT("Table!A" & $Z8):INDIRECT("Table!" & $AC$23 & $Z8),0))))) | S8: =IF(ISERROR(MATCH(S$1,INDIRECT("Table!A"&$Z8):INDIRECT("Table!" & $AC$5 & $Z8),0)),"",INDIRECT(CONCATENATE("Table!",ADDRESS($V8,MATCH(S$1,INDIRECT("Table!A" & $Z8):INDIRECT("Table!" & $AC$5 & $Z8),0))))) -> 0.14576708 | T8: =IF(ISERROR(MATCH(T$1,INDIRECT("Table!A"&$Z8):INDIRECT("Table!" & $AC$5 & $Z8),0)),"",INDIRECT(CONCATENATE("Table!",ADDRESS($V8,MATCH(T$1,INDIRECT("Table!A" & $Z8):INDIRECT("Table!" & $AC$5 & $Z8),0))))) -> 0.14084405 | V8: =MATCH($A8,Table!$A:$A,0)+$X$2-1 -> 42 | Z8: =MATCH($A8,Table!$A:$A,0)+$AB$2-1 -> 39 | AC8: U
A9: 41423 | B9: =IF(ISERROR(MATCH(B$1,INDIRECT("Table!A"&$Z9):INDIRECT("Table!" & $AC$45 & $Z9),0)),"",INDIRECT(CONCATENATE("Table!",ADDRESS($V9,MATCH(B$1,INDIRECT("Table!A" & $Z9):INDIRECT("Table!" & $AC$44 & $Z9),0))))) -> 0.2908108 | C9: =IF(ISERROR(MATCH(C$1,INDIRECT("Table!A"&$Z9):INDIRECT("Table!" & $AC$44 & $Z9),0)),"",INDIRECT(CONCATENATE("Table!",ADDRESS($V9,MATCH(C$1,INDIRECT("Table!A" & $Z9):INDIRECT("Table!" & $AC$44 & $Z9),0))))) -> 0.52005105 | D9: =IF(ISERROR(MATCH(D$1,INDIRECT("Table!A"&$Z9):INDIRECT("Table!" & $AC$44 & $Z9),0)),"",INDIRECT(CONCATENATE("Table!",ADDRESS($V9,MATCH(D$1,INDIRECT("Table!A" & $Z9):INDIRECT("Table!" & $AC$44 & $Z9),0))))) -> 0.53003937 | E9: =IF(ISERROR(MATCH(E$1,INDIRECT("Table!A"&$Z9):INDIRECT("Table!" & $AC$44 & $Z9),0)),"",INDIRECT(CONCATENATE("Table!",ADDRESS($V9,MATCH(E$1,INDIRECT("Table!A" & $Z9):INDIRECT("Table!" & $AC$44 & $Z9),0))))) -> 0.88314969 | F9: =IF(ISERROR(MATCH(F$1,INDIRECT("Table!A"&$Z9):INDIRECT("Table!" & $AC$44 & $Z9),0)),"",INDIRECT(CONCATENATE("Table!",ADDRESS($V9,MATCH(F$1,INDIRECT("Table!A" & $Z9):INDIRECT("Table!" & $AC$44 & $Z9),0))))) -> 0.61777308 | G9: =IF(ISERROR(MATCH(G$1,INDIRECT("Table!A"&$Z9):INDIRECT("Table!" & $AC$44 & $Z9),0)),"",INDIRECT(CONCATENATE("Table!",ADDRESS($V9,MATCH(G$1,INDIRECT("Table!A" & $Z9):INDIRECT("Table!" & $AC$44 & $Z9),0))))) -> 0.4116376 | H9: =IF(ISERROR(MATCH(H$1,INDIRECT("Table!A"&$Z9):INDIRECT("Table!" & $AC$44 & $Z9),0)),"",INDIRECT(CONCATENATE("Table!",ADDRESS($V9,MATCH(H$1,INDIRECT("Table!A" & $Z9):INDIRECT("Table!" & $AC$44 & $Z9),0))))) -> 0.50634385 | I9: =IF(ISERROR(MATCH(I$1,INDIRECT("Table!A"&$Z9):INDIRECT("Table!" & $AC$23 & $Z9),0)),"",INDIRECT(CONCATENATE("Table!",ADDRESS($V9,MATCH(I$1,INDIRECT("Table!A" & $Z9):INDIRECT("Table!" & $AC$23 & $Z9),0))))) -> 0.095543718 | J9: =IF(ISERROR(MATCH(J$1,INDIRECT("Table!A"&$Z9):INDIRECT("Table!" & $AC$23 & $Z9),0)),"",INDIRECT(CONCATENATE("Table!",ADDRESS($V9,MATCH(J$1,INDIRECT("Table!A" & $Z9):INDIRECT("Table!" & $AC$23 & $Z9),0))))) -> 2.8407836e-05 | K9: =IF(ISERROR(MATCH(K$1,INDIRECT("Table!A"&$Z9):INDIRECT("Table!" & $AC$23 & $Z9),0)),"",INDIRECT(CONCATENATE("Table!",ADDRESS($V9,MATCH(K$1,INDIRECT("Table!A" & $Z9):INDIRECT("Table!" & $AC$23 & $Z9),0))))) | L9: =IF(ISERROR(MATCH(L$1,INDIRECT("Table!A"&$Z9):INDIRECT("Table!" & $AC$23 & $Z9),0)),"",INDIRECT(CONCATENATE("Table!",ADDRESS($V9,MATCH(L$1,INDIRECT("Table!A" & $Z9):INDIRECT("Table!" & $AC$23 & $Z9),0))))) -> 0.83261875 | M9: =IF(ISERROR(MATCH(M$1,INDIRECT("Table!A"&$Z9):INDIRECT("Table!" & $AC$23 & $Z9),0)),"",INDIRECT(CONCATENATE("Table!",ADDRESS($V9,MATCH(M$1,INDIRECT("Table!A" & $Z9):INDIRECT("Table!" & $AC$23 & $Z9),0))))) -> 0.47843221 | N9: =IF(ISERROR(MATCH(N$1,INDIRECT("Table!A"&$Z9):INDIRECT("Table!" & $AC$23 & $Z9),0)),"",INDIRECT(CONCATENATE("Table!",ADDRESS($V9,MATCH(N$1,INDIRECT("Table!A" & $Z9):INDIRECT("Table!" & $AC$23 & $Z9),0))))) -> 0.634479 | O9: =IF(ISERROR(MATCH(O$1,INDIRECT("Table!A"&$Z9):INDIRECT("Table!" & $AC$23 & $Z9),0)),"",INDIRECT(CONCATENATE("Table!",ADDRESS($V9,MATCH(O$1,INDIRECT("Table!A" & $Z9):INDIRECT("Table!" & $AC$23 & $Z9),0))))) -> 0.571392 | P9: =IF(ISERROR(MATCH(P$1,INDIRECT("Table!A"&$Z9):INDIRECT("Table!" & $AC$23 & $Z9),0)),"",INDIRECT(CONCATENATE("Table!",ADDRESS($V9,MATCH(P$1,INDIRECT("Table!A" & $Z9):INDIRECT("Table!" & $AC$23 & $Z9),0))))) -> 0.096771397 | ... R9: =IF(ISERROR(MATCH(R$1,INDIRECT("Table!A"&$Z9):INDIRECT("Table!" & $AC$23 & $Z9),0)),"",INDIRECT(CONCATENATE("Table!",ADDRESS($V9,MATCH(R$1,INDIRECT("Table!A" & $Z9):INDIRECT("Table!" & $AC$23 & $Z9),0))))) | S9: =IF(ISERROR(MATCH(S$1,INDIRECT("Table!A"&$Z9):INDIRECT("Table!" & $AC$5 & $Z9),0)),"",INDIRECT(CONCATENATE("Table!",ADDRESS($V9,MATCH(S$1,INDIRECT("Table!A" & $Z9):INDIRECT("Table!" & $AC$5 & $Z9),0))))) -> 0.1454552 | T9: =IF(ISERROR(MATCH(T$1,INDIRECT("Table!A"&$Z9):INDIRECT("Table!" & $AC$5 & $Z9),0)),"",INDIRECT(CONCATENATE("Table!",ADDRESS($V9,MATCH(T$1,INDIRECT("Table!A" & $Z9):INDIRECT("Table!" & $AC$5 & $Z9),0))))) -> 0.14027893 | V9: =MATCH($A9,Table!$A:$A,0)+$X$2-1 -> 54 | Z9: =MATCH($A9,Table!$A:$A,0)+$AB$2-1 -> 51 | AC9: U
A10: 41422 | B10: =IF(ISERROR(MATCH(B$1,INDIRECT("Table!A"&$Z10):INDIRECT("Table!" & $AC$45 & $Z10),0)),"",INDIRECT(CONCATENATE("Table!",ADDRESS($V10,MATCH(B$1,INDIRECT("Table!A" & $Z10):INDIRECT("Table!" & $AC$44 & $Z10),0))))) -> 0.28816212 | C10: =IF(ISERROR(MATCH(C$1,INDIRECT("Table!A"&$Z10):INDIRECT("Table!" & $AC$44 & $Z10),0)),"",INDIRECT(CONCATENATE("Table!",ADDRESS($V10,MATCH(C$1,INDIRECT("Table!A" & $Z10):INDIRECT("Table!" & $AC$44 & $Z10),0))))) -> 0.52002315 | D10: =IF(ISERROR(MATCH(D$1,INDIRECT("Table!A"&$Z10):INDIRECT("Table!" & $AC$44 & $Z10),0)),"",INDIRECT(CONCATENATE("Table!",ADDRESS($V10,MATCH(D$1,INDIRECT("Table!A" & $Z10):INDIRECT("Table!" & $AC$44 & $Z10),0))))) -> 0.53001147 | E10: =IF(ISERROR(MATCH(E$1,INDIRECT("Table!A"&$Z10):INDIRECT("Table!" & $AC$44 & $Z10),0)),"",INDIRECT(CONCATENATE("Table!",ADDRESS($V10,MATCH(E$1,INDIRECT("Table!A" & $Z10):INDIRECT("Table!" & $AC$44 & $Z10),0))))) -> 0.88296946 | F10: =IF(ISERROR(MATCH(F$1,INDIRECT("Table!A"&$Z10):INDIRECT("Table!" & $AC$44 & $Z10),0)),"",INDIRECT(CONCATENATE("Table!",ADDRESS($V10,MATCH(F$1,INDIRECT("Table!A" & $Z10):INDIRECT("Table!" & $AC$44 & $Z10),0))))) -> 0.61644218 | G10: =IF(ISERROR(MATCH(G$1,INDIRECT("Table!A"&$Z10):INDIRECT("Table!" & $AC$44 & $Z10),0)),"",INDIRECT(CONCATENATE("Table!",ADDRESS($V10,MATCH(G$1,INDIRECT("Table!A" & $Z10):INDIRECT("Table!" & $AC$44 & $Z10),0))))) -> 0.4162209 | H10: =IF(ISERROR(MATCH(H$1,INDIRECT("Table!A"&$Z10):INDIRECT("Table!" & $AC$44 & $Z10),0)),"",INDIRECT(CONCATENATE("Table!",ADDRESS($V10,MATCH(H$1,INDIRECT("Table!A" & $Z10):INDIRECT("Table!" & $AC$44 & $Z10),0))))) -> 0.50506877 | I10: =IF(ISERROR(MATCH(I$1,INDIRECT("Table!A"&$Z10):INDIRECT("Table!" & $AC$23 & $Z10),0)),"",INDIRECT(CONCATENATE("Table!",ADDRESS($V10,MATCH(I$1,INDIRECT("Table!A" & $Z10):INDIRECT("Table!" & $AC$23 & $Z10),0))))) -> 0.095540707 | J10: =IF(ISERROR(MATCH(J$1,INDIRECT("Table!A"&$Z10):INDIRECT("Table!" & $AC$23 & $Z10),0)),"",INDIRECT(CONCATENATE("Table!",ADDRESS($V10,MATCH(J$1,INDIRECT("Table!A" & $Z10):INDIRECT("Table!" & $AC$23 & $Z10),0))))) -> 2.8407836e-05 | K10: =IF(ISERROR(MATCH(K$1,INDIRECT("Table!A"&$Z10):INDIRECT("Table!" & $AC$23 & $Z10),0)),"",INDIRECT(CONCATENATE("Table!",ADDRESS($V10,MATCH(K$1,INDIRECT("Table!A" & $Z10):INDIRECT("Table!" & $AC$23 & $Z10),0))))) | L10: =IF(ISERROR(MATCH(L$1,INDIRECT("Table!A"&$Z10):INDIRECT("Table!" & $AC$23 & $Z10),0)),"",INDIRECT(CONCATENATE("Table!",ADDRESS($V10,MATCH(L$1,INDIRECT("Table!A" & $Z10):INDIRECT("Table!" & $AC$23 & $Z10),0))))) -> 0.83238977 | M10: =IF(ISERROR(MATCH(M$1,INDIRECT("Table!A"&$Z10):INDIRECT("Table!" & $AC$23 & $Z10),0)),"",INDIRECT(CONCATENATE("Table!",ADDRESS($V10,MATCH(M$1,INDIRECT("Table!A" & $Z10):INDIRECT("Table!" & $AC$23 & $Z10),0))))) -> 0.48207855 | N10: =IF(ISERROR(MATCH(N$1,INDIRECT("Table!A"&$Z10):INDIRECT("Table!" & $AC$23 & $Z10),0)),"",INDIRECT(CONCATENATE("Table!",ADDRESS($V10,MATCH(N$1,INDIRECT("Table!A" & $Z10):INDIRECT("Table!" & $AC$23 & $Z10),0))))) -> 0.6331469 | O10: =IF(ISERROR(MATCH(O$1,INDIRECT("Table!A"&$Z10):INDIRECT("Table!" & $AC$23 & $Z10),0)),"",INDIRECT(CONCATENATE("Table!",ADDRESS($V10,MATCH(O$1,INDIRECT("Table!A" & $Z10):INDIRECT("Table!" & $AC$23 & $Z10),0))))) -> 0.57094522 | P10: =IF(ISERROR(MATCH(P$1,INDIRECT("Table!A"&$Z10):INDIRECT("Table!" & $AC$23 & $Z10),0)),"",INDIRECT(CONCATENATE("Table!",ADDRESS($V10,MATCH(P$1,INDIRECT("Table!A" & $Z10):INDIRECT("Table!" & $AC$23 & $Z10),0))))) -> 0.087349318 | ... R10: =IF(ISERROR(MATCH(R$1,INDIRECT("Table!A"&$Z10):INDIRECT("Table!" & $AC$23 & $Z10),0)),"",INDIRECT(CONCATENATE("Table!",ADDRESS($V10,MATCH(R$1,INDIRECT("Table!A" & $Z10):INDIRECT("Table!" & $AC$23 & $Z10),0))))) | S10: =IF(ISERROR(MATCH(S$1,INDIRECT("Table!A"&$Z10):INDIRECT("Table!" & $AC$5 & $Z10),0)),"",INDIRECT(CONCATENATE("Table!",ADDRESS($V10,MATCH(S$1,INDIRECT("Table!A" & $Z10):INDIRECT("Table!" & $AC$5 & $Z10),0))))) -> 0.14438904 | T10: =IF(ISERROR(MATCH(T$1,INDIRECT("Table!A"&$Z10):INDIRECT("Table!" & $AC$5 & $Z10),0)),"",INDIRECT(CONCATENATE("Table!",ADDRESS($V10,MATCH(T$1,INDIRECT("Table!A" & $Z10):INDIRECT("Table!" & $AC$5 & $Z10),0))))) -> 0.13979541 | V10: =MATCH($A10,Table!$A:$A,0)+$X$2-1 -> 66 | Z10: =MATCH($A10,Table!$A:$A,0)+$AB$2-1 -> 63 | AC10: U
A11: 41414 | B11: =IF(ISERROR(MATCH(B$1,INDIRECT("Table!A"&$Z11):INDIRECT("Table!" & $AC$45 & $Z11),0)),"",INDIRECT(CONCATENATE("Table!",ADDRESS($V11,MATCH(B$1,INDIRECT("Table!A" & $Z11):INDIRECT("Table!" & $AC$44 & $Z11),0))))) -> 0.28230406 | C11: =IF(ISERROR(MATCH(C$1,INDIRECT("Table!A"&$Z11):INDIRECT("Table!" & $AC$44 & $Z11),0)),"",INDIRECT(CONCATENATE("Table!",ADDRESS($V11,MATCH(C$1,INDIRECT("Table!A" & $Z11):INDIRECT("Table!" & $AC$44 & $Z11),0))))) -> 0.51951755 | D11: =IF(ISERROR(MATCH(D$1,INDIRECT("Table!A"&$Z11):INDIRECT("Table!" & $AC$44 & $Z11),0)),"",INDIRECT(CONCATENATE("Table!",ADDRESS($V11,MATCH(D$1,INDIRECT("Table!A" & $Z11):INDIRECT("Table!" & $AC$44 & $Z11),0))))) -> 0.52950986 | E11: =IF(ISERROR(MATCH(E$1,INDIRECT("Table!A"&$Z11):INDIRECT("Table!" & $AC$44 & $Z11),0)),"",INDIRECT(CONCATENATE("Table!",ADDRESS($V11,MATCH(E$1,INDIRECT("Table!A" & $Z11):INDIRECT("Table!" & $AC$44 & $Z11),0))))) -> 0.87609905 | F11: =IF(ISERROR(MATCH(F$1,INDIRECT("Table!A"&$Z11):INDIRECT("Table!" & $AC$44 & $Z11),0)),"",INDIRECT(CONCATENATE("Table!",ADDRESS($V11,MATCH(F$1,INDIRECT("Table!A" & $Z11):INDIRECT("Table!" & $AC$44 & $Z11),0))))) -> 0.60585364 | G11: =IF(ISERROR(MATCH(G$1,INDIRECT("Table!A"&$Z11):INDIRECT("Table!" & $AC$44 & $Z11),0)),"",INDIRECT(CONCATENATE("Table!",ADDRESS($V11,MATCH(G$1,INDIRECT("Table!A" & $Z11):INDIRECT("Table!" & $AC$44 & $Z11),0))))) -> 0.4229195 | H11: =IF(ISERROR(MATCH(H$1,INDIRECT("Table!A"&$Z11):INDIRECT("Table!" & $AC$44 & $Z11),0)),"",INDIRECT(CONCATENATE("Table!",ADDRESS($V11,MATCH(H$1,INDIRECT("Table!A" & $Z11):INDIRECT("Table!" & $AC$44 & $Z11),0))))) -> 0.50159912 | I11: =IF(ISERROR(MATCH(I$1,INDIRECT("Table!A"&$Z11):INDIRECT("Table!" & $AC$23 & $Z11),0)),"",INDIRECT(CONCATENATE("Table!",ADDRESS($V11,MATCH(I$1,INDIRECT("Table!A" & $Z11):INDIRECT("Table!" & $AC$23 & $Z11),0))))) -> 0.086121633 | J11: =IF(ISERROR(MATCH(J$1,INDIRECT("Table!A"&$Z11):INDIRECT("Table!" & $AC$23 & $Z11),0)),"",INDIRECT(CONCATENATE("Table!",ADDRESS($V11,MATCH(J$1,INDIRECT("Table!A" & $Z11):INDIRECT("Table!" & $AC$23 & $Z11),0))))) | K11: =IF(ISERROR(MATCH(K$1,INDIRECT("Table!A"&$Z11):INDIRECT("Table!" & $AC$23 & $Z11),0)),"",INDIRECT(CONCATENATE("Table!",ADDRESS($V11,MATCH(K$1,INDIRECT("Table!A" & $Z11):INDIRECT("Table!" & $AC$23 & $Z11),0))))) | L11: =IF(ISERROR(MATCH(L$1,INDIRECT("Table!A"&$Z11):INDIRECT("Table!" & $AC$23 & $Z11),0)),"",INDIRECT(CONCATENATE("Table!",ADDRESS($V11,MATCH(L$1,INDIRECT("Table!A" & $Z11):INDIRECT("Table!" & $AC$23 & $Z11),0))))) -> 0.82796707 | M11: =IF(ISERROR(MATCH(M$1,INDIRECT("Table!A"&$Z11):INDIRECT("Table!" & $AC$23 & $Z11),0)),"",INDIRECT(CONCATENATE("Table!",ADDRESS($V11,MATCH(M$1,INDIRECT("Table!A" & $Z11):INDIRECT("Table!" & $AC$23 & $Z11),0))))) -> 0.48381999 | N11: =IF(ISERROR(MATCH(N$1,INDIRECT("Table!A"&$Z11):INDIRECT("Table!" & $AC$23 & $Z11),0)),"",INDIRECT(CONCATENATE("Table!",ADDRESS($V11,MATCH(N$1,INDIRECT("Table!A" & $Z11):INDIRECT("Table!" & $AC$23 & $Z11),0))))) -> 0.62255051 | O11: =IF(ISERROR(MATCH(O$1,INDIRECT("Table!A"&$Z11):INDIRECT("Table!" & $AC$23 & $Z11),0)),"",INDIRECT(CONCATENATE("Table!",ADDRESS($V11,MATCH(O$1,INDIRECT("Table!A" & $Z11):INDIRECT("Table!" & $AC$23 & $Z11),0))))) -> 0.56790194 | P11: =IF(ISERROR(MATCH(P$1,INDIRECT("Table!A"&$Z11):INDIRECT("Table!" & $AC$23 & $Z11),0)),"",INDIRECT(CONCATENATE("Table!",ADDRESS($V11,MATCH(P$1,INDIRECT("Table!A" & $Z11):INDIRECT("Table!" & $AC$23 & $Z11),0))))) -> 0.087349318 | ... T11: =IF(ISERROR(MATCH(T$1,INDIRECT("Table!A"&$Z11):INDIRECT("Table!" & $AC$23 & $Z11),0)),"",INDIRECT(CONCATENATE("Table!",ADDRESS($V11,MATCH(T$1,INDIRECT("Table!A" & $Z11):INDIRECT("Table!" & $AC$23 & $Z11),0))))) -> 0.13460963 | V11: =MATCH($A11,Table!$A:$A,0)+$X$2-1 -> 78 | Z11: =MATCH($A11,Table!$A:$A,0)+$AB$2-1 -> 75 | AC11: U
A12: 41408 | B12: =IF(ISERROR(MATCH(B$1,INDIRECT("Table!A"&$Z12):INDIRECT("Table!" & $AC$45 & $Z12),0)),"",INDIRECT(CONCATENATE("Table!",ADDRESS($V12,MATCH(B$1,INDIRECT("Table!A" & $Z12):INDIRECT("Table!" & $AC$44 & $Z12),0))))) -> 0.27845796 | C12: =IF(ISERROR(MATCH(C$1,INDIRECT("Table!A"&$Z12):INDIRECT("Table!" & $AC$44 & $Z12),0)),"",INDIRECT(CONCATENATE("Table!",ADDRESS($V12,MATCH(C$1,INDIRECT("Table!A" & $Z12):INDIRECT("Table!" & $AC$44 & $Z12),0))))) -> 0.51891031 | D12: =IF(ISERROR(MATCH(D$1,INDIRECT("Table!A"&$Z12):INDIRECT("Table!" & $AC$44 & $Z12),0)),"",INDIRECT(CONCATENATE("Table!",ADDRESS($V12,MATCH(D$1,INDIRECT("Table!A" & $Z12):INDIRECT("Table!" & $AC$44 & $Z12),0))))) -> 0.52901357 | E12: =IF(ISERROR(MATCH(E$1,INDIRECT("Table!A"&$Z12):INDIRECT("Table!" & $AC$44 & $Z12),0)),"",INDIRECT(CONCATENATE("Table!",ADDRESS($V12,MATCH(E$1,INDIRECT("Table!A" & $Z12):INDIRECT("Table!" & $AC$44 & $Z12),0))))) -> 0.87468805 | F12: =IF(ISERROR(MATCH(F$1,INDIRECT("Table!A"&$Z12):INDIRECT("Table!" & $AC$44 & $Z12),0)),"",INDIRECT(CONCATENATE("Table!",ADDRESS($V12,MATCH(F$1,INDIRECT("Table!A" & $Z12):INDIRECT("Table!" & $AC$44 & $Z12),0))))) -> 0.60107161 | G12: =IF(ISERROR(MATCH(G$1,INDIRECT("Table!A"&$Z12):INDIRECT("Table!" & $AC$44 & $Z12),0)),"",INDIRECT(CONCATENATE("Table!",ADDRESS($V12,MATCH(G$1,INDIRECT("Table!A" & $Z12):INDIRECT("Table!" & $AC$44 & $Z12),0))))) -> 0.42195229 | H12: =IF(ISERROR(MATCH(H$1,INDIRECT("Table!A"&$Z12):INDIRECT("Table!" & $AC$44 & $Z12),0)),"",INDIRECT(CONCATENATE("Table!",ADDRESS($V12,MATCH(H$1,INDIRECT("Table!A" & $Z12):INDIRECT("Table!" & $AC$44 & $Z12),0))))) -> 0.49927998 | I12: =IF(ISERROR(MATCH(I$1,INDIRECT("Table!A"&$Z12):INDIRECT("Table!" & $AC$23 & $Z12),0)),"",INDIRECT(CONCATENATE("Table!",ADDRESS($V12,MATCH(I$1,INDIRECT("Table!A" & $Z12):INDIRECT("Table!" & $AC$23 & $Z12),0))))) -> 0.085373189 | J12: =IF(ISERROR(MATCH(J$1,INDIRECT("Table!A"&$Z12):INDIRECT("Table!" & $AC$23 & $Z12),0)),"",INDIRECT(CONCATENATE("Table!",ADDRESS($V12,MATCH(J$1,INDIRECT("Table!A" & $Z12):INDIRECT("Table!" & $AC$23 & $Z12),0))))) | K12: =IF(ISERROR(MATCH(K$1,INDIRECT("Table!A"&$Z12):INDIRECT("Table!" & $AC$23 & $Z12),0)),"",INDIRECT(CONCATENATE("Table!",ADDRESS($V12,MATCH(K$1,INDIRECT("Table!A" & $Z12):INDIRECT("Table!" & $AC$23 & $Z12),0))))) | L12: =IF(ISERROR(MATCH(L$1,INDIRECT("Table!A"&$Z12):INDIRECT("Table!" & $AC$23 & $Z12),0)),"",INDIRECT(CONCATENATE("Table!",ADDRESS($V12,MATCH(L$1,INDIRECT("Table!A" & $Z12):INDIRECT("Table!" & $AC$23 & $Z12),0))))) -> 0.82496905 | M12: =IF(ISERROR(MATCH(M$1,INDIRECT("Table!A"&$Z12):INDIRECT("Table!" & $AC$23 & $Z12),0)),"",INDIRECT(CONCATENATE("Table!",ADDRESS($V12,MATCH(M$1,INDIRECT("Table!A" & $Z12):INDIRECT("Table!" & $AC$23 & $Z12),0))))) -> 0.48442545 | N12: =IF(ISERROR(MATCH(N$1,INDIRECT("Table!A"&$Z12):INDIRECT("Table!" & $AC$23 & $Z12),0)),"",INDIRECT(CONCATENATE("Table!",ADDRESS($V12,MATCH(N$1,INDIRECT("Table!A" & $Z12):INDIRECT("Table!" & $AC$23 & $Z12),0))))) -> 0.61796793 | O12: =IF(ISERROR(MATCH(O$1,INDIRECT("Table!A"&$Z12):INDIRECT("Table!" & $AC$23 & $Z12),0)),"",INDIRECT(CONCATENATE("Table!",ADDRESS($V12,MATCH(O$1,INDIRECT("Table!A" & $Z12):INDIRECT("Table!" & $AC$23 & $Z12),0))))) -> 0.56538086 | P12: =IF(ISERROR(MATCH(P$1,INDIRECT("Table!A"&$Z12):INDIRECT("Table!" & $AC$23 & $Z12),0)),"",INDIRECT(CONCATENATE("Table!",ADDRESS($V12,MATCH(P$1,INDIRECT("Table!A" & $Z12):INDIRECT("Table!" & $AC$23 & $Z12),0))))) -> 0.086601476 | ... T12: =IF(ISERROR(MATCH(T$1,INDIRECT("Table!A"&$Z12):INDIRECT("Table!" & $AC$23 & $Z12),0)),"",INDIRECT(CONCATENATE("Table!",ADDRESS($V12,MATCH(T$1,INDIRECT("Table!A" & $Z12):INDIRECT("Table!" & $AC$23 & $Z12),0))))) -> 0.12060863 | V12: =MATCH($A12,Table!$A:$A,0)+$X$2-1 -> 90 | Z12: =MATCH($A12,Table!$A:$A,0)+$AB$2-1 -> 87 | AC12: U
A13: 41401 | B13: =IF(ISERROR(MATCH(B$1,INDIRECT("Table!A"&$Z13):INDIRECT("Table!" & $AC$45 & $Z13),0)),"",INDIRECT(CONCATENATE("Table!",ADDRESS($V13,MATCH(B$1,INDIRECT("Table!A" & $Z13):INDIRECT("Table!" & $AC$44 & $Z13),0))))) -> 0.27719848 | C13: =IF(ISERROR(MATCH(C$1,INDIRECT("Table!A"&$Z13):INDIRECT("Table!" & $AC$44 & $Z13),0)),"",INDIRECT(CONCATENATE("Table!",ADDRESS($V13,MATCH(C$1,INDIRECT("Table!A" & $Z13):INDIRECT("Table!" & $AC$44 & $Z13),0))))) -> 0.51861931 | D13: =IF(ISERROR(MATCH(D$1,INDIRECT("Table!A"&$Z13):INDIRECT("Table!" & $AC$44 & $Z13),0)),"",INDIRECT(CONCATENATE("Table!",ADDRESS($V13,MATCH(D$1,INDIRECT("Table!A" & $Z13):INDIRECT("Table!" & $AC$44 & $Z13),0))))) -> 0.52886674 | E13: =IF(ISERROR(MATCH(E$1,INDIRECT("Table!A"&$Z13):INDIRECT("Table!" & $AC$44 & $Z13),0)),"",INDIRECT(CONCATENATE("Table!",ADDRESS($V13,MATCH(E$1,INDIRECT("Table!A" & $Z13):INDIRECT("Table!" & $AC$44 & $Z13),0))))) -> 0.87133636 | F13: =IF(ISERROR(MATCH(F$1,INDIRECT("Table!A"&$Z13):INDIRECT("Table!" & $AC$44 & $Z13),0)),"",INDIRECT(CONCATENATE("Table!",ADDRESS($V13,MATCH(F$1,INDIRECT("Table!A" & $Z13):INDIRECT("Table!" & $AC$44 & $Z13),0))))) -> 0.59451202 | G13: =IF(ISERROR(MATCH(G$1,INDIRECT("Table!A"&$Z13):INDIRECT("Table!" & $AC$44 & $Z13),0)),"",INDIRECT(CONCATENATE("Table!",ADDRESS($V13,MATCH(G$1,INDIRECT("Table!A" & $Z13):INDIRECT("Table!" & $AC$44 & $Z13),0))))) -> 0.38604956 | H13: =IF(ISERROR(MATCH(H$1,INDIRECT("Table!A"&$Z13):INDIRECT("Table!" & $AC$44 & $Z13),0)),"",INDIRECT(CONCATENATE("Table!",ADDRESS($V13,MATCH(H$1,INDIRECT("Table!A" & $Z13):INDIRECT("Table!" & $AC$44 & $Z13),0))))) -> 0.69532884 | I13: =IF(ISERROR(MATCH(I$1,INDIRECT("Table!A"&$Z13):INDIRECT("Table!" & $AC$23 & $Z13),0)),"",INDIRECT(CONCATENATE("Table!",ADDRESS($V13,MATCH(I$1,INDIRECT("Table!A" & $Z13):INDIRECT("Table!" & $AC$23 & $Z13),0))))) -> 0.082987562 | J13: =IF(ISERROR(MATCH(J$1,INDIRECT("Table!A"&$Z13):INDIRECT("Table!" & $AC$23 & $Z13),0)),"",INDIRECT(CONCATENATE("Table!",ADDRESS($V13,MATCH(J$1,INDIRECT("Table!A" & $Z13):INDIRECT("Table!" & $AC$23 & $Z13),0))))) | K13: =IF(ISERROR(MATCH(K$1,INDIRECT("Table!A"&$Z13):INDIRECT("Table!" & $AC$23 & $Z13),0)),"",INDIRECT(CONCATENATE("Table!",ADDRESS($V13,MATCH(K$1,INDIRECT("Table!A" & $Z13):INDIRECT("Table!" & $AC$23 & $Z13),0))))) | L13: =IF(ISERROR(MATCH(L$1,INDIRECT("Table!A"&$Z13):INDIRECT("Table!" & $AC$23 & $Z13),0)),"",INDIRECT(CONCATENATE("Table!",ADDRESS($V13,MATCH(L$1,INDIRECT("Table!A" & $Z13):INDIRECT("Table!" & $AC$23 & $Z13),0))))) -> 0.82352728 | M13: =IF(ISERROR(MATCH(M$1,INDIRECT("Table!A"&$Z13):INDIRECT("Table!" & $AC$23 & $Z13),0)),"",INDIRECT(CONCATENATE("Table!",ADDRESS($V13,MATCH(M$1,INDIRECT("Table!A" & $Z13):INDIRECT("Table!" & $AC$23 & $Z13),0))))) -> 0.47882575 | N13: =IF(ISERROR(MATCH(N$1,INDIRECT("Table!A"&$Z13):INDIRECT("Table!" & $AC$23 & $Z13),0)),"",INDIRECT(CONCATENATE("Table!",ADDRESS($V13,MATCH(N$1,INDIRECT("Table!A" & $Z13):INDIRECT("Table!" & $AC$23 & $Z13),0))))) -> 0.61271083 | O13: =IF(ISERROR(MATCH(O$1,INDIRECT("Table!A"&$Z13):INDIRECT("Table!" & $AC$23 & $Z13),0)),"",INDIRECT(CONCATENATE("Table!",ADDRESS($V13,MATCH(O$1,INDIRECT("Table!A" & $Z13):INDIRECT("Table!" & $AC$23 & $Z13),0))))) -> 0.87670803 | P13: =IF(ISERROR(MATCH(P$1,INDIRECT("Table!A"&$Z13):INDIRECT("Table!" & $AC$23 & $Z13),0)),"",INDIRECT(CONCATENATE("Table!",ADDRESS($V13,MATCH(P$1,INDIRECT("Table!A" & $Z13):INDIRECT("Table!" & $AC$23 & $Z13),0))))) -> 0.08421585 | ... T13: =IF(ISERROR(MATCH(T$1,INDIRECT("Table!A"&$Z13):INDIRECT("Table!" & $AC$23 & $Z13),0)),"",INDIRECT(CONCATENATE("Table!",ADDRESS($V13,MATCH(T$1,INDIRECT("Table!A" & $Z13):INDIRECT("Table!" & $AC$23 & $Z13),0))))) -> 0.10476119 | V13: =MATCH($A13,Table!$A:$A,0)+$X$2-1 -> 102 | Z13: =MATCH($A13,Table!$A:$A,0)+$AB$2-1 -> 99 | AC13: U
A14: 41395 | B14: =IF(ISERROR(MATCH(B$1,INDIRECT("Table!A"&$Z14):INDIRECT("Table!" & $AC$45 & $Z14),0)),"",INDIRECT(CONCATENATE("Table!",ADDRESS($V14,MATCH(B$1,INDIRECT("Table!A" & $Z14):INDIRECT("Table!" & $AC$44 & $Z14),0))))) -> 0.30140273 | C14: =IF(ISERROR(MATCH(C$1,INDIRECT("Table!A"&$Z14):INDIRECT("Table!" & $AC$44 & $Z14),0)),"",INDIRECT(CONCATENATE("Table!",ADDRESS($V14,MATCH(C$1,INDIRECT("Table!A" & $Z14):INDIRECT("Table!" & $AC$44 & $Z14),0))))) -> 0.51693776 | D14: =IF(ISERROR(MATCH(D$1,INDIRECT("Table!A"&$Z14):INDIRECT("Table!" & $AC$44 & $Z14),0)),"",INDIRECT(CONCATENATE("Table!",ADDRESS($V14,MATCH(D$1,INDIRECT("Table!A" & $Z14):INDIRECT("Table!" & $AC$44 & $Z14),0))))) -> 0.52736457 | E14: =IF(ISERROR(MATCH(E$1,INDIRECT("Table!A"&$Z14):INDIRECT("Table!" & $AC$44 & $Z14),0)),"",INDIRECT(CONCATENATE("Table!",ADDRESS($V14,MATCH(E$1,INDIRECT("Table!A" & $Z14):INDIRECT("Table!" & $AC$44 & $Z14),0))))) -> 0.86762038 | F14: =IF(ISERROR(MATCH(F$1,INDIRECT("Table!A"&$Z14):INDIRECT("Table!" & $AC$44 & $Z14),0)),"",INDIRECT(CONCATENATE("Table!",ADDRESS($V14,MATCH(F$1,INDIRECT("Table!A" & $Z14):INDIRECT("Table!" & $AC$44 & $Z14),0))))) -> 0.58990163 | G14: =IF(ISERROR(MATCH(G$1,INDIRECT("Table!A"&$Z14):INDIRECT("Table!" & $AC$44 & $Z14),0)),"",INDIRECT(CONCATENATE("Table!",ADDRESS($V14,MATCH(G$1,INDIRECT("Table!A" & $Z14):INDIRECT("Table!" & $AC$44 & $Z14),0))))) -> 0.38434293 | H14: =IF(ISERROR(MATCH(H$1,INDIRECT("Table!A"&$Z14):INDIRECT("Table!" & $AC$44 & $Z14),0)),"",INDIRECT(CONCATENATE("Table!",ADDRESS($V14,MATCH(H$1,INDIRECT("Table!A" & $Z14):INDIRECT("Table!" & $AC$44 & $Z14),0))))) -> 0.69353376 | I14: =IF(ISERROR(MATCH(I$1,INDIRECT("Table!A"&$Z14):INDIRECT("Table!" & $AC$23 & $Z14),0)),"",INDIRECT(CONCATENATE("Table!",ADDRESS($V14,MATCH(I$1,INDIRECT("Table!A" & $Z14):INDIRECT("Table!" & $AC$23 & $Z14),0))))) -> 0.082836428 | J14: =IF(ISERROR(MATCH(J$1,INDIRECT("Table!A"&$Z14):INDIRECT("Table!" & $AC$23 & $Z14),0)),"",INDIRECT(CONCATENATE("Table!",ADDRESS($V14,MATCH(J$1,INDIRECT("Table!A" & $Z14):INDIRECT("Table!" & $AC$23 & $Z14),0))))) | K14: =IF(ISERROR(MATCH(K$1,INDIRECT("Table!A"&$Z14):INDIRECT("Table!" & $AC$23 & $Z14),0)),"",INDIRECT(CONCATENATE("Table!",ADDRESS($V14,MATCH(K$1,INDIRECT("Table!A" & $Z14):INDIRECT("Table!" & $AC$23 & $Z14),0))))) | L14: =IF(ISERROR(MATCH(L$1,INDIRECT("Table!A"&$Z14):INDIRECT("Table!" & $AC$23 & $Z14),0)),"",INDIRECT(CONCATENATE("Table!",ADDRESS($V14,MATCH(L$1,INDIRECT("Table!A" & $Z14):INDIRECT("Table!" & $AC$23 & $Z14),0))))) -> 0.82183581 | M14: =IF(ISERROR(MATCH(M$1,INDIRECT("Table!A"&$Z14):INDIRECT("Table!" & $AC$23 & $Z14),0)),"",INDIRECT(CONCATENATE("Table!",ADDRESS($V14,MATCH(M$1,INDIRECT("Table!A" & $Z14):INDIRECT("Table!" & $AC$23 & $Z14),0))))) -> 0.49346488 | N14: =IF(ISERROR(MATCH(N$1,INDIRECT("Table!A"&$Z14):INDIRECT("Table!" & $AC$23 & $Z14),0)),"",INDIRECT(CONCATENATE("Table!",ADDRESS($V14,MATCH(N$1,INDIRECT("Table!A" & $Z14):INDIRECT("Table!" & $AC$23 & $Z14),0))))) -> 0.60816089 | O14: =IF(ISERROR(MATCH(O$1,INDIRECT("Table!A"&$Z14):INDIRECT("Table!" & $AC$23 & $Z14),0)),"",INDIRECT(CONCATENATE("Table!",ADDRESS($V14,MATCH(O$1,INDIRECT("Table!A" & $Z14):INDIRECT("Table!" & $AC$23 & $Z14),0))))) -> 0.87539799 | P14: =IF(ISERROR(MATCH(P$1,INDIRECT("Table!A"&$Z14):INDIRECT("Table!" & $AC$23 & $Z14),0)),"",INDIRECT(CONCATENATE("Table!",ADDRESS($V14,MATCH(P$1,INDIRECT("Table!A" & $Z14):INDIRECT("Table!" & $AC$23 & $Z14),0))))) -> 0.084047255 | ... T14: =IF(ISERROR(MATCH(T$1,INDIRECT("Table!A"&$Z14):INDIRECT("Table!" & $AC$23 & $Z14),0)),"",INDIRECT(CONCATENATE("Table!",ADDRESS($V14,MATCH(T$1,INDIRECT("Table!A" & $Z14):INDIRECT("Table!" & $AC$23 & $Z14),0))))) -> 0.10436228 | V14: =MATCH($A14,Table!$A:$A,0)+$X$2-1 -> 114 | Z14: =MATCH($A14,Table!$A:$A,0)+$AB$2-1 -> 111 | AC14: U
A15: 41393 | B15: =IF(ISERROR(MATCH(B$1,INDIRECT("Table!A"&$Z15):INDIRECT("Table!" & $AC$45 & $Z15),0)),"",INDIRECT(CONCATENATE("Table!",ADDRESS($V15,MATCH(B$1,INDIRECT("Table!A" & $Z15):INDIRECT("Table!" & $AC$44 & $Z15),0))))) -> 0.29606143 | C15: =IF(ISERROR(MATCH(C$1,INDIRECT("Table!A"&$Z15):INDIRECT("Table!" & $AC$44 & $Z15),0)),"",INDIRECT(CONCATENATE("Table!",ADDRESS($V15,MATCH(C$1,INDIRECT("Table!A" & $Z15):INDIRECT("Table!" & $AC$44 & $Z15),0))))) -> 0.51687929 | D15: =IF(ISERROR(MATCH(D$1,INDIRECT("Table!A"&$Z15):INDIRECT("Table!" & $AC$44 & $Z15),0)),"",INDIRECT(CONCATENATE("Table!",ADDRESS($V15,MATCH(D$1,INDIRECT("Table!A" & $Z15):INDIRECT("Table!" & $AC$44 & $Z15),0))))) -> 0.52730677 | E15: =IF(ISERROR(MATCH(E$1,INDIRECT("Table!A"&$Z15):INDIRECT("Table!" & $AC$44 & $Z15),0)),"",INDIRECT(CONCATENATE("Table!",ADDRESS($V15,MATCH(E$1,INDIRECT("Table!A" & $Z15):INDIRECT("Table!" & $AC$44 & $Z15),0))))) -> 0.8669896 | F15: =IF(ISERROR(MATCH(F$1,INDIRECT("Table!A"&$Z15):INDIRECT("Table!" & $AC$44 & $Z15),0)),"",INDIRECT(CONCATENATE("Table!",ADDRESS($V15,MATCH(F$1,INDIRECT("Table!A" & $Z15):INDIRECT("Table!" & $AC$44 & $Z15),0))))) -> 0.58897931 | G15: =IF(ISERROR(MATCH(G$1,INDIRECT("Table!A"&$Z15):INDIRECT("Table!" & $AC$44 & $Z15),0)),"",INDIRECT(CONCATENATE("Table!",ADDRESS($V15,MATCH(G$1,INDIRECT("Table!A" & $Z15):INDIRECT("Table!" & $AC$44 & $Z15),0))))) -> 0.38990025 | H15: =IF(ISERROR(MATCH(H$1,INDIRECT("Table!A"&$Z15):INDIRECT("Table!" & $AC$44 & $Z15),0)),"",INDIRECT(CONCATENATE("Table!",ADDRESS($V15,MATCH(H$1,INDIRECT("Table!A" & $Z15):INDIRECT("Table!" & $AC$44 & $Z15),0))))) -> 0.69278375 | I15: =IF(ISERROR(MATCH(I$1,INDIRECT("Table!A"&$Z15):INDIRECT("Table!" & $AC$23 & $Z15),0)),"",INDIRECT(CONCATENATE("Table!",ADDRESS($V15,MATCH(I$1,INDIRECT("Table!A" & $Z15):INDIRECT("Table!" & $AC$23 & $Z15),0))))) -> 0.082835826 | J15: =IF(ISERROR(MATCH(J$1,INDIRECT("Table!A"&$Z15):INDIRECT("Table!" & $AC$23 & $Z15),0)),"",INDIRECT(CONCATENATE("Table!",ADDRESS($V15,MATCH(J$1,INDIRECT("Table!A" & $Z15):INDIRECT("Table!" & $AC$23 & $Z15),0))))) | K15: =IF(ISERROR(MATCH(K$1,INDIRECT("Table!A"&$Z15):INDIRECT("Table!" & $AC$23 & $Z15),0)),"",INDIRECT(CONCATENATE("Table!",ADDRESS($V15,MATCH(K$1,INDIRECT("Table!A" & $Z15):INDIRECT("Table!" & $AC$23 & $Z15),0))))) | L15: =IF(ISERROR(MATCH(L$1,INDIRECT("Table!A"&$Z15):INDIRECT("Table!" & $AC$23 & $Z15),0)),"",INDIRECT(CONCATENATE("Table!",ADDRESS($V15,MATCH(L$1,INDIRECT("Table!A" & $Z15):INDIRECT("Table!" & $AC$23 & $Z15),0))))) -> 0.82151823 | M15: =IF(ISERROR(MATCH(M$1,INDIRECT("Table!A"&$Z15):INDIRECT("Table!" & $AC$23 & $Z15),0)),"",INDIRECT(CONCATENATE("Table!",ADDRESS($V15,MATCH(M$1,INDIRECT("Table!A" & $Z15):INDIRECT("Table!" & $AC$23 & $Z15),0))))) -> 0.49179155 | N15: =IF(ISERROR(MATCH(N$1,INDIRECT("Table!A"&$Z15):INDIRECT("Table!" & $AC$23 & $Z15),0)),"",INDIRECT(CONCATENATE("Table!",ADDRESS($V15,MATCH(N$1,INDIRECT("Table!A" & $Z15):INDIRECT("Table!" & $AC$23 & $Z15),0))))) -> 0.60715274 | O15: =IF(ISERROR(MATCH(O$1,INDIRECT("Table!A"&$Z15):INDIRECT("Table!" & $AC$23 & $Z15),0)),"",INDIRECT(CONCATENATE("Table!",ADDRESS($V15,MATCH(O$1,INDIRECT("Table!A" & $Z15):INDIRECT("Table!" & $AC$23 & $Z15),0))))) -> 0.87552434 | P15: =IF(ISERROR(MATCH(P$1,INDIRECT("Table!A"&$Z15):INDIRECT("Table!" & $AC$23 & $Z15),0)),"",INDIRECT(CONCATENATE("Table!",ADDRESS($V15,MATCH(P$1,INDIRECT("Table!A" & $Z15):INDIRECT("Table!" & $AC$23 & $Z15),0))))) -> 0.084047255 | ... T15: =IF(ISERROR(MATCH(T$1,INDIRECT("Table!A"&$Z15):INDIRECT("Table!" & $AC$23 & $Z15),0)),"",INDIRECT(CONCATENATE("Table!",ADDRESS($V15,MATCH(T$1,INDIRECT("Table!A" & $Z15):INDIRECT("Table!" & $AC$23 & $Z15),0))))) -> 0.1041598 | V15: =MATCH($A15,Table!$A:$A,0)+$X$2-1 -> 126 | Z15: =MATCH($A15,Table!$A:$A,0)+$AB$2-1 -> 123 | AC15: U
A16: 41390 | B16: =IF(ISERROR(MATCH(B$1,INDIRECT("Table!A"&$Z16):INDIRECT("Table!" & $AC$45 & $Z16),0)),"",INDIRECT(CONCATENATE("Table!",ADDRESS($V16,MATCH(B$1,INDIRECT("Table!A" & $Z16):INDIRECT("Table!" & $AC$44 & $Z16),0))))) -> 0.29424962 | C16: =IF(ISERROR(MATCH(C$1,INDIRECT("Table!A"&$Z16):INDIRECT("Table!" & $AC$44 & $Z16),0)),"",INDIRECT(CONCATENATE("Table!",ADDRESS($V16,MATCH(C$1,INDIRECT("Table!A" & $Z16):INDIRECT("Table!" & $AC$44 & $Z16),0))))) -> 0.07 | D16: =IF(ISERROR(MATCH(D$1,INDIRECT("Table!A"&$Z16):INDIRECT("Table!" & $AC$44 & $Z16),0)),"",INDIRECT(CONCATENATE("Table!",ADDRESS($V16,MATCH(D$1,INDIRECT("Table!A" & $Z16):INDIRECT("Table!" & $AC$44 & $Z16),0))))) -> 0.52697524 | E16: =IF(ISERROR(MATCH(E$1,INDIRECT("Table!A"&$Z16):INDIRECT("Table!" & $AC$44 & $Z16),0)),"",INDIRECT(CONCATENATE("Table!",ADDRESS($V16,MATCH(E$1,INDIRECT("Table!A" & $Z16):INDIRECT("Table!" & $AC$44 & $Z16),0))))) -> 0.86663905 | F16: =IF(ISERROR(MATCH(F$1,INDIRECT("Table!A"&$Z16):INDIRECT("Table!" & $AC$44 & $Z16),0)),"",INDIRECT(CONCATENATE("Table!",ADDRESS($V16,MATCH(F$1,INDIRECT("Table!A" & $Z16):INDIRECT("Table!" & $AC$44 & $Z16),0))))) -> 0.58710023 | G16: =IF(ISERROR(MATCH(G$1,INDIRECT("Table!A"&$Z16):INDIRECT("Table!" & $AC$44 & $Z16),0)),"",INDIRECT(CONCATENATE("Table!",ADDRESS($V16,MATCH(G$1,INDIRECT("Table!A" & $Z16):INDIRECT("Table!" & $AC$44 & $Z16),0))))) -> 0.37599597 | H16: =IF(ISERROR(MATCH(H$1,INDIRECT("Table!A"&$Z16):INDIRECT("Table!" & $AC$44 & $Z16),0)),"",INDIRECT(CONCATENATE("Table!",ADDRESS($V16,MATCH(H$1,INDIRECT("Table!A" & $Z16):INDIRECT("Table!" & $AC$44 & $Z16),0))))) -> 0.68529932 | I16: =IF(ISERROR(MATCH(I$1,INDIRECT("Table!A"&$Z16):INDIRECT("Table!" & $AC$23 & $Z16),0)),"",INDIRECT(CONCATENATE("Table!",ADDRESS($V16,MATCH(I$1,INDIRECT("Table!A" & $Z16):INDIRECT("Table!" & $AC$23 & $Z16),0))))) -> 0.082793677 | J16: =IF(ISERROR(MATCH(J$1,INDIRECT("Table!A"&$Z16):INDIRECT("Table!" & $AC$23 & $Z16),0)),"",INDIRECT(CONCATENATE("Table!",ADDRESS($V16,MATCH(J$1,INDIRECT("Table!A" & $Z16):INDIRECT("Table!" & $AC$23 & $Z16),0))))) | K16: =IF(ISERROR(MATCH(K$1,INDIRECT("Table!A"&$Z16):INDIRECT("Table!" & $AC$23 & $Z16),0)),"",INDIRECT(CONCATENATE("Table!",ADDRESS($V16,MATCH(K$1,INDIRECT("Table!A" & $Z16):INDIRECT("Table!" & $AC$23 & $Z16),0))))) | L16: =IF(ISERROR(MATCH(L$1,INDIRECT("Table!A"&$Z16):INDIRECT("Table!" & $AC$23 & $Z16),0)),"",INDIRECT(CONCATENATE("Table!",ADDRESS($V16,MATCH(L$1,INDIRECT("Table!A" & $Z16):INDIRECT("Table!" & $AC$23 & $Z16),0))))) -> 0.82099913 | M16: =IF(ISERROR(MATCH(M$1,INDIRECT("Table!A"&$Z16):INDIRECT("Table!" & $AC$23 & $Z16),0)),"",INDIRECT(CONCATENATE("Table!",ADDRESS($V16,MATCH(M$1,INDIRECT("Table!A" & $Z16):INDIRECT("Table!" & $AC$23 & $Z16),0))))) -> 0.47222327 | N16: =IF(ISERROR(MATCH(N$1,INDIRECT("Table!A"&$Z16):INDIRECT("Table!" & $AC$23 & $Z16),0)),"",INDIRECT(CONCATENATE("Table!",ADDRESS($V16,MATCH(N$1,INDIRECT("Table!A" & $Z16):INDIRECT("Table!" & $AC$23 & $Z16),0))))) -> 0.60495393 | O16: =IF(ISERROR(MATCH(O$1,INDIRECT("Table!A"&$Z16):INDIRECT("Table!" & $AC$23 & $Z16),0)),"",INDIRECT(CONCATENATE("Table!",ADDRESS($V16,MATCH(O$1,INDIRECT("Table!A" & $Z16):INDIRECT("Table!" & $AC$23 & $Z16),0))))) -> 0.86422975 | P16: =IF(ISERROR(MATCH(P$1,INDIRECT("Table!A"&$Z16):INDIRECT("Table!" & $AC$23 & $Z16),0)),"",INDIRECT(CONCATENATE("Table!",ADDRESS($V16,MATCH(P$1,INDIRECT("Table!A" & $Z16):INDIRECT("Table!" & $AC$23 & $Z16),0))))) -> 0.083983429 | ... T16: =IF(ISERROR(MATCH(T$1,INDIRECT("Table!A"&$Z16):INDIRECT("Table!" & $AC$23 & $Z16),0)),"",INDIRECT(CONCATENATE("Table!",ADDRESS($V16,MATCH(T$1,INDIRECT("Table!A" & $Z16):INDIRECT("Table!" & $AC$23 & $Z16),0))))) -> 0.10401777 | V16: =MATCH($A16,Table!$A:$A,0)+$X$2-1 -> 138 | Z16: =MATCH($A16,Table!$A:$A,0)+$AB$2-1 -> 135 | AC16: U
A17: 41387 | B17: =IF(ISERROR(MATCH(B$1,INDIRECT("Table!A"&$Z17):INDIRECT("Table!" & $AC$45 & $Z17),0)),"",INDIRECT(CONCATENATE("Table!",ADDRESS($V17,MATCH(B$1,INDIRECT("Table!A" & $Z17):INDIRECT("Table!" & $AC$44 & $Z17),0))))) -> 0.2713997 | C17: =IF(ISERROR(MATCH(C$1,INDIRECT("Table!A"&$Z17):INDIRECT("Table!" & $AC$44 & $Z17),0)),"",INDIRECT(CONCATENATE("Table!",ADDRESS($V17,MATCH(C$1,INDIRECT("Table!A" & $Z17):INDIRECT("Table!" & $AC$44 & $Z17),0))))) -> 0.51637037 | D17: =IF(ISERROR(MATCH(D$1,INDIRECT("Table!A"&$Z17):INDIRECT("Table!" & $AC$44 & $Z17),0)),"",INDIRECT(CONCATENATE("Table!",ADDRESS($V17,MATCH(D$1,INDIRECT("Table!A" & $Z17):INDIRECT("Table!" & $AC$44 & $Z17),0))))) -> 0.52679852 | E17: =IF(ISERROR(MATCH(E$1,INDIRECT("Table!A"&$Z17):INDIRECT("Table!" & $AC$44 & $Z17),0)),"",INDIRECT(CONCATENATE("Table!",ADDRESS($V17,MATCH(E$1,INDIRECT("Table!A" & $Z17):INDIRECT("Table!" & $AC$44 & $Z17),0))))) -> 0.86588464 | F17: =IF(ISERROR(MATCH(F$1,INDIRECT("Table!A"&$Z17):INDIRECT("Table!" & $AC$44 & $Z17),0)),"",INDIRECT(CONCATENATE("Table!",ADDRESS($V17,MATCH(F$1,INDIRECT("Table!A" & $Z17):INDIRECT("Table!" & $AC$44 & $Z17),0))))) -> 0.58287545 | G17: =IF(ISERROR(MATCH(G$1,INDIRECT("Table!A"&$Z17):INDIRECT("Table!" & $AC$44 & $Z17),0)),"",INDIRECT(CONCATENATE("Table!",ADDRESS($V17,MATCH(G$1,INDIRECT("Table!A" & $Z17):INDIRECT("Table!" & $AC$44 & $Z17),0))))) -> 0.40295841 | H17: =IF(ISERROR(MATCH(H$1,INDIRECT("Table!A"&$Z17):INDIRECT("Table!" & $AC$44 & $Z17),0)),"",INDIRECT(CONCATENATE("Table!",ADDRESS($V17,MATCH(H$1,INDIRECT("Table!A" & $Z17):INDIRECT("Table!" & $AC$44 & $Z17),0))))) -> 0.68425013 | I17: =IF(ISERROR(MATCH(I$1,INDIRECT("Table!A"&$Z17):INDIRECT("Table!" & $AC$23 & $Z17),0)),"",INDIRECT(CONCATENATE("Table!",ADDRESS($V17,MATCH(I$1,INDIRECT("Table!A" & $Z17):INDIRECT("Table!" & $AC$23 & $Z17),0))))) -> 0.081001145 | J17: =IF(ISERROR(MATCH(J$1,INDIRECT("Table!A"&$Z17):INDIRECT("Table!" & $AC$23 & $Z17),0)),"",INDIRECT(CONCATENATE("Table!",ADDRESS($V17,MATCH(J$1,INDIRECT("Table!A" & $Z17):INDIRECT("Table!" & $AC$23 & $Z17),0))))) | K17: =IF(ISERROR(MATCH(K$1,INDIRECT("Table!A"&$Z17):INDIRECT("Table!" & $AC$23 & $Z17),0)),"",INDIRECT(CONCATENATE("Table!",ADDRESS($V17,MATCH(K$1,INDIRECT("Table!A" & $Z17):INDIRECT("Table!" & $AC$23 & $Z17),0))))) | L17: =IF(ISERROR(MATCH(L$1,INDIRECT("Table!A"&$Z17):INDIRECT("Table!" & $AC$23 & $Z17),0)),"",INDIRECT(CONCATENATE("Table!",ADDRESS($V17,MATCH(L$1,INDIRECT("Table!A" & $Z17):INDIRECT("Table!" & $AC$23 & $Z17),0))))) -> 0.81983298 | M17: =IF(ISERROR(MATCH(M$1,INDIRECT("Table!A"&$Z17):INDIRECT("Table!" & $AC$23 & $Z17),0)),"",INDIRECT(CONCATENATE("Table!",ADDRESS($V17,MATCH(M$1,INDIRECT("Table!A" & $Z17):INDIRECT("Table!" & $AC$23 & $Z17),0))))) -> 0.48772896 | N17: =IF(ISERROR(MATCH(N$1,INDIRECT("Table!A"&$Z17):INDIRECT("Table!" & $AC$23 & $Z17),0)),"",INDIRECT(CONCATENATE("Table!",ADDRESS($V17,MATCH(N$1,INDIRECT("Table!A" & $Z17):INDIRECT("Table!" & $AC$23 & $Z17),0))))) -> 0.60049706 | O17: =IF(ISERROR(MATCH(O$1,INDIRECT("Table!A"&$Z17):INDIRECT("Table!" & $AC$23 & $Z17),0)),"",INDIRECT(CONCATENATE("Table!",ADDRESS($V17,MATCH(O$1,INDIRECT("Table!A" & $Z17):INDIRECT("Table!" & $AC$23 & $Z17),0))))) -> 0.85670323 | P17: =IF(ISERROR(MATCH(P$1,INDIRECT("Table!A"&$Z17):INDIRECT("Table!" & $AC$23 & $Z17),0)),"",INDIRECT(CONCATENATE("Table!",ADDRESS($V17,MATCH(P$1,INDIRECT("Table!A" & $Z17):INDIRECT("Table!" & $AC$23 & $Z17),0))))) -> 0.082190296 | ... T17: =IF(ISERROR(MATCH(T$1,INDIRECT("Table!A"&$Z17):INDIRECT("Table!" & $AC$23 & $Z17),0)),"",INDIRECT(CONCATENATE("Table!",ADDRESS($V17,MATCH(T$1,INDIRECT("Table!A" & $Z17):INDIRECT("Table!" & $AC$23 & $Z17),0))))) -> 0.10391502 | V17: =MATCH($A17,Table!$A:$A,0)+$X$2-1 -> 150 | Z17: =MATCH($A17,Table!$A:$A,0)+$AB$2-1 -> 147 | AC17: U
A18: 41383 | B18: =IF(ISERROR(MATCH(B$1,INDIRECT("Table!A"&$Z18):INDIRECT("Table!" & $AC$45 & $Z18),0)),"",INDIRECT(CONCATENATE("Table!",ADDRESS($V18,MATCH(B$1,INDIRECT("Table!A" & $Z18):INDIRECT("Table!" & $AC$44 & $Z18),0))))) -> 0.26251986 | C18: =IF(ISERROR(MATCH(C$1,INDIRECT("Table!A"&$Z18):INDIRECT("Table!" & $AC$44 & $Z18),0)),"",INDIRECT(CONCATENATE("Table!",ADDRESS($V18,MATCH(C$1,INDIRECT("Table!A" & $Z18):INDIRECT("Table!" & $AC$44 & $Z18),0))))) -> 0.51612588 | D18: =IF(ISERROR(MATCH(D$1,INDIRECT("Table!A"&$Z18):INDIRECT("Table!" & $AC$44 & $Z18),0)),"",INDIRECT(CONCATENATE("Table!",ADDRESS($V18,MATCH(D$1,INDIRECT("Table!A" & $Z18):INDIRECT("Table!" & $AC$44 & $Z18),0))))) -> 0.52549699 | E18: =IF(ISERROR(MATCH(E$1,INDIRECT("Table!A"&$Z18):INDIRECT("Table!" & $AC$44 & $Z18),0)),"",INDIRECT(CONCATENATE("Table!",ADDRESS($V18,MATCH(E$1,INDIRECT("Table!A" & $Z18):INDIRECT("Table!" & $AC$44 & $Z18),0))))) -> 0.86532749 | F18: =IF(ISERROR(MATCH(F$1,INDIRECT("Table!A"&$Z18):INDIRECT("Table!" & $AC$44 & $Z18),0)),"",INDIRECT(CONCATENATE("Table!",ADDRESS($V18,MATCH(F$1,INDIRECT("Table!A" & $Z18):INDIRECT("Table!" & $AC$44 & $Z18),0))))) -> 0.57972832 | G18: =IF(ISERROR(MATCH(G$1,INDIRECT("Table!A"&$Z18):INDIRECT("Table!" & $AC$44 & $Z18),0)),"",INDIRECT(CONCATENATE("Table!",ADDRESS($V18,MATCH(G$1,INDIRECT("Table!A" & $Z18):INDIRECT("Table!" & $AC$44 & $Z18),0))))) -> 0.38223368 | H18: =IF(ISERROR(MATCH(H$1,INDIRECT("Table!A"&$Z18):INDIRECT("Table!" & $AC$44 & $Z18),0)),"",INDIRECT(CONCATENATE("Table!",ADDRESS($V18,MATCH(H$1,INDIRECT("Table!A" & $Z18):INDIRECT("Table!" & $AC$44 & $Z18),0))))) -> 0.6436878 | I18: =IF(ISERROR(MATCH(I$1,INDIRECT("Table!A"&$Z18):INDIRECT("Table!" & $AC$23 & $Z18),0)),"",INDIRECT(CONCATENATE("Table!",ADDRESS($V18,MATCH(I$1,INDIRECT("Table!A" & $Z18):INDIRECT("Table!" & $AC$23 & $Z18),0))))) -> 0.080878311 | J18: =IF(ISERROR(MATCH(J$1,INDIRECT("Table!A"&$Z18):INDIRECT("Table!" & $AC$23 & $Z18),0)),"",INDIRECT(CONCATENATE("Table!",ADDRESS($V18,MATCH(J$1,INDIRECT("Table!A" & $Z18):INDIRECT("Table!" & $AC$23 & $Z18),0))))) | K18: =IF(ISERROR(MATCH(K$1,INDIRECT("Table!A"&$Z18):INDIRECT("Table!" & $AC$23 & $Z18),0)),"",INDIRECT(CONCATENATE("Table!",ADDRESS($V18,MATCH(K$1,INDIRECT("Table!A" & $Z18):INDIRECT("Table!" & $AC$23 & $Z18),0))))) | L18: =IF(ISERROR(MATCH(L$1,INDIRECT("Table!A"&$Z18):INDIRECT("Table!" & $AC$23 & $Z18),0)),"",INDIRECT(CONCATENATE("Table!",ADDRESS($V18,MATCH(L$1,INDIRECT("Table!A" & $Z18):INDIRECT("Table!" & $AC$23 & $Z18),0))))) -> 0.81218068 | M18: =IF(ISERROR(MATCH(M$1,INDIRECT("Table!A"&$Z18):INDIRECT("Table!" & $AC$23 & $Z18),0)),"",INDIRECT(CONCATENATE("Table!",ADDRESS($V18,MATCH(M$1,INDIRECT("Table!A" & $Z18):INDIRECT("Table!" & $AC$23 & $Z18),0))))) -> 0.41817059 | N18: =IF(ISERROR(MATCH(N$1,INDIRECT("Table!A"&$Z18):INDIRECT("Table!" & $AC$23 & $Z18),0)),"",INDIRECT(CONCATENATE("Table!",ADDRESS($V18,MATCH(N$1,INDIRECT("Table!A" & $Z18):INDIRECT("Table!" & $AC$23 & $Z18),0))))) -> 0.59477941 | O18: =IF(ISERROR(MATCH(O$1,INDIRECT("Table!A"&$Z18):INDIRECT("Table!" & $AC$23 & $Z18),0)),"",INDIRECT(CONCATENATE("Table!",ADDRESS($V18,MATCH(O$1,INDIRECT("Table!A" & $Z18):INDIRECT("Table!" & $AC$23 & $Z18),0))))) -> 0.811998 | P18: =IF(ISERROR(MATCH(P$1,INDIRECT("Table!A"&$Z18):INDIRECT("Table!" & $AC$23 & $Z18),0)),"",INDIRECT(CONCATENATE("Table!",ADDRESS($V18,MATCH(P$1,INDIRECT("Table!A" & $Z18):INDIRECT("Table!" & $AC$23 & $Z18),0))))) -> 0.082067462 | ... T18: =IF(ISERROR(MATCH(T$1,INDIRECT("Table!A"&$Z18):INDIRECT("Table!" & $AC$23 & $Z18),0)),"",INDIRECT(CONCATENATE("Table!",ADDRESS($V18,MATCH(T$1,INDIRECT("Table!A" & $Z18):INDIRECT("Table!" & $AC$23 & $Z18),0))))) -> 0.10391502 | V18: =MATCH($A18,Table!$A:$A,0)+$X$2-1 -> 162 | Z18: =MATCH($A18,Table!$A:$A,0)+$AB$2-1 -> 159 | AC18: U
A19: 41379 | B19: =IF(ISERROR(MATCH(B$1,INDIRECT("Table!A"&$Z19):INDIRECT("Table!" & $AC$45 & $Z19),0)),"",INDIRECT(CONCATENATE("Table!",ADDRESS($V19,MATCH(B$1,INDIRECT("Table!A" & $Z19):INDIRECT("Table!" & $AC$44 & $Z19),0))))) -> 0.26360778 | C19: =IF(ISERROR(MATCH(C$1,INDIRECT("Table!A"&$Z19):INDIRECT("Table!" & $AC$44 & $Z19),0)),"",INDIRECT(CONCATENATE("Table!",ADDRESS($V19,MATCH(C$1,INDIRECT("Table!A" & $Z19):INDIRECT("Table!" & $AC$44 & $Z19),0))))) -> 0.51565882 | D19: =IF(ISERROR(MATCH(D$1,INDIRECT("Table!A"&$Z19):INDIRECT("Table!" & $AC$44 & $Z19),0)),"",INDIRECT(CONCATENATE("Table!",ADDRESS($V19,MATCH(D$1,INDIRECT("Table!A" & $Z19):INDIRECT("Table!" & $AC$44 & $Z19),0))))) -> 0.52503059 | E19: =IF(ISERROR(MATCH(E$1,INDIRECT("Table!A"&$Z19):INDIRECT("Table!" & $AC$44 & $Z19),0)),"",INDIRECT(CONCATENATE("Table!",ADDRESS($V19,MATCH(E$1,INDIRECT("Table!A" & $Z19):INDIRECT("Table!" & $AC$44 & $Z19),0))))) -> 0.86457089 | F19: =IF(ISERROR(MATCH(F$1,INDIRECT("Table!A"&$Z19):INDIRECT("Table!" & $AC$44 & $Z19),0)),"",INDIRECT(CONCATENATE("Table!",ADDRESS($V19,MATCH(F$1,INDIRECT("Table!A" & $Z19):INDIRECT("Table!" & $AC$44 & $Z19),0))))) -> 0.56729091 | G19: =IF(ISERROR(MATCH(G$1,INDIRECT("Table!A"&$Z19):INDIRECT("Table!" & $AC$44 & $Z19),0)),"",INDIRECT(CONCATENATE("Table!",ADDRESS($V19,MATCH(G$1,INDIRECT("Table!A" & $Z19):INDIRECT("Table!" & $AC$44 & $Z19),0))))) -> 0.39137983 | H19: =IF(ISERROR(MATCH(H$1,INDIRECT("Table!A"&$Z19):INDIRECT("Table!" & $AC$44 & $Z19),0)),"",INDIRECT(CONCATENATE("Table!",ADDRESS($V19,MATCH(H$1,INDIRECT("Table!A" & $Z19):INDIRECT("Table!" & $AC$44 & $Z19),0))))) -> 0.64286692 | I19: =IF(ISERROR(MATCH(I$1,INDIRECT("Table!A"&$Z19):INDIRECT("Table!" & $AC$23 & $Z19),0)),"",INDIRECT(CONCATENATE("Table!",ADDRESS($V19,MATCH(I$1,INDIRECT("Table!A" & $Z19):INDIRECT("Table!" & $AC$23 & $Z19),0))))) -> 0.079640337 | J19: =IF(ISERROR(MATCH(J$1,INDIRECT("Table!A"&$Z19):INDIRECT("Table!" & $AC$23 & $Z19),0)),"",INDIRECT(CONCATENATE("Table!",ADDRESS($V19,MATCH(J$1,INDIRECT("Table!A" & $Z19):INDIRECT("Table!" & $AC$23 & $Z19),0))))) | K19: =IF(ISERROR(MATCH(K$1,INDIRECT("Table!A"&$Z19):INDIRECT("Table!" & $AC$23 & $Z19),0)),"",INDIRECT(CONCATENATE("Table!",ADDRESS($V19,MATCH(K$1,INDIRECT("Table!A" & $Z19):INDIRECT("Table!" & $AC$23 & $Z19),0))))) | L19: =IF(ISERROR(MATCH(L$1,INDIRECT("Table!A"&$Z19):INDIRECT("Table!" & $AC$23 & $Z19),0)),"",INDIRECT(CONCATENATE("Table!",ADDRESS($V19,MATCH(L$1,INDIRECT("Table!A" & $Z19):INDIRECT("Table!" & $AC$23 & $Z19),0))))) -> 0.81218068 | M19: =IF(ISERROR(MATCH(M$1,INDIRECT("Table!A"&$Z19):INDIRECT("Table!" & $AC$23 & $Z19),0)),"",INDIRECT(CONCATENATE("Table!",ADDRESS($V19,MATCH(M$1,INDIRECT("Table!A" & $Z19):INDIRECT("Table!" & $AC$23 & $Z19),0))))) -> 0.41817059 | N19: =IF(ISERROR(MATCH(N$1,INDIRECT("Table!A"&$Z19):INDIRECT("Table!" & $AC$23 & $Z19),0)),"",INDIRECT(CONCATENATE("Table!",ADDRESS($V19,MATCH(N$1,INDIRECT("Table!A" & $Z19):INDIRECT("Table!" & $AC$23 & $Z19),0))))) -> 0.59477941 | O19: =IF(ISERROR(MATCH(O$1,INDIRECT("Table!A"&$Z19):INDIRECT("Table!" & $AC$23 & $Z19),0)),"",INDIRECT(CONCATENATE("Table!",ADDRESS($V19,MATCH(O$1,INDIRECT("Table!A" & $Z19):INDIRECT("Table!" & $AC$23 & $Z19),0))))) -> 0.811998 | P19: =IF(ISERROR(MATCH(P$1,INDIRECT("Table!A"&$Z19):INDIRECT("Table!" & $AC$23 & $Z19),0)),"",INDIRECT(CONCATENATE("Table!",ADDRESS($V19,MATCH(P$1,INDIRECT("Table!A" & $Z19):INDIRECT("Table!" & $AC$23 & $Z19),0))))) -> 0.080760847 | ... T19: =IF(ISERROR(MATCH(T$1,INDIRECT("Table!A"&$Z19):INDIRECT("Table!" & $AC$23 & $Z19),0)),"",INDIRECT(CONCATENATE("Table!",ADDRESS($V19,MATCH(T$1,INDIRECT("Table!A" & $Z19):INDIRECT("Table!" & $AC$23 & $Z19),0))))) -> 0.10381227 | V19: =MATCH($A19,Table!$A:$A,0)+$X$2-1 -> 174 | Z19: =MATCH($A19,Table!$A:$A,0)+$AB$2-1 -> 171 | AC19: U
A20: 41374 | B20: =IF(ISERROR(MATCH(B$1,INDIRECT("Table!A"&$Z20):INDIRECT("Table!" & $AC$45 & $Z20),0)),"",INDIRECT(CONCATENATE("Table!",ADDRESS($V20,MATCH(B$1,INDIRECT("Table!A" & $Z20):INDIRECT("Table!" & $AC$44 & $Z20),0))))) -> 0.27254481 | C20: =IF(ISERROR(MATCH(C$1,INDIRECT("Table!A"&$Z20):INDIRECT("Table!" & $AC$44 & $Z20),0)),"",INDIRECT(CONCATENATE("Table!",ADDRESS($V20,MATCH(C$1,INDIRECT("Table!A" & $Z20):INDIRECT("Table!" & $AC$44 & $Z20),0))))) -> 0.51547811 | D20: =IF(ISERROR(MATCH(D$1,INDIRECT("Table!A"&$Z20):INDIRECT("Table!" & $AC$44 & $Z20),0)),"",INDIRECT(CONCATENATE("Table!",ADDRESS($V20,MATCH(D$1,INDIRECT("Table!A" & $Z20):INDIRECT("Table!" & $AC$44 & $Z20),0))))) -> 0.52485254 | E20: =IF(ISERROR(MATCH(E$1,INDIRECT("Table!A"&$Z20):INDIRECT("Table!" & $AC$44 & $Z20),0)),"",INDIRECT(CONCATENATE("Table!",ADDRESS($V20,MATCH(E$1,INDIRECT("Table!A" & $Z20):INDIRECT("Table!" & $AC$44 & $Z20),0))))) -> 0.86976106 | F20: =IF(ISERROR(MATCH(F$1,INDIRECT("Table!A"&$Z20):INDIRECT("Table!" & $AC$44 & $Z20),0)),"",INDIRECT(CONCATENATE("Table!",ADDRESS($V20,MATCH(F$1,INDIRECT("Table!A" & $Z20):INDIRECT("Table!" & $AC$44 & $Z20),0))))) -> 0.56729091 | G20: =IF(ISERROR(MATCH(G$1,INDIRECT("Table!A"&$Z20):INDIRECT("Table!" & $AC$44 & $Z20),0)),"",INDIRECT(CONCATENATE("Table!",ADDRESS($V20,MATCH(G$1,INDIRECT("Table!A" & $Z20):INDIRECT("Table!" & $AC$44 & $Z20),0))))) -> 0.38039233 | H20: =IF(ISERROR(MATCH(H$1,INDIRECT("Table!A"&$Z20):INDIRECT("Table!" & $AC$44 & $Z20),0)),"",INDIRECT(CONCATENATE("Table!",ADDRESS($V20,MATCH(H$1,INDIRECT("Table!A" & $Z20):INDIRECT("Table!" & $AC$44 & $Z20),0))))) -> 0.62978543 | I20: =IF(ISERROR(MATCH(I$1,INDIRECT("Table!A"&$Z20):INDIRECT("Table!" & $AC$23 & $Z20),0)),"",INDIRECT(CONCATENATE("Table!",ADDRESS($V20,MATCH(I$1,INDIRECT("Table!A" & $Z20):INDIRECT("Table!" & $AC$23 & $Z20),0))))) -> 0.078026637 | J20: =IF(ISERROR(MATCH(J$1,INDIRECT("Table!A"&$Z20):INDIRECT("Table!" & $AC$23 & $Z20),0)),"",INDIRECT(CONCATENATE("Table!",ADDRESS($V20,MATCH(J$1,INDIRECT("Table!A" & $Z20):INDIRECT("Table!" & $AC$23 & $Z20),0))))) | K20: =IF(ISERROR(MATCH(K$1,INDIRECT("Table!A"&$Z20):INDIRECT("Table!" & $AC$23 & $Z20),0)),"",INDIRECT(CONCATENATE("Table!",ADDRESS($V20,MATCH(K$1,INDIRECT("Table!A" & $Z20):INDIRECT("Table!" & $AC$23 & $Z20),0))))) | L20: =IF(ISERROR(MATCH(L$1,INDIRECT("Table!A"&$Z20):INDIRECT("Table!" & $AC$23 & $Z20),0)),"",INDIRECT(CONCATENATE("Table!",ADDRESS($V20,MATCH(L$1,INDIRECT("Table!A" & $Z20):INDIRECT("Table!" & $AC$23 & $Z20),0))))) -> 0.81258684 | M20: =IF(ISERROR(MATCH(M$1,INDIRECT("Table!A"&$Z20):INDIRECT("Table!" & $AC$23 & $Z20),0)),"",INDIRECT(CONCATENATE("Table!",ADDRESS($V20,MATCH(M$1,INDIRECT("Table!A" & $Z20):INDIRECT("Table!" & $AC$23 & $Z20),0))))) -> 0.42306871 | N20: =IF(ISERROR(MATCH(N$1,INDIRECT("Table!A"&$Z20):INDIRECT("Table!" & $AC$23 & $Z20),0)),"",INDIRECT(CONCATENATE("Table!",ADDRESS($V20,MATCH(N$1,INDIRECT("Table!A" & $Z20):INDIRECT("Table!" & $AC$23 & $Z20),0))))) -> 0.58787713 | O20: =IF(ISERROR(MATCH(O$1,INDIRECT("Table!A"&$Z20):INDIRECT("Table!" & $AC$23 & $Z20),0)),"",INDIRECT(CONCATENATE("Table!",ADDRESS($V20,MATCH(O$1,INDIRECT("Table!A" & $Z20):INDIRECT("Table!" & $AC$23 & $Z20),0))))) -> 0.78343826 | P20: =IF(ISERROR(MATCH(P$1,INDIRECT("Table!A"&$Z20):INDIRECT("Table!" & $AC$23 & $Z20),0)),"",INDIRECT(CONCATENATE("Table!",ADDRESS($V20,MATCH(P$1,INDIRECT("Table!A" & $Z20):INDIRECT("Table!" & $AC$23 & $Z20),0))))) -> 0.0813136 | ... T20: =IF(ISERROR(MATCH(T$1,INDIRECT("Table!A"&$Z20):INDIRECT("Table!" & $AC$23 & $Z20),0)),"",INDIRECT(CONCATENATE("Table!",ADDRESS($V20,MATCH(T$1,INDIRECT("Table!A" & $Z20):INDIRECT("Table!" & $AC$23 & $Z20),0))))) -> 0.10059383 | V20: =MATCH($A20,Table!$A:$A,0)+$X$2-1 -> 186 | Z20: =MATCH($A20,Table!$A:$A,0)+$AB$2-1 -> 183 | AC20: U
A21: 41373 | B21: =IF(ISERROR(MATCH(B$1,INDIRECT("Table!A"&$Z21):INDIRECT("Table!" & $AC$45 & $Z21),0)),"",INDIRECT(CONCATENATE("Table!",ADDRESS($V21,MATCH(B$1,INDIRECT("Table!A" & $Z21):INDIRECT("Table!" & $AC$44 & $Z21),0))))) -> 0.27926693 | C21: =IF(ISERROR(MATCH(C$1,INDIRECT("Table!A"&$Z21):INDIRECT("Table!" & $AC$44 & $Z21),0)),"",INDIRECT(CONCATENATE("Table!",ADDRESS($V21,MATCH(C$1,INDIRECT("Table!A" & $Z21):INDIRECT("Table!" & $AC$44 & $Z21),0))))) -> 0.51541167 | D21: =IF(ISERROR(MATCH(D$1,INDIRECT("Table!A"&$Z21):INDIRECT("Table!" & $AC$44 & $Z21),0)),"",INDIRECT(CONCATENATE("Table!",ADDRESS($V21,MATCH(D$1,INDIRECT("Table!A" & $Z21):INDIRECT("Table!" & $AC$44 & $Z21),0))))) -> 0.52478677 | E21: =IF(ISERROR(MATCH(E$1,INDIRECT("Table!A"&$Z21):INDIRECT("Table!" & $AC$44 & $Z21),0)),"",INDIRECT(CONCATENATE("Table!",ADDRESS($V21,MATCH(E$1,INDIRECT("Table!A" & $Z21):INDIRECT("Table!" & $AC$44 & $Z21),0))))) -> 0.86937534 | F21: =IF(ISERROR(MATCH(F$1,INDIRECT("Table!A"&$Z21):INDIRECT("Table!" & $AC$44 & $Z21),0)),"",INDIRECT(CONCATENATE("Table!",ADDRESS($V21,MATCH(F$1,INDIRECT("Table!A" & $Z21):INDIRECT("Table!" & $AC$44 & $Z21),0))))) -> 0.56639398 | G21: =IF(ISERROR(MATCH(G$1,INDIRECT("Table!A"&$Z21):INDIRECT("Table!" & $AC$44 & $Z21),0)),"",INDIRECT(CONCATENATE("Table!",ADDRESS($V21,MATCH(G$1,INDIRECT("Table!A" & $Z21):INDIRECT("Table!" & $AC$44 & $Z21),0))))) -> 0.38402658 | H21: =IF(ISERROR(MATCH(H$1,INDIRECT("Table!A"&$Z21):INDIRECT("Table!" & $AC$44 & $Z21),0)),"",INDIRECT(CONCATENATE("Table!",ADDRESS($V21,MATCH(H$1,INDIRECT("Table!A" & $Z21):INDIRECT("Table!" & $AC$44 & $Z21),0))))) -> 0.62559692 | I21: =IF(ISERROR(MATCH(I$1,INDIRECT("Table!A"&$Z21):INDIRECT("Table!" & $AC$23 & $Z21),0)),"",INDIRECT(CONCATENATE("Table!",ADDRESS($V21,MATCH(I$1,INDIRECT("Table!A" & $Z21):INDIRECT("Table!" & $AC$23 & $Z21),0))))) -> 0.053613395 | J21: =IF(ISERROR(MATCH(J$1,INDIRECT("Table!A"&$Z21):INDIRECT("Table!" & $AC$23 & $Z21),0)),"",INDIRECT(CONCATENATE("Table!",ADDRESS($V21,MATCH(J$1,INDIRECT("Table!A" & $Z21):INDIRECT("Table!" & $AC$23 & $Z21),0))))) | K21: =IF(ISERROR(MATCH(K$1,INDIRECT("Table!A"&$Z21):INDIRECT("Table!" & $AC$23 & $Z21),0)),"",INDIRECT(CONCATENATE("Table!",ADDRESS($V21,MATCH(K$1,INDIRECT("Table!A" & $Z21):INDIRECT("Table!" & $AC$23 & $Z21),0))))) | L21: =IF(ISERROR(MATCH(L$1,INDIRECT("Table!A"&$Z21):INDIRECT("Table!" & $AC$23 & $Z21),0)),"",INDIRECT(CONCATENATE("Table!",ADDRESS($V21,MATCH(L$1,INDIRECT("Table!A" & $Z21):INDIRECT("Table!" & $AC$23 & $Z21),0))))) -> 0.81226668 | M21: =IF(ISERROR(MATCH(M$1,INDIRECT("Table!A"&$Z21):INDIRECT("Table!" & $AC$23 & $Z21),0)),"",INDIRECT(CONCATENATE("Table!",ADDRESS($V21,MATCH(M$1,INDIRECT("Table!A" & $Z21):INDIRECT("Table!" & $AC$23 & $Z21),0))))) -> 0.42944263 | N21: =IF(ISERROR(MATCH(N$1,INDIRECT("Table!A"&$Z21):INDIRECT("Table!" & $AC$23 & $Z21),0)),"",INDIRECT(CONCATENATE("Table!",ADDRESS($V21,MATCH(N$1,INDIRECT("Table!A" & $Z21):INDIRECT("Table!" & $AC$23 & $Z21),0))))) -> 0.58697657 | O21: =IF(ISERROR(MATCH(O$1,INDIRECT("Table!A"&$Z21):INDIRECT("Table!" & $AC$23 & $Z21),0)),"",INDIRECT(CONCATENATE("Table!",ADDRESS($V21,MATCH(O$1,INDIRECT("Table!A" & $Z21):INDIRECT("Table!" & $AC$23 & $Z21),0))))) -> 0.78337367 | P21: =IF(ISERROR(MATCH(P$1,INDIRECT("Table!A"&$Z21):INDIRECT("Table!" & $AC$23 & $Z21),0)),"",INDIRECT(CONCATENATE("Table!",ADDRESS($V21,MATCH(P$1,INDIRECT("Table!A" & $Z21):INDIRECT("Table!" & $AC$23 & $Z21),0))))) -> 0.078507689 | ... T21: =IF(ISERROR(MATCH(T$1,INDIRECT("Table!A"&$Z21):INDIRECT("Table!" & $AC$23 & $Z21),0)),"",INDIRECT(CONCATENATE("Table!",ADDRESS($V21,MATCH(T$1,INDIRECT("Table!A" & $Z21):INDIRECT("Table!" & $AC$23 & $Z21),0))))) -> 0.09517233 | V21: =MATCH($A21,Table!$A:$A,0)+$X$2-1 -> 198 | Z21: =MATCH($A21,Table!$A:$A,0)+$AB$2-1 -> 195 | AC21: U
A22: 41361 | B22: =IF(ISERROR(MATCH(B$1,INDIRECT("Table!A"&$Z22):INDIRECT("Table!" & $AC$45 & $Z22),0)),"",INDIRECT(CONCATENATE("Table!",ADDRESS($V22,MATCH(B$1,INDIRECT("Table!A" & $Z22):INDIRECT("Table!" & $AC$44 & $Z22),0))))) -> 0.32784071 | C22: =IF(ISERROR(MATCH(C$1,INDIRECT("Table!A"&$Z22):INDIRECT("Table!" & $AC$44 & $Z22),0)),"",INDIRECT(CONCATENATE("Table!",ADDRESS($V22,MATCH(C$1,INDIRECT("Table!A" & $Z22):INDIRECT("Table!" & $AC$44 & $Z22),0))))) -> 0.51516851 | D22: =IF(ISERROR(MATCH(D$1,INDIRECT("Table!A"&$Z22):INDIRECT("Table!" & $AC$44 & $Z22),0)),"",INDIRECT(CONCATENATE("Table!",ADDRESS($V22,MATCH(D$1,INDIRECT("Table!A" & $Z22):INDIRECT("Table!" & $AC$44 & $Z22),0))))) -> 0.52454692 | E22: =IF(ISERROR(MATCH(E$1,INDIRECT("Table!A"&$Z22):INDIRECT("Table!" & $AC$44 & $Z22),0)),"",INDIRECT(CONCATENATE("Table!",ADDRESS($V22,MATCH(E$1,INDIRECT("Table!A" & $Z22):INDIRECT("Table!" & $AC$44 & $Z22),0))))) -> 0.86600992 | F22: =IF(ISERROR(MATCH(F$1,INDIRECT("Table!A"&$Z22):INDIRECT("Table!" & $AC$44 & $Z22),0)),"",INDIRECT(CONCATENATE("Table!",ADDRESS($V22,MATCH(F$1,INDIRECT("Table!A" & $Z22):INDIRECT("Table!" & $AC$44 & $Z22),0))))) -> 0.53617987 | G22: =IF(ISERROR(MATCH(G$1,INDIRECT("Table!A"&$Z22):INDIRECT("Table!" & $AC$44 & $Z22),0)),"",INDIRECT(CONCATENATE("Table!",ADDRESS($V22,MATCH(G$1,INDIRECT("Table!A" & $Z22):INDIRECT("Table!" & $AC$44 & $Z22),0))))) -> 0.36703297 | H22: =IF(ISERROR(MATCH(H$1,INDIRECT("Table!A"&$Z22):INDIRECT("Table!" & $AC$44 & $Z22),0)),"",INDIRECT(CONCATENATE("Table!",ADDRESS($V22,MATCH(H$1,INDIRECT("Table!A" & $Z22):INDIRECT("Table!" & $AC$44 & $Z22),0))))) -> 0.59642237 | I22: =IF(ISERROR(MATCH(I$1,INDIRECT("Table!A"&$Z22):INDIRECT("Table!" & $AC$23 & $Z22),0)),"",INDIRECT(CONCATENATE("Table!",ADDRESS($V22,MATCH(I$1,INDIRECT("Table!A" & $Z22):INDIRECT("Table!" & $AC$23 & $Z22),0))))) -> 0.053613395 | J22: =IF(ISERROR(MATCH(J$1,INDIRECT("Table!A"&$Z22):INDIRECT("Table!" & $AC$23 & $Z22),0)),"",INDIRECT(CONCATENATE("Table!",ADDRESS($V22,MATCH(J$1,INDIRECT("Table!A" & $Z22):INDIRECT("Table!" & $AC$23 & $Z22),0))))) | K22: =IF(ISERROR(MATCH(K$1,INDIRECT("Table!A"&$Z22):INDIRECT("Table!" & $AC$23 & $Z22),0)),"",INDIRECT(CONCATENATE("Table!",ADDRESS($V22,MATCH(K$1,INDIRECT("Table!A" & $Z22):INDIRECT("Table!" & $AC$23 & $Z22),0))))) | L22: =IF(ISERROR(MATCH(L$1,INDIRECT("Table!A"&$Z22):INDIRECT("Table!" & $AC$23 & $Z22),0)),"",INDIRECT(CONCATENATE("Table!",ADDRESS($V22,MATCH(L$1,INDIRECT("Table!A" & $Z22):INDIRECT("Table!" & $AC$23 & $Z22),0))))) -> 0.80800665 | M22: =IF(ISERROR(MATCH(M$1,INDIRECT("Table!A"&$Z22):INDIRECT("Table!" & $AC$23 & $Z22),0)),"",INDIRECT(CONCATENATE("Table!",ADDRESS($V22,MATCH(M$1,INDIRECT("Table!A" & $Z22):INDIRECT("Table!" & $AC$23 & $Z22),0))))) -> 0.49197243 | N22: =IF(ISERROR(MATCH(N$1,INDIRECT("Table!A"&$Z22):INDIRECT("Table!" & $AC$23 & $Z22),0)),"",INDIRECT(CONCATENATE("Table!",ADDRESS($V22,MATCH(N$1,INDIRECT("Table!A" & $Z22):INDIRECT("Table!" & $AC$23 & $Z22),0))))) -> 0.55628621 | O22: =IF(ISERROR(MATCH(O$1,INDIRECT("Table!A"&$Z22):INDIRECT("Table!" & $AC$23 & $Z22),0)),"",INDIRECT(CONCATENATE("Table!",ADDRESS($V22,MATCH(O$1,INDIRECT("Table!A" & $Z22):INDIRECT("Table!" & $AC$23 & $Z22),0))))) -> 0.77393705 | P22: =IF(ISERROR(MATCH(P$1,INDIRECT("Table!A"&$Z22):INDIRECT("Table!" & $AC$23 & $Z22),0)),"",INDIRECT(CONCATENATE("Table!",ADDRESS($V22,MATCH(P$1,INDIRECT("Table!A" & $Z22):INDIRECT("Table!" & $AC$23 & $Z22),0))))) -> 0.054736931 | ... T22: =IF(ISERROR(MATCH(T$1,INDIRECT("Table!A"&$Z22):INDIRECT("Table!" & $AC$23 & $Z22),0)),"",INDIRECT(CONCATENATE("Table!",ADDRESS($V22,MATCH(T$1,INDIRECT("Table!A" & $Z22):INDIRECT("Table!" & $AC$23 & $Z22),0))))) -> 0.09517233 | V22: =MATCH($A22,Table!$A:$A,0)+$X$2-1 -> 210 | Z22: =MATCH($A22,Table!$A:$A,0)+$AB$2-1 -> 207 | AC22: U
... A31: 41340 | B31: =IF(ISERROR(MATCH(B$1,INDIRECT("Table!A"&$Z31):INDIRECT("Table!" & $AC$45 & $Z31),0)),"",INDIRECT(CONCATENATE("Table!",ADDRESS($V31,MATCH(B$1,INDIRECT("Table!A" & $Z31):INDIRECT("Table!" & $AC$44 & $Z31),0))))) -> 0.29016223 | C31: =IF(ISERROR(MATCH(C$1,INDIRECT("Table!A"&$Z31):INDIRECT("Table!" & $AC$44 & $Z31),0)),"",INDIRECT(CONCATENATE("Table!",ADDRESS($V31,MATCH(C$1,INDIRECT("Table!A" & $Z31):INDIRECT("Table!" & $AC$44 & $Z31),0))))) -> 0.51253157 | D31: =IF(ISERROR(MATCH(D$1,INDIRECT("Table!A"&$Z31):INDIRECT("Table!" & $AC$44 & $Z31),0)),"",INDIRECT(CONCATENATE("Table!",ADDRESS($V31,MATCH(D$1,INDIRECT("Table!A" & $Z31):INDIRECT("Table!" & $AC$44 & $Z31),0))))) -> 0.52211661 | E31: =IF(ISERROR(MATCH(E$1,INDIRECT("Table!A"&$Z31):INDIRECT("Table!" & $AC$44 & $Z31),0)),"",INDIRECT(CONCATENATE("Table!",ADDRESS($V31,MATCH(E$1,INDIRECT("Table!A" & $Z31):INDIRECT("Table!" & $AC$44 & $Z31),0))))) -> 0.85565924 | F31: =IF(ISERROR(MATCH(F$1,INDIRECT("Table!A"&$Z31):INDIRECT("Table!" & $AC$44 & $Z31),0)),"",INDIRECT(CONCATENATE("Table!",ADDRESS($V31,MATCH(F$1,INDIRECT("Table!A" & $Z31):INDIRECT("Table!" & $AC$44 & $Z31),0))))) -> 0.5114622 | G31: =IF(ISERROR(MATCH(G$1,INDIRECT("Table!A"&$Z31):INDIRECT("Table!" & $AC$44 & $Z31),0)),"",INDIRECT(CONCATENATE("Table!",ADDRESS($V31,MATCH(G$1,INDIRECT("Table!A" & $Z31):INDIRECT("Table!" & $AC$44 & $Z31),0))))) -> 0.33626222 | H31: =IF(ISERROR(MATCH(H$1,INDIRECT("Table!A"&$Z31):INDIRECT("Table!" & $AC$44 & $Z31),0)),"",INDIRECT(CONCATENATE("Table!",ADDRESS($V31,MATCH(H$1,INDIRECT("Table!A" & $Z31):INDIRECT("Table!" & $AC$44 & $Z31),0))))) -> 0.54585855 | I31: =IF(ISERROR(MATCH(I$1,INDIRECT("Table!A"&$Z31):INDIRECT("Table!" & $AC$23 & $Z31),0)),"",INDIRECT(CONCATENATE("Table!",ADDRESS($V31,MATCH(I$1,INDIRECT("Table!A" & $Z31):INDIRECT("Table!" & $AC$23 & $Z31),0))))) -> 0.045880879 | J31: =IF(ISERROR(MATCH(J$1,INDIRECT("Table!A"&$Z31):INDIRECT("Table!" & $AC$23 & $Z31),0)),"",INDIRECT(CONCATENATE("Table!",ADDRESS($V31,MATCH(J$1,INDIRECT("Table!A" & $Z31):INDIRECT("Table!" & $AC$23 & $Z31),0))))) | K31: =IF(ISERROR(MATCH(K$1,INDIRECT("Table!A"&$Z31):INDIRECT("Table!" & $AC$23 & $Z31),0)),"",INDIRECT(CONCATENATE("Table!",ADDRESS($V31,MATCH(K$1,INDIRECT("Table!A" & $Z31):INDIRECT("Table!" & $AC$23 & $Z31),0))))) | L31: =IF(ISERROR(MATCH(L$1,INDIRECT("Table!A"&$Z31):INDIRECT("Table!" & $AC$23 & $Z31),0)),"",INDIRECT(CONCATENATE("Table!",ADDRESS($V31,MATCH(L$1,INDIRECT("Table!A" & $Z31):INDIRECT("Table!" & $AC$23 & $Z31),0))))) -> 0.80260689 | M31: =IF(ISERROR(MATCH(M$1,INDIRECT("Table!A"&$Z31):INDIRECT("Table!" & $AC$23 & $Z31),0)),"",INDIRECT(CONCATENATE("Table!",ADDRESS($V31,MATCH(M$1,INDIRECT("Table!A" & $Z31):INDIRECT("Table!" & $AC$23 & $Z31),0))))) -> 0.40246284 | N31: =IF(ISERROR(MATCH(N$1,INDIRECT("Table!A"&$Z31):INDIRECT("Table!" & $AC$23 & $Z31),0)),"",INDIRECT(CONCATENATE("Table!",ADDRESS($V31,MATCH(N$1,INDIRECT("Table!A" & $Z31):INDIRECT("Table!" & $AC$23 & $Z31),0))))) -> 0.53026426 | O31: =IF(ISERROR(MATCH(O$1,INDIRECT("Table!A"&$Z31):INDIRECT("Table!" & $AC$23 & $Z31),0)),"",INDIRECT(CONCATENATE("Table!",ADDRESS($V31,MATCH(O$1,INDIRECT("Table!A" & $Z31):INDIRECT("Table!" & $AC$23 & $Z31),0))))) -> 0.73305145 | P31: =IF(ISERROR(MATCH(P$1,INDIRECT("Table!A"&$Z31):INDIRECT("Table!" & $AC$23 & $Z31),0)),"",INDIRECT(CONCATENATE("Table!",ADDRESS($V31,MATCH(P$1,INDIRECT("Table!A" & $Z31):INDIRECT("Table!" & $AC$23 & $Z31),0))))) -> 0.046980335 | ... T31: =IF(ISERROR(MATCH(T$1,INDIRECT("Table!A"&$Z31):INDIRECT("Table!" & $AC$23 & $Z31),0)),"",INDIRECT(CONCATENATE("Table!",ADDRESS($V31,MATCH(T$1,INDIRECT("Table!A" & $Z31):INDIRECT("Table!" & $AC$23 & $Z31),0))))) -> 0.0592587 | V31: =MATCH($A31,Table!$A:$A,0)+$X$2-1 -> 318 | Z31: =MATCH($A31,Table!$A:$A,0)+$AB$2-1 -> 315 | AC31: U
A32: 41337 | B32: =IF(ISERROR(MATCH(B$1,INDIRECT("Table!A"&$Z32):INDIRECT("Table!" & $AC$45 & $Z32),0)),"",INDIRECT(CONCATENATE("Table!",ADDRESS($V32,MATCH(B$1,INDIRECT("Table!A" & $Z32):INDIRECT("Table!" & $AC$44 & $Z32),0))))) -> 0.27938131 | C32: =IF(ISERROR(MATCH(C$1,INDIRECT("Table!A"&$Z32):INDIRECT("Table!" & $AC$44 & $Z32),0)),"",INDIRECT(CONCATENATE("Table!",ADDRESS($V32,MATCH(C$1,INDIRECT("Table!A" & $Z32):INDIRECT("Table!" & $AC$44 & $Z32),0))))) -> 0.51253157 | D32: =IF(ISERROR(MATCH(D$1,INDIRECT("Table!A"&$Z32):INDIRECT("Table!" & $AC$44 & $Z32),0)),"",INDIRECT(CONCATENATE("Table!",ADDRESS($V32,MATCH(D$1,INDIRECT("Table!A" & $Z32):INDIRECT("Table!" & $AC$44 & $Z32),0))))) -> 0.52192793 | E32: =IF(ISERROR(MATCH(E$1,INDIRECT("Table!A"&$Z32):INDIRECT("Table!" & $AC$44 & $Z32),0)),"",INDIRECT(CONCATENATE("Table!",ADDRESS($V32,MATCH(E$1,INDIRECT("Table!A" & $Z32):INDIRECT("Table!" & $AC$44 & $Z32),0))))) -> 0.85540649 | F32: =IF(ISERROR(MATCH(F$1,INDIRECT("Table!A"&$Z32):INDIRECT("Table!" & $AC$44 & $Z32),0)),"",INDIRECT(CONCATENATE("Table!",ADDRESS($V32,MATCH(F$1,INDIRECT("Table!A" & $Z32):INDIRECT("Table!" & $AC$44 & $Z32),0))))) -> 0.50872849 | G32: =IF(ISERROR(MATCH(G$1,INDIRECT("Table!A"&$Z32):INDIRECT("Table!" & $AC$44 & $Z32),0)),"",INDIRECT(CONCATENATE("Table!",ADDRESS($V32,MATCH(G$1,INDIRECT("Table!A" & $Z32):INDIRECT("Table!" & $AC$44 & $Z32),0))))) -> 0.3424303 | H32: =IF(ISERROR(MATCH(H$1,INDIRECT("Table!A"&$Z32):INDIRECT("Table!" & $AC$44 & $Z32),0)),"",INDIRECT(CONCATENATE("Table!",ADDRESS($V32,MATCH(H$1,INDIRECT("Table!A" & $Z32):INDIRECT("Table!" & $AC$44 & $Z32),0))))) -> 0.54519673 | I32: =IF(ISERROR(MATCH(I$1,INDIRECT("Table!A"&$Z32):INDIRECT("Table!" & $AC$23 & $Z32),0)),"",INDIRECT(CONCATENATE("Table!",ADDRESS($V32,MATCH(I$1,INDIRECT("Table!A" & $Z32):INDIRECT("Table!" & $AC$23 & $Z32),0))))) -> 0.043814981 | J32: =IF(ISERROR(MATCH(J$1,INDIRECT("Table!A"&$Z32):INDIRECT("Table!" & $AC$23 & $Z32),0)),"",INDIRECT(CONCATENATE("Table!",ADDRESS($V32,MATCH(J$1,INDIRECT("Table!A" & $Z32):INDIRECT("Table!" & $AC$23 & $Z32),0))))) | K32: =IF(ISERROR(MATCH(K$1,INDIRECT("Table!A"&$Z32):INDIRECT("Table!" & $AC$23 & $Z32),0)),"",INDIRECT(CONCATENATE("Table!",ADDRESS($V32,MATCH(K$1,INDIRECT("Table!A" & $Z32):INDIRECT("Table!" & $AC$23 & $Z32),0))))) | L32: =IF(ISERROR(MATCH(L$1,INDIRECT("Table!A"&$Z32):INDIRECT("Table!" & $AC$23 & $Z32),0)),"",INDIRECT(CONCATENATE("Table!",ADDRESS($V32,MATCH(L$1,INDIRECT("Table!A" & $Z32):INDIRECT("Table!" & $AC$23 & $Z32),0))))) -> 0.80177592 | M32: =IF(ISERROR(MATCH(M$1,INDIRECT("Table!A"&$Z32):INDIRECT("Table!" & $AC$23 & $Z32),0)),"",INDIRECT(CONCATENATE("Table!",ADDRESS($V32,MATCH(M$1,INDIRECT("Table!A" & $Z32):INDIRECT("Table!" & $AC$23 & $Z32),0))))) -> 0.39338632 | N32: =IF(ISERROR(MATCH(N$1,INDIRECT("Table!A"&$Z32):INDIRECT("Table!" & $AC$23 & $Z32),0)),"",INDIRECT(CONCATENATE("Table!",ADDRESS($V32,MATCH(N$1,INDIRECT("Table!A" & $Z32):INDIRECT("Table!" & $AC$23 & $Z32),0))))) -> 0.52603102 | O32: =IF(ISERROR(MATCH(O$1,INDIRECT("Table!A"&$Z32):INDIRECT("Table!" & $AC$23 & $Z32),0)),"",INDIRECT(CONCATENATE("Table!",ADDRESS($V32,MATCH(O$1,INDIRECT("Table!A" & $Z32):INDIRECT("Table!" & $AC$23 & $Z32),0))))) -> 0.73271091 | P32: =IF(ISERROR(MATCH(P$1,INDIRECT("Table!A"&$Z32):INDIRECT("Table!" & $AC$23 & $Z32),0)),"",INDIRECT(CONCATENATE("Table!",ADDRESS($V32,MATCH(P$1,INDIRECT("Table!A" & $Z32):INDIRECT("Table!" & $AC$23 & $Z32),0))))) -> 0.044913836 | Q32: =IF(ISERROR(MATCH(Q$1,INDIRECT("Table!A"&$Z32):INDIRECT("Table!" & $AC$23 & $Z32),0)),"",INDIRECT(CONCATENATE("Table!",ADDRESS($V32,MATCH(Q$1,INDIRECT("Table!A" & $Z32):INDIRECT("Table!" & $AC$23 & $Z32),0))))) | R32: =IF(ISERROR(MATCH(S$1,INDIRECT("Table!A"&$Z32):INDIRECT("Table!" & $AC$23 & $Z32),0)),"",INDIRECT(CONCATENATE("Table!",ADDRESS($V32,MATCH(S$1,INDIRECT("Table!A" & $Z32):INDIRECT("Table!" & $AC$23 & $Z32),0))))) | S32: =IF(ISERROR(MATCH(T$1,INDIRECT("Table!A"&$Z32):INDIRECT("Table!" & $AC$23 & $Z32),0)),"",INDIRECT(CONCATENATE("Table!",ADDRESS($V32,MATCH(T$1,INDIRECT("Table!A" & $Z32):INDIRECT("Table!" & $AC$23 & $Z32),0))))) | V32: =MATCH($A32,Table!$A:$A,0)+$X$2-1 -> 330 | Z32: =MATCH($A32,Table!$A:$A,0)+$AB$2-1 -> 327 | AC32: U
A33: 41334 | B33: =IF(ISERROR(MATCH(B$1,INDIRECT("Table!A"&$Z33):INDIRECT("Table!" & $AC$45 & $Z33),0)),"",INDIRECT(CONCATENATE("Table!",ADDRESS($V33,MATCH(B$1,INDIRECT("Table!A" & $Z33):INDIRECT("Table!" & $AC$44 & $Z33),0))))) -> 0.29363452 | C33: =IF(ISERROR(MATCH(C$1,INDIRECT("Table!A"&$Z33):INDIRECT("Table!" & $AC$44 & $Z33),0)),"",INDIRECT(CONCATENATE("Table!",ADDRESS($V33,MATCH(C$1,INDIRECT("Table!A" & $Z33):INDIRECT("Table!" & $AC$44 & $Z33),0))))) -> 0.51212232 | D33: =IF(ISERROR(MATCH(D$1,INDIRECT("Table!A"&$Z33):INDIRECT("Table!" & $AC$44 & $Z33),0)),"",INDIRECT(CONCATENATE("Table!",ADDRESS($V33,MATCH(D$1,INDIRECT("Table!A" & $Z33):INDIRECT("Table!" & $AC$44 & $Z33),0))))) -> 0.52151934 | E33: =IF(ISERROR(MATCH(E$1,INDIRECT("Table!A"&$Z33):INDIRECT("Table!" & $AC$44 & $Z33),0)),"",INDIRECT(CONCATENATE("Table!",ADDRESS($V33,MATCH(E$1,INDIRECT("Table!A" & $Z33):INDIRECT("Table!" & $AC$44 & $Z33),0))))) -> 0.85001962 | F33: =IF(ISERROR(MATCH(F$1,INDIRECT("Table!A"&$Z33):INDIRECT("Table!" & $AC$44 & $Z33),0)),"",INDIRECT(CONCATENATE("Table!",ADDRESS($V33,MATCH(F$1,INDIRECT("Table!A" & $Z33):INDIRECT("Table!" & $AC$44 & $Z33),0))))) -> 0.50462761 | G33: =IF(ISERROR(MATCH(G$1,INDIRECT("Table!A"&$Z33):INDIRECT("Table!" & $AC$44 & $Z33),0)),"",INDIRECT(CONCATENATE("Table!",ADDRESS($V33,MATCH(G$1,INDIRECT("Table!A" & $Z33):INDIRECT("Table!" & $AC$44 & $Z33),0))))) -> 0.29948007 | H33: =IF(ISERROR(MATCH(H$1,INDIRECT("Table!A"&$Z33):INDIRECT("Table!" & $AC$44 & $Z33),0)),"",INDIRECT(CONCATENATE("Table!",ADDRESS($V33,MATCH(H$1,INDIRECT("Table!A" & $Z33):INDIRECT("Table!" & $AC$44 & $Z33),0))))) -> 0.54461073 | I33: =IF(ISERROR(MATCH(I$1,INDIRECT("Table!A"&$Z33):INDIRECT("Table!" & $AC$23 & $Z33),0)),"",INDIRECT(CONCATENATE("Table!",ADDRESS($V33,MATCH(I$1,INDIRECT("Table!A" & $Z33):INDIRECT("Table!" & $AC$23 & $Z33),0))))) | J33: =IF(ISERROR(MATCH(J$1,INDIRECT("Table!A"&$Z33):INDIRECT("Table!" & $AC$23 & $Z33),0)),"",INDIRECT(CONCATENATE("Table!",ADDRESS($V33,MATCH(J$1,INDIRECT("Table!A" & $Z33):INDIRECT("Table!" & $AC$23 & $Z33),0))))) | K33: =IF(ISERROR(MATCH(K$1,INDIRECT("Table!A"&$Z33):INDIRECT("Table!" & $AC$23 & $Z33),0)),"",INDIRECT(CONCATENATE("Table!",ADDRESS($V33,MATCH(K$1,INDIRECT("Table!A" & $Z33):INDIRECT("Table!" & $AC$23 & $Z33),0))))) | L33: =IF(ISERROR(MATCH(L$1,INDIRECT("Table!A"&$Z33):INDIRECT("Table!" & $AC$44 & $Z33),0)),"",INDIRECT(CONCATENATE("Table!",ADDRESS($V33,MATCH(L$1,INDIRECT("Table!A" & $Z33):INDIRECT("Table!" & $AC$44 & $Z33),0))))) -> 0.79838054 | M33: =IF(ISERROR(MATCH(M$1,INDIRECT("Table!A"&$Z33):INDIRECT("Table!" & $AC$23 & $Z33),0)),"",INDIRECT(CONCATENATE("Table!",ADDRESS($V33,MATCH(M$1,INDIRECT("Table!A" & $Z33):INDIRECT("Table!" & $AC$23 & $Z33),0))))) -> 0.39457377 | N33: =IF(ISERROR(MATCH(N$1,INDIRECT("Table!A"&$Z33):INDIRECT("Table!" & $AC$23 & $Z33),0)),"",INDIRECT(CONCATENATE("Table!",ADDRESS($V33,MATCH(N$1,INDIRECT("Table!A" & $Z33):INDIRECT("Table!" & $AC$23 & $Z33),0))))) -> 0.52161042 | O33: =IF(ISERROR(MATCH(O$1,INDIRECT("Table!A"&$Z33):INDIRECT("Table!" & $AC$23 & $Z33),0)),"",INDIRECT(CONCATENATE("Table!",ADDRESS($V33,MATCH(O$1,INDIRECT("Table!A" & $Z33):INDIRECT("Table!" & $AC$23 & $Z33),0))))) -> 0.72971062 | P33: =IF(ISERROR(MATCH(P$1,INDIRECT("Table!A"&$Z33):INDIRECT("Table!" & $AC$23 & $Z33),0)),"",INDIRECT(CONCATENATE("Table!",ADDRESS($V33,MATCH(P$1,INDIRECT("Table!A" & $Z33):INDIRECT("Table!" & $AC$23 & $Z33),0))))) | Q33: =IF(ISERROR(MATCH(Q$1,INDIRECT("Table!A"&$Z33):INDIRECT("Table!" & $AC$23 & $Z33),0)),"",INDIRECT(CONCATENATE("Table!",ADDRESS($V33,MATCH(Q$1,INDIRECT("Table!A" & $Z33):INDIRECT("Table!" & $AC$23 & $Z33),0))))) | R33: =IF(ISERROR(MATCH(S$1,INDIRECT("Table!A"&$Z33):INDIRECT("Table!" & $AC$23 & $Z33),0)),"",INDIRECT(CONCATENATE("Table!",ADDRESS($V33,MATCH(S$1,INDIRECT("Table!A" & $Z33):INDIRECT("Table!" & $AC$23 & $Z33),0))))) | V33: =MATCH($A33,Table!$A:$A,0)+$X$2-1 -> 342 | Z33: =MATCH($A33,Table!$A:$A,0)+$AB$2-1 -> 339 | AC33: U
A34: 41330 | B34: =IF(ISERROR(MATCH(B$1,INDIRECT("Table!A"&$Z34):INDIRECT("Table!" & $AC$45 & $Z34),0)),"",INDIRECT(CONCATENATE("Table!",ADDRESS($V34,MATCH(B$1,INDIRECT("Table!A" & $Z34):INDIRECT("Table!" & $AC$44 & $Z34),0))))) -> 0.30759483 | C34: =IF(ISERROR(MATCH(C$1,INDIRECT("Table!A"&$Z34):INDIRECT("Table!" & $AC$44 & $Z34),0)),"",INDIRECT(CONCATENATE("Table!",ADDRESS($V34,MATCH(C$1,INDIRECT("Table!A" & $Z34):INDIRECT("Table!" & $AC$44 & $Z34),0))))) -> 0.51185058 | D34: =IF(ISERROR(MATCH(D$1,INDIRECT("Table!A"&$Z34):INDIRECT("Table!" & $AC$44 & $Z34),0)),"",INDIRECT(CONCATENATE("Table!",ADDRESS($V34,MATCH(D$1,INDIRECT("Table!A" & $Z34):INDIRECT("Table!" & $AC$44 & $Z34),0))))) -> 0.52124627 | E34: =IF(ISERROR(MATCH(E$1,INDIRECT("Table!A"&$Z34):INDIRECT("Table!" & $AC$44 & $Z34),0)),"",INDIRECT(CONCATENATE("Table!",ADDRESS($V34,MATCH(E$1,INDIRECT("Table!A" & $Z34):INDIRECT("Table!" & $AC$44 & $Z34),0))))) -> 0.84873444 | F34: =IF(ISERROR(MATCH(F$1,INDIRECT("Table!A"&$Z34):INDIRECT("Table!" & $AC$44 & $Z34),0)),"",INDIRECT(CONCATENATE("Table!",ADDRESS($V34,MATCH(F$1,INDIRECT("Table!A" & $Z34):INDIRECT("Table!" & $AC$44 & $Z34),0))))) -> 0.5006857 | G34: =IF(ISERROR(MATCH(G$1,INDIRECT("Table!A"&$Z34):INDIRECT("Table!" & $AC$44 & $Z34),0)),"",INDIRECT(CONCATENATE("Table!",ADDRESS($V34,MATCH(G$1,INDIRECT("Table!A" & $Z34):INDIRECT("Table!" & $AC$44 & $Z34),0))))) -> 0.31367799 | H34: =IF(ISERROR(MATCH(H$1,INDIRECT("Table!A"&$Z34):INDIRECT("Table!" & $AC$44 & $Z34),0)),"",INDIRECT(CONCATENATE("Table!",ADDRESS($V34,MATCH(H$1,INDIRECT("Table!A" & $Z34):INDIRECT("Table!" & $AC$44 & $Z34),0))))) -> 0.53643645 | I34: =IF(ISERROR(MATCH(I$1,INDIRECT("Table!A"&$Z34):INDIRECT("Table!" & $AC$23 & $Z34),0)),"",INDIRECT(CONCATENATE("Table!",ADDRESS($V34,MATCH(I$1,INDIRECT("Table!A" & $Z34):INDIRECT("Table!" & $AC$23 & $Z34),0))))) | J34: =IF(ISERROR(MATCH(J$1,INDIRECT("Table!A"&$Z34):INDIRECT("Table!" & $AC$23 & $Z34),0)),"",INDIRECT(CONCATENATE("Table!",ADDRESS($V34,MATCH(J$1,INDIRECT("Table!A" & $Z34):INDIRECT("Table!" & $AC$23 & $Z34),0))))) | K34: =IF(ISERROR(MATCH(K$1,INDIRECT("Table!A"&$Z34):INDIRECT("Table!" & $AC$23 & $Z34),0)),"",INDIRECT(CONCATENATE("Table!",ADDRESS($V34,MATCH(K$1,INDIRECT("Table!A" & $Z34):INDIRECT("Table!" & $AC$23 & $Z34),0))))) | L34: =IF(ISERROR(MATCH(L$1,INDIRECT("Table!A"&$Z34):INDIRECT("Table!" & $AC$44 & $Z34),0)),"",INDIRECT(CONCATENATE("Table!",ADDRESS($V34,MATCH(L$1,INDIRECT("Table!A" & $Z34):INDIRECT("Table!" & $AC$44 & $Z34),0))))) -> 0.79613163 | M34: =IF(ISERROR(MATCH(M$1,INDIRECT("Table!A"&$Z34):INDIRECT("Table!" & $AC$23 & $Z34),0)),"",INDIRECT(CONCATENATE("Table!",ADDRESS($V34,MATCH(M$1,INDIRECT("Table!A" & $Z34):INDIRECT("Table!" & $AC$23 & $Z34),0))))) -> 0.38749828 | N34: =IF(ISERROR(MATCH(N$1,INDIRECT("Table!A"&$Z34):INDIRECT("Table!" & $AC$23 & $Z34),0)),"",INDIRECT(CONCATENATE("Table!",ADDRESS($V34,MATCH(N$1,INDIRECT("Table!A" & $Z34):INDIRECT("Table!" & $AC$23 & $Z34),0))))) -> 0.5176685 | O34: =IF(ISERROR(MATCH(O$1,INDIRECT("Table!A"&$Z34):INDIRECT("Table!" & $AC$23 & $Z34),0)),"",INDIRECT(CONCATENATE("Table!",ADDRESS($V34,MATCH(O$1,INDIRECT("Table!A" & $Z34):INDIRECT("Table!" & $AC$23 & $Z34),0))))) -> 0.72805493 | P34: =IF(ISERROR(MATCH(P$1,INDIRECT("Table!A"&$Z34):INDIRECT("Table!" & $AC$23 & $Z34),0)),"",INDIRECT(CONCATENATE("Table!",ADDRESS($V34,MATCH(P$1,INDIRECT("Table!A" & $Z34):INDIRECT("Table!" & $AC$23 & $Z34),0))))) | Q34: =IF(ISERROR(MATCH(Q$1,INDIRECT("Table!A"&$Z34):INDIRECT("Table!" & $AC$23 & $Z34),0)),"",INDIRECT(CONCATENATE("Table!",ADDRESS($V34,MATCH(Q$1,INDIRECT("Table!A" & $Z34):INDIRECT("Table!" & $AC$23 & $Z34),0))))) | V34: =MATCH($A34,Table!$A:$A,0)+$X$2-1 -> 354 | Z34: =MATCH($A34,Table!$A:$A,0)+$AB$2-1 -> 351 | AC34: U
A35: 41327 | B35: =IF(ISERROR(MATCH(B$1,INDIRECT("Table!A"&$Z35):INDIRECT("Table!" & $AC$45 & $Z35),0)),"",INDIRECT(CONCATENATE("Table!",ADDRESS($V35,MATCH(B$1,INDIRECT("Table!A" & $Z35):INDIRECT("Table!" & $AC$44 & $Z35),0))))) -> 0.30706273 | C35: =IF(ISERROR(MATCH(C$1,INDIRECT("Table!A"&$Z35):INDIRECT("Table!" & $AC$44 & $Z35),0)),"",INDIRECT(CONCATENATE("Table!",ADDRESS($V35,MATCH(C$1,INDIRECT("Table!A" & $Z35):INDIRECT("Table!" & $AC$44 & $Z35),0))))) -> 0.51174561 | D35: =IF(ISERROR(MATCH(D$1,INDIRECT("Table!A"&$Z35):INDIRECT("Table!" & $AC$44 & $Z35),0)),"",INDIRECT(CONCATENATE("Table!",ADDRESS($V35,MATCH(D$1,INDIRECT("Table!A" & $Z35):INDIRECT("Table!" & $AC$44 & $Z35),0))))) -> 0.52114197 | E35: =IF(ISERROR(MATCH(E$1,INDIRECT("Table!A"&$Z35):INDIRECT("Table!" & $AC$44 & $Z35),0)),"",INDIRECT(CONCATENATE("Table!",ADDRESS($V35,MATCH(E$1,INDIRECT("Table!A" & $Z35):INDIRECT("Table!" & $AC$44 & $Z35),0))))) -> 0.84820806 | F35: =IF(ISERROR(MATCH(F$1,INDIRECT("Table!A"&$Z35):INDIRECT("Table!" & $AC$44 & $Z35),0)),"",INDIRECT(CONCATENATE("Table!",ADDRESS($V35,MATCH(F$1,INDIRECT("Table!A" & $Z35):INDIRECT("Table!" & $AC$44 & $Z35),0))))) -> 0.49411946 | G35: =IF(ISERROR(MATCH(G$1,INDIRECT("Table!A"&$Z35):INDIRECT("Table!" & $AC$44 & $Z35),0)),"",INDIRECT(CONCATENATE("Table!",ADDRESS($V35,MATCH(G$1,INDIRECT("Table!A" & $Z35):INDIRECT("Table!" & $AC$44 & $Z35),0))))) -> 0.30419505 | H35: =IF(ISERROR(MATCH(H$1,INDIRECT("Table!A"&$Z35):INDIRECT("Table!" & $AC$44 & $Z35),0)),"",INDIRECT(CONCATENATE("Table!",ADDRESS($V35,MATCH(H$1,INDIRECT("Table!A" & $Z35):INDIRECT("Table!" & $AC$44 & $Z35),0))))) -> 0.53437598 | I35: =IF(ISERROR(MATCH(I$1,INDIRECT("Table!A"&$Z35):INDIRECT("Table!" & $AC$23 & $Z35),0)),"",INDIRECT(CONCATENATE("Table!",ADDRESS($V35,MATCH(I$1,INDIRECT("Table!A" & $Z35):INDIRECT("Table!" & $AC$23 & $Z35),0))))) | J35: =IF(ISERROR(MATCH(J$1,INDIRECT("Table!A"&$Z35):INDIRECT("Table!" & $AC$23 & $Z35),0)),"",INDIRECT(CONCATENATE("Table!",ADDRESS($V35,MATCH(J$1,INDIRECT("Table!A" & $Z35):INDIRECT("Table!" & $AC$23 & $Z35),0))))) | K35: =IF(ISERROR(MATCH(K$1,INDIRECT("Table!A"&$Z35):INDIRECT("Table!" & $AC$23 & $Z35),0)),"",INDIRECT(CONCATENATE("Table!",ADDRESS($V35,MATCH(K$1,INDIRECT("Table!A" & $Z35):INDIRECT("Table!" & $AC$23 & $Z35),0))))) | L35: =IF(ISERROR(MATCH(L$1,INDIRECT("Table!A"&$Z35):INDIRECT("Table!" & $AC$44 & $Z35),0)),"",INDIRECT(CONCATENATE("Table!",ADDRESS($V35,MATCH(L$1,INDIRECT("Table!A" & $Z35):INDIRECT("Table!" & $AC$44 & $Z35),0))))) -> 0.79433084 | M35: =IF(ISERROR(MATCH(M$1,INDIRECT("Table!A"&$Z35):INDIRECT("Table!" & $AC$23 & $Z35),0)),"",INDIRECT(CONCATENATE("Table!",ADDRESS($V35,MATCH(M$1,INDIRECT("Table!A" & $Z35):INDIRECT("Table!" & $AC$23 & $Z35),0))))) -> 0.38236403 | N35: =IF(ISERROR(MATCH(N$1,INDIRECT("Table!A"&$Z35):INDIRECT("Table!" & $AC$23 & $Z35),0)),"",INDIRECT(CONCATENATE("Table!",ADDRESS($V35,MATCH(N$1,INDIRECT("Table!A" & $Z35):INDIRECT("Table!" & $AC$23 & $Z35),0))))) -> 0.51636662 | O35: =IF(ISERROR(MATCH(O$1,INDIRECT("Table!A"&$Z35):INDIRECT("Table!" & $AC$23 & $Z35),0)),"",INDIRECT(CONCATENATE("Table!",ADDRESS($V35,MATCH(O$1,INDIRECT("Table!A" & $Z35):INDIRECT("Table!" & $AC$23 & $Z35),0))))) -> 0.72522916 | P35: =IF(ISERROR(MATCH(P$1,INDIRECT("Table!A"&$Z35):INDIRECT("Table!" & $AC$23 & $Z35),0)),"",INDIRECT(CONCATENATE("Table!",ADDRESS($V35,MATCH(P$1,INDIRECT("Table!A" & $Z35):INDIRECT("Table!" & $AC$23 & $Z35),0))))) | Q35: =IF(ISERROR(MATCH(Q$1,INDIRECT("Table!A"&$Z35):INDIRECT("Table!" & $AC$23 & $Z35),0)),"",INDIRECT(CONCATENATE("Table!",ADDRESS($V35,MATCH(Q$1,INDIRECT("Table!A" & $Z35):INDIRECT("Table!" & $AC$23 & $Z35),0))))) | V35: =MATCH($A35,Table!$A:$A,0)+$X$2-1 -> 366 | Z35: =MATCH($A35,Table!$A:$A,0)+$AB$2-1 -> 363 | AC35: U
A36: 41326 | B36: =IF(ISERROR(MATCH(B$1,INDIRECT("Table!A"&$Z36):INDIRECT("Table!" & $AC$45 & $Z36),0)),"",INDIRECT(CONCATENATE("Table!",ADDRESS($V36,MATCH(B$1,INDIRECT("Table!A" & $Z36):INDIRECT("Table!" & $AC$44 & $Z36),0))))) -> 0.3066687 | C36: =IF(ISERROR(MATCH(C$1,INDIRECT("Table!A"&$Z36):INDIRECT("Table!" & $AC$44 & $Z36),0)),"",INDIRECT(CONCATENATE("Table!",ADDRESS($V36,MATCH(C$1,INDIRECT("Table!A" & $Z36):INDIRECT("Table!" & $AC$44 & $Z36),0))))) -> 0.51170442 | D36: =IF(ISERROR(MATCH(D$1,INDIRECT("Table!A"&$Z36):INDIRECT("Table!" & $AC$44 & $Z36),0)),"",INDIRECT(CONCATENATE("Table!",ADDRESS($V36,MATCH(D$1,INDIRECT("Table!A" & $Z36):INDIRECT("Table!" & $AC$44 & $Z36),0))))) -> 0.51864455 | E36: =IF(ISERROR(MATCH(E$1,INDIRECT("Table!A"&$Z36):INDIRECT("Table!" & $AC$44 & $Z36),0)),"",INDIRECT(CONCATENATE("Table!",ADDRESS($V36,MATCH(E$1,INDIRECT("Table!A" & $Z36):INDIRECT("Table!" & $AC$44 & $Z36),0))))) -> 0.8468465 | F36: =IF(ISERROR(MATCH(F$1,INDIRECT("Table!A"&$Z36):INDIRECT("Table!" & $AC$44 & $Z36),0)),"",INDIRECT(CONCATENATE("Table!",ADDRESS($V36,MATCH(F$1,INDIRECT("Table!A" & $Z36):INDIRECT("Table!" & $AC$44 & $Z36),0))))) -> 0.49411946 | G36: =IF(ISERROR(MATCH(G$1,INDIRECT("Table!A"&$Z36):INDIRECT("Table!" & $AC$44 & $Z36),0)),"",INDIRECT(CONCATENATE("Table!",ADDRESS($V36,MATCH(G$1,INDIRECT("Table!A" & $Z36):INDIRECT("Table!" & $AC$44 & $Z36),0))))) -> 0.30450534 | H36: =IF(ISERROR(MATCH(H$1,INDIRECT("Table!A"&$Z36):INDIRECT("Table!" & $AC$44 & $Z36),0)),"",INDIRECT(CONCATENATE("Table!",ADDRESS($V36,MATCH(H$1,INDIRECT("Table!A" & $Z36):INDIRECT("Table!" & $AC$44 & $Z36),0))))) -> 0.53365647 | I36: =IF(ISERROR(MATCH(I$1,INDIRECT("Table!A"&$Z36):INDIRECT("Table!" & $AC$23 & $Z36),0)),"",INDIRECT(CONCATENATE("Table!",ADDRESS($V36,MATCH(I$1,INDIRECT("Table!A" & $Z36):INDIRECT("Table!" & $AC$23 & $Z36),0))))) | J36: =IF(ISERROR(MATCH(J$1,INDIRECT("Table!A"&$Z36):INDIRECT("Table!" & $AC$23 & $Z36),0)),"",INDIRECT(CONCATENATE("Table!",ADDRESS($V36,MATCH(J$1,INDIRECT("Table!A" & $Z36):INDIRECT("Table!" & $AC$23 & $Z36),0))))) | K36: =IF(ISERROR(MATCH(K$1,INDIRECT("Table!A"&$Z36):INDIRECT("Table!" & $AC$23 & $Z36),0)),"",INDIRECT(CONCATENATE("Table!",ADDRESS($V36,MATCH(K$1,INDIRECT("Table!A" & $Z36):INDIRECT("Table!" & $AC$23 & $Z36),0))))) | L36: =IF(ISERROR(MATCH(L$1,INDIRECT("Table!A"&$Z36):INDIRECT("Table!" & $AC$44 & $Z36),0)),"",INDIRECT(CONCATENATE("Table!",ADDRESS($V36,MATCH(L$1,INDIRECT("Table!A" & $Z36):INDIRECT("Table!" & $AC$44 & $Z36),0))))) -> 0.7936382 | M36: =IF(ISERROR(MATCH(M$1,INDIRECT("Table!A"&$Z36):INDIRECT("Table!" & $AC$23 & $Z36),0)),"",INDIRECT(CONCATENATE("Table!",ADDRESS($V36,MATCH(M$1,INDIRECT("Table!A" & $Z36):INDIRECT("Table!" & $AC$23 & $Z36),0))))) -> 0.38091245 | N36: =IF(ISERROR(MATCH(N$1,INDIRECT("Table!A"&$Z36):INDIRECT("Table!" & $AC$23 & $Z36),0)),"",INDIRECT(CONCATENATE("Table!",ADDRESS($V36,MATCH(N$1,INDIRECT("Table!A" & $Z36):INDIRECT("Table!" & $AC$23 & $Z36),0))))) -> 0.51056194 | O36: =IF(ISERROR(MATCH(O$1,INDIRECT("Table!A"&$Z36):INDIRECT("Table!" & $AC$23 & $Z36),0)),"",INDIRECT(CONCATENATE("Table!",ADDRESS($V36,MATCH(O$1,INDIRECT("Table!A" & $Z36):INDIRECT("Table!" & $AC$23 & $Z36),0))))) -> 0.72431689 | P36: =IF(ISERROR(MATCH(P$1,INDIRECT("Table!A"&$Z36):INDIRECT("Table!" & $AC$23 & $Z36),0)),"",INDIRECT(CONCATENATE("Table!",ADDRESS($V36,MATCH(P$1,INDIRECT("Table!A" & $Z36):INDIRECT("Table!" & $AC$23 & $Z36),0))))) | Q36: =IF(ISERROR(MATCH(Q$1,INDIRECT("Table!A"&$Z36):INDIRECT("Table!" & $AC$23 & $Z36),0)),"",INDIRECT(CONCATENATE("Table!",ADDRESS($V36,MATCH(Q$1,INDIRECT("Table!A" & $Z36):INDIRECT("Table!" & $AC$23 & $Z36),0))))) | V36: =MATCH($A36,Table!$A:$A,0)+$X$2-1 -> 378 | Z36: =MATCH($A36,Table!$A:$A,0)+$AB$2-1 -> 375 | AC36: U
A37: 41323 | B37: =IF(ISERROR(MATCH(B$1,INDIRECT("Table!A"&$Z37):INDIRECT("Table!" & $AC$45 & $Z37),0)),"",INDIRECT(CONCATENATE("Table!",ADDRESS($V37,MATCH(B$1,INDIRECT("Table!A" & $Z37):INDIRECT("Table!" & $AC$44 & $Z37),0))))) -> 0.30103032 | C37: =IF(ISERROR(MATCH(C$1,INDIRECT("Table!A"&$Z37):INDIRECT("Table!" & $AC$44 & $Z37),0)),"",INDIRECT(CONCATENATE("Table!",ADDRESS($V37,MATCH(C$1,INDIRECT("Table!A" & $Z37):INDIRECT("Table!" & $AC$44 & $Z37),0))))) -> 0.5092482 | D37: =IF(ISERROR(MATCH(D$1,INDIRECT("Table!A"&$Z37):INDIRECT("Table!" & $AC$44 & $Z37),0)),"",INDIRECT(CONCATENATE("Table!",ADDRESS($V37,MATCH(D$1,INDIRECT("Table!A" & $Z37):INDIRECT("Table!" & $AC$44 & $Z37),0))))) -> 0.51864455 | E37: =IF(ISERROR(MATCH(E$1,INDIRECT("Table!A"&$Z37):INDIRECT("Table!" & $AC$44 & $Z37),0)),"",INDIRECT(CONCATENATE("Table!",ADDRESS($V37,MATCH(E$1,INDIRECT("Table!A" & $Z37):INDIRECT("Table!" & $AC$44 & $Z37),0))))) -> 0.8468465 | F37: =IF(ISERROR(MATCH(F$1,INDIRECT("Table!A"&$Z37):INDIRECT("Table!" & $AC$44 & $Z37),0)),"",INDIRECT(CONCATENATE("Table!",ADDRESS($V37,MATCH(F$1,INDIRECT("Table!A" & $Z37):INDIRECT("Table!" & $AC$44 & $Z37),0))))) -> 0.49411946 | G37: =IF(ISERROR(MATCH(G$1,INDIRECT("Table!A"&$Z37):INDIRECT("Table!" & $AC$44 & $Z37),0)),"",INDIRECT(CONCATENATE("Table!",ADDRESS($V37,MATCH(G$1,INDIRECT("Table!A" & $Z37):INDIRECT("Table!" & $AC$44 & $Z37),0))))) -> 0.30450534 | H37: =IF(ISERROR(MATCH(H$1,INDIRECT("Table!A"&$Z37):INDIRECT("Table!" & $AC$44 & $Z37),0)),"",INDIRECT(CONCATENATE("Table!",ADDRESS($V37,MATCH(H$1,INDIRECT("Table!A" & $Z37):INDIRECT("Table!" & $AC$44 & $Z37),0))))) -> 0.53365647 | I37: =IF(ISERROR(MATCH(I$1,INDIRECT("Table!A"&$Z37):INDIRECT("Table!" & $AC$23 & $Z37),0)),"",INDIRECT(CONCATENATE("Table!",ADDRESS($V37,MATCH(I$1,INDIRECT("Table!A" & $Z37):INDIRECT("Table!" & $AC$23 & $Z37),0))))) | J37: =IF(ISERROR(MATCH(J$1,INDIRECT("Table!A"&$Z37):INDIRECT("Table!" & $AC$23 & $Z37),0)),"",INDIRECT(CONCATENATE("Table!",ADDRESS($V37,MATCH(J$1,INDIRECT("Table!A" & $Z37):INDIRECT("Table!" & $AC$23 & $Z37),0))))) | K37: =IF(ISERROR(MATCH(K$1,INDIRECT("Table!A"&$Z37):INDIRECT("Table!" & $AC$23 & $Z37),0)),"",INDIRECT(CONCATENATE("Table!",ADDRESS($V37,MATCH(K$1,INDIRECT("Table!A" & $Z37):INDIRECT("Table!" & $AC$23 & $Z37),0))))) | L37: =IF(ISERROR(MATCH(L$1,INDIRECT("Table!A"&$Z37):INDIRECT("Table!" & $AC$44 & $Z37),0)),"",INDIRECT(CONCATENATE("Table!",ADDRESS($V37,MATCH(L$1,INDIRECT("Table!A" & $Z37):INDIRECT("Table!" & $AC$44 & $Z37),0))))) -> 0.7936382 | M37: =IF(ISERROR(MATCH(M$1,INDIRECT("Table!A"&$Z37):INDIRECT("Table!" & $AC$23 & $Z37),0)),"",INDIRECT(CONCATENATE("Table!",ADDRESS($V37,MATCH(M$1,INDIRECT("Table!A" & $Z37):INDIRECT("Table!" & $AC$23 & $Z37),0))))) -> 0.38091245 | N37: =IF(ISERROR(MATCH(N$1,INDIRECT("Table!A"&$Z37):INDIRECT("Table!" & $AC$23 & $Z37),0)),"",INDIRECT(CONCATENATE("Table!",ADDRESS($V37,MATCH(N$1,INDIRECT("Table!A" & $Z37):INDIRECT("Table!" & $AC$23 & $Z37),0))))) -> 0.51056194 | O37: =IF(ISERROR(MATCH(O$1,INDIRECT("Table!A"&$Z37):INDIRECT("Table!" & $AC$23 & $Z37),0)),"",INDIRECT(CONCATENATE("Table!",ADDRESS($V37,MATCH(O$1,INDIRECT("Table!A" & $Z37):INDIRECT("Table!" & $AC$23 & $Z37),0))))) -> 0.72431689 | P37: =IF(ISERROR(MATCH(P$1,INDIRECT("Table!A"&$Z37):INDIRECT("Table!" & $AC$23 & $Z37),0)),"",INDIRECT(CONCATENATE("Table!",ADDRESS($V37,MATCH(P$1,INDIRECT("Table!A" & $Z37):INDIRECT("Table!" & $AC$23 & $Z37),0))))) | Q37: =IF(ISERROR(MATCH(Q$1,INDIRECT("Table!A"&$Z37):INDIRECT("Table!" & $AC$23 & $Z37),0)),"",INDIRECT(CONCATENATE("Table!",ADDRESS($V37,MATCH(Q$1,INDIRECT("Table!A" & $Z37):INDIRECT("Table!" & $AC$23 & $Z37),0))))) | V37: =MATCH($A37,Table!$A:$A,0)+$X$2-1 -> 390 | Z37: =MATCH($A37,Table!$A:$A,0)+$AB$2-1 -> 387 | AC37: U
A38: 41310 | B38: =IF(ISERROR(MATCH(B$1,INDIRECT("Table!A"&$Z38):INDIRECT("Table!" & $AC$45 & $Z38),0)),"",INDIRECT(CONCATENATE("Table!",ADDRESS($V38,MATCH(B$1,INDIRECT("Table!A" & $Z38):INDIRECT("Table!" & $AC$44 & $Z38),0))))) -> 0.30073602 | C38: =IF(ISERROR(MATCH(C$1,INDIRECT("Table!A"&$Z38):INDIRECT("Table!" & $AC$44 & $Z38),0)),"",INDIRECT(CONCATENATE("Table!",ADDRESS($V38,MATCH(C$1,INDIRECT("Table!A" & $Z38):INDIRECT("Table!" & $AC$44 & $Z38),0))))) -> 0.50768092 | D38: =IF(ISERROR(MATCH(D$1,INDIRECT("Table!A"&$Z38):INDIRECT("Table!" & $AC$44 & $Z38),0)),"",INDIRECT(CONCATENATE("Table!",ADDRESS($V38,MATCH(D$1,INDIRECT("Table!A" & $Z38):INDIRECT("Table!" & $AC$44 & $Z38),0))))) -> 0.51707528 | E38: =IF(ISERROR(MATCH(E$1,INDIRECT("Table!A"&$Z38):INDIRECT("Table!" & $AC$44 & $Z38),0)),"",INDIRECT(CONCATENATE("Table!",ADDRESS($V38,MATCH(E$1,INDIRECT("Table!A" & $Z38):INDIRECT("Table!" & $AC$44 & $Z38),0))))) -> 0.84355855 | F38: =IF(ISERROR(MATCH(F$1,INDIRECT("Table!A"&$Z38):INDIRECT("Table!" & $AC$44 & $Z38),0)),"",INDIRECT(CONCATENATE("Table!",ADDRESS($V38,MATCH(F$1,INDIRECT("Table!A" & $Z38):INDIRECT("Table!" & $AC$44 & $Z38),0))))) -> 0.47887521 | G38: =IF(ISERROR(MATCH(G$1,INDIRECT("Table!A"&$Z38):INDIRECT("Table!" & $AC$44 & $Z38),0)),"",INDIRECT(CONCATENATE("Table!",ADDRESS($V38,MATCH(G$1,INDIRECT("Table!A" & $Z38):INDIRECT("Table!" & $AC$44 & $Z38),0))))) -> 0.29005389 | H38: =IF(ISERROR(MATCH(H$1,INDIRECT("Table!A"&$Z38):INDIRECT("Table!" & $AC$44 & $Z38),0)),"",INDIRECT(CONCATENATE("Table!",ADDRESS($V38,MATCH(H$1,INDIRECT("Table!A" & $Z38):INDIRECT("Table!" & $AC$44 & $Z38),0))))) -> 0.50626134 | I38: =IF(ISERROR(MATCH(I$1,INDIRECT("Table!A"&$Z38):INDIRECT("Table!" & $AC$23 & $Z38),0)),"",INDIRECT(CONCATENATE("Table!",ADDRESS($V38,MATCH(I$1,INDIRECT("Table!A" & $Z38):INDIRECT("Table!" & $AC$23 & $Z38),0))))) | J38: =IF(ISERROR(MATCH(J$1,INDIRECT("Table!A"&$Z38):INDIRECT("Table!" & $AC$23 & $Z38),0)),"",INDIRECT(CONCATENATE("Table!",ADDRESS($V38,MATCH(J$1,INDIRECT("Table!A" & $Z38):INDIRECT("Table!" & $AC$23 & $Z38),0))))) | K38: =IF(ISERROR(MATCH(K$1,INDIRECT("Table!A"&$Z38):INDIRECT("Table!" & $AC$23 & $Z38),0)),"",INDIRECT(CONCATENATE("Table!",ADDRESS($V38,MATCH(K$1,INDIRECT("Table!A" & $Z38):INDIRECT("Table!" & $AC$23 & $Z38),0))))) | L38: =IF(ISERROR(MATCH(L$1,INDIRECT("Table!A"&$Z38):INDIRECT("Table!" & $AC$44 & $Z38),0)),"",INDIRECT(CONCATENATE("Table!",ADDRESS($V38,MATCH(L$1,INDIRECT("Table!A" & $Z38):INDIRECT("Table!" & $AC$44 & $Z38),0))))) -> 0.78853114 | M38: =IF(ISERROR(MATCH(M$1,INDIRECT("Table!A"&$Z38):INDIRECT("Table!" & $AC$23 & $Z38),0)),"",INDIRECT(CONCATENATE("Table!",ADDRESS($V38,MATCH(M$1,INDIRECT("Table!A" & $Z38):INDIRECT("Table!" & $AC$23 & $Z38),0))))) -> 0.37876763 | N38: =IF(ISERROR(MATCH(N$1,INDIRECT("Table!A"&$Z38):INDIRECT("Table!" & $AC$23 & $Z38),0)),"",INDIRECT(CONCATENATE("Table!",ADDRESS($V38,MATCH(N$1,INDIRECT("Table!A" & $Z38):INDIRECT("Table!" & $AC$23 & $Z38),0))))) -> 0.49477736 | O38: =IF(ISERROR(MATCH(O$1,INDIRECT("Table!A"&$Z38):INDIRECT("Table!" & $AC$23 & $Z38),0)),"",INDIRECT(CONCATENATE("Table!",ADDRESS($V38,MATCH(O$1,INDIRECT("Table!A" & $Z38):INDIRECT("Table!" & $AC$23 & $Z38),0))))) -> 0.69905435 | P38: =IF(ISERROR(MATCH(P$1,INDIRECT("Table!A"&$Z38):INDIRECT("Table!" & $AC$23 & $Z38),0)),"",INDIRECT(CONCATENATE("Table!",ADDRESS($V38,MATCH(P$1,INDIRECT("Table!A" & $Z38):INDIRECT("Table!" & $AC$23 & $Z38),0))))) | Q38: =IF(ISERROR(MATCH(Q$1,INDIRECT("Table!A"&$Z38):INDIRECT("Table!" & $AC$23 & $Z38),0)),"",INDIRECT(CONCATENATE("Table!",ADDRESS($V38,MATCH(Q$1,INDIRECT("Table!A" & $Z38):INDIRECT("Table!" & $AC$23 & $Z38),0))))) | V38: =MATCH($A38,Table!$A:$A,0)+$X$2-1 -> 402 | Z38: =MATCH($A38,Table!$A:$A,0)+$AB$2-1 -> 399 | AC38: U
A39: 41304 | B39: =IF(ISERROR(MATCH(B$1,INDIRECT("Table!A"&$Z39):INDIRECT("Table!" & $AC$45 & $Z39),0)),"",INDIRECT(CONCATENATE("Table!",ADDRESS($V39,MATCH(B$1,INDIRECT("Table!A" & $Z39):INDIRECT("Table!" & $AC$44 & $Z39),0))))) -> 0.29584175 | C39: =IF(ISERROR(MATCH(C$1,INDIRECT("Table!A"&$Z39):INDIRECT("Table!" & $AC$44 & $Z39),0)),"",INDIRECT(CONCATENATE("Table!",ADDRESS($V39,MATCH(C$1,INDIRECT("Table!A" & $Z39):INDIRECT("Table!" & $AC$44 & $Z39),0))))) -> 0.50745636 | D39: =IF(ISERROR(MATCH(D$1,INDIRECT("Table!A"&$Z39):INDIRECT("Table!" & $AC$44 & $Z39),0)),"",INDIRECT(CONCATENATE("Table!",ADDRESS($V39,MATCH(D$1,INDIRECT("Table!A" & $Z39):INDIRECT("Table!" & $AC$44 & $Z39),0))))) -> 0.51685139 | E39: =IF(ISERROR(MATCH(E$1,INDIRECT("Table!A"&$Z39):INDIRECT("Table!" & $AC$44 & $Z39),0)),"",INDIRECT(CONCATENATE("Table!",ADDRESS($V39,MATCH(E$1,INDIRECT("Table!A" & $Z39):INDIRECT("Table!" & $AC$44 & $Z39),0))))) -> 0.84262667 | F39: =IF(ISERROR(MATCH(F$1,INDIRECT("Table!A"&$Z39):INDIRECT("Table!" & $AC$44 & $Z39),0)),"",INDIRECT(CONCATENATE("Table!",ADDRESS($V39,MATCH(F$1,INDIRECT("Table!A" & $Z39):INDIRECT("Table!" & $AC$44 & $Z39),0))))) -> 0.46741149 | G39: =IF(ISERROR(MATCH(G$1,INDIRECT("Table!A"&$Z39):INDIRECT("Table!" & $AC$44 & $Z39),0)),"",INDIRECT(CONCATENATE("Table!",ADDRESS($V39,MATCH(G$1,INDIRECT("Table!A" & $Z39):INDIRECT("Table!" & $AC$44 & $Z39),0))))) -> 0.28605258 | H39: =IF(ISERROR(MATCH(H$1,INDIRECT("Table!A"&$Z39):INDIRECT("Table!" & $AC$44 & $Z39),0)),"",INDIRECT(CONCATENATE("Table!",ADDRESS($V39,MATCH(H$1,INDIRECT("Table!A" & $Z39):INDIRECT("Table!" & $AC$44 & $Z39),0))))) -> 0.46492593 | I39: =IF(ISERROR(MATCH(I$1,INDIRECT("Table!A"&$Z39):INDIRECT("Table!" & $AC$23 & $Z39),0)),"",INDIRECT(CONCATENATE("Table!",ADDRESS($V39,MATCH(I$1,INDIRECT("Table!A" & $Z39):INDIRECT("Table!" & $AC$23 & $Z39),0))))) | J39: =IF(ISERROR(MATCH(J$1,INDIRECT("Table!A"&$Z39):INDIRECT("Table!" & $AC$23 & $Z39),0)),"",INDIRECT(CONCATENATE("Table!",ADDRESS($V39,MATCH(J$1,INDIRECT("Table!A" & $Z39):INDIRECT("Table!" & $AC$23 & $Z39),0))))) | K39: =IF(ISERROR(MATCH(K$1,INDIRECT("Table!A"&$Z39):INDIRECT("Table!" & $AC$23 & $Z39),0)),"",INDIRECT(CONCATENATE("Table!",ADDRESS($V39,MATCH(K$1,INDIRECT("Table!A" & $Z39):INDIRECT("Table!" & $AC$23 & $Z39),0))))) | L39: =IF(ISERROR(MATCH(L$1,INDIRECT("Table!A"&$Z39):INDIRECT("Table!" & $AC$44 & $Z39),0)),"",INDIRECT(CONCATENATE("Table!",ADDRESS($V39,MATCH(L$1,INDIRECT("Table!A" & $Z39):INDIRECT("Table!" & $AC$44 & $Z39),0))))) -> 0.78763541 | M39: =IF(ISERROR(MATCH(M$1,INDIRECT("Table!A"&$Z39):INDIRECT("Table!" & $AC$23 & $Z39),0)),"",INDIRECT(CONCATENATE("Table!",ADDRESS($V39,MATCH(M$1,INDIRECT("Table!A" & $Z39):INDIRECT("Table!" & $AC$23 & $Z39),0))))) -> 0.36105128 | N39: =IF(ISERROR(MATCH(N$1,INDIRECT("Table!A"&$Z39):INDIRECT("Table!" & $AC$23 & $Z39),0)),"",INDIRECT(CONCATENATE("Table!",ADDRESS($V39,MATCH(N$1,INDIRECT("Table!A" & $Z39):INDIRECT("Table!" & $AC$23 & $Z39),0))))) -> 0.48229886 | O39: =IF(ISERROR(MATCH(O$1,INDIRECT("Table!A"&$Z39):INDIRECT("Table!" & $AC$23 & $Z39),0)),"",INDIRECT(CONCATENATE("Table!",ADDRESS($V39,MATCH(O$1,INDIRECT("Table!A" & $Z39):INDIRECT("Table!" & $AC$23 & $Z39),0))))) -> 0.63096043 | P39: =IF(ISERROR(MATCH(P$1,INDIRECT("Table!A"&$Z39):INDIRECT("Table!" & $AC$23 & $Z39),0)),"",INDIRECT(CONCATENATE("Table!",ADDRESS($V39,MATCH(P$1,INDIRECT("Table!A" & $Z39):INDIRECT("Table!" & $AC$23 & $Z39),0))))) | Q39: =IF(ISERROR(MATCH(Q$1,INDIRECT("Table!A"&$Z39):INDIRECT("Table!" & $AC$23 & $Z39),0)),"",INDIRECT(CONCATENATE("Table!",ADDRESS($V39,MATCH(Q$1,INDIRECT("Table!A" & $Z39):INDIRECT("Table!" & $AC$23 & $Z39),0))))) | V39: =MATCH($A39,Table!$A:$A,0)+$X$2-1 -> 414 | Z39: =MATCH($A39,Table!$A:$A,0)+$AB$2-1 -> 411 | AC39: U
A40: 41297 | B40: =IF(ISERROR(MATCH(B$1,INDIRECT("Table!A"&$Z40):INDIRECT("Table!" & $AC$45 & $Z40),0)),"",INDIRECT(CONCATENATE("Table!",ADDRESS($V40,MATCH(B$1,INDIRECT("Table!A" & $Z40):INDIRECT("Table!" & $AC$44 & $Z40),0))))) -> 0.29333953 | C40: =IF(ISERROR(MATCH(C$1,INDIRECT("Table!A"&$Z40):INDIRECT("Table!" & $AC$44 & $Z40),0)),"",INDIRECT(CONCATENATE("Table!",ADDRESS($V40,MATCH(C$1,INDIRECT("Table!A" & $Z40):INDIRECT("Table!" & $AC$44 & $Z40),0))))) -> 0.50730555 | D40: =IF(ISERROR(MATCH(D$1,INDIRECT("Table!A"&$Z40):INDIRECT("Table!" & $AC$44 & $Z40),0)),"",INDIRECT(CONCATENATE("Table!",ADDRESS($V40,MATCH(D$1,INDIRECT("Table!A" & $Z40):INDIRECT("Table!" & $AC$44 & $Z40),0))))) -> 0.51669991 | E40: =IF(ISERROR(MATCH(E$1,INDIRECT("Table!A"&$Z40):INDIRECT("Table!" & $AC$44 & $Z40),0)),"",INDIRECT(CONCATENATE("Table!",ADDRESS($V40,MATCH(E$1,INDIRECT("Table!A" & $Z40):INDIRECT("Table!" & $AC$44 & $Z40),0))))) -> 0.89517785 | F40: =IF(ISERROR(MATCH(F$1,INDIRECT("Table!A"&$Z40):INDIRECT("Table!" & $AC$44 & $Z40),0)),"",INDIRECT(CONCATENATE("Table!",ADDRESS($V40,MATCH(F$1,INDIRECT("Table!A" & $Z40):INDIRECT("Table!" & $AC$44 & $Z40),0))))) -> 0.46646862 | G40: =IF(ISERROR(MATCH(G$1,INDIRECT("Table!A"&$Z40):INDIRECT("Table!" & $AC$44 & $Z40),0)),"",INDIRECT(CONCATENATE("Table!",ADDRESS($V40,MATCH(G$1,INDIRECT("Table!A" & $Z40):INDIRECT("Table!" & $AC$44 & $Z40),0))))) -> 0.29125496 | H40: =IF(ISERROR(MATCH(H$1,INDIRECT("Table!A"&$Z40):INDIRECT("Table!" & $AC$44 & $Z40),0)),"",INDIRECT(CONCATENATE("Table!",ADDRESS($V40,MATCH(H$1,INDIRECT("Table!A" & $Z40):INDIRECT("Table!" & $AC$44 & $Z40),0))))) -> 0.46071269 | I40: =IF(ISERROR(MATCH(I$1,INDIRECT("Table!A"&$Z40):INDIRECT("Table!" & $AC$23 & $Z40),0)),"",INDIRECT(CONCATENATE("Table!",ADDRESS($V40,MATCH(I$1,INDIRECT("Table!A" & $Z40):INDIRECT("Table!" & $AC$23 & $Z40),0))))) | J40: =IF(ISERROR(MATCH(J$1,INDIRECT("Table!A"&$Z40):INDIRECT("Table!" & $AC$23 & $Z40),0)),"",INDIRECT(CONCATENATE("Table!",ADDRESS($V40,MATCH(J$1,INDIRECT("Table!A" & $Z40):INDIRECT("Table!" & $AC$23 & $Z40),0))))) | K40: =IF(ISERROR(MATCH(K$1,INDIRECT("Table!A"&$Z40):INDIRECT("Table!" & $AC$23 & $Z40),0)),"",INDIRECT(CONCATENATE("Table!",ADDRESS($V40,MATCH(K$1,INDIRECT("Table!A" & $Z40):INDIRECT("Table!" & $AC$23 & $Z40),0))))) | L40: =IF(ISERROR(MATCH(L$1,INDIRECT("Table!A"&$Z40):INDIRECT("Table!" & $AC$44 & $Z40),0)),"",INDIRECT(CONCATENATE("Table!",ADDRESS($V40,MATCH(L$1,INDIRECT("Table!A" & $Z40):INDIRECT("Table!" & $AC$44 & $Z40),0))))) -> 0.78682723 | M40: =IF(ISERROR(MATCH(M$1,INDIRECT("Table!A"&$Z40):INDIRECT("Table!" & $AC$23 & $Z40),0)),"",INDIRECT(CONCATENATE("Table!",ADDRESS($V40,MATCH(M$1,INDIRECT("Table!A" & $Z40):INDIRECT("Table!" & $AC$23 & $Z40),0))))) -> 0.35675937 | N40: =IF(ISERROR(MATCH(N$1,INDIRECT("Table!A"&$Z40):INDIRECT("Table!" & $AC$23 & $Z40),0)),"",INDIRECT(CONCATENATE("Table!",ADDRESS($V40,MATCH(N$1,INDIRECT("Table!A" & $Z40):INDIRECT("Table!" & $AC$23 & $Z40),0))))) -> 0.48149258 | O40: =IF(ISERROR(MATCH(O$1,INDIRECT("Table!A"&$Z40):INDIRECT("Table!" & $AC$23 & $Z40),0)),"",INDIRECT(CONCATENATE("Table!",ADDRESS($V40,MATCH(O$1,INDIRECT("Table!A" & $Z40):INDIRECT("Table!" & $AC$23 & $Z40),0))))) -> 0.62517743 | P40: =IF(ISERROR(MATCH(P$1,INDIRECT("Table!A"&$Z40):INDIRECT("Table!" & $AC$23 & $Z40),0)),"",INDIRECT(CONCATENATE("Table!",ADDRESS($V40,MATCH(P$1,INDIRECT("Table!A" & $Z40):INDIRECT("Table!" & $AC$23 & $Z40),0))))) | Q40: =IF(ISERROR(MATCH(Q$1,INDIRECT("Table!A"&$Z40):INDIRECT("Table!" & $AC$23 & $Z40),0)),"",INDIRECT(CONCATENATE("Table!",ADDRESS($V40,MATCH(Q$1,INDIRECT("Table!A" & $Z40):INDIRECT("Table!" & $AC$23 & $Z40),0))))) | V40: =MATCH($A40,Table!$A:$A,0)+$X$2-1 -> 426 | Z40: =MATCH($A40,Table!$A:$A,0)+$AB$2-1 -> 423 | AC40: U
A41: 41296 | B41: =IF(ISERROR(MATCH(B$1,INDIRECT("Table!A"&$Z41):INDIRECT("Table!" & $AC$45 & $Z41),0)),"",INDIRECT(CONCATENATE("Table!",ADDRESS($V41,MATCH(B$1,INDIRECT("Table!A" & $Z41):INDIRECT("Table!" & $AC$44 & $Z41),0))))) -> 0.29749735 | C41: =IF(ISERROR(MATCH(C$1,INDIRECT("Table!A"&$Z41):INDIRECT("Table!" & $AC$44 & $Z41),0)),"",INDIRECT(CONCATENATE("Table!",ADDRESS($V41,MATCH(C$1,INDIRECT("Table!A" & $Z41):INDIRECT("Table!" & $AC$44 & $Z41),0))))) -> 0.50713546 | D41: =IF(ISERROR(MATCH(D$1,INDIRECT("Table!A"&$Z41):INDIRECT("Table!" & $AC$44 & $Z41),0)),"",INDIRECT(CONCATENATE("Table!",ADDRESS($V41,MATCH(D$1,INDIRECT("Table!A" & $Z41):INDIRECT("Table!" & $AC$44 & $Z41),0))))) -> 0.51653115 | E41: =IF(ISERROR(MATCH(E$1,INDIRECT("Table!A"&$Z41):INDIRECT("Table!" & $AC$44 & $Z41),0)),"",INDIRECT(CONCATENATE("Table!",ADDRESS($V41,MATCH(E$1,INDIRECT("Table!A" & $Z41):INDIRECT("Table!" & $AC$44 & $Z41),0))))) -> 0.89402674 | F41: =IF(ISERROR(MATCH(F$1,INDIRECT("Table!A"&$Z41):INDIRECT("Table!" & $AC$44 & $Z41),0)),"",INDIRECT(CONCATENATE("Table!",ADDRESS($V41,MATCH(F$1,INDIRECT("Table!A" & $Z41):INDIRECT("Table!" & $AC$44 & $Z41),0))))) -> 0.46235506 | G41: =IF(ISERROR(MATCH(G$1,INDIRECT("Table!A"&$Z41):INDIRECT("Table!" & $AC$44 & $Z41),0)),"",INDIRECT(CONCATENATE("Table!",ADDRESS($V41,MATCH(G$1,INDIRECT("Table!A" & $Z41):INDIRECT("Table!" & $AC$44 & $Z41),0))))) -> 0.26442724 | H41: =IF(ISERROR(MATCH(H$1,INDIRECT("Table!A"&$Z41):INDIRECT("Table!" & $AC$44 & $Z41),0)),"",INDIRECT(CONCATENATE("Table!",ADDRESS($V41,MATCH(H$1,INDIRECT("Table!A" & $Z41):INDIRECT("Table!" & $AC$44 & $Z41),0))))) -> 0.44627212 | I41: =IF(ISERROR(MATCH(I$1,INDIRECT("Table!A"&$Z41):INDIRECT("Table!" & $AC$23 & $Z41),0)),"",INDIRECT(CONCATENATE("Table!",ADDRESS($V41,MATCH(I$1,INDIRECT("Table!A" & $Z41):INDIRECT("Table!" & $AC$23 & $Z41),0))))) | J41: =IF(ISERROR(MATCH(J$1,INDIRECT("Table!A"&$Z41):INDIRECT("Table!" & $AC$23 & $Z41),0)),"",INDIRECT(CONCATENATE("Table!",ADDRESS($V41,MATCH(J$1,INDIRECT("Table!A" & $Z41):INDIRECT("Table!" & $AC$23 & $Z41),0))))) | K41: =IF(ISERROR(MATCH(K$1,INDIRECT("Table!A"&$Z41):INDIRECT("Table!" & $AC$23 & $Z41),0)),"",INDIRECT(CONCATENATE("Table!",ADDRESS($V41,MATCH(K$1,INDIRECT("Table!A" & $Z41):INDIRECT("Table!" & $AC$23 & $Z41),0))))) | L41: =IF(ISERROR(MATCH(L$1,INDIRECT("Table!A"&$Z41):INDIRECT("Table!" & $AC$44 & $Z41),0)),"",INDIRECT(CONCATENATE("Table!",ADDRESS($V41,MATCH(L$1,INDIRECT("Table!A" & $Z41):INDIRECT("Table!" & $AC$44 & $Z41),0))))) -> 0.7839121 | M41: =IF(ISERROR(MATCH(M$1,INDIRECT("Table!A"&$Z41):INDIRECT("Table!" & $AC$23 & $Z41),0)),"",INDIRECT(CONCATENATE("Table!",ADDRESS($V41,MATCH(M$1,INDIRECT("Table!A" & $Z41):INDIRECT("Table!" & $AC$23 & $Z41),0))))) -> 0.35414229 | N41: =IF(ISERROR(MATCH(N$1,INDIRECT("Table!A"&$Z41):INDIRECT("Table!" & $AC$23 & $Z41),0)),"",INDIRECT(CONCATENATE("Table!",ADDRESS($V41,MATCH(N$1,INDIRECT("Table!A" & $Z41):INDIRECT("Table!" & $AC$23 & $Z41),0))))) -> 0.47711066 | O41: =IF(ISERROR(MATCH(O$1,INDIRECT("Table!A"&$Z41):INDIRECT("Table!" & $AC$23 & $Z41),0)),"",INDIRECT(CONCATENATE("Table!",ADDRESS($V41,MATCH(O$1,INDIRECT("Table!A" & $Z41):INDIRECT("Table!" & $AC$23 & $Z41),0))))) -> 0.61680947 | P41: =IF(ISERROR(MATCH(P$1,INDIRECT("Table!A"&$Z41):INDIRECT("Table!" & $AC$23 & $Z41),0)),"",INDIRECT(CONCATENATE("Table!",ADDRESS($V41,MATCH(P$1,INDIRECT("Table!A" & $Z41):INDIRECT("Table!" & $AC$23 & $Z41),0))))) | Q41: =IF(ISERROR(MATCH(Q$1,INDIRECT("Table!A"&$Z41):INDIRECT("Table!" & $AC$23 & $Z41),0)),"",INDIRECT(CONCATENATE("Table!",ADDRESS($V41,MATCH(Q$1,INDIRECT("Table!A" & $Z41):INDIRECT("Table!" & $AC$23 & $Z41),0))))) | V41: =MATCH($A41,Table!$A:$A,0)+$X$2-1 -> 438 | Z41: =MATCH($A41,Table!$A:$A,0)+$AB$2-1 -> 435 | AC41: U
A42: 41292 | B42: =IF(ISERROR(MATCH(B$1,INDIRECT("Table!A"&$Z42):INDIRECT("Table!" & $AC$44 & $Z42),0)),"",INDIRECT(CONCATENATE("Table!",ADDRESS($V42,MATCH(B$1,INDIRECT("Table!A" & $Z42):INDIRECT("Table!" & $AC$44 & $Z42),0))))) -> 0.29686552 | C42: =IF(ISERROR(MATCH(C$1,INDIRECT("Table!A"&$Z42):INDIRECT("Table!" & $AC$44 & $Z42),0)),"",INDIRECT(CONCATENATE("Table!",ADDRESS($V42,MATCH(C$1,INDIRECT("Table!A" & $Z42):INDIRECT("Table!" & $AC$44 & $Z42),0))))) -> 0.50628572 | D42: =IF(ISERROR(MATCH(D$1,INDIRECT("Table!A"&$Z42):INDIRECT("Table!" & $AC$44 & $Z42),0)),"",INDIRECT(CONCATENATE("Table!",ADDRESS($V42,MATCH(D$1,INDIRECT("Table!A" & $Z42):INDIRECT("Table!" & $AC$44 & $Z42),0))))) -> 0.51568207 | E42: =IF(ISERROR(MATCH(E$1,INDIRECT("Table!A"&$Z42):INDIRECT("Table!" & $AC$44 & $Z42),0)),"",INDIRECT(CONCATENATE("Table!",ADDRESS($V42,MATCH(E$1,INDIRECT("Table!A" & $Z42):INDIRECT("Table!" & $AC$44 & $Z42),0))))) -> 0.89261464 | F42: =IF(ISERROR(MATCH(F$1,INDIRECT("Table!A"&$Z42):INDIRECT("Table!" & $AC$44 & $Z42),0)),"",INDIRECT(CONCATENATE("Table!",ADDRESS($V42,MATCH(F$1,INDIRECT("Table!A" & $Z42):INDIRECT("Table!" & $AC$44 & $Z42),0))))) -> 0.46121032 | G42: =IF(ISERROR(MATCH(G$1,INDIRECT("Table!A"&$Z42):INDIRECT("Table!" & $AC$44 & $Z42),0)),"",INDIRECT(CONCATENATE("Table!",ADDRESS($V42,MATCH(G$1,INDIRECT("Table!A" & $Z42):INDIRECT("Table!" & $AC$44 & $Z42),0))))) -> 0.25068795 | H42: =IF(ISERROR(MATCH(H$1,INDIRECT("Table!A"&$Z42):INDIRECT("Table!" & $AC$44 & $Z42),0)),"",INDIRECT(CONCATENATE("Table!",ADDRESS($V42,MATCH(H$1,INDIRECT("Table!A" & $Z42):INDIRECT("Table!" & $AC$44 & $Z42),0))))) -> 0.44360258 | I42: =IF(ISERROR(MATCH(I$1,INDIRECT("Table!A"&$Z42):INDIRECT("Table!" & $AC$23 & $Z42),0)),"",INDIRECT(CONCATENATE("Table!",ADDRESS($V42,MATCH(I$1,INDIRECT("Table!A" & $Z42):INDIRECT("Table!" & $AC$23 & $Z42),0))))) | J42: =IF(ISERROR(MATCH(J$1,INDIRECT("Table!A"&$Z42):INDIRECT("Table!" & $AC$23 & $Z42),0)),"",INDIRECT(CONCATENATE("Table!",ADDRESS($V42,MATCH(J$1,INDIRECT("Table!A" & $Z42):INDIRECT("Table!" & $AC$23 & $Z42),0))))) | K42: =IF(ISERROR(MATCH(K$1,INDIRECT("Table!A"&$Z42):INDIRECT("Table!" & $AC$23 & $Z42),0)),"",INDIRECT(CONCATENATE("Table!",ADDRESS($V42,MATCH(K$1,INDIRECT("Table!A" & $Z42):INDIRECT("Table!" & $AC$23 & $Z42),0))))) | L42: =IF(ISERROR(MATCH(L$1,INDIRECT("Table!A"&$Z42):INDIRECT("Table!" & $AC$44 & $Z42),0)),"",INDIRECT(CONCATENATE("Table!",ADDRESS($V42,MATCH(L$1,INDIRECT("Table!A" & $Z42):INDIRECT("Table!" & $AC$44 & $Z42),0))))) -> 0.78353754 | M42: =IF(ISERROR(MATCH(M$1,INDIRECT("Table!A"&$Z42):INDIRECT("Table!" & $AC$23 & $Z42),0)),"",INDIRECT(CONCATENATE("Table!",ADDRESS($V42,MATCH(M$1,INDIRECT("Table!A" & $Z42):INDIRECT("Table!" & $AC$23 & $Z42),0))))) -> 0.31954058 | N42: =IF(ISERROR(MATCH(N$1,INDIRECT("Table!A"&$Z42):INDIRECT("Table!" & $AC$23 & $Z42),0)),"",INDIRECT(CONCATENATE("Table!",ADDRESS($V42,MATCH(N$1,INDIRECT("Table!A" & $Z42):INDIRECT("Table!" & $AC$23 & $Z42),0))))) -> 0.47590307 | O42: =IF(ISERROR(MATCH(O$1,INDIRECT("Table!A"&$Z42):INDIRECT("Table!" & $AC$23 & $Z42),0)),"",INDIRECT(CONCATENATE("Table!",ADDRESS($V42,MATCH(O$1,INDIRECT("Table!A" & $Z42):INDIRECT("Table!" & $AC$23 & $Z42),0))))) -> 0.61339383 | P42: =IF(ISERROR(MATCH(P$1,INDIRECT("Table!A"&$Z42):INDIRECT("Table!" & $AC$23 & $Z42),0)),"",INDIRECT(CONCATENATE("Table!",ADDRESS($V42,MATCH(P$1,INDIRECT("Table!A" & $Z42):INDIRECT("Table!" & $AC$23 & $Z42),0))))) | Q42: =IF(ISERROR(MATCH(Q$1,INDIRECT("Table!A"&$Z42):INDIRECT("Table!" & $AC$23 & $Z42),0)),"",INDIRECT(CONCATENATE("Table!",ADDRESS($V42,MATCH(Q$1,INDIRECT("Table!A" & $Z42):INDIRECT("Table!" & $AC$23 & $Z42),0))))) | V42: =MATCH($A42,Table!$A:$A,0)+$X$2-1 -> 450 | Z42: =MATCH($A42,Table!$A:$A,0)+$AB$2-1 -> 447 | AC42: U
A43: 41289 | B43: =IF(ISERROR(MATCH(B$1,INDIRECT("Table!A"&$Z43):INDIRECT("Table!" & $AC$44 & $Z43),0)),"",INDIRECT(CONCATENATE("Table!",ADDRESS($V43,MATCH(B$1,INDIRECT("Table!A" & $Z43):INDIRECT("Table!" & $AC$44 & $Z43),0))))) -> 0.30244741 | C43: =IF(ISERROR(MATCH(C$1,INDIRECT("Table!A"&$Z43):INDIRECT("Table!" & $AC$44 & $Z43),0)),"",INDIRECT(CONCATENATE("Table!",ADDRESS($V43,MATCH(C$1,INDIRECT("Table!A" & $Z43):INDIRECT("Table!" & $AC$44 & $Z43),0))))) -> 0.50613025 | D43: =IF(ISERROR(MATCH(D$1,INDIRECT("Table!A"&$Z43):INDIRECT("Table!" & $AC$44 & $Z43),0)),"",INDIRECT(CONCATENATE("Table!",ADDRESS($V43,MATCH(D$1,INDIRECT("Table!A" & $Z43):INDIRECT("Table!" & $AC$44 & $Z43),0))))) -> 0.51552661 | E43: =IF(ISERROR(MATCH(E$1,INDIRECT("Table!A"&$Z43):INDIRECT("Table!" & $AC$44 & $Z43),0)),"",INDIRECT(CONCATENATE("Table!",ADDRESS($V43,MATCH(E$1,INDIRECT("Table!A" & $Z43):INDIRECT("Table!" & $AC$44 & $Z43),0))))) -> 0.89201957 | F43: =IF(ISERROR(MATCH(F$1,INDIRECT("Table!A"&$Z43):INDIRECT("Table!" & $AC$44 & $Z43),0)),"",INDIRECT(CONCATENATE("Table!",ADDRESS($V43,MATCH(F$1,INDIRECT("Table!A" & $Z43):INDIRECT("Table!" & $AC$44 & $Z43),0))))) -> 0.4570623 | G43: =IF(ISERROR(MATCH(G$1,INDIRECT("Table!A"&$Z43):INDIRECT("Table!" & $AC$44 & $Z43),0)),"",INDIRECT(CONCATENATE("Table!",ADDRESS($V43,MATCH(G$1,INDIRECT("Table!A" & $Z43):INDIRECT("Table!" & $AC$44 & $Z43),0))))) -> 0.26121 | H43: =IF(ISERROR(MATCH(H$1,INDIRECT("Table!A"&$Z43):INDIRECT("Table!" & $AC$44 & $Z43),0)),"",INDIRECT(CONCATENATE("Table!",ADDRESS($V43,MATCH(H$1,INDIRECT("Table!A" & $Z43):INDIRECT("Table!" & $AC$44 & $Z43),0))))) -> 0.44254927 | I43: =IF(ISERROR(MATCH(I$1,INDIRECT("Table!A"&$Z43):INDIRECT("Table!" & $AC$23 & $Z43),0)),"",INDIRECT(CONCATENATE("Table!",ADDRESS($V43,MATCH(I$1,INDIRECT("Table!A" & $Z43):INDIRECT("Table!" & $AC$23 & $Z43),0))))) | J43: =IF(ISERROR(MATCH(J$1,INDIRECT("Table!A"&$Z43):INDIRECT("Table!" & $AC$23 & $Z43),0)),"",INDIRECT(CONCATENATE("Table!",ADDRESS($V43,MATCH(J$1,INDIRECT("Table!A" & $Z43):INDIRECT("Table!" & $AC$23 & $Z43),0))))) | K43: =IF(ISERROR(MATCH(K$1,INDIRECT("Table!A"&$Z43):INDIRECT("Table!" & $AC$23 & $Z43),0)),"",INDIRECT(CONCATENATE("Table!",ADDRESS($V43,MATCH(K$1,INDIRECT("Table!A" & $Z43):INDIRECT("Table!" & $AC$23 & $Z43),0))))) | L43: =IF(ISERROR(MATCH(L$1,INDIRECT("Table!A"&$Z43):INDIRECT("Table!" & $AC$44 & $Z43),0)),"",INDIRECT(CONCATENATE("Table!",ADDRESS($V43,MATCH(L$1,INDIRECT("Table!A" & $Z43):INDIRECT("Table!" & $AC$44 & $Z43),0))))) -> 0.78172691 | M43: =IF(ISERROR(MATCH(M$1,INDIRECT("Table!A"&$Z43):INDIRECT("Table!" & $AC$23 & $Z43),0)),"",INDIRECT(CONCATENATE("Table!",ADDRESS($V43,MATCH(M$1,INDIRECT("Table!A" & $Z43):INDIRECT("Table!" & $AC$23 & $Z43),0))))) -> 0.31443812 | N43: =IF(ISERROR(MATCH(N$1,INDIRECT("Table!A"&$Z43):INDIRECT("Table!" & $AC$23 & $Z43),0)),"",INDIRECT(CONCATENATE("Table!",ADDRESS($V43,MATCH(N$1,INDIRECT("Table!A" & $Z43):INDIRECT("Table!" & $AC$23 & $Z43),0))))) -> 0.47165049 | O43: =IF(ISERROR(MATCH(O$1,INDIRECT("Table!A"&$Z43):INDIRECT("Table!" & $AC$23 & $Z43),0)),"",INDIRECT(CONCATENATE("Table!",ADDRESS($V43,MATCH(O$1,INDIRECT("Table!A" & $Z43):INDIRECT("Table!" & $AC$23 & $Z43),0))))) -> 0.6119699 | P43: =IF(ISERROR(MATCH(P$1,INDIRECT("Table!A"&$Z43):INDIRECT("Table!" & $AC$23 & $Z43),0)),"",INDIRECT(CONCATENATE("Table!",ADDRESS($V43,MATCH(P$1,INDIRECT("Table!A" & $Z43):INDIRECT("Table!" & $AC$23 & $Z43),0))))) | Q43: =IF(ISERROR(MATCH(Q$1,INDIRECT("Table!A"&$Z43):INDIRECT("Table!" & $AC$23 & $Z43),0)),"",INDIRECT(CONCATENATE("Table!",ADDRESS($V43,MATCH(Q$1,INDIRECT("Table!A" & $Z43):INDIRECT("Table!" & $AC$23 & $Z43),0))))) | V43: =MATCH($A43,Table!$A:$A,0)+$X$2-1 -> 462 | Z43: =MATCH($A43,Table!$A:$A,0)+$AB$2-1 -> 459 | AC43: U
A44: 41285 | B44: =IF(ISERROR(MATCH(B$1,INDIRECT("Table!A"&$Z44):INDIRECT("Table!" & $AC$44 & $Z44),0)),"",INDIRECT(CONCATENATE("Table!",ADDRESS($V44,MATCH(B$1,INDIRECT("Table!A" & $Z44):INDIRECT("Table!" & $AC$44 & $Z44),0))))) -> 0.29784186 | C44: =IF(ISERROR(MATCH(C$1,INDIRECT("Table!A"&$Z44):INDIRECT("Table!" & $AC$44 & $Z44),0)),"",INDIRECT(CONCATENATE("Table!",ADDRESS($V44,MATCH(C$1,INDIRECT("Table!A" & $Z44):INDIRECT("Table!" & $AC$44 & $Z44),0))))) -> 0.50580072 | D44: =IF(ISERROR(MATCH(D$1,INDIRECT("Table!A"&$Z44):INDIRECT("Table!" & $AC$44 & $Z44),0)),"",INDIRECT(CONCATENATE("Table!",ADDRESS($V44,MATCH(D$1,INDIRECT("Table!A" & $Z44):INDIRECT("Table!" & $AC$44 & $Z44),0))))) -> 0.51519708 | E44: =IF(ISERROR(MATCH(E$1,INDIRECT("Table!A"&$Z44):INDIRECT("Table!" & $AC$44 & $Z44),0)),"",INDIRECT(CONCATENATE("Table!",ADDRESS($V44,MATCH(E$1,INDIRECT("Table!A" & $Z44):INDIRECT("Table!" & $AC$44 & $Z44),0))))) -> 0.88960196 | F44: =IF(ISERROR(MATCH(F$1,INDIRECT("Table!A"&$Z44):INDIRECT("Table!" & $AC$44 & $Z44),0)),"",INDIRECT(CONCATENATE("Table!",ADDRESS($V44,MATCH(F$1,INDIRECT("Table!A" & $Z44):INDIRECT("Table!" & $AC$44 & $Z44),0))))) -> 0.45479216 | G44: =IF(ISERROR(MATCH(G$1,INDIRECT("Table!A"&$Z44):INDIRECT("Table!" & $AC$44 & $Z44),0)),"",INDIRECT(CONCATENATE("Table!",ADDRESS($V44,MATCH(G$1,INDIRECT("Table!A" & $Z44):INDIRECT("Table!" & $AC$44 & $Z44),0))))) -> 0.24044138 | H44: =IF(ISERROR(MATCH(H$1,INDIRECT("Table!A"&$Z44):INDIRECT("Table!" & $AC$44 & $Z44),0)),"",INDIRECT(CONCATENATE("Table!",ADDRESS($V44,MATCH(H$1,INDIRECT("Table!A" & $Z44):INDIRECT("Table!" & $AC$44 & $Z44),0))))) -> 0.44178443 | I44: =IF(ISERROR(MATCH(I$1,INDIRECT("Table!A"&$Z44):INDIRECT("Table!" & $AC$23 & $Z44),0)),"",INDIRECT(CONCATENATE("Table!",ADDRESS($V44,MATCH(I$1,INDIRECT("Table!A" & $Z44):INDIRECT("Table!" & $AC$23 & $Z44),0))))) | J44: =IF(ISERROR(MATCH(J$1,INDIRECT("Table!A"&$Z44):INDIRECT("Table!" & $AC$23 & $Z44),0)),"",INDIRECT(CONCATENATE("Table!",ADDRESS($V44,MATCH(J$1,INDIRECT("Table!A" & $Z44):INDIRECT("Table!" & $AC$23 & $Z44),0))))) | K44: =IF(ISERROR(MATCH(K$1,INDIRECT("Table!A"&$Z44):INDIRECT("Table!" & $AC$23 & $Z44),0)),"",INDIRECT(CONCATENATE("Table!",ADDRESS($V44,MATCH(K$1,INDIRECT("Table!A" & $Z44):INDIRECT("Table!" & $AC$23 & $Z44),0))))) | L44: =IF(ISERROR(MATCH(L$1,INDIRECT("Table!A"&$Z44):INDIRECT("Table!" & $AC$44 & $Z44),0)),"",INDIRECT(CONCATENATE("Table!",ADDRESS($V44,MATCH(L$1,INDIRECT("Table!A" & $Z44):INDIRECT("Table!" & $AC$44 & $Z44),0))))) -> 0.78115186 | M44: =IF(ISERROR(MATCH(M$1,INDIRECT("Table!A"&$Z44):INDIRECT("Table!" & $AC$23 & $Z44),0)),"",INDIRECT(CONCATENATE("Table!",ADDRESS($V44,MATCH(M$1,INDIRECT("Table!A" & $Z44):INDIRECT("Table!" & $AC$23 & $Z44),0))))) -> 0.31126705 | N44: =IF(ISERROR(MATCH(N$1,INDIRECT("Table!A"&$Z44):INDIRECT("Table!" & $AC$23 & $Z44),0)),"",INDIRECT(CONCATENATE("Table!",ADDRESS($V44,MATCH(N$1,INDIRECT("Table!A" & $Z44):INDIRECT("Table!" & $AC$23 & $Z44),0))))) -> 0.46927398 | O44: =IF(ISERROR(MATCH(O$1,INDIRECT("Table!A"&$Z44):INDIRECT("Table!" & $AC$23 & $Z44),0)),"",INDIRECT(CONCATENATE("Table!",ADDRESS($V44,MATCH(O$1,INDIRECT("Table!A" & $Z44):INDIRECT("Table!" & $AC$23 & $Z44),0))))) -> 0.61094884 | P44: =IF(ISERROR(MATCH(P$1,INDIRECT("Table!A"&$Z44):INDIRECT("Table!" & $AC$23 & $Z44),0)),"",INDIRECT(CONCATENATE("Table!",ADDRESS($V44,MATCH(P$1,INDIRECT("Table!A" & $Z44):INDIRECT("Table!" & $AC$23 & $Z44),0))))) | Q44: =IF(ISERROR(MATCH(Q$1,INDIRECT("Table!A"&$Z44):INDIRECT("Table!" & $AC$23 & $Z44),0)),"",INDIRECT(CONCATENATE("Table!",ADDRESS($V44,MATCH(Q$1,INDIRECT("Table!A" & $Z44):INDIRECT("Table!" & $AC$23 & $Z44),0))))) | V44: =MATCH($A44,Table!$A:$A,0)+$X$2-1 -> 474 | Z44: =MATCH($A44,Table!$A:$A,0)+$AB$2-1 -> 471 | AC44: U
A45: 41281 | B45: =IF(ISERROR(MATCH(B$1,INDIRECT("Table!A"&$Z45):INDIRECT("Table!" & $AC$44 & $Z45),0)),"",INDIRECT(CONCATENATE("Table!",ADDRESS($V45,MATCH(B$1,INDIRECT("Table!A" & $Z45):INDIRECT("Table!" & $AC$44 & $Z45),0))))) -> 0.28042739 | C45: =IF(ISERROR(MATCH(C$1,INDIRECT("Table!A"&$Z45):INDIRECT("Table!" & $AC$44 & $Z45),0)),"",INDIRECT(CONCATENATE("Table!",ADDRESS($V45,MATCH(C$1,INDIRECT("Table!A" & $Z45):INDIRECT("Table!" & $AC$44 & $Z45),0))))) -> 0.50553497 | D45: =IF(ISERROR(MATCH(D$1,INDIRECT("Table!A"&$Z45):INDIRECT("Table!" & $AC$44 & $Z45),0)),"",INDIRECT(CONCATENATE("Table!",ADDRESS($V45,MATCH(D$1,INDIRECT("Table!A" & $Z45):INDIRECT("Table!" & $AC$44 & $Z45),0))))) -> 0.51493199 | E45: =IF(ISERROR(MATCH(E$1,INDIRECT("Table!A"&$Z45):INDIRECT("Table!" & $AC$44 & $Z45),0)),"",INDIRECT(CONCATENATE("Table!",ADDRESS($V45,MATCH(E$1,INDIRECT("Table!A" & $Z45):INDIRECT("Table!" & $AC$44 & $Z45),0))))) -> 0.8887514 | F45: =IF(ISERROR(MATCH(F$1,INDIRECT("Table!A"&$Z45):INDIRECT("Table!" & $AC$44 & $Z45),0)),"",INDIRECT(CONCATENATE("Table!",ADDRESS($V45,MATCH(F$1,INDIRECT("Table!A" & $Z45):INDIRECT("Table!" & $AC$44 & $Z45),0))))) -> 0.44734954 | G45: =IF(ISERROR(MATCH(G$1,INDIRECT("Table!A"&$Z45):INDIRECT("Table!" & $AC$44 & $Z45),0)),"",INDIRECT(CONCATENATE("Table!",ADDRESS($V45,MATCH(G$1,INDIRECT("Table!A" & $Z45):INDIRECT("Table!" & $AC$44 & $Z45),0))))) -> 0.23468955 | H45: =IF(ISERROR(MATCH(H$1,INDIRECT("Table!A"&$Z45):INDIRECT("Table!" & $AC$44 & $Z45),0)),"",INDIRECT(CONCATENATE("Table!",ADDRESS($V45,MATCH(H$1,INDIRECT("Table!A" & $Z45):INDIRECT("Table!" & $AC$44 & $Z45),0))))) -> 0.44020034 | I45: =IF(ISERROR(MATCH(I$1,INDIRECT("Table!A"&$Z45):INDIRECT("Table!" & $AC$23 & $Z45),0)),"",INDIRECT(CONCATENATE("Table!",ADDRESS($V45,MATCH(I$1,INDIRECT("Table!A" & $Z45):INDIRECT("Table!" & $AC$23 & $Z45),0))))) | J45: =IF(ISERROR(MATCH(J$1,INDIRECT("Table!A"&$Z45):INDIRECT("Table!" & $AC$23 & $Z45),0)),"",INDIRECT(CONCATENATE("Table!",ADDRESS($V45,MATCH(J$1,INDIRECT("Table!A" & $Z45):INDIRECT("Table!" & $AC$23 & $Z45),0))))) | K45: =IF(ISERROR(MATCH(K$1,INDIRECT("Table!A"&$Z45):INDIRECT("Table!" & $AC$23 & $Z45),0)),"",INDIRECT(CONCATENATE("Table!",ADDRESS($V45,MATCH(K$1,INDIRECT("Table!A" & $Z45):INDIRECT("Table!" & $AC$23 & $Z45),0))))) | L45: =IF(ISERROR(MATCH(L$1,INDIRECT("Table!A"&$Z45):INDIRECT("Table!" & $AC$44 & $Z45),0)),"",INDIRECT(CONCATENATE("Table!",ADDRESS($V45,MATCH(L$1,INDIRECT("Table!A" & $Z45):INDIRECT("Table!" & $AC$44 & $Z45),0))))) -> 0.77970802 | M45: =IF(ISERROR(MATCH(M$1,INDIRECT("Table!A"&$Z45):INDIRECT("Table!" & $AC$23 & $Z45),0)),"",INDIRECT(CONCATENATE("Table!",ADDRESS($V45,MATCH(M$1,INDIRECT("Table!A" & $Z45):INDIRECT("Table!" & $AC$23 & $Z45),0))))) -> 0.31507157 | N45: =IF(ISERROR(MATCH(N$1,INDIRECT("Table!A"&$Z45):INDIRECT("Table!" & $AC$23 & $Z45),0)),"",INDIRECT(CONCATENATE("Table!",ADDRESS($V45,MATCH(N$1,INDIRECT("Table!A" & $Z45):INDIRECT("Table!" & $AC$23 & $Z45),0))))) -> 0.46175158 | O45: =IF(ISERROR(MATCH(O$1,INDIRECT("Table!A"&$Z45):INDIRECT("Table!" & $AC$23 & $Z45),0)),"",INDIRECT(CONCATENATE("Table!",ADDRESS($V45,MATCH(O$1,INDIRECT("Table!A" & $Z45):INDIRECT("Table!" & $AC$23 & $Z45),0))))) -> 0.60886874 | P45: =IF(ISERROR(MATCH(P$1,INDIRECT("Table!A"&$Z45):INDIRECT("Table!" & $AC$23 & $Z45),0)),"",INDIRECT(CONCATENATE("Table!",ADDRESS($V45,MATCH(P$1,INDIRECT("Table!A" & $Z45):INDIRECT("Table!" & $AC$23 & $Z45),0))))) | Q45: =IF(ISERROR(MATCH(Q$1,INDIRECT("Table!A"&$Z45):INDIRECT("Table!" & $AC$23 & $Z45),0)),"",INDIRECT(CONCATENATE("Table!",ADDRESS($V45,MATCH(Q$1,INDIRECT("Table!A" & $Z45):INDIRECT("Table!" & $AC$23 & $Z45),0))))) | V45: =MATCH($A45,Table!$A:$A,0)+$X$2-1 -> 498 | Z45: =MATCH($A45,Table!$A:$A,0)+$AB$2-1 -> 495 | AC45: U

Sheet subscription charts
B1: 0623 | C1: 0745 | D1: 0552 | E1: 0678 | F1: 3286 | G1: 3073 | H1: 2230 | I1: 3696 | J1: 4330 | K1: 0347 | L1: 0879 | M1: 3004 | N1: 2804 | O1: 2231 | P1: 3875 | Q1: 4652 | R1: 0349 | S1: 2262 | T1: 0377
B2: CGC T4 V-MAX 0623 | C2: CGC T3 V-MAX 0745 | D2: RDC T3 V-MAX 0552 | E2: RDC T4 V-MAX 0678 | F2: RDC T3 V-MAX 3286 | G2: RDC T4 V-MAX 3073 | H2: RDC T3 V-MAX 2230 | I2: RDC T3 V-MAX 3696 | J2: RDC T3 V-MAX 4330 | K2: RDC T4 V-MAX 0347 | L2: FDC T4 V-MAX 0879 | M2: FDC T4 V-MAX 3004 | N2: FDC T3 V-MAX 2804 | O2: FDC T3 V-MAX 2231 | P2: FDC T3 V-MAX 3875 | Q2: FDC T3 V-MAX 4652 | R2: FDC T4 V-MAX 0349 | S2: ZDC T4 VMAX 2262 | T2: ZDC T4 VMAV 0377 | V2: Row | W2: subscription | X2: =MATCH(W2,Table!$B:$B,0) -> 12 | Z2: Row | AA2: VMAX | AB2: =MATCH(AA2,Table!$A:$A,0) -> 3 | AC2: Max Column
A4: 41443 | B4: =IF(ISERROR(MATCH(B$1,INDIRECT("Table!A"&$Z4):INDIRECT("Table!" & $AC$44 & $Z4),0)),"",INDIRECT(CONCATENATE("Table!",ADDRESS($V4,MATCH(B$1,INDIRECT("Table!A" & $Z4):INDIRECT("Table!" & $AC$44 & $Z4),0))))) -> 1.2711506 | C4: =IF(ISERROR(MATCH(C$1,INDIRECT("Table!A"&$Z4):INDIRECT("Table!" & $AC$44 & $Z4),0)),"",INDIRECT(CONCATENATE("Table!",ADDRESS($V4,MATCH(C$1,INDIRECT("Table!A" & $Z4):INDIRECT("Table!" & $AC$44 & $Z4),0))))) -> 0.6050466 | D4: =IF(ISERROR(MATCH(D$1,INDIRECT("Table!A"&$Z4):INDIRECT("Table!" & $AC$44 & $Z4),0)),"",INDIRECT(CONCATENATE("Table!",ADDRESS($V4,MATCH(D$1,INDIRECT("Table!A" & $Z4):INDIRECT("Table!" & $AC$44 & $Z4),0))))) -> 0.61199086 | E4: =IF(ISERROR(MATCH(E$1,INDIRECT("Table!A"&$Z4):INDIRECT("Table!" & $AC$44 & $Z4),0)),"",INDIRECT(CONCATENATE("Table!",ADDRESS($V4,MATCH(E$1,INDIRECT("Table!A" & $Z4):INDIRECT("Table!" & $AC$44 & $Z4),0))))) -> 1.5217296 | F4: =IF(ISERROR(MATCH(F$1,INDIRECT("Table!A"&$Z4):INDIRECT("Table!" & $AC$44 & $Z4),0)),"",INDIRECT(CONCATENATE("Table!",ADDRESS($V4,MATCH(F$1,INDIRECT("Table!A" & $Z4):INDIRECT("Table!" & $AC$44 & $Z4),0))))) -> 1.5805688 | G4: =IF(ISERROR(MATCH(G$1,INDIRECT("Table!A"&$Z4):INDIRECT("Table!" & $AC$44 & $Z4),0)),"",INDIRECT(CONCATENATE("Table!",ADDRESS($V4,MATCH(G$1,INDIRECT("Table!A" & $Z4):INDIRECT("Table!" & $AC$44 & $Z4),0))))) -> 3.4849237 | H4: =IF(ISERROR(MATCH(H$1,INDIRECT("Table!A"&$Z4):INDIRECT("Table!" & $AC$44 & $Z4),0)),"",INDIRECT(CONCATENATE("Table!",ADDRESS($V4,MATCH(H$1,INDIRECT("Table!A" & $Z4):INDIRECT("Table!" & $AC$44 & $Z4),0))))) -> 0.8192172 | I4: =IF(ISERROR(MATCH(I$1,INDIRECT("Table!A"&$Z4):INDIRECT("Table!" & $AC$22 & $Z4),0)),"",INDIRECT(CONCATENATE("Table!",ADDRESS($V4,MATCH(I$1,INDIRECT("Table!A" & $Z4):INDIRECT("Table!" & $AC$22 & $Z4),0))))) -> 0.087016346 | J4: =IF(ISERROR(MATCH(J$1,INDIRECT("Table!A"&$Z4):INDIRECT("Table!" & $AC$22 & $Z4),0)),"",INDIRECT(CONCATENATE("Table!",ADDRESS($V4,MATCH(J$1,INDIRECT("Table!A" & $Z4):INDIRECT("Table!" & $AC$22 & $Z4),0))))) -> 0.13390244 | K4: =IF(ISERROR(MATCH(K$1,INDIRECT("Table!A"&$Z4):INDIRECT("Table!" & $AC$22 & $Z4),0)),"",INDIRECT(CONCATENATE("Table!",ADDRESS($V4,MATCH(K$1,INDIRECT("Table!A" & $Z4):INDIRECT("Table!" & $AC$22 & $Z4),0))))) -> 0.02221079 | L4: =IF(ISERROR(MATCH(L$1,INDIRECT("Table!A"&$Z4):INDIRECT("Table!" & $AC$44 & $Z4),0)),"",INDIRECT(CONCATENATE("Table!",ADDRESS($V4,MATCH(L$1,INDIRECT("Table!A" & $Z4):INDIRECT("Table!" & $AC$44 & $Z4),0))))) -> 1.4590448 | M4: =IF(ISERROR(MATCH(M$1,INDIRECT("Table!A"&$Z4):INDIRECT("Table!" & $AC$44 & $Z4),0)),"",INDIRECT(CONCATENATE("Table!",ADDRESS($V4,MATCH(M$1,INDIRECT("Table!A" & $Z4):INDIRECT("Table!" & $AC$44 & $Z4),0))))) -> 2.8403519 | N4: =IF(ISERROR(MATCH(N$1,INDIRECT("Table!A"&$Z4):INDIRECT("Table!" & $AC$44 & $Z4),0)),"",INDIRECT(CONCATENATE("Table!",ADDRESS($V4,MATCH(N$1,INDIRECT("Table!A" & $Z4):INDIRECT("Table!" & $AC$44 & $Z4),0))))) -> 1.6404751 | O4: =IF(ISERROR(MATCH(O$1,INDIRECT("Table!A"&$Z4):INDIRECT("Table!" & $AC$22 & $Z4),0)),"",INDIRECT(CONCATENATE("Table!",ADDRESS($V4,MATCH(O$1,INDIRECT("Table!A" & $Z4):INDIRECT("Table!" & $AC$22 & $Z4),0))))) -> 0.90970057 | P4: =IF(ISERROR(MATCH(P$1,INDIRECT("Table!A"&$Z4):INDIRECT("Table!" & $AC$22 & $Z4),0)),"",INDIRECT(CONCATENATE("Table!",ADDRESS($V4,MATCH(P$1,INDIRECT("Table!A" & $Z4):INDIRECT("Table!" & $AC$22 & $Z4),0))))) -> 0.35417959 | Q4: =IF(ISERROR(MATCH(Q$1,INDIRECT("Table!A"&$Z4):INDIRECT("Table!" & $AC$22 & $Z4),0)),"",INDIRECT(CONCATENATE("Table!",ADDRESS($V4,MATCH(Q$1,INDIRECT("Table!A" & $Z4):INDIRECT("Table!" & $AC$22 & $Z4),0))))) -> 0.067262151 | R4: =IF(ISERROR(MATCH(R$1,INDIRECT("Table!A"&$Z4):INDIRECT("Table!" & $AC$22 & $Z4),0)),"",INDIRECT(CONCATENATE("Table!",ADDRESS($V4,MATCH(R$1,INDIRECT("Table!A" & $Z4):INDIRECT("Table!" & $AC$22 & $Z4),0))))) -> 0.051059287 | S4: =IF(ISERROR(MATCH(S$1,INDIRECT("Table!A"&$Z4):INDIRECT("Table!" & $AC$4 & $Z4),0)),"",INDIRECT(CONCATENATE("Table!",ADDRESS($V4,MATCH(S$1,INDIRECT("Table!A" & $Z4):INDIRECT("Table!" & $AC$4 & $Z4),0))))) -> 0.66210061 | T4: =IF(ISERROR(MATCH(T$1,INDIRECT("Table!A"&$Z4):INDIRECT("Table!" & $AC$4 & $Z4),0)),"",INDIRECT(CONCATENATE("Table!",ADDRESS($V4,MATCH(T$1,INDIRECT("Table!A" & $Z4):INDIRECT("Table!" & $AC$4 & $Z4),0))))) -> 0.5074286 | V4: =MATCH($A4,Table!$A:$A,0)+$X$2-1 -> 12 | Z4: =MATCH($A4,Table!$A:$A,0)+$AB$2-1 -> 3 | AC4: U
A5: 41437 | B5: =IF(ISERROR(MATCH(B$1,INDIRECT("Table!A"&$Z5):INDIRECT("Table!" & $AC$44 & $Z5),0)),"",INDIRECT(CONCATENATE("Table!",ADDRESS($V5,MATCH(B$1,INDIRECT("Table!A" & $Z5):INDIRECT("Table!" & $AC$44 & $Z5),0))))) -> 1.2553964 | C5: =IF(ISERROR(MATCH(C$1,INDIRECT("Table!A"&$Z5):INDIRECT("Table!" & $AC$44 & $Z5),0)),"",INDIRECT(CONCATENATE("Table!",ADDRESS($V5,MATCH(C$1,INDIRECT("Table!A" & $Z5):INDIRECT("Table!" & $AC$44 & $Z5),0))))) -> 0.60191048 | D5: =IF(ISERROR(MATCH(D$1,INDIRECT("Table!A"&$Z5):INDIRECT("Table!" & $AC$44 & $Z5),0)),"",INDIRECT(CONCATENATE("Table!",ADDRESS($V5,MATCH(D$1,INDIRECT("Table!A" & $Z5):INDIRECT("Table!" & $AC$44 & $Z5),0))))) -> 0.60885474 | E5: =IF(ISERROR(MATCH(E$1,INDIRECT("Table!A"&$Z5):INDIRECT("Table!" & $AC$44 & $Z5),0)),"",INDIRECT(CONCATENATE("Table!",ADDRESS($V5,MATCH(E$1,INDIRECT("Table!A" & $Z5):INDIRECT("Table!" & $AC$44 & $Z5),0))))) -> 1.5276579 | F5: =IF(ISERROR(MATCH(F$1,INDIRECT("Table!A"&$Z5):INDIRECT("Table!" & $AC$44 & $Z5),0)),"",INDIRECT(CONCATENATE("Table!",ADDRESS($V5,MATCH(F$1,INDIRECT("Table!A" & $Z5):INDIRECT("Table!" & $AC$44 & $Z5),0))))) -> 1.5805688 | G5: =IF(ISERROR(MATCH(G$1,INDIRECT("Table!A"&$Z5):INDIRECT("Table!" & $AC$44 & $Z5),0)),"",INDIRECT(CONCATENATE("Table!",ADDRESS($V5,MATCH(G$1,INDIRECT("Table!A" & $Z5):INDIRECT("Table!" & $AC$44 & $Z5),0))))) -> 3.4772684 | H5: =IF(ISERROR(MATCH(H$1,INDIRECT("Table!A"&$Z5):INDIRECT("Table!" & $AC$44 & $Z5),0)),"",INDIRECT(CONCATENATE("Table!",ADDRESS($V5,MATCH(H$1,INDIRECT("Table!A" & $Z5):INDIRECT("Table!" & $AC$44 & $Z5),0))))) -> 0.8192172 | I5: =IF(ISERROR(MATCH(I$1,INDIRECT("Table!A"&$Z5):INDIRECT("Table!" & $AC$22 & $Z5),0)),"",INDIRECT(CONCATENATE("Table!",ADDRESS($V5,MATCH(I$1,INDIRECT("Table!A" & $Z5):INDIRECT("Table!" & $AC$22 & $Z5),0))))) -> 0.087016346 | J5: =IF(ISERROR(MATCH(J$1,INDIRECT("Table!A"&$Z5):INDIRECT("Table!" & $AC$22 & $Z5),0)),"",INDIRECT(CONCATENATE("Table!",ADDRESS($V5,MATCH(J$1,INDIRECT("Table!A" & $Z5):INDIRECT("Table!" & $AC$22 & $Z5),0))))) -> 0.032472255 | K5: =IF(ISERROR(MATCH(K$1,INDIRECT("Table!A"&$Z5):INDIRECT("Table!" & $AC$22 & $Z5),0)),"",INDIRECT(CONCATENATE("Table!",ADDRESS($V5,MATCH(K$1,INDIRECT("Table!A" & $Z5):INDIRECT("Table!" & $AC$22 & $Z5),0))))) -> 0.02221079 | L5: =IF(ISERROR(MATCH(L$1,INDIRECT("Table!A"&$Z5):INDIRECT("Table!" & $AC$44 & $Z5),0)),"",INDIRECT(CONCATENATE("Table!",ADDRESS($V5,MATCH(L$1,INDIRECT("Table!A" & $Z5):INDIRECT("Table!" & $AC$44 & $Z5),0))))) -> 1.463761 | M5: =IF(ISERROR(MATCH(M$1,INDIRECT("Table!A"&$Z5):INDIRECT("Table!" & $AC$44 & $Z5),0)),"",INDIRECT(CONCATENATE("Table!",ADDRESS($V5,MATCH(M$1,INDIRECT("Table!A" & $Z5):INDIRECT("Table!" & $AC$44 & $Z5),0))))) -> 2.8403519 | N5: =IF(ISERROR(MATCH(N$1,INDIRECT("Table!A"&$Z5):INDIRECT("Table!" & $AC$44 & $Z5),0)),"",INDIRECT(CONCATENATE("Table!",ADDRESS($V5,MATCH(N$1,INDIRECT("Table!A" & $Z5):INDIRECT("Table!" & $AC$44 & $Z5),0))))) -> 1.6404751 | O5: =IF(ISERROR(MATCH(O$1,INDIRECT("Table!A"&$Z5):INDIRECT("Table!" & $AC$22 & $Z5),0)),"",INDIRECT(CONCATENATE("Table!",ADDRESS($V5,MATCH(O$1,INDIRECT("Table!A" & $Z5):INDIRECT("Table!" & $AC$22 & $Z5),0))))) -> 0.90970057 | P5: =IF(ISERROR(MATCH(P$1,INDIRECT("Table!A"&$Z5):INDIRECT("Table!" & $AC$22 & $Z5),0)),"",INDIRECT(CONCATENATE("Table!",ADDRESS($V5,MATCH(P$1,INDIRECT("Table!A" & $Z5):INDIRECT("Table!" & $AC$22 & $Z5),0))))) -> 0.35417959 | Q5: =IF(ISERROR(MATCH(Q$1,INDIRECT("Table!A"&$Z5):INDIRECT("Table!" & $AC$22 & $Z5),0)),"",INDIRECT(CONCATENATE("Table!",ADDRESS($V5,MATCH(Q$1,INDIRECT("Table!A" & $Z5):INDIRECT("Table!" & $AC$22 & $Z5),0))))) -> 0.028546271 | R5: =IF(ISERROR(MATCH(R$1,INDIRECT("Table!A"&$Z5):INDIRECT("Table!" & $AC$22 & $Z5),0)),"",INDIRECT(CONCATENATE("Table!",ADDRESS($V5,MATCH(R$1,INDIRECT("Table!A" & $Z5):INDIRECT("Table!" & $AC$22 & $Z5),0))))) -> 0.0053612251 | S5: =IF(ISERROR(MATCH(S$1,INDIRECT("Table!A"&$Z5):INDIRECT("Table!" & $AC$4 & $Z5),0)),"",INDIRECT(CONCATENATE("Table!",ADDRESS($V5,MATCH(S$1,INDIRECT("Table!A" & $Z5):INDIRECT("Table!" & $AC$4 & $Z5),0))))) -> 0.59668532 | T5: =IF(ISERROR(MATCH(T$1,INDIRECT("Table!A"&$Z5):INDIRECT("Table!" & $AC$4 & $Z5),0)),"",INDIRECT(CONCATENATE("Table!",ADDRESS($V5,MATCH(T$1,INDIRECT("Table!A" & $Z5):INDIRECT("Table!" & $AC$4 & $Z5),0))))) -> 0.5074286 | V5: =MATCH($A5,Table!$A:$A,0)+$X$2-1 -> 24 | Z5: =MATCH($A5,Table!$A:$A,0)+$AB$2-1 -> 15 | AC5: U
A6: 41430 | B6: =IF(ISERROR(MATCH(B$1,INDIRECT("Table!A"&$Z6):INDIRECT("Table!" & $AC$44 & $Z6),0)),"",INDIRECT(CONCATENATE("Table!",ADDRESS($V6,MATCH(B$1,INDIRECT("Table!A" & $Z6):INDIRECT("Table!" & $AC$44 & $Z6),0))))) -> 1.2554035 | C6: =IF(ISERROR(MATCH(C$1,INDIRECT("Table!A"&$Z6):INDIRECT("Table!" & $AC$44 & $Z6),0)),"",INDIRECT(CONCATENATE("Table!",ADDRESS($V6,MATCH(C$1,INDIRECT("Table!A" & $Z6):INDIRECT("Table!" & $AC$44 & $Z6),0))))) -> 0.60101804 | D6: =IF(ISERROR(MATCH(D$1,INDIRECT("Table!A"&$Z6):INDIRECT("Table!" & $AC$44 & $Z6),0)),"",INDIRECT(CONCATENATE("Table!",ADDRESS($V6,MATCH(D$1,INDIRECT("Table!A" & $Z6):INDIRECT("Table!" & $AC$44 & $Z6),0))))) -> 0.60796234 | E6: =IF(ISERROR(MATCH(E$1,INDIRECT("Table!A"&$Z6):INDIRECT("Table!" & $AC$44 & $Z6),0)),"",INDIRECT(CONCATENATE("Table!",ADDRESS($V6,MATCH(E$1,INDIRECT("Table!A" & $Z6):INDIRECT("Table!" & $AC$44 & $Z6),0))))) -> 1.5276579 | F6: =IF(ISERROR(MATCH(F$1,INDIRECT("Table!A"&$Z6):INDIRECT("Table!" & $AC$44 & $Z6),0)),"",INDIRECT(CONCATENATE("Table!",ADDRESS($V6,MATCH(F$1,INDIRECT("Table!A" & $Z6):INDIRECT("Table!" & $AC$44 & $Z6),0))))) -> 1.5769006 | G6: =IF(ISERROR(MATCH(G$1,INDIRECT("Table!A"&$Z6):INDIRECT("Table!" & $AC$44 & $Z6),0)),"",INDIRECT(CONCATENATE("Table!",ADDRESS($V6,MATCH(G$1,INDIRECT("Table!A" & $Z6):INDIRECT("Table!" & $AC$44 & $Z6),0))))) -> 3.4765266 | H6: =IF(ISERROR(MATCH(H$1,INDIRECT("Table!A"&$Z6):INDIRECT("Table!" & $AC$44 & $Z6),0)),"",INDIRECT(CONCATENATE("Table!",ADDRESS($V6,MATCH(H$1,INDIRECT("Table!A" & $Z6):INDIRECT("Table!" & $AC$44 & $Z6),0))))) -> 0.8192172 | I6: =IF(ISERROR(MATCH(I$1,INDIRECT("Table!A"&$Z6):INDIRECT("Table!" & $AC$22 & $Z6),0)),"",INDIRECT(CONCATENATE("Table!",ADDRESS($V6,MATCH(I$1,INDIRECT("Table!A" & $Z6):INDIRECT("Table!" & $AC$22 & $Z6),0))))) -> 0.086689192 | J6: =IF(ISERROR(MATCH(J$1,INDIRECT("Table!A"&$Z6):INDIRECT("Table!" & $AC$22 & $Z6),0)),"",INDIRECT(CONCATENATE("Table!",ADDRESS($V6,MATCH(J$1,INDIRECT("Table!A" & $Z6):INDIRECT("Table!" & $AC$22 & $Z6),0))))) -> 0.031572816 | K6: =IF(ISERROR(MATCH(K$1,INDIRECT("Table!A"&$Z6):INDIRECT("Table!" & $AC$22 & $Z6),0)),"",INDIRECT(CONCATENATE("Table!",ADDRESS($V6,MATCH(K$1,INDIRECT("Table!A" & $Z6):INDIRECT("Table!" & $AC$22 & $Z6),0))))) | L6: =IF(ISERROR(MATCH(L$1,INDIRECT("Table!A"&$Z6):INDIRECT("Table!" & $AC$44 & $Z6),0)),"",INDIRECT(CONCATENATE("Table!",ADDRESS($V6,MATCH(L$1,INDIRECT("Table!A" & $Z6):INDIRECT("Table!" & $AC$44 & $Z6),0))))) -> 1.4637769 | M6: =IF(ISERROR(MATCH(M$1,INDIRECT("Table!A"&$Z6):INDIRECT("Table!" & $AC$44 & $Z6),0)),"",INDIRECT(CONCATENATE("Table!",ADDRESS($V6,MATCH(M$1,INDIRECT("Table!A" & $Z6):INDIRECT("Table!" & $AC$44 & $Z6),0))))) -> 2.8350082 | N6: =IF(ISERROR(MATCH(N$1,INDIRECT("Table!A"&$Z6):INDIRECT("Table!" & $AC$44 & $Z6),0)),"",INDIRECT(CONCATENATE("Table!",ADDRESS($V6,MATCH(N$1,INDIRECT("Table!A" & $Z6):INDIRECT("Table!" & $AC$44 & $Z6),0))))) -> 1.6368129 | O6: =IF(ISERROR(MATCH(O$1,INDIRECT("Table!A"&$Z6):INDIRECT("Table!" & $AC$22 & $Z6),0)),"",INDIRECT(CONCATENATE("Table!",ADDRESS($V6,MATCH(O$1,INDIRECT("Table!A" & $Z6):INDIRECT("Table!" & $AC$22 & $Z6),0))))) -> 0.90970057 | P6: =IF(ISERROR(MATCH(P$1,INDIRECT("Table!A"&$Z6):INDIRECT("Table!" & $AC$22 & $Z6),0)),"",INDIRECT(CONCATENATE("Table!",ADDRESS($V6,MATCH(P$1,INDIRECT("Table!A" & $Z6):INDIRECT("Table!" & $AC$22 & $Z6),0))))) -> 0.35284713 | Q6: =IF(ISERROR(MATCH(Q$1,INDIRECT("Table!A"&$Z6):INDIRECT("Table!" & $AC$22 & $Z6),0)),"",INDIRECT(CONCATENATE("Table!",ADDRESS($V6,MATCH(Q$1,INDIRECT("Table!A" & $Z6):INDIRECT("Table!" & $AC$22 & $Z6),0))))) -> 0.028546271 | R6: =IF(ISERROR(MATCH(R$1,INDIRECT("Table!A"&$Z6):INDIRECT("Table!" & $AC$22 & $Z6),0)),"",INDIRECT(CONCATENATE("Table!",ADDRESS($V6,MATCH(R$1,INDIRECT("Table!A" & $Z6):INDIRECT("Table!" & $AC$22 & $Z6),0))))) | S6: =IF(ISERROR(MATCH(S$1,INDIRECT("Table!A"&$Z6):INDIRECT("Table!" & $AC$4 & $Z6),0)),"",INDIRECT(CONCATENATE("Table!",ADDRESS($V6,MATCH(S$1,INDIRECT("Table!A" & $Z6):INDIRECT("Table!" & $AC$4 & $Z6),0))))) -> 0.5911831 | T6: =IF(ISERROR(MATCH(T$1,INDIRECT("Table!A"&$Z6):INDIRECT("Table!" & $AC$4 & $Z6),0)),"",INDIRECT(CONCATENATE("Table!",ADDRESS($V6,MATCH(T$1,INDIRECT("Table!A" & $Z6):INDIRECT("Table!" & $AC$4 & $Z6),0))))) -> 0.5074286 | V6: =MATCH($A6,Table!$A:$A,0)+$X$2-1 -> 36 | Z6: =MATCH($A6,Table!$A:$A,0)+$AB$2-1 -> 27 | AC6: U
A7: 41428 | B7: =IF(ISERROR(MATCH(B$1,INDIRECT("Table!A"&$Z7):INDIRECT("Table!" & $AC$44 & $Z7),0)),"",INDIRECT(CONCATENATE("Table!",ADDRESS($V7,MATCH(B$1,INDIRECT("Table!A" & $Z7):INDIRECT("Table!" & $AC$44 & $Z7),0))))) -> 1.2554035 | C7: =IF(ISERROR(MATCH(C$1,INDIRECT("Table!A"&$Z7):INDIRECT("Table!" & $AC$44 & $Z7),0)),"",INDIRECT(CONCATENATE("Table!",ADDRESS($V7,MATCH(C$1,INDIRECT("Table!A" & $Z7):INDIRECT("Table!" & $AC$44 & $Z7),0))))) -> 0.60101804 | D7: =IF(ISERROR(MATCH(D$1,INDIRECT("Table!A"&$Z7):INDIRECT("Table!" & $AC$44 & $Z7),0)),"",INDIRECT(CONCATENATE("Table!",ADDRESS($V7,MATCH(D$1,INDIRECT("Table!A" & $Z7):INDIRECT("Table!" & $AC$44 & $Z7),0))))) -> 0.60796234 | E7: =IF(ISERROR(MATCH(E$1,INDIRECT("Table!A"&$Z7):INDIRECT("Table!" & $AC$44 & $Z7),0)),"",INDIRECT(CONCATENATE("Table!",ADDRESS($V7,MATCH(E$1,INDIRECT("Table!A" & $Z7):INDIRECT("Table!" & $AC$44 & $Z7),0))))) -> 1.5276579 | F7: =IF(ISERROR(MATCH(F$1,INDIRECT("Table!A"&$Z7):INDIRECT("Table!" & $AC$44 & $Z7),0)),"",INDIRECT(CONCATENATE("Table!",ADDRESS($V7,MATCH(F$1,INDIRECT("Table!A" & $Z7):INDIRECT("Table!" & $AC$44 & $Z7),0))))) -> 1.5683416 | G7: =IF(ISERROR(MATCH(G$1,INDIRECT("Table!A"&$Z7):INDIRECT("Table!" & $AC$44 & $Z7),0)),"",INDIRECT(CONCATENATE("Table!",ADDRESS($V7,MATCH(G$1,INDIRECT("Table!A" & $Z7):INDIRECT("Table!" & $AC$44 & $Z7),0))))) -> 3.4760162 | H7: =IF(ISERROR(MATCH(H$1,INDIRECT("Table!A"&$Z7):INDIRECT("Table!" & $AC$44 & $Z7),0)),"",INDIRECT(CONCATENATE("Table!",ADDRESS($V7,MATCH(H$1,INDIRECT("Table!A" & $Z7):INDIRECT("Table!" & $AC$44 & $Z7),0))))) -> 0.81468133 | I7: =IF(ISERROR(MATCH(I$1,INDIRECT("Table!A"&$Z7):INDIRECT("Table!" & $AC$22 & $Z7),0)),"",INDIRECT(CONCATENATE("Table!",ADDRESS($V7,MATCH(I$1,INDIRECT("Table!A" & $Z7):INDIRECT("Table!" & $AC$22 & $Z7),0))))) -> 0.077147291 | J7: =IF(ISERROR(MATCH(J$1,INDIRECT("Table!A"&$Z7):INDIRECT("Table!" & $AC$22 & $Z7),0)),"",INDIRECT(CONCATENATE("Table!",ADDRESS($V7,MATCH(J$1,INDIRECT("Table!A" & $Z7):INDIRECT("Table!" & $AC$22 & $Z7),0))))) -> 0 | K7: =IF(ISERROR(MATCH(K$1,INDIRECT("Table!A"&$Z7):INDIRECT("Table!" & $AC$22 & $Z7),0)),"",INDIRECT(CONCATENATE("Table!",ADDRESS($V7,MATCH(K$1,INDIRECT("Table!A" & $Z7):INDIRECT("Table!" & $AC$22 & $Z7),0))))) | L7: =IF(ISERROR(MATCH(L$1,INDIRECT("Table!A"&$Z7):INDIRECT("Table!" & $AC$44 & $Z7),0)),"",INDIRECT(CONCATENATE("Table!",ADDRESS($V7,MATCH(L$1,INDIRECT("Table!A" & $Z7):INDIRECT("Table!" & $AC$44 & $Z7),0))))) -> 1.4637769 | M7: =IF(ISERROR(MATCH(M$1,INDIRECT("Table!A"&$Z7):INDIRECT("Table!" & $AC$44 & $Z7),0)),"",INDIRECT(CONCATENATE("Table!",ADDRESS($V7,MATCH(M$1,INDIRECT("Table!A" & $Z7):INDIRECT("Table!" & $AC$44 & $Z7),0))))) -> 2.8350082 | N7: =IF(ISERROR(MATCH(N$1,INDIRECT("Table!A"&$Z7):INDIRECT("Table!" & $AC$44 & $Z7),0)),"",INDIRECT(CONCATENATE("Table!",ADDRESS($V7,MATCH(N$1,INDIRECT("Table!A" & $Z7):INDIRECT("Table!" & $AC$44 & $Z7),0))))) -> 1.6282538 | O7: =IF(ISERROR(MATCH(O$1,INDIRECT("Table!A"&$Z7):INDIRECT("Table!" & $AC$22 & $Z7),0)),"",INDIRECT(CONCATENATE("Table!",ADDRESS($V7,MATCH(O$1,INDIRECT("Table!A" & $Z7):INDIRECT("Table!" & $AC$22 & $Z7),0))))) -> 0.90688832 | P7: =IF(ISERROR(MATCH(P$1,INDIRECT("Table!A"&$Z7):INDIRECT("Table!" & $AC$22 & $Z7),0)),"",INDIRECT(CONCATENATE("Table!",ADDRESS($V7,MATCH(P$1,INDIRECT("Table!A" & $Z7):INDIRECT("Table!" & $AC$22 & $Z7),0))))) -> 0.34756864 | Q7: =IF(ISERROR(MATCH(Q$1,INDIRECT("Table!A"&$Z7):INDIRECT("Table!" & $AC$22 & $Z7),0)),"",INDIRECT(CONCATENATE("Table!",ADDRESS($V7,MATCH(Q$1,INDIRECT("Table!A" & $Z7):INDIRECT("Table!" & $AC$22 & $Z7),0))))) -> 0 | R7: =IF(ISERROR(MATCH(R$1,INDIRECT("Table!A"&$Z7):INDIRECT("Table!" & $AC$22 & $Z7),0)),"",INDIRECT(CONCATENATE("Table!",ADDRESS($V7,MATCH(R$1,INDIRECT("Table!A" & $Z7):INDIRECT("Table!" & $AC$22 & $Z7),0))))) | S7: =IF(ISERROR(MATCH(S$1,INDIRECT("Table!A"&$Z7):INDIRECT("Table!" & $AC$4 & $Z7),0)),"",INDIRECT(CONCATENATE("Table!",ADDRESS($V7,MATCH(S$1,INDIRECT("Table!A" & $Z7):INDIRECT("Table!" & $AC$4 & $Z7),0))))) -> 0.5911831 | T7: =IF(ISERROR(MATCH(T$1,INDIRECT("Table!A"&$Z7):INDIRECT("Table!" & $AC$4 & $Z7),0)),"",INDIRECT(CONCATENATE("Table!",ADDRESS($V7,MATCH(T$1,INDIRECT("Table!A" & $Z7):INDIRECT("Table!" & $AC$4 & $Z7),0))))) -> 0.5074286 | V7: =MATCH($A7,Table!$A:$A,0)+$X$2-1 -> 48 | Z7: =MATCH($A7,Table!$A:$A,0)+$AB$2-1 -> 39 | AC7: U
A8: 41423 | B8: =IF(ISERROR(MATCH(B$1,INDIRECT("Table!A"&$Z8):INDIRECT("Table!" & $AC$44 & $Z8),0)),"",INDIRECT(CONCATENATE("Table!",ADDRESS($V8,MATCH(B$1,INDIRECT("Table!A" & $Z8):INDIRECT("Table!" & $AC$44 & $Z8),0))))) -> 1.2554035 | C8: =IF(ISERROR(MATCH(C$1,INDIRECT("Table!A"&$Z8):INDIRECT("Table!" & $AC$44 & $Z8),0)),"",INDIRECT(CONCATENATE("Table!",ADDRESS($V8,MATCH(C$1,INDIRECT("Table!A" & $Z8):INDIRECT("Table!" & $AC$44 & $Z8),0))))) -> 0.60101804 | D8: =IF(ISERROR(MATCH(D$1,INDIRECT("Table!A"&$Z8):INDIRECT("Table!" & $AC$44 & $Z8),0)),"",INDIRECT(CONCATENATE("Table!",ADDRESS($V8,MATCH(D$1,INDIRECT("Table!A" & $Z8):INDIRECT("Table!" & $AC$44 & $Z8),0))))) -> 0.60796234 | E8: =IF(ISERROR(MATCH(E$1,INDIRECT("Table!A"&$Z8):INDIRECT("Table!" & $AC$44 & $Z8),0)),"",INDIRECT(CONCATENATE("Table!",ADDRESS($V8,MATCH(E$1,INDIRECT("Table!A" & $Z8):INDIRECT("Table!" & $AC$44 & $Z8),0))))) -> 1.5276579 | F8: =IF(ISERROR(MATCH(F$1,INDIRECT("Table!A"&$Z8):INDIRECT("Table!" & $AC$44 & $Z8),0)),"",INDIRECT(CONCATENATE("Table!",ADDRESS($V8,MATCH(F$1,INDIRECT("Table!A" & $Z8):INDIRECT("Table!" & $AC$44 & $Z8),0))))) -> 1.5683416 | G8: =IF(ISERROR(MATCH(G$1,INDIRECT("Table!A"&$Z8):INDIRECT("Table!" & $AC$44 & $Z8),0)),"",INDIRECT(CONCATENATE("Table!",ADDRESS($V8,MATCH(G$1,INDIRECT("Table!A" & $Z8):INDIRECT("Table!" & $AC$44 & $Z8),0))))) -> 3.4760162 | H8: =IF(ISERROR(MATCH(H$1,INDIRECT("Table!A"&$Z8):INDIRECT("Table!" & $AC$44 & $Z8),0)),"",INDIRECT(CONCATENATE("Table!",ADDRESS($V8,MATCH(H$1,INDIRECT("Table!A" & $Z8):INDIRECT("Table!" & $AC$44 & $Z8),0))))) -> 0.81468133 | I8: =IF(ISERROR(MATCH(I$1,INDIRECT("Table!A"&$Z8):INDIRECT("Table!" & $AC$22 & $Z8),0)),"",INDIRECT(CONCATENATE("Table!",ADDRESS($V8,MATCH(I$1,INDIRECT("Table!A" & $Z8):INDIRECT("Table!" & $AC$22 & $Z8),0))))) -> 0.077147291 | J8: =IF(ISERROR(MATCH(J$1,INDIRECT("Table!A"&$Z8):INDIRECT("Table!" & $AC$22 & $Z8),0)),"",INDIRECT(CONCATENATE("Table!",ADDRESS($V8,MATCH(J$1,INDIRECT("Table!A" & $Z8):INDIRECT("Table!" & $AC$22 & $Z8),0))))) -> 0 | K8: =IF(ISERROR(MATCH(K$1,INDIRECT("Table!A"&$Z8):INDIRECT("Table!" & $AC$22 & $Z8),0)),"",INDIRECT(CONCATENATE("Table!",ADDRESS($V8,MATCH(K$1,INDIRECT("Table!A" & $Z8):INDIRECT("Table!" & $AC$22 & $Z8),0))))) | L8: =IF(ISERROR(MATCH(L$1,INDIRECT("Table!A"&$Z8):INDIRECT("Table!" & $AC$44 & $Z8),0)),"",INDIRECT(CONCATENATE("Table!",ADDRESS($V8,MATCH(L$1,INDIRECT("Table!A" & $Z8):INDIRECT("Table!" & $AC$44 & $Z8),0))))) -> 1.4637769 | M8: =IF(ISERROR(MATCH(M$1,INDIRECT("Table!A"&$Z8):INDIRECT("Table!" & $AC$44 & $Z8),0)),"",INDIRECT(CONCATENATE("Table!",ADDRESS($V8,MATCH(M$1,INDIRECT("Table!A" & $Z8):INDIRECT("Table!" & $AC$44 & $Z8),0))))) -> 2.8350082 | N8: =IF(ISERROR(MATCH(N$1,INDIRECT("Table!A"&$Z8):INDIRECT("Table!" & $AC$44 & $Z8),0)),"",INDIRECT(CONCATENATE("Table!",ADDRESS($V8,MATCH(N$1,INDIRECT("Table!A" & $Z8):INDIRECT("Table!" & $AC$44 & $Z8),0))))) -> 1.6282538 | O8: =IF(ISERROR(MATCH(O$1,INDIRECT("Table!A"&$Z8):INDIRECT("Table!" & $AC$22 & $Z8),0)),"",INDIRECT(CONCATENATE("Table!",ADDRESS($V8,MATCH(O$1,INDIRECT("Table!A" & $Z8):INDIRECT("Table!" & $AC$22 & $Z8),0))))) -> 0.90688832 | P8: =IF(ISERROR(MATCH(P$1,INDIRECT("Table!A"&$Z8):INDIRECT("Table!" & $AC$22 & $Z8),0)),"",INDIRECT(CONCATENATE("Table!",ADDRESS($V8,MATCH(P$1,INDIRECT("Table!A" & $Z8):INDIRECT("Table!" & $AC$22 & $Z8),0))))) -> 0.34756864 | Q8: =IF(ISERROR(MATCH(Q$1,INDIRECT("Table!A"&$Z8):INDIRECT("Table!" & $AC$22 & $Z8),0)),"",INDIRECT(CONCATENATE("Table!",ADDRESS($V8,MATCH(Q$1,INDIRECT("Table!A" & $Z8):INDIRECT("Table!" & $AC$22 & $Z8),0))))) -> 0 | R8: =IF(ISERROR(MATCH(R$1,INDIRECT("Table!A"&$Z8):INDIRECT("Table!" & $AC$22 & $Z8),0)),"",INDIRECT(CONCATENATE("Table!",ADDRESS($V8,MATCH(R$1,INDIRECT("Table!A" & $Z8):INDIRECT("Table!" & $AC$22 & $Z8),0))))) | S8: =IF(ISERROR(MATCH(S$1,INDIRECT("Table!A"&$Z8):INDIRECT("Table!" & $AC$4 & $Z8),0)),"",INDIRECT(CONCATENATE("Table!",ADDRESS($V8,MATCH(S$1,INDIRECT("Table!A" & $Z8):INDIRECT("Table!" & $AC$4 & $Z8),0))))) -> 0.5911831 | T8: =IF(ISERROR(MATCH(T$1,INDIRECT("Table!A"&$Z8):INDIRECT("Table!" & $AC$4 & $Z8),0)),"",INDIRECT(CONCATENATE("Table!",ADDRESS($V8,MATCH(T$1,INDIRECT("Table!A" & $Z8):INDIRECT("Table!" & $AC$4 & $Z8),0))))) -> 0.5074286 | V8: =MATCH($A8,Table!$A:$A,0)+$X$2-1 -> 60 | Z8: =MATCH($A8,Table!$A:$A,0)+$AB$2-1 -> 51 | AC8: U
A9: 41422 | B9: =IF(ISERROR(MATCH(B$1,INDIRECT("Table!A"&$Z9):INDIRECT("Table!" & $AC$44 & $Z9),0)),"",INDIRECT(CONCATENATE("Table!",ADDRESS($V9,MATCH(B$1,INDIRECT("Table!A" & $Z9):INDIRECT("Table!" & $AC$44 & $Z9),0))))) -> 1.2554035 | C9: =IF(ISERROR(MATCH(C$1,INDIRECT("Table!A"&$Z9):INDIRECT("Table!" & $AC$44 & $Z9),0)),"",INDIRECT(CONCATENATE("Table!",ADDRESS($V9,MATCH(C$1,INDIRECT("Table!A" & $Z9):INDIRECT("Table!" & $AC$44 & $Z9),0))))) -> 0.60101804 | D9: =IF(ISERROR(MATCH(D$1,INDIRECT("Table!A"&$Z9):INDIRECT("Table!" & $AC$44 & $Z9),0)),"",INDIRECT(CONCATENATE("Table!",ADDRESS($V9,MATCH(D$1,INDIRECT("Table!A" & $Z9):INDIRECT("Table!" & $AC$44 & $Z9),0))))) -> 0.60796234 | E9: =IF(ISERROR(MATCH(E$1,INDIRECT("Table!A"&$Z9):INDIRECT("Table!" & $AC$44 & $Z9),0)),"",INDIRECT(CONCATENATE("Table!",ADDRESS($V9,MATCH(E$1,INDIRECT("Table!A" & $Z9):INDIRECT("Table!" & $AC$44 & $Z9),0))))) -> 1.5276579 | F9: =IF(ISERROR(MATCH(F$1,INDIRECT("Table!A"&$Z9):INDIRECT("Table!" & $AC$44 & $Z9),0)),"",INDIRECT(CONCATENATE("Table!",ADDRESS($V9,MATCH(F$1,INDIRECT("Table!A" & $Z9):INDIRECT("Table!" & $AC$44 & $Z9),0))))) -> 1.5683416 | G9: =IF(ISERROR(MATCH(G$1,INDIRECT("Table!A"&$Z9):INDIRECT("Table!" & $AC$44 & $Z9),0)),"",INDIRECT(CONCATENATE("Table!",ADDRESS($V9,MATCH(G$1,INDIRECT("Table!A" & $Z9):INDIRECT("Table!" & $AC$44 & $Z9),0))))) -> 3.4760162 | H9: =IF(ISERROR(MATCH(H$1,INDIRECT("Table!A"&$Z9):INDIRECT("Table!" & $AC$44 & $Z9),0)),"",INDIRECT(CONCATENATE("Table!",ADDRESS($V9,MATCH(H$1,INDIRECT("Table!A" & $Z9):INDIRECT("Table!" & $AC$44 & $Z9),0))))) -> 0.81468133 | I9: =IF(ISERROR(MATCH(I$1,INDIRECT("Table!A"&$Z9):INDIRECT("Table!" & $AC$22 & $Z9),0)),"",INDIRECT(CONCATENATE("Table!",ADDRESS($V9,MATCH(I$1,INDIRECT("Table!A" & $Z9):INDIRECT("Table!" & $AC$22 & $Z9),0))))) -> 0.077147291 | J9: =IF(ISERROR(MATCH(J$1,INDIRECT("Table!A"&$Z9):INDIRECT("Table!" & $AC$22 & $Z9),0)),"",INDIRECT(CONCATENATE("Table!",ADDRESS($V9,MATCH(J$1,INDIRECT("Table!A" & $Z9):INDIRECT("Table!" & $AC$22 & $Z9),0))))) -> 0 | K9: =IF(ISERROR(MATCH(K$1,INDIRECT("Table!A"&$Z9):INDIRECT("Table!" & $AC$22 & $Z9),0)),"",INDIRECT(CONCATENATE("Table!",ADDRESS($V9,MATCH(K$1,INDIRECT("Table!A" & $Z9):INDIRECT("Table!" & $AC$22 & $Z9),0))))) | L9: =IF(ISERROR(MATCH(L$1,INDIRECT("Table!A"&$Z9):INDIRECT("Table!" & $AC$44 & $Z9),0)),"",INDIRECT(CONCATENATE("Table!",ADDRESS($V9,MATCH(L$1,INDIRECT("Table!A" & $Z9):INDIRECT("Table!" & $AC$44 & $Z9),0))))) -> 1.4637769 | M9: =IF(ISERROR(MATCH(M$1,INDIRECT("Table!A"&$Z9):INDIRECT("Table!" & $AC$44 & $Z9),0)),"",INDIRECT(CONCATENATE("Table!",ADDRESS($V9,MATCH(M$1,INDIRECT("Table!A" & $Z9):INDIRECT("Table!" & $AC$44 & $Z9),0))))) -> 2.8350082 | N9: =IF(ISERROR(MATCH(N$1,INDIRECT("Table!A"&$Z9):INDIRECT("Table!" & $AC$44 & $Z9),0)),"",INDIRECT(CONCATENATE("Table!",ADDRESS($V9,MATCH(N$1,INDIRECT("Table!A" & $Z9):INDIRECT("Table!" & $AC$44 & $Z9),0))))) -> 1.6282538 | O9: =IF(ISERROR(MATCH(O$1,INDIRECT("Table!A"&$Z9):INDIRECT("Table!" & $AC$22 & $Z9),0)),"",INDIRECT(CONCATENATE("Table!",ADDRESS($V9,MATCH(O$1,INDIRECT("Table!A" & $Z9):INDIRECT("Table!" & $AC$22 & $Z9),0))))) -> 0.90688832 | P9: =IF(ISERROR(MATCH(P$1,INDIRECT("Table!A"&$Z9):INDIRECT("Table!" & $AC$22 & $Z9),0)),"",INDIRECT(CONCATENATE("Table!",ADDRESS($V9,MATCH(P$1,INDIRECT("Table!A" & $Z9):INDIRECT("Table!" & $AC$22 & $Z9),0))))) -> 0.34756864 | Q9: =IF(ISERROR(MATCH(Q$1,INDIRECT("Table!A"&$Z9):INDIRECT("Table!" & $AC$22 & $Z9),0)),"",INDIRECT(CONCATENATE("Table!",ADDRESS($V9,MATCH(Q$1,INDIRECT("Table!A" & $Z9):INDIRECT("Table!" & $AC$22 & $Z9),0))))) -> 0 | R9: =IF(ISERROR(MATCH(R$1,INDIRECT("Table!A"&$Z9):INDIRECT("Table!" & $AC$22 & $Z9),0)),"",INDIRECT(CONCATENATE("Table!",ADDRESS($V9,MATCH(R$1,INDIRECT("Table!A" & $Z9):INDIRECT("Table!" & $AC$22 & $Z9),0))))) | S9: =IF(ISERROR(MATCH(S$1,INDIRECT("Table!A"&$Z9):INDIRECT("Table!" & $AC$4 & $Z9),0)),"",INDIRECT(CONCATENATE("Table!",ADDRESS($V9,MATCH(S$1,INDIRECT("Table!A" & $Z9):INDIRECT("Table!" & $AC$4 & $Z9),0))))) -> 0.5911831 | T9: =IF(ISERROR(MATCH(T$1,INDIRECT("Table!A"&$Z9):INDIRECT("Table!" & $AC$4 & $Z9),0)),"",INDIRECT(CONCATENATE("Table!",ADDRESS($V9,MATCH(T$1,INDIRECT("Table!A" & $Z9):INDIRECT("Table!" & $AC$4 & $Z9),0))))) -> 0.5074286 | V9: =MATCH($A9,Table!$A:$A,0)+$X$2-1 -> 72 | Z9: =MATCH($A9,Table!$A:$A,0)+$AB$2-1 -> 63 | AC9: U
A10: 41414 | B10: =IF(ISERROR(MATCH(B$1,INDIRECT("Table!A"&$Z10):INDIRECT("Table!" & $AC$44 & $Z10),0)),"",INDIRECT(CONCATENATE("Table!",ADDRESS($V10,MATCH(B$1,INDIRECT("Table!A" & $Z10):INDIRECT("Table!" & $AC$44 & $Z10),0))))) -> 1.2549332 | C10: =IF(ISERROR(MATCH(C$1,INDIRECT("Table!A"&$Z10):INDIRECT("Table!" & $AC$44 & $Z10),0)),"",INDIRECT(CONCATENATE("Table!",ADDRESS($V10,MATCH(C$1,INDIRECT("Table!A" & $Z10):INDIRECT("Table!" & $AC$44 & $Z10),0))))) -> 0.59429775 | D10: =IF(ISERROR(MATCH(D$1,INDIRECT("Table!A"&$Z10):INDIRECT("Table!" & $AC$44 & $Z10),0)),"",INDIRECT(CONCATENATE("Table!",ADDRESS($V10,MATCH(D$1,INDIRECT("Table!A" & $Z10):INDIRECT("Table!" & $AC$44 & $Z10),0))))) -> 0.60124205 | E10: =IF(ISERROR(MATCH(E$1,INDIRECT("Table!A"&$Z10):INDIRECT("Table!" & $AC$44 & $Z10),0)),"",INDIRECT(CONCATENATE("Table!",ADDRESS($V10,MATCH(E$1,INDIRECT("Table!A" & $Z10):INDIRECT("Table!" & $AC$44 & $Z10),0))))) -> 1.5276579 | F10: =IF(ISERROR(MATCH(F$1,INDIRECT("Table!A"&$Z10):INDIRECT("Table!" & $AC$44 & $Z10),0)),"",INDIRECT(CONCATENATE("Table!",ADDRESS($V10,MATCH(F$1,INDIRECT("Table!A" & $Z10):INDIRECT("Table!" & $AC$44 & $Z10),0))))) -> 1.5589674 | G10: =IF(ISERROR(MATCH(G$1,INDIRECT("Table!A"&$Z10):INDIRECT("Table!" & $AC$44 & $Z10),0)),"",INDIRECT(CONCATENATE("Table!",ADDRESS($V10,MATCH(G$1,INDIRECT("Table!A" & $Z10):INDIRECT("Table!" & $AC$44 & $Z10),0))))) -> 3.4760162 | H10: =IF(ISERROR(MATCH(H$1,INDIRECT("Table!A"&$Z10):INDIRECT("Table!" & $AC$44 & $Z10),0)),"",INDIRECT(CONCATENATE("Table!",ADDRESS($V10,MATCH(H$1,INDIRECT("Table!A" & $Z10):INDIRECT("Table!" & $AC$44 & $Z10),0))))) -> 0.81468133 | I10: =IF(ISERROR(MATCH(I$1,INDIRECT("Table!A"&$Z10):INDIRECT("Table!" & $AC$22 & $Z10),0)),"",INDIRECT(CONCATENATE("Table!",ADDRESS($V10,MATCH(I$1,INDIRECT("Table!A" & $Z10):INDIRECT("Table!" & $AC$22 & $Z10),0))))) -> 0.077147291 | J10: =IF(ISERROR(MATCH(J$1,INDIRECT("Table!A"&$Z10):INDIRECT("Table!" & $AC$22 & $Z10),0)),"",INDIRECT(CONCATENATE("Table!",ADDRESS($V10,MATCH(J$1,INDIRECT("Table!A" & $Z10):INDIRECT("Table!" & $AC$22 & $Z10),0))))) | K10: =IF(ISERROR(MATCH(K$1,INDIRECT("Table!A"&$Z10):INDIRECT("Table!" & $AC$22 & $Z10),0)),"",INDIRECT(CONCATENATE("Table!",ADDRESS($V10,MATCH(K$1,INDIRECT("Table!A" & $Z10):INDIRECT("Table!" & $AC$22 & $Z10),0))))) | L10: =IF(ISERROR(MATCH(L$1,INDIRECT("Table!A"&$Z10):INDIRECT("Table!" & $AC$44 & $Z10),0)),"",INDIRECT(CONCATENATE("Table!",ADDRESS($V10,MATCH(L$1,INDIRECT("Table!A" & $Z10):INDIRECT("Table!" & $AC$44 & $Z10),0))))) -> 1.4637769 | M10: =IF(ISERROR(MATCH(M$1,INDIRECT("Table!A"&$Z10):INDIRECT("Table!" & $AC$44 & $Z10),0)),"",INDIRECT(CONCATENATE("Table!",ADDRESS($V10,MATCH(M$1,INDIRECT("Table!A" & $Z10):INDIRECT("Table!" & $AC$44 & $Z10),0))))) -> 2.8189321 | N10: =IF(ISERROR(MATCH(N$1,INDIRECT("Table!A"&$Z10):INDIRECT("Table!" & $AC$44 & $Z10),0)),"",INDIRECT(CONCATENATE("Table!",ADDRESS($V10,MATCH(N$1,INDIRECT("Table!A" & $Z10):INDIRECT("Table!" & $AC$44 & $Z10),0))))) -> 1.6188797 | O10: =IF(ISERROR(MATCH(O$1,INDIRECT("Table!A"&$Z10):INDIRECT("Table!" & $AC$22 & $Z10),0)),"",INDIRECT(CONCATENATE("Table!",ADDRESS($V10,MATCH(O$1,INDIRECT("Table!A" & $Z10):INDIRECT("Table!" & $AC$22 & $Z10),0))))) -> 0.90688832 | P10: =IF(ISERROR(MATCH(P$1,INDIRECT("Table!A"&$Z10):INDIRECT("Table!" & $AC$22 & $Z10),0)),"",INDIRECT(CONCATENATE("Table!",ADDRESS($V10,MATCH(P$1,INDIRECT("Table!A" & $Z10):INDIRECT("Table!" & $AC$22 & $Z10),0))))) -> 0.3471626 | Q10: =IF(ISERROR(MATCH(Q$1,INDIRECT("Table!A"&$Z10):INDIRECT("Table!" & $AC$22 & $Z10),0)),"",INDIRECT(CONCATENATE("Table!",ADDRESS($V10,MATCH(Q$1,INDIRECT("Table!A" & $Z10):INDIRECT("Table!" & $AC$22 & $Z10),0))))) | R10: =IF(ISERROR(MATCH(R$1,INDIRECT("Table!A"&$Z10):INDIRECT("Table!" & $AC$22 & $Z10),0)),"",INDIRECT(CONCATENATE("Table!",ADDRESS($V10,MATCH(R$1,INDIRECT("Table!A" & $Z10):INDIRECT("Table!" & $AC$22 & $Z10),0))))) | S10: =IF(ISERROR(MATCH(S$1,INDIRECT("Table!A"&$Z10):INDIRECT("Table!" & $AC$22 & $Z10),0)),"",INDIRECT(CONCATENATE("Table!",ADDRESS($V10,MATCH(S$1,INDIRECT("Table!A" & $Z10):INDIRECT("Table!" & $AC$22 & $Z10),0))))) -> 0.5911831 | T10: =IF(ISERROR(MATCH(T$1,INDIRECT("Table!A"&$Z10):INDIRECT("Table!" & $AC$22 & $Z10),0)),"",INDIRECT(CONCATENATE("Table!",ADDRESS($V10,MATCH(T$1,INDIRECT("Table!A" & $Z10):INDIRECT("Table!" & $AC$22 & $Z10),0))))) -> 0.5074286 | V10: =MATCH($A10,Table!$A:$A,0)+$X$2-1 -> 84 | Z10: =MATCH($A10,Table!$A:$A,0)+$AB$2-1 -> 75 | AC10: U
