Workbook

Sheet Table
A1: 41443 | C1: =C5+C8+C11 -> 89088.7 | H1: =H5+H8+H11 -> 164612.4 | L1: =N5+N8+N11 -> 160411.8
A2: Site | C2: CGC | D2: CGC | E2: RDC | F2: RDC | G2: RDC | H2: RDC | I2: RDC | J2: RDC | K2: RDC | L2: RDC | M2: FDC | N2: FDC | O2: FDC | P2: FDC | Q2: FDC | R2: FDC | S2: FDC | T2: ZDC | U2: ZDC
A3: VMAX | C3: 0623 | D3: 0745 | E3: 0552 | F3: 0678 | G3: 3286 | H3: 3073 | I3: 2230 | J3: 3696 | K3: 4330 | L3: 0347 | M3: 0879 | N3: 3004 | O3: 2804 | P3: 2231 | Q3: 3875 | R3: 4652 | S3: 0349 | T3: 2262 | U3: 0377
A4: FC Pool Devices | B4: Total GB | C4: 143392.2 | D4: 150515.8 | E4: 150515.8 | F4: 181997.8 | G4: 165452.5 | H4: 132132 | I4: 170968.6 | J4: 166077.9 | K4: 95044.2 | L4: 83196.1 | M4: 193027 | N4: 132132.2 | O4: 82726.3 | P4: 275755 | Q4: 83039 | R4: 188981.6 | S4: 83196.1 | T4: 55151 | U4: 33090.5
B5: Used GB | C5: 41815.6 | D5: 78195.6 | E5: 79699.6 | F5: 159448.1 | G5: 100240 | H5: 52145.5 | I5: 85757.7 | J5: 14302.9 | K5: 2.7 | L5: 4.7 | M5: 159820 | N5: 60861.2 | O5: 51501.3 | P5: 156601.8 | Q5: 7253.4 | R5: 5.4 | S5: 4.7 | T5: 7383.1 | U5: 4454.3
B6: % full | C6: =C5/C4 -> 0.29161698 | D6: =D5/D4 -> 0.51951755 | E6: =E5/E4 -> 0.52950986 | F6: =F5/F4 -> 0.87609905 | G6: =G5/G4 -> 0.60585364 | H6: =H5/H4 -> 0.39464702 | I6: =I5/I4 -> 0.50159912 | J6: =J5/J4 -> 0.086121633 | ... U6: =U5/U4 -> 0.13460963
A7: EFD Pool Devices | B7: Total GB | C7: 9191.8 | D7: n/a | E7: n/a | F7: n/a | G7: n/a | H7: 13787.7 | I7: n/a | J7: n/a | K7: n/a | L7: 8804.8 | M7: n/a | N7: 13787.7 | O7: n/a | P7: n/a | Q7: n/a | R7: n/a | S7: 8804.8 | T7: n/a | U7: n/a
B8: Used GB | C8: 8299.9 | D8: n/a | E8: n/a | F8: n/a | G8: n/a | H8: 13646.7 | I8: n/a | J8: n/a | K8: n/a | L8: 0 | M8: n/a | N8: 13649.1 | O8: n/a | P8: n/a | Q8: n/a | R8: n/a | S8: 0 | T8: n/a | U8: n/a
B9: % full | C9: =C8/C7 -> 0.90296786 | D9: n/a | E9: n/a | F9: n/a | G9: n/a | H9: =H8/H7 -> 0.98977349 | I9: n/a | J9: n/a | K9: n/a | L9: =L8/L7 -> 0 | M9: n/a | N9: =N8/N7 -> 0.98994756 | O9: n/a | P9: n/a | Q9: n/a | R9: n/a | S9: =S8/S7 -> 0 | T9: n/a | U9: n/a
A10: SATA Pool Devices | B10: Total GB | C10: 97433.6 | D10: n/a | E10: n/a | F10: n/a | G10: n/a | H10: 243584.4 | I10: n/a | J10: n/a | K10: n/a | L10: 132070.3 | M10: n/a | N10: 292299.3 | O10: n/a | P10: n/a | Q10: n/a | R10: n/a | S10: 132070.4 | T10: n/a | U10: n/a
B11: Used GB | C11: 38973.2 | D11: n/a | E11: n/a | F11: n/a | G11: n/a | H11: 98820.2 | I11: n/a | J11: n/a | K11: n/a | L11: 0.1 | M11: n/a | N11: 85901.5 | O11: n/a | P11: n/a | Q11: n/a | R11: n/a | S11: 0 | T11: n/a | U11: n/a
B12: % full | C12: =C11/C10 -> 0.39999754 | D12: n/a | E12: n/a | F12: n/a | G12: n/a | H12: =H11/H10 -> 0.40569183 | I12: n/a | J12: n/a | K12: n/a | L12: =L11/L10 -> 7.5717251e-07 | M12: n/a | N12: =N11/N10 -> 0.29388199 | O12: n/a | P12: n/a | Q12: n/a | R12: n/a | S12: =S11/S10 -> 0 | T12: n/a | U12: n/a
A13: Thin Devices | B13: # Devices | C13: 5870 | D13: 3333 | E13: 3330 | F13: 9457 | G13: 8428 | H13: 15703 | I13: 7403 | J13: 9599 | K13: 3593 | L13: 6399 | M13: 9289 | N13: 12295 | O13: 4354 | P13: 10027 | Q13: 4799 | R13: 7192 | S13: 6399 | T13: 2000 | U13: 1250
B14: Virtual Capacity GB | C14: =C13*33.717 -> 197918.79 | D14: =D13*33.717 -> 112378.76 | E14: =E13*33.717 -> 112277.61 | F14: =F13*33.717 -> 318861.67 | G14: =G13*33.717 -> 284166.88 | H14: =H13*33.717 -> 529458.05 | I14: =I13*33.717 -> 249606.95 | J14: =J13*33.717 -> 323649.48 | ... U14: =U13*33.717 -> 42146.25
B15: # Allocated | C15: =SUM(C13-531) -> 5339 | D15: =SUM(D13-650) -> 2683 | E15: =SUM(E13-616) -> 2714 | F15: =SUM(F13-1211) -> 8246 | G15: =SUM(G13-4559) -> 3869 | H15: =SUM(H13-2079) -> 13624 | I15: =SUM(I13-(3249-2000)) -> 6154 | J15: =SUM(J13-9172) -> 427 | K15: =SUM(K13-3504) -> 89 | L15: =SUM(L13-6312) -> 87 | M15: =SUM(M13-909) -> 8380 | N15: =SUM(N13-1185) -> 11110 | O15: =SUM(O13-338) -> 4016 | P15: =SUM(P13-(5201-2614)) -> 7440 | Q15: =SUM(Q13-3930) -> 869 | R15: =SUM(R13-7032) -> 160 | S15: =SUM(S13-6199) -> 200 | T15: =SUM(T13-1033) -> 967 | U15: =SUM(U13-752) -> 498 | X15: 3073 remaining
B16: GB Allocated | C16: =(C15*33.7167) -> 180013.46 | D16: =(D15*33.7167) -> 90461.906 | E16: =(E15*33.7167) -> 91507.124 | F16: =(F15*33.7167) -> 278027.91 | G16: =(G15*33.7167) -> 130449.91 | H16: =(H15*33.7167) -> 459356.32 | I16: =(I15*33.7167) -> 207492.57 | J16: =(J15*33.7167) -> 14397.031 | K16: =K15*33.717 -> 3000.813 | L16: =L15*33.717 -> 2933.379 | M16: =(M15*33.7167) -> 282545.95 | N16: =(N15*33.7167) -> 374592.54 | O16: =(O15*33.7167) -> 135406.27 | P16: =(P15*33.7167) -> 250852.25 | Q16: =(Q15*33.7167) -> 29299.812 | R16: =(R15*33.7167) -> 5394.672 | S16: =(S15*33.7167) -> 6743.34 | T16: =(T15*33.7167) -> 32604.049 | U16: =(U15*33.7167) -> 16790.917 | X16: =344240-H15 -> 330616 | Y16: GB
B17: "Virtual Capacity GB" Subscription | C17: =C14/(C4+C7+C10) -> 0.79161943 | D17: =D14/D4 -> 0.74662435 | E17: =E14/E4 -> 0.74595232 | F17: =F14/F4 -> 1.7520084 | G17: =G14/G4 -> 1.7175133 | H17: =H14/(H4+H7+H10) -> 1.3593132 | I17: =I14/I4 -> 1.4599579 | J17: =J14/J4 -> 1.9487812 | K17: =K14/K4 -> 1.2746194 | L17: =L14/(L4+L7+L10) -> 0.96288627 | M17: =M14/M4 -> 1.6225565 | N17: =N14/(N4+N7+N10) -> 0.94598894 | O17: =O14/O4 -> 1.7745725 | P17: =P14/P4 -> 1.2260171 | Q17: =Q14/Q4 -> 1.948577 | R17: =R14/R4 -> 1.2831549 | S17: =S14/S4 -> 2.5933317 | T17: =T14/T4 -> 1.2227158 | U17: =U14/U4 -> 1.2736662
B18: "GB Allocated" subscription | C18: =C16/(C4+C7+C10) -> 0.72000316 | D18: =D16/D4 -> 0.60101269 | E18: =E16/E4 -> 0.60795693 | F18: =F16/F4 -> 1.5276443 | G18: =G16/G4 -> 0.78844328 | H18: =H16/(H4+H7+H10) -> 1.1793363 | I18: =I16/I4 -> 1.2136297 | J18: =J16/J4 -> 0.086688421 | K18: =K16/K4 -> 0.031572816 | L18: =L16/L4 -> 0.035258612 | M18: =M16/M4 -> 1.4637639 | N18: =N16/(N4+N7+N10) -> 0.85480631 | O18: =O16/O4 -> 1.6367983 | P18: =P16/P4 -> 0.90969247 | Q18: =Q16/Q4 -> 0.35284399 | R18: =R16/R4 -> 0.028546017 | S18: =S16/S4 -> 0.081053559 | T18: =T16/T4 -> 0.59117784 | U18: =U16/U4 -> 0.50742408
A19: 41430 | C19: =C23+C26+C29 -> 89088.7 | H19: =H23+H26+H29 -> 164612.4 | L19: =M23+M26+M29 -> 160411.8
A20: Site | C20: CGC | D20: CGC | E20: RDC | F20: RDC | G20: RDC | H20: RDC | I20: RDC | J20: RDC | K20: RDC | L20: FDC | M20: FDC | N20: FDC | O20: FDC | P20: FDC | Q20: FDC | R20: ZDC | S20: ZDC
A21: VMAX | C21: 0623 | D21: 0745 | E21: 0552 | F21: 0678 | G21: 3286 | H21: 3073 | I21: 2230 | J21: 3696 | K21: 4330 | L21: 0879 | M21: 3004 | N21: 2804 | O21: 2231 | P21: 3875 | Q21: 4652 | R21: 2262 | S21: 0377
A22: FC Pool Devices | B22: Total GB | C22: 143392.2 | D22: 150515.8 | E22: 150515.8 | F22: 181997.8 | G22: 165452.5 | H22: 132132 | I22: 170968.6 | J22: 166077.9 | K22: 95044.2 | L22: 193027 | M22: 132132.2 | N22: 82726.3 | O22: 275755 | P22: 83039 | Q22: 188981.6 | R22: 55151 | S22: 33090.5
B23: Used GB | C23: 41815.6 | D23: 78195.6 | E23: 79699.6 | F23: 159448.1 | G23: 100240 | H23: 52145.5 | I23: 85757.7 | J23: 14302.9 | K23: 2.7 | L23: 159820 | M23: 60861.2 | N23: 51501.3 | O23: 156601.8 | P23: 7253.4 | Q23: 5.4 | R23: 7383.1 | S23: 4454.3
B24: % full | C24: =C23/C22 -> 0.29161698 | D24: =D23/D22 -> 0.51951755 | E24: =E23/E22 -> 0.52950986 | F24: =F23/F22 -> 0.87609905 | G24: =G23/G22 -> 0.60585364 | H24: =H23/H22 -> 0.39464702 | I24: =I23/I22 -> 0.50159912 | J24: =J23/J22 -> 0.086121633 | ... S24: =S23/S22 -> 0.13460963
A25: EFD Pool Devices | B25: Total GB | C25: 9191.8 | D25: n/a | E25: n/a | F25: n/a | G25: n/a | H25: 13787.7 | I25: n/a | J25: n/a | K25: n/a | L25: n/a | M25: 13787.7 | N25: n/a | O25: n/a | P25: n/a | Q25: n/a | R25: n/a | S25: n/a
B26: Used GB | C26: 8299.9 | D26: n/a | E26: n/a | F26: n/a | G26: n/a | H26: 13646.7 | I26: n/a | J26: n/a | K26: n/a | L26: n/a | M26: 13649.1 | N26: n/a | O26: n/a | P26: n/a | Q26: n/a | R26: n/a | S26: n/a
B27: % full | C27: =C26/C25 -> 0.90296786 | D27: n/a | E27: n/a | F27: n/a | G27: n/a | H27: =H26/H25 -> 0.98977349 | I27: n/a | J27: n/a | K27: n/a | L27: n/a | M27: =M26/M25 -> 0.98994756 | N27: n/a | O27: n/a | P27: n/a | Q27: n/a | R27: n/a | S27: n/a
A28: SATA Pool Devices | B28: Total GB | C28: 97433.6 | D28: n/a | E28: n/a | F28: n/a | G28: n/a | H28: 243584.4 | I28: n/a | J28: n/a | K28: n/a | L28: n/a | M28: 292299.3 | N28: n/a | O28: n/a | P28: n/a | Q28: n/a | R28: n/a | S28: n/a
B29: Used GB | C29: 38973.2 | D29: n/a | E29: n/a | F29: n/a | G29: n/a | H29: 98820.2 | I29: n/a | J29: n/a | K29: n/a | L29: n/a | M29: 85901.5 | N29: n/a | O29: n/a | P29: n/a | Q29: n/a | R29: n/a | S29: n/a
B30: % full | C30: =C29/C28 -> 0.39999754 | D30: n/a | E30: n/a | F30: n/a | G30: n/a | H30: =H29/H28 -> 0.40569183 | I30: n/a | J30: n/a | K30: n/a | L30: n/a | M30: =M29/M28 -> 0.29388199 | N30: n/a | O30: n/a | P30: n/a | Q30: n/a | R30: n/a | S30: n/a
A31: Thin Devices | B31: # Devices | C31: 5870 | D31: 3333 | E31: 3330 | F31: 9457 | G31: 8428 | H31: 15703 | I31: 7403 | J31: 9599 | K31: 3593 | L31: 9289 | M31: 12295 | N31: 4354 | O31: 10027 | P31: 4799 | Q31: 7192 | R31: 2000 | S31: 1250
B32: Virtual Capacity GB | C32: =C31*33.717 -> 197918.79 | D32: =D31*33.717 -> 112378.76 | E32: =E31*33.717 -> 112277.61 | F32: =F31*33.717 -> 318861.67 | G32: =G31*33.717 -> 284166.88 | H32: =H31*33.717 -> 529458.05 | I32: =I31*33.717 -> 249606.95 | J32: =J31*33.717 -> 323649.48 | ... P32: =P31*33.717 -> 161807.88 | Q32: 242492.66 | R32: =R31*33.717 -> 67434 | S32: =S31*33.717 -> 42146.25
B33: # Allocated | C33: =SUM(C31-531) -> 5339 | D33: =SUM(D31-650) -> 2683 | E33: =SUM(E31-616) -> 2714 | F33: =SUM(F31-1211) -> 8246 | G33: =SUM(G31-4559) -> 3869 | H33: =SUM(H31-2079) -> 13624 | I33: =SUM(I31-(3249-2000)) -> 6154 | J33: =SUM(J31-9172) -> 427 | K33: =SUM(K31-3504) -> 89 | L33: =SUM(L31-909) -> 8380 | M33: =SUM(M31-1185) -> 11110 | N33: =SUM(N31-338) -> 4016 | O33: =SUM(O31-(5201-2614)) -> 7440 | P33: =SUM(P31-3930) -> 869 | Q33: =SUM(Q31-7032) -> 160 | R33: =SUM(R31-1033) -> 967 | S33: =SUM(S31-752) -> 498 | V33: 3073 remaining
B34: GB Allocated | C34: =(C33*33.7167) -> 180013.46 | D34: =(D33*33.7167) -> 90461.906 | E34: =(E33*33.7167) -> 91507.124 | F34: =(F33*33.7167) -> 278027.91 | G34: =(G33*33.7167) -> 130449.91 | H34: =(H33*33.7167) -> 459356.32 | I34: =(I33*33.7167) -> 207492.57 | J34: =(J33*33.7167) -> 14397.031 | K34: =K33*33.717 -> 3000.813 | L34: =(L33*33.7167) -> 282545.95 | M34: =(M33*33.7167) -> 374592.54 | N34: =(N33*33.7167) -> 135406.27 | O34: =(O33*33.7167) -> 250852.25 | P34: =(P33*33.7167) -> 29299.812 | Q34: =(Q33*33.7167) -> 5394.672 | R34: =(R33*33.7167) -> 32604.049 | S34: =(S33*33.7167) -> 16790.917 | V34: =344240-H33 -> 330616 | W34: GB
B35: "Virtual Capacity GB" Subscription | C35: =C32/(C22+C25+C28) -> 0.79161943 | D35: =D32/D22 -> 0.74662435 | E35: =E32/E22 -> 0.74595232 | F35: =F32/F22 -> 1.7520084 | G35: =G32/G22 -> 1.7175133 | H35: =H32/(H22+H25+H28) -> 1.3593132 | I35: =I32/I22 -> 1.4599579 | J35: =J32/J22 -> 1.9487812 | K35: =K32/K22 -> 1.2746194 | L35: =L32/L22 -> 1.6225565 | M35: =M32/(M22+M25+M28) -> 0.94598894 | N35: =N32/N22 -> 1.7745725 | O35: =O32/O22 -> 1.2260171 | P35: =P32/P22 -> 1.948577 | Q35: =Q32/Q22 -> 1.2831549 | R35: =R32/R22 -> 1.2227158 | S35: =S32/S22 -> 1.2736662
B36: "GB Allocated" subscription | C36: =C34/(C22+C25+C28) -> 0.72000316 | D36: =D34/D22 -> 0.60101269 | E36: =E34/E22 -> 0.60795693 | F36: =F34/F22 -> 1.5276443 | G36: =G34/G22 -> 0.78844328 | H36: =H34/(H22+H25+H28) -> 1.1793363 | I36: =I34/I22 -> 1.2136297 | J36: =J34/J22 -> 0.086688421 | K36: =K34/K22 -> 0.031572816 | L36: =L34/L22 -> 1.4637639 | M36: =M34/(M22+M25+M28) -> 0.85480631 | N36: =N34/N22 -> 1.6367983 | O36: =O34/O22 -> 0.90969247 | P36: =P34/P22 -> 0.35284399 | Q36: =Q34/Q22 -> 0.028546017 | R36: =R34/R22 -> 0.59117784 | S36: =S34/S22 -> 0.50742408
A37: 41414 | C37: =C41+C44+C47 -> 87823.3 | H37: =H41+H44+H47 -> 160378.9 | L37: =L41+L44+L47 -> 156639.9
A38: Site | C38: CGC | D38: CGC | E38: RDC | F38: RDC | G38: RDC | H38: RDC | I38: RDC | J38: RDC | K38: FDC | L38: FDC | M38: FDC | N38: FDC | O38: FDC | P38: ZDC | Q38: ZDC
A39: VMAX | C39: 0623 | D39: 0745 | E39: 0552 | F39: 0678 | G39: 3286 | H39: 3073 | I39: 2230 | J39: 3696 | K39: 0879 | L39: 3004 | M39: 2804 | N39: 2231 | O39: 3875 | P39: 2262 | Q39: 0377
A40: FC Pool Devices | B40: Total GB | C40: 143392.2 | D40: 150515.8 | E40: 150515.8 | F40: 181997.8 | G40: 165452.5 | H40: 132132 | I40: 170968.6 | J40: 166077.9 | K40: 193027 | L40: 132132.2 | M40: 82726.3 | N40: 275755 | O40: 83039 | P40: 55151 | Q40: 33090.5
...

Sheet used space Charts
B1: 0623 | C1: 0745 | D1: 0552 | E1: 0678 | F1: 3286 | G1: 3073 | H1: 2230 | I1: 3696 | J1: 4330 | K1: 0347 | L1: 0879 | M1: 3004 | N1: 2804 | O1: 2231 | P1: 2262
B2: CGC T4 V-MAX 0623 | C2: CGC T3 V-MAX 0745 | D2: RDC T3 V-MAX 0552 | E2: RDC T4 V-MAX 0678 | F2: RDC T3 V-MAX 3286 | G2: RDC T4 V-MAX 3073 | H2: RDC T3 V-MAX 2230 | I2: RDC T3 V-MAX 3696 | J2: RDC T3 V-MAX 4330 | K2: RDC T4 V-MAX 0347 | L2: FDC T4 V-MAX 0879 | M2: FDC T4 V-MAX 3004 | N2: FDC T4 V-MAX 2804 | O2: FDC T3 V-MAX 2231 | P2: EDC T3 V-MAX 2262 | T2: Row | U2: % full | V2: =MATCH(U2,Table!$B:$B,0) -> 6 | X2: Row | Y2: VMAX | Z2: =MATCH(Y2,Table!$A:$A,0) -> 3 | AA2: Max Column
A3: 41443 | B3: =IF(ISERROR(MATCH(B$1,INDIRECT("Table!A"&$X3):INDIRECT("Table!" & $AA$171 & $X3),0)),"",INDIRECT(CONCATENATE("Table!",ADDRESS($T3,MATCH(B$1,INDIRECT("Table!A" & $X3):INDIRECT("Table!" & $AA$171 & $X3),0))))) -> 0.29161698 | C3: =IF(ISERROR(MATCH(C$1,INDIRECT("Table!A"&$X3):INDIRECT("Table!" & $AA$171 & $X3),0)),"",INDIRECT(CONCATENATE("Table!",ADDRESS($T3,MATCH(C$1,INDIRECT("Table!A" & $X3):INDIRECT("Table!" & $AA$171 & $X3),0))))) -> 0.51951755 | D3: =IF(ISERROR(MATCH(D$1,INDIRECT("Table!A"&$X3):INDIRECT("Table!" & $AA$171 & $X3),0)),"",INDIRECT(CONCATENATE("Table!",ADDRESS($T3,MATCH(D$1,INDIRECT("Table!A" & $X3):INDIRECT("Table!" & $AA$171 & $X3),0))))) -> 0.52950986 | E3: =IF(ISERROR(MATCH(E$1,INDIRECT("Table!A"&$X3):INDIRECT("Table!" & $AA$171 & $X3),0)),"",INDIRECT(CONCATENATE("Table!",ADDRESS($T3,MATCH(E$1,INDIRECT("Table!A" & $X3):INDIRECT("Table!" & $AA$171 & $X3),0))))) -> 0.87609905 | F3: =IF(ISERROR(MATCH(F$1,INDIRECT("Table!A"&$X3):INDIRECT("Table!" & $AA$171 & $X3),0)),"",INDIRECT(CONCATENATE("Table!",ADDRESS($T3,MATCH(F$1,INDIRECT("Table!A" & $X3):INDIRECT("Table!" & $AA$171 & $X3),0))))) -> 0.60585364 | G3: =IF(ISERROR(MATCH(G$1,INDIRECT("Table!A"&$X3):INDIRECT("Table!" & $AA$171 & $X3),0)),"",INDIRECT(CONCATENATE("Table!",ADDRESS($T3,MATCH(G$1,INDIRECT("Table!A" & $X3):INDIRECT("Table!" & $AA$171 & $X3),0))))) -> 0.39464702 | H3: =IF(ISERROR(MATCH(H$1,INDIRECT("Table!A"&$X3):INDIRECT("Table!" & $AA$171 & $X3),0)),"",INDIRECT(CONCATENATE("Table!",ADDRESS($T3,MATCH(H$1,INDIRECT("Table!A" & $X3):INDIRECT("Table!" & $AA$171 & $X3),0))))) -> 0.50159912 | I3: =IF(ISERROR(MATCH(I$1,INDIRECT("Table!A"&$X3):INDIRECT("Table!" & $AA$171 & $X3),0)),"",INDIRECT(CONCATENATE("Table!",ADDRESS($T3,MATCH(I$1,INDIRECT("Table!A" & $X3):INDIRECT("Table!" & $AA$171 & $X3),0))))) -> 0.086121633 | ... P3: =IF(ISERROR(MATCH(P$1,INDIRECT("Table!A"&$X3):INDIRECT("Table!" & $AA$171 & $X3),0)),"",INDIRECT(CONCATENATE("Table!",ADDRESS($T3,MATCH(P$1,INDIRECT("Table!A" & $X3):INDIRECT("Table!" & $AA$171 & $X3),0))))) -> 0.13387065 | T3: =MATCH($A3,Table!$A:$A,0)+$V$2-1 -> 6 | X3: =MATCH($A3,Table!$A:$A,0)+$Z$2-1 -> 3 | AA3: U
A4: 41430 | B4: =IF(ISERROR(MATCH(B$1,INDIRECT("Table!A"&$X4):INDIRECT("Table!" & $AA$171 & $X4),0)),"",INDIRECT(CONCATENATE("Table!",ADDRESS($T4,MATCH(B$1,INDIRECT("Table!A" & $X4):INDIRECT("Table!" & $AA$171 & $X4),0))))) -> 0.29161698 | C4: =IF(ISERROR(MATCH(C$1,INDIRECT("Table!A"&$X4):INDIRECT("Table!" & $AA$171 & $X4),0)),"",INDIRECT(CONCATENATE("Table!",ADDRESS($T4,MATCH(C$1,INDIRECT("Table!A" & $X4):INDIRECT("Table!" & $AA$171 & $X4),0))))) -> 0.51951755 | D4: =IF(ISERROR(MATCH(D$1,INDIRECT("Table!A"&$X4):INDIRECT("Table!" & $AA$171 & $X4),0)),"",INDIRECT(CONCATENATE("Table!",ADDRESS($T4,MATCH(D$1,INDIRECT("Table!A" & $X4):INDIRECT("Table!" & $AA$171 & $X4),0))))) -> 0.52950986 | E4: =IF(ISERROR(MATCH(E$1,INDIRECT("Table!A"&$X4):INDIRECT("Table!" & $AA$171 & $X4),0)),"",INDIRECT(CONCATENATE("Table!",ADDRESS($T4,MATCH(E$1,INDIRECT("Table!A" & $X4):INDIRECT("Table!" & $AA$171 & $X4),0))))) -> 0.87609905 | F4: =IF(ISERROR(MATCH(F$1,INDIRECT("Table!A"&$X4):INDIRECT("Table!" & $AA$171 & $X4),0)),"",INDIRECT(CONCATENATE("Table!",ADDRESS($T4,MATCH(F$1,INDIRECT("Table!A" & $X4):INDIRECT("Table!" & $AA$171 & $X4),0))))) -> 0.60585364 | G4: =IF(ISERROR(MATCH(G$1,INDIRECT("Table!A"&$X4):INDIRECT("Table!" & $AA$171 & $X4),0)),"",INDIRECT(CONCATENATE("Table!",ADDRESS($T4,MATCH(G$1,INDIRECT("Table!A" & $X4):INDIRECT("Table!" & $AA$171 & $X4),0))))) -> 0.39464702 | H4: =IF(ISERROR(MATCH(H$1,INDIRECT("Table!A"&$X4):INDIRECT("Table!" & $AA$171 & $X4),0)),"",INDIRECT(CONCATENATE("Table!",ADDRESS($T4,MATCH(H$1,INDIRECT("Table!A" & $X4):INDIRECT("Table!" & $AA$171 & $X4),0))))) -> 0.50159912 | I4: =IF(ISERROR(MATCH(I$1,INDIRECT("Table!A"&$X4):INDIRECT("Table!" & $AA$171 & $X4),0)),"",INDIRECT(CONCATENATE("Table!",ADDRESS($T4,MATCH(I$1,INDIRECT("Table!A" & $X4):INDIRECT("Table!" & $AA$171 & $X4),0))))) -> 0.086121633 | ... P4: =IF(ISERROR(MATCH(P$1,INDIRECT("Table!A"&$X4):INDIRECT("Table!" & $AA$171 & $X4),0)),"",INDIRECT(CONCATENATE("Table!",ADDRESS($T4,MATCH(P$1,INDIRECT("Table!A" & $X4):INDIRECT("Table!" & $AA$171 & $X4),0))))) -> 0.13387065 | T4: =MATCH($A4,Table!$A:$A,0)+$V$2-1 -> 24 | X4: =MATCH($A4,Table!$A:$A,0)+$Z$2-1 -> 21 | AA4: U
A5: 41414 | B5: =IF(ISERROR(MATCH(B$1,INDIRECT("Table!A"&$X5):INDIRECT("Table!" & $AA$171 & $X5),0)),"",INDIRECT(CONCATENATE("Table!",ADDRESS($T5,MATCH(B$1,INDIRECT("Table!A" & $X5):INDIRECT("Table!" & $AA$171 & $X5),0))))) -> 0.28230406 | C5: =IF(ISERROR(MATCH(C$1,INDIRECT("Table!A"&$X5):INDIRECT("Table!" & $AA$171 & $X5),0)),"",INDIRECT(CONCATENATE("Table!",ADDRESS($T5,MATCH(C$1,INDIRECT("Table!A" & $X5):INDIRECT("Table!" & $AA$171 & $X5),0))))) -> 0.51951755 | D5: =IF(ISERROR(MATCH(D$1,INDIRECT("Table!A"&$X5):INDIRECT("Table!" & $AA$171 & $X5),0)),"",INDIRECT(CONCATENATE("Table!",ADDRESS($T5,MATCH(D$1,INDIRECT("Table!A" & $X5):INDIRECT("Table!" & $AA$171 & $X5),0))))) -> 0.52950986 | E5: =IF(ISERROR(MATCH(E$1,INDIRECT("Table!A"&$X5):INDIRECT("Table!" & $AA$171 & $X5),0)),"",INDIRECT(CONCATENATE("Table!",ADDRESS($T5,MATCH(E$1,INDIRECT("Table!A" & $X5):INDIRECT("Table!" & $AA$171 & $X5),0))))) -> 0.87609905 | F5: =IF(ISERROR(MATCH(F$1,INDIRECT("Table!A"&$X5):INDIRECT("Table!" & $AA$171 & $X5),0)),"",INDIRECT(CONCATENATE("Table!",ADDRESS($T5,MATCH(F$1,INDIRECT("Table!A" & $X5):INDIRECT("Table!" & $AA$171 & $X5),0))))) -> 0.60585364 | G5: =IF(ISERROR(MATCH(G$1,INDIRECT("Table!A"&$X5):INDIRECT("Table!" & $AA$171 & $X5),0)),"",INDIRECT(CONCATENATE("Table!",ADDRESS($T5,MATCH(G$1,INDIRECT("Table!A" & $X5):INDIRECT("Table!" & $AA$171 & $X5),0))))) -> 0.4229195 | H5: =IF(ISERROR(MATCH(H$1,INDIRECT("Table!A"&$X5):INDIRECT("Table!" & $AA$171 & $X5),0)),"",INDIRECT(CONCATENATE("Table!",ADDRESS($T5,MATCH(H$1,INDIRECT("Table!A" & $X5):INDIRECT("Table!" & $AA$171 & $X5),0))))) -> 0.50159912 | I5: =IF(ISERROR(MATCH(I$1,INDIRECT("Table!A"&$X5):INDIRECT("Table!" & $AA$171 & $X5),0)),"",INDIRECT(CONCATENATE("Table!",ADDRESS($T5,MATCH(I$1,INDIRECT("Table!A" & $X5):INDIRECT("Table!" & $AA$171 & $X5),0))))) -> 0.086121633 | ... P5: =IF(ISERROR(MATCH(P$1,INDIRECT("Table!A"&$X5):INDIRECT("Table!" & $AA$171 & $X5),0)),"",INDIRECT(CONCATENATE("Table!",ADDRESS($T5,MATCH(P$1,INDIRECT("Table!A" & $X5):INDIRECT("Table!" & $AA$171 & $X5),0))))) -> 0.13387065 | T5: =MATCH($A5,Table!$A:$A,0)+$V$2-1 -> 42 | X5: =MATCH($A5,Table!$A:$A,0)+$Z$2-1 -> 39 | AA5: U
A6: 41408 | B6: =IF(ISERROR(MATCH(B$1,INDIRECT("Table!A"&$X6):INDIRECT("Table!" & $AA$171 & $X6),0)),"",INDIRECT(CONCATENATE("Table!",ADDRESS($T6,MATCH(B$1,INDIRECT("Table!A" & $X6):INDIRECT("Table!" & $AA$171 & $X6),0))))) -> 0.27845796 | C6: =IF(ISERROR(MATCH(C$1,INDIRECT("Table!A"&$X6):INDIRECT("Table!" & $AA$171 & $X6),0)),"",INDIRECT(CONCATENATE("Table!",ADDRESS($T6,MATCH(C$1,INDIRECT("Table!A" & $X6):INDIRECT("Table!" & $AA$171 & $X6),0))))) -> 0.51891031 | D6: =IF(ISERROR(MATCH(D$1,INDIRECT("Table!A"&$X6):INDIRECT("Table!" & $AA$171 & $X6),0)),"",INDIRECT(CONCATENATE("Table!",ADDRESS($T6,MATCH(D$1,INDIRECT("Table!A" & $X6):INDIRECT("Table!" & $AA$171 & $X6),0))))) -> 0.52901357 | E6: =IF(ISERROR(MATCH(E$1,INDIRECT("Table!A"&$X6):INDIRECT("Table!" & $AA$171 & $X6),0)),"",INDIRECT(CONCATENATE("Table!",ADDRESS($T6,MATCH(E$1,INDIRECT("Table!A" & $X6):INDIRECT("Table!" & $AA$171 & $X6),0))))) -> 0.87468805 | F6: =IF(ISERROR(MATCH(F$1,INDIRECT("Table!A"&$X6):INDIRECT("Table!" & $AA$171 & $X6),0)),"",INDIRECT(CONCATENATE("Table!",ADDRESS($T6,MATCH(F$1,INDIRECT("Table!A" & $X6):INDIRECT("Table!" & $AA$171 & $X6),0))))) -> 0.60107161 | G6: =IF(ISERROR(MATCH(G$1,INDIRECT("Table!A"&$X6):INDIRECT("Table!" & $AA$171 & $X6),0)),"",INDIRECT(CONCATENATE("Table!",ADDRESS($T6,MATCH(G$1,INDIRECT("Table!A" & $X6):INDIRECT("Table!" & $AA$171 & $X6),0))))) -> 0.42195229 | H6: =IF(ISERROR(MATCH(H$1,INDIRECT("Table!A"&$X6):INDIRECT("Table!" & $AA$171 & $X6),0)),"",INDIRECT(CONCATENATE("Table!",ADDRESS($T6,MATCH(H$1,INDIRECT("Table!A" & $X6):INDIRECT("Table!" & $AA$171 & $X6),0))))) -> 0.49927998 | I6: =IF(ISERROR(MATCH(I$1,INDIRECT("Table!A"&$X6):INDIRECT("Table!" & $AA$171 & $X6),0)),"",INDIRECT(CONCATENATE("Table!",ADDRESS($T6,MATCH(I$1,INDIRECT("Table!A" & $X6):INDIRECT("Table!" & $AA$171 & $X6),0))))) -> 0.085373189 | ... P6: =IF(ISERROR(MATCH(P$1,INDIRECT("Table!A"&$X6):INDIRECT("Table!" & $AA$171 & $X6),0)),"",INDIRECT(CONCATENATE("Table!",ADDRESS($T6,MATCH(P$1,INDIRECT("Table!A" & $X6):INDIRECT("Table!" & $AA$171 & $X6),0))))) -> 0.12786169 | T6: =MATCH($A6,Table!$A:$A,0)+$V$2-1 -> 60 | X6: =MATCH($A6,Table!$A:$A,0)+$Z$2-1 -> 57 | AA6: U
A7: 41401 | B7: =IF(ISERROR(MATCH(B$1,INDIRECT("Table!A"&$X7):INDIRECT("Table!" & $AA$171 & $X7),0)),"",INDIRECT(CONCATENATE("Table!",ADDRESS($T7,MATCH(B$1,INDIRECT("Table!A" & $X7):INDIRECT("Table!" & $AA$171 & $X7),0))))) -> 0.27719848 | C7: =IF(ISERROR(MATCH(C$1,INDIRECT("Table!A"&$X7):INDIRECT("Table!" & $AA$171 & $X7),0)),"",INDIRECT(CONCATENATE("Table!",ADDRESS($T7,MATCH(C$1,INDIRECT("Table!A" & $X7):INDIRECT("Table!" & $AA$171 & $X7),0))))) -> 0.51861931 | D7: =IF(ISERROR(MATCH(D$1,INDIRECT("Table!A"&$X7):INDIRECT("Table!" & $AA$171 & $X7),0)),"",INDIRECT(CONCATENATE("Table!",ADDRESS($T7,MATCH(D$1,INDIRECT("Table!A" & $X7):INDIRECT("Table!" & $AA$171 & $X7),0))))) -> 0.52886674 | E7: =IF(ISERROR(MATCH(E$1,INDIRECT("Table!A"&$X7):INDIRECT("Table!" & $AA$171 & $X7),0)),"",INDIRECT(CONCATENATE("Table!",ADDRESS($T7,MATCH(E$1,INDIRECT("Table!A" & $X7):INDIRECT("Table!" & $AA$171 & $X7),0))))) -> 0.87133636 | F7: =IF(ISERROR(MATCH(F$1,INDIRECT("Table!A"&$X7):INDIRECT("Table!" & $AA$171 & $X7),0)),"",INDIRECT(CONCATENATE("Table!",ADDRESS($T7,MATCH(F$1,INDIRECT("Table!A" & $X7):INDIRECT("Table!" & $AA$171 & $X7),0))))) -> 0.59451202 | G7: =IF(ISERROR(MATCH(G$1,INDIRECT("Table!A"&$X7):INDIRECT("Table!" & $AA$171 & $X7),0)),"",INDIRECT(CONCATENATE("Table!",ADDRESS($T7,MATCH(G$1,INDIRECT("Table!A" & $X7):INDIRECT("Table!" & $AA$171 & $X7),0))))) -> 0.38604956 | H7: =IF(ISERROR(MATCH(H$1,INDIRECT("Table!A"&$X7):INDIRECT("Table!" & $AA$171 & $X7),0)),"",INDIRECT(CONCATENATE("Table!",ADDRESS($T7,MATCH(H$1,INDIRECT("Table!A" & $X7):INDIRECT("Table!" & $AA$171 & $X7),0))))) -> 0.69532884 | I7: =IF(ISERROR(MATCH(I$1,INDIRECT("Table!A"&$X7):INDIRECT("Table!" & $AA$171 & $X7),0)),"",INDIRECT(CONCATENATE("Table!",ADDRESS($T7,MATCH(I$1,INDIRECT("Table!A" & $X7):INDIRECT("Table!" & $AA$171 & $X7),0))))) -> 0.082987562 | ... P7: =IF(ISERROR(MATCH(P$1,INDIRECT("Table!A"&$X7):INDIRECT("Table!" & $AA$171 & $X7),0)),"",INDIRECT(CONCATENATE("Table!",ADDRESS($T7,MATCH(P$1,INDIRECT("Table!A" & $X7):INDIRECT("Table!" & $AA$171 & $X7),0))))) -> 0.127218 | T7: =MATCH($A7,Table!$A:$A,0)+$V$2-1 -> 78 | X7: =MATCH($A7,Table!$A:$A,0)+$Z$2-1 -> 75 | AA7: U
A8: 41393 | B8: =IF(ISERROR(MATCH(B$1,INDIRECT("Table!A"&$X8):INDIRECT("Table!" & $AA$171 & $X8),0)),"",INDIRECT(CONCATENATE("Table!",ADDRESS($T8,MATCH(B$1,INDIRECT("Table!A" & $X8):INDIRECT("Table!" & $AA$171 & $X8),0))))) -> 0.29606143 | C8: =IF(ISERROR(MATCH(C$1,INDIRECT("Table!A"&$X8):INDIRECT("Table!" & $AA$171 & $X8),0)),"",INDIRECT(CONCATENATE("Table!",ADDRESS($T8,MATCH(C$1,INDIRECT("Table!A" & $X8):INDIRECT("Table!" & $AA$171 & $X8),0))))) -> 0.51687929 | D8: =IF(ISERROR(MATCH(D$1,INDIRECT("Table!A"&$X8):INDIRECT("Table!" & $AA$171 & $X8),0)),"",INDIRECT(CONCATENATE("Table!",ADDRESS($T8,MATCH(D$1,INDIRECT("Table!A" & $X8):INDIRECT("Table!" & $AA$171 & $X8),0))))) -> 0.52730677 | E8: =IF(ISERROR(MATCH(E$1,INDIRECT("Table!A"&$X8):INDIRECT("Table!" & $AA$171 & $X8),0)),"",INDIRECT(CONCATENATE("Table!",ADDRESS($T8,MATCH(E$1,INDIRECT("Table!A" & $X8):INDIRECT("Table!" & $AA$171 & $X8),0))))) -> 0.8669896 | F8: =IF(ISERROR(MATCH(F$1,INDIRECT("Table!A"&$X8):INDIRECT("Table!" & $AA$171 & $X8),0)),"",INDIRECT(CONCATENATE("Table!",ADDRESS($T8,MATCH(F$1,INDIRECT("Table!A" & $X8):INDIRECT("Table!" & $AA$171 & $X8),0))))) -> 0.58897931 | G8: =IF(ISERROR(MATCH(G$1,INDIRECT("Table!A"&$X8):INDIRECT("Table!" & $AA$171 & $X8),0)),"",INDIRECT(CONCATENATE("Table!",ADDRESS($T8,MATCH(G$1,INDIRECT("Table!A" & $X8):INDIRECT("Table!" & $AA$171 & $X8),0))))) -> 0.38990025 | H8: =IF(ISERROR(MATCH(H$1,INDIRECT("Table!A"&$X8):INDIRECT("Table!" & $AA$171 & $X8),0)),"",INDIRECT(CONCATENATE("Table!",ADDRESS($T8,MATCH(H$1,INDIRECT("Table!A" & $X8):INDIRECT("Table!" & $AA$171 & $X8),0))))) -> 0.69278375 | I8: =IF(ISERROR(MATCH(I$1,INDIRECT("Table!A"&$X8):INDIRECT("Table!" & $AA$171 & $X8),0)),"",INDIRECT(CONCATENATE("Table!",ADDRESS($T8,MATCH(I$1,INDIRECT("Table!A" & $X8):INDIRECT("Table!" & $AA$171 & $X8),0))))) -> 0.082835826 | ... P8: =IF(ISERROR(MATCH(P$1,INDIRECT("Table!A"&$X8):INDIRECT("Table!" & $AA$171 & $X8),0)),"",INDIRECT(CONCATENATE("Table!",ADDRESS($T8,MATCH(P$1,INDIRECT("Table!A" & $X8):INDIRECT("Table!" & $AA$171 & $X8),0))))) -> 0.12686443 | T8: =MATCH($A8,Table!$A:$A,0)+$V$2-1 -> 96 | X8: =MATCH($A8,Table!$A:$A,0)+$Z$2-1 -> 93 | AA8: U
A9: 41374 | B9: =IF(ISERROR(MATCH(B$1,INDIRECT("Table!A"&$X9):INDIRECT("Table!" & $AA$171 & $X9),0)),"",INDIRECT(CONCATENATE("Table!",ADDRESS($T9,MATCH(B$1,INDIRECT("Table!A" & $X9):INDIRECT("Table!" & $AA$171 & $X9),0))))) -> 0.27254481 | C9: =IF(ISERROR(MATCH(C$1,INDIRECT("Table!A"&$X9):INDIRECT("Table!" & $AA$171 & $X9),0)),"",INDIRECT(CONCATENATE("Table!",ADDRESS($T9,MATCH(C$1,INDIRECT("Table!A" & $X9):INDIRECT("Table!" & $AA$171 & $X9),0))))) -> 0.51547811 | D9: =IF(ISERROR(MATCH(D$1,INDIRECT("Table!A"&$X9):INDIRECT("Table!" & $AA$171 & $X9),0)),"",INDIRECT(CONCATENATE("Table!",ADDRESS($T9,MATCH(D$1,INDIRECT("Table!A" & $X9):INDIRECT("Table!" & $AA$171 & $X9),0))))) -> 0.52485254 | E9: =IF(ISERROR(MATCH(E$1,INDIRECT("Table!A"&$X9):INDIRECT("Table!" & $AA$171 & $X9),0)),"",INDIRECT(CONCATENATE("Table!",ADDRESS($T9,MATCH(E$1,INDIRECT("Table!A" & $X9):INDIRECT("Table!" & $AA$171 & $X9),0))))) -> 0.86976106 | F9: =IF(ISERROR(MATCH(F$1,INDIRECT("Table!A"&$X9):INDIRECT("Table!" & $AA$171 & $X9),0)),"",INDIRECT(CONCATENATE("Table!",ADDRESS($T9,MATCH(F$1,INDIRECT("Table!A" & $X9):INDIRECT("Table!" & $AA$171 & $X9),0))))) -> 0.56729091 | G9: =IF(ISERROR(MATCH(G$1,INDIRECT("Table!A"&$X9):INDIRECT("Table!" & $AA$171 & $X9),0)),"",INDIRECT(CONCATENATE("Table!",ADDRESS($T9,MATCH(G$1,INDIRECT("Table!A" & $X9):INDIRECT("Table!" & $AA$171 & $X9),0))))) -> 0.38039233 | H9: =IF(ISERROR(MATCH(H$1,INDIRECT("Table!A"&$X9):INDIRECT("Table!" & $AA$171 & $X9),0)),"",INDIRECT(CONCATENATE("Table!",ADDRESS($T9,MATCH(H$1,INDIRECT("Table!A" & $X9):INDIRECT("Table!" & $AA$171 & $X9),0))))) -> 0.62978543 | I9: =IF(ISERROR(MATCH(I$1,INDIRECT("Table!A"&$X9):INDIRECT("Table!" & $AA$171 & $X9),0)),"",INDIRECT(CONCATENATE("Table!",ADDRESS($T9,MATCH(I$1,INDIRECT("Table!A" & $X9):INDIRECT("Table!" & $AA$171 & $X9),0))))) -> 0.078026637 | ... P9: =IF(ISERROR(MATCH(P$1,INDIRECT("Table!A"&$X9):INDIRECT("Table!" & $AA$171 & $X9),0)),"",INDIRECT(CONCATENATE("Table!",ADDRESS($T9,MATCH(P$1,INDIRECT("Table!A" & $X9):INDIRECT("Table!" & $AA$171 & $X9),0))))) -> 0.12576744 | T9: =MATCH($A9,Table!$A:$A,0)+$V$2-1 -> 114 | X9: =MATCH($A9,Table!$A:$A,0)+$Z$2-1 -> 111 | AA9: U
A10: 41361 | B10: =IF(ISERROR(MATCH(B$1,INDIRECT("Table!A"&$X10):INDIRECT("Table!" & $AA$171 & $X10),0)),"",INDIRECT(CONCATENATE("Table!",ADDRESS($T10,MATCH(B$1,INDIRECT("Table!A" & $X10):INDIRECT("Table!" & $AA$171 & $X10),0))))) -> 0.32784071 | C10: =IF(ISERROR(MATCH(C$1,INDIRECT("Table!A"&$X10):INDIRECT("Table!" & $AA$171 & $X10),0)),"",INDIRECT(CONCATENATE("Table!",ADDRESS($T10,MATCH(C$1,INDIRECT("Table!A" & $X10):INDIRECT("Table!" & $AA$171 & $X10),0))))) -> 0.51455329 | D10: =IF(ISERROR(MATCH(D$1,INDIRECT("Table!A"&$X10):INDIRECT("Table!" & $AA$171 & $X10),0)),"",INDIRECT(CONCATENATE("Table!",ADDRESS($T10,MATCH(D$1,INDIRECT("Table!A" & $X10):INDIRECT("Table!" & $AA$171 & $X10),0))))) -> 0.52393304 | E10: =IF(ISERROR(MATCH(E$1,INDIRECT("Table!A"&$X10):INDIRECT("Table!" & $AA$171 & $X10),0)),"",INDIRECT(CONCATENATE("Table!",ADDRESS($T10,MATCH(E$1,INDIRECT("Table!A" & $X10):INDIRECT("Table!" & $AA$171 & $X10),0))))) -> 0.86513738 | F10: =IF(ISERROR(MATCH(F$1,INDIRECT("Table!A"&$X10):INDIRECT("Table!" & $AA$171 & $X10),0)),"",INDIRECT(CONCATENATE("Table!",ADDRESS($T10,MATCH(F$1,INDIRECT("Table!A" & $X10):INDIRECT("Table!" & $AA$171 & $X10),0))))) -> 0.5330128 | G10: =IF(ISERROR(MATCH(G$1,INDIRECT("Table!A"&$X10):INDIRECT("Table!" & $AA$171 & $X10),0)),"",INDIRECT(CONCATENATE("Table!",ADDRESS($T10,MATCH(G$1,INDIRECT("Table!A" & $X10):INDIRECT("Table!" & $AA$171 & $X10),0))))) -> 0.37043865 | H10: =IF(ISERROR(MATCH(H$1,INDIRECT("Table!A"&$X10):INDIRECT("Table!" & $AA$171 & $X10),0)),"",INDIRECT(CONCATENATE("Table!",ADDRESS($T10,MATCH(H$1,INDIRECT("Table!A" & $X10):INDIRECT("Table!" & $AA$171 & $X10),0))))) -> 0.56124858 | I10: =IF(ISERROR(MATCH(I$1,INDIRECT("Table!A"&$X10):INDIRECT("Table!" & $AA$171 & $X10),0)),"",INDIRECT(CONCATENATE("Table!",ADDRESS($T10,MATCH(I$1,INDIRECT("Table!A" & $X10):INDIRECT("Table!" & $AA$171 & $X10),0))))) -> 0.048819861 | ... P10: =IF(ISERROR(MATCH(P$1,INDIRECT("Table!A"&$X10):INDIRECT("Table!" & $AA$171 & $X10),0)),"",INDIRECT(CONCATENATE("Table!",ADDRESS($T10,MATCH(P$1,INDIRECT("Table!A" & $X10):INDIRECT("Table!" & $AA$171 & $X10),0))))) -> 0.079864372 | T10: =MATCH($A10,Table!$A:$A,0)+$V$2-1 -> 132 | X10: =MATCH($A10,Table!$A:$A,0)+$Z$2-1 -> 129 | AA10: U
A11: 41355 | B11: =IF(ISERROR(MATCH(B$1,INDIRECT("Table!A"&$X11):INDIRECT("Table!" & $AA$171 & $X11),0)),"",INDIRECT(CONCATENATE("Table!",ADDRESS($T11,MATCH(B$1,INDIRECT("Table!A" & $X11):INDIRECT("Table!" & $AA$171 & $X11),0))))) -> 0.26990659 | C11: =IF(ISERROR(MATCH(C$1,INDIRECT("Table!A"&$X11):INDIRECT("Table!" & $AA$171 & $X11),0)),"",INDIRECT(CONCATENATE("Table!",ADDRESS($T11,MATCH(C$1,INDIRECT("Table!A" & $X11):INDIRECT("Table!" & $AA$171 & $X11),0))))) -> 0.51455329 | D11: =IF(ISERROR(MATCH(D$1,INDIRECT("Table!A"&$X11):INDIRECT("Table!" & $AA$171 & $X11),0)),"",INDIRECT(CONCATENATE("Table!",ADDRESS($T11,MATCH(D$1,INDIRECT("Table!A" & $X11):INDIRECT("Table!" & $AA$171 & $X11),0))))) -> 0.52393304 | E11: =IF(ISERROR(MATCH(E$1,INDIRECT("Table!A"&$X11):INDIRECT("Table!" & $AA$171 & $X11),0)),"",INDIRECT(CONCATENATE("Table!",ADDRESS($T11,MATCH(E$1,INDIRECT("Table!A" & $X11):INDIRECT("Table!" & $AA$171 & $X11),0))))) -> 0.86513738 | F11: =IF(ISERROR(MATCH(F$1,INDIRECT("Table!A"&$X11):INDIRECT("Table!" & $AA$171 & $X11),0)),"",INDIRECT(CONCATENATE("Table!",ADDRESS($T11,MATCH(F$1,INDIRECT("Table!A" & $X11):INDIRECT("Table!" & $AA$171 & $X11),0))))) -> 0.5330128 | G11: =IF(ISERROR(MATCH(G$1,INDIRECT("Table!A"&$X11):INDIRECT("Table!" & $AA$171 & $X11),0)),"",INDIRECT(CONCATENATE("Table!",ADDRESS($T11,MATCH(G$1,INDIRECT("Table!A" & $X11):INDIRECT("Table!" & $AA$171 & $X11),0))))) -> 0.34652015 | H11: =IF(ISERROR(MATCH(H$1,INDIRECT("Table!A"&$X11):INDIRECT("Table!" & $AA$171 & $X11),0)),"",INDIRECT(CONCATENATE("Table!",ADDRESS($T11,MATCH(H$1,INDIRECT("Table!A" & $X11):INDIRECT("Table!" & $AA$171 & $X11),0))))) -> 0.56124858 | I11: =IF(ISERROR(MATCH(I$1,INDIRECT("Table!A"&$X11):INDIRECT("Table!" & $AA$171 & $X11),0)),"",INDIRECT(CONCATENATE("Table!",ADDRESS($T11,MATCH(I$1,INDIRECT("Table!A" & $X11):INDIRECT("Table!" & $AA$171 & $X11),0))))) -> 0.048819861 | ... P11: =IF(ISERROR(MATCH(P$1,INDIRECT("Table!A"&$X11):INDIRECT("Table!" & $AA$171 & $X11),0)),"",INDIRECT(CONCATENATE("Table!",ADDRESS($T11,MATCH(P$1,INDIRECT("Table!A" & $X11):INDIRECT("Table!" & $AA$171 & $X11),0))))) -> 0.079864372 | T11: =MATCH($A11,Table!$A:$A,0)+$V$2-1 -> 150 | X11: =MATCH($A11,Table!$A:$A,0)+$Z$2-1 -> 147 | AA11: U
A12: 41351 | B12: =IF(ISERROR(MATCH(B$1,INDIRECT("Table!A"&$X12):INDIRECT("Table!" & $AA$171 & $X12),0)),"",INDIRECT(CONCATENATE("Table!",ADDRESS($T12,MATCH(B$1,INDIRECT("Table!A" & $X12):INDIRECT("Table!" & $AA$171 & $X12),0))))) -> 0.27657292 | C12: =IF(ISERROR(MATCH(C$1,INDIRECT("Table!A"&$X12):INDIRECT("Table!" & $AA$171 & $X12),0)),"",INDIRECT(CONCATENATE("Table!",ADDRESS($T12,MATCH(C$1,INDIRECT("Table!A" & $X12):INDIRECT("Table!" & $AA$171 & $X12),0))))) -> 0.5143181 | D12: =IF(ISERROR(MATCH(D$1,INDIRECT("Table!A"&$X12):INDIRECT("Table!" & $AA$171 & $X12),0)),"",INDIRECT(CONCATENATE("Table!",ADDRESS($T12,MATCH(D$1,INDIRECT("Table!A" & $X12):INDIRECT("Table!" & $AA$171 & $X12),0))))) -> 0.52369851 | E12: =IF(ISERROR(MATCH(E$1,INDIRECT("Table!A"&$X12):INDIRECT("Table!" & $AA$171 & $X12),0)),"",INDIRECT(CONCATENATE("Table!",ADDRESS($T12,MATCH(E$1,INDIRECT("Table!A" & $X12):INDIRECT("Table!" & $AA$171 & $X12),0))))) -> 0.86085491 | F12: =IF(ISERROR(MATCH(F$1,INDIRECT("Table!A"&$X12):INDIRECT("Table!" & $AA$171 & $X12),0)),"",INDIRECT(CONCATENATE("Table!",ADDRESS($T12,MATCH(F$1,INDIRECT("Table!A" & $X12):INDIRECT("Table!" & $AA$171 & $X12),0))))) -> 0.53057887 | G12: =IF(ISERROR(MATCH(G$1,INDIRECT("Table!A"&$X12):INDIRECT("Table!" & $AA$171 & $X12),0)),"",INDIRECT(CONCATENATE("Table!",ADDRESS($T12,MATCH(G$1,INDIRECT("Table!A" & $X12):INDIRECT("Table!" & $AA$171 & $X12),0))))) -> 0.35431992 | H12: =IF(ISERROR(MATCH(H$1,INDIRECT("Table!A"&$X12):INDIRECT("Table!" & $AA$171 & $X12),0)),"",INDIRECT(CONCATENATE("Table!",ADDRESS($T12,MATCH(H$1,INDIRECT("Table!A" & $X12):INDIRECT("Table!" & $AA$171 & $X12),0))))) -> 0.56082082 | I12: =IF(ISERROR(MATCH(I$1,INDIRECT("Table!A"&$X12):INDIRECT("Table!" & $AA$171 & $X12),0)),"",INDIRECT(CONCATENATE("Table!",ADDRESS($T12,MATCH(I$1,INDIRECT("Table!A" & $X12):INDIRECT("Table!" & $AA$171 & $X12),0))))) -> 0.048787948 | ... P12: =IF(ISERROR(MATCH(P$1,INDIRECT("Table!A"&$X12):INDIRECT("Table!" & $AA$171 & $X12),0)),"",INDIRECT(CONCATENATE("Table!",ADDRESS($T12,MATCH(P$1,INDIRECT("Table!A" & $X12):INDIRECT("Table!" & $AA$171 & $X12),0))))) -> 0.078506283 | T12: =MATCH($A12,Table!$A:$A,0)+$V$2-1 -> 168 | X12: =MATCH($A12,Table!$A:$A,0)+$Z$2-1 -> 165 | AA12: U
A13: 41345 | B13: =IF(ISERROR(MATCH(B$1,INDIRECT("Table!A"&$X13):INDIRECT("Table!" & $AA$171 & $X13),0)),"",INDIRECT(CONCATENATE("Table!",ADDRESS($T13,MATCH(B$1,INDIRECT("Table!A" & $X13):INDIRECT("Table!" & $AA$171 & $X13),0))))) -> 0.29319098 | C13: =IF(ISERROR(MATCH(C$1,INDIRECT("Table!A"&$X13):INDIRECT("Table!" & $AA$171 & $X13),0)),"",INDIRECT(CONCATENATE("Table!",ADDRESS($T13,MATCH(C$1,INDIRECT("Table!A" & $X13):INDIRECT("Table!" & $AA$171 & $X13),0))))) -> 0.51296143 | D13: =IF(ISERROR(MATCH(D$1,INDIRECT("Table!A"&$X13):INDIRECT("Table!" & $AA$171 & $X13),0)),"",INDIRECT(CONCATENATE("Table!",ADDRESS($T13,MATCH(D$1,INDIRECT("Table!A" & $X13):INDIRECT("Table!" & $AA$171 & $X13),0))))) -> 0.522296 | E13: =IF(ISERROR(MATCH(E$1,INDIRECT("Table!A"&$X13):INDIRECT("Table!" & $AA$171 & $X13),0)),"",INDIRECT(CONCATENATE("Table!",ADDRESS($T13,MATCH(E$1,INDIRECT("Table!A" & $X13):INDIRECT("Table!" & $AA$171 & $X13),0))))) -> 0.85957797 | F13: =IF(ISERROR(MATCH(F$1,INDIRECT("Table!A"&$X13):INDIRECT("Table!" & $AA$171 & $X13),0)),"",INDIRECT(CONCATENATE("Table!",ADDRESS($T13,MATCH(F$1,INDIRECT("Table!A" & $X13):INDIRECT("Table!" & $AA$171 & $X13),0))))) -> 0.51726447 | G13: =IF(ISERROR(MATCH(G$1,INDIRECT("Table!A"&$X13):INDIRECT("Table!" & $AA$171 & $X13),0)),"",INDIRECT(CONCATENATE("Table!",ADDRESS($T13,MATCH(G$1,INDIRECT("Table!A" & $X13):INDIRECT("Table!" & $AA$171 & $X13),0))))) -> 0.35446826 | H13: =IF(ISERROR(MATCH(H$1,INDIRECT("Table!A"&$X13):INDIRECT("Table!" & $AA$171 & $X13),0)),"",INDIRECT(CONCATENATE("Table!",ADDRESS($T13,MATCH(H$1,INDIRECT("Table!A" & $X13):INDIRECT("Table!" & $AA$171 & $X13),0))))) -> 0.55826008 | I13: =IF(ISERROR(MATCH(I$1,INDIRECT("Table!A"&$X13):INDIRECT("Table!" & $AA$171 & $X13),0)),"",INDIRECT(CONCATENATE("Table!",ADDRESS($T13,MATCH(I$1,INDIRECT("Table!A" & $X13):INDIRECT("Table!" & $AA$171 & $X13),0))))) -> 0.045894126 | ... P13: =IF(ISERROR(MATCH(P$1,INDIRECT("Table!A"&$X13):INDIRECT("Table!" & $AA$171 & $X13),0)),"",INDIRECT(CONCATENATE("Table!",ADDRESS($T13,MATCH(P$1,INDIRECT("Table!A" & $X13):INDIRECT("Table!" & $AA$171 & $X13),0))))) -> 0.078321336 | T13: =MATCH($A13,Table!$A:$A,0)+$V$2-1 -> 186 | X13: =MATCH($A13,Table!$A:$A,0)+$Z$2-1 -> 183 | AA13: U
A14: 41289 | B14: =IF(ISERROR(MATCH(B$1,INDIRECT("Table!A"&$X14):INDIRECT("Table!" & $AA$171 & $X14),0)),"",INDIRECT(CONCATENATE("Table!",ADDRESS($T14,MATCH(B$1,INDIRECT("Table!A" & $X14):INDIRECT("Table!" & $AA$171 & $X14),0))))) -> 0.30244741 | C14: =IF(ISERROR(MATCH(C$1,INDIRECT("Table!A"&$X14):INDIRECT("Table!" & $AA$171 & $X14),0)),"",INDIRECT(CONCATENATE("Table!",ADDRESS($T14,MATCH(C$1,INDIRECT("Table!A" & $X14):INDIRECT("Table!" & $AA$171 & $X14),0))))) -> 0.50613025 | D14: =IF(ISERROR(MATCH(D$1,INDIRECT("Table!A"&$X14):INDIRECT("Table!" & $AA$171 & $X14),0)),"",INDIRECT(CONCATENATE("Table!",ADDRESS($T14,MATCH(D$1,INDIRECT("Table!A" & $X14):INDIRECT("Table!" & $AA$171 & $X14),0))))) -> 0.51552661 | E14: =IF(ISERROR(MATCH(E$1,INDIRECT("Table!A"&$X14):INDIRECT("Table!" & $AA$171 & $X14),0)),"",INDIRECT(CONCATENATE("Table!",ADDRESS($T14,MATCH(E$1,INDIRECT("Table!A" & $X14):INDIRECT("Table!" & $AA$171 & $X14),0))))) -> 0.89201957 | F14: =IF(ISERROR(MATCH(F$1,INDIRECT("Table!A"&$X14):INDIRECT("Table!" & $AA$171 & $X14),0)),"",INDIRECT(CONCATENATE("Table!",ADDRESS($T14,MATCH(F$1,INDIRECT("Table!A" & $X14):INDIRECT("Table!" & $AA$171 & $X14),0))))) -> 0.4570623 | G14: =IF(ISERROR(MATCH(G$1,INDIRECT("Table!A"&$X14):INDIRECT("Table!" & $AA$171 & $X14),0)),"",INDIRECT(CONCATENATE("Table!",ADDRESS($T14,MATCH(G$1,INDIRECT("Table!A" & $X14):INDIRECT("Table!" & $AA$171 & $X14),0))))) -> 0.26121 | H14: =IF(ISERROR(MATCH(H$1,INDIRECT("Table!A"&$X14):INDIRECT("Table!" & $AA$171 & $X14),0)),"",INDIRECT(CONCATENATE("Table!",ADDRESS($T14,MATCH(H$1,INDIRECT("Table!A" & $X14):INDIRECT("Table!" & $AA$171 & $X14),0))))) -> 0.44254927 | I14: =IF(ISERROR(MATCH(I$1,INDIRECT("Table!A"&$X14):INDIRECT("Table!" & $AA$171 & $X14),0)),"",INDIRECT(CONCATENATE("Table!",ADDRESS($T14,MATCH(I$1,INDIRECT("Table!A" & $X14):INDIRECT("Table!" & $AA$171 & $X14),0))))) | ... P14: =IF(ISERROR(MATCH(P$1,INDIRECT("Table!A"&$X14):INDIRECT("Table!" & $AA$171 & $X14),0)),"",INDIRECT(CONCATENATE("Table!",ADDRESS($T14,MATCH(P$1,INDIRECT("Table!A" & $X14):INDIRECT("Table!" & $AA$171 & $X14),0))))) | T14: =MATCH($A14,Table!$A:$A,0)+$V$2-1 -> 204 | X14: =MATCH($A14,Table!$A:$A,0)+$Z$2-1 -> 201 | AA14: U
... A171: 40917 | B171: =IF(ISERROR(MATCH(B$1,INDIRECT("Table!A"&$X171):INDIRECT("Table!" & $AA$171 & $X171),0)),"",INDIRECT(CONCATENATE("Table!",ADDRESS($T171,MATCH(B$1,INDIRECT("Table!A" & $X171):INDIRECT("Table!" & $AA$171 & $X171),0))))) -> 0.76855085 | C171: =IF(ISERROR(MATCH(C$1,INDIRECT("Table!A"&$X171):INDIRECT("Table!" & $AA$171 & $X171),0)),"",INDIRECT(CONCATENATE("Table!",ADDRESS($T171,MATCH(C$1,INDIRECT("Table!A" & $X171):INDIRECT("Table!" & $AA$171 & $X171),0))))) -> 0.817241 | D171: =IF(ISERROR(MATCH(D$1,INDIRECT("Table!A"&$X171):INDIRECT("Table!" & $AA$171 & $X171),0)),"",INDIRECT(CONCATENATE("Table!",ADDRESS($T171,MATCH(D$1,INDIRECT("Table!A" & $X171):INDIRECT("Table!" & $AA$171 & $X171),0))))) -> 0.83447024 | E171: =IF(ISERROR(MATCH(E$1,INDIRECT("Table!A"&$X171):INDIRECT("Table!" & $AA$171 & $X171),0)),"",INDIRECT(CONCATENATE("Table!",ADDRESS($T171,MATCH(E$1,INDIRECT("Table!A" & $X171):INDIRECT("Table!" & $AA$171 & $X171),0))))) -> 0.79574013 | F171: =IF(ISERROR(MATCH(F$1,INDIRECT("Table!A"&$X171):INDIRECT("Table!" & $AA$171 & $X171),0)),"",INDIRECT(CONCATENATE("Table!",ADDRESS($T171,MATCH(F$1,INDIRECT("Table!A" & $X171):INDIRECT("Table!" & $AA$171 & $X171),0))))) -> 0.00064039271 | G171: =IF(ISERROR(MATCH(G$1,INDIRECT("Table!A"&$X171):INDIRECT("Table!" & $AA$171 & $X171),0)),"",INDIRECT(CONCATENATE("Table!",ADDRESS($T171,MATCH(G$1,INDIRECT("Table!A" & $X171):INDIRECT("Table!" & $AA$171 & $X171),0))))) -> 0.11736147 | H171: =IF(ISERROR(MATCH(H$1,INDIRECT("Table!A"&$X171):INDIRECT("Table!" & $AA$171 & $X171),0)),"",INDIRECT(CONCATENATE("Table!",ADDRESS($T171,MATCH(H$1,INDIRECT("Table!A" & $X171):INDIRECT("Table!" & $AA$171 & $X171),0))))) -> 0.15862783 | I171: =IF(ISERROR(MATCH(I$1,INDIRECT("Table!A"&$X171):INDIRECT("Table!" & $AA$171 & $X171),0)),"",INDIRECT(CONCATENATE("Table!",ADDRESS($T171,MATCH(I$1,INDIRECT("Table!A" & $X171):INDIRECT("Table!" & $AA$171 & $X171),0))))) | ... P171: =IF(ISERROR(MATCH(P$1,INDIRECT("Table!A"&$X171):INDIRECT("Table!" & $AA$171 & $X171),0)),"",INDIRECT(CONCATENATE("Table!",ADDRESS($T171,MATCH(P$1,INDIRECT("Table!A" & $X171):INDIRECT("Table!" & $AA$171 & $X171),0))))) -> 0.41451357 | T171: =MATCH($A171,Table!$A:$A,0)+$V$2-1 -> 2250 | X171: =MATCH($A171,Table!$A:$A,0)+$Z$2-1 -> 2247 | AA171: U

Sheet subscription charts
B1: 0623 | C1: 0745 | D1: 0552 | E1: 0678 | F1: 3286 | G1: 3073 | H1: 2230 | I1: 0879 | J1: 3004 | K1: 2804 | L1: 2231 | M1: 2262
B2: CGC T4 V-MAX 0623 | C2: CGC T3 V-MAX 0745 | D2: RDC T3 V-MAX 0552 | E2: RDC T4 V-MAX 0678 | F2: RDC T3 V-MAX 3286 | G2: RDC T4 V-MAX 3073 | H2: RDC T3 V-MAX 2230 | I2: FDC T4 V-MAX 0879 | J2: FDC T4 V-MAX 3004 | K2: FDC T4 V-MAX 2804 | L2: FDC T3 V-MAX 2231 | M2: EDC T3 V-MAX 2262 | Q2: Row | R2: "GB Allocated" subscription | S2: 18 | U2: Row | V2: VMAX | W2: =MATCH(V2,Table!$A:$A,0) -> 3 | X2: Max Column
A3: 41443 | B3: =IF(ISERROR(MATCH(B$1,INDIRECT("Table!A"&$U3):INDIRECT("Table!" & $X$3 & $U3),0)),"",INDIRECT(CONCATENATE("Table!",ADDRESS($Q3,MATCH(B$1,INDIRECT("Table!A" & $U3):INDIRECT("Table!" & $X$171 & $U3),0))))) -> 0.72000316 | C3: =IF(ISERROR(MATCH(C$1,INDIRECT("Table!A"&$U3):INDIRECT("Table!" & $X$171 & $U3),0)),"",INDIRECT(CONCATENATE("Table!",ADDRESS($Q3,MATCH(C$1,INDIRECT("Table!A" & $U3):INDIRECT("Table!" & $X$171 & $U3),0))))) -> 0.60101269 | D3: =IF(ISERROR(MATCH(D$1,INDIRECT("Table!A"&$U3):INDIRECT("Table!" & $X$171 & $U3),0)),"",INDIRECT(CONCATENATE("Table!",ADDRESS($Q3,MATCH(D$1,INDIRECT("Table!A" & $U3):INDIRECT("Table!" & $X$171 & $U3),0))))) -> 0.60795693 | E3: =IF(ISERROR(MATCH(E$1,INDIRECT("Table!A"&$U3):INDIRECT("Table!" & $X$171 & $U3),0)),"",INDIRECT(CONCATENATE("Table!",ADDRESS($Q3,MATCH(E$1,INDIRECT("Table!A" & $U3):INDIRECT("Table!" & $X$171 & $U3),0))))) -> 1.5276443 | F3: =IF(ISERROR(MATCH(F$1,INDIRECT("Table!A"&$U3):INDIRECT("Table!" & $X$171 & $U3),0)),"",INDIRECT(CONCATENATE("Table!",ADDRESS($Q3,MATCH(F$1,INDIRECT("Table!A" & $U3):INDIRECT("Table!" & $X$171 & $U3),0))))) -> 0.78844328 | G3: =IF(ISERROR(MATCH(G$1,INDIRECT("Table!A"&$U3):INDIRECT("Table!" & $X$171 & $U3),0)),"",INDIRECT(CONCATENATE("Table!",ADDRESS($Q3,MATCH(G$1,INDIRECT("Table!A" & $U3):INDIRECT("Table!" & $X$171 & $U3),0))))) -> 1.1793363 | H3: =IF(ISERROR(MATCH(H$1,INDIRECT("Table!A"&$U3):INDIRECT("Table!" & $X$171 & $U3),0)),"",INDIRECT(CONCATENATE("Table!",ADDRESS($Q3,MATCH(H$1,INDIRECT("Table!A" & $U3):INDIRECT("Table!" & $X$171 & $U3),0))))) -> 1.2136297 | I3: =IF(ISERROR(MATCH(I$1,INDIRECT("Table!A"&$U3):INDIRECT("Table!" & $X$171 & $U3),0)),"",INDIRECT(CONCATENATE("Table!",ADDRESS($Q3,MATCH(I$1,INDIRECT("Table!A" & $U3):INDIRECT("Table!" & $X$171 & $U3),0))))) -> 1.4637639 | J3: =IF(ISERROR(MATCH(J$1,INDIRECT("Table!A"&$U3):INDIRECT("Table!" & $X$171 & $U3),0)),"",INDIRECT(CONCATENATE("Table!",ADDRESS($Q3,MATCH(J$1,INDIRECT("Table!A" & $U3):INDIRECT("Table!" & $X$171 & $U3),0))))) -> 0.85480631 | ... M3: =IF(ISERROR(MATCH(M$1,INDIRECT("Table!A"&$U3):INDIRECT("Table!" & $X$171 & $U3),0)),"",INDIRECT(CONCATENATE("Table!",ADDRESS($Q3,MATCH(M$1,INDIRECT("Table!A" & $U3):INDIRECT("Table!" & $X$171 & $U3),0))))) -> 0.59117784 | Q3: =MATCH($A3,Table!$A:$A,0)+$S$2-1 -> 18 | U3: =MATCH($A3,Table!$A:$A,0)+$W$2-1 -> 3 | X3: U
A4: 41430 | B4: =IF(ISERROR(MATCH(B$1,INDIRECT("Table!A"&$U4):INDIRECT("Table!" & $X$171 & $U4),0)),"",INDIRECT(CONCATENATE("Table!",ADDRESS($Q4,MATCH(B$1,INDIRECT("Table!A" & $U4):INDIRECT("Table!" & $X$171 & $U4),0))))) -> 0.72000316 | C4: =IF(ISERROR(MATCH(C$1,INDIRECT("Table!A"&$U4):INDIRECT("Table!" & $X$171 & $U4),0)),"",INDIRECT(CONCATENATE("Table!",ADDRESS($Q4,MATCH(C$1,INDIRECT("Table!A" & $U4):INDIRECT("Table!" & $X$171 & $U4),0))))) -> 0.60101269 | D4: =IF(ISERROR(MATCH(D$1,INDIRECT("Table!A"&$U4):INDIRECT("Table!" & $X$171 & $U4),0)),"",INDIRECT(CONCATENATE("Table!",ADDRESS($Q4,MATCH(D$1,INDIRECT("Table!A" & $U4):INDIRECT("Table!" & $X$171 & $U4),0))))) -> 0.60795693 | E4: =IF(ISERROR(MATCH(E$1,INDIRECT("Table!A"&$U4):INDIRECT("Table!" & $X$171 & $U4),0)),"",INDIRECT(CONCATENATE("Table!",ADDRESS($Q4,MATCH(E$1,INDIRECT("Table!A" & $U4):INDIRECT("Table!" & $X$171 & $U4),0))))) -> 1.5276443 | F4: =IF(ISERROR(MATCH(F$1,INDIRECT("Table!A"&$U4):INDIRECT("Table!" & $X$171 & $U4),0)),"",INDIRECT(CONCATENATE("Table!",ADDRESS($Q4,MATCH(F$1,INDIRECT("Table!A" & $U4):INDIRECT("Table!" & $X$171 & $U4),0))))) -> 0.78844328 | G4: =IF(ISERROR(MATCH(G$1,INDIRECT("Table!A"&$U4):INDIRECT("Table!" & $X$171 & $U4),0)),"",INDIRECT(CONCATENATE("Table!",ADDRESS($Q4,MATCH(G$1,INDIRECT("Table!A" & $U4):INDIRECT("Table!" & $X$171 & $U4),0))))) -> 1.1793363 | H4: =IF(ISERROR(MATCH(H$1,INDIRECT("Table!A"&$U4):INDIRECT("Table!" & $X$171 & $U4),0)),"",INDIRECT(CONCATENATE("Table!",ADDRESS($Q4,MATCH(H$1,INDIRECT("Table!A" & $U4):INDIRECT("Table!" & $X$171 & $U4),0))))) -> 1.2136297 | I4: =IF(ISERROR(MATCH(I$1,INDIRECT("Table!A"&$U4):INDIRECT("Table!" & $X$171 & $U4),0)),"",INDIRECT(CONCATENATE("Table!",ADDRESS($Q4,MATCH(I$1,INDIRECT("Table!A" & $U4):INDIRECT("Table!" & $X$171 & $U4),0))))) -> 1.4637639 | ... M4: =IF(ISERROR(MATCH(M$1,INDIRECT("Table!A"&$U4):INDIRECT("Table!" & $X$171 & $U4),0)),"",INDIRECT(CONCATENATE("Table!",ADDRESS($Q4,MATCH(M$1,INDIRECT("Table!A" & $U4):INDIRECT("Table!" & $X$171 & $U4),0))))) -> 0.59117784 | Q4: =MATCH($A4,Table!$A:$A,0)+$S$2-1 -> 36 | U4: =MATCH($A4,Table!$A:$A,0)+$W$2-1 -> 21 | X4: U
A5: 41414 | B5: =IF(ISERROR(MATCH(B$1,INDIRECT("Table!A"&$U5):INDIRECT("Table!" & $X$171 & $U5),0)),"",INDIRECT(CONCATENATE("Table!",ADDRESS($Q5,MATCH(B$1,INDIRECT("Table!A" & $U5):INDIRECT("Table!" & $X$171 & $U5),0))))) -> 0.71973344 | C5: =IF(ISERROR(MATCH(C$1,INDIRECT("Table!A"&$U5):INDIRECT("Table!" & $X$171 & $U5),0)),"",INDIRECT(CONCATENATE("Table!",ADDRESS($Q5,MATCH(C$1,INDIRECT("Table!A" & $U5):INDIRECT("Table!" & $X$171 & $U5),0))))) -> 0.59429246 | D5: =IF(ISERROR(MATCH(D$1,INDIRECT("Table!A"&$U5):INDIRECT("Table!" & $X$171 & $U5),0)),"",INDIRECT(CONCATENATE("Table!",ADDRESS($Q5,MATCH(D$1,INDIRECT("Table!A" & $U5):INDIRECT("Table!" & $X$171 & $U5),0))))) -> 0.6012367 | E5: =IF(ISERROR(MATCH(E$1,INDIRECT("Table!A"&$U5):INDIRECT("Table!" & $X$171 & $U5),0)),"",INDIRECT(CONCATENATE("Table!",ADDRESS($Q5,MATCH(E$1,INDIRECT("Table!A" & $U5):INDIRECT("Table!" & $X$171 & $U5),0))))) -> 1.5276443 | F5: =IF(ISERROR(MATCH(F$1,INDIRECT("Table!A"&$U5):INDIRECT("Table!" & $X$171 & $U5),0)),"",INDIRECT(CONCATENATE("Table!",ADDRESS($Q5,MATCH(F$1,INDIRECT("Table!A" & $U5):INDIRECT("Table!" & $X$171 & $U5),0))))) -> 0.77947675 | G5: =IF(ISERROR(MATCH(G$1,INDIRECT("Table!A"&$U5):INDIRECT("Table!" & $X$171 & $U5),0)),"",INDIRECT(CONCATENATE("Table!",ADDRESS($Q5,MATCH(G$1,INDIRECT("Table!A" & $U5):INDIRECT("Table!" & $X$171 & $U5),0))))) -> 1.1791632 | H5: =IF(ISERROR(MATCH(H$1,INDIRECT("Table!A"&$U5):INDIRECT("Table!" & $X$171 & $U5),0)),"",INDIRECT(CONCATENATE("Table!",ADDRESS($Q5,MATCH(H$1,INDIRECT("Table!A" & $U5):INDIRECT("Table!" & $X$171 & $U5),0))))) -> 1.2090939 | I5: =IF(ISERROR(MATCH(I$1,INDIRECT("Table!A"&$U5):INDIRECT("Table!" & $X$171 & $U5),0)),"",INDIRECT(CONCATENATE("Table!",ADDRESS($Q5,MATCH(I$1,INDIRECT("Table!A" & $U5):INDIRECT("Table!" & $X$171 & $U5),0))))) -> 1.4637639 | ... M5: =IF(ISERROR(MATCH(M$1,INDIRECT("Table!A"&$U5):INDIRECT("Table!" & $X$171 & $U5),0)),"",INDIRECT(CONCATENATE("Table!",ADDRESS($Q5,MATCH(M$1,INDIRECT("Table!A" & $U5):INDIRECT("Table!" & $X$171 & $U5),0))))) -> 0.59117784 | Q5: =MATCH($A5,Table!$A:$A,0)+$S$2-1 -> 54 | U5: =MATCH($A5,Table!$A:$A,0)+$W$2-1 -> 39 | X5: U
A6: 41408 | B6: =IF(ISERROR(MATCH(B$1,INDIRECT("Table!A"&$U6):INDIRECT("Table!" & $X$171 & $U6),0)),"",INDIRECT(CONCATENATE("Table!",ADDRESS($Q6,MATCH(B$1,INDIRECT("Table!A" & $U6):INDIRECT("Table!" & $X$171 & $U6),0))))) -> 0.71406944 | C6: =IF(ISERROR(MATCH(C$1,INDIRECT("Table!A"&$U6):INDIRECT("Table!" & $X$171 & $U6),0)),"",INDIRECT(CONCATENATE("Table!",ADDRESS($Q6,MATCH(C$1,INDIRECT("Table!A" & $U6):INDIRECT("Table!" & $X$171 & $U6),0))))) -> 0.59429246 | D6: =IF(ISERROR(MATCH(D$1,INDIRECT("Table!A"&$U6):INDIRECT("Table!" & $X$171 & $U6),0)),"",INDIRECT(CONCATENATE("Table!",ADDRESS($Q6,MATCH(D$1,INDIRECT("Table!A" & $U6):INDIRECT("Table!" & $X$171 & $U6),0))))) -> 0.6012367 | E6: =IF(ISERROR(MATCH(E$1,INDIRECT("Table!A"&$U6):INDIRECT("Table!" & $X$171 & $U6),0)),"",INDIRECT(CONCATENATE("Table!",ADDRESS($Q6,MATCH(E$1,INDIRECT("Table!A" & $U6):INDIRECT("Table!" & $X$171 & $U6),0))))) -> 1.5276443 | F6: =IF(ISERROR(MATCH(F$1,INDIRECT("Table!A"&$U6):INDIRECT("Table!" & $X$171 & $U6),0)),"",INDIRECT(CONCATENATE("Table!",ADDRESS($Q6,MATCH(F$1,INDIRECT("Table!A" & $U6):INDIRECT("Table!" & $X$171 & $U6),0))))) -> 0.77438213 | G6: =IF(ISERROR(MATCH(G$1,INDIRECT("Table!A"&$U6):INDIRECT("Table!" & $X$171 & $U6),0)),"",INDIRECT(CONCATENATE("Table!",ADDRESS($Q6,MATCH(G$1,INDIRECT("Table!A" & $U6):INDIRECT("Table!" & $X$171 & $U6),0))))) -> 1.1786438 | H6: =IF(ISERROR(MATCH(H$1,INDIRECT("Table!A"&$U6):INDIRECT("Table!" & $X$171 & $U6),0)),"",INDIRECT(CONCATENATE("Table!",ADDRESS($Q6,MATCH(H$1,INDIRECT("Table!A" & $U6):INDIRECT("Table!" & $X$171 & $U6),0))))) -> 1.2090939 | I6: =IF(ISERROR(MATCH(I$1,INDIRECT("Table!A"&$U6):INDIRECT("Table!" & $X$171 & $U6),0)),"",INDIRECT(CONCATENATE("Table!",ADDRESS($Q6,MATCH(I$1,INDIRECT("Table!A" & $U6):INDIRECT("Table!" & $X$171 & $U6),0))))) -> 1.4637639 | ... M6: =IF(ISERROR(MATCH(M$1,INDIRECT("Table!A"&$U6):INDIRECT("Table!" & $X$171 & $U6),0)),"",INDIRECT(CONCATENATE("Table!",ADDRESS($Q6,MATCH(M$1,INDIRECT("Table!A" & $U6):INDIRECT("Table!" & $X$171 & $U6),0))))) -> 0.59117784 | Q6: =MATCH($A6,Table!$A:$A,0)+$S$2-1 -> 72 | U6: =MATCH($A6,Table!$A:$A,0)+$W$2-1 -> 57 | X6: U
A7: 41401 | B7: =IF(ISERROR(MATCH(B$1,INDIRECT("Table!A"&$U7):INDIRECT("Table!" & $X$171 & $U7),0)),"",INDIRECT(CONCATENATE("Table!",ADDRESS($Q7,MATCH(B$1,INDIRECT("Table!A" & $U7):INDIRECT("Table!" & $X$171 & $U7),0))))) -> 0.705034 | C7: =IF(ISERROR(MATCH(C$1,INDIRECT("Table!A"&$U7):INDIRECT("Table!" & $X$171 & $U7),0)),"",INDIRECT(CONCATENATE("Table!",ADDRESS($Q7,MATCH(C$1,INDIRECT("Table!A" & $U7):INDIRECT("Table!" & $X$171 & $U7),0))))) -> 0.59294841 | D7: =IF(ISERROR(MATCH(D$1,INDIRECT("Table!A"&$U7):INDIRECT("Table!" & $X$171 & $U7),0)),"",INDIRECT(CONCATENATE("Table!",ADDRESS($Q7,MATCH(D$1,INDIRECT("Table!A" & $U7):INDIRECT("Table!" & $X$171 & $U7),0))))) -> 0.59989265 | E7: =IF(ISERROR(MATCH(E$1,INDIRECT("Table!A"&$U7):INDIRECT("Table!" & $X$171 & $U7),0)),"",INDIRECT(CONCATENATE("Table!",ADDRESS($Q7,MATCH(E$1,INDIRECT("Table!A" & $U7):INDIRECT("Table!" & $X$171 & $U7),0))))) -> 1.5276443 | F7: =IF(ISERROR(MATCH(F$1,INDIRECT("Table!A"&$U7):INDIRECT("Table!" & $X$171 & $U7),0)),"",INDIRECT(CONCATENATE("Table!",ADDRESS($Q7,MATCH(F$1,INDIRECT("Table!A" & $U7):INDIRECT("Table!" & $X$171 & $U7),0))))) -> 0.77295564 | G7: =IF(ISERROR(MATCH(G$1,INDIRECT("Table!A"&$U7):INDIRECT("Table!" & $X$171 & $U7),0)),"",INDIRECT(CONCATENATE("Table!",ADDRESS($Q7,MATCH(G$1,INDIRECT("Table!A" & $U7):INDIRECT("Table!" & $X$171 & $U7),0))))) -> 1.1750081 | H7: =IF(ISERROR(MATCH(H$1,INDIRECT("Table!A"&$U7):INDIRECT("Table!" & $X$171 & $U7),0)),"",INDIRECT(CONCATENATE("Table!",ADDRESS($Q7,MATCH(H$1,INDIRECT("Table!A" & $U7):INDIRECT("Table!" & $X$171 & $U7),0))))) -> 1.73319 | I7: =IF(ISERROR(MATCH(I$1,INDIRECT("Table!A"&$U7):INDIRECT("Table!" & $X$171 & $U7),0)),"",INDIRECT(CONCATENATE("Table!",ADDRESS($Q7,MATCH(I$1,INDIRECT("Table!A" & $U7):INDIRECT("Table!" & $X$171 & $U7),0))))) -> 1.4637639 | ... M7: =IF(ISERROR(MATCH(M$1,INDIRECT("Table!A"&$U7):INDIRECT("Table!" & $X$171 & $U7),0)),"",INDIRECT(CONCATENATE("Table!",ADDRESS($Q7,MATCH(M$1,INDIRECT("Table!A" & $U7):INDIRECT("Table!" & $X$171 & $U7),0))))) -> 0.57650538 | Q7: =MATCH($A7,Table!$A:$A,0)+$S$2-1 -> 90 | U7: =MATCH($A7,Table!$A:$A,0)+$W$2-1 -> 75 | X7: U
A8: 41393 | B8: =IF(ISERROR(MATCH(B$1,INDIRECT("Table!A"&$U8):INDIRECT("Table!" & $X$171 & $U8),0)),"",INDIRECT(CONCATENATE("Table!",ADDRESS($Q8,MATCH(B$1,INDIRECT("Table!A" & $U8):INDIRECT("Table!" & $X$171 & $U8),0))))) -> 0.76895636 | C8: =IF(ISERROR(MATCH(C$1,INDIRECT("Table!A"&$U8):INDIRECT("Table!" & $X$171 & $U8),0)),"",INDIRECT(CONCATENATE("Table!",ADDRESS($Q8,MATCH(C$1,INDIRECT("Table!A" & $U8):INDIRECT("Table!" & $X$171 & $U8),0))))) -> 0.59294841 | D8: =IF(ISERROR(MATCH(D$1,INDIRECT("Table!A"&$U8):INDIRECT("Table!" & $X$171 & $U8),0)),"",INDIRECT(CONCATENATE("Table!",ADDRESS($Q8,MATCH(D$1,INDIRECT("Table!A" & $U8):INDIRECT("Table!" & $X$171 & $U8),0))))) -> 0.59989265 | E8: =IF(ISERROR(MATCH(E$1,INDIRECT("Table!A"&$U8):INDIRECT("Table!" & $X$171 & $U8),0)),"",INDIRECT(CONCATENATE("Table!",ADDRESS($Q8,MATCH(E$1,INDIRECT("Table!A" & $U8):INDIRECT("Table!" & $X$171 & $U8),0))))) -> 1.5276443 | F8: =IF(ISERROR(MATCH(F$1,INDIRECT("Table!A"&$U8):INDIRECT("Table!" & $X$171 & $U8),0)),"",INDIRECT(CONCATENATE("Table!",ADDRESS($Q8,MATCH(F$1,INDIRECT("Table!A" & $U8):INDIRECT("Table!" & $X$171 & $U8),0))))) -> 0.76643453 | G8: =IF(ISERROR(MATCH(G$1,INDIRECT("Table!A"&$U8):INDIRECT("Table!" & $X$171 & $U8),0)),"",INDIRECT(CONCATENATE("Table!",ADDRESS($Q8,MATCH(G$1,INDIRECT("Table!A" & $U8):INDIRECT("Table!" & $X$171 & $U8),0))))) -> 1.161158 | H8: =IF(ISERROR(MATCH(H$1,INDIRECT("Table!A"&$U8):INDIRECT("Table!" & $X$171 & $U8),0)),"",INDIRECT(CONCATENATE("Table!",ADDRESS($Q8,MATCH(H$1,INDIRECT("Table!A" & $U8):INDIRECT("Table!" & $X$171 & $U8),0))))) -> 1.6578822 | I8: =IF(ISERROR(MATCH(I$1,INDIRECT("Table!A"&$U8):INDIRECT("Table!" & $X$171 & $U8),0)),"",INDIRECT(CONCATENATE("Table!",ADDRESS($Q8,MATCH(I$1,INDIRECT("Table!A" & $U8):INDIRECT("Table!" & $X$171 & $U8),0))))) -> 1.4676067 | ... M8: =IF(ISERROR(MATCH(M$1,INDIRECT("Table!A"&$U8):INDIRECT("Table!" & $X$171 & $U8),0)),"",INDIRECT(CONCATENATE("Table!",ADDRESS($Q8,MATCH(M$1,INDIRECT("Table!A" & $U8):INDIRECT("Table!" & $X$171 & $U8),0))))) -> 0.45178947 | Q8: =MATCH($A8,Table!$A:$A,0)+$S$2-1 -> 108 | U8: =MATCH($A8,Table!$A:$A,0)+$W$2-1 -> 93 | X8: U
A9: 41374 | B9: =IF(ISERROR(MATCH(B$1,INDIRECT("Table!A"&$U9):INDIRECT("Table!" & $X$171 & $U9),0)),"",INDIRECT(CONCATENATE("Table!",ADDRESS($Q9,MATCH(B$1,INDIRECT("Table!A" & $U9):INDIRECT("Table!" & $X$171 & $U9),0))))) -> 0.76895636 | C9: =IF(ISERROR(MATCH(C$1,INDIRECT("Table!A"&$U9):INDIRECT("Table!" & $X$171 & $U9),0)),"",INDIRECT(CONCATENATE("Table!",ADDRESS($Q9,MATCH(C$1,INDIRECT("Table!A" & $U9):INDIRECT("Table!" & $X$171 & $U9),0))))) -> 0.59294841 | D9: =IF(ISERROR(MATCH(D$1,INDIRECT("Table!A"&$U9):INDIRECT("Table!" & $X$171 & $U9),0)),"",INDIRECT(CONCATENATE("Table!",ADDRESS($Q9,MATCH(D$1,INDIRECT("Table!A" & $U9):INDIRECT("Table!" & $X$171 & $U9),0))))) -> 0.59989265 | E9: =IF(ISERROR(MATCH(E$1,INDIRECT("Table!A"&$U9):INDIRECT("Table!" & $X$171 & $U9),0)),"",INDIRECT(CONCATENATE("Table!",ADDRESS($Q9,MATCH(E$1,INDIRECT("Table!A" & $U9):INDIRECT("Table!" & $X$171 & $U9),0))))) -> 1.5276443 | F9: =IF(ISERROR(MATCH(F$1,INDIRECT("Table!A"&$U9):INDIRECT("Table!" & $X$171 & $U9),0)),"",INDIRECT(CONCATENATE("Table!",ADDRESS($Q9,MATCH(F$1,INDIRECT("Table!A" & $U9):INDIRECT("Table!" & $X$171 & $U9),0))))) -> 0.76643453 | G9: =IF(ISERROR(MATCH(G$1,INDIRECT("Table!A"&$U9):INDIRECT("Table!" & $X$171 & $U9),0)),"",INDIRECT(CONCATENATE("Table!",ADDRESS($Q9,MATCH(G$1,INDIRECT("Table!A" & $U9):INDIRECT("Table!" & $X$171 & $U9),0))))) -> 1.161158 | H9: =IF(ISERROR(MATCH(H$1,INDIRECT("Table!A"&$U9):INDIRECT("Table!" & $X$171 & $U9),0)),"",INDIRECT(CONCATENATE("Table!",ADDRESS($Q9,MATCH(H$1,INDIRECT("Table!A" & $U9):INDIRECT("Table!" & $X$171 & $U9),0))))) -> 1.6578822 | I9: =IF(ISERROR(MATCH(I$1,INDIRECT("Table!A"&$U9):INDIRECT("Table!" & $X$171 & $U9),0)),"",INDIRECT(CONCATENATE("Table!",ADDRESS($Q9,MATCH(I$1,INDIRECT("Table!A" & $U9):INDIRECT("Table!" & $X$171 & $U9),0))))) -> 1.4676067 | ... M9: =IF(ISERROR(MATCH(M$1,INDIRECT("Table!A"&$U9):INDIRECT("Table!" & $X$171 & $U9),0)),"",INDIRECT(CONCATENATE("Table!",ADDRESS($Q9,MATCH(M$1,INDIRECT("Table!A" & $U9):INDIRECT("Table!" & $X$171 & $U9),0))))) -> 0.45178947 | Q9: =MATCH($A9,Table!$A:$A,0)+$S$2-1 -> 126 | U9: =MATCH($A9,Table!$A:$A,0)+$W$2-1 -> 111 | X9: U
A10: 41361 | B10: =IF(ISERROR(MATCH(B$1,INDIRECT("Table!A"&$U10):INDIRECT("Table!" & $X$171 & $U10),0)),"",INDIRECT(CONCATENATE("Table!",ADDRESS($Q10,MATCH(B$1,INDIRECT("Table!A" & $U10):INDIRECT("Table!" & $X$171 & $U10),0))))) -> 0.7689632 | C10: =IF(ISERROR(MATCH(C$1,INDIRECT("Table!A"&$U10):INDIRECT("Table!" & $X$171 & $U10),0)),"",INDIRECT(CONCATENATE("Table!",ADDRESS($Q10,MATCH(C$1,INDIRECT("Table!A" & $U10):INDIRECT("Table!" & $X$171 & $U10),0))))) -> 0.70899072 | D10: =IF(ISERROR(MATCH(D$1,INDIRECT("Table!A"&$U10):INDIRECT("Table!" & $X$171 & $U10),0)),"",INDIRECT(CONCATENATE("Table!",ADDRESS($Q10,MATCH(D$1,INDIRECT("Table!A" & $U10):INDIRECT("Table!" & $X$171 & $U10),0))))) -> 0.70831869 | E10: =IF(ISERROR(MATCH(E$1,INDIRECT("Table!A"&$U10):INDIRECT("Table!" & $X$171 & $U10),0)),"",INDIRECT(CONCATENATE("Table!",ADDRESS($Q10,MATCH(E$1,INDIRECT("Table!A" & $U10):INDIRECT("Table!" & $X$171 & $U10),0))))) -> 1.7208846 | F10: =IF(ISERROR(MATCH(F$1,INDIRECT("Table!A"&$U10):INDIRECT("Table!" & $X$171 & $U10),0)),"",INDIRECT(CONCATENATE("Table!",ADDRESS($Q10,MATCH(F$1,INDIRECT("Table!A" & $U10):INDIRECT("Table!" & $X$171 & $U10),0))))) -> 3.1321998 | G10: =IF(ISERROR(MATCH(G$1,INDIRECT("Table!A"&$U10):INDIRECT("Table!" & $X$171 & $U10),0)),"",INDIRECT(CONCATENATE("Table!",ADDRESS($Q10,MATCH(G$1,INDIRECT("Table!A" & $U10):INDIRECT("Table!" & $X$171 & $U10),0))))) -> 1.3309202 | H10: =IF(ISERROR(MATCH(H$1,INDIRECT("Table!A"&$U10):INDIRECT("Table!" & $X$171 & $U10),0)),"",INDIRECT(CONCATENATE("Table!",ADDRESS($Q10,MATCH(H$1,INDIRECT("Table!A" & $U10):INDIRECT("Table!" & $X$171 & $U10),0))))) -> 1.4500346 | I10: =IF(ISERROR(MATCH(I$1,INDIRECT("Table!A"&$U10):INDIRECT("Table!" & $X$171 & $U10),0)),"",INDIRECT(CONCATENATE("Table!",ADDRESS($Q10,MATCH(I$1,INDIRECT("Table!A" & $U10):INDIRECT("Table!" & $X$171 & $U10),0))))) -> 1.5932111 | ... M10: =IF(ISERROR(MATCH(M$1,INDIRECT("Table!A"&$U10):INDIRECT("Table!" & $X$171 & $U10),0)),"",INDIRECT(CONCATENATE("Table!",ADDRESS($Q10,MATCH(M$1,INDIRECT("Table!A" & $U10):INDIRECT("Table!" & $X$171 & $U10),0))))) -> 1.1200077 | Q10: =MATCH($A10,Table!$A:$A,0)+$S$2-1 -> 144 | U10: =MATCH($A10,Table!$A:$A,0)+$W$2-1 -> 129 | X10: U
