Workbook

Sheet Table
A1: 41443 | C1: =C5+C8+C11 -> 89088.7 | H1: =H5+H8+H11 -> 164612.4 | L1: =N5+N8+N11 -> 160411.8
A2: Site | C2: CGC | D2: CGC | E2: RDC | F2: RDC | G2: RDC | H2: RDC | I2: RDC | J2: RDC | K2: RDC | L2: RDC | M2: FDC | N2: FDC | O2: FDC | P2: FDC | Q2: FDC | R2: FDC | S2: FDC | T2: ZDC | U2: ZDC
A3: VMAX | C3: 0623 | D3: 0745 | E3: 0552 | F3: 0678 | G3: 3286 | H3: 3073 | I3: 2230 | J3: 3696 | K3: 4330 | L3: 0347 | M3: 0879 | N3: 3004 | O3: 2804 | P3: 2231 | Q3: 3875 | R3: 4652 | S3: 0349 | T3: 2262 | U3: 0377
A4: FC Pool Devices | B4: Total GB | C4: 143392.2 | D4: 150515.8 | E4: 150515.8 | F4: 181997.8 | G4: 165452.5 | H4: 132132 | I4: 170968.6 | J4: 166077.9 | K4: 95044.2 | L4: 83196.1 | M4: 193027 | N4: 132132.2 | O4: 82726.3 | P4: 275755 | Q4: 83039 | R4: 188981.6 | S4: 83196.1 | T4: 55151 | U4: 33090.5
B5: Used GB | C5: 41815.6 | D5: 78195.6 | E5: 79699.6 | F5: 159448.1 | G5: 100240 | H5: 52145.5 | I5: 85757.7 | J5: 14302.9 | K5: 2.7 | L5: 4.7 | M5: 159820 | N5: 60861.2 | O5: 51501.3 | P5: 156601.8 | Q5: 7253.4 | R5: 5.4 | S5: 4.7 | T5: 7383.1 | U5: 4454.3
B6: % full | C6: =C5/C4 -> 0.29161698 | D6: =D5/D4 -> 0.51951755 | E6: =E5/E4 -> 0.52950986 | F6: =F5/F4 -> 0.87609905 | G6: =G5/G4 -> 0.60585364 | H6: =H5/H4 -> 0.39464702 | I6: =I5/I4 -> 0.50159912 | J6: =J5/J4 -> 0.086121633 | ... U6: =U5/U4 -> 0.13460963
A7: EFD Pool Devices | B7: Total GB | C7: 9191.8 | D7: n/a | E7: n/a | F7: n/a | G7: n/a | H7: 13787.7 | I7: n/a | J7: n/a | K7: n/a | L7: 8804.8 | M7: n/a | N7: 13787.7 | O7: n/a | P7: n/a | Q7: n/a | R7: n/a | S7: 8804.8 | T7: n/a | U7: n/a
B8: Used GB | C8: 8299.9 | D8: n/a | E8: n/a | F8: n/a | G8: n/a | H8: 13646.7 | I8: n/a | J8: n/a | K8: n/a | L8: 0 | M8: n/a | N8: 13649.1 | O8: n/a | P8: n/a | Q8: n/a | R8: n/a | S8: 0 | T8: n/a | U8: n/a
B9: % full | C9: =C8/C7 -> 0.90296786 | D9: n/a | E9: n/a | F9: n/a | G9: n/a | H9: =H8/H7 -> 0.98977349 | I9: n/a | J9: n/a | K9: n/a | L9: =L8/L7 -> 0 | M9: n/a | N9: =N8/N7 -> 0.98994756 | O9: n/a | P9: n/a | Q9: n/a | R9: n/a | S9: =S8/S7 -> 0 | T9: n/a | U9: n/a
A10: SATA Pool Devices | B10: Total GB | C10: 97433.6 | D10: n/a | E10: n/a | F10: n/a | G10: n/a | H10: 243584.4 | I10: n/a | J10: n/a | K10: n/a | L10: 132070.3 | M10: n/a | N10: 292299.3 | O10: n/a | P10: n/a | Q10: n/a | R10: n/a | S10: 132070.4 | T10: n/a | U10: n/a
B11: Used GB | C11: 38973.2 | D11: n/a | E11: n/a | F11: n/a | G11: n/a | H11: 98820.2 | I11: n/a | J11: n/a | K11: n/a | L11: 0.1 | M11: n/a | N11: 85901.5 | O11: n/a | P11: n/a | Q11: n/a | R11: n/a | S11: 0 | T11: n/a | U11: n/a
B12: % full | C12: =C11/C10 -> 0.39999754 | D12: n/a | E12: n/a | F12: n/a | G12: n/a | H12: =H11/H10 -> 0.40569183 | I12: n/a | J12: n/a | K12: n/a | L12: =L11/L10 -> 7.5717251e-07 | M12: n/a | N12: =N11/N10 -> 0.29388199 | O12: n/a | P12: n/a | Q12: n/a | R12: n/a | S12: =S11/S10 -> 0 | T12: n/a | U12: n/a
A13: Thin Devices | B13: # Devices | C13: 5870 | D13: 3333 | E13: 3330 | F13: 9457 | G13: 8428 | H13: 15703 | I13: 7403 | J13: 9599 | K13: 3593 | L13: 6399 | M13: 9289 | N13: 12295 | O13: 4354 | P13: 10027 | Q13: 4799 | R13: 7192 | S13: 6399 | T13: 2000 | U13: 1250
B14: Virtual Capacity GB | C14: =C13*33.717 -> 197918.79 | D14: =D13*33.717 -> 112378.76 | E14: =E13*33.717 -> 112277.61 | F14: =F13*33.717 -> 318861.67 | G14: =G13*33.717 -> 284166.88 | H14: =H13*33.717 -> 529458.05 | I14: =I13*33.717 -> 249606.95 | J14: =J13*33.717 -> 323649.48 | ... U14: =U13*33.717 -> 42146.25
B15: # Allocated | C15: =SUM(C13-531) -> 5339 | D15: =SUM(D13-650) -> 2683 | E15: =SUM(E13-616) -> 2714 | F15: =SUM(F13-1211) -> 8246 | G15: =SUM(G13-4559) -> 3869 | H15: =SUM(H13-2079) -> 13624 | I15: =SUM(I13-(3249-2000)) -> 6154 | J15: =SUM(J13-9172) -> 427 | K15: =SUM(K13-3504) -> 89 | L15: =SUM(L13-6312) -> 87 | M15: =SUM(M13-909) -> 8380 | N15: =SUM(N13-1185) -> 11110 | O15: =SUM(O13-338) -> 4016 | P15: =SUM(P13-(5201-2614)) -> 7440 | Q15: =SUM(Q13-3930) -> 869 | R15: =SUM(R13-7032) -> 160 | S15: =SUM(S13-6199) -> 200 | T15: =SUM(T13-1033) -> 967 | U15: =SUM(U13-752) -> 498 | X15: 3073 remaining
B16: GB Allocated | C16: =(C15*33.7167) -> 180013.46 | D16: =(D15*33.7167) -> 90461.906 | E16: =(E15*33.7167) -> 91507.124 | F16: =(F15*33.7167) -> 278027.91 | G16: =(G15*33.7167) -> 130449.91 | H16: =(H15*33.7167) -> 459356.32 | I16: =(I15*33.7167) -> 207492.57 | J16: =(J15*33.7167) -> 14397.031 | K16: =K15*33.717 -> 3000.813 | L16: =L15*33.717 -> 2933.379 | M16: =(M15*33.7167) -> 282545.95 | N16: =(N15*33.7167) -> 374592.54 | O16: =(O15*33.7167) -> 135406.27 | P16: =(P15*33.7167) -> 250852.25 | Q16: =(Q15*33.7167) -> 29299.812 | R16: =(R15*33.7167) -> 5394.672 | S16: =(S15*33.7167) -> 6743.34 | T16: =(T15*33.7167) -> 32604.049 | U16: =(U15*33.7167) -> 16790.917 | X16: =344240-H15 -> 330616 | Y16: GB
B17: "Virtual Capacity GB" Subscription | C17: =C14/(C4+C7+C10) -> 0.79161943 | D17: =D14/D4 -> 0.74662435 | E17: =E14/E4 -> 0.74595232 | F17: =F14/F4 -> 1.7520084 | G17: =G14/G4 -> 1.7175133 | H17: =H14/(H4+H7+H10) -> 1.3593132 | I17: =I14/I4 -> 1.4599579 | J17: =J14/J4 -> 1.9487812 | K17: =K14/K4 -> 1.2746194 | L17: =L14/(L4+L7+L10) -> 0.96288627 | M17: =M14/M4 -> 1.6225565 | N17: =N14/(N4+N7+N10) -> 0.94598894 | O17: =O14/O4 -> 1.7745725 | P17: =P14/P4 -> 1.2260171 | Q17: =Q14/Q4 -> 1.948577 | R17: =R14/R4 -> 1.2831549 | S17: =S14/S4 -> 2.5933317 | T17: =T14/T4 -> 1.2227158 | U17: =U14/U4 -> 1.2736662
B18: "GB Allocated" subscription | C18: =C16/(C4+C7+C10) -> 0.72000316 | D18: =D16/D4 -> 0.60101269 | E18: =E16/E4 -> 0.60795693 | F18: =F16/F4 -> 1.5276443 | G18: =G16/G4 -> 0.78844328 | H18: =H16/(H4+H7+H10) -> 1.1793363 | I18: =I16/I4 -> 1.2136297 | J18: =J16/J4 -> 0.086688421 | K18: =K16/K4 -> 0.031572816 | L18: =L16/L4 -> 0.035258612 | M18: =M16/M4 -> 1.4637639 | N18: =N16/(N4+N7+N10) -> 0.85480631 | O18: =O16/O4 -> 1.6367983 | P18: =P16/P4 -> 0.90969247 | Q18: =Q16/Q4 -> 0.35284399 | R18: =R16/R4 -> 0.028546017 | S18: =S16/S4 -> 0.081053559 | T18: =T16/T4 -> 0.59117784 | U18: =U16/U4 -> 0.50742408
A19: 41430 | C19: =C23+C26+C29 -> 89088.7 | H19: =H23+H26+H29 -> 164612.4 | L19: =M23+M26+M29 -> 160411.8
A20: Site | C20: CGC | D20: CGC | E20: RDC | F20: RDC | G20: RDC | H20: RDC | I20: RDC | J20: RDC | K20: RDC | L20: FDC | M20: FDC | N20: FDC | O20: FDC | P20: FDC | Q20: FDC | R20: ZDC | S20: ZDC
A21: VMAX | C21: 0623 | D21: 0745 | E21: 0552 | F21: 0678 | G21: 3286 | H21: 3073 | I21: 2230 | J21: 3696 | K21: 4330 | L21: 0879 | M21: 3004 | N21: 2804 | O21: 2231 | P21: 3875 | Q21: 4652 | R21: 2262 | S21: 0377
A22: FC Pool Devices | B22: Total GB | C22: 143392.2 | D22: 150515.8 | E22: 150515.8 | F22: 181997.8 | G22: 165452.5 | H22: 132132 | I22: 170968.6 | J22: 166077.9 | K22: 95044.2 | L22: 193027 | M22: 132132.2 | N22: 82726.3 | O22: 275755 | P22: 83039 | Q22: 188981.6 | R22: 55151 | S22: 33090.5
B23: Used GB | C23: 41815.6 | D23: 78195.6 | E23: 79699.6 | F23: 159448.1 | G23: 100240 | H23: 52145.5 | I23: 85757.7 | J23: 14302.9 | K23: 2.7 | L23: 159820 | M23: 60861.2 | N23: 51501.3 | O23: 156601.8 | P23: 7253.4 | Q23: 5.4 | R23: 7383.1 | S23: 4454.3
B24: % full | C24: =C23/C22 -> 0.29161698 | D24: =D23/D22 -> 0.51951755 | E24: =E23/E22 -> 0.52950986 | F24: =F23/F22 -> 0.87609905 | G24: =G23/G22 -> 0.60585364 | H24: =H23/H22 -> 0.39464702 | I24: =I23/I22 -> 0.50159912 | J24: =J23/J22 -> 0.086121633 | ... S24: =S23/S22 -> 0.13460963
A25: EFD Pool Devices | B25: Total GB | C25: 9191.8 | D25: n/a | E25: n/a | F25: n/a | G25: n/a | H25: 13787.7 | I25: n/a | J25: n/a | K25: n/a | L25: n/a | M25: 13787.7 | N25: n/a | O25: n/a | P25: n/a | Q25: n/a | R25: n/a | S25: n/a
B26: Used GB | C26: 8299.9 | D26: n/a | E26: n/a | F26: n/a | G26: n/a | H26: 13646.7 | I26: n/a | J26: n/a | K26: n/a | L26: n/a | M26: 13649.1 | N26: n/a | O26: n/a | P26: n/a | Q26: n/a | R26: n/a | S26: n/a
B27: % full | C27: =C26/C25 -> 0.90296786 | D27: n/a | E27: n/a | F27: n/a | G27: n/a | H27: =H26/H25 -> 0.98977349 | I27: n/a | J27: n/a | K27: n/a | L27: n/a | M27: =M26/M25 -> 0.98994756 | N27: n/a | O27: n/a | P27: n/a | Q27: n/a | R27: n/a | S27: n/a
A28: SATA Pool Devices | B28: Total GB | C28: 97433.6 | D28: n/a | E28: n/a | F28: n/a | G28: n/a | H28: 243584.4 | I28: n/a | J28: n/a | K28: n/a | L28: n/a | M28: 292299.3 | N28: n/a | O28: n/a | P28: n/a | Q28: n/a | R28: n/a | S28: n/a
B29: Used GB | C29: 38973.2 | D29: n/a | E29: n/a | F29: n/a | G29: n/a | H29: 98820.2 | I29: n/a | J29: n/a | K29: n/a | L29: n/a | M29: 85901.5 | N29: n/a | O29: n/a | P29: n/a | Q29: n/a | R29: n/a | S29: n/a
B30: % full | C30: =C29/C28 -> 0.39999754 | D30: n/a | E30: n/a | F30: n/a | G30: n/a | H30: =H29/H28 -> 0.40569183 | I30: n/a | J30: n/a | K30: n/a | L30: n/a | M30: =M29/M28 -> 0.29388199 | N30: n/a | O30: n/a | P30: n/a | Q30: n/a | R30: n/a | S30: n/a
A31: Thin Devices | B31: # Devices | C31: 5870 | D31: 3333 | E31: 3330 | F31: 9457 | G31: 8428 | H31: 15703 | I31: 7403 | J31: 9599 | K31: 3593 | L31: 9289 | M31: 12295 | N31: 4354 | O31: 10027 | P31: 4799 | Q31: 7192 | R31: 2000 | S31: 1250
B32: Virtual Capacity GB | C32: =C31*33.717 -> 197918.79 | D32: =D31*33.717 -> 112378.76 | E32: =E31*33.717 -> 112277.61 | F32: =F31*33.717 -> 318861.67 | G32: =G31*33.717 -> 284166.88 | H32: =H31*33.717 -> 529458.05 | I32: =I31*33.717 -> 249606.95 | J32: =J31*33.717 -> 323649.48 | ... P32: =P31*33.717 -> 161807.88 | Q32: 242492.66 | R32: =R31*33.717 -> 67434 | S32: =S31*33.717 -> 42146.25
B33: # Allocated | C33: =SUM(C31-531) -> 5339 | D33: =SUM(D31-650) -> 2683 | E33: =SUM(E31-616) -> 2714 | F33: =SUM(F31-1211) -> 8246 | G33: =SUM(G31-4559) -> 3869 | H33: =SUM(H31-2079) -> 13624 | I33: =SUM(I31-(3249-2000)) -> 6154 | J33: =SUM(J31-9172) -> 427 | K33: =SUM(K31-3504) -> 89 | L33: =SUM(L31-909) -> 8380 | M33: =SUM(M31-1185) -> 11110 | N33: =SUM(N31-338) -> 4016 | O33: =SUM(O31-(5201-2614)) -> 7440 | P33: =SUM(P31-3930) -> 869 | Q33: =SUM(Q31-7032) -> 160 | R33: =SUM(R31-1033) -> 967 | S33: =SUM(S31-752) -> 498 | V33: 3073 remaining
B34: GB Allocated | C34: =(C33*33.7167) -> 180013.46 | D34: =(D33*33.7167) -> 90461.906 | E34: =(E33*33.7167) -> 91507.124 | F34: =(F33*33.7167) -> 278027.91 | G34: =(G33*33.7167) -> 130449.91 | H34: =(H33*33.7167) -> 459356.32 | I34: =(I33*33.7167) -> 207492.57 | J34: =(J33*33.7167) -> 14397.031 | K34: =K33*33.717 -> 3000.813 | L34: =(L33*33.7167) -> 282545.95 | M34: =(M33*33.7167) -> 374592.54 | N34: =(N33*33.7167) -> 135406.27 | O34: =(O33*33.7167) -> 250852.25 | P34: =(P33*33.7167) -> 29299.812 | Q34: =(Q33*33.7167) -> 5394.672 | R34: =(R33*33.7167) -> 32604.049 | S34: =(S33*33.7167) -> 16790.917 | V34: =344240-H33 -> 330616 | W34: GB
B35: "Virtual Capacity GB" Subscription | C35: =C32/(C22+C25+C28) -> 0.79161943 | D35: =D32/D22 -> 0.74662435 | E35: =E32/E22 -> 0.74595232 | F35: =F32/F22 -> 1.7520084 | G35: =G32/G22 -> 1.7175133 | H35: =H32/(H22+H25+H28) -> 1.3593132 | I35: =I32/I22 -> 1.4599579 | J35: =J32/J22 -> 1.9487812 | K35: =K32/K22 -> 1.2746194 | L35: =L32/L22 -> 1.6225565 | M35: =M32/(M22+M25+M28) -> 0.94598894 | N35: =N32/N22 -> 1.7745725 | O35: =O32/O22 -> 1.2260171 | P35: =P32/P22 -> 1.948577 | Q35: =Q32/Q22 -> 1.2831549 | R35: =R32/R22 -> 1.2227158 | S35: =S32/S22 -> 1.2736662
B36: "GB Allocated" subscription | C36: =C34/(C22+C25+C28) -> 0.72000316 | D36: =D34/D22 -> 0.60101269 | E36: =E34/E22 -> 0.60795693 | F36: =F34/F22 -> 1.5276443 | G36: =G34/G22 -> 0.78844328 | H36: =H34/(H22+H25+H28) -> 1.1793363 | I36: =I34/I22 -> 1.2136297 | J36: =J34/J22 -> 0.086688421 | K36: =K34/K22 -> 0.031572816 | L36: =L34/L22 -> 1.4637639 | M36: =M34/(M22+M25+M28) -> 0.85480631 | N36: =N34/N22 -> 1.6367983 | O36: =O34/O22 -> 0.90969247 | P36: =P34/P22 -> 0.35284399 | Q36: =Q34/Q22 -> 0.028546017 | R36: =R34/R22 -> 0.59117784 | S36: =S34/S22 -> 0.50742408
A37: 41414 | C37: =C41+C44+C47 -> 87823.3 | H37: =H41+H44+H47 -> 160378.9 | L37: =L41+L44+L47 -> 156639.9
A38: Site | C38: CGC | D38: CGC | E38: RDC | F38: RDC | G38: RDC | H38: RDC | I38: RDC | J38: RDC | K38: FDC | L38: FDC | M38: FDC | N38: FDC | O38: FDC | P38: ZDC | Q38: ZDC
A39: VMAX | C39: 0623 | D39: 0745 | E39: 0552 | F39: 0678 | G39: 3286 | H39: 3073 | I39: 2230 | J39: 3696 | K39: 0879 | L39: 3004 | M39: 2804 | N39: 2231 | O39: 3875 | P39: 2262 | Q39: 0377
A40: FC Pool Devices | B40: Total GB | C40: 143392.2 | D40: 150515.8 | E40: 150515.8 | F40: 181997.8 | G40: 165452.5 | H40: 132132 | I40: 170968.6 | J40: 166077.9 | K40: 193027 | L40: 132132.2 | M40: 82726.3 | N40: 275755 | O40: 83039 | P40: 55151 | Q40: 33090.5
B41: Used GB | C41: 40480.2 | D41: 78195.6 | E41: 79699.6 | F41: 159448.1 | G41: 100240 | H41: 55881.2 | I41: 85757.7 | J41: 14302.9 | K41: 159820 | L41: 63928.2 | M41: 51501.3 | N41: 156601.8 | O41: 7253.4 | P41: 7383.1 | Q41: 4454.3
B42: % full | C42: =C41/C40 -> 0.28230406 | D42: =D41/D40 -> 0.51951755 | E42: =E41/E40 -> 0.52950986 | F42: =F41/F40 -> 0.87609905 | G42: =G41/G40 -> 0.60585364 | H42: =H41/H40 -> 0.4229195 | I42: =I41/I40 -> 0.50159912 | J42: =J41/J40 -> 0.086121633 | ... Q42: =Q41/Q40 -> 0.13460963
A43: EFD Pool Devices | B43: Total GB | C43: 9191.8 | D43: n/a | E43: n/a | F43: n/a | G43: n/a | H43: 13787.7 | I43: n/a | J43: n/a | K43: n/a | L43: 13787.7 | M43: n/a | N43: n/a | O43: n/a | P43: n/a | Q43: n/a
B44: Used GB | C44: 8535.7 | D44: n/a | E44: n/a | F44: n/a | G44: n/a | H44: 13648.4 | I44: n/a | J44: n/a | K44: n/a | L44: 13648 | M44: n/a | N44: n/a | O44: n/a | P44: n/a | Q44: n/a
B45: % full | C45: =C44/C43 -> 0.92862116 | D45: n/a | E45: n/a | F45: n/a | G45: n/a | H45: =H44/H43 -> 0.98989679 | I45: n/a | J45: n/a | K45: n/a | L45: =L44/L43 -> 0.98986778 | M45: n/a | N45: n/a | O45: n/a | P45: n/a | Q45: n/a
A46: SATA Pool Devices | B46: Total GB | C46: 97433.6 | D46: n/a | E46: n/a | F46: n/a | G46: n/a | H46: 243584.4 | I46: n/a | J46: n/a | K46: n/a | L46: 292299.3 | M46: n/a | N46: n/a | O46: n/a | P46: n/a | Q46: n/a
B47: Used GB | C47: 38807.4 | D47: n/a | E47: n/a | F47: n/a | G47: n/a | H47: 90849.3 | I47: n/a | J47: n/a | K47: n/a | L47: 79063.7 | M47: n/a | N47: n/a | O47: n/a | P47: n/a | Q47: n/a
B48: % full | C48: =C47/C46 -> 0.39829587 | D48: n/a | E48: n/a | F48: n/a | G48: n/a | H48: =H47/H46 -> 0.37296847 | I48: n/a | J48: n/a | K48: n/a | L48: =L47/L46 -> 0.27048884 | M48: n/a | N48: n/a | O48: n/a | P48: n/a | Q48: n/a
A49: Thin Devices | B49: # Devices | C49: 5870 | D49: 3333 | E49: 3330 | F49: 9457 | G49: 8428 | H49: 15703 | I49: 7403 | J49: 9599 | K49: 9289 | L49: 12295 | M49: 4354 | N49: 10027 | O49: 4799 | P49: 2000 | Q49: 1250
B50: Virtual Capacity GB | C50: =C49*33.717 -> 197918.79 | D50: =D49*33.717 -> 112378.76 | E50: =E49*33.717 -> 112277.61 | F50: =F49*33.717 -> 318861.67 | G50: =G49*33.717 -> 284166.88 | H50: =H49*33.717 -> 529458.05 | I50: =I49*33.717 -> 249606.95 | J50: =J49*33.717 -> 323649.48 | ... Q50: =Q49*33.717 -> 42146.25
B51: # Allocated | C51: 5337 | D51: 2653 | E51: 2684 | F51: 8246 | G51: 3825 | H51: 13622 | I51: 6131 | J51: 380 | K51: 8380 | L51: 11047 | M51: 3972 | N51: 7417 | O51: 855 | P51: 967 | Q51: 498 | T51: 3073 remaining
B52: GB Allocated | C52: =(C51*33.7167) -> 179946.03 | D52: =(D51*33.7167) -> 89450.405 | E52: =(E51*33.7167) -> 90495.623 | F52: =(F51*33.7167) -> 278027.91 | G52: =(G51*33.7167) -> 128966.38 | H52: =(H51*33.7167) -> 459288.89 | I52: =(I51*33.7167) -> 206717.09 | J52: =(J51*33.7167) -> 12812.346 | ... Q52: =(Q51*33.7167) -> 16790.917 | T52: =344240-H51 -> 330618 | U52: GB
B53: "Virtual Capacity GB" Subscription | C53: =C50/(C40+C43+C46) -> 0.79161943 | D53: =D50/D40 -> 0.74662435 | E53: =E50/E40 -> 0.74595232 | F53: =F50/F40 -> 1.7520084 | G53: =G50/G40 -> 1.7175133 | H53: =H50/(H40+H43+H46) -> 1.3593132 | I53: =I50/I40 -> 1.4599579 | J53: =J50/J40 -> 1.9487812 | K53: =K50/K40 -> 1.6225565 | L53: =L50/(L40+L43+L46) -> 0.94598894 | M53: =M50/M40 -> 1.7745725 | N53: =N50/N40 -> 1.2260171 | O53: =O50/O40 -> 1.948577 | P53: =P50/P40 -> 1.2227158 | Q53: =Q50/Q40 -> 1.2736662
B54: "GB Allocated" subscription | C54: =C52/(C40+C43+C46) -> 0.71973344 | D54: =D52/D40 -> 0.59429246 | E54: =E52/E40 -> 0.6012367 | F54: =F52/F40 -> 1.5276443 | G54: =G52/G40 -> 0.77947675 | H54: =H52/(H40+H43+H46) -> 1.1791632 | I54: =I52/I40 -> 1.2090939 | J54: =J52/J40 -> 0.077146604 | K54: =K52/K40 -> 1.4637639 | L54: =L52/(L40+L43+L46) -> 0.84995907 | M54: =M52/M40 -> 1.6188653 | N54: =N52/N40 -> 0.90688025 | O54: =O52/O40 -> 0.34715951 | P54: =P52/P40 -> 0.59117784 | Q54: =Q52/Q40 -> 0.50742408
A55: 41408 | C55: =C59+C62+C65 -> 87271.8 | H55: =H59+H62+H65 -> 160251.1 | L55: =L59+L62+L65 -> 156719.9
A56: Site | C56: CGC | D56: CGC | E56: RDC | F56: RDC | G56: RDC | H56: RDC | I56: RDC | J56: RDC | K56: FDC | L56: FDC | M56: FDC | N56: FDC | O56: FDC | P56: ZDC | Q56: ZDC
A57: VMAX | C57: 0623 | D57: 0745 | E57: 0552 | F57: 0678 | G57: 3286 | H57: 3073 | I57: 2230 | J57: 3696 | K57: 0879 | L57: 3004 | M57: 2804 | N57: 2231 | O57: 3875 | P57: 2262 | Q57: 0377
A58: FC Pool Devices | B58: Total GB | C58: 143392.2 | D58: 150515.8 | E58: 150515.8 | F58: 181997.8 | G58: 165452.5 | H58: 132132 | I58: 170968.6 | J58: 166077.9 | K58: 193027 | L58: 132132.2 | M58: 82726.3 | N58: 275755 | O58: 83039 | P58: 55151 | Q58: 33090.5
B59: Used GB | C59: 39928.7 | D59: 78104.2 | E59: 79624.9 | F59: 159191.3 | G59: 99448.8 | H59: 55753.4 | I59: 85361.2 | J59: 14178.6 | K59: 159241.3 | L59: 64008.2 | M59: 51122.2 | N59: 155906.6 | O59: 7191.3 | P59: 7051.7 | Q59: 3991
B60: % full | C60: =C59/C58 -> 0.27845796 | D60: =D59/D58 -> 0.51891031 | E60: =E59/E58 -> 0.52901357 | F60: =F59/F58 -> 0.87468805 | G60: =G59/G58 -> 0.60107161 | H60: =H59/H58 -> 0.42195229 | I60: =I59/I58 -> 0.49927998 | J60: =J59/J58 -> 0.085373189 | ... Q60: =Q59/Q58 -> 0.12060863
A61: EFD Pool Devices | B61: Total GB | C61: 9191.8 | D61: n/a | E61: n/a | F61: n/a | G61: n/a | H61: 13787.7 | I61: n/a | J61: n/a | K61: n/a | L61: 13787.7 | M61: n/a | N61: n/a | O61: n/a | P61: n/a | Q61: n/a
B62: Used GB | C62: 8535.7 | D62: n/a | E62: n/a | F62: n/a | G62: n/a | H62: 13648.4 | I62: n/a | J62: n/a | K62: n/a | L62: 13648 | M62: n/a | N62: n/a | O62: n/a | P62: n/a | Q62: n/a
B63: % full | C63: =C62/C61 -> 0.92862116 | D63: n/a | E63: n/a | F63: n/a | G63: n/a | H63: =H62/H61 -> 0.98989679 | I63: n/a | J63: n/a | K63: n/a | L63: =L62/L61 -> 0.98986778 | M63: n/a | N63: n/a | O63: n/a | P63: n/a | Q63: n/a
A64: SATA Pool Devices | B64: Total GB | C64: 97433.6 | D64: n/a | E64: n/a | F64: n/a | G64: n/a | H64: 243584.4 | I64: n/a | J64: n/a | K64: n/a | L64: 292299.3 | M64: n/a | N64: n/a | O64: n/a | P64: n/a | Q64: n/a
B65: Used GB | C65: 38807.4 | D65: n/a | E65: n/a | F65: n/a | G65: n/a | H65: 90849.3 | I65: n/a | J65: n/a | K65: n/a | L65: 79063.7 | M65: n/a | N65: n/a | O65: n/a | P65: n/a | Q65: n/a
B66: % full | C66: =C65/C64 -> 0.39829587 | D66: n/a | E66: n/a | F66: n/a | G66: n/a | H66: =H65/H64 -> 0.37296847 | I66: n/a | J66: n/a | K66: n/a | L66: =L65/L64 -> 0.27048884 | M66: n/a | N66: n/a | O66: n/a | P66: n/a | Q66: n/a
A67: Thin Devices | B67: # Devices | C67: 5870 | D67: 3333 | E67: 3330 | F67: 9457 | G67: 8210 | H67: 15703 | I67: 7403 | J67: 9599 | K67: 9289 | L67: 12295 | M67: 4145 | N67: 10027 | O67: 4799 | P67: 2000 | Q67: 1250
B68: Virtual Capacity GB | C68: =C67*33.717 -> 197918.79 | D68: =D67*33.717 -> 112378.76 | E68: =E67*33.717 -> 112277.61 | F68: =F67*33.717 -> 318861.67 | G68: =G67*33.717 -> 276816.57 | H68: =H67*33.717 -> 529458.05 | I68: =I67*33.717 -> 249606.95 | J68: =J67*33.717 -> 323649.48 | ... Q68: =Q67*33.717 -> 42146.25
B69: # Allocated | C69: =SUM(C67-575) -> 5295 | D69: =SUM(D67-680) -> 2653 | E69: =SUM(E67-646) -> 2684 | F69: =SUM(F67-1211) -> 8246 | G69: =SUM(G67-4410) -> 3800 | H69: =SUM(H67-2087) -> 13616 | I69: =SUM(I67-(3272-2000)) -> 6131 | J69: =SUM(J67-9229) -> 370 | K69: =SUM(K67-909) -> 8380 | L69: =SUM(L67-1251) -> 11044 | M69: =SUM(M67-198) -> 3947 | N69: =SUM(N67-(5224-2614)) -> 7417 | O69: =SUM(O67-3960) -> 839 | P69: =SUM(P67-1033) -> 967 | Q69: =SUM(Q67-752) -> 498 | T69: 3073 remaining
B70: GB Allocated | C70: =(C69*33.7167) -> 178529.93 | D70: =(D69*33.7167) -> 89450.405 | E70: =(E69*33.7167) -> 90495.623 | F70: =(F69*33.7167) -> 278027.91 | G70: =(G69*33.7167) -> 128123.46 | H70: =(H69*33.7167) -> 459086.59 | I70: =(I69*33.7167) -> 206717.09 | J70: =(J69*33.7167) -> 12475.179 | ... Q70: =(Q69*33.7167) -> 16790.917 | T70: =344240-H69 -> 330624 | U70: GB
B71: "Virtual Capacity GB" Subscription | C71: =C68/(C58+C61+C64) -> 0.79161943 | D71: =D68/D58 -> 0.74662435 | E71: =E68/E58 -> 0.74595232 | F71: =F68/F58 -> 1.7520084 | G71: =G68/G58 -> 1.6730879 | H71: =H68/(H58+H61+H64) -> 1.3593132 | I71: =I68/I58 -> 1.4599579 | J71: =J68/J58 -> 1.9487812 | K71: =K68/K58 -> 1.6225565 | L71: =L68/(L58+L61+L64) -> 0.94598894 | M71: =M68/M58 -> 1.6893898 | N71: =N68/N58 -> 1.2260171 | O71: =O68/O58 -> 1.948577 | P71: =P68/P58 -> 1.2227158 | Q71: =Q68/Q58 -> 1.2736662
B72: "GB Allocated" subscription | C72: =C70/(C58+C61+C64) -> 0.71406944 | D72: =D70/D58 -> 0.59429246 | E72: =E70/E58 -> 0.6012367 | F72: =F70/F58 -> 1.5276443 | G72: =G70/G58 -> 0.77438213 | H72: =H70/(H58+H61+H64) -> 1.1786438 | I72: =I70/I58 -> 1.2090939 | J72: =J70/J58 -> 0.07511643 | K72: =K70/K58 -> 1.4637639 | L72: =L70/(L58+L61+L64) -> 0.84972825 | M72: =M70/M58 -> 1.608676 | N72: =N70/N58 -> 0.90688025 | O72: =O70/O58 -> 0.34066296 | P72: =P70/P58 -> 0.59117784 | Q72: =Q70/Q58 -> 0.50742408
A73: 41401 | C73: =C77+C80+C83 -> 86789.7 | H73: =H77+H80+H83 -> 156245 | L73: =L77+L80+L83 -> 155852.4
A74: Site | C74: CGC | D74: CGC | E74: RDC | F74: RDC | G74: RDC | H74: RDC | I74: RDC | J74: RDC | K74: FDC | L74: FDC | M74: FDC | N74: FDC | O74: FDC | P74: ZDC | Q74: ZDC
A75: VMAX | C75: 0623 | D75: 0745 | E75: 0552 | F75: 0678 | G75: 3286 | H75: 3073 | I75: 2230 | J75: 3696 | K75: 0879 | L75: 3004 | M75: 2804 | N75: 2231 | O75: 3875 | P75: 2262 | Q75: 0377
A76: FC Pool Devices | B76: Total GB | C76: 143392.2 | D76: 150515.8 | E76: 150515.8 | F76: 181997.8 | G76: 165452.5 | H76: 132132 | I76: 121331.8 | J76: 166077.9 | K76: 193027 | L76: 132132.2 | M76: 82726.3 | N76: 176482.7 | O76: 83039 | P76: 55151 | Q76: 33090.5
B77: Used GB | C77: 39748.1 | D77: 78060.4 | E77: 79602.8 | F77: 158581.3 | G77: 98363.5 | H77: 51009.5 | I77: 84365.5 | J77: 13782.4 | K77: 158963 | L77: 63268.3 | M77: 50687.3 | N77: 154723.8 | O77: 6993.2 | P77: 7016.2 | Q77: 3466.6
B78: % full | C78: =C77/C76 -> 0.27719848 | D78: =D77/D76 -> 0.51861931 | E78: =E77/E76 -> 0.52886674 | F78: =F77/F76 -> 0.87133636 | G78: =G77/G76 -> 0.59451202 | H78: =H77/H76 -> 0.38604956 | I78: =I77/I76 -> 0.69532884 | J78: =J77/J76 -> 0.082987562 | ... Q78: =Q77/Q76 -> 0.10476119
A79: EFD Pool Devices | B79: Total GB | C79: 9191.8 | D79: n/a | E79: n/a | F79: n/a | G79: n/a | H79: 13787.7 | I79: n/a | J79: n/a | K79: n/a | L79: 13787.7 | M79: n/a | N79: n/a | O79: n/a | P79: n/a | Q79: n/a
B80: Used GB | C80: 8316.4 | D80: n/a | E80: n/a | F80: n/a | G80: n/a | H80: 13649.3 | I80: n/a | J80: n/a | K80: n/a | L80: 13648.6 | M80: n/a | N80: n/a | O80: n/a | P80: n/a | Q80: n/a
B81: % full | C81: =C80/C79 -> 0.90476294 | D81: n/a | E81: n/a | F81: n/a | G81: n/a | H81: =H80/H79 -> 0.98996207 | I81: n/a | J81: n/a | K81: n/a | L81: =L80/L79 -> 0.9899113 | M81: n/a | N81: n/a | O81: n/a | P81: n/a | Q81: n/a
A82: SATA Pool Devices | B82: Total GB | C82: 97433.6 | D82: n/a | E82: n/a | F82: n/a | G82: n/a | H82: 243584.4 | I82: n/a | J82: n/a | K82: n/a | L82: 292299.3 | M82: n/a | N82: n/a | O82: n/a | P82: n/a | Q82: n/a
B83: Used GB | C83: 38725.2 | D83: n/a | E83: n/a | F83: n/a | G83: n/a | H83: 91586.2 | I83: n/a | J83: n/a | K83: n/a | L83: 78935.5 | M83: n/a | N83: n/a | O83: n/a | P83: n/a | Q83: n/a
B84: % full | C84: =C83/C82 -> 0.39745221 | D84: n/a | E84: n/a | F84: n/a | G84: n/a | H84: =H83/H82 -> 0.3759937 | I84: n/a | J84: n/a | K84: n/a | L84: =L83/L82 -> 0.27005025 | M84: n/a | N84: n/a | O84: n/a | P84: n/a | Q84: n/a
A85: Thin Devices | B85: # Devices | C85: 5870 | D85: 3333 | E85: 3330 | F85: 9457 | G85: 8210 | H85: 15703 | I85: 7403 | J85: 9599 | K85: 9289 | L85: 12295 | M85: 4133 | N85: 10027 | O85: 4799 | P85: 2000 | Q85: 1250
B86: Virtual Capacity GB | C86: =C85*33.7167 -> 197917.03 | D86: =D85*33.7167 -> 112377.76 | E86: =E85*33.7167 -> 112276.61 | F86: =F85*33.7167 -> 318858.83 | G86: =G85*33.7167 -> 276814.11 | H86: =H85*33.7167 -> 529453.34 | I86: =I85*33.7167 -> 249604.73 | J86: =J85*33.7167 -> 323646.6 | ... Q86: =Q85*33.7167 -> 42145.875
B87: # Allocated | C87: =SUM(C85-642) -> 5228 | D87: =SUM(D85-686) -> 2647 | E87: =SUM(E85-652) -> 2678 | F87: =SUM(F85-1211) -> 8246 | G87: =SUM(G85-4417) -> 3793 | H87: =SUM(H85-2129) -> 13574 | I87: =SUM(I85-(3166-2000)) -> 6237 | J87: =SUM(J85-9230) -> 369 | K87: =SUM(K85-909) -> 8380 | L87: =SUM(L85-1241) -> 11054 | M87: =SUM(M85-198) -> 3935 | N87: =SUM(N85-(5053-2614)) -> 7588 | O87: =SUM(O85-3961) -> 838 | P87: =SUM(P85-1057) -> 943 | Q87: =SUM(Q85-767) -> 483 | T87: 3073 remaining
B88: GB Allocated | C88: =(C87*33.7167) -> 176270.91 | D88: =(D87*33.7167) -> 89248.105 | E88: =(E87*33.7167) -> 90293.323 | F88: =(F87*33.7167) -> 278027.91 | G88: =(G87*33.7167) -> 127887.44 | H88: =(H87*33.7167) -> 457670.49 | I88: =(I87*33.7167) -> 210291.06 | J88: =(J87*33.7167) -> 12441.462 | ... Q88: =(Q87*33.7167) -> 16285.166 | T88: =344240-H88 -> -113430.49 | U88: GB
B89: "Virtual Capacity GB" Subscription | C89: =C86/(C76+C79+C82) -> 0.79161239 | D89: =D86/D76 -> 0.7466177 | E89: =E86/E76 -> 0.74594568 | F89: =F86/F76 -> 1.7519928 | G89: =G86/G76 -> 1.673073 | H89: =H86/(H76+H79+H82) -> 1.3593011 | I89: =I86/I76 -> 2.0572078 | J89: =J86/J76 -> 1.9487638 | K89: =K86/K76 -> 1.6225421 | L89: =L86/(L76+L79+L82) -> 0.94598052 | M89: =M86/M76 -> 1.6844839 | N89: =N86/N76 -> 1.9156402 | O89: =O86/O76 -> 1.9485596 | P89: =P86/P76 -> 1.2227049 | Q89: =Q86/Q76 -> 1.2736548
B90: "GB Allocated" subscription | C90: =C88/(C76+C79+C82) -> 0.705034 | D90: =D88/D76 -> 0.59294841 | E90: =E88/E76 -> 0.59989265 | F90: =F88/F76 -> 1.5276443 | G90: =G88/G76 -> 0.77295564 | H90: =H88/(H76+H79+H82) -> 1.1750081 | I90: =I88/I76 -> 1.73319 | J90: =J88/J76 -> 0.074913413 | K90: =K88/K76 -> 1.4637639 | L90: =L88/(L76+L79+L82) -> 0.85049765 | M90: =M88/M76 -> 1.6037852 | N90: =N88/N76 -> 1.4496736 | O90: =O88/O76 -> 0.34025692 | P90: =P88/P76 -> 0.57650538 | Q90: =Q88/Q76 -> 0.49214022
A91: 41393 | C91: =C95+C98+C101 -> 121593.9 | H91: =H95+H98+H101 -> 154944.2 | L91: =L95+L98+L101 -> 155105.6
A92: Site | C92: CGC | D92: CGC | E92: RDC | F92: RDC | G92: RDC | H92: RDC | I92: RDC | J92: RDC | K92: FDC | L92: FDC | M92: FDC | N92: FDC | O92: FDC | P92: ZDC | Q92: ZDC
A93: VMAX | C93: 0623 | D93: 0745 | E93: 0552 | F93: 0678 | G93: 3286 | H93: 3073 | I93: 2230 | J93: 3696 | K93: 0879 | L93: 3004 | M93: 2804 | N93: 2231 | O93: 3875 | P93: 2262 | Q93: 0377
A94: FC Pool Devices | B94: Total GB | C94: 143392.2 | D94: 150515.8 | E94: 150515.8 | F94: 181997.8 | G94: 165452.5 | H94: 132132 | I94: 121331.8 | J94: 166077.9 | K94: 193027 | L94: 132132.2 | M94: 82726.3 | N94: 176482.7 | O94: 83039 | P94: 55151 | Q94: 33090.5
B95: Used GB | C95: 42452.9 | D95: 77798.5 | E95: 79368 | F95: 157790.2 | G95: 97448.1 | H95: 51518.3 | I95: 84056.7 | J95: 13757.2 | K95: 158575.2 | L95: 64981.5 | M95: 50227.5 | N95: 154514.9 | O95: 6979.2 | P95: 6996.7 | Q95: 3446.7
B96: % full | C96: =C95/C94 -> 0.29606143 | D96: =D95/D94 -> 0.51687929 | E96: =E95/E94 -> 0.52730677 | F96: =F95/F94 -> 0.8669896 | G96: =G95/G94 -> 0.58897931 | H96: =H95/H94 -> 0.38990025 | I96: =I95/I94 -> 0.69278375 | J96: =J95/J94 -> 0.082835826 | ... Q96: =Q95/Q94 -> 0.1041598
A97: EFD Pool Devices | B97: Total GB | C97: 9191.8 | D97: n/a | E97: n/a | F97: n/a | G97: n/a | H97: 13787.7 | I97: n/a | J97: n/a | K97: n/a | L97: 13787.7 | M97: n/a | N97: n/a | O97: n/a | P97: n/a | Q97: n/a
B98: Used GB | C98: 8517.7 | D98: n/a | E98: n/a | F98: n/a | G98: n/a | H98: 13649.2 | I98: n/a | J98: n/a | K98: n/a | L98: 13649.1 | M98: n/a | N98: n/a | O98: n/a | P98: n/a | Q98: n/a
B99: % full | C99: =C98/C97 -> 0.9266629 | D99: n/a | E99: n/a | F99: n/a | G99: n/a | H99: =H98/H97 -> 0.98995481 | I99: n/a | J99: n/a | K99: n/a | L99: =L98/L97 -> 0.98994756 | M99: n/a | N99: n/a | O99: n/a | P99: n/a | Q99: n/a
A100: SATA Pool Devices | B100: Total GB | C100: 97433.6 | D100: n/a | E100: n/a | F100: n/a | G100: n/a | H100: 243584.4 | I100: n/a | J100: n/a | K100: n/a | L100: 292299.3 | M100: n/a | N100: n/a | O100: n/a | P100: n/a | Q100: n/a
...

Sheet used space Charts
B1: 0623 | C1: 0745 | D1: 0552 | E1: 0678 | F1: 3286 | G1: 3073 | H1: 2230 | I1: 3696 | J1: 4330 | K1: 0347 | L1: 0879 | M1: 3004 | N1: 2804 | O1: 2231 | P1: 2262
B2: CGC T4 V-MAX 0623 | C2: CGC T3 V-MAX 0745 | D2: RDC T3 V-MAX 0552 | E2: RDC T4 V-MAX 0678 | F2: RDC T3 V-MAX 3286 | G2: RDC T4 V-MAX 3073 | H2: RDC T3 V-MAX 2230 | I2: RDC T3 V-MAX 3696 | J2: RDC T3 V-MAX 4330 | K2: RDC T4 V-MAX 0347 | L2: FDC T4 V-MAX 0879 | M2: FDC T4 V-MAX 3004 | N2: FDC T4 V-MAX 2804 | O2: FDC T3 V-MAX 2231 | P2: EDC T3 V-MAX 2262 | T2: Row | U2: % full | V2: =MATCH(U2,Table!$B:$B,0) -> 6 | X2: Row | Y2: VMAX | Z2: =MATCH(Y2,Table!$A:$A,0) -> 3 | AA2: Max Column
A3: 41443 | B3: =IF(ISERROR(MATCH(B$1,INDIRECT("Table!A"&$X3):INDIRECT("Table!" & $AA$171 & $X3),0)),"",INDIRECT(CONCATENATE("Table!",ADDRESS($T3,MATCH(B$1,INDIRECT("Table!A" & $X3):INDIRECT("Table!" & $AA$171 & $X3),0))))) -> 0.29161698 | C3: =IF(ISERROR(MATCH(C$1,INDIRECT("Table!A"&$X3):INDIRECT("Table!" & $AA$171 & $X3),0)),"",INDIRECT(CONCATENATE("Table!",ADDRESS($T3,MATCH(C$1,INDIRECT("Table!A" & $X3):INDIRECT("Table!" & $AA$171 & $X3),0))))) -> 0.51951755 | D3: =IF(ISERROR(MATCH(D$1,INDIRECT("Table!A"&$X3):INDIRECT("Table!" & $AA$171 & $X3),0)),"",INDIRECT(CONCATENATE("Table!",ADDRESS($T3,MATCH(D$1,INDIRECT("Table!A" & $X3):INDIRECT("Table!" & $AA$171 & $X3),0))))) -> 0.52950986 | E3: =IF(ISERROR(MATCH(E$1,INDIRECT("Table!A"&$X3):INDIRECT("Table!" & $AA$171 & $X3),0)),"",INDIRECT(CONCATENATE("Table!",ADDRESS($T3,MATCH(E$1,INDIRECT("Table!A" & $X3):INDIRECT("Table!" & $AA$171 & $X3),0))))) -> 0.87609905 | F3: =IF(ISERROR(MATCH(F$1,INDIRECT("Table!A"&$X3):INDIRECT("Table!" & $AA$171 & $X3),0)),"",INDIRECT(CONCATENATE("Table!",ADDRESS($T3,MATCH(F$1,INDIRECT("Table!A" & $X3):INDIRECT("Table!" & $AA$171 & $X3),0))))) -> 0.60585364 | G3: =IF(ISERROR(MATCH(G$1,INDIRECT("Table!A"&$X3):INDIRECT("Table!" & $AA$171 & $X3),0)),"",INDIRECT(CONCATENATE("Table!",ADDRESS($T3,MATCH(G$1,INDIRECT("Table!A" & $X3):INDIRECT("Table!" & $AA$171 & $X3),0))))) -> 0.39464702 | H3: =IF(ISERROR(MATCH(H$1,INDIRECT("Table!A"&$X3):INDIRECT("Table!" & $AA$171 & $X3),0)),"",INDIRECT(CONCATENATE("Table!",ADDRESS($T3,MATCH(H$1,INDIRECT("Table!A" & $X3):INDIRECT("Table!" & $AA$171 & $X3),0))))) -> 0.50159912 | I3: =IF(ISERROR(MATCH(I$1,INDIRECT("Table!A"&$X3):INDIRECT("Table!" & $AA$171 & $X3),0)),"",INDIRECT(CONCATENATE("Table!",ADDRESS($T3,MATCH(I$1,INDIRECT("Table!A" & $X3):INDIRECT("Table!" & $AA$171 & $X3),0))))) -> 0.086121633 | ... P3: =IF(ISERROR(MATCH(P$1,INDIRECT("Table!A"&$X3):INDIRECT("Table!" & $AA$171 & $X3),0)),"",INDIRECT(CONCATENATE("Table!",ADDRESS($T3,MATCH(P$1,INDIRECT("Table!A" & $X3):INDIRECT("Table!" & $AA$171 & $X3),0))))) -> 0.13387065 | T3: =MATCH($A3,Table!$A:$A,0)+$V$2-1 -> 6 | X3: =MATCH($A3,Table!$A:$A,0)+$Z$2-1 -> 3 | AA3: U
A4: 41430 | B4: =IF(ISERROR(MATCH(B$1,INDIRECT("Table!A"&$X4):INDIRECT("Table!" & $AA$171 & $X4),0)),"",INDIRECT(CONCATENATE("Table!",ADDRESS($T4,MATCH(B$1,INDIRECT("Table!A" & $X4):INDIRECT("Table!" & $AA$171 & $X4),0))))) -> 0.29161698 | C4: =IF(ISERROR(MATCH(C$1,INDIRECT("Table!A"&$X4):INDIRECT("Table!" & $AA$171 & $X4),0)),"",INDIRECT(CONCATENATE("Table!",ADDRESS($T4,MATCH(C$1,INDIRECT("Table!A" & $X4):INDIRECT("Table!" & $AA$171 & $X4),0))))) -> 0.51951755 | D4: =IF(ISERROR(MATCH(D$1,INDIRECT("Table!A"&$X4):INDIRECT("Table!" & $AA$171 & $X4),0)),"",INDIRECT(CONCATENATE("Table!",ADDRESS($T4,MATCH(D$1,INDIRECT("Table!A" & $X4):INDIRECT("Table!" & $AA$171 & $X4),0))))) -> 0.52950986 | E4: =IF(ISERROR(MATCH(E$1,INDIRECT("Table!A"&$X4):INDIRECT("Table!" & $AA$171 & $X4),0)),"",INDIRECT(CONCATENATE("Table!",ADDRESS($T4,MATCH(E$1,INDIRECT("Table!A" & $X4):INDIRECT("Table!" & $AA$171 & $X4),0))))) -> 0.87609905 | F4: =IF(ISERROR(MATCH(F$1,INDIRECT("Table!A"&$X4):INDIRECT("Table!" & $AA$171 & $X4),0)),"",INDIRECT(CONCATENATE("Table!",ADDRESS($T4,MATCH(F$1,INDIRECT("Table!A" & $X4):INDIRECT("Table!" & $AA$171 & $X4),0))))) -> 0.60585364 | G4: =IF(ISERROR(MATCH(G$1,INDIRECT("Table!A"&$X4):INDIRECT("Table!" & $AA$171 & $X4),0)),"",INDIRECT(CONCATENATE("Table!",ADDRESS($T4,MATCH(G$1,INDIRECT("Table!A" & $X4):INDIRECT("Table!" & $AA$171 & $X4),0))))) -> 0.39464702 | H4: =IF(ISERROR(MATCH(H$1,INDIRECT("Table!A"&$X4):INDIRECT("Table!" & $AA$171 & $X4),0)),"",INDIRECT(CONCATENATE("Table!",ADDRESS($T4,MATCH(H$1,INDIRECT("Table!A" & $X4):INDIRECT("Table!" & $AA$171 & $X4),0))))) -> 0.50159912 | I4: =IF(ISERROR(MATCH(I$1,INDIRECT("Table!A"&$X4):INDIRECT("Table!" & $AA$171 & $X4),0)),"",INDIRECT(CONCATENATE("Table!",ADDRESS($T4,MATCH(I$1,INDIRECT("Table!A" & $X4):INDIRECT("Table!" & $AA$171 & $X4),0))))) -> 0.086121633 | ... P4: =IF(ISERROR(MATCH(P$1,INDIRECT("Table!A"&$X4):INDIRECT("Table!" & $AA$171 & $X4),0)),"",INDIRECT(CONCATENATE("Table!",ADDRESS($T4,MATCH(P$1,INDIRECT("Table!A" & $X4):INDIRECT("Table!" & $AA$171 & $X4),0))))) -> 0.13387065 | T4: =MATCH($A4,Table!$A:$A,0)+$V$2-1 -> 24 | X4: =MATCH($A4,Table!$A:$A,0)+$Z$2-1 -> 21 | AA4: U
A5: 41414 | B5: =IF(ISERROR(MATCH(B$1,INDIRECT("Table!A"&$X5):INDIRECT("Table!" & $AA$171 & $X5),0)),"",INDIRECT(CONCATENATE("Table!",ADDRESS($T5,MATCH(B$1,INDIRECT("Table!A" & $X5):INDIRECT("Table!" & $AA$171 & $X5),0))))) -> 0.28230406 | C5: =IF(ISERROR(MATCH(C$1,INDIRECT("Table!A"&$X5):INDIRECT("Table!" & $AA$171 & $X5),0)),"",INDIRECT(CONCATENATE("Table!",ADDRESS($T5,MATCH(C$1,INDIRECT("Table!A" & $X5):INDIRECT("Table!" & $AA$171 & $X5),0))))) -> 0.51951755 | D5: =IF(ISERROR(MATCH(D$1,INDIRECT("Table!A"&$X5):INDIRECT("Table!" & $AA$171 & $X5),0)),"",INDIRECT(CONCATENATE("Table!",ADDRESS($T5,MATCH(D$1,INDIRECT("Table!A" & $X5):INDIRECT("Table!" & $AA$171 & $X5),0))))) -> 0.52950986 | E5: =IF(ISERROR(MATCH(E$1,INDIRECT("Table!A"&$X5):INDIRECT("Table!" & $AA$171 & $X5),0)),"",INDIRECT(CONCATENATE("Table!",ADDRESS($T5,MATCH(E$1,INDIRECT("Table!A" & $X5):INDIRECT("Table!" & $AA$171 & $X5),0))))) -> 0.87609905 | F5: =IF(ISERROR(MATCH(F$1,INDIRECT("Table!A"&$X5):INDIRECT("Table!" & $AA$171 & $X5),0)),"",INDIRECT(CONCATENATE("Table!",ADDRESS($T5,MATCH(F$1,INDIRECT("Table!A" & $X5):INDIRECT("Table!" & $AA$171 & $X5),0))))) -> 0.60585364 | G5: =IF(ISERROR(MATCH(G$1,INDIRECT("Table!A"&$X5):INDIRECT("Table!" & $AA$171 & $X5),0)),"",INDIRECT(CONCATENATE("Table!",ADDRESS($T5,MATCH(G$1,INDIRECT("Table!A" & $X5):INDIRECT("Table!" & $AA$171 & $X5),0))))) -> 0.4229195 | H5: =IF(ISERROR(MATCH(H$1,INDIRECT("Table!A"&$X5):INDIRECT("Table!" & $AA$171 & $X5),0)),"",INDIRECT(CONCATENATE("Table!",ADDRESS($T5,MATCH(H$1,INDIRECT("Table!A" & $X5):INDIRECT("Table!" & $AA$171 & $X5),0))))) -> 0.50159912 | I5: =IF(ISERROR(MATCH(I$1,INDIRECT("Table!A"&$X5):INDIRECT("Table!" & $AA$171 & $X5),0)),"",INDIRECT(CONCATENATE("Table!",ADDRESS($T5,MATCH(I$1,INDIRECT("Table!A" & $X5):INDIRECT("Table!" & $AA$171 & $X5),0))))) -> 0.086121633 | ... P5: =IF(ISERROR(MATCH(P$1,INDIRECT("Table!A"&$X5):INDIRECT("Table!" & $AA$171 & $X5),0)),"",INDIRECT(CONCATENATE("Table!",ADDRESS($T5,MATCH(P$1,INDIRECT("Table!A" & $X5):INDIRECT("Table!" & $AA$171 & $X5),0))))) -> 0.13387065 | T5: =MATCH($A5,Table!$A:$A,0)+$V$2-1 -> 42 | X5: =MATCH($A5,Table!$A:$A,0)+$Z$2-1 -> 39 | AA5: U
A6: 41408 | B6: =IF(ISERROR(MATCH(B$1,INDIRECT("Table!A"&$X6):INDIRECT("Table!" & $AA$171 & $X6),0)),"",INDIRECT(CONCATENATE("Table!",ADDRESS($T6,MATCH(B$1,INDIRECT("Table!A" & $X6):INDIRECT("Table!" & $AA$171 & $X6),0))))) -> 0.27845796 | C6: =IF(ISERROR(MATCH(C$1,INDIRECT("Table!A"&$X6):INDIRECT("Table!" & $AA$171 & $X6),0)),"",INDIRECT(CONCATENATE("Table!",ADDRESS($T6,MATCH(C$1,INDIRECT("Table!A" & $X6):INDIRECT("Table!" & $AA$171 & $X6),0))))) -> 0.51891031 | D6: =IF(ISERROR(MATCH(D$1,INDIRECT("Table!A"&$X6):INDIRECT("Table!" & $AA$171 & $X6),0)),"",INDIRECT(CONCATENATE("Table!",ADDRESS($T6,MATCH(D$1,INDIRECT("Table!A" & $X6):INDIRECT("Table!" & $AA$171 & $X6),0))))) -> 0.52901357 | E6: =IF(ISERROR(MATCH(E$1,INDIRECT("Table!A"&$X6):INDIRECT("Table!" & $AA$171 & $X6),0)),"",INDIRECT(CONCATENATE("Table!",ADDRESS($T6,MATCH(E$1,INDIRECT("Table!A" & $X6):INDIRECT("Table!" & $AA$171 & $X6),0))))) -> 0.87468805 | F6: =IF(ISERROR(MATCH(F$1,INDIRECT("Table!A"&$X6):INDIRECT("Table!" & $AA$171 & $X6),0)),"",INDIRECT(CONCATENATE("Table!",ADDRESS($T6,MATCH(F$1,INDIRECT("Table!A" & $X6):INDIRECT("Table!" & $AA$171 & $X6),0))))) -> 0.60107161 | G6: =IF(ISERROR(MATCH(G$1,INDIRECT("Table!A"&$X6):INDIRECT("Table!" & $AA$171 & $X6),0)),"",INDIRECT(CONCATENATE("Table!",ADDRESS($T6,MATCH(G$1,INDIRECT("Table!A" & $X6):INDIRECT("Table!" & $AA$171 & $X6),0))))) -> 0.42195229 | H6: =IF(ISERROR(MATCH(H$1,INDIRECT("Table!A"&$X6):INDIRECT("Table!" & $AA$171 & $X6),0)),"",INDIRECT(CONCATENATE("Table!",ADDRESS($T6,MATCH(H$1,INDIRECT("Table!A" & $X6):INDIRECT("Table!" & $AA$171 & $X6),0))))) -> 0.49927998 | I6: =IF(ISERROR(MATCH(I$1,INDIRECT("Table!A"&$X6):INDIRECT("Table!" & $AA$171 & $X6),0)),"",INDIRECT(CONCATENATE("Table!",ADDRESS($T6,MATCH(I$1,INDIRECT("Table!A" & $X6):INDIRECT("Table!" & $AA$171 & $X6),0))))) -> 0.085373189 | ... P6: =IF(ISERROR(MATCH(P$1,INDIRECT("Table!A"&$X6):INDIRECT("Table!" & $AA$171 & $X6),0)),"",INDIRECT(CONCATENATE("Table!",ADDRESS($T6,MATCH(P$1,INDIRECT("Table!A" & $X6):INDIRECT("Table!" & $AA$171 & $X6),0))))) -> 0.12786169 | T6: =MATCH($A6,Table!$A:$A,0)+$V$2-1 -> 60 | X6: =MATCH($A6,Table!$A:$A,0)+$Z$2-1 -> 57 | AA6: U
A7: 41401 | B7: =IF(ISERROR(MATCH(B$1,INDIRECT("Table!A"&$X7):INDIRECT("Table!" & $AA$171 & $X7),0)),"",INDIRECT(CONCATENATE("Table!",ADDRESS($T7,MATCH(B$1,INDIRECT("Table!A" & $X7):INDIRECT("Table!" & $AA$171 & $X7),0))))) -> 0.27719848 | C7: =IF(ISERROR(MATCH(C$1,INDIRECT("Table!A"&$X7):INDIRECT("Table!" & $AA$171 & $X7),0)),"",INDIRECT(CONCATENATE("Table!",ADDRESS($T7,MATCH(C$1,INDIRECT("Table!A" & $X7):INDIRECT("Table!" & $AA$171 & $X7),0))))) -> 0.51861931 | D7: =IF(ISERROR(MATCH(D$1,INDIRECT("Table!A"&$X7):INDIRECT("Table!" & $AA$171 & $X7),0)),"",INDIRECT(CONCATENATE("Table!",ADDRESS($T7,MATCH(D$1,INDIRECT("Table!A" & $X7):INDIRECT("Table!" & $AA$171 & $X7),0))))) -> 0.52886674 | E7: =IF(ISERROR(MATCH(E$1,INDIRECT("Table!A"&$X7):INDIRECT("Table!" & $AA$171 & $X7),0)),"",INDIRECT(CONCATENATE("Table!",ADDRESS($T7,MATCH(E$1,INDIRECT("Table!A" & $X7):INDIRECT("Table!" & $AA$171 & $X7),0))))) -> 0.87133636 | F7: =IF(ISERROR(MATCH(F$1,INDIRECT("Table!A"&$X7):INDIRECT("Table!" & $AA$171 & $X7),0)),"",INDIRECT(CONCATENATE("Table!",ADDRESS($T7,MATCH(F$1,INDIRECT("Table!A" & $X7):INDIRECT("Table!" & $AA$171 & $X7),0))))) -> 0.59451202 | G7: =IF(ISERROR(MATCH(G$1,INDIRECT("Table!A"&$X7):INDIRECT("Table!" & $AA$171 & $X7),0)),"",INDIRECT(CONCATENATE("Table!",ADDRESS($T7,MATCH(G$1,INDIRECT("Table!A" & $X7):INDIRECT("Table!" & $AA$171 & $X7),0))))) -> 0.38604956 | H7: =IF(ISERROR(MATCH(H$1,INDIRECT("Table!A"&$X7):INDIRECT("Table!" & $AA$171 & $X7),0)),"",INDIRECT(CONCATENATE("Table!",ADDRESS($T7,MATCH(H$1,INDIRECT("Table!A" & $X7):INDIRECT("Table!" & $AA$171 & $X7),0))))) -> 0.69532884 | I7: =IF(ISERROR(MATCH(I$1,INDIRECT("Table!A"&$X7):INDIRECT("Table!" & $AA$171 & $X7),0)),"",INDIRECT(CONCATENATE("Table!",ADDRESS($T7,MATCH(I$1,INDIRECT("Table!A" & $X7):INDIRECT("Table!" & $AA$171 & $X7),0))))) -> 0.082987562 | ... P7: =IF(ISERROR(MATCH(P$1,INDIRECT("Table!A"&$X7):INDIRECT("Table!" & $AA$171 & $X7),0)),"",INDIRECT(CONCATENATE("Table!",ADDRESS($T7,MATCH(P$1,INDIRECT("Table!A" & $X7):INDIRECT("Table!" & $AA$171 & $X7),0))))) -> 0.127218 | T7: =MATCH($A7,Table!$A:$A,0)+$V$2-1 -> 78 | X7: =MATCH($A7,Table!$A:$A,0)+$Z$2-1 -> 75 | AA7: U
A8: 41393 | B8: =IF(ISERROR(MATCH(B$1,INDIRECT("Table!A"&$X8):INDIRECT("Table!" & $AA$171 & $X8),0)),"",INDIRECT(CONCATENATE("Table!",ADDRESS($T8,MATCH(B$1,INDIRECT("Table!A" & $X8):INDIRECT("Table!" & $AA$171 & $X8),0))))) -> 0.29606143 | C8: =IF(ISERROR(MATCH(C$1,INDIRECT("Table!A"&$X8):INDIRECT("Table!" & $AA$171 & $X8),0)),"",INDIRECT(CONCATENATE("Table!",ADDRESS($T8,MATCH(C$1,INDIRECT("Table!A" & $X8):INDIRECT("Table!" & $AA$171 & $X8),0))))) -> 0.51687929 | D8: =IF(ISERROR(MATCH(D$1,INDIRECT("Table!A"&$X8):INDIRECT("Table!" & $AA$171 & $X8),0)),"",INDIRECT(CONCATENATE("Table!",ADDRESS($T8,MATCH(D$1,INDIRECT("Table!A" & $X8):INDIRECT("Table!" & $AA$171 & $X8),0))))) -> 0.52730677 | E8: =IF(ISERROR(MATCH(E$1,INDIRECT("Table!A"&$X8):INDIRECT("Table!" & $AA$171 & $X8),0)),"",INDIRECT(CONCATENATE("Table!",ADDRESS($T8,MATCH(E$1,INDIRECT("Table!A" & $X8):INDIRECT("Table!" & $AA$171 & $X8),0))))) -> 0.8669896 | F8: =IF(ISERROR(MATCH(F$1,INDIRECT("Table!A"&$X8):INDIRECT("Table!" & $AA$171 & $X8),0)),"",INDIRECT(CONCATENATE("Table!",ADDRESS($T8,MATCH(F$1,INDIRECT("Table!A" & $X8):INDIRECT("Table!" & $AA$171 & $X8),0))))) -> 0.58897931 | G8: =IF(ISERROR(MATCH(G$1,INDIRECT("Table!A"&$X8):INDIRECT("Table!" & $AA$171 & $X8),0)),"",INDIRECT(CONCATENATE("Table!",ADDRESS($T8,MATCH(G$1,INDIRECT("Table!A" & $X8):INDIRECT("Table!" & $AA$171 & $X8),0))))) -> 0.38990025 | H8: =IF(ISERROR(MATCH(H$1,INDIRECT("Table!A"&$X8):INDIRECT("Table!" & $AA$171 & $X8),0)),"",INDIRECT(CONCATENATE("Table!",ADDRESS($T8,MATCH(H$1,INDIRECT("Table!A" & $X8):INDIRECT("Table!" & $AA$171 & $X8),0))))) -> 0.69278375 | I8: =IF(ISERROR(MATCH(I$1,INDIRECT("Table!A"&$X8):INDIRECT("Table!" & $AA$171 & $X8),0)),"",INDIRECT(CONCATENATE("Table!",ADDRESS($T8,MATCH(I$1,INDIRECT("Table!A" & $X8):INDIRECT("Table!" & $AA$171 & $X8),0))))) -> 0.082835826 | ... P8: =IF(ISERROR(MATCH(P$1,INDIRECT("Table!A"&$X8):INDIRECT("Table!" & $AA$171 & $X8),0)),"",INDIRECT(CONCATENATE("Table!",ADDRESS($T8,MATCH(P$1,INDIRECT("Table!A" & $X8):INDIRECT("Table!" & $AA$171 & $X8),0))))) -> 0.12686443 | T8: =MATCH($A8,Table!$A:$A,0)+$V$2-1 -> 96 | X8: =MATCH($A8,Table!$A:$A,0)+$Z$2-1 -> 93 | AA8: U
A9: 41374 | B9: =IF(ISERROR(MATCH(B$1,INDIRECT("Table!A"&$X9):INDIRECT("Table!" & $AA$171 & $X9),0)),"",INDIRECT(CONCATENATE("Table!",ADDRESS($T9,MATCH(B$1,INDIRECT("Table!A" & $X9):INDIRECT("Table!" & $AA$171 & $X9),0))))) -> 0.27254481 | C9: =IF(ISERROR(MATCH(C$1,INDIRECT("Table!A"&$X9):INDIRECT("Table!" & $AA$171 & $X9),0)),"",INDIRECT(CONCATENATE("Table!",ADDRESS($T9,MATCH(C$1,INDIRECT("Table!A" & $X9):INDIRECT("Table!" & $AA$171 & $X9),0))))) -> 0.51547811 | D9: =IF(ISERROR(MATCH(D$1,INDIRECT("Table!A"&$X9):INDIRECT("Table!" & $AA$171 & $X9),0)),"",INDIRECT(CONCATENATE("Table!",ADDRESS($T9,MATCH(D$1,INDIRECT("Table!A" & $X9):INDIRECT("Table!" & $AA$171 & $X9),0))))) -> 0.52485254 | E9: =IF(ISERROR(MATCH(E$1,INDIRECT("Table!A"&$X9):INDIRECT("Table!" & $AA$171 & $X9),0)),"",INDIRECT(CONCATENATE("Table!",ADDRESS($T9,MATCH(E$1,INDIRECT("Table!A" & $X9):INDIRECT("Table!" & $AA$171 & $X9),0))))) -> 0.86976106 | F9: =IF(ISERROR(MATCH(F$1,INDIRECT("Table!A"&$X9):INDIRECT("Table!" & $AA$171 & $X9),0)),"",INDIRECT(CONCATENATE("Table!",ADDRESS($T9,MATCH(F$1,INDIRECT("Table!A" & $X9):INDIRECT("Table!" & $AA$171 & $X9),0))))) -> 0.56729091 | G9: =IF(ISERROR(MATCH(G$1,INDIRECT("Table!A"&$X9):INDIRECT("Table!" & $AA$171 & $X9),0)),"",INDIRECT(CONCATENATE("Table!",ADDRESS($T9,MATCH(G$1,INDIRECT("Table!A" & $X9):INDIRECT("Table!" & $AA$171 & $X9),0))))) -> 0.38039233 | H9: =IF(ISERROR(MATCH(H$1,INDIRECT("Table!A"&$X9):INDIRECT("Table!" & $AA$171 & $X9),0)),"",INDIRECT(CONCATENATE("Table!",ADDRESS($T9,MATCH(H$1,INDIRECT("Table!A" & $X9):INDIRECT("Table!" & $AA$171 & $X9),0))))) -> 0.62978543 | I9: =IF(ISERROR(MATCH(I$1,INDIRECT("Table!A"&$X9):INDIRECT("Table!" & $AA$171 & $X9),0)),"",INDIRECT(CONCATENATE("Table!",ADDRESS($T9,MATCH(I$1,INDIRECT("Table!A" & $X9):INDIRECT("Table!" & $AA$171 & $X9),0))))) -> 0.078026637 | ... P9: =IF(ISERROR(MATCH(P$1,INDIRECT("Table!A"&$X9):INDIRECT("Table!" & $AA$171 & $X9),0)),"",INDIRECT(CONCATENATE("Table!",ADDRESS($T9,MATCH(P$1,INDIRECT("Table!A" & $X9):INDIRECT("Table!" & $AA$171 & $X9),0))))) -> 0.12576744 | T9: =MATCH($A9,Table!$A:$A,0)+$V$2-1 -> 114 | X9: =MATCH($A9,Table!$A:$A,0)+$Z$2-1 -> 111 | AA9: U
A10: 41361 | B10: =IF(ISERROR(MATCH(B$1,INDIRECT("Table!A"&$X10):INDIRECT("Table!" & $AA$171 & $X10),0)),"",INDIRECT(CONCATENATE("Table!",ADDRESS($T10,MATCH(B$1,INDIRECT("Table!A" & $X10):INDIRECT("Table!" & $AA$171 & $X10),0))))) -> 0.32784071 | C10: =IF(ISERROR(MATCH(C$1,INDIRECT("Table!A"&$X10):INDIRECT("Table!" & $AA$171 & $X10),0)),"",INDIRECT(CONCATENATE("Table!",ADDRESS($T10,MATCH(C$1,INDIRECT("Table!A" & $X10):INDIRECT("Table!" & $AA$171 & $X10),0))))) -> 0.51455329 | D10: =IF(ISERROR(MATCH(D$1,INDIRECT("Table!A"&$X10):INDIRECT("Table!" & $AA$171 & $X10),0)),"",INDIRECT(CONCATENATE("Table!",ADDRESS($T10,MATCH(D$1,INDIRECT("Table!A" & $X10):INDIRECT("Table!" & $AA$171 & $X10),0))))) -> 0.52393304 | E10: =IF(ISERROR(MATCH(E$1,INDIRECT("Table!A"&$X10):INDIRECT("Table!" & $AA$171 & $X10),0)),"",INDIRECT(CONCATENATE("Table!",ADDRESS($T10,MATCH(E$1,INDIRECT("Table!A" & $X10):INDIRECT("Table!" & $AA$171 & $X10),0))))) -> 0.86513738 | F10: =IF(ISERROR(MATCH(F$1,INDIRECT("Table!A"&$X10):INDIRECT("Table!" & $AA$171 & $X10),0)),"",INDIRECT(CONCATENATE("Table!",ADDRESS($T10,MATCH(F$1,INDIRECT("Table!A" & $X10):INDIRECT("Table!" & $AA$171 & $X10),0))))) -> 0.5330128 | G10: =IF(ISERROR(MATCH(G$1,INDIRECT("Table!A"&$X10):INDIRECT("Table!" & $AA$171 & $X10),0)),"",INDIRECT(CONCATENATE("Table!",ADDRESS($T10,MATCH(G$1,INDIRECT("Table!A" & $X10):INDIRECT("Table!" & $AA$171 & $X10),0))))) -> 0.37043865 | H10: =IF(ISERROR(MATCH(H$1,INDIRECT("Table!A"&$X10):INDIRECT("Table!" & $AA$171 & $X10),0)),"",INDIRECT(CONCATENATE("Table!",ADDRESS($T10,MATCH(H$1,INDIRECT("Table!A" & $X10):INDIRECT("Table!" & $AA$171 & $X10),0))))) -> 0.56124858 | I10: =IF(ISERROR(MATCH(I$1,INDIRECT("Table!A"&$X10):INDIRECT("Table!" & $AA$171 & $X10),0)),"",INDIRECT(CONCATENATE("Table!",ADDRESS($T10,MATCH(I$1,INDIRECT("Table!A" & $X10):INDIRECT("Table!" & $AA$171 & $X10),0))))) -> 0.048819861 | ... P10: =IF(ISERROR(MATCH(P$1,INDIRECT("Table!A"&$X10):INDIRECT("Table!" & $AA$171 & $X10),0)),"",INDIRECT(CONCATENATE("Table!",ADDRESS($T10,MATCH(P$1,INDIRECT("Table!A" & $X10):INDIRECT("Table!" & $AA$171 & $X10),0))))) -> 0.079864372 | T10: =MATCH($A10,Table!$A:$A,0)+$V$2-1 -> 132 | X10: =MATCH($A10,Table!$A:$A,0)+$Z$2-1 -> 129 | AA10: U
A11: 41355 | B11: =IF(ISERROR(MATCH(B$1,INDIRECT("Table!A"&$X11):INDIRECT("Table!" & $AA$171 & $X11),0)),"",INDIRECT(CONCATENATE("Table!",ADDRESS($T11,MATCH(B$1,INDIRECT("Table!A" & $X11):INDIRECT("Table!" & $AA$171 & $X11),0))))) -> 0.26990659 | C11: =IF(ISERROR(MATCH(C$1,INDIRECT("Table!A"&$X11):INDIRECT("Table!" & $AA$171 & $X11),0)),"",INDIRECT(CONCATENATE("Table!",ADDRESS($T11,MATCH(C$1,INDIRECT("Table!A" & $X11):INDIRECT("Table!" & $AA$171 & $X11),0))))) -> 0.51455329 | D11: =IF(ISERROR(MATCH(D$1,INDIRECT("Table!A"&$X11):INDIRECT("Table!" & $AA$171 & $X11),0)),"",INDIRECT(CONCATENATE("Table!",ADDRESS($T11,MATCH(D$1,INDIRECT("Table!A" & $X11):INDIRECT("Table!" & $AA$171 & $X11),0))))) -> 0.52393304 | E11: =IF(ISERROR(MATCH(E$1,INDIRECT("Table!A"&$X11):INDIRECT("Table!" & $AA$171 & $X11),0)),"",INDIRECT(CONCATENATE("Table!",ADDRESS($T11,MATCH(E$1,INDIRECT("Table!A" & $X11):INDIRECT("Table!" & $AA$171 & $X11),0))))) -> 0.86513738 | F11: =IF(ISERROR(MATCH(F$1,INDIRECT("Table!A"&$X11):INDIRECT("Table!" & $AA$171 & $X11),0)),"",INDIRECT(CONCATENATE("Table!",ADDRESS($T11,MATCH(F$1,INDIRECT("Table!A" & $X11):INDIRECT("Table!" & $AA$171 & $X11),0))))) -> 0.5330128 | G11: =IF(ISERROR(MATCH(G$1,INDIRECT("Table!A"&$X11):INDIRECT("Table!" & $AA$171 & $X11),0)),"",INDIRECT(CONCATENATE("Table!",ADDRESS($T11,MATCH(G$1,INDIRECT("Table!A" & $X11):INDIRECT("Table!" & $AA$171 & $X11),0))))) -> 0.34652015 | H11: =IF(ISERROR(MATCH(H$1,INDIRECT("Table!A"&$X11):INDIRECT("Table!" & $AA$171 & $X11),0)),"",INDIRECT(CONCATENATE("Table!",ADDRESS($T11,MATCH(H$1,INDIRECT("Table!A" & $X11):INDIRECT("Table!" & $AA$171 & $X11),0))))) -> 0.56124858 | I11: =IF(ISERROR(MATCH(I$1,INDIRECT("Table!A"&$X11):INDIRECT("Table!" & $AA$171 & $X11),0)),"",INDIRECT(CONCATENATE("Table!",ADDRESS($T11,MATCH(I$1,INDIRECT("Table!A" & $X11):INDIRECT("Table!" & $AA$171 & $X11),0))))) -> 0.048819861 | ... P11: =IF(ISERROR(MATCH(P$1,INDIRECT("Table!A"&$X11):INDIRECT("Table!" & $AA$171 & $X11),0)),"",INDIRECT(CONCATENATE("Table!",ADDRESS($T11,MATCH(P$1,INDIRECT("Table!A" & $X11):INDIRECT("Table!" & $AA$171 & $X11),0))))) -> 0.079864372 | T11: =MATCH($A11,Table!$A:$A,0)+$V$2-1 -> 150 | X11: =MATCH($A11,Table!$A:$A,0)+$Z$2-1 -> 147 | AA11: U
A12: 41351 | B12: =IF(ISERROR(MATCH(B$1,INDIRECT("Table!A"&$X12):INDIRECT("Table!" & $AA$171 & $X12),0)),"",INDIRECT(CONCATENATE("Table!",ADDRESS($T12,MATCH(B$1,INDIRECT("Table!A" & $X12):INDIRECT("Table!" & $AA$171 & $X12),0))))) -> 0.27657292 | C12: =IF(ISERROR(MATCH(C$1,INDIRECT("Table!A"&$X12):INDIRECT("Table!" & $AA$171 & $X12),0)),"",INDIRECT(CONCATENATE("Table!",ADDRESS($T12,MATCH(C$1,INDIRECT("Table!A" & $X12):INDIRECT("Table!" & $AA$171 & $X12),0))))) -> 0.5143181 | D12: =IF(ISERROR(MATCH(D$1,INDIRECT("Table!A"&$X12):INDIRECT("Table!" & $AA$171 & $X12),0)),"",INDIRECT(CONCATENATE("Table!",ADDRESS($T12,MATCH(D$1,INDIRECT("Table!A" & $X12):INDIRECT("Table!" & $AA$171 & $X12),0))))) -> 0.52369851 | E12: =IF(ISERROR(MATCH(E$1,INDIRECT("Table!A"&$X12):INDIRECT("Table!" & $AA$171 & $X12),0)),"",INDIRECT(CONCATENATE("Table!",ADDRESS($T12,MATCH(E$1,INDIRECT("Table!A" & $X12):INDIRECT("Table!" & $AA$171 & $X12),0))))) -> 0.86085491 | F12: =IF(ISERROR(MATCH(F$1,INDIRECT("Table!A"&$X12):INDIRECT("Table!" & $AA$171 & $X12),0)),"",INDIRECT(CONCATENATE("Table!",ADDRESS($T12,MATCH(F$1,INDIRECT("Table!A" & $X12):INDIRECT("Table!" & $AA$171 & $X12),0))))) -> 0.53057887 | G12: =IF(ISERROR(MATCH(G$1,INDIRECT("Table!A"&$X12):INDIRECT("Table!" & $AA$171 & $X12),0)),"",INDIRECT(CONCATENATE("Table!",ADDRESS($T12,MATCH(G$1,INDIRECT("Table!A" & $X12):INDIRECT("Table!" & $AA$171 & $X12),0))))) -> 0.35431992 | H12: =IF(ISERROR(MATCH(H$1,INDIRECT("Table!A"&$X12):INDIRECT("Table!" & $AA$171 & $X12),0)),"",INDIRECT(CONCATENATE("Table!",ADDRESS($T12,MATCH(H$1,INDIRECT("Table!A" & $X12):INDIRECT("Table!" & $AA$171 & $X12),0))))) -> 0.56082082 | I12: =IF(ISERROR(MATCH(I$1,INDIRECT("Table!A"&$X12):INDIRECT("Table!" & $AA$171 & $X12),0)),"",INDIRECT(CONCATENATE("Table!",ADDRESS($T12,MATCH(I$1,INDIRECT("Table!A" & $X12):INDIRECT("Table!" & $AA$171 & $X12),0))))) -> 0.048787948 | ... P12: =IF(ISERROR(MATCH(P$1,INDIRECT("Table!A"&$X12):INDIRECT("Table!" & $AA$171 & $X12),0)),"",INDIRECT(CONCATENATE("Table!",ADDRESS($T12,MATCH(P$1,INDIRECT("Table!A" & $X12):INDIRECT("Table!" & $AA$171 & $X12),0))))) -> 0.078506283 | T12: =MATCH($A12,Table!$A:$A,0)+$V$2-1 -> 168 | X12: =MATCH($A12,Table!$A:$A,0)+$Z$2-1 -> 165 | AA12: U
A13: 41345 | B13: =IF(ISERROR(MATCH(B$1,INDIRECT("Table!A"&$X13):INDIRECT("Table!" & $AA$171 & $X13),0)),"",INDIRECT(CONCATENATE("Table!",ADDRESS($T13,MATCH(B$1,INDIRECT("Table!A" & $X13):INDIRECT("Table!" & $AA$171 & $X13),0))))) -> 0.29319098 | C13: =IF(ISERROR(MATCH(C$1,INDIRECT("Table!A"&$X13):INDIRECT("Table!" & $AA$171 & $X13),0)),"",INDIRECT(CONCATENATE("Table!",ADDRESS($T13,MATCH(C$1,INDIRECT("Table!A" & $X13):INDIRECT("Table!" & $AA$171 & $X13),0))))) -> 0.51296143 | D13: =IF(ISERROR(MATCH(D$1,INDIRECT("Table!A"&$X13):INDIRECT("Table!" & $AA$171 & $X13),0)),"",INDIRECT(CONCATENATE("Table!",ADDRESS($T13,MATCH(D$1,INDIRECT("Table!A" & $X13):INDIRECT("Table!" & $AA$171 & $X13),0))))) -> 0.522296 | E13: =IF(ISERROR(MATCH(E$1,INDIRECT("Table!A"&$X13):INDIRECT("Table!" & $AA$171 & $X13),0)),"",INDIRECT(CONCATENATE("Table!",ADDRESS($T13,MATCH(E$1,INDIRECT("Table!A" & $X13):INDIRECT("Table!" & $AA$171 & $X13),0))))) -> 0.85957797 | F13: =IF(ISERROR(MATCH(F$1,INDIRECT("Table!A"&$X13):INDIRECT("Table!" & $AA$171 & $X13),0)),"",INDIRECT(CONCATENATE("Table!",ADDRESS($T13,MATCH(F$1,INDIRECT("Table!A" & $X13):INDIRECT("Table!" & $AA$171 & $X13),0))))) -> 0.51726447 | G13: =IF(ISERROR(MATCH(G$1,INDIRECT("Table!A"&$X13):INDIRECT("Table!" & $AA$171 & $X13),0)),"",INDIRECT(CONCATENATE("Table!",ADDRESS($T13,MATCH(G$1,INDIRECT("Table!A" & $X13):INDIRECT("Table!" & $AA$171 & $X13),0))))) -> 0.35446826 | H13: =IF(ISERROR(MATCH(H$1,INDIRECT("Table!A"&$X13):INDIRECT("Table!" & $AA$171 & $X13),0)),"",INDIRECT(CONCATENATE("Table!",ADDRESS($T13,MATCH(H$1,INDIRECT("Table!A" & $X13):INDIRECT("Table!" & $AA$171 & $X13),0))))) -> 0.55826008 | I13: =IF(ISERROR(MATCH(I$1,INDIRECT("Table!A"&$X13):INDIRECT("Table!" & $AA$171 & $X13),0)),"",INDIRECT(CONCATENATE("Table!",ADDRESS($T13,MATCH(I$1,INDIRECT("Table!A" & $X13):INDIRECT("Table!" & $AA$171 & $X13),0))))) -> 0.045894126 | ... P13: =IF(ISERROR(MATCH(P$1,INDIRECT("Table!A"&$X13):INDIRECT("Table!" & $AA$171 & $X13),0)),"",INDIRECT(CONCATENATE("Table!",ADDRESS($T13,MATCH(P$1,INDIRECT("Table!A" & $X13):INDIRECT("Table!" & $AA$171 & $X13),0))))) -> 0.078321336 | T13: =MATCH($A13,Table!$A:$A,0)+$V$2-1 -> 186 | X13: =MATCH($A13,Table!$A:$A,0)+$Z$2-1 -> 183 | AA13: U
A14: 41289 | B14: =IF(ISERROR(MATCH(B$1,INDIRECT("Table!A"&$X14):INDIRECT("Table!" & $AA$171 & $X14),0)),"",INDIRECT(CONCATENATE("Table!",ADDRESS($T14,MATCH(B$1,INDIRECT("Table!A" & $X14):INDIRECT("Table!" & $AA$171 & $X14),0))))) -> 0.30244741 | C14: =IF(ISERROR(MATCH(C$1,INDIRECT("Table!A"&$X14):INDIRECT("Table!" & $AA$171 & $X14),0)),"",INDIRECT(CONCATENATE("Table!",ADDRESS($T14,MATCH(C$1,INDIRECT("Table!A" & $X14):INDIRECT("Table!" & $AA$171 & $X14),0))))) -> 0.50613025 | D14: =IF(ISERROR(MATCH(D$1,INDIRECT("Table!A"&$X14):INDIRECT("Table!" & $AA$171 & $X14),0)),"",INDIRECT(CONCATENATE("Table!",ADDRESS($T14,MATCH(D$1,INDIRECT("Table!A" & $X14):INDIRECT("Table!" & $AA$171 & $X14),0))))) -> 0.51552661 | E14: =IF(ISERROR(MATCH(E$1,INDIRECT("Table!A"&$X14):INDIRECT("Table!" & $AA$171 & $X14),0)),"",INDIRECT(CONCATENATE("Table!",ADDRESS($T14,MATCH(E$1,INDIRECT("Table!A" & $X14):INDIRECT("Table!" & $AA$171 & $X14),0))))) -> 0.89201957 | F14: =IF(ISERROR(MATCH(F$1,INDIRECT("Table!A"&$X14):INDIRECT("Table!" & $AA$171 & $X14),0)),"",INDIRECT(CONCATENATE("Table!",ADDRESS($T14,MATCH(F$1,INDIRECT("Table!A" & $X14):INDIRECT("Table!" & $AA$171 & $X14),0))))) -> 0.4570623 | G14: =IF(ISERROR(MATCH(G$1,INDIRECT("Table!A"&$X14):INDIRECT("Table!" & $AA$171 & $X14),0)),"",INDIRECT(CONCATENATE("Table!",ADDRESS($T14,MATCH(G$1,INDIRECT("Table!A" & $X14):INDIRECT("Table!" & $AA$171 & $X14),0))))) -> 0.26121 | H14: =IF(ISERROR(MATCH(H$1,INDIRECT("Table!A"&$X14):INDIRECT("Table!" & $AA$171 & $X14),0)),"",INDIRECT(CONCATENATE("Table!",ADDRESS($T14,MATCH(H$1,INDIRECT("Table!A" & $X14):INDIRECT("Table!" & $AA$171 & $X14),0))))) -> 0.44254927 | I14: =IF(ISERROR(MATCH(I$1,INDIRECT("Table!A"&$X14):INDIRECT("Table!" & $AA$171 & $X14),0)),"",INDIRECT(CONCATENATE("Table!",ADDRESS($T14,MATCH(I$1,INDIRECT("Table!A" & $X14):INDIRECT("Table!" & $AA$171 & $X14),0))))) | ... P14: =IF(ISERROR(MATCH(P$1,INDIRECT("Table!A"&$X14):INDIRECT("Table!" & $AA$171 & $X14),0)),"",INDIRECT(CONCATENATE("Table!",ADDRESS($T14,MATCH(P$1,INDIRECT("Table!A" & $X14):INDIRECT("Table!" & $AA$171 & $X14),0))))) | T14: =MATCH($A14,Table!$A:$A,0)+$V$2-1 -> 204 | X14: =MATCH($A14,Table!$A:$A,0)+$Z$2-1 -> 201 | AA14: U
... A171: 40917 | B171: =IF(ISERROR(MATCH(B$1,INDIRECT("Table!A"&$X171):INDIRECT("Table!" & $AA$171 & $X171),0)),"",INDIRECT(CONCATENATE("Table!",ADDRESS($T171,MATCH(B$1,INDIRECT("Table!A" & $X171):INDIRECT("Table!" & $AA$171 & $X171),0))))) -> 0.76855085 | C171: =IF(ISERROR(MATCH(C$1,INDIRECT("Table!A"&$X171):INDIRECT("Table!" & $AA$171 & $X171),0)),"",INDIRECT(CONCATENATE("Table!",ADDRESS($T171,MATCH(C$1,INDIRECT("Table!A" & $X171):INDIRECT("Table!" & $AA$171 & $X171),0))))) -> 0.817241 | D171: =IF(ISERROR(MATCH(D$1,INDIRECT("Table!A"&$X171):INDIRECT("Table!" & $AA$171 & $X171),0)),"",INDIRECT(CONCATENATE("Table!",ADDRESS($T171,MATCH(D$1,INDIRECT("Table!A" & $X171):INDIRECT("Table!" & $AA$171 & $X171),0))))) -> 0.83447024 | E171: =IF(ISERROR(MATCH(E$1,INDIRECT("Table!A"&$X171):INDIRECT("Table!" & $AA$171 & $X171),0)),"",INDIRECT(CONCATENATE("Table!",ADDRESS($T171,MATCH(E$1,INDIRECT("Table!A" & $X171):INDIRECT("Table!" & $AA$171 & $X171),0))))) -> 0.79574013 | F171: =IF(ISERROR(MATCH(F$1,INDIRECT("Table!A"&$X171):INDIRECT("Table!" & $AA$171 & $X171),0)),"",INDIRECT(CONCATENATE("Table!",ADDRESS($T171,MATCH(F$1,INDIRECT("Table!A" & $X171):INDIRECT("Table!" & $AA$171 & $X171),0))))) -> 0.00064039271 | G171: =IF(ISERROR(MATCH(G$1,INDIRECT("Table!A"&$X171):INDIRECT("Table!" & $AA$171 & $X171),0)),"",INDIRECT(CONCATENATE("Table!",ADDRESS($T171,MATCH(G$1,INDIRECT("Table!A" & $X171):INDIRECT("Table!" & $AA$171 & $X171),0))))) -> 0.11736147 | H171: =IF(ISERROR(MATCH(H$1,INDIRECT("Table!A"&$X171):INDIRECT("Table!" & $AA$171 & $X171),0)),"",INDIRECT(CONCATENATE("Table!",ADDRESS($T171,MATCH(H$1,INDIRECT("Table!A" & $X171):INDIRECT("Table!" & $AA$171 & $X171),0))))) -> 0.15862783 | I171: =IF(ISERROR(MATCH(I$1,INDIRECT("Table!A"&$X171):INDIRECT("Table!" & $AA$171 & $X171),0)),"",INDIRECT(CONCATENATE("Table!",ADDRESS($T171,MATCH(I$1,INDIRECT("Table!A" & $X171):INDIRECT("Table!" & $AA$171 & $X171),0))))) | ... P171: =IF(ISERROR(MATCH(P$1,INDIRECT("Table!A"&$X171):INDIRECT("Table!" & $AA$171 & $X171),0)),"",INDIRECT(CONCATENATE("Table!",ADDRESS($T171,MATCH(P$1,INDIRECT("Table!A" & $X171):INDIRECT("Table!" & $AA$171 & $X171),0))))) -> 0.41451357 | T171: =MATCH($A171,Table!$A:$A,0)+$V$2-1 -> 2250 | X171: =MATCH($A171,Table!$A:$A,0)+$Z$2-1 -> 2247 | AA171: U

Sheet subscription charts
B1: 0623 | C1: 0745 | D1: 0552 | E1: 0678 | F1: 3286 | G1: 3073 | H1: 2230 | I1: 0879 | J1: 3004 | K1: 2804 | L1: 2231 | M1: 2262
B2: CGC T4 V-MAX 0623 | C2: CGC T3 V-MAX 0745 | D2: RDC T3 V-MAX 0552 | E2: RDC T4 V-MAX 0678 | F2: RDC T3 V-MAX 3286 | G2: RDC T4 V-MAX 3073 | H2: RDC T3 V-MAX 2230 | I2: FDC T4 V-MAX 0879 | J2: FDC T4 V-MAX 3004 | K2: FDC T4 V-MAX 2804 | L2: FDC T3 V-MAX 2231 | M2: EDC T3 V-MAX 2262 | Q2: Row | R2: "GB Allocated" subscription | S2: 18 | U2: Row | V2: VMAX | W2: =MATCH(V2,Table!$A:$A,0) -> 3 | X2: Max Column
A3: 41443 | B3: =IF(ISERROR(MATCH(B$1,INDIRECT("Table!A"&$U3):INDIRECT("Table!" & $X$3 & $U3),0)),"",INDIRECT(CONCATENATE("Table!",ADDRESS($Q3,MATCH(B$1,INDIRECT("Table!A" & $U3):INDIRECT("Table!" & $X$171 & $U3),0))))) -> 0.72000316 | C3: =IF(ISERROR(MATCH(C$1,INDIRECT("Table!A"&$U3):INDIRECT("Table!" & $X$171 & $U3),0)),"",INDIRECT(CONCATENATE("Table!",ADDRESS($Q3,MATCH(C$1,INDIRECT("Table!A" & $U3):INDIRECT("Table!" & $X$171 & $U3),0))))) -> 0.60101269 | D3: =IF(ISERROR(MATCH(D$1,INDIRECT("Table!A"&$U3):INDIRECT("Table!" & $X$171 & $U3),0)),"",INDIRECT(CONCATENATE("Table!",ADDRESS($Q3,MATCH(D$1,INDIRECT("Table!A" & $U3):INDIRECT("Table!" & $X$171 & $U3),0))))) -> 0.60795693 | E3: =IF(ISERROR(MATCH(E$1,INDIRECT("Table!A"&$U3):INDIRECT("Table!" & $X$171 & $U3),0)),"",INDIRECT(CONCATENATE("Table!",ADDRESS($Q3,MATCH(E$1,INDIRECT("Table!A" & $U3):INDIRECT("Table!" & $X$171 & $U3),0))))) -> 1.5276443 | F3: =IF(ISERROR(MATCH(F$1,INDIRECT("Table!A"&$U3):INDIRECT("Table!" & $X$171 & $U3),0)),"",INDIRECT(CONCATENATE("Table!",ADDRESS($Q3,MATCH(F$1,INDIRECT("Table!A" & $U3):INDIRECT("Table!" & $X$171 & $U3),0))))) -> 0.78844328 | G3: =IF(ISERROR(MATCH(G$1,INDIRECT("Table!A"&$U3):INDIRECT("Table!" & $X$171 & $U3),0)),"",INDIRECT(CONCATENATE("Table!",ADDRESS($Q3,MATCH(G$1,INDIRECT("Table!A" & $U3):INDIRECT("Table!" & $X$171 & $U3),0))))) -> 1.1793363 | H3: =IF(ISERROR(MATCH(H$1,INDIRECT("Table!A"&$U3):INDIRECT("Table!" & $X$171 & $U3),0)),"",INDIRECT(CONCATENATE("Table!",ADDRESS($Q3,MATCH(H$1,INDIRECT("Table!A" & $U3):INDIRECT("Table!" & $X$171 & $U3),0))))) -> 1.2136297 | I3: =IF(ISERROR(MATCH(I$1,INDIRECT("Table!A"&$U3):INDIRECT("Table!" & $X$171 & $U3),0)),"",INDIRECT(CONCATENATE("Table!",ADDRESS($Q3,MATCH(I$1,INDIRECT("Table!A" & $U3):INDIRECT("Table!" & $X$171 & $U3),0))))) -> 1.4637639 | J3: =IF(ISERROR(MATCH(J$1,INDIRECT("Table!A"&$U3):INDIRECT("Table!" & $X$171 & $U3),0)),"",INDIRECT(CONCATENATE("Table!",ADDRESS($Q3,MATCH(J$1,INDIRECT("Table!A" & $U3):INDIRECT("Table!" & $X$171 & $U3),0))))) -> 0.85480631 | ... M3: =IF(ISERROR(MATCH(M$1,INDIRECT("Table!A"&$U3):INDIRECT("Table!" & $X$171 & $U3),0)),"",INDIRECT(CONCATENATE("Table!",ADDRESS($Q3,MATCH(M$1,INDIRECT("Table!A" & $U3):INDIRECT("Table!" & $X$171 & $U3),0))))) -> 0.59117784 | Q3: =MATCH($A3,Table!$A:$A,0)+$S$2-1 -> 18 | U3: =MATCH($A3,Table!$A:$A,0)+$W$2-1 -> 3 | X3: U
A4: 41430 | B4: =IF(ISERROR(MATCH(B$1,INDIRECT("Table!A"&$U4):INDIRECT("Table!" & $X$171 & $U4),0)),"",INDIRECT(CONCATENATE("Table!",ADDRESS($Q4,MATCH(B$1,INDIRECT("Table!A" & $U4):INDIRECT("Table!" & $X$171 & $U4),0))))) -> 0.72000316 | C4: =IF(ISERROR(MATCH(C$1,INDIRECT("Table!A"&$U4):INDIRECT("Table!" & $X$171 & $U4),0)),"",INDIRECT(CONCATENATE("Table!",ADDRESS($Q4,MATCH(C$1,INDIRECT("Table!A" & $U4):INDIRECT("Table!" & $X$171 & $U4),0))))) -> 0.60101269 | D4: =IF(ISERROR(MATCH(D$1,INDIRECT("Table!A"&$U4):INDIRECT("Table!" & $X$171 & $U4),0)),"",INDIRECT(CONCATENATE("Table!",ADDRESS($Q4,MATCH(D$1,INDIRECT("Table!A" & $U4):INDIRECT("Table!" & $X$171 & $U4),0))))) -> 0.60795693 | E4: =IF(ISERROR(MATCH(E$1,INDIRECT("Table!A"&$U4):INDIRECT("Table!" & $X$171 & $U4),0)),"",INDIRECT(CONCATENATE("Table!",ADDRESS($Q4,MATCH(E$1,INDIRECT("Table!A" & $U4):INDIRECT("Table!" & $X$171 & $U4),0))))) -> 1.5276443 | F4: =IF(ISERROR(MATCH(F$1,INDIRECT("Table!A"&$U4):INDIRECT("Table!" & $X$171 & $U4),0)),"",INDIRECT(CONCATENATE("Table!",ADDRESS($Q4,MATCH(F$1,INDIRECT("Table!A" & $U4):INDIRECT("Table!" & $X$171 & $U4),0))))) -> 0.78844328 | G4: =IF(ISERROR(MATCH(G$1,INDIRECT("Table!A"&$U4):INDIRECT("Table!" & $X$171 & $U4),0)),"",INDIRECT(CONCATENATE("Table!",ADDRESS($Q4,MATCH(G$1,INDIRECT("Table!A" & $U4):INDIRECT("Table!" & $X$171 & $U4),0))))) -> 1.1793363 | H4: =IF(ISERROR(MATCH(H$1,INDIRECT("Table!A"&$U4):INDIRECT("Table!" & $X$171 & $U4),0)),"",INDIRECT(CONCATENATE("Table!",ADDRESS($Q4,MATCH(H$1,INDIRECT("Table!A" & $U4):INDIRECT("Table!" & $X$171 & $U4),0))))) -> 1.2136297 | I4: =IF(ISERROR(MATCH(I$1,INDIRECT("Table!A"&$U4):INDIRECT("Table!" & $X$171 & $U4),0)),"",INDIRECT(CONCATENATE("Table!",ADDRESS($Q4,MATCH(I$1,INDIRECT("Table!A" & $U4):INDIRECT("Table!" & $X$171 & $U4),0))))) -> 1.4637639 | ... M4: =IF(ISERROR(MATCH(M$1,INDIRECT("Table!A"&$U4):INDIRECT("Table!" & $X$171 & $U4),0)),"",INDIRECT(CONCATENATE("Table!",ADDRESS($Q4,MATCH(M$1,INDIRECT("Table!A" & $U4):INDIRECT("Table!" & $X$171 & $U4),0))))) -> 0.59117784 | Q4: =MATCH($A4,Table!$A:$A,0)+$S$2-1 -> 36 | U4: =MATCH($A4,Table!$A:$A,0)+$W$2-1 -> 21 | X4: U
A5: 41414 | B5: =IF(ISERROR(MATCH(B$1,INDIRECT("Table!A"&$U5):INDIRECT("Table!" & $X$171 & $U5),0)),"",INDIRECT(CONCATENATE("Table!",ADDRESS($Q5,MATCH(B$1,INDIRECT("Table!A" & $U5):INDIRECT("Table!" & $X$171 & $U5),0))))) -> 0.71973344 | C5: =IF(ISERROR(MATCH(C$1,INDIRECT("Table!A"&$U5):INDIRECT("Table!" & $X$171 & $U5),0)),"",INDIRECT(CONCATENATE("Table!",ADDRESS($Q5,MATCH(C$1,INDIRECT("Table!A" & $U5):INDIRECT("Table!" & $X$171 & $U5),0))))) -> 0.59429246 | D5: =IF(ISERROR(MATCH(D$1,INDIRECT("Table!A"&$U5):INDIRECT("Table!" & $X$171 & $U5),0)),"",INDIRECT(CONCATENATE("Table!",ADDRESS($Q5,MATCH(D$1,INDIRECT("Table!A" & $U5):INDIRECT("Table!" & $X$171 & $U5),0))))) -> 0.6012367 | E5: =IF(ISERROR(MATCH(E$1,INDIRECT("Table!A"&$U5):INDIRECT("Table!" & $X$171 & $U5),0)),"",INDIRECT(CONCATENATE("Table!",ADDRESS($Q5,MATCH(E$1,INDIRECT("Table!A" & $U5):INDIRECT("Table!" & $X$171 & $U5),0))))) -> 1.5276443 | F5: =IF(ISERROR(MATCH(F$1,INDIRECT("Table!A"&$U5):INDIRECT("Table!" & $X$171 & $U5),0)),"",INDIRECT(CONCATENATE("Table!",ADDRESS($Q5,MATCH(F$1,INDIRECT("Table!A" & $U5):INDIRECT("Table!" & $X$171 & $U5),0))))) -> 0.77947675 | G5: =IF(ISERROR(MATCH(G$1,INDIRECT("Table!A"&$U5):INDIRECT("Table!" & $X$171 & $U5),0)),"",INDIRECT(CONCATENATE("Table!",ADDRESS($Q5,MATCH(G$1,INDIRECT("Table!A" & $U5):INDIRECT("Table!" & $X$171 & $U5),0))))) -> 1.1791632 | H5: =IF(ISERROR(MATCH(H$1,INDIRECT("Table!A"&$U5):INDIRECT("Table!" & $X$171 & $U5),0)),"",INDIRECT(CONCATENATE("Table!",ADDRESS($Q5,MATCH(H$1,INDIRECT("Table!A" & $U5):INDIRECT("Table!" & $X$171 & $U5),0))))) -> 1.2090939 | I5: =IF(ISERROR(MATCH(I$1,INDIRECT("Table!A"&$U5):INDIRECT("Table!" & $X$171 & $U5),0)),"",INDIRECT(CONCATENATE("Table!",ADDRESS($Q5,MATCH(I$1,INDIRECT("Table!A" & $U5):INDIRECT("Table!" & $X$171 & $U5),0))))) -> 1.4637639 | ... M5: =IF(ISERROR(MATCH(M$1,INDIRECT("Table!A"&$U5):INDIRECT("Table!" & $X$171 & $U5),0)),"",INDIRECT(CONCATENATE("Table!",ADDRESS($Q5,MATCH(M$1,INDIRECT("Table!A" & $U5):INDIRECT("Table!" & $X$171 & $U5),0))))) -> 0.59117784 | Q5: =MATCH($A5,Table!$A:$A,0)+$S$2-1 -> 54 | U5: =MATCH($A5,Table!$A:$A,0)+$W$2-1 -> 39 | X5: U
A6: 41408 | B6: =IF(ISERROR(MATCH(B$1,INDIRECT("Table!A"&$U6):INDIRECT("Table!" & $X$171 & $U6),0)),"",INDIRECT(CONCATENATE("Table!",ADDRESS($Q6,MATCH(B$1,INDIRECT("Table!A" & $U6):INDIRECT("Table!" & $X$171 & $U6),0))))) -> 0.71406944 | C6: =IF(ISERROR(MATCH(C$1,INDIRECT("Table!A"&$U6):INDIRECT("Table!" & $X$171 & $U6),0)),"",INDIRECT(CONCATENATE("Table!",ADDRESS($Q6,MATCH(C$1,INDIRECT("Table!A" & $U6):INDIRECT("Table!" & $X$171 & $U6),0))))) -> 0.59429246 | D6: =IF(ISERROR(MATCH(D$1,INDIRECT("Table!A"&$U6):INDIRECT("Table!" & $X$171 & $U6),0)),"",INDIRECT(CONCATENATE("Table!",ADDRESS($Q6,MATCH(D$1,INDIRECT("Table!A" & $U6):INDIRECT("Table!" & $X$171 & $U6),0))))) -> 0.6012367 | E6: =IF(ISERROR(MATCH(E$1,INDIRECT("Table!A"&$U6):INDIRECT("Table!" & $X$171 & $U6),0)),"",INDIRECT(CONCATENATE("Table!",ADDRESS($Q6,MATCH(E$1,INDIRECT("Table!A" & $U6):INDIRECT("Table!" & $X$171 & $U6),0))))) -> 1.5276443 | F6: =IF(ISERROR(MATCH(F$1,INDIRECT("Table!A"&$U6):INDIRECT("Table!" & $X$171 & $U6),0)),"",INDIRECT(CONCATENATE("Table!",ADDRESS($Q6,MATCH(F$1,INDIRECT("Table!A" & $U6):INDIRECT("Table!" & $X$171 & $U6),0))))) -> 0.77438213 | G6: =IF(ISERROR(MATCH(G$1,INDIRECT("Table!A"&$U6):INDIRECT("Table!" & $X$171 & $U6),0)),"",INDIRECT(CONCATENATE("Table!",ADDRESS($Q6,MATCH(G$1,INDIRECT("Table!A" & $U6):INDIRECT("Table!" & $X$171 & $U6),0))))) -> 1.1786438 | H6: =IF(ISERROR(MATCH(H$1,INDIRECT("Table!A"&$U6):INDIRECT("Table!" & $X$171 & $U6),0)),"",INDIRECT(CONCATENATE("Table!",ADDRESS($Q6,MATCH(H$1,INDIRECT("Table!A" & $U6):INDIRECT("Table!" & $X$171 & $U6),0))))) -> 1.2090939 | I6: =IF(ISERROR(MATCH(I$1,INDIRECT("Table!A"&$U6):INDIRECT("Table!" & $X$171 & $U6),0)),"",INDIRECT(CONCATENATE("Table!",ADDRESS($Q6,MATCH(I$1,INDIRECT("Table!A" & $U6):INDIRECT("Table!" & $X$171 & $U6),0))))) -> 1.4637639 | ... M6: =IF(ISERROR(MATCH(M$1,INDIRECT("Table!A"&$U6):INDIRECT("Table!" & $X$171 & $U6),0)),"",INDIRECT(CONCATENATE("Table!",ADDRESS($Q6,MATCH(M$1,INDIRECT("Table!A" & $U6):INDIRECT("Table!" & $X$171 & $U6),0))))) -> 0.59117784 | Q6: =MATCH($A6,Table!$A:$A,0)+$S$2-1 -> 72 | U6: =MATCH($A6,Table!$A:$A,0)+$W$2-1 -> 57 | X6: U
A7: 41401 | B7: =IF(ISERROR(MATCH(B$1,INDIRECT("Table!A"&$U7):INDIRECT("Table!" & $X$171 & $U7),0)),"",INDIRECT(CONCATENATE("Table!",ADDRESS($Q7,MATCH(B$1,INDIRECT("Table!A" & $U7):INDIRECT("Table!" & $X$171 & $U7),0))))) -> 0.705034 | C7: =IF(ISERROR(MATCH(C$1,INDIRECT("Table!A"&$U7):INDIRECT("Table!" & $X$171 & $U7),0)),"",INDIRECT(CONCATENATE("Table!",ADDRESS($Q7,MATCH(C$1,INDIRECT("Table!A" & $U7):INDIRECT("Table!" & $X$171 & $U7),0))))) -> 0.59294841 | D7: =IF(ISERROR(MATCH(D$1,INDIRECT("Table!A"&$U7):INDIRECT("Table!" & $X$171 & $U7),0)),"",INDIRECT(CONCATENATE("Table!",ADDRESS($Q7,MATCH(D$1,INDIRECT("Table!A" & $U7):INDIRECT("Table!" & $X$171 & $U7),0))))) -> 0.59989265 | E7: =IF(ISERROR(MATCH(E$1,INDIRECT("Table!A"&$U7):INDIRECT("Table!" & $X$171 & $U7),0)),"",INDIRECT(CONCATENATE("Table!",ADDRESS($Q7,MATCH(E$1,INDIRECT("Table!A" & $U7):INDIRECT("Table!" & $X$171 & $U7),0))))) -> 1.5276443 | F7: =IF(ISERROR(MATCH(F$1,INDIRECT("Table!A"&$U7):INDIRECT("Table!" & $X$171 & $U7),0)),"",INDIRECT(CONCATENATE("Table!",ADDRESS($Q7,MATCH(F$1,INDIRECT("Table!A" & $U7):INDIRECT("Table!" & $X$171 & $U7),0))))) -> 0.77295564 | G7: =IF(ISERROR(MATCH(G$1,INDIRECT("Table!A"&$U7):INDIRECT("Table!" & $X$171 & $U7),0)),"",INDIRECT(CONCATENATE("Table!",ADDRESS($Q7,MATCH(G$1,INDIRECT("Table!A" & $U7):INDIRECT("Table!" & $X$171 & $U7),0))))) -> 1.1750081 | H7: =IF(ISERROR(MATCH(H$1,INDIRECT("Table!A"&$U7):INDIRECT("Table!" & $X$171 & $U7),0)),"",INDIRECT(CONCATENATE("Table!",ADDRESS($Q7,MATCH(H$1,INDIRECT("Table!A" & $U7):INDIRECT("Table!" & $X$171 & $U7),0))))) -> 1.73319 | I7: =IF(ISERROR(MATCH(I$1,INDIRECT("Table!A"&$U7):INDIRECT("Table!" & $X$171 & $U7),0)),"",INDIRECT(CONCATENATE("Table!",ADDRESS($Q7,MATCH(I$1,INDIRECT("Table!A" & $U7):INDIRECT("Table!" & $X$171 & $U7),0))))) -> 1.4637639 | ... M7: =IF(ISERROR(MATCH(M$1,INDIRECT("Table!A"&$U7):INDIRECT("Table!" & $X$171 & $U7),0)),"",INDIRECT(CONCATENATE("Table!",ADDRESS($Q7,MATCH(M$1,INDIRECT("Table!A" & $U7):INDIRECT("Table!" & $X$171 & $U7),0))))) -> 0.57650538 | Q7: =MATCH($A7,Table!$A:$A,0)+$S$2-1 -> 90 | U7: =MATCH($A7,Table!$A:$A,0)+$W$2-1 -> 75 | X7: U
A8: 41393 | B8: =IF(ISERROR(MATCH(B$1,INDIRECT("Table!A"&$U8):INDIRECT("Table!" & $X$171 & $U8),0)),"",INDIRECT(CONCATENATE("Table!",ADDRESS($Q8,MATCH(B$1,INDIRECT("Table!A" & $U8):INDIRECT("Table!" & $X$171 & $U8),0))))) -> 0.76895636 | C8: =IF(ISERROR(MATCH(C$1,INDIRECT("Table!A"&$U8):INDIRECT("Table!" & $X$171 & $U8),0)),"",INDIRECT(CONCATENATE("Table!",ADDRESS($Q8,MATCH(C$1,INDIRECT("Table!A" & $U8):INDIRECT("Table!" & $X$171 & $U8),0))))) -> 0.59294841 | D8: =IF(ISERROR(MATCH(D$1,INDIRECT("Table!A"&$U8):INDIRECT("Table!" & $X$171 & $U8),0)),"",INDIRECT(CONCATENATE("Table!",ADDRESS($Q8,MATCH(D$1,INDIRECT("Table!A" & $U8):INDIRECT("Table!" & $X$171 & $U8),0))))) -> 0.59989265 | E8: =IF(ISERROR(MATCH(E$1,INDIRECT("Table!A"&$U8):INDIRECT("Table!" & $X$171 & $U8),0)),"",INDIRECT(CONCATENATE("Table!",ADDRESS($Q8,MATCH(E$1,INDIRECT("Table!A" & $U8):INDIRECT("Table!" & $X$171 & $U8),0))))) -> 1.5276443 | F8: =IF(ISERROR(MATCH(F$1,INDIRECT("Table!A"&$U8):INDIRECT("Table!" & $X$171 & $U8),0)),"",INDIRECT(CONCATENATE("Table!",ADDRESS($Q8,MATCH(F$1,INDIRECT("Table!A" & $U8):INDIRECT("Table!" & $X$171 & $U8),0))))) -> 0.76643453 | G8: =IF(ISERROR(MATCH(G$1,INDIRECT("Table!A"&$U8):INDIRECT("Table!" & $X$171 & $U8),0)),"",INDIRECT(CONCATENATE("Table!",ADDRESS($Q8,MATCH(G$1,INDIRECT("Table!A" & $U8):INDIRECT("Table!" & $X$171 & $U8),0))))) -> 1.161158 | H8: =IF(ISERROR(MATCH(H$1,INDIRECT("Table!A"&$U8):INDIRECT("Table!" & $X$171 & $U8),0)),"",INDIRECT(CONCATENATE("Table!",ADDRESS($Q8,MATCH(H$1,INDIRECT("Table!A" & $U8):INDIRECT("Table!" & $X$171 & $U8),0))))) -> 1.6578822 | I8: =IF(ISERROR(MATCH(I$1,INDIRECT("Table!A"&$U8):INDIRECT("Table!" & $X$171 & $U8),0)),"",INDIRECT(CONCATENATE("Table!",ADDRESS($Q8,MATCH(I$1,INDIRECT("Table!A" & $U8):INDIRECT("Table!" & $X$171 & $U8),0))))) -> 1.4676067 | ... M8: =IF(ISERROR(MATCH(M$1,INDIRECT("Table!A"&$U8):INDIRECT("Table!" & $X$171 & $U8),0)),"",INDIRECT(CONCATENATE("Table!",ADDRESS($Q8,MATCH(M$1,INDIRECT("Table!A" & $U8):INDIRECT("Table!" & $X$171 & $U8),0))))) -> 0.45178947 | Q8: =MATCH($A8,Table!$A:$A,0)+$S$2-1 -> 108 | U8: =MATCH($A8,Table!$A:$A,0)+$W$2-1 -> 93 | X8: U
A9: 41374 | B9: =IF(ISERROR(MATCH(B$1,INDIRECT("Table!A"&$U9):INDIRECT("Table!" & $X$171 & $U9),0)),"",INDIRECT(CONCATENATE("Table!",ADDRESS($Q9,MATCH(B$1,INDIRECT("Table!A" & $U9):INDIRECT("Table!" & $X$171 & $U9),0))))) -> 0.76895636 | C9: =IF(ISERROR(MATCH(C$1,INDIRECT("Table!A"&$U9):INDIRECT("Table!" & $X$171 & $U9),0)),"",INDIRECT(CONCATENATE("Table!",ADDRESS($Q9,MATCH(C$1,INDIRECT("Table!A" & $U9):INDIRECT("Table!" & $X$171 & $U9),0))))) -> 0.59294841 | D9: =IF(ISERROR(MATCH(D$1,INDIRECT("Table!A"&$U9):INDIRECT("Table!" & $X$171 & $U9),0)),"",INDIRECT(CONCATENATE("Table!",ADDRESS($Q9,MATCH(D$1,INDIRECT("Table!A" & $U9):INDIRECT("Table!" & $X$171 & $U9),0))))) -> 0.59989265 | E9: =IF(ISERROR(MATCH(E$1,INDIRECT("Table!A"&$U9):INDIRECT("Table!" & $X$171 & $U9),0)),"",INDIRECT(CONCATENATE("Table!",ADDRESS($Q9,MATCH(E$1,INDIRECT("Table!A" & $U9):INDIRECT("Table!" & $X$171 & $U9),0))))) -> 1.5276443 | F9: =IF(ISERROR(MATCH(F$1,INDIRECT("Table!A"&$U9):INDIRECT("Table!" & $X$171 & $U9),0)),"",INDIRECT(CONCATENATE("Table!",ADDRESS($Q9,MATCH(F$1,INDIRECT("Table!A" & $U9):INDIRECT("Table!" & $X$171 & $U9),0))))) -> 0.76643453 | G9: =IF(ISERROR(MATCH(G$1,INDIRECT("Table!A"&$U9):INDIRECT("Table!" & $X$171 & $U9),0)),"",INDIRECT(CONCATENATE("Table!",ADDRESS($Q9,MATCH(G$1,INDIRECT("Table!A" & $U9):INDIRECT("Table!" & $X$171 & $U9),0))))) -> 1.161158 | H9: =IF(ISERROR(MATCH(H$1,INDIRECT("Table!A"&$U9):INDIRECT("Table!" & $X$171 & $U9),0)),"",INDIRECT(CONCATENATE("Table!",ADDRESS($Q9,MATCH(H$1,INDIRECT("Table!A" & $U9):INDIRECT("Table!" & $X$171 & $U9),0))))) -> 1.6578822 | I9: =IF(ISERROR(MATCH(I$1,INDIRECT("Table!A"&$U9):INDIRECT("Table!" & $X$171 & $U9),0)),"",INDIRECT(CONCATENATE("Table!",ADDRESS($Q9,MATCH(I$1,INDIRECT("Table!A" & $U9):INDIRECT("Table!" & $X$171 & $U9),0))))) -> 1.4676067 | ... M9: =IF(ISERROR(MATCH(M$1,INDIRECT("Table!A"&$U9):INDIRECT("Table!" & $X$171 & $U9),0)),"",INDIRECT(CONCATENATE("Table!",ADDRESS($Q9,MATCH(M$1,INDIRECT("Table!A" & $U9):INDIRECT("Table!" & $X$171 & $U9),0))))) -> 0.45178947 | Q9: =MATCH($A9,Table!$A:$A,0)+$S$2-1 -> 126 | U9: =MATCH($A9,Table!$A:$A,0)+$W$2-1 -> 111 | X9: U
A10: 41361 | B10: =IF(ISERROR(MATCH(B$1,INDIRECT("Table!A"&$U10):INDIRECT("Table!" & $X$171 & $U10),0)),"",INDIRECT(CONCATENATE("Table!",ADDRESS($Q10,MATCH(B$1,INDIRECT("Table!A" & $U10):INDIRECT("Table!" & $X$171 & $U10),0))))) -> 0.7689632 | C10: =IF(ISERROR(MATCH(C$1,INDIRECT("Table!A"&$U10):INDIRECT("Table!" & $X$171 & $U10),0)),"",INDIRECT(CONCATENATE("Table!",ADDRESS($Q10,MATCH(C$1,INDIRECT("Table!A" & $U10):INDIRECT("Table!" & $X$171 & $U10),0))))) -> 0.70899072 | D10: =IF(ISERROR(MATCH(D$1,INDIRECT("Table!A"&$U10):INDIRECT("Table!" & $X$171 & $U10),0)),"",INDIRECT(CONCATENATE("Table!",ADDRESS($Q10,MATCH(D$1,INDIRECT("Table!A" & $U10):INDIRECT("Table!" & $X$171 & $U10),0))))) -> 0.70831869 | E10: =IF(ISERROR(MATCH(E$1,INDIRECT("Table!A"&$U10):INDIRECT("Table!" & $X$171 & $U10),0)),"",INDIRECT(CONCATENATE("Table!",ADDRESS($Q10,MATCH(E$1,INDIRECT("Table!A" & $U10):INDIRECT("Table!" & $X$171 & $U10),0))))) -> 1.7208846 | F10: =IF(ISERROR(MATCH(F$1,INDIRECT("Table!A"&$U10):INDIRECT("Table!" & $X$171 & $U10),0)),"",INDIRECT(CONCATENATE("Table!",ADDRESS($Q10,MATCH(F$1,INDIRECT("Table!A" & $U10):INDIRECT("Table!" & $X$171 & $U10),0))))) -> 3.1321998 | G10: =IF(ISERROR(MATCH(G$1,INDIRECT("Table!A"&$U10):INDIRECT("Table!" & $X$171 & $U10),0)),"",INDIRECT(CONCATENATE("Table!",ADDRESS($Q10,MATCH(G$1,INDIRECT("Table!A" & $U10):INDIRECT("Table!" & $X$171 & $U10),0))))) -> 1.3309202 | H10: =IF(ISERROR(MATCH(H$1,INDIRECT("Table!A"&$U10):INDIRECT("Table!" & $X$171 & $U10),0)),"",INDIRECT(CONCATENATE("Table!",ADDRESS($Q10,MATCH(H$1,INDIRECT("Table!A" & $U10):INDIRECT("Table!" & $X$171 & $U10),0))))) -> 1.4500346 | I10: =IF(ISERROR(MATCH(I$1,INDIRECT("Table!A"&$U10):INDIRECT("Table!" & $X$171 & $U10),0)),"",INDIRECT(CONCATENATE("Table!",ADDRESS($Q10,MATCH(I$1,INDIRECT("Table!A" & $U10):INDIRECT("Table!" & $X$171 & $U10),0))))) -> 1.5932111 | ... M10: =IF(ISERROR(MATCH(M$1,INDIRECT("Table!A"&$U10):INDIRECT("Table!" & $X$171 & $U10),0)),"",INDIRECT(CONCATENATE("Table!",ADDRESS($Q10,MATCH(M$1,INDIRECT("Table!A" & $U10):INDIRECT("Table!" & $X$171 & $U10),0))))) -> 1.1200077 | Q10: =MATCH($A10,Table!$A:$A,0)+$S$2-1 -> 144 | U10: =MATCH($A10,Table!$A:$A,0)+$W$2-1 -> 129 | X10: U
A11: 41355 | B11: =IF(ISERROR(MATCH(B$1,INDIRECT("Table!A"&$U11):INDIRECT("Table!" & $X$171 & $U11),0)),"",INDIRECT(CONCATENATE("Table!",ADDRESS($Q11,MATCH(B$1,INDIRECT("Table!A" & $U11):INDIRECT("Table!" & $X$171 & $U11),0))))) -> 0.7689632 | C11: =IF(ISERROR(MATCH(C$1,INDIRECT("Table!A"&$U11):INDIRECT("Table!" & $X$171 & $U11),0)),"",INDIRECT(CONCATENATE("Table!",ADDRESS($Q11,MATCH(C$1,INDIRECT("Table!A" & $U11):INDIRECT("Table!" & $X$171 & $U11),0))))) -> 0.59295369 | D11: =IF(ISERROR(MATCH(D$1,INDIRECT("Table!A"&$U11):INDIRECT("Table!" & $X$171 & $U11),0)),"",INDIRECT(CONCATENATE("Table!",ADDRESS($Q11,MATCH(D$1,INDIRECT("Table!A" & $U11):INDIRECT("Table!" & $X$171 & $U11),0))))) -> 0.59989799 | E11: =IF(ISERROR(MATCH(E$1,INDIRECT("Table!A"&$U11):INDIRECT("Table!" & $X$171 & $U11),0)),"",INDIRECT(CONCATENATE("Table!",ADDRESS($Q11,MATCH(E$1,INDIRECT("Table!A" & $U11):INDIRECT("Table!" & $X$171 & $U11),0))))) -> 1.5276579 | F11: =IF(ISERROR(MATCH(F$1,INDIRECT("Table!A"&$U11):INDIRECT("Table!" & $X$171 & $U11),0)),"",INDIRECT(CONCATENATE("Table!",ADDRESS($Q11,MATCH(F$1,INDIRECT("Table!A" & $U11):INDIRECT("Table!" & $X$171 & $U11),0))))) -> 1.4888648 | G11: =IF(ISERROR(MATCH(G$1,INDIRECT("Table!A"&$U11):INDIRECT("Table!" & $X$171 & $U11),0)),"",INDIRECT(CONCATENATE("Table!",ADDRESS($Q11,MATCH(G$1,INDIRECT("Table!A" & $U11):INDIRECT("Table!" & $X$171 & $U11),0))))) -> 1.1611684 | H11: =IF(ISERROR(MATCH(H$1,INDIRECT("Table!A"&$U11):INDIRECT("Table!" & $X$171 & $U11),0)),"",INDIRECT(CONCATENATE("Table!",ADDRESS($Q11,MATCH(H$1,INDIRECT("Table!A" & $U11):INDIRECT("Table!" & $X$171 & $U11),0))))) -> 1.0582084 | I11: =IF(ISERROR(MATCH(I$1,INDIRECT("Table!A"&$U11):INDIRECT("Table!" & $X$171 & $U11),0)),"",INDIRECT(CONCATENATE("Table!",ADDRESS($Q11,MATCH(I$1,INDIRECT("Table!A" & $U11):INDIRECT("Table!" & $X$171 & $U11),0))))) -> 1.4676197 | ... M11: =IF(ISERROR(MATCH(M$1,INDIRECT("Table!A"&$U11):INDIRECT("Table!" & $X$171 & $U11),0)),"",INDIRECT(CONCATENATE("Table!",ADDRESS($Q11,MATCH(M$1,INDIRECT("Table!A" & $U11):INDIRECT("Table!" & $X$171 & $U11),0))))) -> 0.45179349 | Q11: =MATCH($A11,Table!$A:$A,0)+$S$2-1 -> 162 | U11: =MATCH($A11,Table!$A:$A,0)+$W$2-1 -> 147 | X11: U
A12: 41351 | B12: =IF(ISERROR(MATCH(B$1,INDIRECT("Table!A"&$U12):INDIRECT("Table!" & $X$171 & $U12),0)),"",INDIRECT(CONCATENATE("Table!",ADDRESS($Q12,MATCH(B$1,INDIRECT("Table!A" & $U12):INDIRECT("Table!" & $X$171 & $U12),0))))) -> 0.7689632 | C12: =IF(ISERROR(MATCH(C$1,INDIRECT("Table!A"&$U12):INDIRECT("Table!" & $X$171 & $U12),0)),"",INDIRECT(CONCATENATE("Table!",ADDRESS($Q12,MATCH(C$1,INDIRECT("Table!A" & $U12):INDIRECT("Table!" & $X$171 & $U12),0))))) -> 0.59295369 | D12: =IF(ISERROR(MATCH(D$1,INDIRECT("Table!A"&$U12):INDIRECT("Table!" & $X$171 & $U12),0)),"",INDIRECT(CONCATENATE("Table!",ADDRESS($Q12,MATCH(D$1,INDIRECT("Table!A" & $U12):INDIRECT("Table!" & $X$171 & $U12),0))))) -> 0.59989799 | E12: =IF(ISERROR(MATCH(E$1,INDIRECT("Table!A"&$U12):INDIRECT("Table!" & $X$171 & $U12),0)),"",INDIRECT(CONCATENATE("Table!",ADDRESS($Q12,MATCH(E$1,INDIRECT("Table!A" & $U12):INDIRECT("Table!" & $X$171 & $U12),0))))) -> 1.5276579 | F12: =IF(ISERROR(MATCH(F$1,INDIRECT("Table!A"&$U12):INDIRECT("Table!" & $X$171 & $U12),0)),"",INDIRECT(CONCATENATE("Table!",ADDRESS($Q12,MATCH(F$1,INDIRECT("Table!A" & $U12):INDIRECT("Table!" & $X$171 & $U12),0))))) -> 1.4424015 | G12: =IF(ISERROR(MATCH(G$1,INDIRECT("Table!A"&$U12):INDIRECT("Table!" & $X$171 & $U12),0)),"",INDIRECT(CONCATENATE("Table!",ADDRESS($Q12,MATCH(G$1,INDIRECT("Table!A" & $U12):INDIRECT("Table!" & $X$171 & $U12),0))))) -> 1.1611684 | H12: =IF(ISERROR(MATCH(H$1,INDIRECT("Table!A"&$U12):INDIRECT("Table!" & $X$171 & $U12),0)),"",INDIRECT(CONCATENATE("Table!",ADDRESS($Q12,MATCH(H$1,INDIRECT("Table!A" & $U12):INDIRECT("Table!" & $X$171 & $U12),0))))) -> 0.97345173 | I12: =IF(ISERROR(MATCH(I$1,INDIRECT("Table!A"&$U12):INDIRECT("Table!" & $X$171 & $U12),0)),"",INDIRECT(CONCATENATE("Table!",ADDRESS($Q12,MATCH(I$1,INDIRECT("Table!A" & $U12):INDIRECT("Table!" & $X$171 & $U12),0))))) -> 1.4545191 | ... M12: =IF(ISERROR(MATCH(M$1,INDIRECT("Table!A"&$U12):INDIRECT("Table!" & $X$171 & $U12),0)),"",INDIRECT(CONCATENATE("Table!",ADDRESS($Q12,MATCH(M$1,INDIRECT("Table!A" & $U12):INDIRECT("Table!" & $X$171 & $U12),0))))) -> 0.32952191 | Q12: =MATCH($A12,Table!$A:$A,0)+$S$2-1 -> 180 | U12: =MATCH($A12,Table!$A:$A,0)+$W$2-1 -> 165 | X12: U
A13: 41345 | B13: =IF(ISERROR(MATCH(B$1,INDIRECT("Table!A"&$U13):INDIRECT("Table!" & $X$171 & $U13),0)),"",INDIRECT(CONCATENATE("Table!",ADDRESS($Q13,MATCH(B$1,INDIRECT("Table!A" & $U13):INDIRECT("Table!" & $X$171 & $U13),0))))) -> 0.7689632 | C13: =IF(ISERROR(MATCH(C$1,INDIRECT("Table!A"&$U13):INDIRECT("Table!" & $X$171 & $U13),0)),"",INDIRECT(CONCATENATE("Table!",ADDRESS($Q13,MATCH(C$1,INDIRECT("Table!A" & $U13):INDIRECT("Table!" & $X$171 & $U13),0))))) -> 0.59295369 | D13: =IF(ISERROR(MATCH(D$1,INDIRECT("Table!A"&$U13):INDIRECT("Table!" & $X$171 & $U13),0)),"",INDIRECT(CONCATENATE("Table!",ADDRESS($Q13,MATCH(D$1,INDIRECT("Table!A" & $U13):INDIRECT("Table!" & $X$171 & $U13),0))))) -> 0.59989799 | E13: =IF(ISERROR(MATCH(E$1,INDIRECT("Table!A"&$U13):INDIRECT("Table!" & $X$171 & $U13),0)),"",INDIRECT(CONCATENATE("Table!",ADDRESS($Q13,MATCH(E$1,INDIRECT("Table!A" & $U13):INDIRECT("Table!" & $X$171 & $U13),0))))) -> 1.5276579 | F13: =IF(ISERROR(MATCH(F$1,INDIRECT("Table!A"&$U13):INDIRECT("Table!" & $X$171 & $U13),0)),"",INDIRECT(CONCATENATE("Table!",ADDRESS($Q13,MATCH(F$1,INDIRECT("Table!A" & $U13):INDIRECT("Table!" & $X$171 & $U13),0))))) -> 1.4424015 | G13: =IF(ISERROR(MATCH(G$1,INDIRECT("Table!A"&$U13):INDIRECT("Table!" & $X$171 & $U13),0)),"",INDIRECT(CONCATENATE("Table!",ADDRESS($Q13,MATCH(G$1,INDIRECT("Table!A" & $U13):INDIRECT("Table!" & $X$171 & $U13),0))))) -> 1.1591774 | H13: =IF(ISERROR(MATCH(H$1,INDIRECT("Table!A"&$U13):INDIRECT("Table!" & $X$171 & $U13),0)),"",INDIRECT(CONCATENATE("Table!",ADDRESS($Q13,MATCH(H$1,INDIRECT("Table!A" & $U13):INDIRECT("Table!" & $X$171 & $U13),0))))) -> 0.94288374 | I13: =IF(ISERROR(MATCH(I$1,INDIRECT("Table!A"&$U13):INDIRECT("Table!" & $X$171 & $U13),0)),"",INDIRECT(CONCATENATE("Table!",ADDRESS($Q13,MATCH(I$1,INDIRECT("Table!A" & $U13):INDIRECT("Table!" & $X$171 & $U13),0))))) -> 1.4545191 | ... M13: =IF(ISERROR(MATCH(M$1,INDIRECT("Table!A"&$U13):INDIRECT("Table!" & $X$171 & $U13),0)),"",INDIRECT(CONCATENATE("Table!",ADDRESS($Q13,MATCH(M$1,INDIRECT("Table!A" & $U13):INDIRECT("Table!" & $X$171 & $U13),0))))) -> 0.32952191 | Q13: =MATCH($A13,Table!$A:$A,0)+$S$2-1 -> 198 | U13: =MATCH($A13,Table!$A:$A,0)+$W$2-1 -> 183 | X13: U
A14: 41289 | B14: =IF(ISERROR(MATCH(B$1,INDIRECT("Table!A"&$U14):INDIRECT("Table!" & $X$171 & $U14),0)),"",INDIRECT(CONCATENATE("Table!",ADDRESS($Q14,MATCH(B$1,INDIRECT("Table!A" & $U14):INDIRECT("Table!" & $X$171 & $U14),0))))) -> 1.3215949 | C14: =IF(ISERROR(MATCH(C$1,INDIRECT("Table!A"&$U14):INDIRECT("Table!" & $X$171 & $U14),0)),"",INDIRECT(CONCATENATE("Table!",ADDRESS($Q14,MATCH(C$1,INDIRECT("Table!A" & $U14):INDIRECT("Table!" & $X$171 & $U14),0))))) -> 0.60062346 | D14: =IF(ISERROR(MATCH(D$1,INDIRECT("Table!A"&$U14):INDIRECT("Table!" & $X$171 & $U14),0)),"",INDIRECT(CONCATENATE("Table!",ADDRESS($Q14,MATCH(D$1,INDIRECT("Table!A" & $U14):INDIRECT("Table!" & $X$171 & $U14),0))))) -> 0.60488002 | E14: =IF(ISERROR(MATCH(E$1,INDIRECT("Table!A"&$U14):INDIRECT("Table!" & $X$171 & $U14),0)),"",INDIRECT(CONCATENATE("Table!",ADDRESS($Q14,MATCH(E$1,INDIRECT("Table!A" & $U14):INDIRECT("Table!" & $X$171 & $U14),0))))) -> 1.5190858 | F14: =IF(ISERROR(MATCH(F$1,INDIRECT("Table!A"&$U14):INDIRECT("Table!" & $X$171 & $U14),0)),"",INDIRECT(CONCATENATE("Table!",ADDRESS($Q14,MATCH(F$1,INDIRECT("Table!A" & $U14):INDIRECT("Table!" & $X$171 & $U14),0))))) -> 1.4294863 | G14: =IF(ISERROR(MATCH(G$1,INDIRECT("Table!A"&$U14):INDIRECT("Table!" & $X$171 & $U14),0)),"",INDIRECT(CONCATENATE("Table!",ADDRESS($Q14,MATCH(G$1,INDIRECT("Table!A" & $U14):INDIRECT("Table!" & $X$171 & $U14),0))))) -> 3.3849641 | H14: =IF(ISERROR(MATCH(H$1,INDIRECT("Table!A"&$U14):INDIRECT("Table!" & $X$171 & $U14),0)),"",INDIRECT(CONCATENATE("Table!",ADDRESS($Q14,MATCH(H$1,INDIRECT("Table!A" & $U14):INDIRECT("Table!" & $X$171 & $U14),0))))) -> 0.84486342 | I14: =IF(ISERROR(MATCH(I$1,INDIRECT("Table!A"&$U14):INDIRECT("Table!" & $X$171 & $U14),0)),"",INDIRECT(CONCATENATE("Table!",ADDRESS($Q14,MATCH(I$1,INDIRECT("Table!A" & $U14):INDIRECT("Table!" & $X$171 & $U14),0))))) -> 1.3863445 | ... M14: =IF(ISERROR(MATCH(M$1,INDIRECT("Table!A"&$U14):INDIRECT("Table!" & $X$171 & $U14),0)),"",INDIRECT(CONCATENATE("Table!",ADDRESS($Q14,MATCH(M$1,INDIRECT("Table!A" & $U14):INDIRECT("Table!" & $X$171 & $U14),0))))) | Q14: =MATCH($A14,Table!$A:$A,0)+$S$14-1 -> 215 | R14: subscription | S14: 17 | U14: =MATCH($A14,Table!$A:$A,0)+$W$2-1 -> 201 | X14: U
A15: 41242 | B15: =IF(ISERROR(MATCH(B$1,INDIRECT("Table!A"&$U15):INDIRECT("Table!" & $X$171 & $U15),0)),"",INDIRECT(CONCATENATE("Table!",ADDRESS($Q15,MATCH(B$1,INDIRECT("Table!A" & $U15):INDIRECT("Table!" & $X$171 & $U15),0))))) -> 1.298079 | C15: =IF(ISERROR(MATCH(C$1,INDIRECT("Table!A"&$U15):INDIRECT("Table!" & $X$171 & $U15),0)),"",INDIRECT(CONCATENATE("Table!",ADDRESS($Q15,MATCH(C$1,INDIRECT("Table!A" & $U15):INDIRECT("Table!" & $X$171 & $U15),0))))) -> 0.61675359 | D15: =IF(ISERROR(MATCH(D$1,INDIRECT("Table!A"&$U15):INDIRECT("Table!" & $X$171 & $U15),0)),"",INDIRECT(CONCATENATE("Table!",ADDRESS($Q15,MATCH(D$1,INDIRECT("Table!A" & $U15):INDIRECT("Table!" & $X$171 & $U15),0))))) -> 0.61540941 | E15: =IF(ISERROR(MATCH(E$1,INDIRECT("Table!A"&$U15):INDIRECT("Table!" & $X$171 & $U15),0)),"",INDIRECT(CONCATENATE("Table!",ADDRESS($Q15,MATCH(E$1,INDIRECT("Table!A" & $U15):INDIRECT("Table!" & $X$171 & $U15),0))))) -> 1.5263116 | F15: =IF(ISERROR(MATCH(F$1,INDIRECT("Table!A"&$U15):INDIRECT("Table!" & $X$171 & $U15),0)),"",INDIRECT(CONCATENATE("Table!",ADDRESS($Q15,MATCH(F$1,INDIRECT("Table!A" & $U15):INDIRECT("Table!" & $X$171 & $U15),0))))) -> 1.4058449 | G15: =IF(ISERROR(MATCH(G$1,INDIRECT("Table!A"&$U15):INDIRECT("Table!" & $X$171 & $U15),0)),"",INDIRECT(CONCATENATE("Table!",ADDRESS($Q15,MATCH(G$1,INDIRECT("Table!A" & $U15):INDIRECT("Table!" & $X$171 & $U15),0))))) -> 3.2828844 | H15: =IF(ISERROR(MATCH(H$1,INDIRECT("Table!A"&$U15):INDIRECT("Table!" & $X$171 & $U15),0)),"",INDIRECT(CONCATENATE("Table!",ADDRESS($Q15,MATCH(H$1,INDIRECT("Table!A" & $U15):INDIRECT("Table!" & $X$171 & $U15),0))))) -> 0.81734978 | I15: =IF(ISERROR(MATCH(I$1,INDIRECT("Table!A"&$U15):INDIRECT("Table!" & $X$171 & $U15),0)),"",INDIRECT(CONCATENATE("Table!",ADDRESS($Q15,MATCH(I$1,INDIRECT("Table!A" & $U15):INDIRECT("Table!" & $X$171 & $U15),0))))) -> 1.3873926 | ... M15: =IF(ISERROR(MATCH(M$1,INDIRECT("Table!A"&$U15):INDIRECT("Table!" & $X$171 & $U15),0)),"",INDIRECT(CONCATENATE("Table!",ADDRESS($Q15,MATCH(M$1,INDIRECT("Table!A" & $U15):INDIRECT("Table!" & $X$171 & $U15),0))))) -> 0.38618889 | Q15: =MATCH($A15,Table!$A:$A,0)+$S$14-1 -> 232 | U15: =MATCH($A15,Table!$A:$A,0)+$W$2-1 -> 218 | X15: U
A16: 41241 | B16: =IF(ISERROR(MATCH(B$1,INDIRECT("Table!A"&$U16):INDIRECT("Table!" & $X$171 & $U16),0)),"",INDIRECT(CONCATENATE("Table!",ADDRESS($Q16,MATCH(B$1,INDIRECT("Table!A" & $U16):INDIRECT("Table!" & $X$171 & $U16),0))))) -> 48923.7 | C16: =IF(ISERROR(MATCH(C$1,INDIRECT("Table!A"&$U16):INDIRECT("Table!" & $X$171 & $U16),0)),"",INDIRECT(CONCATENATE("Table!",ADDRESS($Q16,MATCH(C$1,INDIRECT("Table!A" & $U16):INDIRECT("Table!" & $X$171 & $U16),0))))) -> 74934.2 | D16: =IF(ISERROR(MATCH(D$1,INDIRECT("Table!A"&$U16):INDIRECT("Table!" & $X$171 & $U16),0)),"",INDIRECT(CONCATENATE("Table!",ADDRESS($Q16,MATCH(D$1,INDIRECT("Table!A" & $U16):INDIRECT("Table!" & $X$171 & $U16),0))))) -> 76350.2 | E16: =IF(ISERROR(MATCH(E$1,INDIRECT("Table!A"&$U16):INDIRECT("Table!" & $X$171 & $U16),0)),"",INDIRECT(CONCATENATE("Table!",ADDRESS($Q16,MATCH(E$1,INDIRECT("Table!A" & $U16):INDIRECT("Table!" & $X$171 & $U16),0))))) -> 159588.6 | F16: =IF(ISERROR(MATCH(F$1,INDIRECT("Table!A"&$U16):INDIRECT("Table!" & $X$171 & $U16),0)),"",INDIRECT(CONCATENATE("Table!",ADDRESS($Q16,MATCH(F$1,INDIRECT("Table!A" & $U16):INDIRECT("Table!" & $X$171 & $U16),0))))) -> 63182.8 | G16: =IF(ISERROR(MATCH(G$1,INDIRECT("Table!A"&$U16):INDIRECT("Table!" & $X$171 & $U16),0)),"",INDIRECT(CONCATENATE("Table!",ADDRESS($Q16,MATCH(G$1,INDIRECT("Table!A" & $U16):INDIRECT("Table!" & $X$171 & $U16),0))))) -> 29434.7 | H16: =IF(ISERROR(MATCH(H$1,INDIRECT("Table!A"&$U16):INDIRECT("Table!" & $X$171 & $U16),0)),"",INDIRECT(CONCATENATE("Table!",ADDRESS($Q16,MATCH(H$1,INDIRECT("Table!A" & $U16):INDIRECT("Table!" & $X$171 & $U16),0))))) -> 48608 | I16: =IF(ISERROR(MATCH(I$1,INDIRECT("Table!A"&$U16):INDIRECT("Table!" & $X$171 & $U16),0)),"",INDIRECT(CONCATENATE("Table!",ADDRESS($Q16,MATCH(I$1,INDIRECT("Table!A" & $U16):INDIRECT("Table!" & $X$171 & $U16),0))))) -> 147764.9 | ... M16: =IF(ISERROR(MATCH(M$1,INDIRECT("Table!A"&$U16):INDIRECT("Table!" & $X$171 & $U16),0)),"",INDIRECT(CONCATENATE("Table!",ADDRESS($Q16,MATCH(M$1,INDIRECT("Table!A" & $U16):INDIRECT("Table!" & $X$171 & $U16),0))))) -> 20795 | Q16: =MATCH($A16,Table!$A:$A,0)+$S$14-1 -> 249 | U16: =MATCH($A16,Table!$A:$A,0)+$W$2-1 -> 235 | X16: U
A17: 41239 | B17: =IF(ISERROR(MATCH(B$1,INDIRECT("Table!A"&$U17):INDIRECT("Table!" & $X$171 & $U17),0)),"",INDIRECT(CONCATENATE("Table!",ADDRESS($Q17,MATCH(B$1,INDIRECT("Table!A" & $U17):INDIRECT("Table!" & $X$171 & $U17),0))))) -> 50060.2 | C17: =IF(ISERROR(MATCH(C$1,INDIRECT("Table!A"&$U17):INDIRECT("Table!" & $X$171 & $U17),0)),"",INDIRECT(CONCATENATE("Table!",ADDRESS($Q17,MATCH(C$1,INDIRECT("Table!A" & $U17):INDIRECT("Table!" & $X$171 & $U17),0))))) -> 74664.9 | D17: =IF(ISERROR(MATCH(D$1,INDIRECT("Table!A"&$U17):INDIRECT("Table!" & $X$171 & $U17),0)),"",INDIRECT(CONCATENATE("Table!",ADDRESS($Q17,MATCH(D$1,INDIRECT("Table!A" & $U17):INDIRECT("Table!" & $X$171 & $U17),0))))) -> 76090.7 | E17: =IF(ISERROR(MATCH(E$1,INDIRECT("Table!A"&$U17):INDIRECT("Table!" & $X$171 & $U17),0)),"",INDIRECT(CONCATENATE("Table!",ADDRESS($Q17,MATCH(E$1,INDIRECT("Table!A" & $U17):INDIRECT("Table!" & $X$171 & $U17),0))))) -> 159178.6 | F17: =IF(ISERROR(MATCH(F$1,INDIRECT("Table!A"&$U17):INDIRECT("Table!" & $X$171 & $U17),0)),"",INDIRECT(CONCATENATE("Table!",ADDRESS($Q17,MATCH(F$1,INDIRECT("Table!A" & $U17):INDIRECT("Table!" & $X$171 & $U17),0))))) -> 62179.3 | G17: =IF(ISERROR(MATCH(G$1,INDIRECT("Table!A"&$U17):INDIRECT("Table!" & $X$171 & $U17),0)),"",INDIRECT(CONCATENATE("Table!",ADDRESS($Q17,MATCH(G$1,INDIRECT("Table!A" & $U17):INDIRECT("Table!" & $X$171 & $U17),0))))) -> 29760.5 | H17: =IF(ISERROR(MATCH(H$1,INDIRECT("Table!A"&$U17):INDIRECT("Table!" & $X$171 & $U17),0)),"",INDIRECT(CONCATENATE("Table!",ADDRESS($Q17,MATCH(H$1,INDIRECT("Table!A" & $U17):INDIRECT("Table!" & $X$171 & $U17),0))))) -> 48355.8 | I17: =IF(ISERROR(MATCH(I$1,INDIRECT("Table!A"&$U17):INDIRECT("Table!" & $X$171 & $U17),0)),"",INDIRECT(CONCATENATE("Table!",ADDRESS($Q17,MATCH(I$1,INDIRECT("Table!A" & $U17):INDIRECT("Table!" & $X$171 & $U17),0))))) -> 147365.3 | ... M17: =IF(ISERROR(MATCH(M$1,INDIRECT("Table!A"&$U17):INDIRECT("Table!" & $X$171 & $U17),0)),"",INDIRECT(CONCATENATE("Table!",ADDRESS($Q17,MATCH(M$1,INDIRECT("Table!A" & $U17):INDIRECT("Table!" & $X$171 & $U17),0))))) -> 20795 | Q17: =MATCH($A17,Table!$A:$A,0)+$S$14-1 -> 261 | U17: =MATCH($A17,Table!$A:$A,0)+$W$2-1 -> 247 | X17: U
A18: 41234 | B18: =IF(ISERROR(MATCH(B$1,INDIRECT("Table!A"&$U18):INDIRECT("Table!" & $X$171 & $U18),0)),"",INDIRECT(CONCATENATE("Table!",ADDRESS($Q18,MATCH(B$1,INDIRECT("Table!A" & $U18):INDIRECT("Table!" & $X$171 & $U18),0))))) -> 54116.9 | C18: =IF(ISERROR(MATCH(C$1,INDIRECT("Table!A"&$U18):INDIRECT("Table!" & $X$171 & $U18),0)),"",INDIRECT(CONCATENATE("Table!",ADDRESS($Q18,MATCH(C$1,INDIRECT("Table!A" & $U18):INDIRECT("Table!" & $X$171 & $U18),0))))) -> 74607.4 | D18: =IF(ISERROR(MATCH(D$1,INDIRECT("Table!A"&$U18):INDIRECT("Table!" & $X$171 & $U18),0)),"",INDIRECT(CONCATENATE("Table!",ADDRESS($Q18,MATCH(D$1,INDIRECT("Table!A" & $U18):INDIRECT("Table!" & $X$171 & $U18),0))))) -> 76034.4 | E18: =IF(ISERROR(MATCH(E$1,INDIRECT("Table!A"&$U18):INDIRECT("Table!" & $X$171 & $U18),0)),"",INDIRECT(CONCATENATE("Table!",ADDRESS($Q18,MATCH(E$1,INDIRECT("Table!A" & $U18):INDIRECT("Table!" & $X$171 & $U18),0))))) -> 158852.5 | F18: =IF(ISERROR(MATCH(F$1,INDIRECT("Table!A"&$U18):INDIRECT("Table!" & $X$171 & $U18),0)),"",INDIRECT(CONCATENATE("Table!",ADDRESS($Q18,MATCH(F$1,INDIRECT("Table!A" & $U18):INDIRECT("Table!" & $X$171 & $U18),0))))) -> 60905.6 | G18: =IF(ISERROR(MATCH(G$1,INDIRECT("Table!A"&$U18):INDIRECT("Table!" & $X$171 & $U18),0)),"",INDIRECT(CONCATENATE("Table!",ADDRESS($Q18,MATCH(G$1,INDIRECT("Table!A" & $U18):INDIRECT("Table!" & $X$171 & $U18),0))))) -> 30629.1 | H18: =IF(ISERROR(MATCH(H$1,INDIRECT("Table!A"&$U18):INDIRECT("Table!" & $X$171 & $U18),0)),"",INDIRECT(CONCATENATE("Table!",ADDRESS($Q18,MATCH(H$1,INDIRECT("Table!A" & $U18):INDIRECT("Table!" & $X$171 & $U18),0))))) -> 48141.8 | I18: =IF(ISERROR(MATCH(I$1,INDIRECT("Table!A"&$U18):INDIRECT("Table!" & $X$171 & $U18),0)),"",INDIRECT(CONCATENATE("Table!",ADDRESS($Q18,MATCH(I$1,INDIRECT("Table!A" & $U18):INDIRECT("Table!" & $X$171 & $U18),0))))) -> 147226.1 | ... M18: =IF(ISERROR(MATCH(M$1,INDIRECT("Table!A"&$U18):INDIRECT("Table!" & $X$171 & $U18),0)),"",INDIRECT(CONCATENATE("Table!",ADDRESS($Q18,MATCH(M$1,INDIRECT("Table!A" & $U18):INDIRECT("Table!" & $X$171 & $U18),0))))) -> 20795 | Q18: =MATCH($A18,Table!$A:$A,0)+$S$14-1 -> 273 | U18: =MATCH($A18,Table!$A:$A,0)+$W$2-1 -> 259 | X18: U
A19: 41232 | B19: =IF(ISERROR(MATCH(B$1,INDIRECT("Table!A"&$U19):INDIRECT("Table!" & $X$171 & $U19),0)),"",INDIRECT(CONCATENATE("Table!",ADDRESS($Q19,MATCH(B$1,INDIRECT("Table!A" & $U19):INDIRECT("Table!" & $X$171 & $U19),0))))) -> 55627.7 | C19: =IF(ISERROR(MATCH(C$1,INDIRECT("Table!A"&$U19):INDIRECT("Table!" & $X$171 & $U19),0)),"",INDIRECT(CONCATENATE("Table!",ADDRESS($Q19,MATCH(C$1,INDIRECT("Table!A" & $U19):INDIRECT("Table!" & $X$171 & $U19),0))))) -> 73841 | D19: =IF(ISERROR(MATCH(D$1,INDIRECT("Table!A"&$U19):INDIRECT("Table!" & $X$171 & $U19),0)),"",INDIRECT(CONCATENATE("Table!",ADDRESS($Q19,MATCH(D$1,INDIRECT("Table!A" & $U19):INDIRECT("Table!" & $X$171 & $U19),0))))) -> 75268 | E19: =IF(ISERROR(MATCH(E$1,INDIRECT("Table!A"&$U19):INDIRECT("Table!" & $X$171 & $U19),0)),"",INDIRECT(CONCATENATE("Table!",ADDRESS($Q19,MATCH(E$1,INDIRECT("Table!A" & $U19):INDIRECT("Table!" & $X$171 & $U19),0))))) -> 158586.5 | F19: =IF(ISERROR(MATCH(F$1,INDIRECT("Table!A"&$U19):INDIRECT("Table!" & $X$171 & $U19),0)),"",INDIRECT(CONCATENATE("Table!",ADDRESS($Q19,MATCH(F$1,INDIRECT("Table!A" & $U19):INDIRECT("Table!" & $X$171 & $U19),0))))) -> 60477.4 | G19: =IF(ISERROR(MATCH(G$1,INDIRECT("Table!A"&$U19):INDIRECT("Table!" & $X$171 & $U19),0)),"",INDIRECT(CONCATENATE("Table!",ADDRESS($Q19,MATCH(G$1,INDIRECT("Table!A" & $U19):INDIRECT("Table!" & $X$171 & $U19),0))))) -> 34199.2 | H19: =IF(ISERROR(MATCH(H$1,INDIRECT("Table!A"&$U19):INDIRECT("Table!" & $X$171 & $U19),0)),"",INDIRECT(CONCATENATE("Table!",ADDRESS($Q19,MATCH(H$1,INDIRECT("Table!A" & $U19):INDIRECT("Table!" & $X$171 & $U19),0))))) -> 48045.9 | I19: =IF(ISERROR(MATCH(I$1,INDIRECT("Table!A"&$U19):INDIRECT("Table!" & $X$171 & $U19),0)),"",INDIRECT(CONCATENATE("Table!",ADDRESS($Q19,MATCH(I$1,INDIRECT("Table!A" & $U19):INDIRECT("Table!" & $X$171 & $U19),0))))) -> 147015.4 | ... M19: =IF(ISERROR(MATCH(M$1,INDIRECT("Table!A"&$U19):INDIRECT("Table!" & $X$171 & $U19),0)),"",INDIRECT(CONCATENATE("Table!",ADDRESS($Q19,MATCH(M$1,INDIRECT("Table!A" & $U19):INDIRECT("Table!" & $X$171 & $U19),0))))) -> 20795 | Q19: =MATCH($A19,Table!$A:$A,0)+$S$14-1 -> 285 | U19: =MATCH($A19,Table!$A:$A,0)+$W$2-1 -> 271 | X19: U
A20: 41227 | B20: =IF(ISERROR(MATCH(B$1,INDIRECT("Table!A"&$U20):INDIRECT("Table!" & $X$171 & $U20),0)),"",INDIRECT(CONCATENATE("Table!",ADDRESS($Q20,MATCH(B$1,INDIRECT("Table!A" & $U20):INDIRECT("Table!" & $X$171 & $U20),0))))) -> 55783.7 | C20: =IF(ISERROR(MATCH(C$1,INDIRECT("Table!A"&$U20):INDIRECT("Table!" & $X$171 & $U20),0)),"",INDIRECT(CONCATENATE("Table!",ADDRESS($Q20,MATCH(C$1,INDIRECT("Table!A" & $U20):INDIRECT("Table!" & $X$171 & $U20),0))))) -> 73738.7 | D20: =IF(ISERROR(MATCH(D$1,INDIRECT("Table!A"&$U20):INDIRECT("Table!" & $X$171 & $U20),0)),"",INDIRECT(CONCATENATE("Table!",ADDRESS($Q20,MATCH(D$1,INDIRECT("Table!A" & $U20):INDIRECT("Table!" & $X$171 & $U20),0))))) -> 75165.7 | E20: =IF(ISERROR(MATCH(E$1,INDIRECT("Table!A"&$U20):INDIRECT("Table!" & $X$171 & $U20),0)),"",INDIRECT(CONCATENATE("Table!",ADDRESS($Q20,MATCH(E$1,INDIRECT("Table!A" & $U20):INDIRECT("Table!" & $X$171 & $U20),0))))) -> 158449.6 | F20: =IF(ISERROR(MATCH(F$1,INDIRECT("Table!A"&$U20):INDIRECT("Table!" & $X$171 & $U20),0)),"",INDIRECT(CONCATENATE("Table!",ADDRESS($Q20,MATCH(F$1,INDIRECT("Table!A" & $U20):INDIRECT("Table!" & $X$171 & $U20),0))))) -> 60313.9 | G20: =IF(ISERROR(MATCH(G$1,INDIRECT("Table!A"&$U20):INDIRECT("Table!" & $X$171 & $U20),0)),"",INDIRECT(CONCATENATE("Table!",ADDRESS($Q20,MATCH(G$1,INDIRECT("Table!A" & $U20):INDIRECT("Table!" & $X$171 & $U20),0))))) -> 36558 | H20: =IF(ISERROR(MATCH(H$1,INDIRECT("Table!A"&$U20):INDIRECT("Table!" & $X$171 & $U20),0)),"",INDIRECT(CONCATENATE("Table!",ADDRESS($Q20,MATCH(H$1,INDIRECT("Table!A" & $U20):INDIRECT("Table!" & $X$171 & $U20),0))))) -> 47977.7 | I20: =IF(ISERROR(MATCH(I$1,INDIRECT("Table!A"&$U20):INDIRECT("Table!" & $X$171 & $U20),0)),"",INDIRECT(CONCATENATE("Table!",ADDRESS($Q20,MATCH(I$1,INDIRECT("Table!A" & $U20):INDIRECT("Table!" & $X$171 & $U20),0))))) -> 146922.3 | ... M20: =IF(ISERROR(MATCH(M$1,INDIRECT("Table!A"&$U20):INDIRECT("Table!" & $X$171 & $U20),0)),"",INDIRECT(CONCATENATE("Table!",ADDRESS($Q20,MATCH(M$1,INDIRECT("Table!A" & $U20):INDIRECT("Table!" & $X$171 & $U20),0))))) -> 20795 | Q20: =MATCH($A20,Table!$A:$A,0)+$S$14-1 -> 297 | U20: =MATCH($A20,Table!$A:$A,0)+$W$2-1 -> 283 | X20: U
A21: 41225 | B21: =IF(ISERROR(MATCH(B$1,INDIRECT("Table!A"&$U21):INDIRECT("Table!" & $X$171 & $U21),0)),"",INDIRECT(CONCATENATE("Table!",ADDRESS($Q21,MATCH(B$1,INDIRECT("Table!A" & $U21):INDIRECT("Table!" & $X$171 & $U21),0))))) -> 62457.1 | C21: =IF(ISERROR(MATCH(C$1,INDIRECT("Table!A"&$U21):INDIRECT("Table!" & $X$171 & $U21),0)),"",INDIRECT(CONCATENATE("Table!",ADDRESS($Q21,MATCH(C$1,INDIRECT("Table!A" & $U21):INDIRECT("Table!" & $X$171 & $U21),0))))) -> 73564.2 | D21: =IF(ISERROR(MATCH(D$1,INDIRECT("Table!A"&$U21):INDIRECT("Table!" & $X$171 & $U21),0)),"",INDIRECT(CONCATENATE("Table!",ADDRESS($Q21,MATCH(D$1,INDIRECT("Table!A" & $U21):INDIRECT("Table!" & $X$171 & $U21),0))))) -> 74991.3 | E21: =IF(ISERROR(MATCH(E$1,INDIRECT("Table!A"&$U21):INDIRECT("Table!" & $X$171 & $U21),0)),"",INDIRECT(CONCATENATE("Table!",ADDRESS($Q21,MATCH(E$1,INDIRECT("Table!A" & $U21):INDIRECT("Table!" & $X$171 & $U21),0))))) -> 158263.8 | F21: =IF(ISERROR(MATCH(F$1,INDIRECT("Table!A"&$U21):INDIRECT("Table!" & $X$171 & $U21),0)),"",INDIRECT(CONCATENATE("Table!",ADDRESS($Q21,MATCH(F$1,INDIRECT("Table!A" & $U21):INDIRECT("Table!" & $X$171 & $U21),0))))) -> 60005 | G21: =IF(ISERROR(MATCH(G$1,INDIRECT("Table!A"&$U21):INDIRECT("Table!" & $X$171 & $U21),0)),"",INDIRECT(CONCATENATE("Table!",ADDRESS($Q21,MATCH(G$1,INDIRECT("Table!A" & $U21):INDIRECT("Table!" & $X$171 & $U21),0))))) -> 38091.1 | H21: =IF(ISERROR(MATCH(H$1,INDIRECT("Table!A"&$U21):INDIRECT("Table!" & $X$171 & $U21),0)),"",INDIRECT(CONCATENATE("Table!",ADDRESS($Q21,MATCH(H$1,INDIRECT("Table!A" & $U21):INDIRECT("Table!" & $X$171 & $U21),0))))) -> 47809.4 | I21: =IF(ISERROR(MATCH(I$1,INDIRECT("Table!A"&$U21):INDIRECT("Table!" & $X$171 & $U21),0)),"",INDIRECT(CONCATENATE("Table!",ADDRESS($Q21,MATCH(I$1,INDIRECT("Table!A" & $U21):INDIRECT("Table!" & $X$171 & $U21),0))))) -> 146582.3 | ... M21: =IF(ISERROR(MATCH(M$1,INDIRECT("Table!A"&$U21):INDIRECT("Table!" & $X$171 & $U21),0)),"",INDIRECT(CONCATENATE("Table!",ADDRESS($Q21,MATCH(M$1,INDIRECT("Table!A" & $U21):INDIRECT("Table!" & $X$171 & $U21),0))))) -> 20795 | Q21: =MATCH($A21,Table!$A:$A,0)+$S$14-1 -> 309 | U21: =MATCH($A21,Table!$A:$A,0)+$W$2-1 -> 295 | X21: U
A22: 41221 | B22: =IF(ISERROR(MATCH(B$1,INDIRECT("Table!A"&$U22):INDIRECT("Table!" & $X$171 & $U22),0)),"",INDIRECT(CONCATENATE("Table!",ADDRESS($Q22,MATCH(B$1,INDIRECT("Table!A" & $U22):INDIRECT("Table!" & $X$171 & $U22),0))))) -> 63919.6 | C22: =IF(ISERROR(MATCH(C$1,INDIRECT("Table!A"&$U22):INDIRECT("Table!" & $X$171 & $U22),0)),"",INDIRECT(CONCATENATE("Table!",ADDRESS($Q22,MATCH(C$1,INDIRECT("Table!A" & $U22):INDIRECT("Table!" & $X$171 & $U22),0))))) -> 73539.4 | D22: =IF(ISERROR(MATCH(D$1,INDIRECT("Table!A"&$U22):INDIRECT("Table!" & $X$171 & $U22),0)),"",INDIRECT(CONCATENATE("Table!",ADDRESS($Q22,MATCH(D$1,INDIRECT("Table!A" & $U22):INDIRECT("Table!" & $X$171 & $U22),0))))) -> 74966.7 | E22: =IF(ISERROR(MATCH(E$1,INDIRECT("Table!A"&$U22):INDIRECT("Table!" & $X$171 & $U22),0)),"",INDIRECT(CONCATENATE("Table!",ADDRESS($Q22,MATCH(E$1,INDIRECT("Table!A" & $U22):INDIRECT("Table!" & $X$171 & $U22),0))))) -> 158054.2 | F22: =IF(ISERROR(MATCH(F$1,INDIRECT("Table!A"&$U22):INDIRECT("Table!" & $X$171 & $U22),0)),"",INDIRECT(CONCATENATE("Table!",ADDRESS($Q22,MATCH(F$1,INDIRECT("Table!A" & $U22):INDIRECT("Table!" & $X$171 & $U22),0))))) -> 59708.1 | G22: =IF(ISERROR(MATCH(G$1,INDIRECT("Table!A"&$U22):INDIRECT("Table!" & $X$171 & $U22),0)),"",INDIRECT(CONCATENATE("Table!",ADDRESS($Q22,MATCH(G$1,INDIRECT("Table!A" & $U22):INDIRECT("Table!" & $X$171 & $U22),0))))) -> 39024.2 | H22: =IF(ISERROR(MATCH(H$1,INDIRECT("Table!A"&$U22):INDIRECT("Table!" & $X$171 & $U22),0)),"",INDIRECT(CONCATENATE("Table!",ADDRESS($Q22,MATCH(H$1,INDIRECT("Table!A" & $U22):INDIRECT("Table!" & $X$171 & $U22),0))))) -> 47764.2 | I22: =IF(ISERROR(MATCH(I$1,INDIRECT("Table!A"&$U22):INDIRECT("Table!" & $X$171 & $U22),0)),"",INDIRECT(CONCATENATE("Table!",ADDRESS($Q22,MATCH(I$1,INDIRECT("Table!A" & $U22):INDIRECT("Table!" & $X$171 & $U22),0))))) -> 146504.2 | ... M22: =IF(ISERROR(MATCH(M$1,INDIRECT("Table!A"&$U22):INDIRECT("Table!" & $X$171 & $U22),0)),"",INDIRECT(CONCATENATE("Table!",ADDRESS($Q22,MATCH(M$1,INDIRECT("Table!A" & $U22):INDIRECT("Table!" & $X$171 & $U22),0))))) -> 20795 | Q22: =MATCH($A22,Table!$A:$A,0)+$S$14-1 -> 321 | U22: =MATCH($A22,Table!$A:$A,0)+$W$2-1 -> 307 | X22: U
A23: 41220 | B23: =IF(ISERROR(MATCH(B$1,INDIRECT("Table!A"&$U23):INDIRECT("Table!" & $X$171 & $U23),0)),"",INDIRECT(CONCATENATE("Table!",ADDRESS($Q23,MATCH(B$1,INDIRECT("Table!A" & $U23):INDIRECT("Table!" & $X$171 & $U23),0))))) -> 65815.9 | C23: =IF(ISERROR(MATCH(C$1,INDIRECT("Table!A"&$U23):INDIRECT("Table!" & $X$171 & $U23),0)),"",INDIRECT(CONCATENATE("Table!",ADDRESS($Q23,MATCH(C$1,INDIRECT("Table!A" & $U23):INDIRECT("Table!" & $X$171 & $U23),0))))) -> 73530.5 | D23: =IF(ISERROR(MATCH(D$1,INDIRECT("Table!A"&$U23):INDIRECT("Table!" & $X$171 & $U23),0)),"",INDIRECT(CONCATENATE("Table!",ADDRESS($Q23,MATCH(D$1,INDIRECT("Table!A" & $U23):INDIRECT("Table!" & $X$171 & $U23),0))))) -> 74962 | E23: =IF(ISERROR(MATCH(E$1,INDIRECT("Table!A"&$U23):INDIRECT("Table!" & $X$171 & $U23),0)),"",INDIRECT(CONCATENATE("Table!",ADDRESS($Q23,MATCH(E$1,INDIRECT("Table!A" & $U23):INDIRECT("Table!" & $X$171 & $U23),0))))) -> 157992.1 | F23: =IF(ISERROR(MATCH(F$1,INDIRECT("Table!A"&$U23):INDIRECT("Table!" & $X$171 & $U23),0)),"",INDIRECT(CONCATENATE("Table!",ADDRESS($Q23,MATCH(F$1,INDIRECT("Table!A" & $U23):INDIRECT("Table!" & $X$171 & $U23),0))))) -> 59632 | G23: =IF(ISERROR(MATCH(G$1,INDIRECT("Table!A"&$U23):INDIRECT("Table!" & $X$171 & $U23),0)),"",INDIRECT(CONCATENATE("Table!",ADDRESS($Q23,MATCH(G$1,INDIRECT("Table!A" & $U23):INDIRECT("Table!" & $X$171 & $U23),0))))) -> 39819.9 | H23: =IF(ISERROR(MATCH(H$1,INDIRECT("Table!A"&$U23):INDIRECT("Table!" & $X$171 & $U23),0)),"",INDIRECT(CONCATENATE("Table!",ADDRESS($Q23,MATCH(H$1,INDIRECT("Table!A" & $U23):INDIRECT("Table!" & $X$171 & $U23),0))))) -> 47754.1 | I23: =IF(ISERROR(MATCH(I$1,INDIRECT("Table!A"&$U23):INDIRECT("Table!" & $X$171 & $U23),0)),"",INDIRECT(CONCATENATE("Table!",ADDRESS($Q23,MATCH(I$1,INDIRECT("Table!A" & $U23):INDIRECT("Table!" & $X$171 & $U23),0))))) -> 146493.2 | ... M23: =IF(ISERROR(MATCH(M$1,INDIRECT("Table!A"&$U23):INDIRECT("Table!" & $X$171 & $U23),0)),"",INDIRECT(CONCATENATE("Table!",ADDRESS($Q23,MATCH(M$1,INDIRECT("Table!A" & $U23):INDIRECT("Table!" & $X$171 & $U23),0))))) -> 20795 | Q23: =MATCH($A23,Table!$A:$A,0)+$S$14-1 -> 333 | U23: =MATCH($A23,Table!$A:$A,0)+$W$2-1 -> 319 | X23: U
A24: 41219 | B24: =IF(ISERROR(MATCH(B$1,INDIRECT("Table!A"&$U24):INDIRECT("Table!" & $X$171 & $U24),0)),"",INDIRECT(CONCATENATE("Table!",ADDRESS($Q24,MATCH(B$1,INDIRECT("Table!A" & $U24):INDIRECT("Table!" & $X$171 & $U24),0))))) -> 67593 | C24: =IF(ISERROR(MATCH(C$1,INDIRECT("Table!A"&$U24):INDIRECT("Table!" & $X$171 & $U24),0)),"",INDIRECT(CONCATENATE("Table!",ADDRESS($Q24,MATCH(C$1,INDIRECT("Table!A" & $U24):INDIRECT("Table!" & $X$171 & $U24),0))))) -> 73478.4 | D24: =IF(ISERROR(MATCH(D$1,INDIRECT("Table!A"&$U24):INDIRECT("Table!" & $X$171 & $U24),0)),"",INDIRECT(CONCATENATE("Table!",ADDRESS($Q24,MATCH(D$1,INDIRECT("Table!A" & $U24):INDIRECT("Table!" & $X$171 & $U24),0))))) -> 74921.4 | E24: =IF(ISERROR(MATCH(E$1,INDIRECT("Table!A"&$U24):INDIRECT("Table!" & $X$171 & $U24),0)),"",INDIRECT(CONCATENATE("Table!",ADDRESS($Q24,MATCH(E$1,INDIRECT("Table!A" & $U24):INDIRECT("Table!" & $X$171 & $U24),0))))) -> 161637.5 | F24: =IF(ISERROR(MATCH(F$1,INDIRECT("Table!A"&$U24):INDIRECT("Table!" & $X$171 & $U24),0)),"",INDIRECT(CONCATENATE("Table!",ADDRESS($Q24,MATCH(F$1,INDIRECT("Table!A" & $U24):INDIRECT("Table!" & $X$171 & $U24),0))))) -> 59176.7 | G24: =IF(ISERROR(MATCH(G$1,INDIRECT("Table!A"&$U24):INDIRECT("Table!" & $X$171 & $U24),0)),"",INDIRECT(CONCATENATE("Table!",ADDRESS($Q24,MATCH(G$1,INDIRECT("Table!A" & $U24):INDIRECT("Table!" & $X$171 & $U24),0))))) -> 40779.8 | H24: =IF(ISERROR(MATCH(H$1,INDIRECT("Table!A"&$U24):INDIRECT("Table!" & $X$171 & $U24),0)),"",INDIRECT(CONCATENATE("Table!",ADDRESS($Q24,MATCH(H$1,INDIRECT("Table!A" & $U24):INDIRECT("Table!" & $X$171 & $U24),0))))) -> 47374.6 | I24: =IF(ISERROR(MATCH(I$1,INDIRECT("Table!A"&$U24):INDIRECT("Table!" & $X$171 & $U24),0)),"",INDIRECT(CONCATENATE("Table!",ADDRESS($Q24,MATCH(I$1,INDIRECT("Table!A" & $U24):INDIRECT("Table!" & $X$171 & $U24),0))))) -> 146156.8 | ... M24: =IF(ISERROR(MATCH(M$1,INDIRECT("Table!A"&$U24):INDIRECT("Table!" & $X$171 & $U24),0)),"",INDIRECT(CONCATENATE("Table!",ADDRESS($Q24,MATCH(M$1,INDIRECT("Table!A" & $U24):INDIRECT("Table!" & $X$171 & $U24),0))))) -> 23055 | Q24: =MATCH($A24,Table!$A:$A,0)+$S$14-1 -> 345 | U24: =MATCH($A24,Table!$A:$A,0)+$W$2-1 -> 331 | X24: U
A25: 41215 | B25: =IF(ISERROR(MATCH(B$1,INDIRECT("Table!A"&$U25):INDIRECT("Table!" & $X$171 & $U25),0)),"",INDIRECT(CONCATENATE("Table!",ADDRESS($Q25,MATCH(B$1,INDIRECT("Table!A" & $U25):INDIRECT("Table!" & $X$171 & $U25),0))))) -> 68904.5 | C25: =IF(ISERROR(MATCH(C$1,INDIRECT("Table!A"&$U25):INDIRECT("Table!" & $X$171 & $U25),0)),"",INDIRECT(CONCATENATE("Table!",ADDRESS($Q25,MATCH(C$1,INDIRECT("Table!A" & $U25):INDIRECT("Table!" & $X$171 & $U25),0))))) -> 73467.1 | D25: =IF(ISERROR(MATCH(D$1,INDIRECT("Table!A"&$U25):INDIRECT("Table!" & $X$171 & $U25),0)),"",INDIRECT(CONCATENATE("Table!",ADDRESS($Q25,MATCH(D$1,INDIRECT("Table!A" & $U25):INDIRECT("Table!" & $X$171 & $U25),0))))) -> 74910 | E25: =IF(ISERROR(MATCH(E$1,INDIRECT("Table!A"&$U25):INDIRECT("Table!" & $X$171 & $U25),0)),"",INDIRECT(CONCATENATE("Table!",ADDRESS($Q25,MATCH(E$1,INDIRECT("Table!A" & $U25):INDIRECT("Table!" & $X$171 & $U25),0))))) -> 161575.2 | F25: =IF(ISERROR(MATCH(F$1,INDIRECT("Table!A"&$U25):INDIRECT("Table!" & $X$171 & $U25),0)),"",INDIRECT(CONCATENATE("Table!",ADDRESS($Q25,MATCH(F$1,INDIRECT("Table!A" & $U25):INDIRECT("Table!" & $X$171 & $U25),0))))) -> 58797.9 | G25: =IF(ISERROR(MATCH(G$1,INDIRECT("Table!A"&$U25):INDIRECT("Table!" & $X$171 & $U25),0)),"",INDIRECT(CONCATENATE("Table!",ADDRESS($Q25,MATCH(G$1,INDIRECT("Table!A" & $U25):INDIRECT("Table!" & $X$171 & $U25),0))))) -> 41472.3 | H25: =IF(ISERROR(MATCH(H$1,INDIRECT("Table!A"&$U25):INDIRECT("Table!" & $X$171 & $U25),0)),"",INDIRECT(CONCATENATE("Table!",ADDRESS($Q25,MATCH(H$1,INDIRECT("Table!A" & $U25):INDIRECT("Table!" & $X$171 & $U25),0))))) -> 47359.2 | I25: =IF(ISERROR(MATCH(I$1,INDIRECT("Table!A"&$U25):INDIRECT("Table!" & $X$171 & $U25),0)),"",INDIRECT(CONCATENATE("Table!",ADDRESS($Q25,MATCH(I$1,INDIRECT("Table!A" & $U25):INDIRECT("Table!" & $X$171 & $U25),0))))) -> 146112.5 | ... M25: =IF(ISERROR(MATCH(M$1,INDIRECT("Table!A"&$U25):INDIRECT("Table!" & $X$171 & $U25),0)),"",INDIRECT(CONCATENATE("Table!",ADDRESS($Q25,MATCH(M$1,INDIRECT("Table!A" & $U25):INDIRECT("Table!" & $X$171 & $U25),0))))) -> 23055 | Q25: =MATCH($A25,Table!$A:$A,0)+$S$14-1 -> 357 | U25: =MATCH($A25,Table!$A:$A,0)+$W$2-1 -> 343 | X25: U
A26: 41214 | B26: =IF(ISERROR(MATCH(B$1,INDIRECT("Table!A"&$U26):INDIRECT("Table!" & $X$171 & $U26),0)),"",INDIRECT(CONCATENATE("Table!",ADDRESS($Q26,MATCH(B$1,INDIRECT("Table!A" & $U26):INDIRECT("Table!" & $X$171 & $U26),0))))) -> 70253.4 | C26: =IF(ISERROR(MATCH(C$1,INDIRECT("Table!A"&$U26):INDIRECT("Table!" & $X$171 & $U26),0)),"",INDIRECT(CONCATENATE("Table!",ADDRESS($Q26,MATCH(C$1,INDIRECT("Table!A" & $U26):INDIRECT("Table!" & $X$171 & $U26),0))))) -> 73454.9 | D26: =IF(ISERROR(MATCH(D$1,INDIRECT("Table!A"&$U26):INDIRECT("Table!" & $X$171 & $U26),0)),"",INDIRECT(CONCATENATE("Table!",ADDRESS($Q26,MATCH(D$1,INDIRECT("Table!A" & $U26):INDIRECT("Table!" & $X$171 & $U26),0))))) -> 74897.9 | E26: =IF(ISERROR(MATCH(E$1,INDIRECT("Table!A"&$U26):INDIRECT("Table!" & $X$171 & $U26),0)),"",INDIRECT(CONCATENATE("Table!",ADDRESS($Q26,MATCH(E$1,INDIRECT("Table!A" & $U26):INDIRECT("Table!" & $X$171 & $U26),0))))) -> 161535.7 | F26: =IF(ISERROR(MATCH(F$1,INDIRECT("Table!A"&$U26):INDIRECT("Table!" & $X$171 & $U26),0)),"",INDIRECT(CONCATENATE("Table!",ADDRESS($Q26,MATCH(F$1,INDIRECT("Table!A" & $U26):INDIRECT("Table!" & $X$171 & $U26),0))))) -> 58495.4 | G26: =IF(ISERROR(MATCH(G$1,INDIRECT("Table!A"&$U26):INDIRECT("Table!" & $X$171 & $U26),0)),"",INDIRECT(CONCATENATE("Table!",ADDRESS($Q26,MATCH(G$1,INDIRECT("Table!A" & $U26):INDIRECT("Table!" & $X$171 & $U26),0))))) -> 40783.4 | H26: =IF(ISERROR(MATCH(H$1,INDIRECT("Table!A"&$U26):INDIRECT("Table!" & $X$171 & $U26),0)),"",INDIRECT(CONCATENATE("Table!",ADDRESS($Q26,MATCH(H$1,INDIRECT("Table!A" & $U26):INDIRECT("Table!" & $X$171 & $U26),0))))) -> 47322.8 | I26: =IF(ISERROR(MATCH(I$1,INDIRECT("Table!A"&$U26):INDIRECT("Table!" & $X$171 & $U26),0)),"",INDIRECT(CONCATENATE("Table!",ADDRESS($Q26,MATCH(I$1,INDIRECT("Table!A" & $U26):INDIRECT("Table!" & $X$171 & $U26),0))))) -> 146089 | ... M26: =IF(ISERROR(MATCH(M$1,INDIRECT("Table!A"&$U26):INDIRECT("Table!" & $X$171 & $U26),0)),"",INDIRECT(CONCATENATE("Table!",ADDRESS($Q26,MATCH(M$1,INDIRECT("Table!A" & $U26):INDIRECT("Table!" & $X$171 & $U26),0))))) -> 23055 | Q26: =MATCH($A26,Table!$A:$A,0)+$S$14-1 -> 369 | U26: =MATCH($A26,Table!$A:$A,0)+$W$2-1 -> 355 | X26: U
... A97: 41050 | B97: =IF(ISERROR(MATCH(B$1,INDIRECT("Table!A"&$U97):INDIRECT("Table!" & $X$171 & $U97),0)),"",INDIRECT(CONCATENATE("Table!",ADDRESS($Q97,MATCH(B$1,INDIRECT("Table!A" & $U97):INDIRECT("Table!" & $X$171 & $U97),0))))) -> 115816.8 | C97: =IF(ISERROR(MATCH(C$1,INDIRECT("Table!A"&$U97):INDIRECT("Table!" & $X$171 & $U97),0)),"",INDIRECT(CONCATENATE("Table!",ADDRESS($Q97,MATCH(C$1,INDIRECT("Table!A" & $U97):INDIRECT("Table!" & $X$171 & $U97),0))))) -> 99041.7 | D97: =IF(ISERROR(MATCH(D$1,INDIRECT("Table!A"&$U97):INDIRECT("Table!" & $X$171 & $U97),0)),"",INDIRECT(CONCATENATE("Table!",ADDRESS($Q97,MATCH(D$1,INDIRECT("Table!A" & $U97):INDIRECT("Table!" & $X$171 & $U97),0))))) -> 99041.7 | E97: =IF(ISERROR(MATCH(E$1,INDIRECT("Table!A"&$U97):INDIRECT("Table!" & $X$171 & $U97),0)),"",INDIRECT(CONCATENATE("Table!",ADDRESS($Q97,MATCH(E$1,INDIRECT("Table!A" & $U97):INDIRECT("Table!" & $X$171 & $U97),0))))) -> 181997.8 | F97: =IF(ISERROR(MATCH(F$1,INDIRECT("Table!A"&$U97):INDIRECT("Table!" & $X$171 & $U97),0)),"",INDIRECT(CONCATENATE("Table!",ADDRESS($Q97,MATCH(F$1,INDIRECT("Table!A" & $U97):INDIRECT("Table!" & $X$171 & $U97),0))))) -> 121331.8 | G97: =IF(ISERROR(MATCH(G$1,INDIRECT("Table!A"&$U97):INDIRECT("Table!" & $X$171 & $U97),0)),"",INDIRECT(CONCATENATE("Table!",ADDRESS($Q97,MATCH(G$1,INDIRECT("Table!A" & $U97):INDIRECT("Table!" & $X$171 & $U97),0))))) -> 110071.9 | H97: =IF(ISERROR(MATCH(H$1,INDIRECT("Table!A"&$U97):INDIRECT("Table!" & $X$171 & $U97),0)),"",INDIRECT(CONCATENATE("Table!",ADDRESS($Q97,MATCH(H$1,INDIRECT("Table!A" & $U97):INDIRECT("Table!" & $X$171 & $U97),0))))) -> 121331.8 | I97: =IF(ISERROR(MATCH(I$1,INDIRECT("Table!A"&$U97):INDIRECT("Table!" & $X$171 & $U97),0)),"",INDIRECT(CONCATENATE("Table!",ADDRESS($Q97,MATCH(I$1,INDIRECT("Table!A" & $U97):INDIRECT("Table!" & $X$171 & $U97),0))))) -> 170967.6 | ... M97: =IF(ISERROR(MATCH(M$1,INDIRECT("Table!A"&$U97):INDIRECT("Table!" & $X$171 & $U97),0)),"",INDIRECT(CONCATENATE("Table!",ADDRESS($Q97,MATCH(M$1,INDIRECT("Table!A" & $U97):INDIRECT("Table!" & $X$171 & $U97),0))))) -> 54921 | Q97: =MATCH($A97,Table!$A:$A,0)+$S$14-1 -> 1286 | U97: =MATCH($A97,Table!$A:$A,0)+$W$2-1 -> 1272 | X97: U
A98: 41047 | B98: 1.3041579 | C98: 0.83840241 | D98: 0.83193746 | E98: 1.5429972 | F98: 0.44134596 | G98: 1.5479627 | H98: 0.39412833 | I98: 1.5489169 | J98: 0.54478167 | K98: 1.0304553 | L98: 0.4638262 | M98: 0.48106917 | Q98: =MATCH($A98,Table!$A:$A,0)+$S$14-1 -> 1299 | U98: 16 | X98: U
A99: 41045 | B99: =IF(ISERROR(MATCH(B$1,INDIRECT("Table!A"&$U99):INDIRECT("Table!" & $X$171 & $U99),0)),"",INDIRECT(CONCATENATE("Table!",ADDRESS($Q99,MATCH(B$1,INDIRECT("Table!A" & $U99):INDIRECT("Table!" & $X$171 & $U99),0))))) -> 115816.8 | C99: =IF(ISERROR(MATCH(C$1,INDIRECT("Table!A"&$U99):INDIRECT("Table!" & $X$171 & $U99),0)),"",INDIRECT(CONCATENATE("Table!",ADDRESS($Q99,MATCH(C$1,INDIRECT("Table!A" & $U99):INDIRECT("Table!" & $X$171 & $U99),0))))) -> 99041.7 | D99: =IF(ISERROR(MATCH(D$1,INDIRECT("Table!A"&$U99):INDIRECT("Table!" & $X$171 & $U99),0)),"",INDIRECT(CONCATENATE("Table!",ADDRESS($Q99,MATCH(D$1,INDIRECT("Table!A" & $U99):INDIRECT("Table!" & $X$171 & $U99),0))))) -> 99041.7 | E99: =IF(ISERROR(MATCH(E$1,INDIRECT("Table!A"&$U99):INDIRECT("Table!" & $X$171 & $U99),0)),"",INDIRECT(CONCATENATE("Table!",ADDRESS($Q99,MATCH(E$1,INDIRECT("Table!A" & $U99):INDIRECT("Table!" & $X$171 & $U99),0))))) -> 181997.8 | F99: =IF(ISERROR(MATCH(F$1,INDIRECT("Table!A"&$U99):INDIRECT("Table!" & $X$171 & $U99),0)),"",INDIRECT(CONCATENATE("Table!",ADDRESS($Q99,MATCH(F$1,INDIRECT("Table!A" & $U99):INDIRECT("Table!" & $X$171 & $U99),0))))) -> 121331.8 | G99: =IF(ISERROR(MATCH(G$1,INDIRECT("Table!A"&$U99):INDIRECT("Table!" & $X$171 & $U99),0)),"",INDIRECT(CONCATENATE("Table!",ADDRESS($Q99,MATCH(G$1,INDIRECT("Table!A" & $U99):INDIRECT("Table!" & $X$171 & $U99),0))))) -> 110071.9 | H99: =IF(ISERROR(MATCH(H$1,INDIRECT("Table!A"&$U99):INDIRECT("Table!" & $X$171 & $U99),0)),"",INDIRECT(CONCATENATE("Table!",ADDRESS($Q99,MATCH(H$1,INDIRECT("Table!A" & $U99):INDIRECT("Table!" & $X$171 & $U99),0))))) -> 121331.8 | I99: =IF(ISERROR(MATCH(I$1,INDIRECT("Table!A"&$U99):INDIRECT("Table!" & $X$171 & $U99),0)),"",INDIRECT(CONCATENATE("Table!",ADDRESS($Q99,MATCH(I$1,INDIRECT("Table!A" & $U99):INDIRECT("Table!" & $X$171 & $U99),0))))) -> 170967.6 | ... M99: =IF(ISERROR(MATCH(M$1,INDIRECT("Table!A"&$U99):INDIRECT("Table!" & $X$171 & $U99),0)),"",INDIRECT(CONCATENATE("Table!",ADDRESS($Q99,MATCH(M$1,INDIRECT("Table!A" & $U99):INDIRECT("Table!" & $X$171 & $U99),0))))) -> 54921 | Q99: =MATCH($A99,Table!$A:$A,0)+$S$14-1 -> 1325 | U99: =MATCH($A99,Table!$A:$A,0)+$W$2-1 -> 1311 | X99: U
A100: 41044 | B100: =IF(ISERROR(MATCH(B$1,INDIRECT("Table!A"&$U100):INDIRECT("Table!" & $X$171 & $U100),0)),"",INDIRECT(CONCATENATE("Table!",ADDRESS($Q100,MATCH(B$1,INDIRECT("Table!A" & $U100):INDIRECT("Table!" & $X$171 & $U100),0))))) -> 115816.8 | C100: =IF(ISERROR(MATCH(C$1,INDIRECT("Table!A"&$U100):INDIRECT("Table!" & $X$171 & $U100),0)),"",INDIRECT(CONCATENATE("Table!",ADDRESS($Q100,MATCH(C$1,INDIRECT("Table!A" & $U100):INDIRECT("Table!" & $X$171 & $U100),0))))) -> 99041.7 | D100: =IF(ISERROR(MATCH(D$1,INDIRECT("Table!A"&$U100):INDIRECT("Table!" & $X$171 & $U100),0)),"",INDIRECT(CONCATENATE("Table!",ADDRESS($Q100,MATCH(D$1,INDIRECT("Table!A" & $U100):INDIRECT("Table!" & $X$171 & $U100),0))))) -> 99041.7 | E100: =IF(ISERROR(MATCH(E$1,INDIRECT("Table!A"&$U100):INDIRECT("Table!" & $X$171 & $U100),0)),"",INDIRECT(CONCATENATE("Table!",ADDRESS($Q100,MATCH(E$1,INDIRECT("Table!A" & $U100):INDIRECT("Table!" & $X$171 & $U100),0))))) -> 181997.8 | F100: =IF(ISERROR(MATCH(F$1,INDIRECT("Table!A"&$U100):INDIRECT("Table!" & $X$171 & $U100),0)),"",INDIRECT(CONCATENATE("Table!",ADDRESS($Q100,MATCH(F$1,INDIRECT("Table!A" & $U100):INDIRECT("Table!" & $X$171 & $U100),0))))) -> 121331.8 | G100: =IF(ISERROR(MATCH(G$1,INDIRECT("Table!A"&$U100):INDIRECT("Table!" & $X$171 & $U100),0)),"",INDIRECT(CONCATENATE("Table!",ADDRESS($Q100,MATCH(G$1,INDIRECT("Table!A" & $U100):INDIRECT("Table!" & $X$171 & $U100),0))))) -> 110071.9 | H100: =IF(ISERROR(MATCH(H$1,INDIRECT("Table!A"&$U100):INDIRECT("Table!" & $X$171 & $U100),0)),"",INDIRECT(CONCATENATE("Table!",ADDRESS($Q100,MATCH(H$1,INDIRECT("Table!A" & $U100):INDIRECT("Table!" & $X$171 & $U100),0))))) -> 121331.8 | I100: =IF(ISERROR(MATCH(I$1,INDIRECT("Table!A"&$U100):INDIRECT("Table!" & $X$171 & $U100),0)),"",INDIRECT(CONCATENATE("Table!",ADDRESS($Q100,MATCH(I$1,INDIRECT("Table!A" & $U100):INDIRECT("Table!" & $X$171 & $U100),0))))) -> 170967.6 | ... M100: =IF(ISERROR(MATCH(M$1,INDIRECT("Table!A"&$U100):INDIRECT("Table!" & $X$171 & $U100),0)),"",INDIRECT(CONCATENATE("Table!",ADDRESS($Q100,MATCH(M$1,INDIRECT("Table!A" & $U100):INDIRECT("Table!" & $X$171 & $U100),0))))) -> 54921 | Q100: =MATCH($A100,Table!$A:$A,0)+$S$14-1 -> 1338 | U100: =MATCH($A100,Table!$A:$A,0)+$W$2-1 -> 1324 | X100: U
A101: 41043 | B101: =IF(ISERROR(MATCH(B$1,INDIRECT("Table!A"&$U101):INDIRECT("Table!" & $X$171 & $U101),0)),"",INDIRECT(CONCATENATE("Table!",ADDRESS($Q101,MATCH(B$1,INDIRECT("Table!A" & $U101):INDIRECT("Table!" & $X$171 & $U101),0))))) -> 115816.8 | C101: =IF(ISERROR(MATCH(C$1,INDIRECT("Table!A"&$U101):INDIRECT("Table!" & $X$171 & $U101),0)),"",INDIRECT(CONCATENATE("Table!",ADDRESS($Q101,MATCH(C$1,INDIRECT("Table!A" & $U101):INDIRECT("Table!" & $X$171 & $U101),0))))) -> 99041.7 | D101: =IF(ISERROR(MATCH(D$1,INDIRECT("Table!A"&$U101):INDIRECT("Table!" & $X$171 & $U101),0)),"",INDIRECT(CONCATENATE("Table!",ADDRESS($Q101,MATCH(D$1,INDIRECT("Table!A" & $U101):INDIRECT("Table!" & $X$171 & $U101),0))))) -> 99041.7 | E101: =IF(ISERROR(MATCH(E$1,INDIRECT("Table!A"&$U101):INDIRECT("Table!" & $X$171 & $U101),0)),"",INDIRECT(CONCATENATE("Table!",ADDRESS($Q101,MATCH(E$1,INDIRECT("Table!A" & $U101):INDIRECT("Table!" & $X$171 & $U101),0))))) -> 181997.8 | F101: =IF(ISERROR(MATCH(F$1,INDIRECT("Table!A"&$U101):INDIRECT("Table!" & $X$171 & $U101),0)),"",INDIRECT(CONCATENATE("Table!",ADDRESS($Q101,MATCH(F$1,INDIRECT("Table!A" & $U101):INDIRECT("Table!" & $X$171 & $U101),0))))) -> 121331.8 | G101: =IF(ISERROR(MATCH(G$1,INDIRECT("Table!A"&$U101):INDIRECT("Table!" & $X$171 & $U101),0)),"",INDIRECT(CONCATENATE("Table!",ADDRESS($Q101,MATCH(G$1,INDIRECT("Table!A" & $U101):INDIRECT("Table!" & $X$171 & $U101),0))))) -> 110071.9 | H101: =IF(ISERROR(MATCH(H$1,INDIRECT("Table!A"&$U101):INDIRECT("Table!" & $X$171 & $U101),0)),"",INDIRECT(CONCATENATE("Table!",ADDRESS($Q101,MATCH(H$1,INDIRECT("Table!A" & $U101):INDIRECT("Table!" & $X$171 & $U101),0))))) -> 121331.8 | I101: =IF(ISERROR(MATCH(I$1,INDIRECT("Table!A"&$U101):INDIRECT("Table!" & $X$171 & $U101),0)),"",INDIRECT(CONCATENATE("Table!",ADDRESS($Q101,MATCH(I$1,INDIRECT("Table!A" & $U101):INDIRECT("Table!" & $X$171 & $U101),0))))) -> 170967.6 | ... M101: =IF(ISERROR(MATCH(M$1,INDIRECT("Table!A"&$U101):INDIRECT("Table!" & $X$171 & $U101),0)),"",INDIRECT(CONCATENATE("Table!",ADDRESS($Q101,MATCH(M$1,INDIRECT("Table!A" & $U101):INDIRECT("Table!" & $X$171 & $U101),0))))) -> 54921 | Q101: =MATCH($A101,Table!$A:$A,0)+$S$14-1 -> 1351 | U101: =MATCH($A101,Table!$A:$A,0)+$W$2-1 -> 1337 | X101: U
A102: 41040 | B102: =IF(ISERROR(MATCH(B$1,INDIRECT("Table!A"&$U102):INDIRECT("Table!" & $X$171 & $U102),0)),"",INDIRECT(CONCATENATE("Table!",ADDRESS($Q102,MATCH(B$1,INDIRECT("Table!A" & $U102):INDIRECT("Table!" & $X$171 & $U102),0))))) -> 115816.8 | C102: =IF(ISERROR(MATCH(C$1,INDIRECT("Table!A"&$U102):INDIRECT("Table!" & $X$171 & $U102),0)),"",INDIRECT(CONCATENATE("Table!",ADDRESS($Q102,MATCH(C$1,INDIRECT("Table!A" & $U102):INDIRECT("Table!" & $X$171 & $U102),0))))) -> 99041.7 | D102: =IF(ISERROR(MATCH(D$1,INDIRECT("Table!A"&$U102):INDIRECT("Table!" & $X$171 & $U102),0)),"",INDIRECT(CONCATENATE("Table!",ADDRESS($Q102,MATCH(D$1,INDIRECT("Table!A" & $U102):INDIRECT("Table!" & $X$171 & $U102),0))))) -> 99041.7 | E102: =IF(ISERROR(MATCH(E$1,INDIRECT("Table!A"&$U102):INDIRECT("Table!" & $X$171 & $U102),0)),"",INDIRECT(CONCATENATE("Table!",ADDRESS($Q102,MATCH(E$1,INDIRECT("Table!A" & $U102):INDIRECT("Table!" & $X$171 & $U102),0))))) -> 181997.8 | F102: =IF(ISERROR(MATCH(F$1,INDIRECT("Table!A"&$U102):INDIRECT("Table!" & $X$171 & $U102),0)),"",INDIRECT(CONCATENATE("Table!",ADDRESS($Q102,MATCH(F$1,INDIRECT("Table!A" & $U102):INDIRECT("Table!" & $X$171 & $U102),0))))) -> 121331.8 | G102: =IF(ISERROR(MATCH(G$1,INDIRECT("Table!A"&$U102):INDIRECT("Table!" & $X$171 & $U102),0)),"",INDIRECT(CONCATENATE("Table!",ADDRESS($Q102,MATCH(G$1,INDIRECT("Table!A" & $U102):INDIRECT("Table!" & $X$171 & $U102),0))))) -> 110071.9 | H102: =IF(ISERROR(MATCH(H$1,INDIRECT("Table!A"&$U102):INDIRECT("Table!" & $X$171 & $U102),0)),"",INDIRECT(CONCATENATE("Table!",ADDRESS($Q102,MATCH(H$1,INDIRECT("Table!A" & $U102):INDIRECT("Table!" & $X$171 & $U102),0))))) -> 121331.8 | I102: =IF(ISERROR(MATCH(I$1,INDIRECT("Table!A"&$U102):INDIRECT("Table!" & $X$171 & $U102),0)),"",INDIRECT(CONCATENATE("Table!",ADDRESS($Q102,MATCH(I$1,INDIRECT("Table!A" & $U102):INDIRECT("Table!" & $X$171 & $U102),0))))) -> 170967.6 | ... M102: =IF(ISERROR(MATCH(M$1,INDIRECT("Table!A"&$U102):INDIRECT("Table!" & $X$171 & $U102),0)),"",INDIRECT(CONCATENATE("Table!",ADDRESS($Q102,MATCH(M$1,INDIRECT("Table!A" & $U102):INDIRECT("Table!" & $X$171 & $U102),0))))) -> 54921 | Q102: =MATCH($A102,Table!$A:$A,0)+$S$14-1 -> 1364 | U102: =MATCH($A102,Table!$A:$A,0)+$W$2-1 -> 1350 | X102: U
A103: 41039 | B103: =IF(ISERROR(MATCH(B$1,INDIRECT("Table!A"&$U103):INDIRECT("Table!" & $X$171 & $U103),0)),"",INDIRECT(CONCATENATE("Table!",ADDRESS($Q103,MATCH(B$1,INDIRECT("Table!A" & $U103):INDIRECT("Table!" & $X$171 & $U103),0))))) -> 115816.8 | C103: =IF(ISERROR(MATCH(C$1,INDIRECT("Table!A"&$U103):INDIRECT("Table!" & $X$171 & $U103),0)),"",INDIRECT(CONCATENATE("Table!",ADDRESS($Q103,MATCH(C$1,INDIRECT("Table!A" & $U103):INDIRECT("Table!" & $X$171 & $U103),0))))) -> 99041.7 | D103: =IF(ISERROR(MATCH(D$1,INDIRECT("Table!A"&$U103):INDIRECT("Table!" & $X$171 & $U103),0)),"",INDIRECT(CONCATENATE("Table!",ADDRESS($Q103,MATCH(D$1,INDIRECT("Table!A" & $U103):INDIRECT("Table!" & $X$171 & $U103),0))))) -> 99041.7 | E103: =IF(ISERROR(MATCH(E$1,INDIRECT("Table!A"&$U103):INDIRECT("Table!" & $X$171 & $U103),0)),"",INDIRECT(CONCATENATE("Table!",ADDRESS($Q103,MATCH(E$1,INDIRECT("Table!A" & $U103):INDIRECT("Table!" & $X$171 & $U103),0))))) -> 181997.8 | F103: =IF(ISERROR(MATCH(F$1,INDIRECT("Table!A"&$U103):INDIRECT("Table!" & $X$171 & $U103),0)),"",INDIRECT(CONCATENATE("Table!",ADDRESS($Q103,MATCH(F$1,INDIRECT("Table!A" & $U103):INDIRECT("Table!" & $X$171 & $U103),0))))) -> 121331.8 | G103: =IF(ISERROR(MATCH(G$1,INDIRECT("Table!A"&$U103):INDIRECT("Table!" & $X$171 & $U103),0)),"",INDIRECT(CONCATENATE("Table!",ADDRESS($Q103,MATCH(G$1,INDIRECT("Table!A" & $U103):INDIRECT("Table!" & $X$171 & $U103),0))))) -> 110071.9 | H103: =IF(ISERROR(MATCH(H$1,INDIRECT("Table!A"&$U103):INDIRECT("Table!" & $X$171 & $U103),0)),"",INDIRECT(CONCATENATE("Table!",ADDRESS($Q103,MATCH(H$1,INDIRECT("Table!A" & $U103):INDIRECT("Table!" & $X$171 & $U103),0))))) -> 121331.8 | I103: =IF(ISERROR(MATCH(I$1,INDIRECT("Table!A"&$U103):INDIRECT("Table!" & $X$171 & $U103),0)),"",INDIRECT(CONCATENATE("Table!",ADDRESS($Q103,MATCH(I$1,INDIRECT("Table!A" & $U103):INDIRECT("Table!" & $X$171 & $U103),0))))) -> 170967.6 | ... M103: =IF(ISERROR(MATCH(M$1,INDIRECT("Table!A"&$U103):INDIRECT("Table!" & $X$171 & $U103),0)),"",INDIRECT(CONCATENATE("Table!",ADDRESS($Q103,MATCH(M$1,INDIRECT("Table!A" & $U103):INDIRECT("Table!" & $X$171 & $U103),0))))) -> 54921 | Q103: =MATCH($A103,Table!$A:$A,0)+$S$14-1 -> 1377 | U103: =MATCH($A103,Table!$A:$A,0)+$W$2-1 -> 1363 | X103: U
A104: 41038 | B104: =IF(ISERROR(MATCH(B$1,INDIRECT("Table!A"&$U104):INDIRECT("Table!" & $X$171 & $U104),0)),"",INDIRECT(CONCATENATE("Table!",ADDRESS($Q104,MATCH(B$1,INDIRECT("Table!A" & $U104):INDIRECT("Table!" & $X$171 & $U104),0))))) -> 115816.8 | C104: =IF(ISERROR(MATCH(C$1,INDIRECT("Table!A"&$U104):INDIRECT("Table!" & $X$171 & $U104),0)),"",INDIRECT(CONCATENATE("Table!",ADDRESS($Q104,MATCH(C$1,INDIRECT("Table!A" & $U104):INDIRECT("Table!" & $X$171 & $U104),0))))) -> 99041.7 | D104: =IF(ISERROR(MATCH(D$1,INDIRECT("Table!A"&$U104):INDIRECT("Table!" & $X$171 & $U104),0)),"",INDIRECT(CONCATENATE("Table!",ADDRESS($Q104,MATCH(D$1,INDIRECT("Table!A" & $U104):INDIRECT("Table!" & $X$171 & $U104),0))))) -> 99041.7 | E104: =IF(ISERROR(MATCH(E$1,INDIRECT("Table!A"&$U104):INDIRECT("Table!" & $X$171 & $U104),0)),"",INDIRECT(CONCATENATE("Table!",ADDRESS($Q104,MATCH(E$1,INDIRECT("Table!A" & $U104):INDIRECT("Table!" & $X$171 & $U104),0))))) -> 181997.8 | F104: =IF(ISERROR(MATCH(F$1,INDIRECT("Table!A"&$U104):INDIRECT("Table!" & $X$171 & $U104),0)),"",INDIRECT(CONCATENATE("Table!",ADDRESS($Q104,MATCH(F$1,INDIRECT("Table!A" & $U104):INDIRECT("Table!" & $X$171 & $U104),0))))) -> 121331.8 | G104: =IF(ISERROR(MATCH(G$1,INDIRECT("Table!A"&$U104):INDIRECT("Table!" & $X$171 & $U104),0)),"",INDIRECT(CONCATENATE("Table!",ADDRESS($Q104,MATCH(G$1,INDIRECT("Table!A" & $U104):INDIRECT("Table!" & $X$171 & $U104),0))))) -> 110071.9 | H104: =IF(ISERROR(MATCH(H$1,INDIRECT("Table!A"&$U104):INDIRECT("Table!" & $X$171 & $U104),0)),"",INDIRECT(CONCATENATE("Table!",ADDRESS($Q104,MATCH(H$1,INDIRECT("Table!A" & $U104):INDIRECT("Table!" & $X$171 & $U104),0))))) -> 121331.8 | I104: =IF(ISERROR(MATCH(I$1,INDIRECT("Table!A"&$U104):INDIRECT("Table!" & $X$171 & $U104),0)),"",INDIRECT(CONCATENATE("Table!",ADDRESS($Q104,MATCH(I$1,INDIRECT("Table!A" & $U104):INDIRECT("Table!" & $X$171 & $U104),0))))) -> 170967.6 | ... M104: =IF(ISERROR(MATCH(M$1,INDIRECT("Table!A"&$U104):INDIRECT("Table!" & $X$171 & $U104),0)),"",INDIRECT(CONCATENATE("Table!",ADDRESS($Q104,MATCH(M$1,INDIRECT("Table!A" & $U104):INDIRECT("Table!" & $X$171 & $U104),0))))) -> 54921 | Q104: =MATCH($A104,Table!$A:$A,0)+$S$14-1 -> 1390 | U104: =MATCH($A104,Table!$A:$A,0)+$W$2-1 -> 1376 | X104: U
A105: 41037 | B105: =IF(ISERROR(MATCH(B$1,INDIRECT("Table!A"&$U105):INDIRECT("Table!" & $X$171 & $U105),0)),"",INDIRECT(CONCATENATE("Table!",ADDRESS($Q105,MATCH(B$1,INDIRECT("Table!A" & $U105):INDIRECT("Table!" & $X$171 & $U105),0))))) -> 115816.8 | C105: =IF(ISERROR(MATCH(C$1,INDIRECT("Table!A"&$U105):INDIRECT("Table!" & $X$171 & $U105),0)),"",INDIRECT(CONCATENATE("Table!",ADDRESS($Q105,MATCH(C$1,INDIRECT("Table!A" & $U105):INDIRECT("Table!" & $X$171 & $U105),0))))) -> 99041.7 | D105: =IF(ISERROR(MATCH(D$1,INDIRECT("Table!A"&$U105):INDIRECT("Table!" & $X$171 & $U105),0)),"",INDIRECT(CONCATENATE("Table!",ADDRESS($Q105,MATCH(D$1,INDIRECT("Table!A" & $U105):INDIRECT("Table!" & $X$171 & $U105),0))))) -> 99041.7 | E105: =IF(ISERROR(MATCH(E$1,INDIRECT("Table!A"&$U105):INDIRECT("Table!" & $X$171 & $U105),0)),"",INDIRECT(CONCATENATE("Table!",ADDRESS($Q105,MATCH(E$1,INDIRECT("Table!A" & $U105):INDIRECT("Table!" & $X$171 & $U105),0))))) -> 181997.8 | F105: =IF(ISERROR(MATCH(F$1,INDIRECT("Table!A"&$U105):INDIRECT("Table!" & $X$171 & $U105),0)),"",INDIRECT(CONCATENATE("Table!",ADDRESS($Q105,MATCH(F$1,INDIRECT("Table!A" & $U105):INDIRECT("Table!" & $X$171 & $U105),0))))) -> 121331.8 | G105: =IF(ISERROR(MATCH(G$1,INDIRECT("Table!A"&$U105):INDIRECT("Table!" & $X$171 & $U105),0)),"",INDIRECT(CONCATENATE("Table!",ADDRESS($Q105,MATCH(G$1,INDIRECT("Table!A" & $U105):INDIRECT("Table!" & $X$171 & $U105),0))))) -> 110071.9 | H105: =IF(ISERROR(MATCH(H$1,INDIRECT("Table!A"&$U105):INDIRECT("Table!" & $X$171 & $U105),0)),"",INDIRECT(CONCATENATE("Table!",ADDRESS($Q105,MATCH(H$1,INDIRECT("Table!A" & $U105):INDIRECT("Table!" & $X$171 & $U105),0))))) -> 121331.8 | I105: =IF(ISERROR(MATCH(I$1,INDIRECT("Table!A"&$U105):INDIRECT("Table!" & $X$171 & $U105),0)),"",INDIRECT(CONCATENATE("Table!",ADDRESS($Q105,MATCH(I$1,INDIRECT("Table!A" & $U105):INDIRECT("Table!" & $X$171 & $U105),0))))) -> 170967.6 | ... M105: =IF(ISERROR(MATCH(M$1,INDIRECT("Table!A"&$U105):INDIRECT("Table!" & $X$171 & $U105),0)),"",INDIRECT(CONCATENATE("Table!",ADDRESS($Q105,MATCH(M$1,INDIRECT("Table!A" & $U105):INDIRECT("Table!" & $X$171 & $U105),0))))) -> 54921 | Q105: =MATCH($A105,Table!$A:$A,0)+$S$14-1 -> 1403 | U105: =MATCH($A105,Table!$A:$A,0)+$W$2-1 -> 1389 | X105: U
A106: 41033 | B106: =IF(ISERROR(MATCH(B$1,INDIRECT("Table!A"&$U106):INDIRECT("Table!" & $X$171 & $U106),0)),"",INDIRECT(CONCATENATE("Table!",ADDRESS($Q106,MATCH(B$1,INDIRECT("Table!A" & $U106):INDIRECT("Table!" & $X$171 & $U106),0))))) -> 115816.8 | C106: =IF(ISERROR(MATCH(C$1,INDIRECT("Table!A"&$U106):INDIRECT("Table!" & $X$171 & $U106),0)),"",INDIRECT(CONCATENATE("Table!",ADDRESS($Q106,MATCH(C$1,INDIRECT("Table!A" & $U106):INDIRECT("Table!" & $X$171 & $U106),0))))) -> 99041.7 | D106: =IF(ISERROR(MATCH(D$1,INDIRECT("Table!A"&$U106):INDIRECT("Table!" & $X$171 & $U106),0)),"",INDIRECT(CONCATENATE("Table!",ADDRESS($Q106,MATCH(D$1,INDIRECT("Table!A" & $U106):INDIRECT("Table!" & $X$171 & $U106),0))))) -> 99041.7 | E106: =IF(ISERROR(MATCH(E$1,INDIRECT("Table!A"&$U106):INDIRECT("Table!" & $X$171 & $U106),0)),"",INDIRECT(CONCATENATE("Table!",ADDRESS($Q106,MATCH(E$1,INDIRECT("Table!A" & $U106):INDIRECT("Table!" & $X$171 & $U106),0))))) -> 181997.8 | F106: =IF(ISERROR(MATCH(F$1,INDIRECT("Table!A"&$U106):INDIRECT("Table!" & $X$171 & $U106),0)),"",INDIRECT(CONCATENATE("Table!",ADDRESS($Q106,MATCH(F$1,INDIRECT("Table!A" & $U106):INDIRECT("Table!" & $X$171 & $U106),0))))) -> 121331.8 | G106: =IF(ISERROR(MATCH(G$1,INDIRECT("Table!A"&$U106):INDIRECT("Table!" & $X$171 & $U106),0)),"",INDIRECT(CONCATENATE("Table!",ADDRESS($Q106,MATCH(G$1,INDIRECT("Table!A" & $U106):INDIRECT("Table!" & $X$171 & $U106),0))))) -> 110071.9 | H106: =IF(ISERROR(MATCH(H$1,INDIRECT("Table!A"&$U106):INDIRECT("Table!" & $X$171 & $U106),0)),"",INDIRECT(CONCATENATE("Table!",ADDRESS($Q106,MATCH(H$1,INDIRECT("Table!A" & $U106):INDIRECT("Table!" & $X$171 & $U106),0))))) -> 121331.8 | I106: =IF(ISERROR(MATCH(I$1,INDIRECT("Table!A"&$U106):INDIRECT("Table!" & $X$171 & $U106),0)),"",INDIRECT(CONCATENATE("Table!",ADDRESS($Q106,MATCH(I$1,INDIRECT("Table!A" & $U106):INDIRECT("Table!" & $X$171 & $U106),0))))) -> 170967.6 | ... M106: =IF(ISERROR(MATCH(M$1,INDIRECT("Table!A"&$U106):INDIRECT("Table!" & $X$171 & $U106),0)),"",INDIRECT(CONCATENATE("Table!",ADDRESS($Q106,MATCH(M$1,INDIRECT("Table!A" & $U106):INDIRECT("Table!" & $X$171 & $U106),0))))) -> 54921 | Q106: =MATCH($A106,Table!$A:$A,0)+$S$14-1 -> 1416 | U106: =MATCH($A106,Table!$A:$A,0)+$W$2-1 -> 1402 | X106: U
A107: 41031 | B107: =IF(ISERROR(MATCH(B$1,INDIRECT("Table!A"&$U107):INDIRECT("Table!" & $X$171 & $U107),0)),"",INDIRECT(CONCATENATE("Table!",ADDRESS($Q107,MATCH(B$1,INDIRECT("Table!A" & $U107):INDIRECT("Table!" & $X$171 & $U107),0))))) -> 115816.8 | C107: =IF(ISERROR(MATCH(C$1,INDIRECT("Table!A"&$U107):INDIRECT("Table!" & $X$171 & $U107),0)),"",INDIRECT(CONCATENATE("Table!",ADDRESS($Q107,MATCH(C$1,INDIRECT("Table!A" & $U107):INDIRECT("Table!" & $X$171 & $U107),0))))) -> 99041.7 | D107: =IF(ISERROR(MATCH(D$1,INDIRECT("Table!A"&$U107):INDIRECT("Table!" & $X$171 & $U107),0)),"",INDIRECT(CONCATENATE("Table!",ADDRESS($Q107,MATCH(D$1,INDIRECT("Table!A" & $U107):INDIRECT("Table!" & $X$171 & $U107),0))))) -> 99041.7 | E107: =IF(ISERROR(MATCH(E$1,INDIRECT("Table!A"&$U107):INDIRECT("Table!" & $X$171 & $U107),0)),"",INDIRECT(CONCATENATE("Table!",ADDRESS($Q107,MATCH(E$1,INDIRECT("Table!A" & $U107):INDIRECT("Table!" & $X$171 & $U107),0))))) -> 181997.8 | F107: =IF(ISERROR(MATCH(F$1,INDIRECT("Table!A"&$U107):INDIRECT("Table!" & $X$171 & $U107),0)),"",INDIRECT(CONCATENATE("Table!",ADDRESS($Q107,MATCH(F$1,INDIRECT("Table!A" & $U107):INDIRECT("Table!" & $X$171 & $U107),0))))) -> 121331.8 | G107: =IF(ISERROR(MATCH(G$1,INDIRECT("Table!A"&$U107):INDIRECT("Table!" & $X$171 & $U107),0)),"",INDIRECT(CONCATENATE("Table!",ADDRESS($Q107,MATCH(G$1,INDIRECT("Table!A" & $U107):INDIRECT("Table!" & $X$171 & $U107),0))))) -> 110071.9 | H107: =IF(ISERROR(MATCH(H$1,INDIRECT("Table!A"&$U107):INDIRECT("Table!" & $X$171 & $U107),0)),"",INDIRECT(CONCATENATE("Table!",ADDRESS($Q107,MATCH(H$1,INDIRECT("Table!A" & $U107):INDIRECT("Table!" & $X$171 & $U107),0))))) -> 121331.8 | I107: =IF(ISERROR(MATCH(I$1,INDIRECT("Table!A"&$U107):INDIRECT("Table!" & $X$171 & $U107),0)),"",INDIRECT(CONCATENATE("Table!",ADDRESS($Q107,MATCH(I$1,INDIRECT("Table!A" & $U107):INDIRECT("Table!" & $X$171 & $U107),0))))) -> 170967.6 | ... M107: =IF(ISERROR(MATCH(M$1,INDIRECT("Table!A"&$U107):INDIRECT("Table!" & $X$171 & $U107),0)),"",INDIRECT(CONCATENATE("Table!",ADDRESS($Q107,MATCH(M$1,INDIRECT("Table!A" & $U107):INDIRECT("Table!" & $X$171 & $U107),0))))) -> 54921 | Q107: =MATCH($A107,Table!$A:$A,0)+$S$14-1 -> 1429 | U107: =MATCH($A107,Table!$A:$A,0)+$W$2-1 -> 1415 | X107: U
A108: 41030 | B108: =IF(ISERROR(MATCH(B$1,INDIRECT("Table!A"&$U108):INDIRECT("Table!" & $X$171 & $U108),0)),"",INDIRECT(CONCATENATE("Table!",ADDRESS($Q108,MATCH(B$1,INDIRECT("Table!A" & $U108):INDIRECT("Table!" & $X$171 & $U108),0))))) -> 115816.8 | C108: =IF(ISERROR(MATCH(C$1,INDIRECT("Table!A"&$U108):INDIRECT("Table!" & $X$171 & $U108),0)),"",INDIRECT(CONCATENATE("Table!",ADDRESS($Q108,MATCH(C$1,INDIRECT("Table!A" & $U108):INDIRECT("Table!" & $X$171 & $U108),0))))) -> 99041.7 | D108: =IF(ISERROR(MATCH(D$1,INDIRECT("Table!A"&$U108):INDIRECT("Table!" & $X$171 & $U108),0)),"",INDIRECT(CONCATENATE("Table!",ADDRESS($Q108,MATCH(D$1,INDIRECT("Table!A" & $U108):INDIRECT("Table!" & $X$171 & $U108),0))))) -> 99041.7 | E108: =IF(ISERROR(MATCH(E$1,INDIRECT("Table!A"&$U108):INDIRECT("Table!" & $X$171 & $U108),0)),"",INDIRECT(CONCATENATE("Table!",ADDRESS($Q108,MATCH(E$1,INDIRECT("Table!A" & $U108):INDIRECT("Table!" & $X$171 & $U108),0))))) -> 181997.8 | F108: =IF(ISERROR(MATCH(F$1,INDIRECT("Table!A"&$U108):INDIRECT("Table!" & $X$171 & $U108),0)),"",INDIRECT(CONCATENATE("Table!",ADDRESS($Q108,MATCH(F$1,INDIRECT("Table!A" & $U108):INDIRECT("Table!" & $X$171 & $U108),0))))) -> 121331.8 | G108: =IF(ISERROR(MATCH(G$1,INDIRECT("Table!A"&$U108):INDIRECT("Table!" & $X$171 & $U108),0)),"",INDIRECT(CONCATENATE("Table!",ADDRESS($Q108,MATCH(G$1,INDIRECT("Table!A" & $U108):INDIRECT("Table!" & $X$171 & $U108),0))))) -> 110071.9 | H108: =IF(ISERROR(MATCH(H$1,INDIRECT("Table!A"&$U108):INDIRECT("Table!" & $X$171 & $U108),0)),"",INDIRECT(CONCATENATE("Table!",ADDRESS($Q108,MATCH(H$1,INDIRECT("Table!A" & $U108):INDIRECT("Table!" & $X$171 & $U108),0))))) -> 121331.8 | I108: =IF(ISERROR(MATCH(I$1,INDIRECT("Table!A"&$U108):INDIRECT("Table!" & $X$171 & $U108),0)),"",INDIRECT(CONCATENATE("Table!",ADDRESS($Q108,MATCH(I$1,INDIRECT("Table!A" & $U108):INDIRECT("Table!" & $X$171 & $U108),0))))) -> 170967.6 | ... M108: =IF(ISERROR(MATCH(M$1,INDIRECT("Table!A"&$U108):INDIRECT("Table!" & $X$171 & $U108),0)),"",INDIRECT(CONCATENATE("Table!",ADDRESS($Q108,MATCH(M$1,INDIRECT("Table!A" & $U108):INDIRECT("Table!" & $X$171 & $U108),0))))) -> 54921 | Q108: =MATCH($A108,Table!$A:$A,0)+$S$14-1 -> 1442 | U108: =MATCH($A108,Table!$A:$A,0)+$W$2-1 -> 1428 | X108: U
A109: 41026 | B109: =IF(ISERROR(MATCH(B$1,INDIRECT("Table!A"&$U109):INDIRECT("Table!" & $X$171 & $U109),0)),"",INDIRECT(CONCATENATE("Table!",ADDRESS($Q109,MATCH(B$1,INDIRECT("Table!A" & $U109):INDIRECT("Table!" & $X$171 & $U109),0))))) -> 115816.8 | C109: =IF(ISERROR(MATCH(C$1,INDIRECT("Table!A"&$U109):INDIRECT("Table!" & $X$171 & $U109),0)),"",INDIRECT(CONCATENATE("Table!",ADDRESS($Q109,MATCH(C$1,INDIRECT("Table!A" & $U109):INDIRECT("Table!" & $X$171 & $U109),0))))) -> 99041.7 | D109: =IF(ISERROR(MATCH(D$1,INDIRECT("Table!A"&$U109):INDIRECT("Table!" & $X$171 & $U109),0)),"",INDIRECT(CONCATENATE("Table!",ADDRESS($Q109,MATCH(D$1,INDIRECT("Table!A" & $U109):INDIRECT("Table!" & $X$171 & $U109),0))))) -> 99041.7 | E109: =IF(ISERROR(MATCH(E$1,INDIRECT("Table!A"&$U109):INDIRECT("Table!" & $X$171 & $U109),0)),"",INDIRECT(CONCATENATE("Table!",ADDRESS($Q109,MATCH(E$1,INDIRECT("Table!A" & $U109):INDIRECT("Table!" & $X$171 & $U109),0))))) -> 181997.8 | F109: =IF(ISERROR(MATCH(F$1,INDIRECT("Table!A"&$U109):INDIRECT("Table!" & $X$171 & $U109),0)),"",INDIRECT(CONCATENATE("Table!",ADDRESS($Q109,MATCH(F$1,INDIRECT("Table!A" & $U109):INDIRECT("Table!" & $X$171 & $U109),0))))) -> 121331.8 | G109: =IF(ISERROR(MATCH(G$1,INDIRECT("Table!A"&$U109):INDIRECT("Table!" & $X$171 & $U109),0)),"",INDIRECT(CONCATENATE("Table!",ADDRESS($Q109,MATCH(G$1,INDIRECT("Table!A" & $U109):INDIRECT("Table!" & $X$171 & $U109),0))))) -> 110071.9 | H109: =IF(ISERROR(MATCH(H$1,INDIRECT("Table!A"&$U109):INDIRECT("Table!" & $X$171 & $U109),0)),"",INDIRECT(CONCATENATE("Table!",ADDRESS($Q109,MATCH(H$1,INDIRECT("Table!A" & $U109):INDIRECT("Table!" & $X$171 & $U109),0))))) -> 121331.8 | I109: =IF(ISERROR(MATCH(I$1,INDIRECT("Table!A"&$U109):INDIRECT("Table!" & $X$171 & $U109),0)),"",INDIRECT(CONCATENATE("Table!",ADDRESS($Q109,MATCH(I$1,INDIRECT("Table!A" & $U109):INDIRECT("Table!" & $X$171 & $U109),0))))) -> 170967.6 | ... M109: =IF(ISERROR(MATCH(M$1,INDIRECT("Table!A"&$U109):INDIRECT("Table!" & $X$171 & $U109),0)),"",INDIRECT(CONCATENATE("Table!",ADDRESS($Q109,MATCH(M$1,INDIRECT("Table!A" & $U109):INDIRECT("Table!" & $X$171 & $U109),0))))) -> 54921 | Q109: =MATCH($A109,Table!$A:$A,0)+$S$14-1 -> 1455 | U109: =MATCH($A109,Table!$A:$A,0)+$W$2-1 -> 1441 | X109: U
A110: 41024 | B110: =IF(ISERROR(MATCH(B$1,INDIRECT("Table!A"&$U110):INDIRECT("Table!" & $X$171 & $U110),0)),"",INDIRECT(CONCATENATE("Table!",ADDRESS($Q110,MATCH(B$1,INDIRECT("Table!A" & $U110):INDIRECT("Table!" & $X$171 & $U110),0))))) -> 115816.8 | C110: =IF(ISERROR(MATCH(C$1,INDIRECT("Table!A"&$U110):INDIRECT("Table!" & $X$171 & $U110),0)),"",INDIRECT(CONCATENATE("Table!",ADDRESS($Q110,MATCH(C$1,INDIRECT("Table!A" & $U110):INDIRECT("Table!" & $X$171 & $U110),0))))) -> 99041.7 | D110: =IF(ISERROR(MATCH(D$1,INDIRECT("Table!A"&$U110):INDIRECT("Table!" & $X$171 & $U110),0)),"",INDIRECT(CONCATENATE("Table!",ADDRESS($Q110,MATCH(D$1,INDIRECT("Table!A" & $U110):INDIRECT("Table!" & $X$171 & $U110),0))))) -> 99041.7 | E110: =IF(ISERROR(MATCH(E$1,INDIRECT("Table!A"&$U110):INDIRECT("Table!" & $X$171 & $U110),0)),"",INDIRECT(CONCATENATE("Table!",ADDRESS($Q110,MATCH(E$1,INDIRECT("Table!A" & $U110):INDIRECT("Table!" & $X$171 & $U110),0))))) -> 181997.8 | F110: =IF(ISERROR(MATCH(F$1,INDIRECT("Table!A"&$U110):INDIRECT("Table!" & $X$171 & $U110),0)),"",INDIRECT(CONCATENATE("Table!",ADDRESS($Q110,MATCH(F$1,INDIRECT("Table!A" & $U110):INDIRECT("Table!" & $X$171 & $U110),0))))) -> 121331.8 | G110: =IF(ISERROR(MATCH(G$1,INDIRECT("Table!A"&$U110):INDIRECT("Table!" & $X$171 & $U110),0)),"",INDIRECT(CONCATENATE("Table!",ADDRESS($Q110,MATCH(G$1,INDIRECT("Table!A" & $U110):INDIRECT("Table!" & $X$171 & $U110),0))))) -> 110071.9 | H110: =IF(ISERROR(MATCH(H$1,INDIRECT("Table!A"&$U110):INDIRECT("Table!" & $X$171 & $U110),0)),"",INDIRECT(CONCATENATE("Table!",ADDRESS($Q110,MATCH(H$1,INDIRECT("Table!A" & $U110):INDIRECT("Table!" & $X$171 & $U110),0))))) -> 121331.8 | I110: =IF(ISERROR(MATCH(I$1,INDIRECT("Table!A"&$U110):INDIRECT("Table!" & $X$171 & $U110),0)),"",INDIRECT(CONCATENATE("Table!",ADDRESS($Q110,MATCH(I$1,INDIRECT("Table!A" & $U110):INDIRECT("Table!" & $X$171 & $U110),0))))) -> 170967.6 | ... M110: =IF(ISERROR(MATCH(M$1,INDIRECT("Table!A"&$U110):INDIRECT("Table!" & $X$171 & $U110),0)),"",INDIRECT(CONCATENATE("Table!",ADDRESS($Q110,MATCH(M$1,INDIRECT("Table!A" & $U110):INDIRECT("Table!" & $X$171 & $U110),0))))) -> 54921 | Q110: =MATCH($A110,Table!$A:$A,0)+$S$14-1 -> 1468 | U110: =MATCH($A110,Table!$A:$A,0)+$W$2-1 -> 1454 | X110: U
... A171: 40917 | B171: =IF(ISERROR(MATCH(B$1,INDIRECT("Table!A"&$U171):INDIRECT("Table!" & $X$171 & $U171),0)),"",INDIRECT(CONCATENATE("Table!",ADDRESS($Q171,MATCH(B$1,INDIRECT("Table!A" & $U171):INDIRECT("Table!" & $X$171 & $U171),0))))) -> 115816.8 | C171: =IF(ISERROR(MATCH(C$1,INDIRECT("Table!A"&$U171):INDIRECT("Table!" & $X$171 & $U171),0)),"",INDIRECT(CONCATENATE("Table!",ADDRESS($Q171,MATCH(C$1,INDIRECT("Table!A" & $U171):INDIRECT("Table!" & $X$171 & $U171),0))))) -> 79968.7 | D171: =IF(ISERROR(MATCH(D$1,INDIRECT("Table!A"&$U171):INDIRECT("Table!" & $X$171 & $U171),0)),"",INDIRECT(CONCATENATE("Table!",ADDRESS($Q171,MATCH(D$1,INDIRECT("Table!A" & $U171):INDIRECT("Table!" & $X$171 & $U171),0))))) -> 79968.7 | E171: =IF(ISERROR(MATCH(E$1,INDIRECT("Table!A"&$U171):INDIRECT("Table!" & $X$171 & $U171),0)),"",INDIRECT(CONCATENATE("Table!",ADDRESS($Q171,MATCH(E$1,INDIRECT("Table!A" & $U171):INDIRECT("Table!" & $X$171 & $U171),0))))) -> 154422.4 | F171: =IF(ISERROR(MATCH(F$1,INDIRECT("Table!A"&$U171):INDIRECT("Table!" & $X$171 & $U171),0)),"",INDIRECT(CONCATENATE("Table!",ADDRESS($Q171,MATCH(F$1,INDIRECT("Table!A" & $U171):INDIRECT("Table!" & $X$171 & $U171),0))))) -> 121331.8 | G171: =IF(ISERROR(MATCH(G$1,INDIRECT("Table!A"&$U171):INDIRECT("Table!" & $X$171 & $U171),0)),"",INDIRECT(CONCATENATE("Table!",ADDRESS($Q171,MATCH(G$1,INDIRECT("Table!A" & $U171):INDIRECT("Table!" & $X$171 & $U171),0))))) -> 110071.9 | H171: =IF(ISERROR(MATCH(H$1,INDIRECT("Table!A"&$U171):INDIRECT("Table!" & $X$171 & $U171),0)),"",INDIRECT(CONCATENATE("Table!",ADDRESS($Q171,MATCH(H$1,INDIRECT("Table!A" & $U171):INDIRECT("Table!" & $X$171 & $U171),0))))) -> 121331.8 | I171: =IF(ISERROR(MATCH(I$1,INDIRECT("Table!A"&$U171):INDIRECT("Table!" & $X$171 & $U171),0)),"",INDIRECT(CONCATENATE("Table!",ADDRESS($Q171,MATCH(I$1,INDIRECT("Table!A" & $U171):INDIRECT("Table!" & $X$171 & $U171),0))))) -> 170967.6 | ... M171: =IF(ISERROR(MATCH(M$1,INDIRECT("Table!A"&$U171):INDIRECT("Table!" & $X$171 & $U171),0)),"",INDIRECT(CONCATENATE("Table!",ADDRESS($Q171,MATCH(M$1,INDIRECT("Table!A" & $U171):INDIRECT("Table!" & $X$171 & $U171),0))))) -> 54921 | Q171: =MATCH($A171,Table!$A:$A,0)+$S$14-1 -> 2261 | U171: =MATCH($A171,Table!$A:$A,0)+$W$2-1 -> 2247 | X171: U

Sheet Used GB Charts
B1: 0623 | C1: 0745 | D1: 0552 | E1: 0678 | F1: 3286 | G1: 3073 | H1: 2230 | I1: 0879 | J1: 3004 | K1: 2804 | L1: 2231 | M1: 2262 | O1: 0623 | P1: 0745 | Q1: 0552 | R1: 0678 | S1: 3286 | T1: 3073 | U1: 2230 | V1: 0879 | W1: 3004 | X1: 2804 | Y1: 2231 | Z1: 2262
A2: Used -> GB -> | B2: CGC Tier 4 VMAX 623 | C2: CGC Tier 3 VMAX 745 | D2: RDC Tier 3 VMAX 552 | E2: RDC Tier 4 VMAX 678 | F2: RDC VMAX 3286 | G2: RDC VMAX 3073 | H2: RDC VMAX 2230 | I2: FDC Tier 4 VMAX 879 | J2: FDC Tier 4 VMAX 3004 | K2: FDC Tier 4 VMAX 2804 | L2: FDC Tier 3 VMAX 231 | M2: EDC Tier 3 VMAX 262 | N2: Pool-> Size -> | O2: CGC Tier 4 VMAX 623 | P2: CGC Tier 3 VMAX 745 | Q2: RDC Tier 3 VMAX 552 | R2: RDC Tier 4 VMAX 678 | S2: RDC VMAX 3286 | T2: RDC VMAX 3073 | U2: RDC VMAX 2230 | V2: FDC Tier 4 VMAX 879 | W2: FDC Tier 4 VMAX 3004 | X2: FDC Tier 4 VMAX 2804 | Y2: FDC Tier 3 VMAX 231 | Z2: EDC Tier 3 VMAX 262 | AB2: Row | AC2: Used GB | AD2: =MATCH(AC2,Table!$B:$B,0) -> 5 | AF2: Row | AG2: VMAX | AH2: =MATCH(AG2,Table!$A:$A,0) -> 3 | AJ2: Row | AK2: Total GB | AL2: =MATCH(AK2,Table!$B:$B,0) -> 4 | AN2: Row | AO2: VMAX | AP2: =MATCH(AO2,Table!$A:$A,0) -> 3 | AR2: Max Column
A3: 41242 | B3: =IF(ISERROR(MATCH(B$1,INDIRECT("Table!A"&$AF3):INDIRECT("Table!" & $AR$159 & $AF3),0)),"",INDIRECT(CONCATENATE("Table!",ADDRESS($AB3,MATCH(B$1,INDIRECT("Table!A" & $AF3):INDIRECT("Table!" & $AR$159 & $AF3),0))))) -> 45320.6 | C3: =IF(ISERROR(MATCH(C$1,INDIRECT("Table!A"&$AF3):INDIRECT("Table!" & $AR$159 & $AF3),0)),"",INDIRECT(CONCATENATE("Table!",ADDRESS($AB3,MATCH(C$1,INDIRECT("Table!A" & $AF3):INDIRECT("Table!" & $AR$159 & $AF3),0))))) -> 74987.1 | D3: =IF(ISERROR(MATCH(D$1,INDIRECT("Table!A"&$AF3):INDIRECT("Table!" & $AR$159 & $AF3),0)),"",INDIRECT(CONCATENATE("Table!",ADDRESS($AB3,MATCH(D$1,INDIRECT("Table!A" & $AF3):INDIRECT("Table!" & $AR$159 & $AF3),0))))) -> 76403 | E3: =IF(ISERROR(MATCH(E$1,INDIRECT("Table!A"&$AF3):INDIRECT("Table!" & $AR$159 & $AF3),0)),"",INDIRECT(CONCATENATE("Table!",ADDRESS($AB3,MATCH(E$1,INDIRECT("Table!A" & $AF3):INDIRECT("Table!" & $AR$159 & $AF3),0))))) -> 159714.6 | F3: =IF(ISERROR(MATCH(F$1,INDIRECT("Table!A"&$AF3):INDIRECT("Table!" & $AR$159 & $AF3),0)),"",INDIRECT(CONCATENATE("Table!",ADDRESS($AB3,MATCH(F$1,INDIRECT("Table!A" & $AF3):INDIRECT("Table!" & $AR$159 & $AF3),0))))) -> 63470.4 | G3: =IF(ISERROR(MATCH(G$1,INDIRECT("Table!A"&$AF3):INDIRECT("Table!" & $AR$159 & $AF3),0)),"",INDIRECT(CONCATENATE("Table!",ADDRESS($AB3,MATCH(G$1,INDIRECT("Table!A" & $AF3):INDIRECT("Table!" & $AR$159 & $AF3),0))))) -> 27289.1 | H3: =IF(ISERROR(MATCH(H$1,INDIRECT("Table!A"&$AF3):INDIRECT("Table!" & $AR$159 & $AF3),0)),"",INDIRECT(CONCATENATE("Table!",ADDRESS($AB3,MATCH(H$1,INDIRECT("Table!A" & $AF3):INDIRECT("Table!" & $AR$159 & $AF3),0))))) -> 49132.6 | I3: =IF(ISERROR(MATCH(I$1,INDIRECT("Table!A"&$AF3):INDIRECT("Table!" & $AR$159 & $AF3),0)),"",INDIRECT(CONCATENATE("Table!",ADDRESS($AB3,MATCH(I$1,INDIRECT("Table!A" & $AF3):INDIRECT("Table!" & $AR$159 & $AF3),0))))) -> 147978.6 | ... M3: =IF(ISERROR(MATCH(M$1,INDIRECT("Table!A"&$AF3):INDIRECT("Table!" & $AR$159 & $AF3),0)),"",INDIRECT(CONCATENATE("Table!",ADDRESS($AB3,MATCH(M$1,INDIRECT("Table!A" & $AF3):INDIRECT("Table!" & $AR$159 & $AF3),0))))) -> 20795 | N3: =IF(ISERROR(MATCH(N$1,INDIRECT("Table!A"&$AF3):INDIRECT("Table!" & $AR$188 & $AF3),0)),"",INDIRECT(CONCATENATE("Table!",ADDRESS($AB3,MATCH(N$1,INDIRECT("Table!A" & $AF3):INDIRECT("Table!" & $AR$188 & $AF3),0))))) | O3: =IF(ISERROR(MATCH(O$1,INDIRECT("Table!A"&$AN3):INDIRECT("Table!" & $AR$159 & $AN3),0)),"",INDIRECT(CONCATENATE("Table!",ADDRESS($AJ3,MATCH(O$1,INDIRECT("Table!A" & $AN3):INDIRECT("Table!" & $AR$159 & $AN3),0))))) -> 143392.2 | P3: =IF(ISERROR(MATCH(P$1,INDIRECT("Table!A"&$AN3):INDIRECT("Table!" & $AR$159 & $AN3),0)),"",INDIRECT(CONCATENATE("Table!",ADDRESS($AJ3,MATCH(P$1,INDIRECT("Table!A" & $AN3):INDIRECT("Table!" & $AR$159 & $AN3),0))))) -> 150515.8 | Q3: =IF(ISERROR(MATCH(Q$1,INDIRECT("Table!A"&$AN3):INDIRECT("Table!" & $AR$159 & $AN3),0)),"",INDIRECT(CONCATENATE("Table!",ADDRESS($AJ3,MATCH(Q$1,INDIRECT("Table!A" & $AN3):INDIRECT("Table!" & $AR$159 & $AN3),0))))) -> 150515.8 | R3: =IF(ISERROR(MATCH(R$1,INDIRECT("Table!A"&$AN3):INDIRECT("Table!" & $AR$159 & $AN3),0)),"",INDIRECT(CONCATENATE("Table!",ADDRESS($AJ3,MATCH(R$1,INDIRECT("Table!A" & $AN3):INDIRECT("Table!" & $AR$159 & $AN3),0))))) -> 181997.8 | S3: =IF(ISERROR(MATCH(S$1,INDIRECT("Table!A"&$AN3):INDIRECT("Table!" & $AR$159 & $AN3),0)),"",INDIRECT(CONCATENATE("Table!",ADDRESS($AJ3,MATCH(S$1,INDIRECT("Table!A" & $AN3):INDIRECT("Table!" & $AR$159 & $AN3),0))))) -> 165452.5 | T3: =IF(ISERROR(MATCH(T$1,INDIRECT("Table!A"&$AN3):INDIRECT("Table!" & $AR$159 & $AN3),0)),"",INDIRECT(CONCATENATE("Table!",ADDRESS($AJ3,MATCH(T$1,INDIRECT("Table!A" & $AN3):INDIRECT("Table!" & $AR$159 & $AN3),0))))) -> 132132 | U3: =IF(ISERROR(MATCH(U$1,INDIRECT("Table!A"&$AN3):INDIRECT("Table!" & $AR$159 & $AN3),0)),"",INDIRECT(CONCATENATE("Table!",ADDRESS($AJ3,MATCH(U$1,INDIRECT("Table!A" & $AN3):INDIRECT("Table!" & $AR$159 & $AN3),0))))) -> 121331.8 | V3: =IF(ISERROR(MATCH(V$1,INDIRECT("Table!A"&$AN3):INDIRECT("Table!" & $AR$159 & $AN3),0)),"",INDIRECT(CONCATENATE("Table!",ADDRESS($AJ3,MATCH(V$1,INDIRECT("Table!A" & $AN3):INDIRECT("Table!" & $AR$159 & $AN3),0))))) -> 193027 | ... Z3: =IF(ISERROR(MATCH(Z$1,INDIRECT("Table!A"&$AN3):INDIRECT("Table!" & $AR$159 & $AN3),0)),"",INDIRECT(CONCATENATE("Table!",ADDRESS($AJ3,MATCH(Z$1,INDIRECT("Table!A" & $AN3):INDIRECT("Table!" & $AR$159 & $AN3),0))))) -> 54921 | AB3: =MATCH($A3,Table!$A:$A,0)+$AD$2-1 -> 220 | AF3: =MATCH($A3,Table!$A:$A,0)+$AH$2-1 -> 218 | AJ3: =MATCH($A3,Table!$A:$A,0)+$AL$2-1 -> 219 | AN3: =MATCH($A3,Table!$A:$A,0)+$AH$2-1 -> 218 | AR3: N
A4: 41241 | B4: =IF(ISERROR(MATCH(B$1,INDIRECT("Table!A"&$AF4):INDIRECT("Table!" & $AR$159 & $AF4),0)),"",INDIRECT(CONCATENATE("Table!",ADDRESS($AB4,MATCH(B$1,INDIRECT("Table!A" & $AF4):INDIRECT("Table!" & $AR$159 & $AF4),0))))) -> 46680.5 | C4: =IF(ISERROR(MATCH(C$1,INDIRECT("Table!A"&$AF4):INDIRECT("Table!" & $AR$159 & $AF4),0)),"",INDIRECT(CONCATENATE("Table!",ADDRESS($AB4,MATCH(C$1,INDIRECT("Table!A" & $AF4):INDIRECT("Table!" & $AR$159 & $AF4),0))))) -> 74972.6 | D4: =IF(ISERROR(MATCH(D$1,INDIRECT("Table!A"&$AF4):INDIRECT("Table!" & $AR$159 & $AF4),0)),"",INDIRECT(CONCATENATE("Table!",ADDRESS($AB4,MATCH(D$1,INDIRECT("Table!A" & $AF4):INDIRECT("Table!" & $AR$159 & $AF4),0))))) -> 76388.6 | E4: =IF(ISERROR(MATCH(E$1,INDIRECT("Table!A"&$AF4):INDIRECT("Table!" & $AR$159 & $AF4),0)),"",INDIRECT(CONCATENATE("Table!",ADDRESS($AB4,MATCH(E$1,INDIRECT("Table!A" & $AF4):INDIRECT("Table!" & $AR$159 & $AF4),0))))) -> 159662.8 | F4: =IF(ISERROR(MATCH(F$1,INDIRECT("Table!A"&$AF4):INDIRECT("Table!" & $AR$159 & $AF4),0)),"",INDIRECT(CONCATENATE("Table!",ADDRESS($AB4,MATCH(F$1,INDIRECT("Table!A" & $AF4):INDIRECT("Table!" & $AR$159 & $AF4),0))))) -> 63381 | G4: =IF(ISERROR(MATCH(G$1,INDIRECT("Table!A"&$AF4):INDIRECT("Table!" & $AR$159 & $AF4),0)),"",INDIRECT(CONCATENATE("Table!",ADDRESS($AB4,MATCH(G$1,INDIRECT("Table!A" & $AF4):INDIRECT("Table!" & $AR$159 & $AF4),0))))) -> 28317.4 | H4: =IF(ISERROR(MATCH(H$1,INDIRECT("Table!A"&$AF4):INDIRECT("Table!" & $AR$159 & $AF4),0)),"",INDIRECT(CONCATENATE("Table!",ADDRESS($AB4,MATCH(H$1,INDIRECT("Table!A" & $AF4):INDIRECT("Table!" & $AR$159 & $AF4),0))))) -> 49098.3 | I4: =IF(ISERROR(MATCH(I$1,INDIRECT("Table!A"&$AF4):INDIRECT("Table!" & $AR$159 & $AF4),0)),"",INDIRECT(CONCATENATE("Table!",ADDRESS($AB4,MATCH(I$1,INDIRECT("Table!A" & $AF4):INDIRECT("Table!" & $AR$159 & $AF4),0))))) -> 147912.7 | ... M4: =IF(ISERROR(MATCH(M$1,INDIRECT("Table!A"&$AF4):INDIRECT("Table!" & $AR$159 & $AF4),0)),"",INDIRECT(CONCATENATE("Table!",ADDRESS($AB4,MATCH(M$1,INDIRECT("Table!A" & $AF4):INDIRECT("Table!" & $AR$159 & $AF4),0))))) -> 20795 | N4: =IF(ISERROR(MATCH(N$1,INDIRECT("Table!A"&$AF4):INDIRECT("Table!" & $AR$188 & $AF4),0)),"",INDIRECT(CONCATENATE("Table!",ADDRESS($AB4,MATCH(N$1,INDIRECT("Table!A" & $AF4):INDIRECT("Table!" & $AR$188 & $AF4),0))))) | O4: =IF(ISERROR(MATCH(O$1,INDIRECT("Table!A"&$AN4):INDIRECT("Table!" & $AR$159 & $AN4),0)),"",INDIRECT(CONCATENATE("Table!",ADDRESS($AJ4,MATCH(O$1,INDIRECT("Table!A" & $AN4):INDIRECT("Table!" & $AR$159 & $AN4),0))))) -> 143392.2 | P4: =IF(ISERROR(MATCH(P$1,INDIRECT("Table!A"&$AN4):INDIRECT("Table!" & $AR$159 & $AN4),0)),"",INDIRECT(CONCATENATE("Table!",ADDRESS($AJ4,MATCH(P$1,INDIRECT("Table!A" & $AN4):INDIRECT("Table!" & $AR$159 & $AN4),0))))) -> 150515.8 | Q4: =IF(ISERROR(MATCH(Q$1,INDIRECT("Table!A"&$AN4):INDIRECT("Table!" & $AR$159 & $AN4),0)),"",INDIRECT(CONCATENATE("Table!",ADDRESS($AJ4,MATCH(Q$1,INDIRECT("Table!A" & $AN4):INDIRECT("Table!" & $AR$159 & $AN4),0))))) -> 150515.8 | R4: =IF(ISERROR(MATCH(R$1,INDIRECT("Table!A"&$AN4):INDIRECT("Table!" & $AR$159 & $AN4),0)),"",INDIRECT(CONCATENATE("Table!",ADDRESS($AJ4,MATCH(R$1,INDIRECT("Table!A" & $AN4):INDIRECT("Table!" & $AR$159 & $AN4),0))))) -> 181997.8 | S4: =IF(ISERROR(MATCH(S$1,INDIRECT("Table!A"&$AN4):INDIRECT("Table!" & $AR$159 & $AN4),0)),"",INDIRECT(CONCATENATE("Table!",ADDRESS($AJ4,MATCH(S$1,INDIRECT("Table!A" & $AN4):INDIRECT("Table!" & $AR$159 & $AN4),0))))) -> 165452.5 | T4: =IF(ISERROR(MATCH(T$1,INDIRECT("Table!A"&$AN4):INDIRECT("Table!" & $AR$159 & $AN4),0)),"",INDIRECT(CONCATENATE("Table!",ADDRESS($AJ4,MATCH(T$1,INDIRECT("Table!A" & $AN4):INDIRECT("Table!" & $AR$159 & $AN4),0))))) -> 132132 | U4: =IF(ISERROR(MATCH(U$1,INDIRECT("Table!A"&$AN4):INDIRECT("Table!" & $AR$159 & $AN4),0)),"",INDIRECT(CONCATENATE("Table!",ADDRESS($AJ4,MATCH(U$1,INDIRECT("Table!A" & $AN4):INDIRECT("Table!" & $AR$159 & $AN4),0))))) -> 121331.8 | V4: =IF(ISERROR(MATCH(V$1,INDIRECT("Table!A"&$AN4):INDIRECT("Table!" & $AR$159 & $AN4),0)),"",INDIRECT(CONCATENATE("Table!",ADDRESS($AJ4,MATCH(V$1,INDIRECT("Table!A" & $AN4):INDIRECT("Table!" & $AR$159 & $AN4),0))))) -> 193027 | ... Z4: =IF(ISERROR(MATCH(Z$1,INDIRECT("Table!A"&$AN4):INDIRECT("Table!" & $AR$159 & $AN4),0)),"",INDIRECT(CONCATENATE("Table!",ADDRESS($AJ4,MATCH(Z$1,INDIRECT("Table!A" & $AN4):INDIRECT("Table!" & $AR$159 & $AN4),0))))) -> 54921 | AB4: =MATCH($A4,Table!$A:$A,0)+$AD$2-1 -> 237 | AF4: =MATCH($A4,Table!$A:$A,0)+$AH$2-1 -> 235 | AJ4: =MATCH($A4,Table!$A:$A,0)+$AL$2-1 -> 236 | AN4: =MATCH($A4,Table!$A:$A,0)+$AH$2-1 -> 235 | AR4: N
A5: 41239 | B5: =IF(ISERROR(MATCH(B$1,INDIRECT("Table!A"&$AF5):INDIRECT("Table!" & $AR$159 & $AF5),0)),"",INDIRECT(CONCATENATE("Table!",ADDRESS($AB5,MATCH(B$1,INDIRECT("Table!A" & $AF5):INDIRECT("Table!" & $AR$159 & $AF5),0))))) -> 48923.7 | C5: =IF(ISERROR(MATCH(C$1,INDIRECT("Table!A"&$AF5):INDIRECT("Table!" & $AR$159 & $AF5),0)),"",INDIRECT(CONCATENATE("Table!",ADDRESS($AB5,MATCH(C$1,INDIRECT("Table!A" & $AF5):INDIRECT("Table!" & $AR$159 & $AF5),0))))) -> 74934.2 | D5: =IF(ISERROR(MATCH(D$1,INDIRECT("Table!A"&$AF5):INDIRECT("Table!" & $AR$159 & $AF5),0)),"",INDIRECT(CONCATENATE("Table!",ADDRESS($AB5,MATCH(D$1,INDIRECT("Table!A" & $AF5):INDIRECT("Table!" & $AR$159 & $AF5),0))))) -> 76350.2 | E5: =IF(ISERROR(MATCH(E$1,INDIRECT("Table!A"&$AF5):INDIRECT("Table!" & $AR$159 & $AF5),0)),"",INDIRECT(CONCATENATE("Table!",ADDRESS($AB5,MATCH(E$1,INDIRECT("Table!A" & $AF5):INDIRECT("Table!" & $AR$159 & $AF5),0))))) -> 159588.6 | F5: =IF(ISERROR(MATCH(F$1,INDIRECT("Table!A"&$AF5):INDIRECT("Table!" & $AR$159 & $AF5),0)),"",INDIRECT(CONCATENATE("Table!",ADDRESS($AB5,MATCH(F$1,INDIRECT("Table!A" & $AF5):INDIRECT("Table!" & $AR$159 & $AF5),0))))) -> 63182.8 | G5: =IF(ISERROR(MATCH(G$1,INDIRECT("Table!A"&$AF5):INDIRECT("Table!" & $AR$159 & $AF5),0)),"",INDIRECT(CONCATENATE("Table!",ADDRESS($AB5,MATCH(G$1,INDIRECT("Table!A" & $AF5):INDIRECT("Table!" & $AR$159 & $AF5),0))))) -> 29434.7 | H5: =IF(ISERROR(MATCH(H$1,INDIRECT("Table!A"&$AF5):INDIRECT("Table!" & $AR$159 & $AF5),0)),"",INDIRECT(CONCATENATE("Table!",ADDRESS($AB5,MATCH(H$1,INDIRECT("Table!A" & $AF5):INDIRECT("Table!" & $AR$159 & $AF5),0))))) -> 48608 | I5: =IF(ISERROR(MATCH(I$1,INDIRECT("Table!A"&$AF5):INDIRECT("Table!" & $AR$159 & $AF5),0)),"",INDIRECT(CONCATENATE("Table!",ADDRESS($AB5,MATCH(I$1,INDIRECT("Table!A" & $AF5):INDIRECT("Table!" & $AR$159 & $AF5),0))))) -> 147764.9 | ... M5: =IF(ISERROR(MATCH(M$1,INDIRECT("Table!A"&$AF5):INDIRECT("Table!" & $AR$159 & $AF5),0)),"",INDIRECT(CONCATENATE("Table!",ADDRESS($AB5,MATCH(M$1,INDIRECT("Table!A" & $AF5):INDIRECT("Table!" & $AR$159 & $AF5),0))))) -> 20795 | N5: =IF(ISERROR(MATCH(N$1,INDIRECT("Table!A"&$AF5):INDIRECT("Table!" & $AR$188 & $AF5),0)),"",INDIRECT(CONCATENATE("Table!",ADDRESS($AB5,MATCH(N$1,INDIRECT("Table!A" & $AF5):INDIRECT("Table!" & $AR$188 & $AF5),0))))) | O5: =IF(ISERROR(MATCH(O$1,INDIRECT("Table!A"&$AN5):INDIRECT("Table!" & $AR$159 & $AN5),0)),"",INDIRECT(CONCATENATE("Table!",ADDRESS($AJ5,MATCH(O$1,INDIRECT("Table!A" & $AN5):INDIRECT("Table!" & $AR$159 & $AN5),0))))) -> 143392.2 | P5: =IF(ISERROR(MATCH(P$1,INDIRECT("Table!A"&$AN5):INDIRECT("Table!" & $AR$159 & $AN5),0)),"",INDIRECT(CONCATENATE("Table!",ADDRESS($AJ5,MATCH(P$1,INDIRECT("Table!A" & $AN5):INDIRECT("Table!" & $AR$159 & $AN5),0))))) -> 150515.8 | Q5: =IF(ISERROR(MATCH(Q$1,INDIRECT("Table!A"&$AN5):INDIRECT("Table!" & $AR$159 & $AN5),0)),"",INDIRECT(CONCATENATE("Table!",ADDRESS($AJ5,MATCH(Q$1,INDIRECT("Table!A" & $AN5):INDIRECT("Table!" & $AR$159 & $AN5),0))))) -> 150515.8 | R5: =IF(ISERROR(MATCH(R$1,INDIRECT("Table!A"&$AN5):INDIRECT("Table!" & $AR$159 & $AN5),0)),"",INDIRECT(CONCATENATE("Table!",ADDRESS($AJ5,MATCH(R$1,INDIRECT("Table!A" & $AN5):INDIRECT("Table!" & $AR$159 & $AN5),0))))) -> 181997.8 | S5: =IF(ISERROR(MATCH(S$1,INDIRECT("Table!A"&$AN5):INDIRECT("Table!" & $AR$159 & $AN5),0)),"",INDIRECT(CONCATENATE("Table!",ADDRESS($AJ5,MATCH(S$1,INDIRECT("Table!A" & $AN5):INDIRECT("Table!" & $AR$159 & $AN5),0))))) -> 165452.5 | T5: =IF(ISERROR(MATCH(T$1,INDIRECT("Table!A"&$AN5):INDIRECT("Table!" & $AR$159 & $AN5),0)),"",INDIRECT(CONCATENATE("Table!",ADDRESS($AJ5,MATCH(T$1,INDIRECT("Table!A" & $AN5):INDIRECT("Table!" & $AR$159 & $AN5),0))))) -> 132132 | U5: =IF(ISERROR(MATCH(U$1,INDIRECT("Table!A"&$AN5):INDIRECT("Table!" & $AR$159 & $AN5),0)),"",INDIRECT(CONCATENATE("Table!",ADDRESS($AJ5,MATCH(U$1,INDIRECT("Table!A" & $AN5):INDIRECT("Table!" & $AR$159 & $AN5),0))))) -> 121331.8 | V5: =IF(ISERROR(MATCH(V$1,INDIRECT("Table!A"&$AN5):INDIRECT("Table!" & $AR$159 & $AN5),0)),"",INDIRECT(CONCATENATE("Table!",ADDRESS($AJ5,MATCH(V$1,INDIRECT("Table!A" & $AN5):INDIRECT("Table!" & $AR$159 & $AN5),0))))) -> 193027 | ... Z5: =IF(ISERROR(MATCH(Z$1,INDIRECT("Table!A"&$AN5):INDIRECT("Table!" & $AR$159 & $AN5),0)),"",INDIRECT(CONCATENATE("Table!",ADDRESS($AJ5,MATCH(Z$1,INDIRECT("Table!A" & $AN5):INDIRECT("Table!" & $AR$159 & $AN5),0))))) -> 54921 | AB5: =MATCH($A5,Table!$A:$A,0)+$AD$2-1 -> 249 | AF5: =MATCH($A5,Table!$A:$A,0)+$AH$2-1 -> 247 | AJ5: =MATCH($A5,Table!$A:$A,0)+$AL$2-1 -> 248 | AN5: =MATCH($A5,Table!$A:$A,0)+$AH$2-1 -> 247 | AR5: N
A6: 41234 | B6: =IF(ISERROR(MATCH(B$1,INDIRECT("Table!A"&$AF6):INDIRECT("Table!" & $AR$159 & $AF6),0)),"",INDIRECT(CONCATENATE("Table!",ADDRESS($AB6,MATCH(B$1,INDIRECT("Table!A" & $AF6):INDIRECT("Table!" & $AR$159 & $AF6),0))))) -> 50060.2 | C6: =IF(ISERROR(MATCH(C$1,INDIRECT("Table!A"&$AF6):INDIRECT("Table!" & $AR$159 & $AF6),0)),"",INDIRECT(CONCATENATE("Table!",ADDRESS($AB6,MATCH(C$1,INDIRECT("Table!A" & $AF6):INDIRECT("Table!" & $AR$159 & $AF6),0))))) -> 74664.9 | D6: =IF(ISERROR(MATCH(D$1,INDIRECT("Table!A"&$AF6):INDIRECT("Table!" & $AR$159 & $AF6),0)),"",INDIRECT(CONCATENATE("Table!",ADDRESS($AB6,MATCH(D$1,INDIRECT("Table!A" & $AF6):INDIRECT("Table!" & $AR$159 & $AF6),0))))) -> 76090.7 | E6: =IF(ISERROR(MATCH(E$1,INDIRECT("Table!A"&$AF6):INDIRECT("Table!" & $AR$159 & $AF6),0)),"",INDIRECT(CONCATENATE("Table!",ADDRESS($AB6,MATCH(E$1,INDIRECT("Table!A" & $AF6):INDIRECT("Table!" & $AR$159 & $AF6),0))))) -> 159178.6 | F6: =IF(ISERROR(MATCH(F$1,INDIRECT("Table!A"&$AF6):INDIRECT("Table!" & $AR$159 & $AF6),0)),"",INDIRECT(CONCATENATE("Table!",ADDRESS($AB6,MATCH(F$1,INDIRECT("Table!A" & $AF6):INDIRECT("Table!" & $AR$159 & $AF6),0))))) -> 62179.3 | G6: =IF(ISERROR(MATCH(G$1,INDIRECT("Table!A"&$AF6):INDIRECT("Table!" & $AR$159 & $AF6),0)),"",INDIRECT(CONCATENATE("Table!",ADDRESS($AB6,MATCH(G$1,INDIRECT("Table!A" & $AF6):INDIRECT("Table!" & $AR$159 & $AF6),0))))) -> 29760.5 | H6: =IF(ISERROR(MATCH(H$1,INDIRECT("Table!A"&$AF6):INDIRECT("Table!" & $AR$159 & $AF6),0)),"",INDIRECT(CONCATENATE("Table!",ADDRESS($AB6,MATCH(H$1,INDIRECT("Table!A" & $AF6):INDIRECT("Table!" & $AR$159 & $AF6),0))))) -> 48355.8 | I6: =IF(ISERROR(MATCH(I$1,INDIRECT("Table!A"&$AF6):INDIRECT("Table!" & $AR$159 & $AF6),0)),"",INDIRECT(CONCATENATE("Table!",ADDRESS($AB6,MATCH(I$1,INDIRECT("Table!A" & $AF6):INDIRECT("Table!" & $AR$159 & $AF6),0))))) -> 147365.3 | ... M6: =IF(ISERROR(MATCH(M$1,INDIRECT("Table!A"&$AF6):INDIRECT("Table!" & $AR$159 & $AF6),0)),"",INDIRECT(CONCATENATE("Table!",ADDRESS($AB6,MATCH(M$1,INDIRECT("Table!A" & $AF6):INDIRECT("Table!" & $AR$159 & $AF6),0))))) -> 20795 | N6: =IF(ISERROR(MATCH(N$1,INDIRECT("Table!A"&$AF6):INDIRECT("Table!" & $AR$188 & $AF6),0)),"",INDIRECT(CONCATENATE("Table!",ADDRESS($AB6,MATCH(N$1,INDIRECT("Table!A" & $AF6):INDIRECT("Table!" & $AR$188 & $AF6),0))))) | O6: =IF(ISERROR(MATCH(O$1,INDIRECT("Table!A"&$AN6):INDIRECT("Table!" & $AR$159 & $AN6),0)),"",INDIRECT(CONCATENATE("Table!",ADDRESS($AJ6,MATCH(O$1,INDIRECT("Table!A" & $AN6):INDIRECT("Table!" & $AR$159 & $AN6),0))))) -> 143392.2 | P6: =IF(ISERROR(MATCH(P$1,INDIRECT("Table!A"&$AN6):INDIRECT("Table!" & $AR$159 & $AN6),0)),"",INDIRECT(CONCATENATE("Table!",ADDRESS($AJ6,MATCH(P$1,INDIRECT("Table!A" & $AN6):INDIRECT("Table!" & $AR$159 & $AN6),0))))) -> 150515.8 | Q6: =IF(ISERROR(MATCH(Q$1,INDIRECT("Table!A"&$AN6):INDIRECT("Table!" & $AR$159 & $AN6),0)),"",INDIRECT(CONCATENATE("Table!",ADDRESS($AJ6,MATCH(Q$1,INDIRECT("Table!A" & $AN6):INDIRECT("Table!" & $AR$159 & $AN6),0))))) -> 150515.8 | R6: =IF(ISERROR(MATCH(R$1,INDIRECT("Table!A"&$AN6):INDIRECT("Table!" & $AR$159 & $AN6),0)),"",INDIRECT(CONCATENATE("Table!",ADDRESS($AJ6,MATCH(R$1,INDIRECT("Table!A" & $AN6):INDIRECT("Table!" & $AR$159 & $AN6),0))))) -> 181997.8 | S6: =IF(ISERROR(MATCH(S$1,INDIRECT("Table!A"&$AN6):INDIRECT("Table!" & $AR$159 & $AN6),0)),"",INDIRECT(CONCATENATE("Table!",ADDRESS($AJ6,MATCH(S$1,INDIRECT("Table!A" & $AN6):INDIRECT("Table!" & $AR$159 & $AN6),0))))) -> 165452.5 | T6: =IF(ISERROR(MATCH(T$1,INDIRECT("Table!A"&$AN6):INDIRECT("Table!" & $AR$159 & $AN6),0)),"",INDIRECT(CONCATENATE("Table!",ADDRESS($AJ6,MATCH(T$1,INDIRECT("Table!A" & $AN6):INDIRECT("Table!" & $AR$159 & $AN6),0))))) -> 132132 | U6: =IF(ISERROR(MATCH(U$1,INDIRECT("Table!A"&$AN6):INDIRECT("Table!" & $AR$159 & $AN6),0)),"",INDIRECT(CONCATENATE("Table!",ADDRESS($AJ6,MATCH(U$1,INDIRECT("Table!A" & $AN6):INDIRECT("Table!" & $AR$159 & $AN6),0))))) -> 121331.8 | V6: =IF(ISERROR(MATCH(V$1,INDIRECT("Table!A"&$AN6):INDIRECT("Table!" & $AR$159 & $AN6),0)),"",INDIRECT(CONCATENATE("Table!",ADDRESS($AJ6,MATCH(V$1,INDIRECT("Table!A" & $AN6):INDIRECT("Table!" & $AR$159 & $AN6),0))))) -> 193027 | ... Z6: =IF(ISERROR(MATCH(Z$1,INDIRECT("Table!A"&$AN6):INDIRECT("Table!" & $AR$159 & $AN6),0)),"",INDIRECT(CONCATENATE("Table!",ADDRESS($AJ6,MATCH(Z$1,INDIRECT("Table!A" & $AN6):INDIRECT("Table!" & $AR$159 & $AN6),0))))) -> 54921 | AB6: =MATCH($A6,Table!$A:$A,0)+$AD$2-1 -> 261 | AF6: =MATCH($A6,Table!$A:$A,0)+$AH$2-1 -> 259 | AJ6: =MATCH($A6,Table!$A:$A,0)+$AL$2-1 -> 260 | AN6: =MATCH($A6,Table!$A:$A,0)+$AH$2-1 -> 259 | AR6: N
A7: 41232 | B7: =IF(ISERROR(MATCH(B$1,INDIRECT("Table!A"&$AF7):INDIRECT("Table!" & $AR$159 & $AF7),0)),"",INDIRECT(CONCATENATE("Table!",ADDRESS($AB7,MATCH(B$1,INDIRECT("Table!A" & $AF7):INDIRECT("Table!" & $AR$159 & $AF7),0))))) -> 54116.9 | C7: =IF(ISERROR(MATCH(C$1,INDIRECT("Table!A"&$AF7):INDIRECT("Table!" & $AR$159 & $AF7),0)),"",INDIRECT(CONCATENATE("Table!",ADDRESS($AB7,MATCH(C$1,INDIRECT("Table!A" & $AF7):INDIRECT("Table!" & $AR$159 & $AF7),0))))) -> 74607.4 | D7: =IF(ISERROR(MATCH(D$1,INDIRECT("Table!A"&$AF7):INDIRECT("Table!" & $AR$159 & $AF7),0)),"",INDIRECT(CONCATENATE("Table!",ADDRESS($AB7,MATCH(D$1,INDIRECT("Table!A" & $AF7):INDIRECT("Table!" & $AR$159 & $AF7),0))))) -> 76034.4 | E7: =IF(ISERROR(MATCH(E$1,INDIRECT("Table!A"&$AF7):INDIRECT("Table!" & $AR$159 & $AF7),0)),"",INDIRECT(CONCATENATE("Table!",ADDRESS($AB7,MATCH(E$1,INDIRECT("Table!A" & $AF7):INDIRECT("Table!" & $AR$159 & $AF7),0))))) -> 158852.5 | F7: =IF(ISERROR(MATCH(F$1,INDIRECT("Table!A"&$AF7):INDIRECT("Table!" & $AR$159 & $AF7),0)),"",INDIRECT(CONCATENATE("Table!",ADDRESS($AB7,MATCH(F$1,INDIRECT("Table!A" & $AF7):INDIRECT("Table!" & $AR$159 & $AF7),0))))) -> 60905.6 | G7: =IF(ISERROR(MATCH(G$1,INDIRECT("Table!A"&$AF7):INDIRECT("Table!" & $AR$159 & $AF7),0)),"",INDIRECT(CONCATENATE("Table!",ADDRESS($AB7,MATCH(G$1,INDIRECT("Table!A" & $AF7):INDIRECT("Table!" & $AR$159 & $AF7),0))))) -> 30629.1 | H7: =IF(ISERROR(MATCH(H$1,INDIRECT("Table!A"&$AF7):INDIRECT("Table!" & $AR$159 & $AF7),0)),"",INDIRECT(CONCATENATE("Table!",ADDRESS($AB7,MATCH(H$1,INDIRECT("Table!A" & $AF7):INDIRECT("Table!" & $AR$159 & $AF7),0))))) -> 48141.8 | I7: =IF(ISERROR(MATCH(I$1,INDIRECT("Table!A"&$AF7):INDIRECT("Table!" & $AR$159 & $AF7),0)),"",INDIRECT(CONCATENATE("Table!",ADDRESS($AB7,MATCH(I$1,INDIRECT("Table!A" & $AF7):INDIRECT("Table!" & $AR$159 & $AF7),0))))) -> 147226.1 | ... M7: =IF(ISERROR(MATCH(M$1,INDIRECT("Table!A"&$AF7):INDIRECT("Table!" & $AR$159 & $AF7),0)),"",INDIRECT(CONCATENATE("Table!",ADDRESS($AB7,MATCH(M$1,INDIRECT("Table!A" & $AF7):INDIRECT("Table!" & $AR$159 & $AF7),0))))) -> 20795 | N7: =IF(ISERROR(MATCH(N$1,INDIRECT("Table!A"&$AF7):INDIRECT("Table!" & $AR$188 & $AF7),0)),"",INDIRECT(CONCATENATE("Table!",ADDRESS($AB7,MATCH(N$1,INDIRECT("Table!A" & $AF7):INDIRECT("Table!" & $AR$188 & $AF7),0))))) | O7: =IF(ISERROR(MATCH(O$1,INDIRECT("Table!A"&$AN7):INDIRECT("Table!" & $AR$159 & $AN7),0)),"",INDIRECT(CONCATENATE("Table!",ADDRESS($AJ7,MATCH(O$1,INDIRECT("Table!A" & $AN7):INDIRECT("Table!" & $AR$159 & $AN7),0))))) -> 143392.2 | P7: =IF(ISERROR(MATCH(P$1,INDIRECT("Table!A"&$AN7):INDIRECT("Table!" & $AR$159 & $AN7),0)),"",INDIRECT(CONCATENATE("Table!",ADDRESS($AJ7,MATCH(P$1,INDIRECT("Table!A" & $AN7):INDIRECT("Table!" & $AR$159 & $AN7),0))))) -> 150515.8 | Q7: =IF(ISERROR(MATCH(Q$1,INDIRECT("Table!A"&$AN7):INDIRECT("Table!" & $AR$159 & $AN7),0)),"",INDIRECT(CONCATENATE("Table!",ADDRESS($AJ7,MATCH(Q$1,INDIRECT("Table!A" & $AN7):INDIRECT("Table!" & $AR$159 & $AN7),0))))) -> 150515.8 | R7: =IF(ISERROR(MATCH(R$1,INDIRECT("Table!A"&$AN7):INDIRECT("Table!" & $AR$159 & $AN7),0)),"",INDIRECT(CONCATENATE("Table!",ADDRESS($AJ7,MATCH(R$1,INDIRECT("Table!A" & $AN7):INDIRECT("Table!" & $AR$159 & $AN7),0))))) -> 181997.8 | S7: =IF(ISERROR(MATCH(S$1,INDIRECT("Table!A"&$AN7):INDIRECT("Table!" & $AR$159 & $AN7),0)),"",INDIRECT(CONCATENATE("Table!",ADDRESS($AJ7,MATCH(S$1,INDIRECT("Table!A" & $AN7):INDIRECT("Table!" & $AR$159 & $AN7),0))))) -> 165452.5 | T7: =IF(ISERROR(MATCH(T$1,INDIRECT("Table!A"&$AN7):INDIRECT("Table!" & $AR$159 & $AN7),0)),"",INDIRECT(CONCATENATE("Table!",ADDRESS($AJ7,MATCH(T$1,INDIRECT("Table!A" & $AN7):INDIRECT("Table!" & $AR$159 & $AN7),0))))) -> 132132 | U7: =IF(ISERROR(MATCH(U$1,INDIRECT("Table!A"&$AN7):INDIRECT("Table!" & $AR$159 & $AN7),0)),"",INDIRECT(CONCATENATE("Table!",ADDRESS($AJ7,MATCH(U$1,INDIRECT("Table!A" & $AN7):INDIRECT("Table!" & $AR$159 & $AN7),0))))) -> 121331.8 | V7: =IF(ISERROR(MATCH(V$1,INDIRECT("Table!A"&$AN7):INDIRECT("Table!" & $AR$159 & $AN7),0)),"",INDIRECT(CONCATENATE("Table!",ADDRESS($AJ7,MATCH(V$1,INDIRECT("Table!A" & $AN7):INDIRECT("Table!" & $AR$159 & $AN7),0))))) -> 193027 | ... Z7: =IF(ISERROR(MATCH(Z$1,INDIRECT("Table!A"&$AN7):INDIRECT("Table!" & $AR$159 & $AN7),0)),"",INDIRECT(CONCATENATE("Table!",ADDRESS($AJ7,MATCH(Z$1,INDIRECT("Table!A" & $AN7):INDIRECT("Table!" & $AR$159 & $AN7),0))))) -> 54921 | AB7: =MATCH($A7,Table!$A:$A,0)+$AD$2-1 -> 273 | AF7: =MATCH($A7,Table!$A:$A,0)+$AH$2-1 -> 271 | AJ7: =MATCH($A7,Table!$A:$A,0)+$AL$2-1 -> 272 | AN7: =MATCH($A7,Table!$A:$A,0)+$AH$2-1 -> 271 | AR7: N
A8: 41227 | B8: =IF(ISERROR(MATCH(B$1,INDIRECT("Table!A"&$AF8):INDIRECT("Table!" & $AR$159 & $AF8),0)),"",INDIRECT(CONCATENATE("Table!",ADDRESS($AB8,MATCH(B$1,INDIRECT("Table!A" & $AF8):INDIRECT("Table!" & $AR$159 & $AF8),0))))) -> 55627.7 | C8: =IF(ISERROR(MATCH(C$1,INDIRECT("Table!A"&$AF8):INDIRECT("Table!" & $AR$159 & $AF8),0)),"",INDIRECT(CONCATENATE("Table!",ADDRESS($AB8,MATCH(C$1,INDIRECT("Table!A" & $AF8):INDIRECT("Table!" & $AR$159 & $AF8),0))))) -> 73841 | D8: =IF(ISERROR(MATCH(D$1,INDIRECT("Table!A"&$AF8):INDIRECT("Table!" & $AR$159 & $AF8),0)),"",INDIRECT(CONCATENATE("Table!",ADDRESS($AB8,MATCH(D$1,INDIRECT("Table!A" & $AF8):INDIRECT("Table!" & $AR$159 & $AF8),0))))) -> 75268 | E8: =IF(ISERROR(MATCH(E$1,INDIRECT("Table!A"&$AF8):INDIRECT("Table!" & $AR$159 & $AF8),0)),"",INDIRECT(CONCATENATE("Table!",ADDRESS($AB8,MATCH(E$1,INDIRECT("Table!A" & $AF8):INDIRECT("Table!" & $AR$159 & $AF8),0))))) -> 158586.5 | F8: =IF(ISERROR(MATCH(F$1,INDIRECT("Table!A"&$AF8):INDIRECT("Table!" & $AR$159 & $AF8),0)),"",INDIRECT(CONCATENATE("Table!",ADDRESS($AB8,MATCH(F$1,INDIRECT("Table!A" & $AF8):INDIRECT("Table!" & $AR$159 & $AF8),0))))) -> 60477.4 | G8: =IF(ISERROR(MATCH(G$1,INDIRECT("Table!A"&$AF8):INDIRECT("Table!" & $AR$159 & $AF8),0)),"",INDIRECT(CONCATENATE("Table!",ADDRESS($AB8,MATCH(G$1,INDIRECT("Table!A" & $AF8):INDIRECT("Table!" & $AR$159 & $AF8),0))))) -> 34199.2 | H8: =IF(ISERROR(MATCH(H$1,INDIRECT("Table!A"&$AF8):INDIRECT("Table!" & $AR$159 & $AF8),0)),"",INDIRECT(CONCATENATE("Table!",ADDRESS($AB8,MATCH(H$1,INDIRECT("Table!A" & $AF8):INDIRECT("Table!" & $AR$159 & $AF8),0))))) -> 48045.9 | I8: =IF(ISERROR(MATCH(I$1,INDIRECT("Table!A"&$AF8):INDIRECT("Table!" & $AR$159 & $AF8),0)),"",INDIRECT(CONCATENATE("Table!",ADDRESS($AB8,MATCH(I$1,INDIRECT("Table!A" & $AF8):INDIRECT("Table!" & $AR$159 & $AF8),0))))) -> 147015.4 | ... M8: =IF(ISERROR(MATCH(M$1,INDIRECT("Table!A"&$AF8):INDIRECT("Table!" & $AR$159 & $AF8),0)),"",INDIRECT(CONCATENATE("Table!",ADDRESS($AB8,MATCH(M$1,INDIRECT("Table!A" & $AF8):INDIRECT("Table!" & $AR$159 & $AF8),0))))) -> 20795 | N8: =IF(ISERROR(MATCH(N$1,INDIRECT("Table!A"&$AF8):INDIRECT("Table!" & $AR$188 & $AF8),0)),"",INDIRECT(CONCATENATE("Table!",ADDRESS($AB8,MATCH(N$1,INDIRECT("Table!A" & $AF8):INDIRECT("Table!" & $AR$188 & $AF8),0))))) | O8: =IF(ISERROR(MATCH(O$1,INDIRECT("Table!A"&$AN8):INDIRECT("Table!" & $AR$159 & $AN8),0)),"",INDIRECT(CONCATENATE("Table!",ADDRESS($AJ8,MATCH(O$1,INDIRECT("Table!A" & $AN8):INDIRECT("Table!" & $AR$159 & $AN8),0))))) -> 143392.2 | P8: =IF(ISERROR(MATCH(P$1,INDIRECT("Table!A"&$AN8):INDIRECT("Table!" & $AR$159 & $AN8),0)),"",INDIRECT(CONCATENATE("Table!",ADDRESS($AJ8,MATCH(P$1,INDIRECT("Table!A" & $AN8):INDIRECT("Table!" & $AR$159 & $AN8),0))))) -> 150515.8 | Q8: =IF(ISERROR(MATCH(Q$1,INDIRECT("Table!A"&$AN8):INDIRECT("Table!" & $AR$159 & $AN8),0)),"",INDIRECT(CONCATENATE("Table!",ADDRESS($AJ8,MATCH(Q$1,INDIRECT("Table!A" & $AN8):INDIRECT("Table!" & $AR$159 & $AN8),0))))) -> 150515.8 | R8: =IF(ISERROR(MATCH(R$1,INDIRECT("Table!A"&$AN8):INDIRECT("Table!" & $AR$159 & $AN8),0)),"",INDIRECT(CONCATENATE("Table!",ADDRESS($AJ8,MATCH(R$1,INDIRECT("Table!A" & $AN8):INDIRECT("Table!" & $AR$159 & $AN8),0))))) -> 181997.8 | S8: =IF(ISERROR(MATCH(S$1,INDIRECT("Table!A"&$AN8):INDIRECT("Table!" & $AR$159 & $AN8),0)),"",INDIRECT(CONCATENATE("Table!",ADDRESS($AJ8,MATCH(S$1,INDIRECT("Table!A" & $AN8):INDIRECT("Table!" & $AR$159 & $AN8),0))))) -> 165452.5 | T8: =IF(ISERROR(MATCH(T$1,INDIRECT("Table!A"&$AN8):INDIRECT("Table!" & $AR$159 & $AN8),0)),"",INDIRECT(CONCATENATE("Table!",ADDRESS($AJ8,MATCH(T$1,INDIRECT("Table!A" & $AN8):INDIRECT("Table!" & $AR$159 & $AN8),0))))) -> 132132 | U8: =IF(ISERROR(MATCH(U$1,INDIRECT("Table!A"&$AN8):INDIRECT("Table!" & $AR$159 & $AN8),0)),"",INDIRECT(CONCATENATE("Table!",ADDRESS($AJ8,MATCH(U$1,INDIRECT("Table!A" & $AN8):INDIRECT("Table!" & $AR$159 & $AN8),0))))) -> 121331.8 | V8: =IF(ISERROR(MATCH(V$1,INDIRECT("Table!A"&$AN8):INDIRECT("Table!" & $AR$159 & $AN8),0)),"",INDIRECT(CONCATENATE("Table!",ADDRESS($AJ8,MATCH(V$1,INDIRECT("Table!A" & $AN8):INDIRECT("Table!" & $AR$159 & $AN8),0))))) -> 193027 | ... Z8: =IF(ISERROR(MATCH(Z$1,INDIRECT("Table!A"&$AN8):INDIRECT("Table!" & $AR$159 & $AN8),0)),"",INDIRECT(CONCATENATE("Table!",ADDRESS($AJ8,MATCH(Z$1,INDIRECT("Table!A" & $AN8):INDIRECT("Table!" & $AR$159 & $AN8),0))))) -> 54921 | AB8: =MATCH($A8,Table!$A:$A,0)+$AD$2-1 -> 285 | AF8: =MATCH($A8,Table!$A:$A,0)+$AH$2-1 -> 283 | AJ8: =MATCH($A8,Table!$A:$A,0)+$AL$2-1 -> 284 | AN8: =MATCH($A8,Table!$A:$A,0)+$AH$2-1 -> 283 | AR8: N
A9: 41225 | B9: =IF(ISERROR(MATCH(B$1,INDIRECT("Table!A"&$AF9):INDIRECT("Table!" & $AR$159 & $AF9),0)),"",INDIRECT(CONCATENATE("Table!",ADDRESS($AB9,MATCH(B$1,INDIRECT("Table!A" & $AF9):INDIRECT("Table!" & $AR$159 & $AF9),0))))) -> 55783.7 | C9: =IF(ISERROR(MATCH(C$1,INDIRECT("Table!A"&$AF9):INDIRECT("Table!" & $AR$159 & $AF9),0)),"",INDIRECT(CONCATENATE("Table!",ADDRESS($AB9,MATCH(C$1,INDIRECT("Table!A" & $AF9):INDIRECT("Table!" & $AR$159 & $AF9),0))))) -> 73738.7 | D9: =IF(ISERROR(MATCH(D$1,INDIRECT("Table!A"&$AF9):INDIRECT("Table!" & $AR$159 & $AF9),0)),"",INDIRECT(CONCATENATE("Table!",ADDRESS($AB9,MATCH(D$1,INDIRECT("Table!A" & $AF9):INDIRECT("Table!" & $AR$159 & $AF9),0))))) -> 75165.7 | E9: =IF(ISERROR(MATCH(E$1,INDIRECT("Table!A"&$AF9):INDIRECT("Table!" & $AR$159 & $AF9),0)),"",INDIRECT(CONCATENATE("Table!",ADDRESS($AB9,MATCH(E$1,INDIRECT("Table!A" & $AF9):INDIRECT("Table!" & $AR$159 & $AF9),0))))) -> 158449.6 | F9: =IF(ISERROR(MATCH(F$1,INDIRECT("Table!A"&$AF9):INDIRECT("Table!" & $AR$159 & $AF9),0)),"",INDIRECT(CONCATENATE("Table!",ADDRESS($AB9,MATCH(F$1,INDIRECT("Table!A" & $AF9):INDIRECT("Table!" & $AR$159 & $AF9),0))))) -> 60313.9 | G9: =IF(ISERROR(MATCH(G$1,INDIRECT("Table!A"&$AF9):INDIRECT("Table!" & $AR$159 & $AF9),0)),"",INDIRECT(CONCATENATE("Table!",ADDRESS($AB9,MATCH(G$1,INDIRECT("Table!A" & $AF9):INDIRECT("Table!" & $AR$159 & $AF9),0))))) -> 36558 | H9: =IF(ISERROR(MATCH(H$1,INDIRECT("Table!A"&$AF9):INDIRECT("Table!" & $AR$159 & $AF9),0)),"",INDIRECT(CONCATENATE("Table!",ADDRESS($AB9,MATCH(H$1,INDIRECT("Table!A" & $AF9):INDIRECT("Table!" & $AR$159 & $AF9),0))))) -> 47977.7 | I9: =IF(ISERROR(MATCH(I$1,INDIRECT("Table!A"&$AF9):INDIRECT("Table!" & $AR$159 & $AF9),0)),"",INDIRECT(CONCATENATE("Table!",ADDRESS($AB9,MATCH(I$1,INDIRECT("Table!A" & $AF9):INDIRECT("Table!" & $AR$159 & $AF9),0))))) -> 146922.3 | ... M9: =IF(ISERROR(MATCH(M$1,INDIRECT("Table!A"&$AF9):INDIRECT("Table!" & $AR$159 & $AF9),0)),"",INDIRECT(CONCATENATE("Table!",ADDRESS($AB9,MATCH(M$1,INDIRECT("Table!A" & $AF9):INDIRECT("Table!" & $AR$159 & $AF9),0))))) -> 20795 | N9: =IF(ISERROR(MATCH(N$1,INDIRECT("Table!A"&$AF9):INDIRECT("Table!" & $AR$188 & $AF9),0)),"",INDIRECT(CONCATENATE("Table!",ADDRESS($AB9,MATCH(N$1,INDIRECT("Table!A" & $AF9):INDIRECT("Table!" & $AR$188 & $AF9),0))))) | O9: =IF(ISERROR(MATCH(O$1,INDIRECT("Table!A"&$AN9):INDIRECT("Table!" & $AR$159 & $AN9),0)),"",INDIRECT(CONCATENATE("Table!",ADDRESS($AJ9,MATCH(O$1,INDIRECT("Table!A" & $AN9):INDIRECT("Table!" & $AR$159 & $AN9),0))))) -> 143392.2 | P9: =IF(ISERROR(MATCH(P$1,INDIRECT("Table!A"&$AN9):INDIRECT("Table!" & $AR$159 & $AN9),0)),"",INDIRECT(CONCATENATE("Table!",ADDRESS($AJ9,MATCH(P$1,INDIRECT("Table!A" & $AN9):INDIRECT("Table!" & $AR$159 & $AN9),0))))) -> 150515.8 | Q9: =IF(ISERROR(MATCH(Q$1,INDIRECT("Table!A"&$AN9):INDIRECT("Table!" & $AR$159 & $AN9),0)),"",INDIRECT(CONCATENATE("Table!",ADDRESS($AJ9,MATCH(Q$1,INDIRECT("Table!A" & $AN9):INDIRECT("Table!" & $AR$159 & $AN9),0))))) -> 150515.8 | R9: =IF(ISERROR(MATCH(R$1,INDIRECT("Table!A"&$AN9):INDIRECT("Table!" & $AR$159 & $AN9),0)),"",INDIRECT(CONCATENATE("Table!",ADDRESS($AJ9,MATCH(R$1,INDIRECT("Table!A" & $AN9):INDIRECT("Table!" & $AR$159 & $AN9),0))))) -> 181997.8 | S9: =IF(ISERROR(MATCH(S$1,INDIRECT("Table!A"&$AN9):INDIRECT("Table!" & $AR$159 & $AN9),0)),"",INDIRECT(CONCATENATE("Table!",ADDRESS($AJ9,MATCH(S$1,INDIRECT("Table!A" & $AN9):INDIRECT("Table!" & $AR$159 & $AN9),0))))) -> 165452.5 | T9: =IF(ISERROR(MATCH(T$1,INDIRECT("Table!A"&$AN9):INDIRECT("Table!" & $AR$159 & $AN9),0)),"",INDIRECT(CONCATENATE("Table!",ADDRESS($AJ9,MATCH(T$1,INDIRECT("Table!A" & $AN9):INDIRECT("Table!" & $AR$159 & $AN9),0))))) -> 132132 | U9: =IF(ISERROR(MATCH(U$1,INDIRECT("Table!A"&$AN9):INDIRECT("Table!" & $AR$159 & $AN9),0)),"",INDIRECT(CONCATENATE("Table!",ADDRESS($AJ9,MATCH(U$1,INDIRECT("Table!A" & $AN9):INDIRECT("Table!" & $AR$159 & $AN9),0))))) -> 121331.8 | V9: =IF(ISERROR(MATCH(V$1,INDIRECT("Table!A"&$AN9):INDIRECT("Table!" & $AR$159 & $AN9),0)),"",INDIRECT(CONCATENATE("Table!",ADDRESS($AJ9,MATCH(V$1,INDIRECT("Table!A" & $AN9):INDIRECT("Table!" & $AR$159 & $AN9),0))))) -> 193027 | ... Z9: =IF(ISERROR(MATCH(Z$1,INDIRECT("Table!A"&$AN9):INDIRECT("Table!" & $AR$159 & $AN9),0)),"",INDIRECT(CONCATENATE("Table!",ADDRESS($AJ9,MATCH(Z$1,INDIRECT("Table!A" & $AN9):INDIRECT("Table!" & $AR$159 & $AN9),0))))) -> 54921 | AB9: =MATCH($A9,Table!$A:$A,0)+$AD$2-1 -> 297 | AF9: =MATCH($A9,Table!$A:$A,0)+$AH$2-1 -> 295 | AJ9: =MATCH($A9,Table!$A:$A,0)+$AL$2-1 -> 296 | AN9: =MATCH($A9,Table!$A:$A,0)+$AH$2-1 -> 295 | AR9: N
A10: 41221 | B10: =IF(ISERROR(MATCH(B$1,INDIRECT("Table!A"&$AF10):INDIRECT("Table!" & $AR$159 & $AF10),0)),"",INDIRECT(CONCATENATE("Table!",ADDRESS($AB10,MATCH(B$1,INDIRECT("Table!A" & $AF10):INDIRECT("Table!" & $AR$159 & $AF10),0))))) -> 62457.1 | C10: =IF(ISERROR(MATCH(C$1,INDIRECT("Table!A"&$AF10):INDIRECT("Table!" & $AR$159 & $AF10),0)),"",INDIRECT(CONCATENATE("Table!",ADDRESS($AB10,MATCH(C$1,INDIRECT("Table!A" & $AF10):INDIRECT("Table!" & $AR$159 & $AF10),0))))) -> 73564.2 | D10: =IF(ISERROR(MATCH(D$1,INDIRECT("Table!A"&$AF10):INDIRECT("Table!" & $AR$159 & $AF10),0)),"",INDIRECT(CONCATENATE("Table!",ADDRESS($AB10,MATCH(D$1,INDIRECT("Table!A" & $AF10):INDIRECT("Table!" & $AR$159 & $AF10),0))))) -> 74991.3 | E10: =IF(ISERROR(MATCH(E$1,INDIRECT("Table!A"&$AF10):INDIRECT("Table!" & $AR$159 & $AF10),0)),"",INDIRECT(CONCATENATE("Table!",ADDRESS($AB10,MATCH(E$1,INDIRECT("Table!A" & $AF10):INDIRECT("Table!" & $AR$159 & $AF10),0))))) -> 158263.8 | F10: =IF(ISERROR(MATCH(F$1,INDIRECT("Table!A"&$AF10):INDIRECT("Table!" & $AR$159 & $AF10),0)),"",INDIRECT(CONCATENATE("Table!",ADDRESS($AB10,MATCH(F$1,INDIRECT("Table!A" & $AF10):INDIRECT("Table!" & $AR$159 & $AF10),0))))) -> 60005 | G10: =IF(ISERROR(MATCH(G$1,INDIRECT("Table!A"&$AF10):INDIRECT("Table!" & $AR$159 & $AF10),0)),"",INDIRECT(CONCATENATE("Table!",ADDRESS($AB10,MATCH(G$1,INDIRECT("Table!A" & $AF10):INDIRECT("Table!" & $AR$159 & $AF10),0))))) -> 38091.1 | H10: =IF(ISERROR(MATCH(H$1,INDIRECT("Table!A"&$AF10):INDIRECT("Table!" & $AR$159 & $AF10),0)),"",INDIRECT(CONCATENATE("Table!",ADDRESS($AB10,MATCH(H$1,INDIRECT("Table!A" & $AF10):INDIRECT("Table!" & $AR$159 & $AF10),0))))) -> 47809.4 | I10: =IF(ISERROR(MATCH(I$1,INDIRECT("Table!A"&$AF10):INDIRECT("Table!" & $AR$159 & $AF10),0)),"",INDIRECT(CONCATENATE("Table!",ADDRESS($AB10,MATCH(I$1,INDIRECT("Table!A" & $AF10):INDIRECT("Table!" & $AR$159 & $AF10),0))))) -> 146582.3 | ... M10: =IF(ISERROR(MATCH(M$1,INDIRECT("Table!A"&$AF10):INDIRECT("Table!" & $AR$159 & $AF10),0)),"",INDIRECT(CONCATENATE("Table!",ADDRESS($AB10,MATCH(M$1,INDIRECT("Table!A" & $AF10):INDIRECT("Table!" & $AR$159 & $AF10),0))))) -> 20795 | N10: =IF(ISERROR(MATCH(N$1,INDIRECT("Table!A"&$AF10):INDIRECT("Table!" & $AR$188 & $AF10),0)),"",INDIRECT(CONCATENATE("Table!",ADDRESS($AB10,MATCH(N$1,INDIRECT("Table!A" & $AF10):INDIRECT("Table!" & $AR$188 & $AF10),0))))) | O10: =IF(ISERROR(MATCH(O$1,INDIRECT("Table!A"&$AN10):INDIRECT("Table!" & $AR$159 & $AN10),0)),"",INDIRECT(CONCATENATE("Table!",ADDRESS($AJ10,MATCH(O$1,INDIRECT("Table!A" & $AN10):INDIRECT("Table!" & $AR$159 & $AN10),0))))) -> 143392.2 | P10: =IF(ISERROR(MATCH(P$1,INDIRECT("Table!A"&$AN10):INDIRECT("Table!" & $AR$159 & $AN10),0)),"",INDIRECT(CONCATENATE("Table!",ADDRESS($AJ10,MATCH(P$1,INDIRECT("Table!A" & $AN10):INDIRECT("Table!" & $AR$159 & $AN10),0))))) -> 150515.8 | Q10: =IF(ISERROR(MATCH(Q$1,INDIRECT("Table!A"&$AN10):INDIRECT("Table!" & $AR$159 & $AN10),0)),"",INDIRECT(CONCATENATE("Table!",ADDRESS($AJ10,MATCH(Q$1,INDIRECT("Table!A" & $AN10):INDIRECT("Table!" & $AR$159 & $AN10),0))))) -> 150515.8 | R10: =IF(ISERROR(MATCH(R$1,INDIRECT("Table!A"&$AN10):INDIRECT("Table!" & $AR$159 & $AN10),0)),"",INDIRECT(CONCATENATE("Table!",ADDRESS($AJ10,MATCH(R$1,INDIRECT("Table!A" & $AN10):INDIRECT("Table!" & $AR$159 & $AN10),0))))) -> 181997.8 | S10: =IF(ISERROR(MATCH(S$1,INDIRECT("Table!A"&$AN10):INDIRECT("Table!" & $AR$159 & $AN10),0)),"",INDIRECT(CONCATENATE("Table!",ADDRESS($AJ10,MATCH(S$1,INDIRECT("Table!A" & $AN10):INDIRECT("Table!" & $AR$159 & $AN10),0))))) -> 165452.5 | T10: =IF(ISERROR(MATCH(T$1,INDIRECT("Table!A"&$AN10):INDIRECT("Table!" & $AR$159 & $AN10),0)),"",INDIRECT(CONCATENATE("Table!",ADDRESS($AJ10,MATCH(T$1,INDIRECT("Table!A" & $AN10):INDIRECT("Table!" & $AR$159 & $AN10),0))))) -> 132132 | U10: =IF(ISERROR(MATCH(U$1,INDIRECT("Table!A"&$AN10):INDIRECT("Table!" & $AR$159 & $AN10),0)),"",INDIRECT(CONCATENATE("Table!",ADDRESS($AJ10,MATCH(U$1,INDIRECT("Table!A" & $AN10):INDIRECT("Table!" & $AR$159 & $AN10),0))))) -> 121331.8 | V10: =IF(ISERROR(MATCH(V$1,INDIRECT("Table!A"&$AN10):INDIRECT("Table!" & $AR$159 & $AN10),0)),"",INDIRECT(CONCATENATE("Table!",ADDRESS($AJ10,MATCH(V$1,INDIRECT("Table!A" & $AN10):INDIRECT("Table!" & $AR$159 & $AN10),0))))) -> 170967.6 | ... Z10: =IF(ISERROR(MATCH(Z$1,INDIRECT("Table!A"&$AN10):INDIRECT("Table!" & $AR$159 & $AN10),0)),"",INDIRECT(CONCATENATE("Table!",ADDRESS($AJ10,MATCH(Z$1,INDIRECT("Table!A" & $AN10):INDIRECT("Table!" & $AR$159 & $AN10),0))))) -> 54921 | AB10: =MATCH($A10,Table!$A:$A,0)+$AD$2-1 -> 309 | AF10: =MATCH($A10,Table!$A:$A,0)+$AH$2-1 -> 307 | AJ10: =MATCH($A10,Table!$A:$A,0)+$AL$2-1 -> 308 | AN10: =MATCH($A10,Table!$A:$A,0)+$AH$2-1 -> 307 | AR10: N
A11: 41220 | B11: =IF(ISERROR(MATCH(B$1,INDIRECT("Table!A"&$AF11):INDIRECT("Table!" & $AR$159 & $AF11),0)),"",INDIRECT(CONCATENATE("Table!",ADDRESS($AB11,MATCH(B$1,INDIRECT("Table!A" & $AF11):INDIRECT("Table!" & $AR$159 & $AF11),0))))) -> 63919.6 | C11: =IF(ISERROR(MATCH(C$1,INDIRECT("Table!A"&$AF11):INDIRECT("Table!" & $AR$159 & $AF11),0)),"",INDIRECT(CONCATENATE("Table!",ADDRESS($AB11,MATCH(C$1,INDIRECT("Table!A" & $AF11):INDIRECT("Table!" & $AR$159 & $AF11),0))))) -> 73539.4 | D11: =IF(ISERROR(MATCH(D$1,INDIRECT("Table!A"&$AF11):INDIRECT("Table!" & $AR$159 & $AF11),0)),"",INDIRECT(CONCATENATE("Table!",ADDRESS($AB11,MATCH(D$1,INDIRECT("Table!A" & $AF11):INDIRECT("Table!" & $AR$159 & $AF11),0))))) -> 74966.7 | E11: =IF(ISERROR(MATCH(E$1,INDIRECT("Table!A"&$AF11):INDIRECT("Table!" & $AR$159 & $AF11),0)),"",INDIRECT(CONCATENATE("Table!",ADDRESS($AB11,MATCH(E$1,INDIRECT("Table!A" & $AF11):INDIRECT("Table!" & $AR$159 & $AF11),0))))) -> 158054.2 | F11: =IF(ISERROR(MATCH(F$1,INDIRECT("Table!A"&$AF11):INDIRECT("Table!" & $AR$159 & $AF11),0)),"",INDIRECT(CONCATENATE("Table!",ADDRESS($AB11,MATCH(F$1,INDIRECT("Table!A" & $AF11):INDIRECT("Table!" & $AR$159 & $AF11),0))))) -> 59708.1 | G11: =IF(ISERROR(MATCH(G$1,INDIRECT("Table!A"&$AF11):INDIRECT("Table!" & $AR$159 & $AF11),0)),"",INDIRECT(CONCATENATE("Table!",ADDRESS($AB11,MATCH(G$1,INDIRECT("Table!A" & $AF11):INDIRECT("Table!" & $AR$159 & $AF11),0))))) -> 39024.2 | H11: =IF(ISERROR(MATCH(H$1,INDIRECT("Table!A"&$AF11):INDIRECT("Table!" & $AR$159 & $AF11),0)),"",INDIRECT(CONCATENATE("Table!",ADDRESS($AB11,MATCH(H$1,INDIRECT("Table!A" & $AF11):INDIRECT("Table!" & $AR$159 & $AF11),0))))) -> 47764.2 | I11: =IF(ISERROR(MATCH(I$1,INDIRECT("Table!A"&$AF11):INDIRECT("Table!" & $AR$159 & $AF11),0)),"",INDIRECT(CONCATENATE("Table!",ADDRESS($AB11,MATCH(I$1,INDIRECT("Table!A" & $AF11):INDIRECT("Table!" & $AR$159 & $AF11),0))))) -> 146504.2 | ... M11: =IF(ISERROR(MATCH(M$1,INDIRECT("Table!A"&$AF11):INDIRECT("Table!" & $AR$159 & $AF11),0)),"",INDIRECT(CONCATENATE("Table!",ADDRESS($AB11,MATCH(M$1,INDIRECT("Table!A" & $AF11):INDIRECT("Table!" & $AR$159 & $AF11),0))))) -> 20795 | N11: =IF(ISERROR(MATCH(N$1,INDIRECT("Table!A"&$AF11):INDIRECT("Table!" & $AR$188 & $AF11),0)),"",INDIRECT(CONCATENATE("Table!",ADDRESS($AB11,MATCH(N$1,INDIRECT("Table!A" & $AF11):INDIRECT("Table!" & $AR$188 & $AF11),0))))) | O11: =IF(ISERROR(MATCH(O$1,INDIRECT("Table!A"&$AN11):INDIRECT("Table!" & $AR$159 & $AN11),0)),"",INDIRECT(CONCATENATE("Table!",ADDRESS($AJ11,MATCH(O$1,INDIRECT("Table!A" & $AN11):INDIRECT("Table!" & $AR$159 & $AN11),0))))) -> 143392.2 | P11: =IF(ISERROR(MATCH(P$1,INDIRECT("Table!A"&$AN11):INDIRECT("Table!" & $AR$159 & $AN11),0)),"",INDIRECT(CONCATENATE("Table!",ADDRESS($AJ11,MATCH(P$1,INDIRECT("Table!A" & $AN11):INDIRECT("Table!" & $AR$159 & $AN11),0))))) -> 150515.8 | Q11: =IF(ISERROR(MATCH(Q$1,INDIRECT("Table!A"&$AN11):INDIRECT("Table!" & $AR$159 & $AN11),0)),"",INDIRECT(CONCATENATE("Table!",ADDRESS($AJ11,MATCH(Q$1,INDIRECT("Table!A" & $AN11):INDIRECT("Table!" & $AR$159 & $AN11),0))))) -> 150515.8 | R11: =IF(ISERROR(MATCH(R$1,INDIRECT("Table!A"&$AN11):INDIRECT("Table!" & $AR$159 & $AN11),0)),"",INDIRECT(CONCATENATE("Table!",ADDRESS($AJ11,MATCH(R$1,INDIRECT("Table!A" & $AN11):INDIRECT("Table!" & $AR$159 & $AN11),0))))) -> 181997.8 | S11: =IF(ISERROR(MATCH(S$1,INDIRECT("Table!A"&$AN11):INDIRECT("Table!" & $AR$159 & $AN11),0)),"",INDIRECT(CONCATENATE("Table!",ADDRESS($AJ11,MATCH(S$1,INDIRECT("Table!A" & $AN11):INDIRECT("Table!" & $AR$159 & $AN11),0))))) -> 165452.5 | T11: =IF(ISERROR(MATCH(T$1,INDIRECT("Table!A"&$AN11):INDIRECT("Table!" & $AR$159 & $AN11),0)),"",INDIRECT(CONCATENATE("Table!",ADDRESS($AJ11,MATCH(T$1,INDIRECT("Table!A" & $AN11):INDIRECT("Table!" & $AR$159 & $AN11),0))))) -> 132132 | U11: =IF(ISERROR(MATCH(U$1,INDIRECT("Table!A"&$AN11):INDIRECT("Table!" & $AR$159 & $AN11),0)),"",INDIRECT(CONCATENATE("Table!",ADDRESS($AJ11,MATCH(U$1,INDIRECT("Table!A" & $AN11):INDIRECT("Table!" & $AR$159 & $AN11),0))))) -> 121331.8 | V11: =IF(ISERROR(MATCH(V$1,INDIRECT("Table!A"&$AN11):INDIRECT("Table!" & $AR$159 & $AN11),0)),"",INDIRECT(CONCATENATE("Table!",ADDRESS($AJ11,MATCH(V$1,INDIRECT("Table!A" & $AN11):INDIRECT("Table!" & $AR$159 & $AN11),0))))) -> 170967.6 | ... Z11: =IF(ISERROR(MATCH(Z$1,INDIRECT("Table!A"&$AN11):INDIRECT("Table!" & $AR$159 & $AN11),0)),"",INDIRECT(CONCATENATE("Table!",ADDRESS($AJ11,MATCH(Z$1,INDIRECT("Table!A" & $AN11):INDIRECT("Table!" & $AR$159 & $AN11),0))))) -> 54921 | AB11: =MATCH($A11,Table!$A:$A,0)+$AD$2-1 -> 321 | AF11: =MATCH($A11,Table!$A:$A,0)+$AH$2-1 -> 319 | AJ11: =MATCH($A11,Table!$A:$A,0)+$AL$2-1 -> 320 | AN11: =MATCH($A11,Table!$A:$A,0)+$AH$2-1 -> 319 | AR11: N
A12: 41215 | B12: =IF(ISERROR(MATCH(B$1,INDIRECT("Table!A"&$AF12):INDIRECT("Table!" & $AR$159 & $AF12),0)),"",INDIRECT(CONCATENATE("Table!",ADDRESS($AB12,MATCH(B$1,INDIRECT("Table!A" & $AF12):INDIRECT("Table!" & $AR$159 & $AF12),0))))) -> 67593 | C12: =IF(ISERROR(MATCH(C$1,INDIRECT("Table!A"&$AF12):INDIRECT("Table!" & $AR$159 & $AF12),0)),"",INDIRECT(CONCATENATE("Table!",ADDRESS($AB12,MATCH(C$1,INDIRECT("Table!A" & $AF12):INDIRECT("Table!" & $AR$159 & $AF12),0))))) -> 73478.4 | D12: =IF(ISERROR(MATCH(D$1,INDIRECT("Table!A"&$AF12):INDIRECT("Table!" & $AR$159 & $AF12),0)),"",INDIRECT(CONCATENATE("Table!",ADDRESS($AB12,MATCH(D$1,INDIRECT("Table!A" & $AF12):INDIRECT("Table!" & $AR$159 & $AF12),0))))) -> 74921.4 | E12: =IF(ISERROR(MATCH(E$1,INDIRECT("Table!A"&$AF12):INDIRECT("Table!" & $AR$159 & $AF12),0)),"",INDIRECT(CONCATENATE("Table!",ADDRESS($AB12,MATCH(E$1,INDIRECT("Table!A" & $AF12):INDIRECT("Table!" & $AR$159 & $AF12),0))))) -> 161637.5 | F12: =IF(ISERROR(MATCH(F$1,INDIRECT("Table!A"&$AF12):INDIRECT("Table!" & $AR$159 & $AF12),0)),"",INDIRECT(CONCATENATE("Table!",ADDRESS($AB12,MATCH(F$1,INDIRECT("Table!A" & $AF12):INDIRECT("Table!" & $AR$159 & $AF12),0))))) -> 59176.7 | G12: =IF(ISERROR(MATCH(G$1,INDIRECT("Table!A"&$AF12):INDIRECT("Table!" & $AR$159 & $AF12),0)),"",INDIRECT(CONCATENATE("Table!",ADDRESS($AB12,MATCH(G$1,INDIRECT("Table!A" & $AF12):INDIRECT("Table!" & $AR$159 & $AF12),0))))) -> 40779.8 | H12: =IF(ISERROR(MATCH(H$1,INDIRECT("Table!A"&$AF12):INDIRECT("Table!" & $AR$159 & $AF12),0)),"",INDIRECT(CONCATENATE("Table!",ADDRESS($AB12,MATCH(H$1,INDIRECT("Table!A" & $AF12):INDIRECT("Table!" & $AR$159 & $AF12),0))))) -> 47374.6 | I12: =IF(ISERROR(MATCH(I$1,INDIRECT("Table!A"&$AF12):INDIRECT("Table!" & $AR$159 & $AF12),0)),"",INDIRECT(CONCATENATE("Table!",ADDRESS($AB12,MATCH(I$1,INDIRECT("Table!A" & $AF12):INDIRECT("Table!" & $AR$159 & $AF12),0))))) -> 146156.8 | ... M12: =IF(ISERROR(MATCH(M$1,INDIRECT("Table!A"&$AF12):INDIRECT("Table!" & $AR$159 & $AF12),0)),"",INDIRECT(CONCATENATE("Table!",ADDRESS($AB12,MATCH(M$1,INDIRECT("Table!A" & $AF12):INDIRECT("Table!" & $AR$159 & $AF12),0))))) -> 23055 | N12: =IF(ISERROR(MATCH(N$1,INDIRECT("Table!A"&$AF12):INDIRECT("Table!" & $AR$188 & $AF12),0)),"",INDIRECT(CONCATENATE("Table!",ADDRESS($AB12,MATCH(N$1,INDIRECT("Table!A" & $AF12):INDIRECT("Table!" & $AR$188 & $AF12),0))))) | O12: =IF(ISERROR(MATCH(O$1,INDIRECT("Table!A"&$AN12):INDIRECT("Table!" & $AR$159 & $AN12),0)),"",INDIRECT(CONCATENATE("Table!",ADDRESS($AJ12,MATCH(O$1,INDIRECT("Table!A" & $AN12):INDIRECT("Table!" & $AR$159 & $AN12),0))))) -> 143392.2 | P12: =IF(ISERROR(MATCH(P$1,INDIRECT("Table!A"&$AN12):INDIRECT("Table!" & $AR$159 & $AN12),0)),"",INDIRECT(CONCATENATE("Table!",ADDRESS($AJ12,MATCH(P$1,INDIRECT("Table!A" & $AN12):INDIRECT("Table!" & $AR$159 & $AN12),0))))) -> 150515.8 | Q12: =IF(ISERROR(MATCH(Q$1,INDIRECT("Table!A"&$AN12):INDIRECT("Table!" & $AR$159 & $AN12),0)),"",INDIRECT(CONCATENATE("Table!",ADDRESS($AJ12,MATCH(Q$1,INDIRECT("Table!A" & $AN12):INDIRECT("Table!" & $AR$159 & $AN12),0))))) -> 150515.8 | R12: =IF(ISERROR(MATCH(R$1,INDIRECT("Table!A"&$AN12):INDIRECT("Table!" & $AR$159 & $AN12),0)),"",INDIRECT(CONCATENATE("Table!",ADDRESS($AJ12,MATCH(R$1,INDIRECT("Table!A" & $AN12):INDIRECT("Table!" & $AR$159 & $AN12),0))))) -> 181997.8 | S12: =IF(ISERROR(MATCH(S$1,INDIRECT("Table!A"&$AN12):INDIRECT("Table!" & $AR$159 & $AN12),0)),"",INDIRECT(CONCATENATE("Table!",ADDRESS($AJ12,MATCH(S$1,INDIRECT("Table!A" & $AN12):INDIRECT("Table!" & $AR$159 & $AN12),0))))) -> 165452.5 | T12: =IF(ISERROR(MATCH(T$1,INDIRECT("Table!A"&$AN12):INDIRECT("Table!" & $AR$159 & $AN12),0)),"",INDIRECT(CONCATENATE("Table!",ADDRESS($AJ12,MATCH(T$1,INDIRECT("Table!A" & $AN12):INDIRECT("Table!" & $AR$159 & $AN12),0))))) -> 132132 | U12: =IF(ISERROR(MATCH(U$1,INDIRECT("Table!A"&$AN12):INDIRECT("Table!" & $AR$159 & $AN12),0)),"",INDIRECT(CONCATENATE("Table!",ADDRESS($AJ12,MATCH(U$1,INDIRECT("Table!A" & $AN12):INDIRECT("Table!" & $AR$159 & $AN12),0))))) -> 121331.8 | V12: =IF(ISERROR(MATCH(V$1,INDIRECT("Table!A"&$AN12):INDIRECT("Table!" & $AR$159 & $AN12),0)),"",INDIRECT(CONCATENATE("Table!",ADDRESS($AJ12,MATCH(V$1,INDIRECT("Table!A" & $AN12):INDIRECT("Table!" & $AR$159 & $AN12),0))))) -> 170967.6 | ... Z12: =IF(ISERROR(MATCH(Z$1,INDIRECT("Table!A"&$AN12):INDIRECT("Table!" & $AR$159 & $AN12),0)),"",INDIRECT(CONCATENATE("Table!",ADDRESS($AJ12,MATCH(Z$1,INDIRECT("Table!A" & $AN12):INDIRECT("Table!" & $AR$159 & $AN12),0))))) -> 54921 | AB12: =MATCH($A12,Table!$A:$A,0)+$AD$2-1 -> 345 | AF12: =MATCH($A12,Table!$A:$A,0)+$AH$2-1 -> 343 | AJ12: =MATCH($A12,Table!$A:$A,0)+$AL$2-1 -> 344 | AN12: =MATCH($A12,Table!$A:$A,0)+$AH$2-1 -> 343 | AR12: N
A13: 41214 | B13: =IF(ISERROR(MATCH(B$1,INDIRECT("Table!A"&$AF13):INDIRECT("Table!" & $AR$159 & $AF13),0)),"",INDIRECT(CONCATENATE("Table!",ADDRESS($AB13,MATCH(B$1,INDIRECT("Table!A" & $AF13):INDIRECT("Table!" & $AR$159 & $AF13),0))))) -> 68904.5 | C13: =IF(ISERROR(MATCH(C$1,INDIRECT("Table!A"&$AF13):INDIRECT("Table!" & $AR$159 & $AF13),0)),"",INDIRECT(CONCATENATE("Table!",ADDRESS($AB13,MATCH(C$1,INDIRECT("Table!A" & $AF13):INDIRECT("Table!" & $AR$159 & $AF13),0))))) -> 73467.1 | D13: =IF(ISERROR(MATCH(D$1,INDIRECT("Table!A"&$AF13):INDIRECT("Table!" & $AR$159 & $AF13),0)),"",INDIRECT(CONCATENATE("Table!",ADDRESS($AB13,MATCH(D$1,INDIRECT("Table!A" & $AF13):INDIRECT("Table!" & $AR$159 & $AF13),0))))) -> 74910 | E13: =IF(ISERROR(MATCH(E$1,INDIRECT("Table!A"&$AF13):INDIRECT("Table!" & $AR$159 & $AF13),0)),"",INDIRECT(CONCATENATE("Table!",ADDRESS($AB13,MATCH(E$1,INDIRECT("Table!A" & $AF13):INDIRECT("Table!" & $AR$159 & $AF13),0))))) -> 161575.2 | F13: =IF(ISERROR(MATCH(F$1,INDIRECT("Table!A"&$AF13):INDIRECT("Table!" & $AR$159 & $AF13),0)),"",INDIRECT(CONCATENATE("Table!",ADDRESS($AB13,MATCH(F$1,INDIRECT("Table!A" & $AF13):INDIRECT("Table!" & $AR$159 & $AF13),0))))) -> 58797.9 | G13: =IF(ISERROR(MATCH(G$1,INDIRECT("Table!A"&$AF13):INDIRECT("Table!" & $AR$159 & $AF13),0)),"",INDIRECT(CONCATENATE("Table!",ADDRESS($AB13,MATCH(G$1,INDIRECT("Table!A" & $AF13):INDIRECT("Table!" & $AR$159 & $AF13),0))))) -> 41472.3 | H13: =IF(ISERROR(MATCH(H$1,INDIRECT("Table!A"&$AF13):INDIRECT("Table!" & $AR$159 & $AF13),0)),"",INDIRECT(CONCATENATE("Table!",ADDRESS($AB13,MATCH(H$1,INDIRECT("Table!A" & $AF13):INDIRECT("Table!" & $AR$159 & $AF13),0))))) -> 47359.2 | I13: =IF(ISERROR(MATCH(I$1,INDIRECT("Table!A"&$AF13):INDIRECT("Table!" & $AR$159 & $AF13),0)),"",INDIRECT(CONCATENATE("Table!",ADDRESS($AB13,MATCH(I$1,INDIRECT("Table!A" & $AF13):INDIRECT("Table!" & $AR$159 & $AF13),0))))) -> 146112.5 | ... M13: =IF(ISERROR(MATCH(M$1,INDIRECT("Table!A"&$AF13):INDIRECT("Table!" & $AR$159 & $AF13),0)),"",INDIRECT(CONCATENATE("Table!",ADDRESS($AB13,MATCH(M$1,INDIRECT("Table!A" & $AF13):INDIRECT("Table!" & $AR$159 & $AF13),0))))) -> 23055 | N13: =IF(ISERROR(MATCH(N$1,INDIRECT("Table!A"&$AF13):INDIRECT("Table!" & $AR$188 & $AF13),0)),"",INDIRECT(CONCATENATE("Table!",ADDRESS($AB13,MATCH(N$1,INDIRECT("Table!A" & $AF13):INDIRECT("Table!" & $AR$188 & $AF13),0))))) | O13: =IF(ISERROR(MATCH(O$1,INDIRECT("Table!A"&$AN13):INDIRECT("Table!" & $AR$159 & $AN13),0)),"",INDIRECT(CONCATENATE("Table!",ADDRESS($AJ13,MATCH(O$1,INDIRECT("Table!A" & $AN13):INDIRECT("Table!" & $AR$159 & $AN13),0))))) -> 143392.2 | P13: =IF(ISERROR(MATCH(P$1,INDIRECT("Table!A"&$AN13):INDIRECT("Table!" & $AR$159 & $AN13),0)),"",INDIRECT(CONCATENATE("Table!",ADDRESS($AJ13,MATCH(P$1,INDIRECT("Table!A" & $AN13):INDIRECT("Table!" & $AR$159 & $AN13),0))))) -> 150515.8 | Q13: =IF(ISERROR(MATCH(Q$1,INDIRECT("Table!A"&$AN13):INDIRECT("Table!" & $AR$159 & $AN13),0)),"",INDIRECT(CONCATENATE("Table!",ADDRESS($AJ13,MATCH(Q$1,INDIRECT("Table!A" & $AN13):INDIRECT("Table!" & $AR$159 & $AN13),0))))) -> 150515.8 | R13: =IF(ISERROR(MATCH(R$1,INDIRECT("Table!A"&$AN13):INDIRECT("Table!" & $AR$159 & $AN13),0)),"",INDIRECT(CONCATENATE("Table!",ADDRESS($AJ13,MATCH(R$1,INDIRECT("Table!A" & $AN13):INDIRECT("Table!" & $AR$159 & $AN13),0))))) -> 181997.8 | S13: =IF(ISERROR(MATCH(S$1,INDIRECT("Table!A"&$AN13):INDIRECT("Table!" & $AR$159 & $AN13),0)),"",INDIRECT(CONCATENATE("Table!",ADDRESS($AJ13,MATCH(S$1,INDIRECT("Table!A" & $AN13):INDIRECT("Table!" & $AR$159 & $AN13),0))))) -> 165452.5 | T13: =IF(ISERROR(MATCH(T$1,INDIRECT("Table!A"&$AN13):INDIRECT("Table!" & $AR$159 & $AN13),0)),"",INDIRECT(CONCATENATE("Table!",ADDRESS($AJ13,MATCH(T$1,INDIRECT("Table!A" & $AN13):INDIRECT("Table!" & $AR$159 & $AN13),0))))) -> 132132 | U13: =IF(ISERROR(MATCH(U$1,INDIRECT("Table!A"&$AN13):INDIRECT("Table!" & $AR$159 & $AN13),0)),"",INDIRECT(CONCATENATE("Table!",ADDRESS($AJ13,MATCH(U$1,INDIRECT("Table!A" & $AN13):INDIRECT("Table!" & $AR$159 & $AN13),0))))) -> 121331.8 | V13: =IF(ISERROR(MATCH(V$1,INDIRECT("Table!A"&$AN13):INDIRECT("Table!" & $AR$159 & $AN13),0)),"",INDIRECT(CONCATENATE("Table!",ADDRESS($AJ13,MATCH(V$1,INDIRECT("Table!A" & $AN13):INDIRECT("Table!" & $AR$159 & $AN13),0))))) -> 170967.6 | ... Z13: =IF(ISERROR(MATCH(Z$1,INDIRECT("Table!A"&$AN13):INDIRECT("Table!" & $AR$159 & $AN13),0)),"",INDIRECT(CONCATENATE("Table!",ADDRESS($AJ13,MATCH(Z$1,INDIRECT("Table!A" & $AN13):INDIRECT("Table!" & $AR$159 & $AN13),0))))) -> 54921 | AB13: =MATCH($A13,Table!$A:$A,0)+$AD$2-1 -> 357 | AF13: =MATCH($A13,Table!$A:$A,0)+$AH$2-1 -> 355 | AJ13: =MATCH($A13,Table!$A:$A,0)+$AL$2-1 -> 356 | AN13: =MATCH($A13,Table!$A:$A,0)+$AH$2-1 -> 355 | AR13: N
A14: 41213 | B14: =IF(ISERROR(MATCH(B$1,INDIRECT("Table!A"&$AF14):INDIRECT("Table!" & $AR$159 & $AF14),0)),"",INDIRECT(CONCATENATE("Table!",ADDRESS($AB14,MATCH(B$1,INDIRECT("Table!A" & $AF14):INDIRECT("Table!" & $AR$159 & $AF14),0))))) -> 70253.4 | C14: =IF(ISERROR(MATCH(C$1,INDIRECT("Table!A"&$AF14):INDIRECT("Table!" & $AR$159 & $AF14),0)),"",INDIRECT(CONCATENATE("Table!",ADDRESS($AB14,MATCH(C$1,INDIRECT("Table!A" & $AF14):INDIRECT("Table!" & $AR$159 & $AF14),0))))) -> 73454.9 | D14: =IF(ISERROR(MATCH(D$1,INDIRECT("Table!A"&$AF14):INDIRECT("Table!" & $AR$159 & $AF14),0)),"",INDIRECT(CONCATENATE("Table!",ADDRESS($AB14,MATCH(D$1,INDIRECT("Table!A" & $AF14):INDIRECT("Table!" & $AR$159 & $AF14),0))))) -> 74897.9 | E14: =IF(ISERROR(MATCH(E$1,INDIRECT("Table!A"&$AF14):INDIRECT("Table!" & $AR$159 & $AF14),0)),"",INDIRECT(CONCATENATE("Table!",ADDRESS($AB14,MATCH(E$1,INDIRECT("Table!A" & $AF14):INDIRECT("Table!" & $AR$159 & $AF14),0))))) -> 161535.7 | F14: =IF(ISERROR(MATCH(F$1,INDIRECT("Table!A"&$AF14):INDIRECT("Table!" & $AR$159 & $AF14),0)),"",INDIRECT(CONCATENATE("Table!",ADDRESS($AB14,MATCH(F$1,INDIRECT("Table!A" & $AF14):INDIRECT("Table!" & $AR$159 & $AF14),0))))) -> 58495.4 | G14: =IF(ISERROR(MATCH(G$1,INDIRECT("Table!A"&$AF14):INDIRECT("Table!" & $AR$159 & $AF14),0)),"",INDIRECT(CONCATENATE("Table!",ADDRESS($AB14,MATCH(G$1,INDIRECT("Table!A" & $AF14):INDIRECT("Table!" & $AR$159 & $AF14),0))))) -> 40783.4 | H14: =IF(ISERROR(MATCH(H$1,INDIRECT("Table!A"&$AF14):INDIRECT("Table!" & $AR$159 & $AF14),0)),"",INDIRECT(CONCATENATE("Table!",ADDRESS($AB14,MATCH(H$1,INDIRECT("Table!A" & $AF14):INDIRECT("Table!" & $AR$159 & $AF14),0))))) -> 47322.8 | I14: =IF(ISERROR(MATCH(I$1,INDIRECT("Table!A"&$AF14):INDIRECT("Table!" & $AR$159 & $AF14),0)),"",INDIRECT(CONCATENATE("Table!",ADDRESS($AB14,MATCH(I$1,INDIRECT("Table!A" & $AF14):INDIRECT("Table!" & $AR$159 & $AF14),0))))) -> 146089 | ... M14: =IF(ISERROR(MATCH(M$1,INDIRECT("Table!A"&$AF14):INDIRECT("Table!" & $AR$159 & $AF14),0)),"",INDIRECT(CONCATENATE("Table!",ADDRESS($AB14,MATCH(M$1,INDIRECT("Table!A" & $AF14):INDIRECT("Table!" & $AR$159 & $AF14),0))))) -> 23055 | N14: =IF(ISERROR(MATCH(N$1,INDIRECT("Table!A"&$AF14):INDIRECT("Table!" & $AR$188 & $AF14),0)),"",INDIRECT(CONCATENATE("Table!",ADDRESS($AB14,MATCH(N$1,INDIRECT("Table!A" & $AF14):INDIRECT("Table!" & $AR$188 & $AF14),0))))) | O14: =IF(ISERROR(MATCH(O$1,INDIRECT("Table!A"&$AN14):INDIRECT("Table!" & $AR$159 & $AN14),0)),"",INDIRECT(CONCATENATE("Table!",ADDRESS($AJ14,MATCH(O$1,INDIRECT("Table!A" & $AN14):INDIRECT("Table!" & $AR$159 & $AN14),0))))) -> 143392.2 | P14: =IF(ISERROR(MATCH(P$1,INDIRECT("Table!A"&$AN14):INDIRECT("Table!" & $AR$159 & $AN14),0)),"",INDIRECT(CONCATENATE("Table!",ADDRESS($AJ14,MATCH(P$1,INDIRECT("Table!A" & $AN14):INDIRECT("Table!" & $AR$159 & $AN14),0))))) -> 150515.8 | Q14: =IF(ISERROR(MATCH(Q$1,INDIRECT("Table!A"&$AN14):INDIRECT("Table!" & $AR$159 & $AN14),0)),"",INDIRECT(CONCATENATE("Table!",ADDRESS($AJ14,MATCH(Q$1,INDIRECT("Table!A" & $AN14):INDIRECT("Table!" & $AR$159 & $AN14),0))))) -> 150515.8 | R14: =IF(ISERROR(MATCH(R$1,INDIRECT("Table!A"&$AN14):INDIRECT("Table!" & $AR$159 & $AN14),0)),"",INDIRECT(CONCATENATE("Table!",ADDRESS($AJ14,MATCH(R$1,INDIRECT("Table!A" & $AN14):INDIRECT("Table!" & $AR$159 & $AN14),0))))) -> 181997.8 | S14: =IF(ISERROR(MATCH(S$1,INDIRECT("Table!A"&$AN14):INDIRECT("Table!" & $AR$159 & $AN14),0)),"",INDIRECT(CONCATENATE("Table!",ADDRESS($AJ14,MATCH(S$1,INDIRECT("Table!A" & $AN14):INDIRECT("Table!" & $AR$159 & $AN14),0))))) -> 165452.5 | T14: =IF(ISERROR(MATCH(T$1,INDIRECT("Table!A"&$AN14):INDIRECT("Table!" & $AR$159 & $AN14),0)),"",INDIRECT(CONCATENATE("Table!",ADDRESS($AJ14,MATCH(T$1,INDIRECT("Table!A" & $AN14):INDIRECT("Table!" & $AR$159 & $AN14),0))))) -> 132132 | U14: =IF(ISERROR(MATCH(U$1,INDIRECT("Table!A"&$AN14):INDIRECT("Table!" & $AR$159 & $AN14),0)),"",INDIRECT(CONCATENATE("Table!",ADDRESS($AJ14,MATCH(U$1,INDIRECT("Table!A" & $AN14):INDIRECT("Table!" & $AR$159 & $AN14),0))))) -> 121331.8 | V14: =IF(ISERROR(MATCH(V$1,INDIRECT("Table!A"&$AN14):INDIRECT("Table!" & $AR$159 & $AN14),0)),"",INDIRECT(CONCATENATE("Table!",ADDRESS($AJ14,MATCH(V$1,INDIRECT("Table!A" & $AN14):INDIRECT("Table!" & $AR$159 & $AN14),0))))) -> 170967.6 | ... Z14: =IF(ISERROR(MATCH(Z$1,INDIRECT("Table!A"&$AN14):INDIRECT("Table!" & $AR$159 & $AN14),0)),"",INDIRECT(CONCATENATE("Table!",ADDRESS($AJ14,MATCH(Z$1,INDIRECT("Table!A" & $AN14):INDIRECT("Table!" & $AR$159 & $AN14),0))))) -> 54921 | AB14: =MATCH($A14,Table!$A:$A,0)+$AD$2-1 -> 369 | AF14: =MATCH($A14,Table!$A:$A,0)+$AH$2-1 -> 367 | AJ14: =MATCH($A14,Table!$A:$A,0)+$AL$2-1 -> 368 | AN14: =MATCH($A14,Table!$A:$A,0)+$AH$2-1 -> 367 | AR14: N
